Workbook

Sheet Original
A1: Serial | B1: Group | C1: Age | D1: Sample Date | E1: Sex | F1: Address | G1: Religion | H1: Genotype | I1: Diagnosed (years ago) | J1: Fever | K1: Fatigue | L1: Body Swelling | M1: Loose Stool | N1: Cyanosis | O1: On Any Medication | P1: Folate | Q1: Bcomplex | R1: Paludrin | S1: Hydroxyurea | T1: Penicillin V | U1: Cefuroxime | V1: Diclofenac | W1: History of Blood Transfusion | X1: How Many Times? | Y1: Socioeconomic Class | Z1: Weight (Kg) | AA1: Weight (categories) | AB1: Height/ Length (cm) | AC1: Height Categories | AD1: BMI(Kg/M2) | AE1: BMI Categories | AF1: Pallor | AG1: Temperature | AH1: Jaundice | AI1: Cyanosis | AJ1: Oedema | AK1: Lymphadenopathy | AL1: Digital Clubbing | AM1: Pulse Rate (Beats per Min) | AN1: Pulse Rate Categories | AO1: Blood Pressure | AP1: JVP | AQ1: Apex Beat | AR1: Heart Sounds | AS1: Abnormal Heart Sounds | AT1: Respiratory Rate (Cycles per min) | AU1: Respiratory Rate categories | AV1: SpO2 (%) | AW1: Percussion Notes | AX1: Breath Sounds | AY1: Added Sounds | AZ1: Liver Enlargement (cm) | BA1: Spleen Enlargement (CM) | BB1: Kidney Ballotable | BC1: PCV (%) | BD1: ECG HR (Beats per min) | BE1: ECG Rhythm | BF1: ECG P wave Amplitude (VELOCITY MM) | BG1: ECG P DURATION (Secs) | BH1: ECG PR Interval (Secs) | BI1: ECG Axis | BJ1: ECG QTc (Secs) | BK1: ECG ST SEGMENT (MM) | BL1: ECG QRS Duration | BM1: ECG T wave Amplitude (mm) | BN1: ECG SV1 (mm) | BO1: ECG RV1 (mm) | BP1: ECG V1 R/S | BQ1: ECG SV2 (mm) | BR1: ECG RV 5 (mm) | BS1: ECG RV6 (mm) | BT1: ECG V3 R + S (mm) | BU1: Severity Score
A2: 1 | B2: A | C2: 16 | D2: 44951 | E2: F | F2: RURAL | G2: CHRISTIAN | H2: SS | I2: 15 | J2: NIL | K2: YES | L2: NO | M2: NO | N2: NO | O2: YES | P2: YES | Q2: YES | R2: YES | S2: YES | T2: NO | U2: NO | V2: NO | W2: NO | X2: 0 | Y2: 1 | Z2: 70 | AA2: NORMAL | AB2: 176 | AC2: NORMAL | AD2: 21.6 | AE2: NORMAL | AF2: YES | AG2: NORMAL | AH2: YES | AI2: NO | AJ2: NO | AK2: NO | AL2: NO | AM2: 96 | AN2: NORMAL | AO2: NORMAL | AP2: NIL | AQ2: NORMAL | AR2: NORMAL | AS2: NIL | AT2: 24 | AU2: TACHYPNOEA | AV2: 0.98 | AW2: RESONANT | AX2: NORMAL | AY2: NIL | AZ2: 0 | BA2: 0 | BB2: NO | BC2: 26 | BD2: 94 | BE2: SINUS | BF2: 1 | BG2: 0.08 | BH2: 0.12 | BI2: NORMAL | BJ2: 0.33 | BK2: 1 | BL2: 0.08 | BM2: 2 | BN2: 12 | BO2: 8 | BP2: 0.67 | BQ2: 16 | BR2: 22 | BS2: 18 | BT2: 20 | BU2: MILD
A3: 2 | B3: A | C3: 13 | D3: 44951 | E3: M | F3: RURAL | G3: CHRISTIAN | H3: SS | I3: 12 | J3: NIL | K3: YES | L3: NO | M3: NO | N3: NO | O3: YES | P3: YES | Q3: YES | R3: YES | S3: YES | T3: NO | U3: NO | V3: NO | W3: YES | X3: 2 | Y3: 1 | Z3: 44.5 | AA3: NORMAL | AB3: 162 | AC3: NORMAL | AD3: 17 | AE3: NORMAL | AF3: YES | AG3: NORMAL | AH3: YES | AI3: NO | AJ3: NO | AK3: NO | AL3: NO | AM3: 90 | AN3: NORMAL | AO3: NORMAL | AP3: NIL | AQ3: NORMAL | AR3: NORMAL | AS3: NIL | AT3: 22 | AU3: TACHYPNOEA | AV3: 99 | AW3: RESONANT | AX3: NORMAL | AY3: NIL | AZ3: 0 | BA3: 0 | BB3: NO | BC3: 23 | BD3: 94 | BE3: SINUS | BF3: 1 | BG3: 0.04 | BH3: 0.16 | BI3: SUPERIOR AXIS | BJ3: 0.5 | BK3: 1 | BL3: 0.04 | BM3: 2 | BN3: 18 | BO3: 10 | BP3: 0.56 | BQ3: 16 | BR3: 26 | BS3: 12 | BT3: 20 | BU3: MILD
A4: 3 | B4: A | C4: 4 | D4: 44951 | E4: M | F4: URBAN | G4: CHRISTIAN | H4: SS | I4: 2 | J4: NIL | K4: NIL | L4: NO | M4: NO | N4: NO | O4: YES | P4: YES | Q4: YES | R4: YES | S4: NO | T4: YES | U4: NO | V4: NO | W4: YES | X4: 1 | Y4: 1 | Z4: 20 | AA4: NORMAL | AB4: 107 | AC4: NORMAL | AD4: 17.5 | AE4: NORMAL | AF4: YES | AG4: NORMAL | AH4: NIL | AI4: NO | AJ4: NO | AK4: NO | AL4: NO | AM4: 110 | AN4: NORMAL | AO4: NORMAL | AP4: NIL | AQ4: NORMAL | AR4: NORMAL | AS4: NIL | AT4: 22 | AU4: NORMAL | AV4: 98 | AW4: RESONANT | AX4: NORMAL | AY4: NIL | AZ4: 0 | BA4: 0 | BB4: NO | BC4: 29 | BD4: 107 | BE4: SINUS | BF4: 1 | BG4: 0.04 | BH4: 0.12 | BI4: NORMAL | BJ4: 0.4 | BK4: 0 | BL4: 0.06 | BM4: 2 | BN4: 16 | BO4: 8 | BP4: 0.5 | BQ4: 22 | BR4: 20 | BS4: 12 | BT4: 46 | BU4: MILD
A5: 4 | B5: A | C5: 12 | D5: 44951 | E5: F | F5: SEMI-URBAN | G5: CHRISTIAN | H5: SS | I5: 4 | J5: NIL | K5: YES | L5: NO | M5: NO | N5: NO | O5: YES | P5: YES | Q5: YES | R5: YES | S5: YES | T5: NO | U5: NO | V5: NO | W5: YES | X5: 3 | Y5: 3 | Z5: 36 | AA5: NORMAL | AB5: 151 | AC5: NORMAL | AD5: 16 | AE5: NORMAL | AF5: YES | AG5: NORMAL | AH5: NIL | AI5: NO | AJ5: NO | AK5: NO | AL5: NO | AM5: 120 | AN5: TACHYCARDIA | AO5: NORMAL | AP5: NIL | AQ5: NORMAL | AR5: NORMAL | AS5: NIL | AT5: 18 | AU5: NORMAL | AV5: 97 | AW5: RESONANT | AX5: NORMAL | AY5: NIL | AZ5: 0 | BA5: 0 | BB5: NO | BC5: 26 | BD5: 107 | BE5: SINUS | BF5: 1 | BG5: 0.04 | BH5: 0.12 | BI5: NORMAL | BJ5: 0.43 | BK5: 0 | BL5: 0.06 | BM5: 1 | BN5: 18 | BO5: 8 | BP5: 0.44 | BQ5: 22 | BR5: 25 | BS5: 16 | BT5: 27 | BU5: MILD
A6: 5 | B6: A | C6: 16 | D6: 45154 | E6: M | F6: RURAL | G6: CHRISTIAN | H6: SS | I6: 1 | J6: NIL | K6: NIL | L6: NO | M6: NO | N6: NO | O6: YES | P6: YES | Q6: YES | R6: YES | S6: NO | T6: NO | U6: NO | V6: NO | W6: YES | X6: 1 | Y6: 3 | Z6: 36.5 | AA6: NORMAL | AB6: 151 | AC6: STUNTED | AD6: 16.2 | AE6: UNDERWEIGHT | AF6: YES | AG6: NORMAL | AH6: YES | AI6: NO | AJ6: NO | AK6: NO | AL6: NO | AM6: 98 | AN6: NORMAL | AO6: NORMAL | AP6: NIL | AQ6: DISPLACED | AR6: N0RMAL | AS6: NIL | AT6: 20 | AU6: NORMAL | AV6: 99 | AW6: RESONANT | AX6: NORMAL | AY6: NIL | AZ6: 0 | BA6: 0 | BB6: NO | BC6: 23 | BD6: 100 | BE6: SINUS | BF6: 1 | BG6: 0.04 | BH6: 0.2 | BI6: NORMAL | BJ6: 0.58 | BK6: 1 | BL6: 0.1 | BM6: 2 | BN6: 12 | BO6: 6 | BP6: 0.5 | BQ6: 14 | BR6: 44 | BS6: 48 | BT6: 52 | BU6: MILD
A7: 6 | B7: A | C7: 15 | D7: 45154 | E7: M | F7: URBAN | G7: CHRISTIAN | H7: SS | I7: 1 | J7: NIL | K7: NIL | L7: NO | M7: NO | N7: NO | O7: YES | P7: YES | Q7: YES | R7: YES | S7: YES | T7: NO | U7: NO | V7: NO | W7: YES | X7: 1 | Y7: 3 | Z7: 47 | AA7: NORMAL | AB7: 160 | AC7: NORMAL | AD7: 18.4 | AE7: NORMAL | AF7: YES | AG7: NORMAL | AH7: YES | AI7: NO | AJ7: NO | AK7: NO | AL7: NO | AM7: 86 | AN7: NORMAL | AO7: NORMAL | AP7: NIL | AQ7: NORMAL | AR7: NORMAL | AS7: NIL | AT7: 22 | AU7: TACHYPNOEA | AV7: 98 | AW7: RESONANT | AX7: NORMAL | AY7: NIL | AZ7: 0 | BA7: 0 | BB7: NO | BC7: 29 | BD7: 96 | BE7: SINUS | BF7: 1 | BG7: 0.04 | BH7: 0.14 | BI7: NORMAL | BJ7: 0.42 | BK7: 1 | BL7: 0.1 | BM7: 1 | BN7: 12 | BO7: 4 | BP7: 0.33 | BQ7: 20 | BR7: 44 | BS7: 28 | BT7: 60 | BU7: MILD
A8: 7 | B8: A | C8: 7 | D8: 44965 | E8: F | F8: RURAL | G8: CHRISTIAN | H8: SS | I8: 3 | J8: NIL | K8: NIL | L8: NO | M8: NO | N8: NO | O8: YES | P8: YES | Q8: YES | R8: YES | S8: NO | T8: YES | U8: NO | V8: NO | W8: YES | X8: 1 | Y8: 3 | Z8: 21 | AA8: NORMAL | AB8: 116.2 | AC8: NORMAL | AD8: 15.6 | AE8: NORMAL | AF8: YES | AG8: NORMAL | AH8: YES | AI8: NO | AJ8: NO | AK8: NO | AL8: NO | AM8: 92 | AN8: NORMAL | AO8: NORMAL | AP8: NIL | AQ8: NORMAL | AR8: NORMAL | AS8: NIL | AT8: 22 | AU8: NORMAL | AV8: 98 | AW8: RESONANT | AX8: NORMAL | AY8: NIL | AZ8: 0 | BA8: 4 | BB8: NO | BC8: 29 | BD8: 100 | BE8: SINUS | BF8: 1 | BG8: 0.04 | BH8: 0.16 | BI8: NORMAL | BJ8: 0.43 | BK8: 0 | BL8: 0.04 | BM8: 2 | BN8: 10 | BO8: 4 | BP8: 0.4 | BQ8: 1 | BR8: 36 | BS8: 16 | BT8: 34 | BU8: MILD
A9: 8 | B9: A | C9: 2 | D9: 44972 | E9: F | F9: RURAL | G9: CHRISTIAN | H9: SS | I9: 0.42 | K9: NIL | L9: NO | M9: NO | N9: NO | O9: YES | P9: YES | Q9: YES | R9: YES | S9: NO | T9: YES | U9: NO | V9: NO | W9: YES | X9: 1 | Y9: 1 | Z9: 14.5 | AA9: NORMAL | AB9: 90 | AC9: NORMAL | AD9: 17.9 | AE9: NORMAL | AF9: YES | AG9: NORMAL | AH9: NIL | AI9: NO | AJ9: NO | AK9: NO | AL9: NO | AM9: 98 | AN9: NORMAL | AO9: NORMAL | AP9: NIL | AQ9: NORMAL | AR9: NORMAL | AS9: NIL | AT9: 28 | AU9: NORMAL | AV9: 87 | AW9: RESONANT | AX9: NORMAL | AY9: NIL | AZ9: 4 | BA9: 8 | BB9: NO | BC9: 22 | BD9: 94 | BE9: SINUS | BF9: 1 | BG9: 0.04 | BH9: 0.14 | BI9: NORMAL | BJ9: 0.4 | BK9: 1 | BL9: 0.08 | BM9: 2 | BN9: 4 | BO9: 2 | BP9: 0.5 | BQ9: 16 | BR9: 12 | BS9: 12 | BT9: 28 | BU9: MILD
A10: 9 | B10: A | C10: 10 | D10: 44972 | E10: M | F10: RURAL | G10: CHRISTIAN | H10: SS | I10: 6 | J10: NIL | K10: NIL | L10: NO | M10: NO | N10: NO | O10: YES | P10: YES | Q10: YES | R10: YES | S10: YES | T10: NO | U10: NO | V10: NO | W10: YES | X10: 1 | Y10: 3 | Z10: 28 | AA10: NORMAL | AB10: 133.5 | AC10: NORMAL | AD10: 15.6 | AE10: NORMAL | AF10: YES | AG10: NORMAL | AH10: NIL | AI10: NO | AJ10: NO | AK10: NO | AL10: NO | AM10: 88 | AN10: NORMAL | AO10: NORMAL | AP10: NIL | AQ10: NORMAL | AR10: NORMAL | AS10: NIL | AT10: 20 | AU10: NORMAL | AV10: 99 | AW10: RESONANT | AX10: NORMAL | AY10: NIL | AZ10: 0 | BA10: 0 | BB10: NO | BC10: 23 | BD10: 83 | BE10: SINUS | BF10: 1 | BG10: 0.04 | BH10: 0.1 | BI10: NORMAL | BJ10: 0.42 | BK10: 0 | BL10: 0.08 | BM10: 1 | BN10: 12 | BO10: 4 | BP10: 0.33 | BQ10: 14 | BR10: 22 | BS10: 12 | BT10: 46 | BU10: MILD
A11: 10 | B11: A | C11: 14 | D11: 44972 | E11: F | F11: RURAL | G11: CHRISTIAN | H11: SS | I11: 13 | J11: NIL | K11: YES | L11: NO | M11: NO | N11: NO | O11: YES | P11: YES | Q11: YES | R11: YES | S11: YES | T11: NO | U11: NO | V11: NO | W11: YES | X11: 4 | Y11: 3 | Z11: 41 | AA11: NORMAL | AB11: 148 | AC11: STUNTED | AD11: 18.7 | AE11: NORMAL | AF11: YES | AG11: NORMAL | AH11: NIL | AI11: NO | AJ11: NO | AK11: NO | AL11: NO | AM11: 120 | AN11: TACHYCARDIA | AO11: NORMAL | AP11: NIL | AQ11: NORMAL | AR11: NORMAL | AS11: NIL | AT11: 22 | AU11: TACHYPNOEA | AV11: 97 | AW11: RESONANT | AX11: NORMAL | AY11: NIL | AZ11: 0 | BA11: 0 | BB11: NO | BC11: 27 | BD11: 125 | BE11: SINUS | BF11: 1 | BG11: 0.06 | BH11: 0.12 | BI11: NORMAL | BJ11: 0.36 | BK11: 0 | BL11: 0.08 | BM11: 1 | BN11: 18 | BO11: 4 | BP11: 0.22 | BQ11: 8 | BR11: 24 | BS11: 18 | BT11: 28 | BU11: MODERATE
A12: 11 | B12: A | C12: 9 | D12: 44986 | E12: M | F12: RURAL | G12: CHRISTIAN | H12: SS | I12: 4 | J12: NIL | K12: YES | L12: NO | M12: NO | N12: NO | O12: YES | P12: YES | Q12: YES | R12: YES | S12: YES | T12: NO | U12: NO | V12: NO | W12: YES | X12: 2 | Y12: 3 | Z12: 23.5 | AA12: NORMAL | AB12: 124.5 | AC12: NORMAL | AD12: 15.2 | AE12: NORMAL | AF12: YES | AG12: NORMAL | AH12: YES | AI12: NO | AJ12: NO | AK12: NO | AL12: NO | AM12: 76 | AN12: NORMAL | AO12: NORMAL | AP12: NIL | AQ12: NORMAL | AR12: NORMAL | AS12: NIL | AT12: 20 | AU12: NORMAL | AV12: 98 | AW12: RESONANT | AX12: NORMAL | AY12: NIL | AZ12: 0 | BA12: 0 | BB12: NO | BC12: 24 | BD12: 68 | BE12: SINUS | BF12: 2 | BG12: 0.04 | BH12: 0.16 | BI12: NORMAL | BJ12: 0.4 | BK12: 0 | BL12: 0.08 | BM12: 1 | BN12: 12 | BO12: 4 | BP12: 0.33 | BQ12: 20 | BR12: 24 | BS12: 18 | BT12: 18 | BU12: MILD
A13: 12 | B13: A | C13: 3 | D13: 44986 | E13: F | F13: RURAL | G13: CHRISTIAN | H13: SS | I13: 2 | J13: NIL | K13: NIL | L13: NO | M13: NO | N13: NO | O13: YES | P13: YES | Q13: YES | R13: YES | S13: NO | T13: YES | U13: NO | V13: NO | W13: NO | X13: 0 | Y13: 3 | Z13: 9 | AA13: UNDERWEIGHT | AB13: 95.5 | AC13: STUNTED | AD13: 9.8 | AE13: UNDERWEIGHT | AF13: NO | AG13: NORMAL | AH13: NIL | AI13: NO | AJ13: NO | AK13: NO | AL13: NO | AM13: 110 | AN13: NORMAL | AO13: NORMAL | AP13: NIL | AQ13: NORMAL | AR13: NORMAL | AS13: NIL | AT13: 22 | AU13: NORMAL | AV13: 97 | AW13: RESONANT | AX13: NORMAL | AY13: NIL | AZ13: 0 | BA13: 0 | BB13: NO | BC13: 30 | BD13: 96 | BE13: SINUS | BF13: 1 | BG13: 0.04 | BH13: 0.14 | BI13: NORMAL | BJ13: 0.4 | BK13: 1 | BL13: 0.06 | BM13: 1 | BN13: 4 | BO13: 2 | BP13: 0.5 | BQ13: 14 | BR13: 15 | BS13: 16 | BT13: 40 | BU13: MILD
A14: 13 | B14: A | C14: 13 | D14: 44986 | E14: F | F14: URBAN | G14: CHRISTIAN | H14: SS | I14: 4 | J14: NIL | K14: YES | L14: NO | M14: NO | N14: NO | O14: YES | P14: YES | Q14: YES | R14: YES | S14: YES | T14: NO | U14: NO | V14: NO | W14: YES | X14: 1 | Y14: 3 | Z14: 34 | AA14: NORMAL | AB14: 148 | AC14: NORMAL | AD14: 15.5 | AE14: NORMAL | AF14: YES | AG14: NORMAL | AH14: YES | AI14: NO | AJ14: NO | AK14: NO | AL14: NO | AM14: 98 | AN14: NORMAL | AO14: NORMAL | AP14: NIL | AQ14: NORMAL | AR14: NORMAL | AS14: NIL | AT14: 18 | AU14: NORMAL | AV14: 100 | AW14: RESONANT | AX14: NORMAL | AY14: NIL | AZ14: 0 | BA14: 0 | BB14: NO | BC14: 27 | BD14: 88 | BE14: SINUS | BF14: 1 | BG14: 0.04 | BH14: 0.18 | BI14: NORMAL | BJ14: 0.4 | BK14: 0 | BL14: 0.08 | BM14: 1 | BN14: 10 | BO14: 4 | BP14: 0.4 | BQ14: 20 | BR14: 24 | BS14: 16 | BT14: 48 | BU14: MILD
A15: 14 | B15: A | C15: 7 | D15: 44986 | E15: F | F15: URBAN | G15: CHRISTIAN | H15: SS | I15: 4 | J15: NIL | K15: NIL | L15: NO | M15: NO | N15: NO | O15: YES | P15: YES | Q15: YES | R15: YES | S15: YES | T15: NO | U15: NO | V15: NO | W15: NO | X15: 0 | Y15: 3 | Z15: 22 | AA15: NORMAL | AB15: 123 | AC15: NORMAL | AD15: 14.6 | AE15: NORMAL | AF15: YES | AG15: NORMAL | AH15: YES | AI15: NO | AJ15: NO | AK15: NO | AL15: NO | AM15: 104 | AN15: NORMAL | AO15: NORMAL | AP15: NIL | AQ15: NORMAL | AR15: NORMAL | AS15: NIL | AT15: 20 | AU15: NORMAL | AV15: 98 | AW15: RESONANT | AX15: NORMAL | AY15: NIL | AZ15: 0 | BA15: 0 | BB15: NO | BC15: 23 | BD15: 107 | BE15: SINUS | BF15: 1 | BG15: 0.08 | BH15: 0.16 | BI15: NORMAL | BJ15: 0.43 | BK15: 1 | BL15: 0.08 | BM15: 1 | BN15: 12 | BO15: 10 | BP15: 0.83 | BQ15: 16 | BR15: 28 | BS15: 16 | BT15: 28 | BU15: MILD
A16: 15 | B16: A | C16: 13 | D16: 41334 | E16: F | F16: RURAL | G16: CHRISTIAN | H16: SS | I16: 8 | J16: NIL | K16: NIL | L16: NO | M16: NO | N16: NO | O16: YES | P16: YES | Q16: YES | R16: YES | S16: YES | T16: NO | U16: NO | V16: NO | W16: YES | X16: 2 | Y16: 2 | Z16: 33 | AA16: NORMAL | AB16: 151 | AC16: NORMAL | AD16: 14.5 | AE16: UNDERWEIGHT | AF16: YES | AG16: NORMAL | AH16: NIL | AI16: NO | AJ16: NO | AK16: NO | AL16: NO | AM16: 100 | AN16: NORMAL | AO16: NORMAL | AP16: NIL | AQ16: NORMAL | AR16: NORMAL | AS16: NIL | AT16: 24 | AU16: TACHYPNOEA | AV16: 99 | AW16: RESONANT | AX16: NORMAL | AY16: NIL | AZ16: 0 | BA16: 0 | BB16: NO | BC16: 18 | BD16: 107 | BE16: SINUS | BF16: 1 | BG16: 0.12 | BH16: 0.14 | BI16: NORMAL | BJ16: 0.4 | BK16: 1 | BL16: 0.08 | BM16: 2 | BN16: 10 | BO16: 2 | BP16: 0.2 | BQ16: 6 | BR16: 32 | BS16: 16 | BT16: 34 | BU16: MILD
A17: 16 | B17: A | C17: 3 | D17: 45007 | E17: M | F17: RURAL | G17: CHRISTIAN | H17: SS | I17: 0.08 | J17: NIL | K17: NIL | L17: NO | M17: NO | N17: NO | O17: YES | P17: YES | Q17: YES | R17: YES | S17: NO | T17: YES | U17: NO | V17: NO | W17: YES | X17: 6 | Y17: 4 | Z17: 14 | AA17: NORMAL | AB17: 91 | AC17: NORMAL | AD17: 16.9 | AE17: OVERWEIGHT | AF17: YES | AG17: NORMAL | AH17: NIL | AI17: NO | AJ17: NO | AK17: NO | AL17: NO | AM17: 120 | AN17: NORMAL | AO17: NORMAL | AP17: NIL | AQ17: NORMAL | AR17: NORMAL | AS17: NIL | AT17: 22 | AU17: NORMAL | AV17: 99 | AW17: RESONANT | AX17: NORMAL | AY17: NIL | AZ17: 4 | BA17: 4 | BB17: NO | BC17: 11 | BD17: 125 | BE17: SINUS | BF17: 1 | BG17: 0.04 | BH17: 0.14 | BI17: NORMAL | BJ17: 0.4 | BK17: 0 | BL17: 0.08 | BM17: 2 | BN17: 4 | BO17: 2 | BP17: 0.5 | BQ17: 24 | BR17: 18 | BS17: 12 | BT17: 30 | BU17: MODERATE
A18: 17 | B18: A | C18: 2 | D18: 45014 | E18: F | F18: URBAN | G18: CHRISTIAN | H18: SS | I18: 1.5 | J18: NIL | K18: NIL | L18: NO | M18: NO | N18: NO | O18: YES | P18: YES | Q18: YES | R18: YES | S18: NO | T18: YES | U18: NO | V18: NO | W18: NO | X18: 0 | Y18: 1 | Z18: 14 | AA18: NORMAL | AB18: 89 | AC18: NORMAL | AD18: 17.7 | AE18: OVERWEIGHT | AF18: YES | AG18: NORMAL | AH18: NIL | AI18: NO | AJ18: NO | AK18: NO | AL18: NO | AM18: 120 | AN18: NORMAL | AO18: NORMAL | AP18: NIL | AQ18: NORMAL | AR18: NORMAL | AS18: NIL | AT18: 24 | AU18: NORMAL | AV18: 98 | AW18: RESONANT | AX18: NORMAL | AY18: NIL | AZ18: 0 | BA18: 0 | BB18: NO | BC18: 26 | BD18: 125 | BE18: SINUS | BF18: 1 | BG18: 0.04 | BH18: 0.12 | BI18: NORMAL | BJ18: 0.36 | BK18: 0 | BL18: 0.06 | BM18: 2 | BN18: 8 | BO18: 6 | BP18: 0.75 | BQ18: 10 | BR18: 20 | BS18: 12 | BT18: 40 | BU18: MILD
A19: 18 | B19: A | C19: 3 | D19: 45014 | E19: M | F19: RURAL | G19: CHRISTIAN | H19: SS | I19: 2 | J19: NIL | K19: NIL | L19: NO | M19: NO | N19: NO | O19: YES | P19: YES | Q19: YES | R19: YES | S19: NO | T19: YES | U19: NO | V19: NO | W19: YES | X19: 2 | Y19: 2 | Z19: 14 | AA19: NORMAL | AB19: 94 | AC19: NORMAL | AD19: 15.8 | AE19: NORMAL | AF19: YES | AG19: NORMAL | AH19: NIL | AI19: NO | AJ19: NO | AK19: NO | AL19: NO | AM19: 120 | AN19: NORMAL | AO19: NORMAL | AP19: NIL | AQ19: NORMAL | AR19: NORMAL | AS19: NIL | AT19: 34 | AU19: TACHYPNOEA | AV19: 99 | AW19: RESONANT | AX19: NORMAL | AY19: NIL | AZ19: 0 | BA19: 0 | BB19: NO | BC19: 23 | BD19: 115 | BE19: SINUS | BF19: 1 | BG19: 0.06 | BH19: 0.14 | BI19: NORMAL | BJ19: 0.4 | BK19: 0 | BL19: 0.06 | BM19: 2 | BN19: 8 | BO19: 2 | BP19: 0.25 | BQ19: 12 | BR19: 12 | BS19: 7 | BT19: 34 | BU19: MODERATE
A20: 19 | B20: A | C20: 6 | D20: 45014 | E20: M | F20: RURAL | G20: CHRISTIAN | H20: SS | I20: 3 | J20: NIL | K20: NIL | L20: NO | M20: NO | N20: NO | O20: YES | P20: YES | Q20: YES | R20: YES | S20: YES | T20: NO | U20: NO | V20: NO | W20: YES | X20: 2 | Y20: 1 | Z20: 20.5 | AA20: NORMAL | AB20: 119 | AC20: NORMAL | AD20: 14.5 | AE20: NORMAL | AF20: YES | AG20: NORMAL | AH20: NIL | AI20: NO | AJ20: NO | AK20: NO | AL20: NO | AM20: 96 | AN20: NORMAL | AO20: NORMAL | AP20: NIL | AQ20: NORMAL | AR20: NORMAL | AS20: NIL | AT20: 24 | AU20: NORMAL | AV20: 100 | AW20: RESONANT | AX20: NORMAL | AY20: NIL | AZ20: 6 | BA20: 0 | BB20: NO | BC20: 23 | BD20: 107 | BE20: SINUS | BF20: 1 | BG20: 0.04 | BH20: 0.16 | BI20: NORMAL | BJ20: 0.4 | BK20: 1 | BL20: 0.08 | BM20: 2 | BN20: 10 | BO20: 6 | BP20: 0.6 | BQ20: 18 | BR20: 14 | BS20: 10 | BT20: 28 | BU20: MILD
A21: 20 | B21: A | C21: 7 | D21: 45028 | E21: M | F21: RURAL | G21: CHRISTIAN | H21: SS | I21: 4 | J21: NIL | K21: NIL | L21: NO | M21: NO | N21: NO | O21: YES | P21: YES | Q21: YES | R21: YES | S21: YES | T21: NO | U21: NO | V21: NO | W21: YES | X21: 1 | Y21: 1 | Z21: 26 | AA21: NORMAL | AB21: 132 | AC21: NORMAL | AD21: 14.9 | AE21: NORMAL | AF21: YES | AG21: NORMAL | AH21: NIL | AI21: NO | AJ21: NO | AK21: NO | AL21: NO | AM21: 98 | AN21: NORMAL | AO21: NORMAL | AP21: NIL | AQ21: NORMAL | AR21: NORMAL | AS21: NIL | AT21: 24 | AU21: NORMAL | AV21: 98 | AW21: RESONANT | AX21: NORMAL | AY21: NIL | AZ21: 0 | BA21: 0 | BB21: NO | BC21: 24 | BD21: 94 | BE21: SINUS | BF21: 1 | BG21: 0.04 | BH21: 0.14 | BI21: NORMAL | BJ21: 0.42 | BK21: 1 | BL21: 0.08 | BM21: 4 | BN21: 10 | BO21: 4 | BP21: 0.4 | BQ21: 14 | BR21: 23 | BS21: 11 | BT21: 48 | BU21: MILD
... A51: 50 | B51: B | C51: 8 | D51: 44965 | E51: M | F51: URBAN | G51: CHRISTIAN | H51: SS | I51: 4 | J51: NO | K51: NO | L51: NO | M51: NO | N51: NO | O51: YES | P51: YES | Q51: YES | R51: YES | S51: YES | T51: NO | U51: NO | V51: NO | W51: YES | X51: 4 | Y51: 2 | Z51: 24 | AA51: NORMAL | AB51: 122.4 | AC51: NORMAL | AD51: 16.1 | AE51: NORMAL | AF51: YES | AG51: NORMAL | AH51: YES | AI51: NO | AJ51: NO | AK51: NO | AL51: NO | AM51: 120 | AN51: TACHYCARDIA | AO51: NORMAL | AP51: NIL | AQ51: NORMAL | AR51: NORMAL | AS51: NIL | AT51: 32 | AU51: TACHYPNOEA | AV51: 98 | AW51: RESONANT | AX51: NORMAL | AY51: NIL | AZ51: 2 | BA51: 6 | BB51: NO | BC51: 18 | BD51: 125 | BE51: SINUS | BF51: 1 | BG51: 0.04 | BH51: 0.14 | BI51: NORMAL | BJ51: 0.36 | BK51: 1 | BL51: 0.06 | BM51: 2 | BN51: 8 | BO51: 4 | BP51: 0.5 | BQ51: 6 | BR51: 14 | BS51: 10 | BT51: 30 | BU51: MODERATE
A52: 51 | B52: B | C52: 7 | D52: 45155 | E52: M | F52: RURAL | G52: CHRISTIAN | H52: SS | I52: 6 | K52: NO | L52: NO | M52: NO | N52: NO | O52: YES | P52: YES | Q52: YES | R52: YES | S52: YES | T52: NO | U52: YES | V52: YES | W52: YES | X52: 4 | Y52: 2 | Z52: 29 | AA52: OVERWEIGHT | AB52: 120 | AC52: NORMAL | AD52: 20 | AE52: OBESE | AF52: YES | AG52: NORMAL | AH52: NIL | AI52: NO | AJ52: NO | AK52: NO | AL52: NO | AM52: 80 | AN52: NORMAL | AO52: NORMAL | AP52: NIL | AQ52: NORMAL | AR52: NORMAL | AS52: NIL | AT52: 24 | AU52: TACHYPNOEA | AV52: 98 | AW52: RESONANT | AX52: NORMAL | AY52: NIL | AZ52: 6 | BA52: 6 | BB52: NO | BC52: 15 | BD52: 75 | BE52: SINUS | BF52: 1 | BG52: 0.04 | BH52: 0.14 | BI52: NORMAL | BJ52: 0.48 | BK52: 1 | BL52: 0.08 | BM52: 1 | BN52: 10 | BO52: 4 | BP52: 0.4 | BQ52: 12 | BR52: 44 | BS52: 28 | BT52: 20 | BU52: MODERATE
A53: 52 | B53: B | C53: 15 | D53: 44986 | E53: F | F53: RURAL | G53: CHRISTIAN | H53: SS | I53: 15 | J53: NO | K53: NO | L53: NO | M53: NO | N53: NO | O53: YES | P53: YES | Q53: YES | R53: YES | S53: YES | T53: NO | U53: NO | V53: NO | W53: YES | X53: 2 | Y53: 3 | Z53: 42 | AA53: NORMAL | AB53: 151 | AC53: NORMAL | AD53: 18.4 | AE53: NORMAL | AF53: YES | AG53: NORMAL | AH53: NIL | AI53: NO | AJ53: NO | AK53: NO | AL53: NO | AM53: 90 | AN53: NORMAL | AO53: NORMAL | AP53: NIL | AQ53: NORMAL | AR53: NORMAL | AS53: NIL | AT53: 20 | AU53: NORMAL | AV53: 99 | AW53: RESONANT | AX53: NORMAL | AY53: NIL | AZ53: 0 | BA53: 0 | BB53: NO | BC53: 20 | BD53: 94 | BE53: SINUS | BF53: 2 | BG53: 0.12 | BH53: 0.16 | BI53: NORMAL | BJ53: 0.39 | BK53: 1 | BL53: 0.08 | BM53: 1 | BN53: 10 | BO53: 6 | BP53: 0.6 | BQ53: 6 | BR53: 26 | BS53: 24 | BT53: 28 | BU53: MODERATE
A54: 53 | B54: B | C54: 13 | D54: 45002 | E54: M | F54: RURAL | G54: CHRISTIAN | H54: SS | I54: 4 | J54: NO | K54: NO | L54: NO | M54: NO | N54: NO | O54: YES | P54: YES | Q54: YES | R54: YES | S54: YES | T54: NO | U54: NO | V54: NO | W54: YES | X54: 1 | Y54: 3 | Z54: 30 | AA54: NORMAL | AB54: 134 | AC54: STUNTED | AD54: 16.7 | AE54: NORMAL | AF54: YES | AG54: NORMAL | AH54: YES | AI54: NO | AJ54: NO | AK54: NO | AL54: NO | AM54: 92 | AN54: NORMAL | AO54: NORMAL | AP54: NIL | AQ54: NORMAL | AR54: NORMAL | AS54: NIL | AT54: 22 | AU54: TACHYPNOEA | AV54: 100 | AW54: RESONANT | AX54: NORMAL | AY54: NIL | AZ54: 0 | BA54: 0 | BB54: NO | BC54: 22 | BD54: 88 | BE54: SINUS | BF54: 1 | BG54: 0.04 | BH54: 0.18 | BI54: RIGHT AXIS | BJ54: 0.4 | BK54: 1 | BL54: 0.08 | BM54: 2 | BN54: 5 | BO54: 2 | BP54: 0.4 | BQ54: 10 | BR54: 28 | BS54: 20 | BT54: 28 | BU54: MILD
A55: 54 | B55: B | C55: 10 | D55: 45007 | E55: F | F55: URBAN | G55: CHRISTIAN | H55: SS | I55: 9 | J55: NO | K55: NO | L55: NO | M55: NO | N55: NO | O55: YES | P55: YES | Q55: YES | R55: YES | S55: YES | T55: NO | U55: NO | V55: NO | W55: YES | X55: 11 | Y55: 1 | Z55: 33 | AA55: NORMAL | AB55: 132 | AC55: NORMAL | AD55: 18.9 | AE55: NORMAL | AF55: YES | AG55: NORMAL | AH55: YES | AI55: NO | AJ55: NO | AK55: NO | AL55: NO | AM55: 86 | AN55: NORMAL | AO55: NORMAL | AP55: NIL | AQ55: NORMAL | AR55: NORMAL | AS55: NIL | AT55: 20 | AU55: NORMAL | AV55: 100 | AW55: RESONANT | AX55: NORMAL | AY55: NIL | AZ55: 0 | BA55: 0 | BB55: NO | BC55: 20 | BD55: 83 | BE55: SINUS | BF55: 1 | BG55: 0.04 | BH55: 0.16 | BI55: NORMAL | BJ55: 0.39 | BK55: 0 | BL55: 0.08 | BM55: 1 | BN55: 6 | BO55: 2 | BP55: 0.33 | BQ55: 10 | BR55: 38 | BS55: 20 | BT55: 52 | BU55: MILD
A56: 55 | B56: B | C56: 3 | D56: 45007 | E56: F | F56: SEMI-URBAN | G56: CHRISTIAN | H56: SS | I56: 2 | J56: YES | K56: NO | L56: NO | M56: NO | N56: NO | O56: YES | P56: YES | Q56: YES | R56: YES | S56: NO | T56: NO | U56: YES | V56: NO | W56: YES | X56: 1 | Y56: 3 | Z56: 12 | AA56: NORMAL | AB56: 89 | AC56: NORMAL | AD56: 15.1 | AE56: NORMAL | AF56: YES | AG56: NORMAL | AH56: NIL | AI56: NO | AJ56: NO | AK56: NO | AL56: NO | AM56: 112 | AN56: NORMAL | AO56: NORMAL | AP56: NIL | AQ56: NORMAL | AR56: NORMAL | AS56: NIL | AT56: 35 | AU56: TACHYPNOEA | AV56: 98 | AW56: RESONANT | AX56: NORMAL | AY56: NIL | AZ56: 6 | BA56: 0 | BB56: NO | BC56: 22 | BD56: 115 | BE56: SINUS | BF56: 1 | BG56: 0.12 | BH56: 0.14 | BI56: NORMAL | BJ56: 0.41 | BK56: 0 | BL56: 0.08 | BM56: 2 | BN56: 6 | BO56: 4 | BP56: 0.67 | BQ56: 20 | BR56: 36 | BS56: 22 | BT56: 60 | BU56: MILD
A57: 56 | B57: B | C57: 4 | D57: 45014 | E57: M | F57: RURAL | G57: CHRISTIAN | H57: SS | I57: 2 | J57: NO | K57: NO | L57: NO | M57: NO | N57: NO | O57: YES | P57: YES | Q57: YES | R57: YES | S57: NO | T57: YES | U57: NO | V57: NO | W57: NO | X57: 0 | Y57: 1 | Z57: 14 | AA57: NORMAL | AB57: 98 | AC57: STUNTED | AD57: 14.6 | AE57: NORMAL | AF57: YES | AG57: NORMAL | AH57: NIL | AI57: NO | AJ57: NO | AK57: NO | AL57: NO | AM57: 106 | AN57: NORMAL | AO57: NORMAL | AP57: NIL | AQ57: NORMAL | AR57: NORMAL | AS57: NIL | AT57: 28 | AU57: TACHYPNOEA | AV57: 100 | AW57: RESONANT | AX57: NORMAL | AY57: NIL | AZ57: 4 | BA57: 0 | BB57: NO | BC57: 22 | BD57: 107 | BE57: SINUS | BF57: 1 | BG57: 0.12 | BH57: 0.12 | BI57: NORMAL | BJ57: 0.4 | BK57: 1 | BL57: 0.07 | BM57: 1 | BN57: 10 | BO57: 2 | BP57: 0.2 | BQ57: 12 | BR57: 19 | BS57: 12 | BT57: 54 | BU57: MODERATE
A58: 57 | B58: B | C58: 7 | D58: 45028 | E58: M | F58: SEMI-URBAN | G58: CHRISTIAN | H58: SS | I58: 5 | J58: NO | K58: NO | L58: NO | M58: NO | N58: NO | O58: YES | P58: YES | Q58: YES | R58: YES | S58: YES | T58: NO | U58: NO | V58: NO | W58: YES | X58: 2 | Y58: 3 | Z58: 29 | AA58: NORMAL | AB58: 124.5 | AC58: NORMAL | AD58: 18.7 | AE58: OVERWEIGHT | AF58: YES | AG58: NORMAL | AH58: NIL | AI58: NO | AJ58: NO | AK58: NO | AL58: NO | AM58: 95 | AN58: NORMAL | AO58: NORMAL | AP58: NIL | AQ58: NORMAL | AR58: NORMAL | AS58: NIL | AT58: 30 | AU58: TACHYPNOEA | AV58: 99 | AW58: RESONANT | AX58: NORMAL | AY58: NIL | AZ58: 0 | BA58: 0 | BB58: NO | BC58: 26 | BD58: 100 | BE58: SINUS | BF58: 1 | BG58: 0.04 | BH58: 0.16 | BI58: NORMAL | BJ58: 0.41 | BK58: 0 | BL58: 0.09 | BM58: 2 | BN58: 6 | BO58: 2 | BP58: 0.33 | BQ58: 10 | BR58: 44 | BS58: 24 | BT58: 52 | BU58: MILD
A59: 58 | B59: B | C59: 3 | D59: 45030 | E59: F | F59: SEMI-URBAN | G59: CHRISTIAN | H59: SS | I59: 0.5 | J59: NO | K59: NO | L59: NO | M59: NO | N59: NO | O59: YES | P59: YES | Q59: YES | R59: YES | S59: NO | T59: NO | U59: YES | V59: YES | W59: NO | X59: 0 | Y59: 1 | Z59: 16 | AA59: NORMAL | AB59: 96 | AC59: NORMAL | AD59: 17.4 | AE59: OVERWEIGHT | AF59: YES | AG59: HIGH | AH59: NIL | AI59: NO | AJ59: NO | AK59: NO | AL59: NO | AM59: 108 | AN59: NORMAL | AO59: NORMAL | AP59: NIL | AQ59: NORMAL | AR59: NORMAL | AS59: NIL | AT59: 22 | AU59: NORMAL | AV59: 98 | AW59: RESONANT | AX59: NORMAL | AY59: NIL | AZ59: 6 | BA59: 0 | BB59: NO | BC59: 23 | BD59: 103 | BE59: SINUS | BF59: 2 | BG59: 0.08 | BH59: 0.16 | BI59: NORMAL | BJ59: 0.42 | BK59: 0 | BL59: 0.08 | BM59: 1 | BN59: 16 | BO59: 8 | BP59: 0.5 | BQ59: 22 | BR59: 30 | BS59: 22 | BT59: 18 | BU59: MODERATE
A60: 59 | B60: B | C60: 2 | D60: 45104 | E60: M | F60: URBAN | G60: CHRISTIAN | H60: SS | I60: 0.75 | J60: NO | K60: NO | L60: NO | M60: NO | N60: NO | O60: YES | P60: YES | Q60: YES | R60: YES | S60: NO | T60: YES | U60: YES | V60: YES | W60: YES | X60: 3 | Y60: 2 | Z60: 14 | AA60: NORMAL | AB60: 96.5 | AC60: NORMAL | AD60: 15 | AE60: NORMAL | AF60: YES | AG60: NORMAL | AH60: NIL | AI60: NO | AJ60: NO | AK60: NO | AL60: NO | AM60: 110 | AN60: NORMAL | AO60: NORMAL | AP60: NIL | AQ60: NORMAL | AR60: NORMAL | AS60: NIL | AT60: 28 | AU60: NORMAL | AV60: 100 | AW60: RESONANT | AX60: NORMAL | AY60: NIL | AZ60: 0 | BA60: 0 | BB60: NO | BC60: 17 | BD60: 115 | BE60: SINUS | BF60: 1 | BG60: 0.12 | BH60: 0.12 | BI60: NORMAL | BJ60: 0.39 | BK60: 1 | BL60: 0.06 | BM60: 3 | BN60: 5 | BO60: 2 | BP60: 0.4 | BQ60: 17 | BR60: 40 | BS60: 24 | BT60: 30 | BU60: MODERATE
A61: 60 | B61: B | C61: 13 | D61: 45112 | E61: M | F61: RURAL | G61: CHRISTIAN | H61: SS | I61: 11 | J61: YES | K61: NO | L61: NO | M61: NO | N61: NO | O61: YES | P61: YES | Q61: YES | R61: YES | S61: YES | T61: NO | U61: NO | V61: NO | W61: YES | X61: 4 | Y61: 4 | Z61: 37 | AA61: NORMAL | AB61: 144 | AC61: STUNTED | AD61: 17.8 | AE61: NORMAL | AF61: YES | AG61: HIGH | AH61: NIL | AI61: NO | AJ61: NO | AK61: NO | AL61: NO | AM61: 90 | AN61: NORMAL | AO61: NORMAL | AP61: NIL | AQ61: NORMAL | AR61: NORMAL | AS61: NIL | AT61: 24 | AU61: TACHYPNOEA | AV61: 98 | AW61: RESONANT | AX61: NORMAL | AY61: NIL | AZ61: 0 | BA61: 0 | BB61: NO | BC61: 28 | BD61: 90 | BE61: SINUS | BF61: 1 | BG61: 0.04 | BH61: 0.12 | BI61: NORMAL | BJ61: 0.4 | BK61: 0 | BL61: 0.06 | BM61: 1 | BN61: 24 | BO61: 18 | BP61: 0.75 | BQ61: 12 | BR61: 40 | BS61: 24 | BT61: 48 | BU61: MILD
A62: 61 | B62: B | C62: 11 | D62: 45113 | E62: M | F62: RURAL | G62: CHRISTIAN | H62: SS | I62: 0.04 | J62: NO | K62: NO | L62: NO | M62: NO | N62: NO | O62: YES | P62: NO | Q62: NO | R62: NO | S62: NO | T62: NO | U62: NO | V62: NO | W62: YES | X62: 1 | Y62: 4 | Z62: 35 | AA62: NORMAL | AB62: 142 | AC62: NORMAL | AD62: 17.4 | AE62: NORMAL | AF62: YES | AG62: NORMAL | AH62: NIL | AI62: NO | AJ62: NO | AK62: NO | AL62: NO | AM62: 70 | AN62: NORMAL | AO62: NORMAL | AP62: NIL | AQ62: NORMAL | AR62: NORMAL | AS62: NIL | AT62: 24 | AU62: TACHYPNOEA | AV62: 99 | AW62: RESONANT | AX62: NORMAL | AY62: NIL | AZ62: 0 | BA62: 0 | BB62: NO | BC62: 13 | BD62: 68 | BE62: SINUS | BF62: 1 | BG62: 0.04 | BH62: 0.16 | BI62: LEFT AXIS | BJ62: 0.34 | BK62: 1 | BL62: 0.08 | BM62: 1 | BN62: 14 | BO62: 6 | BP62: 0.43 | BQ62: 24 | BR62: 14 | BS62: 17 | BT62: 22 | BU62: MODERATE
A63: 62 | B63: B | C63: 3 | D63: 45119 | E63: F | F63: URBAN | G63: CHRISTIAN | H63: SS | I63: 2 | J63: YES | K63: NO | L63: NO | M63: NO | N63: NO | O63: YES | P63: YES | Q63: YES | R63: YES | S63: NO | T63: YES | U63: NO | V63: NO | W63: YES | X63: 2 | Y63: 1 | Z63: 18 | AA63: OVERWEIGHT | AB63: 97 | AC63: NORMAL | AD63: 19.1 | AE63: OBESE | AF63: YES | AG63: HIGH | AH63: NIL | AI63: NO | AJ63: NO | AK63: NO | AL63: NO | AM63: 140 | AN63: TACHYCARDIA | AO63: NORMAL | AP63: NIL | AQ63: NORMAL | AR63: NORMAL | AS63: NIL | AT63: 30 | AU63: NORMAL | AV63: 98 | AW63: RESONANT | AX63: NORMAL | AY63: NIL | AZ63: 6 | BA63: 4 | BB63: NO | BC63: 22 | BD63: 142 | BE63: SINUS | BF63: 2 | BG63: 0.08 | BH63: 0.14 | BI63: NORMAL | BJ63: 0.37 | BK63: 1 | BL63: 0.06 | BM63: 2 | BN63: 22 | BO63: 16 | BP63: 0.73 | BQ63: 18 | BR63: 26 | BS63: 16 | BT63: 54 | BU63: MODERATE
A64: 63 | B64: B | C64: 16 | D64: 45121 | E64: F | F64: RURAL | G64: CHRISTIAN | H64: SS | I64: 10 | J64: NO | K64: NO | L64: NO | M64: NO | N64: NO | O64: YES | P64: YES | Q64: YES | R64: YES | S64: YES | T64: NO | U64: NO | V64: NO | W64: YES | X64: 4 | Y64: 1 | Z64: 70 | AA64: NORMAL | AB64: 177 | AC64: TALL STATURE | AD64: 22 | AE64: NORMAL | AF64: YES | AG64: NORMAL | AH64: NIL | AI64: NO | AJ64: NO | AK64: NO | AL64: NO | AM64: 104 | AN64: TACHYCARDIA | AO64: NORMAL | AP64: NIL | AQ64: NORMAL | AR64: NORMAL | AS64: NIL | AT64: 26 | AU64: TACHYPNOEA | AV64: 99 | AW64: RESONANT | AX64: NORMAL | AY64: NIL | AZ64: 0 | BA64: 0 | BB64: NO | BC64: 25 | BD64: 103 | BE64: SINUS | BF64: 1 | BG64: 0.04 | BH64: 0.16 | BI64: NORMAL | BJ64: 0.42 | BK64: 1.5 | BL64: 0.08 | BM64: 1 | BN64: 10 | BO64: 5 | BP64: 0.5 | BQ64: 14 | BR64: 22 | BS64: 22 | BT64: 28 | BU64: MODERATE
... A88: 87 | B88: B | C88: 7 | D88: 45223 | E88: M | F88: RURAL | G88: CHRISTIAN | H88: SS | I88: 2 | J88: NO | K88: NO | L88: NO | M88: NO | N88: NO | O88: YES | P88: YES | Q88: YES | R88: YES | S88: NO | T88: NO | U88: YES | V88: YES | W88: YES | X88: 2 | Y88: 2 | Z88: 26 | AA88: NORMAL | AB88: 130 | AC88: NORMAL | AD88: 15.4 | AE88: NORMAL | AF88: YES | AG88: NORMAL | AH88: NIL | AI88: NO | AJ88: NO | AK88: NO | AL88: NO | AM88: 60 | AN88: NORMAL | AO88: NORMAL | AP88: NIL | AQ88: NORMAL | AR88: NORMAL | AS88: NIL | AT88: 24 | AU88: NORMAL | AV88: 99 | AW88: RESONANT | AX88: NORMAL | AY88: NIL | AZ88: 4 | BA88: 0 | BB88: NO | BC88: 14 | BD88: 60 | BE88: SINUS | BF88: 1 | BG88: 0.1 | BH88: 0.13 | BI88: NORMAL | BJ88: 0.42 | BK88: 0 | BL88: 0.09 | BM88: 1 | BN88: 12 | BO88: 4 | BP88: 0.33 | BQ88: 10 | BR88: 32 | BS88: 40 | BT88: 40 | BU88: MODERATE
A89: 88 | B89: B | C89: 4 | D89: 45223 | E89: M | F89: SEMI-URBAN | G89: CHRISTIAN | H89: SS | I89: 3 | J89: NO | K89: NO | L89: NO | M89: NO | N89: NO | O89: YES | P89: YES | Q89: YES | R89: YES | S89: NO | T89: YES | U89: YES | V89: YES | W89: YES | X89: 2 | Y89: 1 | Z89: 15.5 | AA89: NORMAL | AB89: 100 | AC89: NORMAL | AD89: 15.5 | AE89: NORMAL | AF89: YES | AG89: NORMAL | AH89: NIL | AI89: NO | AJ89: NO | AK89: NO | AL89: NO | AM89: 100 | AN89: NORMAL | AO89: NORMAL | AP89: NIL | AQ89: NORMAL | AR89: NORMAL | AS89: NIL | AT89: 48 | AU89: TACHYPNOEA | AV89: 96 | AW89: RESONANT | AX89: NORMAL | AY89: NIL | AZ89: 4 | BA89: 0 | BB89: NO | BC89: 19 | BD89: 103 N | BE89: SINUS | BF89: 1.5 | BG89: 0.1 | BH89: 0.14 | BI89: NORMAL | BJ89: 0.39 | BK89: 1 | BL89: 0.06 | BM89: 3 | BN89: 20 | BO89: 8 | BP89: 0.4 | BQ89: 16 | BR89: 18 | BS89: 16 | BT89: 26 | BU89: MODERATE
A90: 89 | B90: B | C90: 11 | D90: 45223 | E90: F | F90: SEMI-URBAN | G90: CHRISTIAN | H90: SS | I90: 10 | J90: NO | K90: NO | L90: NO | M90: NO | N90: NO | O90: YES | P90: YES | Q90: YES | R90: YES | S90: NO | T90: NO | U90: YES | V90: YES | W90: YES | X90: 5 | Y90: 2 | Z90: 35.3 | AA90: NORMAL | AB90: 150 | AC90: NORMAL | AD90: 15.7 | AE90: NORMAL | AF90: YES | AG90: NORMAL | AH90: NIL | AI90: NO | AJ90: NO | AK90: NO | AL90: NO | AM90: 76 | AN90: NORMAL | AO90: NORMAL | AP90: NIL | AQ90: NORMAL | AR90: NORMAL | AS90: NIL | AT90: 22 | AU90: NORMAL | AV90: 99 | AW90: RESONANT | AX90: NORMAL | AY90: NIL | AZ90: 3 | BA90: 0 | BB90: NO | BC90: 29 | BD90: 81 | BE90: SINUS | BF90: 1 | BG90: 0.1 | BH90: 0.14 | BI90: NORMAL | BJ90: 0.42 | BK90: 0 | BL90: 0.08 | BM90: 2 | BN90: 10 | BO90: 4 | BP90: 0.4 | BQ90: 20 | BR90: 36 | BS90: 40 | BT90: 32 | BU90: MILD
A91: 90 | B91: B | C91: 13 | D91: 45224 | E91: M | F91: RURAL | G91: CHRISTIAN | H91: SS | I91: 8 | J91: NO | K91: NO | L91: NO | M91: NO | N91: NO | O91: YES | P91: YES | Q91: YES | R91: YES | S91: NO | T91: NO | U91: NO | V91: NO | W91: N0 | X91: 0 | Y91: 3 | Z91: 34 | AA91: NORMAL | AB91: 142 | AC91: NORMAL | AD91: 16.9 | AE91: NORMAL | AF91: YES | AG91: NORMAL | AH91: NIL | AI91: NO | AJ91: NO | AK91: NO | AL91: NO | AM91: 80 | AN91: NORMAL | AO91: NORMAL | AP91: NIL | AQ91: NORMAL | AR91: NORMAL | AS91: NIL | AT91: 18 | AU91: NORMAL | AV91: 96 | AW91: RESONANT | AX91: NORMAL | AY91: NIL | AZ91: 0 | BA91: 0 | BB91: NO | BC91: 20 | BD91: 80 | BE91: SINUS | BF91: 1 | BG91: 0.1 | BH91: 0.18 | BI91: NORMAL | BJ91: 0.43 | BK91: 1 | BL91: 0.08 | BM91: 2 | BN91: 8 | BO91: 4 | BP91: 0.5 | BQ91: 20 | BR91: 40 | BS91: 28 | BT91: 24 | BU91: MILD
A92: 91 | B92: C | C92: 11 | D92: 45212 | E92: F | F92: RURAL | G92: CHRISTIAN | H92: AA | J92: NO | K92: NO | L92: NO | M92: NO | N92: NO | O92: NO | P92: NO | Q92: NO | R92: NO | S92: NO | T92: NO | U92: NO | V92: NO | W92: NO | X92: 0 | Y92: 1 | Z92: 77 | AA92: OVERWEIGHT | AB92: 163 | AC92: TALL STATURE | AD92: 29 | AE92: OBESE | AF92: NO | AG92: NORMAL | AH92: NIL | AI92: NO | AJ92: NO | AK92: NO | AL92: NO | AM92: 80 | AN92: NORMAL | AO92: NORMAL | AP92: NIL | AQ92: NORMAL | AR92: NORMAL | AS92: NIL | AT92: 18 | AU92: NORMAL | AV92: 99 | AW92: RESONANT | AX92: NORMAL | AY92: NIL | AZ92: 0 | BA92: 0 | BB92: NO | BC92: 33 | BD92: 79 | BE92: SINUS | BF92: 2 | BG92: 0.1 | BH92: 0.16 | BI92: RIGHT AXIS | BJ92: 0.43 | BK92: 1 | BL92: 0.09 | BM92: 1 | BN92: 14 | BO92: 4 | BP92: 0.29 | BQ92: 28 | BR92: 20 | BS92: 22 | BT92: 36
A93: 92 | B93: C | C93: 6 | D93: 45215 | E93: M | F93: RURAL | G93: CHRISTIAN | H93: AA | J93: NO | K93: NO | L93: NO | M93: NO | N93: NO | O93: NO | P93: NO | Q93: NO | R93: NO | S93: NO | T93: NO | U93: NO | V93: NO | W93: NO | X93: 0 | Y93: 2 | Z93: 20 | AA93: NORMAL | AB93: 115 | AC93: NORMAL | AD93: 15.1 | AE93: NORMAL | AF93: NO | AG93: NORMAL | AH93: NIL | AI93: NO | AJ93: NO | AK93: NO | AL93: NO | AM93: 72 | AN93: NORMAL | AO93: NORMAL | AP93: NIL | AQ93: NORMAL | AR93: NORMAL | AS93: NIL | AT93: 16 | AU93: NORMAL | AV93: 100 | AW93: RESONANT | AX93: NORMAL | AY93: NIL | AZ93: 0 | BA93: 0 | BB93: NO | BC93: 34 | BD93: 76 | BE93: SINUS | BF93: 1 | BG93: 0.1 | BH93: 0.13 | BI93: NORMAL | BJ93: 0.4 | BK93: 1 | BL93: 0.08 | BM93: 2 | BN93: 16 | BO93: 8 | BP93: 0.5 | BQ93: 20 | BR93: 36 | BS93: 20 | BT93: 18
A94: 93 | B94: C | C94: 11 | D94: 45215 | E94: M | F94: RURAL | G94: CHRISTIAN | H94: AA | J94: NO | K94: NO | L94: NO | M94: NO | N94: NO | O94: NO | P94: NO | Q94: NO | R94: NO | S94: NO | T94: NO | U94: NO | V94: NO | W94: YES | X94: 1 | Y94: 3 | Z94: 48 | AA94: NORMAL | AB94: 157 | AC94: NORMAL | AD94: 19.4 | AE94: NORMAL | AF94: NO | AG94: NORMAL | AH94: NIL | AI94: NO | AJ94: NO | AK94: NO | AL94: NO | AM94: 76 | AN94: NORMAL | AO94: NORMAL | AP94: NIL | AQ94: NORMAL | AR94: NORMAL | AS94: NIL | AT94: 16 | AU94: NORMAL | AV94: 100 | AW94: RESONANT | AX94: NORMAL | AY94: NIL | AZ94: 0 | BA94: 0 | BB94: NO | BC94: 33 | BD94: 75 | BE94: SINUS | BF94: 1 | BG94: 0.12 | BH94: 0.16 | BI94: NORMAL | BJ94: 0.42 | BK94: 1 | BL94: 0.08 | BM94: 2 | BN94: 6 | BO94: 4 | BP94: 0.67 | BQ94: 10 | BR94: 36 | BS94: 30 | BT94: 40
A95: 94 | B95: C | C95: 4 | D95: 45219 | E95: M | F95: URBAN | G95: CHRISTIAN | H95: AA | J95: NO | K95: NO | L95: NO | M95: NO | N95: NO | O95: NO | P95: NO | Q95: NO | R95: NO | S95: NO | T95: NO | U95: NO | V95: NO | W95: NO | X95: 0 | Y95: 1 | Z95: 20 | AA95: NORMAL | AB95: 116 | AC95: NORMAL | AD95: 14.8 | AE95: NORMAL | AF95: NO | AG95: NORMAL | AH95: NIL | AI95: NO | AJ95: NO | AK95: NO | AL95: NO | AM95: 104 | AN95: NORMAL | AO95: NORMAL | AP95: NIL | AQ95: NORMAL | AR95: NORMAL | AS95: NIL | AT95: 20 | AU95: NORMAL | AV95: 98 | AW95: RESONANT | AX95: NORMAL | AY95: NIL | AZ95: 0 | BA95: 0 | BB95: NO | BC95: 36 | BD95: 108 | BE95: SINUS | BF95: 1 | BG95: 0.1 | BH95: 0.16 | BI95: NORMAL | BJ95: 0.4 | BK95: 1 | BL95: 0.06 | BM95: 2 | BN95: 10 | BO95: 4 | BP95: 0.4 | BQ95: 10 | BR95: 20 | BS95: 14 | BT95: 22
A96: 95 | B96: C | C96: 7 | D96: 45219 | E96: M | F96: RURAL | G96: CHRISTIAN | H96: AA | J96: NO | K96: NO | L96: NO | M96: NO | N96: NO | O96: NO | P96: NO | Q96: NO | R96: NO | S96: NO | T96: NO | U96: NO | V96: NO | W96: NO | X96: 0 | Y96: 2 | Z96: 26 | AA96: NORMAL | AB96: 126 | AC96: NORMAL | AD96: 16.4 | AE96: NORMAL | AF96: NO | AG96: NORMAL | AH96: NIL | AI96: NO | AJ96: NO | AK96: NO | AL96: NO | AM96: 80 | AN96: NORMAL | AO96: NORMAL | AP96: NIL | AQ96: NORMAL | AR96: NORMAL | AS96: NIL | AT96: 16 | AU96: NORMAL | AV96: 99 | AW96: RESONANT | AX96: NORMAL | AY96: NIL | AZ96: 0 | BA96: 0 | BB96: NO | BC96: 30 | BD96: 81 | BE96: SINUS | BF96: 1 | BG96: 0.12 | BH96: 0.24 | BI96: NORMAL | BJ96: 0.41 | BK96: 1 | BL96: 0.08 | BM96: 2 | BN96: 24 | BO96: 8 | BP96: 0.33 | BQ96: 20 | BR96: 24 | BS96: 24 | BT96: 24
A97: 96 | B97: C | C97: 2 | D97: 45219 | E97: M | F97: SEMI-URBAN | G97: CHRISTIAN | H97: AA | J97: NO | K97: NO | L97: NO | M97: NO | N97: NO | O97: NO | P97: NO | Q97: NO | R97: NO | S97: NO | T97: NO | U97: NO | V97: NO | W97: NO | X97: 0 | Y97: 1 | Z97: 13 | AA97: NORMAL | AB97: 90 | AC97: NORMAL | AD97: 16 | AE97: NORMAL | AF97: NO | AG97: NORMAL | AH97: NIL | AI97: NO | AJ97: NO | AK97: NO | AL97: NO | AM97: 120 | AN97: NORMAL | AO97: NORMAL | AP97: NIL | AQ97: NORMAL | AR97: NORMAL | AS97: NIL | AT97: 34 | AU97: NORMAL | AV97: 99 | AW97: RESONANT | AX97: NORMAL | AY97: NIL | AZ97: 0 | BA97: 0 | BB97: NO | BC97: 28 | BD97: 126 | BE97: SINUS | BF97: 1.5 | BG97: 0.1 | BH97: 0.13 | BI97: NORMAL | BJ97: 0.39 | BK97: 1 | BL97: 0.08 | BM97: 1 | BN97: 18 | BO97: 12 | BP97: 0.67 | BQ97: 18 | BR97: 28 | BS97: 12 | BT97: 48
A98: 97 | B98: C | C98: 2 | D98: 45219 | E98: M | F98: SEMI-URBAN | G98: CHRISTIAN | H98: AA | J98: NO | K98: NO | L98: NO | M98: NO | N98: NO | O98: NO | P98: NO | Q98: NO | R98: NO | S98: NO | T98: NO | U98: NO | V98: NO | W98: NO | X98: 0 | Y98: 2 | Z98: 13 | AA98: NORMAL | AB98: 91 | AC98: NORMAL | AD98: 15.8 | AE98: NORMAL | AF98: NO | AG98: NORMAL | AH98: NIL | AI98: NO | AJ98: NO | AK98: NO | AL98: NO | AM98: 120 | AN98: NORMAL | AO98: NORMAL | AP98: NIL | AQ98: NORMAL | AR98: NORMAL | AS98: NIL | AT98: 22 | AU98: NORMAL | AV98: 100 | AW98: RESONANT | AX98: NORMAL | AY98: NIL | AZ98: 0 | BA98: 0 | BB98: NO | BC98: 34 | BD98: 124 | BE98: SINUS | BF98: 1 | BG98: 0.08 | BH98: 0.13 | BI98: NORMAL | BJ98: 0.45 | BK98: 1 | BL98: 0.07 | BM98: 2 | BN98: 11 | BO98: 8 | BP98: 0.72 | BQ98: 24 | BR98: 8 | BS98: 8 | BT98: 28
A99: 98 | B99: C | C99: 3 | D99: 45219 | E99: F | F99: SEMI-URBAN | G99: CHRISTIAN | H99: AA | J99: NO | K99: NO | L99: NO | M99: NO | N99: NO | O99: NO | P99: NO | Q99: NO | R99: NO | S99: NO | T99: NO | U99: NO | V99: NO | W99: YES | X99: 1 | Y99: 1 | Z99: 15 | AA99: NORMAL | AB99: 94 | AC99: NORMAL | AD99: 16.9 | AE99: NORMAL | AF99: NO | AG99: NORMAL | AH99: NIL | AI99: NO | AJ99: NO | AK99: NO | AL99: NO | AM99: 108 | AN99: NORMAL | AO99: NORMAL | AP99: NIL | AQ99: NORMAL | AR99: NORMAL | AS99: NIL | AT99: 24 | AU99: NORMAL | AV99: 100 | AW99: RESONANT | AX99: NORMAL | AY99: NIL | AZ99: 0 | BA99: 0 | BB99: NO | BC99: 31 | BD99: 108 | BE99: SINUS | BF99: 1 | BG99: 0.08 | BH99: 0.14 | BI99: NORMAL | BJ99: 0.44 | BK99: 1 | BL99: 0.08 | BM99: 2 | BN99: 16 | BO99: 10 | BP99: 0.63 | BQ99: 10 | BR99: 18 | BS99: 12 | BT99: 32
A100: 99 | B100: C | C100: 3 | D100: 45221 | E100: F | F100: SEMI-URBAN | G100: CHRISTIAN | H100: AA | J100: NO | K100: NO | L100: NO | M100: NO | N100: NO | O100: NO | P100: NO | Q100: NO | R100: NO | S100: NO | T100: NO | U100: NO | V100: NO | W100: NO | X100: 0 | Y100: 1 | Z100: 16 | AA100: NORMAL | AB100: 99 | AC100: NORMAL | AD100: 16.3 | AE100: NORMAL | AF100: NO | AG100: NORMAL | AH100: NIL | AI100: NO | AJ100: NO | AK100: NO | AL100: NO | AM100: 108 | AN100: NORMAL | AO100: NORMAL | AP100: NIL | AQ100: NORMAL | AR100: NORMAL | AS100: NIL | AT100: 22 | AU100: NORMAL | AV100: 99 | AW100: RESONANT | AX100: NORMAL | AY100: NIL | AZ100: 0 | BA100: 0 | BB100: NO | BC100: 36 | BD100: 106 | BE100: SINUS | BF100: 1 | BG100: 0.08 | BH100: 0.13 | BI100: NORMAL | BJ100: 0.4 | BK100: 1 | BL100: 0.08 | BM100: 2 | BN100: 14 | BO100: 12 | BP100: 0.86 | BQ100: 26 | BR100: 24 | BS100: 12 | BT100: 40
A101: 100 | B101: C | C101: 8 | D101: 45221 | E101: M | F101: SEMI-URBAN | G101: CHRISTIAN | H101: AA | J101: NO | K101: NO | L101: NO | M101: NO | N101: NO | O101: NO | P101: NO | Q101: NO | R101: NO | S101: NO | T101: NO | U101: NO | V101: NO | W101: NO | X101: 0 | Y101: 1 | Z101: 29 | AA101: NORMAL | AB101: 128 | AC101: NORMAL | AD101: 17.2 | AE101: NORMAL | AF101: NO | AG101: NORMAL | AH101: NIL | AI101: NO | AJ101: NO | AK101: NO | AL101: NO | AM101: 88 | AN101: NORMAL | AO101: NORMAL | AP101: NIL | AQ101: NORMAL | AR101: NORMAL | AS101: NIL | AT101: 20 | AU101: NORMAL | AV101: 98 | AW101: RESONANT | AX101: NORMAL | AY101: NIL | AZ101: 0 | BA101: 0 | BB101: NO | BC101: 37 | BD101: 90 | BE101: SINUS | BF101: 1 | BG101: 0.1 | BH101: 0.13 | BI101: NORMAL | BJ101: 0.37 | BK101: 1 | BL101: 0.08 | BM101: 2 | BN101: 16 | BO101: 10 | BP101: 0.63 | BQ101: 16 | BR101: 30 | BS101: 18 | BT101: 28
A102: 101 | B102: C | C102: 13 | D102: 45221 | E102: M | F102: RURAL | G102: CHRISTIAN | H102: AA | J102: NO | K102: NO | L102: NO | M102: NO | N102: NO | O102: NO | P102: NO | Q102: NO | R102: NO | S102: NO | T102: NO | U102: NO | V102: NO | W102: NO | X102: 0 | Y102: 4 | Z102: 49 | AA102: NORMAL | AB102: 167 | AC102: NORMAL | AD102: 17.5 | AE102: NORMAL | AF102: NO | AG102: NORMAL | AH102: NIL | AI102: NO | AJ102: NO | AK102: NO | AL102: NO | AM102: 74 | AN102: NORMAL | AO102: NORMAL | AP102: NIL | AQ102: NORMAL | AR102: NORMAL | AS102: NIL | AT102: 18 | AU102: NORMAL | AV102: 99 | AW102: RESONANT | AX102: NORMAL | AY102: NIL | AZ102: 0 | BA102: 0 | BB102: NO | BC102: 36 | BD102: 70 | BE102: SINUS | BF102: 1 | BG102: 0.1 | BH102: 0.14 | BI102: NORMAL | BJ102: 0.4 | BK102: 0 | BL102: 0.1 | BM102: 2 | BN102: 10 | BO102: 4 | BP102: 0.4 | BQ102: 12 | BR102: 30 | BS102: 24 | BT102: 60
A103: 102 | B103: C | C103: 4 | D103: 45221 | E103: M | F103: SEMI-URBAN | G103: CHRISTIAN | H103: AA | J103: NO | K103: NO | L103: NO | M103: NO | N103: NO | O103: NO | P103: NO | Q103: NO | R103: NO | S103: NO | T103: NO | U103: NO | V103: NO | W103: NO | X103: 0 | Y103: 2 | Z103: 21 | AA103: NORMAL | AB103: 119 | AC103: TALL STATURE | AD103: 14.8 | AE103: NORMAL | AF103: NO | AG103: NORMAL | AH103: NIL | AI103: NO | AJ103: NO | AK103: NO | AL103: NO | AM103: 72 | AN103: NORMAL | AO103: NORMAL | AP103: NIL | AQ103: NORMAL | AR103: NORMAL | AS103: NIL | AT103: 18 | AU103: NORMAL | AV103: 99 | AW103: RESONANT | AX103: NORMAL | AY103: NIL | AZ103: 0 | BA103: 0 | BB103: NO | BC103: 31 | BD103: 72 | BE103: SINUS | BF103: 1 | BG103: 0.1 | BH103: 0.15 | BI103: NORMAL | BJ103: 0.38 | BK103: 1 | BL103: 0.08 | BM103: 2 | BN103: 10 | BO103: 4 | BP103: 0.4 | BQ103: 20 | BR103: 40 | BS103: 20 | BT103: 36
... A136: 135 | B136: C | C136: 7 | D136: 45237 | E136: F | F136: RURAL | G136: CHRISTIAN | H136: AA | J136: NO | K136: NO | L136: NO | M136: NO | N136: NO | O136: NO | P136: NO | Q136: NO | R136: NO | S136: NO | T136: NO | U136: NO | V136: NO | W136: NO | X136: 0 | Y136: 2 | Z136: 25 | AA136: NORMAL | AB136: 125 | AC136: NORMAL | AD136: 16 | AE136: NORMAL | AF136: NO | AG136: NORMAL | AH136: NIL | AI136: NO | AJ136: NO | AK136: NO | AL136: NO | AM136: 86 | AN136: NORMAL | AO136: NORMAL | AP136: NIL | AQ136: NORMAL | AR136: NORMAL | AS136: NIL | AT136: 14 | AU136: NORMAL | AV136: 100 | AW136: RESONANT | AX136: NORMAL | AY136: NIL | AZ136: 0 | BA136: 0 | BB136: NO | BC136: 35 | BD136: 85 | BE136: SINUS | BF136: 1 | BG136: 0.1 | BH136: 0.14 | BI136: NORMAL | BJ136: 0.41 | BK136: 1 | BL136: 0.08 | BM136: 2 | BN136: 10 | BO136: 4 | BP136: 0.4 | BQ136: 8 | BR136: 30 | BS136: 20 | BT136: 36

Sheet Mahjeeq_
A1: Serial | B1: Group | C1: Age | D1: Age_Group | E1: Sample Date | F1: Sex | G1: Address | H1: Genotype | I1: Diagnosed (years ago) | J1: Fever | K1: Fatigue | L1: On Any Medication | M1: Folate | N1: Bcomplex | O1: Paludrin | P1: Hydroxyurea | Q1: Penicillin V | R1: Cefuroxime | S1: Diclofenac | T1: History of Blood Transfusion | U1: How Many Times? | V1: Socioeconomic Class | W1: Weight (Kg) | X1: Weight (categories) | Y1: Height/ Length (cm) | Z1: Height Categories | AA1: BMI(Kg/M2) | AB1: BMI Mahjeeq | AC1: BMI Categories | AD1: Pallor | AE1: Temperature | AF1: Jaundice | AG1: Pulse Rate (Beats per Min) | AH1: Pulse Rate Categories | AI1: Apex Beat | AJ1: Respiratory Rate (Cycles per min) | AK1: Respiratory Rate categories | AL1: SpO2 (%) | AM1: Liver Enlargement (cm) | AN1: Spleen Enlargement (cm) | AO1: Blood Pressure Systolic | AP1: Blood Pressure Diastolic | AQ1: Blood Pressure Centile | AR1: PCV (%) | AS1: Hb (g/dL) | AT1: Severe Anaemia | AU1: Degree of Anaemia | AV1: Total WBC | AW1: Platelet Count | AX1: TYPE OF CRISIS | AY1: ECG HR (Beats per min) | AZ1: ECG HR Category | BA1: ECG Rhythm | BB1: ECG P wave Amplitude (Velocity mm) | BC1: ECG P Duration (secs) | BD1: ECG P wave Duration Category | BE1: ECG PR Interval (secs) | BF1: ECG PR Invertal Cat | BG1: ECG Axis | BH1: ECG QTc (Secs) | BI1: ECG QTc Cat | BJ1: ECG ST SEGMENT (MM) | BK1: ECG ST Segment Cat | BL1: ECG QRS Duration | BM1: ECG T wave Amplitude (mm) | BN1: ECG SV1 (mm) | BO1: ECG RV1 (mm) | BP1: ECG RV1 Category | BQ1: ECG V1 R/S | BR1: ECG V1 R/S Category | BS1: ECG SV2 (mm) | BT1: ECG RV 5 (mm) | BU1: ECG RV6 (mm) | BV1: ECG RV6 Category | BW1: ECG V3 R + S (mm) | BX1: Severity Score | BY1: ABNORMAL FINDINGS
A2: 1 | B2: A | C2: 16 | D2: =IF(C2>13,"14 - 17",IF(C2>9,"10 - 13",IF(C2>5,"6 - 9","2 - 5"))) -> 14 - 17 | E2: 44951 | F2: Female | G2: Rural | H2: Stable HbSS | I2: 15 | J2: No | K2: Yes | L2: Yes | M2: Yes | N2: Yes | O2: Yes | P2: Yes | Q2: No | R2: No | S2: No | T2: No | U2: 0 | V2: 1 | W2: 70 | X2: Normal | Y2: 176 | Z2: Normal | AA2: 21.6 | AB2: =W2/(((Y2/100))^2) -> 22.59814 | AC2: Normal | AD2: Yes | AE2: Normal | AF2: Yes | AG2: 96 | AH2: Normal | AI2: Normal | AJ2: 24 | AK2: Tachypnoea | AL2: 98 | AM2: 0 | AN2: 0 | AO2: 120 | AP2: 80 | AQ2: 50th-90th/50th-90th | AR2: 26 | AS2: =AR2/3 -> 8.6666667 | AT2: =IF(AS2>6.99,"No","Yes") -> No | AU2: =IF(AR2>32,"Normal",IF(AR2>29,"Mild",IF(AR2>20,"Moderate","Severe"))) -> Moderate | AV2: 21000 | AW2: 190000 | AX2: NA | AY2: 94 | AZ2: Normal | BA2: Sinus | BB2: 1 | BC2: 0.08 | BD2: =IF(BC2<0.12,"Normal","Abnormal") -> Normal | BE2: 0.12 | BF2: Normal | BG2: Normal | BH2: 0.33 | BI2: =IF(BH2>0.46,"Prolonged","Normal") -> Normal | BJ2: 1 | BK2: Normal | BL2: 0.08 | BM2: 2 | BN2: 12 | BO2: 8 | BP2: =IF(BO2>24,"Abnormal","Normal") -> Normal | BQ2: 0.67 | BR2: =IF(BQ2>1,"Abnormal","Normal") -> Normal | BS2: 16 | BT2: 22 | BU2: 18 | BV2: =IF(BU2>25,"Abnormal","Normal") -> Normal | BW2: 20 | BX2: Mild | BY2: NIL
A3: 2 | B3: A | C3: 13 | D3: =IF(C3>13,"14 - 17",IF(C3>9,"10 - 13",IF(C3>5,"6 - 9","2 - 5"))) -> 10 - 13 | E3: 44951 | F3: Male | G3: Rural | H3: Stable HbSS | I3: 12 | J3: No | K3: Yes | L3: Yes | M3: Yes | N3: Yes | O3: Yes | P3: Yes | Q3: No | R3: No | S3: No | T3: Yes | U3: 2 | V3: 1 | W3: 44.5 | X3: Normal | Y3: 162 | Z3: Normal | AA3: 17 | AB3: =W3/(((Y3/100))^2) -> 16.956257 | AC3: Normal | AD3: Yes | AE3: Normal | AF3: Yes | AG3: 90 | AH3: Normal | AI3: Normal | AJ3: 22 | AK3: Tachypnoea | AL3: 99 | AM3: 0 | AN3: 0 | AO3: 110 | AP3: 70 | AQ3: 50th-90th/50th-90th | AR3: 23 | AS3: =AR3/3 -> 7.6666667 | AT3: =IF(AS3>6.99,"No","Yes") -> No | AU3: =IF(AR3>32,"Normal",IF(AR3>29,"Mild",IF(AR3>20,"Moderate","Severe"))) -> Moderate | AV3: 33600 | AW3: 188000 | AY3: 94 | AZ3: Normal | BA3: Sinus | BB3: 1 | BC3: 0.04 | BD3: =IF(BC3<0.12,"Normal","Abnormal") -> Normal | BE3: 0.16 | BF3: Normal | BG3: Superior Axis | BH3: 0.5 | BI3: =IF(BH3>0.46,"Prolonged","Normal") -> Prolonged | BJ3: 1 | BK3: Normal | BL3: 0.04 | BM3: 2 | BN3: 18 | BO3: 10 | BP3: =IF(BO3>24,"Abnormal","Normal") -> Normal | BQ3: 0.56 | BR3: =IF(BQ3>1,"Abnormal","Normal") -> Normal | BS3: 16 | BT3: 26 | BU3: 12 | BV3: =IF(BU3>25,"Abnormal","Normal") -> Normal | BW3: 20 | BX3: Mild | BY3: SUPERIOR AXIS DEVIIATION, PROLONGED QTC
A4: 3 | B4: A | C4: 4 | D4: =IF(C4>13,"14 - 17",IF(C4>9,"10 - 13",IF(C4>5,"6 - 9","2 - 5"))) -> 2 - 5 | E4: 44951 | F4: Male | G4: Urban | H4: Stable HbSS | I4: 2 | J4: No | K4: No | L4: Yes | M4: Yes | N4: Yes | O4: Yes | P4: No | Q4: Yes | R4: No | S4: No | T4: Yes | U4: 1 | V4: 1 | W4: 20 | X4: Normal | Y4: 107 | Z4: Normal | AA4: 17.5 | AB4: =W4/(((Y4/100))^2) -> 17.468775 | AC4: Normal | AD4: Yes | AE4: Normal | AF4: No | AG4: 110 | AH4: Normal | AI4: Normal | AJ4: 22 | AK4: Normal | AL4: 98 | AM4: 0 | AN4: 0 | AO4: 90 | AP4: 40 | AQ4: 50th/50th | AR4: 29 | AS4: =AR4/3 -> 9.6666667 | AT4: =IF(AS4>6.99,"No","Yes") -> No | AU4: =IF(AR4>32,"Normal",IF(AR4>29,"Mild",IF(AR4>20,"Moderate","Severe"))) -> Moderate | AV4: 12500 | AW4: 192000 | AY4: 107 | AZ4: Normal | BA4: Sinus | BB4: 1 | BC4: 0.04 | BD4: =IF(BC4<0.12,"Normal","Abnormal") -> Normal | BE4: 0.12 | BF4: Normal | BG4: Normal | BH4: 0.4 | BI4: =IF(BH4>0.46,"Prolonged","Normal") -> Normal | BJ4: 0 | BK4: Normal | BL4: 0.06 | BM4: 2 | BN4: 16 | BO4: 8 | BP4: =IF(BO4>24,"Abnormal","Normal") -> Normal | BQ4: 0.5 | BR4: =IF(BQ4>1,"Abnormal","Normal") -> Normal | BS4: 22 | BT4: 20 | BU4: 12 | BV4: =IF(BU4>25,"Abnormal","Normal") -> Normal | BW4: 46 | BX4: Mild | BY4: NIL
A5: 4 | B5: A | C5: 12 | D5: =IF(C5>13,"14 - 17",IF(C5>9,"10 - 13",IF(C5>5,"6 - 9","2 - 5"))) -> 10 - 13 | E5: 44951 | F5: Female | G5: Semi-Urban | H5: Stable HbSS | I5: 4 | J5: No | K5: Yes | L5: Yes | M5: Yes | N5: Yes | O5: Yes | P5: Yes | Q5: No | R5: No | S5: No | T5: Yes | U5: 3 | V5: 3 | W5: 36 | X5: Normal | Y5: 151 | Z5: Normal | AA5: 16 | AB5: =W5/(((Y5/100))^2) -> 15.788781 | AC5: Normal | AD5: Yes | AE5: Normal | AF5: No | AG5: 120 | AH5: Tachycardia | AI5: Normal | AJ5: 18 | AK5: Normal | AL5: 97 | AM5: 0 | AN5: 0 | AO5: 110 | AP5: 80 | AQ5: 50th-90th/95th | AR5: 26 | AS5: =AR5/3 -> 8.6666667 | AT5: =IF(AS5>6.99,"No","Yes") -> No | AU5: =IF(AR5>32,"Normal",IF(AR5>29,"Mild",IF(AR5>20,"Moderate","Severe"))) -> Moderate | AV5: 18000 | AW5: 431000 | AY5: 107 | AZ5: Tachycardia | BA5: Sinus | BB5: 1 | BC5: 0.04 | BD5: =IF(BC5<0.12,"Normal","Abnormal") -> Normal | BE5: 0.12 | BF5: Normal | BG5: Normal | BH5: 0.43 | BI5: =IF(BH5>0.46,"Prolonged","Normal") -> Normal | BJ5: 0 | BK5: Normal | BL5: 0.06 | BM5: 1 | BN5: 18 | BO5: 8 | BP5: =IF(BO5>24,"Abnormal","Normal") -> Normal | BQ5: 0.44 | BR5: =IF(BQ5>1,"Abnormal","Normal") -> Normal | BS5: 22 | BT5: 25 | BU5: 16 | BV5: =IF(BU5>25,"Abnormal","Normal") -> Normal | BW5: 27 | BX5: Mild | BY5: SINUS TACHYCARDIA
A6: 5 | B6: A | C6: 16 | D6: =IF(C6>13,"14 - 17",IF(C6>9,"10 - 13",IF(C6>5,"6 - 9","2 - 5"))) -> 14 - 17 | E6: 45154 | F6: Male | G6: Rural | H6: Stable HbSS | I6: 1 | J6: No | K6: No | L6: Yes | M6: Yes | N6: Yes | O6: Yes | P6: No | Q6: No | R6: No | S6: No | T6: Yes | U6: 1 | V6: 3 | W6: 36.5 | X6: Normal | Y6: 151 | Z6: Stunted | AA6: 16.2 | AB6: =W6/(((Y6/100))^2) -> 16.00807 | AC6: Underweight | AD6: Yes | AE6: Normal | AF6: Yes | AG6: 98 | AH6: Normal | AI6: Displaced | AJ6: 20 | AK6: Normal | AL6: 99 | AM6: 0 | AN6: 0 | AO6: 130 | AP6: 90 | AQ6: 95th-99th/99th | AR6: 23 | AS6: =AR6/3 -> 7.6666667 | AT6: =IF(AS6>6.99,"No","Yes") -> No | AU6: =IF(AR6>32,"Normal",IF(AR6>29,"Mild",IF(AR6>20,"Moderate","Severe"))) -> Moderate | AV6: 8500 | AW6: 999000 | AY6: 100 | AZ6: Normal | BA6: Sinus | BB6: 1 | BC6: 0.04 | BD6: =IF(BC6<0.12,"Normal","Abnormal") -> Normal | BE6: 0.2 | BF6: Prolonged | BG6: Normal | BH6: 0.58 | BI6: =IF(BH6>0.46,"Prolonged","Normal") -> Prolonged | BJ6: 1 | BK6: Normal | BL6: 0.1 | BM6: 2 | BN6: 12 | BO6: 6 | BP6: =IF(BO6>24,"Abnormal","Normal") -> Normal | BQ6: 0.5 | BR6: =IF(BQ6>1,"Abnormal","Normal") -> Normal | BS6: 14 | BT6: 44 | BU6: 48 | BV6: =IF(BU6>25,"Abnormal","Normal") -> Abnormal | BW6: 52 | BX6: Mild | BY6: LVH, PROLONGED QTC
A7: 6 | B7: A | C7: 15 | D7: =IF(C7>13,"14 - 17",IF(C7>9,"10 - 13",IF(C7>5,"6 - 9","2 - 5"))) -> 14 - 17 | E7: 45154 | F7: Male | G7: Urban | H7: Stable HbSS | I7: 1 | J7: No | K7: No | L7: Yes | M7: Yes | N7: Yes | O7: Yes | P7: Yes | Q7: No | R7: No | S7: No | T7: Yes | U7: 1 | V7: 3 | W7: 47 | X7: Normal | Y7: 160 | Z7: Normal | AA7: 18.4 | AB7: =W7/(((Y7/100))^2) -> 18.359375 | AC7: Normal | AD7: Yes | AE7: Normal | AF7: Yes | AG7: 86 | AH7: Normal | AI7: Normal | AJ7: 22 | AK7: Tachypnoea | AL7: 98 | AM7: 0 | AN7: 0 | AO7: 110 | AP7: 70 | AQ7: 50th/50th | AR7: 29 | AS7: =AR7/3 -> 9.6666667 | AT7: =IF(AS7>6.99,"No","Yes") -> No | AU7: =IF(AR7>32,"Normal",IF(AR7>29,"Mild",IF(AR7>20,"Moderate","Severe"))) -> Moderate | AV7: 9100 | AW7: 486000 | AY7: 96 | AZ7: Normal | BA7: Sinus | BB7: 1 | BC7: 0.04 | BD7: =IF(BC7<0.12,"Normal","Abnormal") -> Normal | BE7: 0.14 | BF7: Normal | BG7: Normal | BH7: 0.42 | BI7: =IF(BH7>0.46,"Prolonged","Normal") -> Normal | BJ7: 1 | BK7: Normal | BL7: 0.1 | BM7: 1 | BN7: 12 | BO7: 4 | BP7: =IF(BO7>24,"Abnormal","Normal") -> Normal | BQ7: 0.33 | BR7: =IF(BQ7>1,"Abnormal","Normal") -> Normal | BS7: 20 | BT7: 44 | BU7: 28 | BV7: =IF(BU7>25,"Abnormal","Normal") -> Abnormal | BW7: 60 | BX7: Mild | BY7: LVH
A8: 7 | B8: A | C8: 7 | D8: =IF(C8>13,"14 - 17",IF(C8>9,"10 - 13",IF(C8>5,"6 - 9","2 - 5"))) -> 6 - 9 | E8: 44965 | F8: Female | G8: Rural | H8: Stable HbSS | I8: 3 | J8: No | K8: No | L8: Yes | M8: Yes | N8: Yes | O8: Yes | P8: No | Q8: Yes | R8: No | S8: No | T8: Yes | U8: 1 | V8: 3 | W8: 21 | X8: Normal | Y8: 116.2 | Z8: Normal | AA8: 15.6 | AB8: =W8/(((Y8/100))^2) -> 15.552745 | AC8: Normal | AD8: Yes | AE8: Normal | AF8: Yes | AG8: 92 | AH8: Normal | AI8: Normal | AJ8: 22 | AK8: Normal | AL8: 98 | AM8: 0 | AN8: 4 | AO8: 90 | AP8: 60 | AQ8: <50th/50th-90th | AR8: 29 | AS8: =AR8/3 -> 9.6666667 | AT8: =IF(AS8>6.99,"No","Yes") -> No | AU8: =IF(AR8>32,"Normal",IF(AR8>29,"Mild",IF(AR8>20,"Moderate","Severe"))) -> Moderate | AV8: 8200 | AW8: 189000 | AY8: 100 | AZ8: Normal | BA8: Sinus | BB8: 1 | BC8: 0.04 | BD8: =IF(BC8<0.12,"Normal","Abnormal") -> Normal | BE8: 0.16 | BF8: Normal | BG8: Normal | BH8: 0.43 | BI8: =IF(BH8>0.46,"Prolonged","Normal") -> Normal | BJ8: 0 | BK8: Normal | BL8: 0.04 | BM8: 2 | BN8: 10 | BO8: 4 | BP8: =IF(BO8>24,"Abnormal","Normal") -> Normal | BQ8: 0.4 | BR8: =IF(BQ8>1,"Abnormal","Normal") -> Normal | BS8: 1 | BT8: 36 | BU8: 16 | BV8: =IF(BU8>25,"Abnormal","Normal") -> Normal | BW8: 34 | BX8: Mild | BY8: NIL
A9: 8 | B9: A | C9: 2 | D9: =IF(C9>13,"14 - 17",IF(C9>9,"10 - 13",IF(C9>5,"6 - 9","2 - 5"))) -> 2 - 5 | E9: 44972 | F9: Female | G9: Rural | H9: Stable HbSS | I9: 0.42 | J9: No | K9: No | L9: Yes | M9: Yes | N9: Yes | O9: Yes | P9: No | Q9: Yes | R9: No | S9: No | T9: Yes | U9: 1 | V9: 1 | W9: 14.5 | X9: Normal | Y9: 90 | Z9: Normal | AA9: 17.9 | AB9: =W9/(((Y9/100))^2) -> 17.901235 | AC9: Normal | AD9: Yes | AE9: Normal | AF9: No | AG9: 98 | AH9: Normal | AI9: Normal | AJ9: 28 | AK9: Normal | AL9: 87 | AM9: 4 | AN9: 8 | AO9: 80 | AP9: 40 | AQ9: <50th/<50th | AR9: 22 | AS9: =AR9/3 -> 7.3333333 | AT9: =IF(AS9>6.99,"No","Yes") -> No | AU9: =IF(AR9>32,"Normal",IF(AR9>29,"Mild",IF(AR9>20,"Moderate","Severe"))) -> Moderate | AV9: 25700 | AW9: 258000 | AY9: 94 | AZ9: Normal | BA9: Sinus | BB9: 1 | BC9: 0.04 | BD9: =IF(BC9<0.12,"Normal","Abnormal") -> Normal | BE9: 0.14 | BF9: Normal | BG9: Normal | BH9: 0.4 | BI9: =IF(BH9>0.46,"Prolonged","Normal") -> Normal | BJ9: 1 | BK9: Normal | BL9: 0.08 | BM9: 2 | BN9: 4 | BO9: 2 | BP9: =IF(BO9>24,"Abnormal","Normal") -> Normal | BQ9: 0.5 | BR9: =IF(BQ9>1,"Abnormal","Normal") -> Normal | BS9: 16 | BT9: 12 | BU9: 12 | BV9: =IF(BU9>25,"Abnormal","Normal") -> Normal | BW9: 28 | BX9: Mild | BY9: NIL
A10: 9 | B10: A | C10: 10 | D10: =IF(C10>13,"14 - 17",IF(C10>9,"10 - 13",IF(C10>5,"6 - 9","2 - 5"))) -> 10 - 13 | E10: 44972 | F10: Male | G10: Rural | H10: Stable HbSS | I10: 6 | J10: No | K10: No | L10: Yes | M10: Yes | N10: Yes | O10: Yes | P10: Yes | Q10: No | R10: No | S10: No | T10: Yes | U10: 1 | V10: 3 | W10: 28 | X10: Normal | Y10: 133.5 | Z10: Normal | AA10: 15.6 | AB10: =W10/(((Y10/100))^2) -> 15.710699 | AC10: Normal | AD10: Yes | AE10: Normal | AF10: No | AG10: 88 | AH10: Normal | AI10: Normal | AJ10: 20 | AK10: Normal | AL10: 99 | AM10: 0 | AN10: 0 | AO10: 100 | AP10: 60 | AQ10: <50th/<50th | AR10: 23 | AS10: =AR10/3 -> 7.6666667 | AT10: =IF(AS10>6.99,"No","Yes") -> No | AU10: =IF(AR10>32,"Normal",IF(AR10>29,"Mild",IF(AR10>20,"Moderate","Severe"))) -> Moderate | AV10: 11900 | AW10: 450000 | AY10: 83 | AZ10: Normal | BA10: Sinus | BB10: 1 | BC10: 0.04 | BD10: =IF(BC10<0.12,"Normal","Abnormal") -> Normal | BE10: 0.1 | BF10: Normal | BG10: Normal | BH10: 0.42 | BI10: =IF(BH10>0.46,"Prolonged","Normal") -> Normal | BJ10: 0 | BK10: Normal | BL10: 0.08 | BM10: 1 | BN10: 12 | BO10: 4 | BP10: =IF(BO10>24,"Abnormal","Normal") -> Normal | BQ10: 0.33 | BR10: =IF(BQ10>1,"Abnormal","Normal") -> Normal | BS10: 14 | BT10: 22 | BU10: 12 | BV10: =IF(BU10>25,"Abnormal","Normal") -> Normal | BW10: 46 | BX10: Mild | BY10: NIL
A11: 10 | B11: A | C11: 14 | D11: =IF(C11>13,"14 - 17",IF(C11>9,"10 - 13",IF(C11>5,"6 - 9","2 - 5"))) -> 14 - 17 | E11: 44972 | F11: Female | G11: Rural | H11: Stable HbSS | I11: 13 | J11: No | K11: Yes | L11: Yes | M11: Yes | N11: Yes | O11: Yes | P11: Yes | Q11: No | R11: No | S11: No | T11: Yes | U11: 4 | V11: 3 | W11: 41 | X11: Normal | Y11: 148 | Z11: Stunted | AA11: 18.7 | AB11: =W11/(((Y11/100))^2) -> 18.718042 | AC11: Normal | AD11: Yes | AE11: Normal | AF11: No | AG11: 120 | AH11: Tachycardia | AI11: Normal | AJ11: 22 | AK11: Tachypnoea | AL11: 97 | AM11: 0 | AN11: 0 | AO11: 90 | AP11: 60 | AQ11: <50th/<50th | AR11: 27 | AS11: =AR11/3 -> 9 | AT11: =IF(AS11>6.99,"No","Yes") -> No | AU11: =IF(AR11>32,"Normal",IF(AR11>29,"Mild",IF(AR11>20,"Moderate","Severe"))) -> Moderate | AV11: 47000 | AW11: 373000 | AY11: 125 | AZ11: Tachycardia | BA11: Sinus | BB11: 1 | BC11: 0.06 | BD11: =IF(BC11<0.12,"Normal","Abnormal") -> Normal | BE11: 0.12 | BF11: Normal | BG11: Normal | BH11: 0.36 | BI11: =IF(BH11>0.46,"Prolonged","Normal") -> Normal | BJ11: 0 | BK11: Normal | BL11: 0.08 | BM11: 1 | BN11: 18 | BO11: 4 | BP11: =IF(BO11>24,"Abnormal","Normal") -> Normal | BQ11: 0.22 | BR11: =IF(BQ11>1,"Abnormal","Normal") -> Normal | BS11: 8 | BT11: 24 | BU11: 18 | BV11: =IF(BU11>25,"Abnormal","Normal") -> Normal | BW11: 28 | BX11: Moderate | BY11: SINUS TACHYCARDIA
A12: 11 | B12: A | C12: 9 | D12: =IF(C12>13,"14 - 17",IF(C12>9,"10 - 13",IF(C12>5,"6 - 9","2 - 5"))) -> 6 - 9 | E12: 44986 | F12: Male | G12: Rural | H12: Stable HbSS | I12: 4 | J12: No | K12: Yes | L12: Yes | M12: Yes | N12: Yes | O12: Yes | P12: Yes | Q12: No | R12: No | S12: No | T12: Yes | U12: 2 | V12: 3 | W12: 23.5 | X12: Normal | Y12: 124.5 | Z12: Normal | AA12: 15.2 | AB12: =W12/(((Y12/100))^2) -> 15.161046 | AC12: Normal | AD12: Yes | AE12: Normal | AF12: Yes | AG12: 76 | AH12: Normal | AI12: Normal | AJ12: 20 | AK12: Normal | AL12: 98 | AM12: 0 | AN12: 0 | AO12: 100 | AP12: 60 | AQ12: 50th-90th/50th | AR12: 24 | AS12: =AR12/3 -> 8 | AT12: =IF(AS12>6.99,"No","Yes") -> No | AU12: =IF(AR12>32,"Normal",IF(AR12>29,"Mild",IF(AR12>20,"Moderate","Severe"))) -> Moderate | AV12: 16800 | AW12: 233000 | AY12: 68 | AZ12: Normal | BA12: Sinus | BB12: 2 | BC12: 0.04 | BD12: =IF(BC12<0.12,"Normal","Abnormal") -> Normal | BE12: 0.16 | BF12: Normal | BG12: Normal | BH12: 0.4 | BI12: =IF(BH12>0.46,"Prolonged","Normal") -> Normal | BJ12: 0 | BK12: Normal | BL12: 0.08 | BM12: 1 | BN12: 12 | BO12: 4 | BP12: =IF(BO12>24,"Abnormal","Normal") -> Normal | BQ12: 0.33 | BR12: =IF(BQ12>1,"Abnormal","Normal") -> Normal | BS12: 20 | BT12: 24 | BU12: 18 | BV12: =IF(BU12>25,"Abnormal","Normal") -> Normal | BW12: 18 | BX12: Mild | BY12: NIL
A13: 12 | B13: A | C13: 3 | D13: =IF(C13>13,"14 - 17",IF(C13>9,"10 - 13",IF(C13>5,"6 - 9","2 - 5"))) -> 2 - 5 | E13: 44986 | F13: Female | G13: Rural | H13: Stable HbSS | I13: 2 | J13: No | K13: No | L13: Yes | M13: Yes | N13: Yes | O13: Yes | P13: No | Q13: Yes | R13: No | S13: No | T13: No | U13: 0 | V13: 3 | W13: 9 | X13: Underweight | Y13: 95.5 | Z13: Stunted | AA13: 9.8 | AB13: =W13/(((Y13/100))^2) -> 9.8681505 | AC13: Underweight | AD13: No | AE13: Normal | AF13: No | AG13: 110 | AH13: Normal | AI13: Normal | AJ13: 22 | AK13: Normal | AL13: 97 | AM13: 0 | AN13: 0 | AO13: 88 | AP13: 60 | AQ13: 50th-90th/50th-90th | AR13: 30 | AS13: =AR13/3 -> 10 | AT13: =IF(AS13>6.99,"No","Yes") -> No | AU13: =IF(AR13>32,"Normal",IF(AR13>29,"Mild",IF(AR13>20,"Moderate","Severe"))) -> Mild | AV13: 22900 | AW13: 523000 | AY13: 96 | AZ13: Normal | BA13: Sinus | BB13: 1 | BC13: 0.04 | BD13: =IF(BC13<0.12,"Normal","Abnormal") -> Normal | BE13: 0.14 | BF13: Normal | BG13: Normal | BH13: 0.4 | BI13: =IF(BH13>0.46,"Prolonged","Normal") -> Normal | BJ13: 1 | BK13: Normal | BL13: 0.06 | BM13: 1 | BN13: 4 | BO13: 2 | BP13: =IF(BO13>24,"Abnormal","Normal") -> Normal | BQ13: 0.5 | BR13: =IF(BQ13>1,"Abnormal","Normal") -> Normal | BS13: 14 | BT13: 15 | BU13: 16 | BV13: =IF(BU13>25,"Abnormal","Normal") -> Normal | BW13: 40 | BX13: Mild | BY13: NIL
A14: 13 | B14: A | C14: 13 | D14: =IF(C14>13,"14 - 17",IF(C14>9,"10 - 13",IF(C14>5,"6 - 9","2 - 5"))) -> 10 - 13 | E14: 44986 | F14: Female | G14: Urban | H14: Stable HbSS | I14: 4 | J14: No | K14: Yes | L14: Yes | M14: Yes | N14: Yes | O14: Yes | P14: Yes | Q14: No | R14: No | S14: No | T14: Yes | U14: 1 | V14: 3 | W14: 34 | X14: Normal | Y14: 148 | Z14: Normal | AA14: 15.5 | AB14: =W14/(((Y14/100))^2) -> 15.522279 | AC14: Normal | AD14: Yes | AE14: Normal | AF14: Yes | AG14: 98 | AH14: Normal | AI14: Normal | AJ14: 18 | AK14: Normal | AL14: 100 | AM14: 0 | AN14: 0 | AO14: 100 | AP14: 60 | AQ14: <50th/<50th | AR14: 27 | AS14: =AR14/3 -> 9 | AT14: =IF(AS14>6.99,"No","Yes") -> No | AU14: =IF(AR14>32,"Normal",IF(AR14>29,"Mild",IF(AR14>20,"Moderate","Severe"))) -> Moderate | AV14: 41600 | AW14: 272000 | AY14: 88 | AZ14: Normal | BA14: Sinus | BB14: 1 | BC14: 0.04 | BD14: =IF(BC14<0.12,"Normal","Abnormal") -> Normal | BE14: 0.18 | BF14: Normal | BG14: Normal | BH14: 0.4 | BI14: =IF(BH14>0.46,"Prolonged","Normal") -> Normal | BJ14: 0 | BK14: Normal | BL14: 0.08 | BM14: 1 | BN14: 10 | BO14: 4 | BP14: =IF(BO14>24,"Abnormal","Normal") -> Normal | BQ14: 0.4 | BR14: =IF(BQ14>1,"Abnormal","Normal") -> Normal | BS14: 20 | BT14: 24 | BU14: 16 | BV14: =IF(BU14>25,"Abnormal","Normal") -> Normal | BW14: 48 | BX14: Mild | BY14: NIL
... A44: 43 | B44: A | C44: 15 | D44: =IF(C44>13,"14 - 17",IF(C44>9,"10 - 13",IF(C44>5,"6 - 9","2 - 5"))) -> 14 - 17 | E44: 45210 | F44: Male | G44: Semi-Urban | H44: Stable HbSS | I44: 14 | J44: No | K44: No | L44: Yes | M44: Yes | N44: Yes | O44: Yes | P44: Yes | Q44: No | R44: No | S44: No | T44: No | U44: 0 | V44: 2 | W44: 55 | X44: Normal | Y44: 170.5 | Z44: Normal | AA44: 19 | AB44: =W44/(((Y44/100))^2) -> 18.919686 | AC44: Normal | AD44: Yes | AE44: Normal | AF44: No | AG44: 78 | AH44: Normal | AI44: Normal | AJ44: 16 | AK44: Normal | AL44: 100 | AM44: 0 | AN44: 0 | AO44: 110 | AP44: 70 | AQ44: 50th/50th | AR44: 26 | AS44: =AR44/3 -> 8.6666667 | AT44: =IF(AS44>6.99,"No","Yes") -> No | AU44: =IF(AR44>32,"Normal",IF(AR44>29,"Mild",IF(AR44>20,"Moderate","Severe"))) -> Moderate | AV44: 9200 | AW44: 346000 | AY44: 75 | AZ44: Normal | BA44: Sinus | BB44: 1 | BC44: 0.1 | BD44: =IF(BC44<0.12,"Normal","Abnormal") -> Normal | BE44: 0.15 | BF44: Normal | BG44: Normal | BH44: 0.42 | BI44: =IF(BH44>0.46,"Prolonged","Normal") -> Normal | BJ44: 1 | BK44: Normal | BL44: 0.1 | BM44: 1 | BN44: 28 | BO44: 12 | BP44: =IF(BO44>24,"Abnormal","Normal") -> Normal | BQ44: 0.43 | BR44: =IF(BQ44>1,"Abnormal","Normal") -> Normal | BS44: 12 | BT44: 38 | BU44: 28 | BV44: =IF(BU44>25,"Abnormal","Normal") -> Abnormal | BW44: 32 | BX44: Mild | BY44: LVH
A45: 44 | B45: A | C45: 3 | D45: =IF(C45>13,"14 - 17",IF(C45>9,"10 - 13",IF(C45>5,"6 - 9","2 - 5"))) -> 2 - 5 | E45: 45210 | F45: Male | G45: Semi-Urban | H45: Stable HbSS | I45: 2 | J45: No | K45: No | L45: Yes | M45: Yes | N45: Yes | O45: Yes | P45: No | Q45: Yes | R45: No | S45: No | T45: No | U45: 0 | V45: 1 | W45: 18 | X45: Overweight | Y45: 101 | Z45: Normal | AA45: 17.6 | AB45: =W45/(((Y45/100))^2) -> 17.645329 | AC45: OVERWEIGHT | AD45: Yes | AE45: Normal | AF45: No | AG45: 130 | AH45: Tachycardia | AI45: Normal | AJ45: 28 | AK45: Normal | AL45: 99 | AM45: 0 | AN45: 0 | AO45: 105 | AP45: 60 | AQ45: 90th/90th | AR45: 24 | AS45: =AR45/3 -> 8 | AT45: =IF(AS45>6.99,"No","Yes") -> No | AU45: =IF(AR45>32,"Normal",IF(AR45>29,"Mild",IF(AR45>20,"Moderate","Severe"))) -> Moderate | AV45: 17100 | AW45: 138000 | AX45: NA | AY45: 132 | AZ45: Tachycardia | BA45: Sinus | BB45: 1 | BC45: 0.12 | BD45: =IF(BC45<0.12,"Normal","Abnormal") -> Abnormal | BE45: 0.15 | BF45: Normal | BG45: Normal | BH45: 0.47 | BI45: =IF(BH45>0.46,"Prolonged","Normal") -> Prolonged | BJ45: 1 | BK45: Normal | BL45: 0.08 | BM45: 1 | BN45: 32 | BO45: 28 | BP45: =IF(BO45>24,"Abnormal","Normal") -> Abnormal | BQ45: 0.88 | BR45: =IF(BQ45>1,"Abnormal","Normal") -> Normal | BS45: 28 | BT45: 32 | BU45: 28 | BV45: =IF(BU45>25,"Abnormal","Normal") -> Abnormal | BW45: 44 | BX45: Mild | BY45: LAH, LVH. SINUS TACHYCARDIA, PROLONGED QTC
A46: 45 | B46: A | C46: 13 | D46: =IF(C46>13,"14 - 17",IF(C46>9,"10 - 13",IF(C46>5,"6 - 9","2 - 5"))) -> 10 - 13 | E46: 45224 | F46: Male | G46: Semi-Urban | H46: Stable HbSS | I46: 10 | J46: No | K46: No | L46: Yes | M46: Yes | N46: Yes | O46: Yes | P46: Yes | Q46: No | R46: No | S46: No | T46: Yes | U46: 1 | V46: 1 | W46: 33 | X46: Normal | Y46: 142 | Z46: Normal | AA46: 16.4 | AB46: =W46/(((Y46/100))^2) -> 16.3658 | AC46: Normal | AD46: Yes | AE46: Normal | AF46: No | AG46: 70 | AH46: Normal | AI46: Normal | AJ46: 18 | AK46: Normal | AL46: 99 | AM46: 0 | AN46: 0 | AO46: 110 | AP46: 70 | AQ46: 50th/90th | AR46: 24 | AS46: =AR46/3 -> 8 | AT46: =IF(AS46>6.99,"No","Yes") -> No | AU46: =IF(AR46>32,"Normal",IF(AR46>29,"Mild",IF(AR46>20,"Moderate","Severe"))) -> Moderate | AV46: 7500 | AW46: 415000 | AX46: NA | AY46: 70 | AZ46: Normal | BA46: Sinus | BB46: 1 | BC46: 0.1 | BD46: =IF(BC46<0.12,"Normal","Abnormal") -> Normal | BE46: 0.18 | BF46: Normal | BG46: Normal | BH46: 0.42 | BI46: =IF(BH46>0.46,"Prolonged","Normal") -> Normal | BJ46: 0 | BK46: Normal | BL46: 0.09 | BM46: 2 | BN46: 24 | BO46: 20 | BP46: =IF(BO46>24,"Abnormal","Normal") -> Normal | BQ46: 0.83 | BR46: =IF(BQ46>1,"Abnormal","Normal") -> Normal | BS46: 32 | BT46: 48 | BU46: 40 | BV46: =IF(BU46>25,"Abnormal","Normal") -> Abnormal | BW46: 60 | BX46: Mild | BY46: LVH
A47: 46 | B47: B | C47: 7 | D47: =IF(C47>13,"14 - 17",IF(C47>9,"10 - 13",IF(C47>5,"6 - 9","2 - 5"))) -> 6 - 9 | E47: 44942 | F47: Male | G47: Rural | H47: HbSS Crisis | I47: 2 | J47: Yes | K47: Yes | L47: Yes | M47: Yes | N47: Yes | O47: Yes | P47: Yes | Q47: No | R47: No | S47: No | T47: Yes | U47: 4 | V47: 3 | W47: 21 | X47: Normal | Y47: 111 | Z47: Stunted | AA47: 17 | AB47: =W47/(((Y47/100))^2) -> 17.044071 | AC47: Normal | AD47: Yes | AE47: Normal | AF47: No | AG47: 100 | AH47: Normal | AI47: Normal | AJ47: 28 | AK47: Tachypnoea | AL47: 99 | AM47: 3 | AN47: 0 | AO47: 108 | AP47: 58 | AQ47: 90th-95th/50th-90th | AR47: 22 | AS47: =AR47/3 -> 7.3333333 | AT47: =IF(AS47>6.99,"No","Yes") -> No | AU47: =IF(AR47>32,"Normal",IF(AR47>29,"Mild",IF(AR47>20,"Moderate","Severe"))) -> Moderate | AV47: 17500 | AW47: 347000 | AX47: VOC | AY47: 94 | AZ47: Normal | BA47: Sinus | BB47: 1 | BC47: 0.04 | BD47: =IF(BC47<0.12,"Normal","Abnormal") -> Normal | BE47: 0.12 | BF47: Normal | BG47: Normal | BH47: 0.42 | BI47: =IF(BH47>0.46,"Prolonged","Normal") -> Normal | BJ47: 0 | BK47: Normal | BL47: 0.08 | BM47: 1 | BN47: 14 | BO47: 10 | BP47: =IF(BO47>24,"Abnormal","Normal") -> Normal | BQ47: 0.71 | BR47: =IF(BQ47>1,"Abnormal","Normal") -> Normal | BS47: 20 | BT47: 30 | BU47: 18 | BV47: =IF(BU47>25,"Abnormal","Normal") -> Normal | BW47: 64 | BX47: Moderate | BY47: NIL
A48: 47 | B48: B | C48: 4 | D48: =IF(C48>13,"14 - 17",IF(C48>9,"10 - 13",IF(C48>5,"6 - 9","2 - 5"))) -> 2 - 5 | E48: 44946 | F48: Male | G48: Rural | H48: HbSS Crisis | I48: 3 | J48: Yes | K48: Yes | L48: Yes | M48: Yes | N48: Yes | O48: Yes | P48: No | Q48: Yes | R48: No | S48: No | T48: Yes | U48: 4 | V48: 3 | W48: 16 | X48: Normal | Y48: 105 | Z48: Normal | AA48: 14.5 | AB48: =W48/(((Y48/100))^2) -> 14.512472 | AC48: Normal | AD48: Yes | AE48: Normal | AF48: No | AG48: 88 | AH48: Normal | AI48: Normal | AJ48: 36 | AK48: Tachypnoea | AL48: 100 | AM48: 0 | AN48: 0 | AO48: 90 | AP48: 60 | AQ48: <50th/50th-90th | AR48: 19 | AS48: =AR48/3 -> 6.3333333 | AT48: =IF(AS48>6.99,"No","Yes") -> Yes | AU48: =IF(AR48>32,"Normal",IF(AR48>29,"Mild",IF(AR48>20,"Moderate","Severe"))) -> Severe | AV48: 18100 | AW48: 202000 | AX48: VOC | AY48: 88 | AZ48: Normal | BA48: Sinus | BB48: 1 | BC48: 0.06 | BD48: =IF(BC48<0.12,"Normal","Abnormal") -> Normal | BE48: 0.14 | BF48: Normal | BG48: Normal | BH48: 0.4 | BI48: =IF(BH48>0.46,"Prolonged","Normal") -> Normal | BJ48: 1 | BK48: Normal | BL48: 0.08 | BM48: 3 | BN48: 12 | BO48: 8 | BP48: =IF(BO48>24,"Abnormal","Normal") -> Normal | BQ48: 0.67 | BR48: =IF(BQ48>1,"Abnormal","Normal") -> Normal | BS48: 26 | BT48: 40 | BU48: 20 | BV48: =IF(BU48>25,"Abnormal","Normal") -> Normal | BW48: 36 | BX48: Moderate | BY48: NIL
A49: 48 | B49: B | C49: 2 | D49: =IF(C49>13,"14 - 17",IF(C49>9,"10 - 13",IF(C49>5,"6 - 9","2 - 5"))) -> 2 - 5 | E49: 45155 | F49: Male | G49: Rural | H49: HbSS Crisis | I49: 1 | J49: Yes | K49: No | L49: Yes | M49: Yes | N49: Yes | O49: Yes | P49: No | Q49: Yes | R49: No | S49: No | T49: No | U49: 0 | V49: 2 | W49: 13 | X49: Normal | Y49: 90 | Z49: Normal | AA49: 16 | AB49: =W49/(((Y49/100))^2) -> 16.049383 | AC49: Normal | AD49: Yes | AE49: High | AF49: No | AG49: 120 | AH49: Normal | AI49: Normal | AJ49: 50 | AK49: Tachypnoea | AL49: 98 | AM49: 6 | AN49: 0 | AO49: 84 | AP49: 40 | AQ49: <50th/<50th | AR49: 23 | AS49: =AR49/3 -> 7.6666667 | AT49: =IF(AS49>6.99,"No","Yes") -> No | AU49: =IF(AR49>32,"Normal",IF(AR49>29,"Mild",IF(AR49>20,"Moderate","Severe"))) -> Moderate | AV49: 19100 | AW49: 210000 | AX49: VOC | AY49: 115 | AZ49: Normal | BA49: Sinus | BB49: 1.5 | BC49: 0.04 | BD49: =IF(BC49<0.12,"Normal","Abnormal") -> Normal | BE49: 0.16 | BF49: Normal | BG49: Normal | BH49: 0.4 | BI49: =IF(BH49>0.46,"Prolonged","Normal") -> Normal | BJ49: 0 | BK49: Normal | BL49: 0.06 | BM49: 1 | BN49: 16 | BO49: 8 | BP49: =IF(BO49>24,"Abnormal","Normal") -> Normal | BQ49: 0.5 | BR49: =IF(BQ49>1,"Abnormal","Normal") -> Normal | BS49: 32 | BT49: 24 | BU49: 20 | BV49: =IF(BU49>25,"Abnormal","Normal") -> Normal | BW49: 52 | BX49: Mild | BY49: NIL
A50: 49 | B50: B | C50: 2 | D50: =IF(C50>13,"14 - 17",IF(C50>9,"10 - 13",IF(C50>5,"6 - 9","2 - 5"))) -> 2 - 5 | E50: 45155 | F50: Male | G50: Rural | H50: HbSS Crisis | I50: 1 | J50: Yes | K50: No | L50: Yes | M50: Yes | N50: Yes | O50: Yes | P50: No | Q50: Yes | R50: No | S50: No | T50: Yes | U50: 1 | V50: 2 | W50: 12.6 | X50: Normal | Y50: 92 | Z50: Normal | AA50: 14.9 | AB50: =W50/(((Y50/100))^2) -> 14.886578 | AC50: Normal | AD50: Yes | AE50: High | AF50: No | AG50: 118 | AH50: Normal | AI50: Normal | AJ50: 48 | AK50: Tachypnoea | AL50: 99 | AM50: 4 | AN50: 0 | AO50: 88 | AP50: 50 | AQ50: 50th/50th-90th | AR50: 21 | AS50: =AR50/3 -> 7 | AT50: =IF(AS50>6.99,"No","Yes") -> No | AU50: =IF(AR50>32,"Normal",IF(AR50>29,"Mild",IF(AR50>20,"Moderate","Severe"))) -> Moderate | AV50: 20200 | AW50: 179000 | AX50: VOC | AY50: 115 | AZ50: Normal | BA50: Sinus | BB50: 1 | BC50: 0.04 | BD50: =IF(BC50<0.12,"Normal","Abnormal") -> Normal | BE50: 0.1 | BF50: Normal | BG50: Normal | BH50: 0.4 | BI50: =IF(BH50>0.46,"Prolonged","Normal") -> Normal | BJ50: 1 | BK50: Normal | BL50: 0.06 | BM50: 1 | BN50: 28 | BO50: 18 | BP50: =IF(BO50>24,"Abnormal","Normal") -> Normal | BQ50: 0.64 | BR50: =IF(BQ50>1,"Abnormal","Normal") -> Normal | BS50: 34 | BT50: 40 | BU50: 28 | BV50: =IF(BU50>25,"Abnormal","Normal") -> Abnormal | BW50: 64 | BX50: Moderate | BY50: LVH
A51: 50 | B51: B | C51: 8 | D51: =IF(C51>13,"14 - 17",IF(C51>9,"10 - 13",IF(C51>5,"6 - 9","2 - 5"))) -> 6 - 9 | E51: 44965 | F51: Male | G51: Urban | H51: HbSS Crisis | I51: 4 | J51: No | K51: No | L51: Yes | M51: Yes | N51: Yes | O51: Yes | P51: Yes | Q51: No | R51: No | S51: No | T51: Yes | U51: 4 | V51: 2 | W51: 24 | X51: Normal | Y51: 122.4 | Z51: Normal | AA51: 16.1 | AB51: =W51/(((Y51/100))^2) -> 16.01948 | AC51: Normal | AD51: Yes | AE51: Normal | AF51: Yes | AG51: 120 | AH51: Tachycardia | AI51: Normal | AJ51: 32 | AK51: Tachypnoea | AL51: 98 | AM51: 2 | AN51: 6 | AO51: 90 | AP51: 60 | AQ51: <50th/50th-90th | AR51: 18 | AS51: =AR51/3 -> 6 | AT51: =IF(AS51>6.99,"No","Yes") -> Yes | AU51: =IF(AR51>32,"Normal",IF(AR51>29,"Mild",IF(AR51>20,"Moderate","Severe"))) -> Severe | AV51: 7400 | AW51: 138000 | AX51: SEQUESTRATION | AY51: 125 | AZ51: Tachycardia | BA51: Sinus | BB51: 1 | BC51: 0.04 | BD51: =IF(BC51<0.12,"Normal","Abnormal") -> Normal | BE51: 0.14 | BF51: Normal | BG51: Normal | BH51: 0.36 | BI51: =IF(BH51>0.46,"Prolonged","Normal") -> Normal | BJ51: 1 | BK51: Normal | BL51: 0.06 | BM51: 2 | BN51: 8 | BO51: 4 | BP51: =IF(BO51>24,"Abnormal","Normal") -> Normal | BQ51: 0.5 | BR51: =IF(BQ51>1,"Abnormal","Normal") -> Normal | BS51: 6 | BT51: 14 | BU51: 10 | BV51: =IF(BU51>25,"Abnormal","Normal") -> Normal | BW51: 30 | BX51: Moderate | BY51: SINUS TACHYCARDIA
A52: 51 | B52: B | C52: 7 | D52: =IF(C52>13,"14 - 17",IF(C52>9,"10 - 13",IF(C52>5,"6 - 9","2 - 5"))) -> 6 - 9 | E52: 45155 | F52: Male | G52: Rural | H52: HbSS Crisis | I52: 6 | J52: No | K52: No | L52: Yes | M52: Yes | N52: Yes | O52: Yes | P52: Yes | Q52: No | R52: Yes | S52: Yes | T52: Yes | U52: 4 | V52: 2 | W52: 29 | X52: Overweight | Y52: 120 | Z52: Normal | AA52: 20 | AB52: =W52/(((Y52/100))^2) -> 20.138889 | AC52: Obese | AD52: Yes | AE52: Normal | AF52: No | AG52: 80 | AH52: Normal | AI52: Normal | AJ52: 24 | AK52: Tachypnoea | AL52: 98 | AM52: 6 | AN52: 6 | AO52: 90 | AP52: 60 | AQ52: 50th/50th-90th | AR52: 15 | AS52: =AR52/3 -> 5 | AT52: =IF(AS52>6.99,"No","Yes") -> Yes | AU52: =IF(AR52>32,"Normal",IF(AR52>29,"Mild",IF(AR52>20,"Moderate","Severe"))) -> Severe | AV52: 12300 | AW52: 202000 | AX52: HYPERHAEMOLYTIC | AY52: 75 | AZ52: Normal | BA52: Sinus | BB52: 1 | BC52: 0.04 | BD52: =IF(BC52<0.12,"Normal","Abnormal") -> Normal | BE52: 0.14 | BF52: Normal | BG52: Normal | BH52: 0.48 | BI52: =IF(BH52>0.46,"Prolonged","Normal") -> Prolonged | BJ52: 1 | BK52: Normal | BL52: 0.08 | BM52: 1 | BN52: 10 | BO52: 4 | BP52: =IF(BO52>24,"Abnormal","Normal") -> Normal | BQ52: 0.4 | BR52: =IF(BQ52>1,"Abnormal","Normal") -> Normal | BS52: 12 | BT52: 44 | BU52: 28 | BV52: =IF(BU52>25,"Abnormal","Normal") -> Abnormal | BW52: 20 | BX52: Moderate | BY52: LVH, PROLONGED QTC
A53: 52 | B53: B | C53: 15 | D53: =IF(C53>13,"14 - 17",IF(C53>9,"10 - 13",IF(C53>5,"6 - 9","2 - 5"))) -> 14 - 17 | E53: 44986 | F53: Female | G53: Rural | H53: HbSS Crisis | I53: 15 | J53: No | K53: No | L53: Yes | M53: Yes | N53: Yes | O53: Yes | P53: Yes | Q53: No | R53: No | S53: No | T53: Yes | U53: 2 | V53: 3 | W53: 42 | X53: Normal | Y53: 151 | Z53: Normal | AA53: 18.4 | AB53: =W53/(((Y53/100))^2) -> 18.420245 | AC53: Normal | AD53: Yes | AE53: Normal | AF53: No | AG53: 90 | AH53: Normal | AI53: Normal | AJ53: 20 | AK53: Normal | AL53: 99 | AM53: 0 | AN53: 0 | AO53: 126 | AP53: 80 | AQ53: 95th-99th/95th | AR53: 20 | AS53: =AR53/3 -> 6.6666667 | AT53: =IF(AS53>6.99,"No","Yes") -> Yes | AU53: =IF(AR53>32,"Normal",IF(AR53>29,"Mild",IF(AR53>20,"Moderate","Severe"))) -> Severe | AV53: 6600 | AW53: 388000 | AX53: VOC | AY53: 94 | AZ53: Normal | BA53: Sinus | BB53: 2 | BC53: 0.12 | BD53: =IF(BC53<0.12,"Normal","Abnormal") -> Abnormal | BE53: 0.16 | BF53: Normal | BG53: Normal | BH53: 0.39 | BI53: =IF(BH53>0.46,"Prolonged","Normal") -> Normal | BJ53: 1 | BK53: Normal | BL53: 0.08 | BM53: 1 | BN53: 10 | BO53: 6 | BP53: =IF(BO53>24,"Abnormal","Normal") -> Normal | BQ53: 0.6 | BR53: =IF(BQ53>1,"Abnormal","Normal") -> Normal | BS53: 6 | BT53: 26 | BU53: 24 | BV53: =IF(BU53>25,"Abnormal","Normal") -> Normal | BW53: 28 | BX53: Moderate | BY53: LAH
A54: 53 | B54: B | C54: 13 | D54: =IF(C54>13,"14 - 17",IF(C54>9,"10 - 13",IF(C54>5,"6 - 9","2 - 5"))) -> 10 - 13 | E54: 45002 | F54: Male | G54: Rural | H54: HbSS Crisis | I54: 4 | J54: No | K54: No | L54: Yes | M54: Yes | N54: Yes | O54: Yes | P54: Yes | Q54: No | R54: No | S54: No | T54: Yes | U54: 1 | V54: 3 | W54: 30 | X54: Normal | Y54: 134 | Z54: Stunted | AA54: 16.7 | AB54: =W54/(((Y54/100))^2) -> 16.707507 | AC54: Normal | AD54: Yes | AE54: Normal | AF54: Yes | AG54: 92 | AH54: Normal | AI54: Normal | AJ54: 22 | AK54: Tachypnoea | AL54: 100 | AM54: 0 | AN54: 0 | AO54: 100 | AP54: 60 | AQ54: 50th/50th | AR54: 22 | AS54: =AR54/3 -> 7.3333333 | AT54: =IF(AS54>6.99,"No","Yes") -> No | AU54: =IF(AR54>32,"Normal",IF(AR54>29,"Mild",IF(AR54>20,"Moderate","Severe"))) -> Moderate | AV54: 14600 | AW54: 397000 | AX54: VOC | AY54: 88 | AZ54: Normal | BA54: Sinus | BB54: 1 | BC54: 0.04 | BD54: =IF(BC54<0.12,"Normal","Abnormal") -> Normal | BE54: 0.18 | BF54: Normal | BG54: Right Axis | BH54: 0.4 | BI54: =IF(BH54>0.46,"Prolonged","Normal") -> Normal | BJ54: 1 | BK54: Normal | BL54: 0.08 | BM54: 2 | BN54: 5 | BO54: 2 | BP54: =IF(BO54>24,"Abnormal","Normal") -> Normal | BQ54: 0.4 | BR54: =IF(BQ54>1,"Abnormal","Normal") -> Normal | BS54: 10 | BT54: 28 | BU54: 20 | BV54: =IF(BU54>25,"Abnormal","Normal") -> Normal | BW54: 28 | BX54: Mild | BY54: RIGHT AXIS DEVIATION
A55: 54 | B55: B | C55: 10 | D55: =IF(C55>13,"14 - 17",IF(C55>9,"10 - 13",IF(C55>5,"6 - 9","2 - 5"))) -> 10 - 13 | E55: 45007 | F55: Female | G55: Urban | H55: HbSS Crisis | I55: 9 | J55: No | K55: No | L55: Yes | M55: Yes | N55: Yes | O55: Yes | P55: Yes | Q55: No | R55: No | S55: No | T55: Yes | U55: 11 | V55: 1 | W55: 33 | X55: Normal | Y55: 132 | Z55: Normal | AA55: 18.9 | AB55: =W55/(((Y55/100))^2) -> 18.939394 | AC55: Normal | AD55: Yes | AE55: Normal | AF55: Yes | AG55: 86 | AH55: Normal | AI55: Normal | AJ55: 20 | AK55: Normal | AL55: 100 | AM55: 0 | AN55: 0 | AO55: 100 | AP55: 60 | AQ55: 50th/50th | AR55: 20 | AS55: =AR55/3 -> 6.6666667 | AT55: =IF(AS55>6.99,"No","Yes") -> Yes | AU55: =IF(AR55>32,"Normal",IF(AR55>29,"Mild",IF(AR55>20,"Moderate","Severe"))) -> Severe | AV55: 10900 | AW55: 444000 | AX55: VOC | AY55: 83 | AZ55: Normal | BA55: Sinus | BB55: 1 | BC55: 0.04 | BD55: =IF(BC55<0.12,"Normal","Abnormal") -> Normal | BE55: 0.16 | BF55: Normal | BG55: Normal | BH55: 0.39 | BI55: =IF(BH55>0.46,"Prolonged","Normal") -> Normal | BJ55: 0 | BK55: Normal | BL55: 0.08 | BM55: 1 | BN55: 6 | BO55: 2 | BP55: =IF(BO55>24,"Abnormal","Normal") -> Normal | BQ55: 0.33 | BR55: =IF(BQ55>1,"Abnormal","Normal") -> Normal | BS55: 10 | BT55: 38 | BU55: 20 | BV55: =IF(BU55>25,"Abnormal","Normal") -> Normal | BW55: 52 | BX55: Mild | BY55: NIL
A56: 55 | B56: B | C56: 3 | D56: =IF(C56>13,"14 - 17",IF(C56>9,"10 - 13",IF(C56>5,"6 - 9","2 - 5"))) -> 2 - 5 | E56: 45007 | F56: Female | G56: Semi-Urban | H56: HbSS Crisis | I56: 2 | J56: Yes | K56: No | L56: Yes | M56: Yes | N56: Yes | O56: Yes | P56: No | Q56: No | R56: Yes | S56: No | T56: Yes | U56: 1 | V56: 3 | W56: 12 | X56: Normal | Y56: 89 | Z56: Normal | AA56: 15.1 | AB56: =W56/(((Y56/100))^2) -> 15.149602 | AC56: Normal | AD56: Yes | AE56: Normal | AF56: No | AG56: 112 | AH56: Normal | AI56: Normal | AJ56: 35 | AK56: Tachypnoea | AL56: 98 | AM56: 6 | AN56: 0 | AO56: 80 | AP56: 50 | AQ56: 50th/50th-90th | AR56: 22 | AS56: =AR56/3 -> 7.3333333 | AT56: =IF(AS56>6.99,"No","Yes") -> No | AU56: =IF(AR56>32,"Normal",IF(AR56>29,"Mild",IF(AR56>20,"Moderate","Severe"))) -> Moderate | AV56: 12600 | AW56: 392000 | AX56: VOC | AY56: 115 | AZ56: Normal | BA56: Sinus | BB56: 1 | BC56: 0.12 | BD56: =IF(BC56<0.12,"Normal","Abnormal") -> Abnormal | BE56: 0.14 | BF56: Normal | BG56: Normal | BH56: 0.41 | BI56: =IF(BH56>0.46,"Prolonged","Normal") -> Normal | BJ56: 0 | BK56: Normal | BL56: 0.08 | BM56: 2 | BN56: 6 | BO56: 4 | BP56: =IF(BO56>24,"Abnormal","Normal") -> Normal | BQ56: 0.67 | BR56: =IF(BQ56>1,"Abnormal","Normal") -> Normal | BS56: 20 | BT56: 36 | BU56: 22 | BV56: =IF(BU56>25,"Abnormal","Normal") -> Normal | BW56: 60 | BX56: Mild | BY56: LAH
... A91: 90 | B91: B | C91: 13 | D91: =IF(C91>13,"14 - 17",IF(C91>9,"10 - 13",IF(C91>5,"6 - 9","2 - 5"))) -> 10 - 13 | E91: 45224 | F91: Male | G91: Rural | H91: HbSS Crisis | I91: 8 | J91: No | K91: No | L91: Yes | M91: Yes | N91: Yes | O91: Yes | P91: No | Q91: No | R91: No | S91: No | T91: No | U91: 0 | V91: 3 | W91: 34 | X91: Normal | Y91: 142 | Z91: Normal | AA91: 16.9 | AB91: =W91/(((Y91/100))^2) -> 16.861734 | AC91: Normal | AD91: Yes | AE91: Normal | AF91: No | AG91: 80 | AH91: Normal | AI91: Normal | AJ91: 18 | AK91: Normal | AL91: 96 | AM91: 0 | AN91: 0 | AO91: 105 | AP91: 60 | AQ91: 50th/50th | AR91: 20 | AS91: =AR91/3 -> 6.6666667 | AT91: =IF(AS91>6.99,"No","Yes") -> Yes | AU91: =IF(AR91>32,"Normal",IF(AR91>29,"Mild",IF(AR91>20,"Moderate","Severe"))) -> Severe | AV91: 14100 | AW91: 477000 | AX91: HYPERHAEMOLYTIC | AY91: 80 | AZ91: Normal | BA91: Sinus | BB91: 1 | BC91: 0.1 | BD91: =IF(BC91<0.12,"Normal","Abnormal") -> Normal | BE91: 0.18 | BF91: Normal | BG91: Normal | BH91: 0.43 | BI91: =IF(BH91>0.46,"Prolonged","Normal") -> Normal | BJ91: 1 | BK91: Normal | BL91: 0.08 | BM91: 2 | BN91: 8 | BO91: 4 | BP91: =IF(BO91>24,"Abnormal","Normal") -> Normal | BQ91: 0.5 | BR91: =IF(BQ91>1,"Abnormal","Normal") -> Normal | BS91: 20 | BT91: 40 | BU91: 28 | BV91: =IF(BU91>25,"Abnormal","Normal") -> Abnormal | BW91: 24 | BX91: Mild | BY91: LVH
A92: 91 | B92: C | C92: 11 | D92: =IF(C92>13,"14 - 17",IF(C92>9,"10 - 13",IF(C92>5,"6 - 9","2 - 5"))) -> 10 - 13 | E92: 45212 | F92: Female | G92: Rural | H92: HbAA | J92: No | K92: No | L92: No | M92: No | N92: No | O92: No | P92: No | Q92: No | R92: No | S92: No | T92: No | U92: 0 | V92: 1 | W92: 77 | X92: Overweight | Y92: 163 | Z92: Tall Stature | AA92: 29 | AB92: =W92/(((Y92/100))^2) -> 28.981143 | AC92: Obese | AD92: No | AE92: Normal | AF92: No | AG92: 80 | AH92: Normal | AI92: Normal | AJ92: 18 | AK92: Normal | AL92: 99 | AM92: 0 | AN92: 0 | AO92: 100 | AP92: 60 | AQ92: 50th/50th | AR92: 33 | AS92: =AR92/3 -> 11 | AT92: =IF(AS92>6.99,"No","Yes") -> No | AU92: =IF(AR92>32,"Normal",IF(AR92>29,"Mild",IF(AR92>20,"Moderate","Severe"))) -> Normal | AV92: 8400 | AW92: 447000 | AX92: NA | AY92: 79 | AZ92: Normal | BA92: Sinus | BB92: 2 | BC92: 0.1 | BD92: =IF(BC92<0.12,"Normal","Abnormal") -> Normal | BE92: 0.16 | BF92: Normal | BG92: Right Axis | BH92: 0.43 | BI92: =IF(BH92>0.46,"Prolonged","Normal") -> Normal | BJ92: 1 | BK92: Normal | BL92: 0.09 | BM92: 1 | BN92: 14 | BO92: 4 | BP92: =IF(BO92>24,"Abnormal","Normal") -> Normal | BQ92: 0.29 | BR92: =IF(BQ92>1,"Abnormal","Normal") -> Normal | BS92: 28 | BT92: 20 | BU92: 22 | BV92: =IF(BU92>25,"Abnormal","Normal") -> Normal | BW92: 36
A93: 92 | B93: C | C93: 6 | D93: =IF(C93>13,"14 - 17",IF(C93>9,"10 - 13",IF(C93>5,"6 - 9","2 - 5"))) -> 6 - 9 | E93: 45215 | F93: Male | G93: Rural | H93: HbAA | J93: No | K93: No | L93: No | M93: No | N93: No | O93: No | P93: No | Q93: No | R93: No | S93: No | T93: No | U93: 0 | V93: 2 | W93: 20 | X93: Normal | Y93: 115 | Z93: Normal | AA93: 15.1 | AB93: =W93/(((Y93/100))^2) -> 15.122873 | AC93: Normal | AD93: No | AE93: Normal | AF93: No | AG93: 72 | AH93: Bradycardia | AI93: Normal | AJ93: 16 | AK93: Normal | AL93: 100 | AM93: 0 | AN93: 0 | AO93: 90 | AP93: 60 | AQ93: <50th/50th-90th | AR93: 34 | AS93: =AR93/3 -> 11.333333 | AT93: =IF(AS93>6.99,"No","Yes") -> No | AU93: =IF(AR93>32,"Normal",IF(AR93>29,"Mild",IF(AR93>20,"Moderate","Severe"))) -> Normal | AV93: 7300 | AW93: 321000 | AX93: NA | AY93: 76 | AZ93: Normal | BA93: Sinus | BB93: 1 | BC93: 0.1 | BD93: =IF(BC93<0.12,"Normal","Abnormal") -> Normal | BE93: 0.13 | BF93: Normal | BG93: Normal | BH93: 0.4 | BI93: =IF(BH93>0.46,"Prolonged","Normal") -> Normal | BJ93: 1 | BK93: Normal | BL93: 0.08 | BM93: 2 | BN93: 16 | BO93: 8 | BP93: =IF(BO93>24,"Abnormal","Normal") -> Normal | BQ93: 0.5 | BR93: =IF(BQ93>1,"Abnormal","Normal") -> Normal | BS93: 20 | BT93: 36 | BU93: 20 | BV93: =IF(BU93>25,"Abnormal","Normal") -> Normal | BW93: 18
A94: 93 | B94: C | C94: 11 | D94: =IF(C94>13,"14 - 17",IF(C94>9,"10 - 13",IF(C94>5,"6 - 9","2 - 5"))) -> 10 - 13 | E94: 45215 | F94: Male | G94: Rural | H94: HbAA | J94: No | K94: No | L94: No | M94: No | N94: No | O94: No | P94: No | Q94: No | R94: No | S94: No | T94: Yes | U94: 1 | V94: 3 | W94: 48 | X94: Normal | Y94: 157 | Z94: Normal | AA94: 19.4 | AB94: =W94/(((Y94/100))^2) -> 19.473407 | AC94: Normal | AD94: No | AE94: Normal | AF94: No | AG94: 76 | AH94: Normal | AI94: Normal | AJ94: 16 | AK94: Normal | AL94: 100 | AM94: 0 | AN94: 0 | AO94: 100 | AP94: 60 | AQ94: <50th/<50th | AR94: 33 | AS94: =AR94/3 -> 11 | AT94: =IF(AS94>6.99,"No","Yes") -> No | AU94: =IF(AR94>32,"Normal",IF(AR94>29,"Mild",IF(AR94>20,"Moderate","Severe"))) -> Normal | AV94: 8000 | AW94: 250000 | AY94: 75 | AZ94: Normal | BA94: Sinus | BB94: 1 | BC94: 0.12 | BD94: =IF(BC94<0.12,"Normal","Abnormal") -> Abnormal | BE94: 0.16 | BF94: Normal | BG94: Normal | BH94: 0.42 | BI94: =IF(BH94>0.46,"Prolonged","Normal") -> Normal | BJ94: 1 | BK94: Normal | BL94: 0.08 | BM94: 2 | BN94: 6 | BO94: 4 | BP94: =IF(BO94>24,"Abnormal","Normal") -> Normal | BQ94: 0.67 | BR94: =IF(BQ94>1,"Abnormal","Normal") -> Normal | BS94: 10 | BT94: 36 | BU94: 30 | BV94: =IF(BU94>25,"Abnormal","Normal") -> Abnormal | BW94: 40
A95: 94 | B95: C | C95: 4 | D95: =IF(C95>13,"14 - 17",IF(C95>9,"10 - 13",IF(C95>5,"6 - 9","2 - 5"))) -> 2 - 5 | E95: 45219 | F95: Male | G95: Urban | H95: HbAA | J95: No | K95: No | L95: No | M95: No | N95: No | O95: No | P95: No | Q95: No | R95: No | S95: No | T95: No | U95: 0 | V95: 1 | W95: 20 | X95: Normal | Y95: 116 | Z95: Normal | AA95: 14.8 | AB95: =W95/(((Y95/100))^2) -> 14.863258 | AC95: Normal | AD95: No | AE95: Normal | AF95: No | AG95: 104 | AH95: Normal | AI95: Normal | AJ95: 20 | AK95: Normal | AL95: 98 | AM95: 0 | AN95: 0 | AO95: 90 | AP95: 60 | AQ95: 50th/50th-90th | AR95: 36 | AS95: =AR95/3 -> 12 | AT95: =IF(AS95>6.99,"No","Yes") -> No | AU95: =IF(AR95>32,"Normal",IF(AR95>29,"Mild",IF(AR95>20,"Moderate","Severe"))) -> Normal | AV95: 7400 | AW95: 448000 | AY95: 108 | AZ95: Normal | BA95: Sinus | BB95: 1 | BC95: 0.1 | BD95: =IF(BC95<0.12,"Normal","Abnormal") -> Normal | BE95: 0.16 | BF95: Normal | BG95: Normal | BH95: 0.4 | BI95: =IF(BH95>0.46,"Prolonged","Normal") -> Normal | BJ95: 1 | BK95: Normal | BL95: 0.06 | BM95: 2 | BN95: 10 | BO95: 4 | BP95: =IF(BO95>24,"Abnormal","Normal") -> Normal | BQ95: 0.4 | BR95: =IF(BQ95>1,"Abnormal","Normal") -> Normal | BS95: 10 | BT95: 20 | BU95: 14 | BV95: =IF(BU95>25,"Abnormal","Normal") -> Normal | BW95: 22
A96: 95 | B96: C | C96: 7 | D96: =IF(C96>13,"14 - 17",IF(C96>9,"10 - 13",IF(C96>5,"6 - 9","2 - 5"))) -> 6 - 9 | E96: 45219 | F96: Male | G96: Rural | H96: HbAA | J96: No | K96: No | L96: No | M96: No | N96: No | O96: No | P96: No | Q96: No | R96: No | S96: No | T96: No | U96: 0 | V96: 2 | W96: 26 | X96: Normal | Y96: 126 | Z96: Normal | AA96: 16.4 | AB96: =W96/(((Y96/100))^2) -> 16.376921 | AC96: Normal | AD96: No | AE96: Normal | AF96: No | AG96: 80 | AH96: Normal | AI96: Normal | AJ96: 16 | AK96: Normal | AL96: 99 | AM96: 0 | AN96: 0 | AO96: 100 | AP96: 60 | AQ96: 50th/50th | AR96: 30 | AS96: =AR96/3 -> 10 | AT96: =IF(AS96>6.99,"No","Yes") -> No | AU96: =IF(AR96>32,"Normal",IF(AR96>29,"Mild",IF(AR96>20,"Moderate","Severe"))) -> Mild | AV96: 5900 | AW96: 372000 | AY96: 81 | AZ96: Normal | BA96: Sinus | BB96: 1 | BC96: 0.12 | BD96: =IF(BC96<0.12,"Normal","Abnormal") -> Abnormal | BE96: 0.24 | BF96: Prolonged | BG96: Normal | BH96: 0.41 | BI96: =IF(BH96>0.46,"Prolonged","Normal") -> Normal | BJ96: 1 | BK96: Normal | BL96: 0.08 | BM96: 2 | BN96: 24 | BO96: 8 | BP96: =IF(BO96>24,"Abnormal","Normal") -> Normal | BQ96: 0.33 | BR96: =IF(BQ96>1,"Abnormal","Normal") -> Normal | BS96: 20 | BT96: 24 | BU96: 24 | BV96: =IF(BU96>25,"Abnormal","Normal") -> Normal | BW96: 24
A97: 96 | B97: C | C97: 2 | D97: =IF(C97>13,"14 - 17",IF(C97>9,"10 - 13",IF(C97>5,"6 - 9","2 - 5"))) -> 2 - 5 | E97: 45219 | F97: Male | G97: Semi-Urban | H97: HbAA | J97: No | K97: No | L97: No | M97: No | N97: No | O97: No | P97: No | Q97: No | R97: No | S97: No | T97: No | U97: 0 | V97: 1 | W97: 13 | X97: Normal | Y97: 90 | Z97: Normal | AA97: 16 | AB97: =W97/(((Y97/100))^2) -> 16.049383 | AC97: Normal | AD97: No | AE97: Normal | AF97: No | AG97: 120 | AH97: Normal | AI97: Normal | AJ97: 34 | AK97: Normal | AL97: 99 | AM97: 0 | AN97: 0 | AO97: 90 | AP97: 50 | AQ97: 50th/50th-90th | AR97: 28 | AS97: =AR97/3 -> 9.3333333 | AT97: =IF(AS97>6.99,"No","Yes") -> No | AU97: =IF(AR97>32,"Normal",IF(AR97>29,"Mild",IF(AR97>20,"Moderate","Severe"))) -> Moderate | AV97: 26600 | AW97: 354000 | AY97: 126 | AZ97: Normal | BA97: Sinus | BB97: 1.5 | BC97: 0.1 | BD97: =IF(BC97<0.12,"Normal","Abnormal") -> Normal | BE97: 0.13 | BF97: Normal | BG97: Normal | BH97: 0.39 | BI97: =IF(BH97>0.46,"Prolonged","Normal") -> Normal | BJ97: 1 | BK97: Normal | BL97: 0.08 | BM97: 1 | BN97: 18 | BO97: 12 | BP97: =IF(BO97>24,"Abnormal","Normal") -> Normal | BQ97: 0.67 | BR97: =IF(BQ97>1,"Abnormal","Normal") -> Normal | BS97: 18 | BT97: 28 | BU97: 12 | BV97: =IF(BU97>25,"Abnormal","Normal") -> Normal | BW97: 48
A98: 97 | B98: C | C98: 2 | D98: =IF(C98>13,"14 - 17",IF(C98>9,"10 - 13",IF(C98>5,"6 - 9","2 - 5"))) -> 2 - 5 | E98: 45219 | F98: Male | G98: Semi-Urban | H98: HbAA | J98: No | K98: No | L98: No | M98: No | N98: No | O98: No | P98: No | Q98: No | R98: No | S98: No | T98: No | U98: 0 | V98: 2 | W98: 13 | X98: Normal | Y98: 91 | Z98: Normal | AA98: 15.8 | AB98: =W98/(((Y98/100))^2) -> 15.698587 | AC98: Normal | AD98: No | AE98: Normal | AF98: No | AG98: 120 | AH98: Normal | AI98: Normal | AJ98: 22 | AK98: Normal | AL98: 100 | AM98: 0 | AN98: 0 | AO98: 84 | AP98: 48 | AQ98: <50th/<50th | AR98: 34 | AS98: =AR98/3 -> 11.333333 | AT98: =IF(AS98>6.99,"No","Yes") -> No | AU98: =IF(AR98>32,"Normal",IF(AR98>29,"Mild",IF(AR98>20,"Moderate","Severe"))) -> Normal | AV98: 6600 | AW98: 238000 | AY98: 124 | AZ98: Normal | BA98: Sinus | BB98: 1 | BC98: 0.08 | BD98: =IF(BC98<0.12,"Normal","Abnormal") -> Normal | BE98: 0.13 | BF98: Normal | BG98: Normal | BH98: 0.45 | BI98: =IF(BH98>0.46,"Prolonged","Normal") -> Normal | BJ98: 1 | BK98: Normal | BL98: 0.07 | BM98: 2 | BN98: 11 | BO98: 8 | BP98: =IF(BO98>24,"Abnormal","Normal") -> Normal | BQ98: 0.72 | BR98: =IF(BQ98>1,"Abnormal","Normal") -> Normal | BS98: 24 | BT98: 8 | BU98: 8 | BV98: =IF(BU98>25,"Abnormal","Normal") -> Normal | BW98: 28
A99: 98 | B99: C | C99: 3 | D99: =IF(C99>13,"14 - 17",IF(C99>9,"10 - 13",IF(C99>5,"6 - 9","2 - 5"))) -> 2 - 5 | E99: 45219 | F99: Female | G99: Semi-Urban | H99: HbAA | J99: No | K99: No | L99: No | M99: No | N99: No | O99: No | P99: No | Q99: No | R99: No | S99: No | T99: Yes | U99: 1 | V99: 1 | W99: 15 | X99: Normal | Y99: 94 | Z99: Normal | AA99: 16.9 | AB99: =W99/(((Y99/100))^2) -> 16.976007 | AC99: Normal | AD99: No | AE99: Normal | AF99: No | AG99: 108 | AH99: Normal | AI99: Normal | AJ99: 24 | AK99: Normal | AL99: 100 | AM99: 0 | AN99: 0 | AO99: 88 | AP99: 50 | AQ99: 50th/50th-90th | AR99: 31 | AS99: =AR99/3 -> 10.333333 | AT99: =IF(AS99>6.99,"No","Yes") -> No | AU99: =IF(AR99>32,"Normal",IF(AR99>29,"Mild",IF(AR99>20,"Moderate","Severe"))) -> Mild | AV99: 7400 | AW99: 442000 | AY99: 108 | AZ99: Normal | BA99: Sinus | BB99: 1 | BC99: 0.08 | BD99: =IF(BC99<0.12,"Normal","Abnormal") -> Normal | BE99: 0.14 | BF99: Normal | BG99: Normal | BH99: 0.44 | BI99: =IF(BH99>0.46,"Prolonged","Normal") -> Normal | BJ99: 1 | BK99: Normal | BL99: 0.08 | BM99: 2 | BN99: 16 | BO99: 10 | BP99: =IF(BO99>24,"Abnormal","Normal") -> Normal | BQ99: 0.63 | BR99: =IF(BQ99>1,"Abnormal","Normal") -> Normal | BS99: 10 | BT99: 18 | BU99: 12 | BV99: =IF(BU99>25,"Abnormal","Normal") -> Normal | BW99: 32
A100: 99 | B100: C | C100: 3 | D100: =IF(C100>13,"14 - 17",IF(C100>9,"10 - 13",IF(C100>5,"6 - 9","2 - 5"))) -> 2 - 5 | E100: 45221 | F100: Female | G100: Semi-Urban | H100: HbAA | J100: No | K100: No | L100: No | M100: No | N100: No | O100: No | P100: No | Q100: No | R100: No | S100: No | T100: No | U100: 0 | V100: 1 | W100: 16 | X100: Normal | Y100: 99 | Z100: Normal | AA100: 16.3 | AB100: =W100/(((Y100/100))^2) -> 16.324865 | AC100: Normal | AD100: No | AE100: Normal | AF100: No | AG100: 108 | AH100: Normal | AI100: Normal | AJ100: 22 | AK100: Normal | AL100: 99 | AM100: 0 | AN100: 0 | AO100: 90 | AP100: 50 | AQ100: 50th/50th | AR100: 36 | AS100: =AR100/3 -> 12 | AT100: =IF(AS100>6.99,"No","Yes") -> No | AU100: =IF(AR100>32,"Normal",IF(AR100>29,"Mild",IF(AR100>20,"Moderate","Severe"))) -> Normal | AV100: 28600 | AW100: 387000 | AY100: 106 | AZ100: Normal | BA100: Sinus | BB100: 1 | BC100: 0.08 | BD100: =IF(BC100<0.12,"Normal","Abnormal") -> Normal | BE100: 0.13 | BF100: Normal | BG100: Normal | BH100: 0.4 | BI100: =IF(BH100>0.46,"Prolonged","Normal") -> Normal | BJ100: 1 | BK100: Normal | BL100: 0.08 | BM100: 2 | BN100: 14 | BO100: 12 | BP100: =IF(BO100>24,"Abnormal","Normal") -> Normal | BQ100: 0.86 | BR100: =IF(BQ100>1,"Abnormal","Normal") -> Normal | BS100: 26 | BT100: 24 | BU100: 12 | BV100: =IF(BU100>25,"Abnormal","Normal") -> Normal | BW100: 40
A101: 100 | B101: C | C101: 8 | D101: =IF(C101>13,"14 - 17",IF(C101>9,"10 - 13",IF(C101>5,"6 - 9","2 - 5"))) -> 6 - 9 | E101: 45221 | F101: Male | G101: Semi-Urban | H101: HbAA | J101: No | K101: No | L101: No | M101: No | N101: No | O101: No | P101: No | Q101: No | R101: No | S101: No | T101: No | U101: 0 | V101: 1 | W101: 29 | X101: Normal | Y101: 128 | Z101: Normal | AA101: 17.2 | AB101: =W101/(((Y101/100))^2) -> 17.700195 | AC101: Normal | AD101: No | AE101: Normal | AF101: No | AG101: 88 | AH101: Normal | AI101: Normal | AJ101: 20 | AK101: Normal | AL101: 98 | AM101: 0 | AN101: 0 | AO101: 100 | AP101: 60 | AQ101: 50th/50th | AR101: 37 | AS101: =AR101/3 -> 12.333333 | AT101: =IF(AS101>6.99,"No","Yes") -> No | AU101: =IF(AR101>32,"Normal",IF(AR101>29,"Mild",IF(AR101>20,"Moderate","Severe"))) -> Normal | AV101: 4600 | AW101: 169000 | AY101: 90 | AZ101: Normal | BA101: Sinus | BB101: 1 | BC101: 0.1 | BD101: =IF(BC101<0.12,"Normal","Abnormal") -> Normal | BE101: 0.13 | BF101: Normal | BG101: Normal | BH101: 0.37 | BI101: =IF(BH101>0.46,"Prolonged","Normal") -> Normal | BJ101: 1 | BK101: Normal | BL101: 0.08 | BM101: 2 | BN101: 16 | BO101: 10 | BP101: =IF(BO101>24,"Abnormal","Normal") -> Normal | BQ101: 0.63 | BR101: =IF(BQ101>1,"Abnormal","Normal") -> Normal | BS101: 16 | BT101: 30 | BU101: 18 | BV101: =IF(BU101>25,"Abnormal","Normal") -> Normal | BW101: 28
A102: 101 | B102: C | C102: 13 | D102: =IF(C102>13,"14 - 17",IF(C102>9,"10 - 13",IF(C102>5,"6 - 9","2 - 5"))) -> 10 - 13 | E102: 45221 | F102: Male | G102: Rural | H102: HbAA | J102: No | K102: No | L102: No | M102: No | N102: No | O102: No | P102: No | Q102: No | R102: No | S102: No | T102: No | U102: 0 | V102: 4 | W102: 49 | X102: Normal | Y102: 167 | Z102: Normal | AA102: 17.5 | AB102: =W102/(((Y102/100))^2) -> 17.569651 | AC102: Normal | AD102: No | AE102: Normal | AF102: No | AG102: 74 | AH102: Normal | AI102: Normal | AJ102: 18 | AK102: Normal | AL102: 99 | AM102: 0 | AN102: 0 | AO102: 110 | AP102: 70 | AQ102: 50th-90th/50th-90th | AR102: 36 | AS102: =AR102/3 -> 12 | AT102: =IF(AS102>6.99,"No","Yes") -> No | AU102: =IF(AR102>32,"Normal",IF(AR102>29,"Mild",IF(AR102>20,"Moderate","Severe"))) -> Normal | AV102: 4700 | AW102: 316000 | AY102: 70 | AZ102: Normal | BA102: Sinus | BB102: 1 | BC102: 0.1 | BD102: =IF(BC102<0.12,"Normal","Abnormal") -> Normal | BE102: 0.14 | BF102: Normal | BG102: Normal | BH102: 0.4 | BI102: =IF(BH102>0.46,"Prolonged","Normal") -> Normal | BJ102: 0 | BK102: Normal | BL102: 0.1 | BM102: 2 | BN102: 10 | BO102: 4 | BP102: =IF(BO102>24,"Abnormal","Normal") -> Normal | BQ102: 0.4 | BR102: =IF(BQ102>1,"Abnormal","Normal") -> Normal | BS102: 12 | BT102: 30 | BU102: 24 | BV102: =IF(BU102>25,"Abnormal","Normal") -> Normal | BW102: 60
A103: 102 | B103: C | C103: 4 | D103: =IF(C103>13,"14 - 17",IF(C103>9,"10 - 13",IF(C103>5,"6 - 9","2 - 5"))) -> 2 - 5 | E103: 45221 | F103: Male | G103: Semi-Urban | H103: HbAA | J103: No | K103: No | L103: No | M103: No | N103: No | O103: No | P103: No | Q103: No | R103: No | S103: No | T103: No | U103: 0 | V103: 2 | W103: 21 | X103: Normal | Y103: 119 | Z103: Tall Stature | AA103: 14.8 | AB103: =W103/(((Y103/100))^2) -> 14.829461 | AC103: Normal | AD103: No | AE103: Normal | AF103: No | AG103: 72 | AH103: Bradycardia | AI103: Normal | AJ103: 18 | AK103: Normal | AL103: 99 | AM103: 0 | AN103: 0 | AO103: 92 | AP103: 50 | AQ103: <50th/50th-90th | AR103: 31 | AS103: =AR103/3 -> 10.333333 | AT103: =IF(AS103>6.99,"No","Yes") -> No | AU103: =IF(AR103>32,"Normal",IF(AR103>29,"Mild",IF(AR103>20,"Moderate","Severe"))) -> Mild | AV103: 9190 | AW103: 313000 | AY103: 72 | AZ103: Bradycardia | BA103: Sinus | BB103: 1 | BC103: 0.1 | BD103: =IF(BC103<0.12,"Normal","Abnormal") -> Normal | BE103: 0.15 | BF103: Normal | BG103: Normal | BH103: 0.38 | BI103: =IF(BH103>0.46,"Prolonged","Normal") -> Normal | BJ103: 1 | BK103: Normal | BL103: 0.08 | BM103: 2 | BN103: 10 | BO103: 4 | BP103: =IF(BO103>24,"Abnormal","Normal") -> Normal | BQ103: 0.4 | BR103: =IF(BQ103>1,"Abnormal","Normal") -> Normal | BS103: 20 | BT103: 40 | BU103: 20 | BV103: =IF(BU103>25,"Abnormal","Normal") -> Normal | BW103: 36
A104: 103 | B104: C | C104: 14 | D104: =IF(C104>13,"14 - 17",IF(C104>9,"10 - 13",IF(C104>5,"6 - 9","2 - 5"))) -> 14 - 17 | E104: 45221 | F104: Female | G104: Urban | H104: HbAA | J104: No | K104: No | L104: No | M104: No | N104: No | O104: No | P104: No | Q104: No | R104: No | S104: No | T104: No | U104: 0 | V104: 1 | W104: 48 | X104: Normal | Y104: 164 | Z104: Normal | AA104: 17.8 | AB104: =W104/(((Y104/100))^2) -> 17.84652 | AC104: Normal | AD104: No | AE104: Normal | AF104: No | AG104: 66 | AH104: Normal | AI104: Normal | AJ104: 14 | AK104: Normal | AL104: 99 | AM104: 0 | AN104: 0 | AO104: 110 | AP104: 60 | AQ104: 50th/50th | AR104: 33 | AS104: =AR104/3 -> 11 | AT104: =IF(AS104>6.99,"No","Yes") -> No | AU104: =IF(AR104>32,"Normal",IF(AR104>29,"Mild",IF(AR104>20,"Moderate","Severe"))) -> Normal | AV104: 5400 | AW104: 304000 | AY104: 66 | AZ104: Normal | BA104: Sinus | BB104: 1 | BC104: 0.12 | BD104: =IF(BC104<0.12,"Normal","Abnormal") -> Abnormal | BE104: 0.17 | BF104: Normal | BG104: Normal | BH104: 0.4 | BI104: =IF(BH104>0.46,"Prolonged","Normal") -> Normal | BJ104: 0 | BK104: Normal | BL104: 0.08 | BM104: 3 | BN104: 22 | BO104: 8 | BP104: =IF(BO104>24,"Abnormal","Normal") -> Normal | BQ104: 0.36 | BR104: =IF(BQ104>1,"Abnormal","Normal") -> Normal | BS104: 20 | BT104: 16 | BU104: 12 | BV104: =IF(BU104>25,"Abnormal","Normal") -> Normal | BW104: 28
A105: 104 | B105: C | C105: 12 | D105: =IF(C105>13,"14 - 17",IF(C105>9,"10 - 13",IF(C105>5,"6 - 9","2 - 5"))) -> 10 - 13 | E105: 45221 | F105: Male | G105: Rural | H105: HbAA | J105: No | K105: No | L105: No | M105: No | N105: No | O105: No | P105: No | Q105: No | R105: No | S105: No | T105: No | U105: 0 | V105: 1 | W105: 36 | X105: Normal | Y105: 141 | Z105: Normal | AA105: 18.1 | AB105: =W105/(((Y105/100))^2) -> 18.107741 | AC105: Normal | AD105: No | AE105: Normal | AF105: No | AG105: 80 | AH105: Normal | AI105: Normal | AJ105: 20 | AK105: Normal | AL105: 99 | AM105: 0 | AN105: 0 | AO105: 110 | AP105: 60 | AQ105: <50th/<50th | AR105: 35 | AS105: =AR105/3 -> 11.666667 | AT105: =IF(AS105>6.99,"No","Yes") -> No | AU105: =IF(AR105>32,"Normal",IF(AR105>29,"Mild",IF(AR105>20,"Moderate","Severe"))) -> Normal | AV105: 7200 | AW105: 205000 | AY105: 83 | AZ105: Normal | BA105: Sinus | BB105: 1 | BC105: 0.1 | BD105: =IF(BC105<0.12,"Normal","Abnormal") -> Normal | BE105: 0.17 | BF105: Normal | BG105: Normal | BH105: 0.42 | BI105: =IF(BH105>0.46,"Prolonged","Normal") -> Normal | BJ105: 1 | BK105: Normal | BL105: 0.08 | BM105: 2 | BN105: 20 | BO105: 8 | BP105: =IF(BO105>24,"Abnormal","Normal") -> Normal | BQ105: 0.4 | BR105: =IF(BQ105>1,"Abnormal","Normal") -> Normal | BS105: 24 | BT105: 36 | BU105: 30 | BV105: =IF(BU105>25,"Abnormal","Normal") -> Abnormal | BW105: 32
... A136: 135 | B136: C | C136: 7 | D136: =IF(C136>13,"14 - 17",IF(C136>9,"10 - 13",IF(C136>5,"6 - 9","2 - 5"))) -> 6 - 9 | E136: 45237 | F136: Female | G136: Rural | H136: HbAA | J136: No | K136: No | L136: No | M136: No | N136: No | O136: No | P136: No | Q136: No | R136: No | S136: No | T136: No | U136: 0 | V136: 2 | W136: 25 | X136: Normal | Y136: 125 | Z136: Normal | AA136: 16 | AB136: =W136/(((Y136/100))^2) -> 16 | AC136: Normal | AD136: No | AE136: Normal | AF136: No | AG136: 86 | AH136: Normal | AI136: Normal | AJ136: 14 | AK136: Normal | AL136: 100 | AM136: 0 | AN136: 0 | AO136: 100 | AP136: 60 | AQ136: 50th/50th | AR136: 35 | AS136: =AR136/3 -> 11.666667 | AT136: =IF(AS136>6.99,"No","Yes") -> No | AU136: =IF(AR136>32,"Normal",IF(AR136>29,"Mild",IF(AR136>20,"Moderate","Severe"))) -> Normal | AV136: 8300 | AW136: 283000 | AY136: 85 | AZ136: Normal | BA136: Sinus | BB136: 1 | BC136: 0.1 | BD136: =IF(BC136<0.12,"Normal","Abnormal") -> Normal | BE136: 0.14 | BF136: Normal | BG136: Normal | BH136: 0.41 | BI136: =IF(BH136>0.46,"Prolonged","Normal") -> Normal | BJ136: 1 | BK136: Normal | BL136: 0.08 | BM136: 2 | BN136: 10 | BO136: 4 | BP136: =IF(BO136>24,"Abnormal","Normal") -> Normal | BQ136: 0.4 | BR136: =IF(BQ136>1,"Abnormal","Normal") -> Normal | BS136: 8 | BT136: 30 | BU136: 20 | BV136: =IF(BU136>25,"Abnormal","Normal") -> Normal | BW136: 36

Sheet Sheet4
A1: Group | B1: =Mahjeeq_!D1 -> Age_Group
A2: A | B2: =Mahjeeq_!D2 -> 14 - 17
A3: A | B3: =Mahjeeq_!D3 -> 10 - 13
A4: A | B4: =Mahjeeq_!D4 -> 2 - 5
A5: A | B5: =Mahjeeq_!D5 -> 10 - 13
A6: A | B6: =Mahjeeq_!D6 -> 14 - 17
A7: A | B7: =Mahjeeq_!D7 -> 14 - 17
A8: A | B8: =Mahjeeq_!D8 -> 6 - 9
A9: A | B9: =Mahjeeq_!D9 -> 2 - 5
A10: A | B10: =Mahjeeq_!D10 -> 10 - 13
A11: A | B11: =Mahjeeq_!D11 -> 14 - 17
A12: A | B12: =Mahjeeq_!D12 -> 6 - 9
... A136: C | B136: =Mahjeeq_!D136 -> 6 - 9

Sheet Sheet1
A1: Severe Anaemia | B1: Code | C1: Recode
A2: No | B2: =IF(A2="Yes",1,2) -> 2 | C2: =IF(B2="High",1,IF(B2="Middle",2,3)) -> 3
A3: No | B3: =IF(A3="Yes",1,2) -> 2 | C3: =IF(B3="High",1,IF(B3="Middle",2,3)) -> 3
A4: No | B4: =IF(A4="Yes",1,2) -> 2 | C4: =IF(B4="High",1,IF(B4="Middle",2,3)) -> 3
A5: No | B5: =IF(A5="Yes",1,2) -> 2 | C5: =IF(B5="High",1,IF(B5="Middle",2,3)) -> 3
A6: No | B6: =IF(A6="Yes",1,2) -> 2 | C6: =IF(B6="High",1,IF(B6="Middle",2,3)) -> 3
A7: No | B7: =IF(A7="Yes",1,2) -> 2 | C7: =IF(B7="High",1,IF(B7="Middle",2,3)) -> 3
A8: No | B8: =IF(A8="Yes",1,2) -> 2 | C8: =IF(B8="High",1,IF(B8="Middle",2,3)) -> 3
A9: No | B9: =IF(A9="Yes",1,2) -> 2 | C9: =IF(B9="High",1,IF(B9="Middle",2,3)) -> 3
A10: No | B10: =IF(A10="Yes",1,2) -> 2 | C10: =IF(B10="High",1,IF(B10="Middle",2,3)) -> 3
A11: No | B11: =IF(A11="Yes",1,2) -> 2 | C11: =IF(B11="High",1,IF(B11="Middle",2,3)) -> 3
A12: No | B12: =IF(A12="Yes",1,2) -> 2 | C12: =IF(B12="High",1,IF(B12="Middle",2,3)) -> 3
A13: No | B13: =IF(A13="Yes",1,2) -> 2 | C13: =IF(B13="High",1,IF(B13="Middle",2,3)) -> 3
... A136: No | B136: =IF(A136="Yes",1,2) -> 2 | C136: =IF(B136="High",1,IF(B136="Middle",2,3)) -> 3

Sheet Sheet2
A2: Group | B2: A | E2: B | H2: C
A3: A | B3: Female | D3: B | E3: Male | G3: C | H3: Female
A4: A | B4: Male | D4: B | E4: Male | G4: C | H4: Male
A5: A | B5: Male | D5: B | E5: Male | G5: C | H5: Male
A6: A | B6: Female | D6: B | E6: Male | G6: C | H6: Male
A7: A | B7: Male | D7: B | E7: Male | G7: C | H7: Male
A8: A | B8: Male | D8: B | E8: Male | G8: C | H8: Male
A9: A | B9: Female | D9: B | E9: Female | G9: C | H9: Male
A10: A | B10: Female | D10: B | E10: Male | G10: C | H10: Female
A11: A | B11: Male | D11: B | E11: Female | G11: C | H11: Female
A12: A | B12: Female | D12: B | E12: Female | G12: C | H12: Male
A13: A | B13: Male | D13: B | E13: Male | G13: C | H13: Male
A14: A | B14: Female | D14: B | E14: Male | G14: C | H14: Male
... A47: A | B47: Male | D47: B | E47: Male | G47: C | H47: Female

Sheet Sheet3
A1: A | B1: B | C1: C
A2: Female | B2: Male | C2: Female
A3: Male | B3: Male | C3: Male
A4: Male | B4: Male | C4: Male
A5: Female | B5: Male | C5: Male
A6: Male | B6: Male | C6: Male
A7: Male | B7: Male | C7: Male
A8: Female | B8: Female | C8: Male
A9: Female | B9: Male | C9: Female
A10: Male | B10: Female | C10: Female
A11: Female | B11: Female | C11: Male
A12: Male | B12: Male | C12: Male
... A46: Male | B46: Male | C46: Female
