Workbook

Sheet Manual
B4: This supplement is structured in the following sheets:
B6: IncidenceComplications | C6: This sheet contains the incidence calculations with the complete population of the sickness fund
B7: TotalCosts | C7: Total costs contains the sum of all the costs calculated in the other sheets and gives a covariance and correlation matrix for the different components of the total costs
B8: Inpatient | C8: This sheet contains the inpatient costs of influenza (no control group necessary) and the inpatient costs of AOM an CAP using the matched control design.
B9: Outpatient | C9: This sheet contains the outpatient costs of influenza, AOM and CAP. The matched-control design was used for all, as outpatient costs are not directly linkable to influenza.
B10: Pharmaceutical | C10: This sheet contains the pharmaceutical costs of influenza, AOM and CAP. The matched-control design was used for all, as outpatient costs are not directly linkable to influenza.
B11: Sick_Leave | C11: This sheet contains the days of sick leave directly attributable to influenza and the difference in sick leave between the influenza and the control group for AOM and CAP. Sub-analyses are presented for the employed persons of the SHI.
B12: External_Sources | C12: This sheet contains information from the German Federal Statistical Office on the age-stratified income and inflation rates for Germany.
B15: Glossary:
B16: SHI | C16: Statutory Health Insurance
B17: sample | C17: The sample of 100.000 influenza cases drawn from the SHI population
B18: matched sample | C18: The persons of the sample for which a control was found, i.e. 95,089
B20: The sheets are usually structured with the absolute numbers at the top, stratified by age group, year and as a total. Beneath are calculations of percentages or the differences between the influenza and the control group including the statistical test used to find differences between the groups.

Sheet IncidenceComplications
H2: Flu | J2: Control | M2: No. AOM | O2: AOM hospital | W2: No. CAP | Y2: CAP hospital
A3: Year | B3: Age group | C3: German population | D3: No. insured | E3: No. influenza | F3: No. in sample | G3: No. with Match | H3: MG | I3: FV | J3: MG | K3: FV | M3: flu | N3: control | O3: flu | P3: control | W3: flu | X3: control | Y3: flu | Z3: control
A4: 2012 | B4: 0 to 1 | C4: 1340259 | D4: 156038 | E4: 2810 | F4: 560 | G4: 476 | H4: 0 | I4: 476 | J4: 0 | K4: 476 | M4: 132 | N4: 59 | O4: 0 | P4: 0 | W4: 61 | X4: 7 | Y4: 5 | Z4: 0
B5: 2 to 5 | C5: 2745306 | D5: 294149 | E5: 5338 | F5: 1945 | G5: 1534 | H5: 11 | I5: 1523 | J5: 8 | K5: 1526 | M5: 494 | N5: 329 | O5: 1 | P5: 1 | W5: 158 | X5: 61 | Y5: 16 | Z5: 6
B6: 6 to 9 | C6: 2788986 | D6: 303176 | E6: 3398 | F6: 1236 | G6: 1102 | H6: 3 | I6: 1099 | J6: 5 | K6: 1097 | M6: 168 | N6: 115 | O6: 0 | P6: 2 | W6: 91 | X6: 21 | Y6: 8 | Z6: 1
B7: 10 to 17 | C7: 6216336 | D7: 715550 | E7: 7110 | F7: 2279 | G7: 2032 | H7: 116 | I7: 1916 | J7: 86 | K7: 1946 | M7: 154 | N7: 59 | O7: 0 | P7: 0 | W7: 120 | X7: 16 | Y7: 6 | Z7: 0
B8: 18 to 34 | C8: 16223807 | D8: 1966463 | E8: 20564 | F8: 6893 | G8: 6601 | H8: 5580 | I8: 1021 | J8: 5215 | K8: 1386 | M8: 239 | N8: 91 | O8: 1 | P8: 1 | W8: 209 | X8: 12 | Y8: 13 | Z8: 0
B9: 35 to 59 | C9: 29504293 | D9: 3199497 | E9: 28228 | F9: 9725 | G9: 9478 | H9: 8836 | I9: 642 | J9: 8407 | K9: 1071 | M9: 299 | N9: 105 | O9: 1 | P9: 0 | W9: 412 | X9: 44 | Y9: 23 | Z9: 1
B10: 60 plus | C10: 21704759 | D10: 1403735 | E10: 7009 | F10: 2585 | G10: 2479 | H10: 2337 | I10: 142 | J10: 2285 | K10: 194 | M10: 94 | N10: 19 | O10: 0 | P10: 0 | W10: 227 | X10: 21 | Y10: 17 | Z10: 1
B11: Total | C11: 80523746 | D11: =SUM(D4:D10) -> 8038608 | E11: =SUM(E4:E10) -> 74457 | F11: =SUM(F4:F10) -> 25223 | G11: =SUM(G4:G10) -> 23702 | H11: =SUM(H4:H10) -> 16883 | I11: =SUM(I4:I10) -> 6819 | J11: =SUM(J4:J10) -> 16006 | K11: =SUM(K4:K10) -> 7696 | M11: =SUM(M4:M10) -> 1580 | N11: =SUM(N4:N10) -> 777 | O11: =SUM(O4:O10) -> 3 | P11: =SUM(P4:P10) -> 4 | W11: =SUM(W4:W10) -> 1278 | X11: =SUM(X4:X10) -> 182 | Y11: =SUM(Y4:Y10) -> 88 | Z11: =SUM(Z4:Z10) -> 9
A12: 2013 | B12: 0 to 1 | C12: 1367407 | D12: 167938 | E12: 5001 | F12: 824 | G12: 746 | H12: 0 | I12: 746 | J12: 1 | K12: 745 | M12: 208 | N12: 116 | O12: 0 | P12: 0 | W12: 101 | X12: 25 | Y12: 16 | Z12: 5
B13: 2 to 5 | C13: 2741092 | D13: 313284 | E13: 12183 | F13: 4197 | G13: 3470 | H13: 22 | I13: 3448 | J13: 23 | K13: 3447 | M13: 1183 | N13: 882 | O13: 2 | P13: 1 | W13: 406 | X13: 130 | Y13: 42 | Z13: 9
B14: 6 to 9 | C14: 2789553 | D14: 307783 | E14: 8974 | F14: 3229 | G14: 2913 | H14: 30 | I14: 2883 | J14: 26 | K14: 2887 | M14: 460 | N14: 318 | O14: 1 | P14: 1 | W14: 165 | X14: 43 | Y14: 9 | Z14: 3
B15: 10 to 17 | C15: 6177477 | D15: 729282 | E15: 14916 | F15: 5050 | G15: 4722 | H15: 229 | I15: 4493 | J15: 207 | K15: 4515 | M15: 333 | N15: 152 | O15: 1 | P15: 0 | W15: 178 | X15: 27 | Y15: 5 | Z15: 0
B16: 18 to 34 | C16: 16311826 | D16: 2083686 | E16: 36252 | F16: 12075 | G16: 11819 | H16: 10091 | I16: 1728 | J16: 9405 | K16: 2414 | M16: 409 | N16: 164 | O16: 3 | P16: 1 | W16: 287 | X16: 31 | Y16: 12 | Z16: 3
B17: 35 to 59 | C17: 29432348 | D17: 3324677 | E17: 61527 | F17: 21082 | G17: 20869 | H17: 19580 | I17: 1289 | J17: 18707 | K17: 2162 | M17: 600 | N17: 248 | O17: 4 | P17: 3 | W17: 887 | X17: 141 | Y17: 41 | Z17: 4
B18: 60 plus | C18: 21947760 | D18: 1485549 | E18: 11465 | F18: 4342 | G18: 4247 | H18: 3980 | I18: 267 | J18: 3939 | K18: 308 | M18: 128 | N18: 40 | O18: 0 | P18: 0 | W18: 363 | X18: 29 | Y18: 50 | Z18: 5
B19: Total | C19: 80767463 | D19: =SUM(D12:D18) -> 8412199 | E19: =SUM(E12:E18) -> 150318 | F19: =SUM(F12:F18) -> 50799 | G19: =SUM(G12:G18) -> 48786 | H19: =SUM(H12:H18) -> 33932 | I19: =SUM(I12:I18) -> 14854 | J19: =SUM(J12:J18) -> 32308 | K19: =SUM(K12:K18) -> 16478 | M19: =SUM(M12:M18) -> 3321 | N19: =SUM(N12:N18) -> 1920 | O19: =SUM(O12:O18) -> 11 | P19: =SUM(P12:P18) -> 6 | W19: =SUM(W12:W18) -> 2387 | X19: =SUM(X12:X18) -> 426 | Y19: =SUM(Y12:Y18) -> 175 | Z19: =SUM(Z12:Z18) -> 29
A20: 2014 | B20: 0 to 1 | C20: 1412334 | D20: 181999 | E20: 2631 | F20: 551 | G20: 471 | H20: 1 | I20: 470 | J20: 0 | K20: 471 | M20: 147 | N20: 68 | O20: 4 | P20: 0 | W20: 51 | X20: 11 | Y20: 0 | Z20: 0
B21: 2 to 5 | C21: 2761928 | D21: 337143 | E21: 4311 | F21: 1613 | G21: 1320 | H21: 5 | I21: 1315 | J21: 8 | K21: 1312 | M21: 445 | N21: 274 | O21: 1 | P21: 1 | W21: 162 | X21: 42 | Y21: 18 | Z21: 1
B22: 6 to 9 | C22: 2803627 | D22: 315674 | E22: 2558 | F22: 950 | G22: 845 | H22: 6 | I22: 839 | J22: 3 | K22: 842 | M22: 150 | N22: 64 | O22: 0 | P22: 0 | W22: 68 | X22: 13 | Y22: 4 | Z22: 0
B23: 10 to 17 | C23: 6134131 | D23: 745198 | E23: 6047 | F23: 1855 | G23: 1651 | H23: 113 | I23: 1538 | J23: 72 | K23: 1579 | M23: 122 | N23: 52 | O23: 0 | P23: 0 | W23: 87 | X23: 4 | Y23: 3 | Z23: 0
B24: 18 to 34 | C24: 16468726 | D24: 2228836 | E24: 20803 | F24: 6949 | G24: 6639 | H24: 5688 | I24: 951 | J24: 5272 | K24: 1367 | M24: 269 | N24: 79 | O24: 2 | P24: 0 | W24: 162 | X24: 26 | Y24: 5 | Z24: 1
B25: 35 to 59 | C25: 29375103 | D25: 3469196 | E25: 27388 | F25: 9454 | G25: 9184 | H25: 8678 | I25: 506 | J25: 8297 | K25: 887 | M25: 316 | N25: 77 | O25: 6 | P25: 0 | W25: 413 | X25: 35 | Y25: 23 | Z25: 0
B26: 60 plus | C26: 22241688 | D26: 1571690 | E26: 7033 | F26: 2606 | G26: 2491 | H26: 2379 | I26: 112 | J26: 2332 | K26: 159 | M26: 112 | N26: 21 | O26: 2 | P26: 0 | W26: 224 | X26: 26 | Y26: 15 | Z26: 2
B27: Total | C27: 81197537 | D27: =SUM(D20:D26) -> 8849736 | E27: =SUM(E20:E26) -> 70771 | F27: =SUM(F20:F26) -> 23978 | G27: =SUM(G20:G26) -> 22601 | H27: =SUM(H20:H26) -> 16870 | I27: =SUM(I20:I26) -> 5731 | J27: =SUM(J20:J26) -> 15984 | K27: =SUM(K20:K26) -> 6617 | M27: =SUM(M20:M26) -> 1561 | N27: =SUM(N20:N26) -> 635 | O27: =SUM(O20:O26) -> 15 | P27: =SUM(P20:P26) -> 1 | W27: =SUM(W20:W26) -> 1167 | X27: =SUM(X20:X26) -> 157 | Y27: =SUM(Y20:Y26) -> 68 | Z27: =SUM(Z20:Z26) -> 4
A28: Total | C28: =C27+C19+C11 -> 242488746 | D28: =D27+D19+D11 -> 25300543 | E28: =E27+E19+E11 -> 295546 | F28: =F27+F19+F11 -> 100000 | G28: =G27+G19+G11 -> 95089 | H28: =H27+H19+H11 -> 67685 | I28: =I27+I19+I11 -> 27404 | J28: =J27+J19+J11 -> 64298 | K28: =K27+K19+K11 -> 30791 | M28: =M27+M19+M11 -> 6462 | N28: =N27+N19+N11 -> 3332 | O28: =O27+O19+O11 -> 29 | P28: =P27+P19+P11 -> 11 | W28: =W27+W19+W11 -> 4832 | X28: =X27+X19+X11 -> 765 | Y28: =Y27+Y19+Y11 -> 331 | Z28: =Z27+Z19+Z11 -> 42
A29: Absolute numbers (sums) | B29: 0 to 1 | C29: =C4+C12+C20 -> 4120000 | D29: =D4+D12+D20 -> 505975 | E29: =E4+E12+E20 -> 10442 | F29: =F4+F12+F20 -> 1935 | G29: =G4+G12+G20 -> 1693 | H29: =H4+H12+H20 -> 1 | I29: =I4+I12+I20 -> 1692 | J29: =J4+J12+J20 -> 1 | K29: =K4+K12+K20 -> 1692 | M29: =M4+M12+M20 -> 487 | N29: =N4+N12+N20 -> 243 | O29: =O4+O12+O20 -> 4 | P29: =P4+P12+P20 -> 0 | W29: =W4+W12+W20 -> 213 | X29: =X4+X12+X20 -> 43 | Y29: =Y4+Y12+Y20 -> 21 | Z29: =Z4+Z12+Z20 -> 5
B30: 2 to 5 | C30: =C5+C13+C21 -> 8248326 | D30: =D5+D13+D21 -> 944576 | E30: =E5+E13+E21 -> 21832 | F30: =F5+F13+F21 -> 7755 | G30: =G5+G13+G21 -> 6324 | H30: =H5+H13+H21 -> 38 | I30: =I5+I13+I21 -> 6286 | J30: =J5+J13+J21 -> 39 | K30: =K5+K13+K21 -> 6285 | M30: =M5+M13+M21 -> 2122 | N30: =N5+N13+N21 -> 1485 | O30: =O5+O13+O21 -> 4 | P30: =P5+P13+P21 -> 3 | W30: =W5+W13+W21 -> 726 | X30: =X5+X13+X21 -> 233 | Y30: =Y5+Y13+Y21 -> 76 | Z30: =Z5+Z13+Z21 -> 16
B31: 6 to 9 | C31: =C6+C14+C22 -> 8382166 | D31: =D6+D14+D22 -> 926633 | E31: =E6+E14+E22 -> 14930 | F31: =F6+F14+F22 -> 5415 | G31: =G6+G14+G22 -> 4860 | H31: =H6+H14+H22 -> 39 | I31: =I6+I14+I22 -> 4821 | J31: =J6+J14+J22 -> 34 | K31: =K6+K14+K22 -> 4826 | M31: =M6+M14+M22 -> 778 | N31: =N6+N14+N22 -> 497 | O31: =O6+O14+O22 -> 1 | P31: =P6+P14+P22 -> 3 | W31: =W6+W14+W22 -> 324 | X31: =X6+X14+X22 -> 77 | Y31: =Y6+Y14+Y22 -> 21 | Z31: =Z6+Z14+Z22 -> 4
B32: 10 to 17 | C32: =C7+C15+C23 -> 18527944 | D32: =D7+D15+D23 -> 2190030 | E32: =E7+E15+E23 -> 28073 | F32: =F7+F15+F23 -> 9184 | G32: =G7+G15+G23 -> 8405 | H32: =H7+H15+H23 -> 458 | I32: =I7+I15+I23 -> 7947 | J32: =J7+J15+J23 -> 365 | K32: =K7+K15+K23 -> 8040 | M32: =M7+M15+M23 -> 609 | N32: =N7+N15+N23 -> 263 | O32: =O7+O15+O23 -> 1 | P32: =P7+P15+P23 -> 0 | W32: =W7+W15+W23 -> 385 | X32: =X7+X15+X23 -> 47 | Y32: =Y7+Y15+Y23 -> 14 | Z32: =Z7+Z15+Z23 -> 0
B33: 18 to 34 | C33: =C8+C16+C24 -> 49004359 | D33: =D8+D16+D24 -> 6278985 | E33: =E8+E16+E24 -> 77619 | F33: =F8+F16+F24 -> 25917 | G33: =G8+G16+G24 -> 25059 | H33: =H8+H16+H24 -> 21359 | I33: =I8+I16+I24 -> 3700 | J33: =J8+J16+J24 -> 19892 | K33: =K8+K16+K24 -> 5167 | M33: =M8+M16+M24 -> 917 | N33: =N8+N16+N24 -> 334 | O33: =O8+O16+O24 -> 6 | P33: =P8+P16+P24 -> 2 | W33: =W8+W16+W24 -> 658 | X33: =X8+X16+X24 -> 69 | Y33: =Y8+Y16+Y24 -> 30 | Z33: =Z8+Z16+Z24 -> 4
B34: 35 to 59 | C34: =C9+C17+C25 -> 88311744 | D34: =D9+D17+D25 -> 9993370 | E34: =E9+E17+E25 -> 117143 | F34: =F9+F17+F25 -> 40261 | G34: =G9+G17+G25 -> 39531 | H34: =H9+H17+H25 -> 37094 | I34: =I9+I17+I25 -> 2437 | J34: =J9+J17+J25 -> 35411 | K34: =K9+K17+K25 -> 4120 | M34: =M9+M17+M25 -> 1215 | N34: =N9+N17+N25 -> 430 | O34: =O9+O17+O25 -> 11 | P34: =P9+P17+P25 -> 3 | W34: =W9+W17+W25 -> 1712 | X34: =X9+X17+X25 -> 220 | Y34: =Y9+Y17+Y25 -> 87 | Z34: =Z9+Z17+Z25 -> 5
B35: 60 plus | C35: =C10+C18+C26 -> 65894207 | D35: =D10+D18+D26 -> 4460974 | E35: =E10+E18+E26 -> 25507 | F35: =F10+F18+F26 -> 9533 | G35: =G10+G18+G26 -> 9217 | H35: =H10+H18+H26 -> 8696 | I35: =I10+I18+I26 -> 521 | J35: =J10+J18+J26 -> 8556 | K35: =K10+K18+K26 -> 661 | M35: =M10+M18+M26 -> 334 | N35: =N10+N18+N26 -> 80 | O35: =O10+O18+O26 -> 2 | P35: =P10+P18+P26 -> 0 | W35: =W10+W18+W26 -> 814 | X35: =X10+X18+X26 -> 76 | Y35: =Y10+Y18+Y26 -> 82 | Z35: =Z10+Z18+Z26 -> 8
B36: Total | C36: =C11+C19+C27 -> 242488746 | D36: =D11+D19+D27 -> 25300543 | E36: =E11+E19+E27 -> 295546 | F36: =F11+F19+F27 -> 100000 | G36: =G11+G19+G27 -> 95089 | H36: =H11+H19+H27 -> 67685 | I36: =I11+I19+I27 -> 27404 | J36: =J11+J19+J27 -> 64298 | K36: =K11+K19+K27 -> 30791 | M36: =M11+M19+M27 -> 6462 | N36: =N11+N19+N27 -> 3332 | O36: =O11+O19+O27 -> 29 | P36: =P11+P19+P27 -> 11 | W36: =W11+W19+W27 -> 4832 | X36: =X11+X19+X27 -> 765 | Y36: =Y11+Y19+Y27 -> 331 | Z36: =Z11+Z19+Z27 -> 42
D37: =D11/C11 -> 0.099829037
D38: =D19/C19 -> 0.10415331
D39: =D27/C27 -> 0.1089902
H40: Flu | J40: Control | M40: No. AOM | R40: AOM hospital | W40: No. CAP | AB40: CAP hospital
A41: Year | B41: Age group | D41: No insured | E41: No influenza | F41: No in sample | G41: No with Match | H41: MG | I41: FV | J41: MG | K41: FV | M41: flu | N41: control | O41: delta | P41: Z-test | Q41: p-Value | R41: flu | S41: control | T41: delta | U41: Z-test | V41: p-Value | W41: flu | X41: control | Y41: delta | Z41: Z-test | AA41: p-Value | AB41: flu | AC41: control | AD41: delta | AE41: Z-test | AF41: p-Value
...

Sheet TotalCosts
E6: Per Case | M6: Population
A7: Year | B7: Age group | C7: Influenza cases | E7: Inpatient Flu | F7: Inpatient AOM | G7: Inpatient CAP | H7: Outpatient | I7: Pharmaceutical | J7: Total Direct | K7: Indirect | L7: Total | M7: Inpatient | N7: Inpatient AOM | O7: Inpatient CAP | P7: Outpatient | Q7: Pharmaceutical | R7: Total Direct | S7: Indirect | T7: Total
A8: 2012 | B8: 0 to 1 | C8: =IncidenceComplications!C4*IncidenceComplications!E42 -> 24135.966 | E8: =Inpatient!C47*Inpatient!M7 -> 43.455289 | F8: =Inpatient!Y47/IncidenceComplications!G4 -> 0 | G8: =Inpatient!AO47/IncidenceComplications!G4 -> 38.643996 | H8: =Outpatient!N47 -> 61.986963 | I8: =Pharmaceutical!N47 -> 7.1851766 | J8: =SUM(E8:I8) -> 151.27142 | K8: =Sick_Leave!K7/IncidenceComplications!G4 -> 0 | L8: =J8+K8 -> 151.27142 | M8: =$C8*E8 -> 1048835.3 | N8: =$C8*F8 -> 0 | O8: =$C8*G8 -> 932710.16 | P8: =$C8*H8 -> 1496115.2 | Q8: =$C8*I8 -> 173421.17 | R8: =$C8*J8 -> 3651081.9 | S8: =$C8*K8 -> 0 | T8: =$C8*L8 -> 3651081.9
B9: 2 to 5 | C9: =IncidenceComplications!C5*IncidenceComplications!E43 -> 49819.797 | E9: =Inpatient!C48*Inpatient!M8 -> 13.665836 | F9: =Inpatient!Y48/IncidenceComplications!G5 -> -0.13747005 | G9: =Inpatient!AO48/IncidenceComplications!G5 -> 19.483308 | H9: =Outpatient!N48 -> 37.237687 | I9: =Pharmaceutical!N48 -> 6.8509634 | J9: =SUM(E9:I9) -> 77.100324 | K9: =Sick_Leave!K8/IncidenceComplications!G5 -> 0 | L9: =J9+K9 -> 77.100324 | M9: =$C9*E9 -> 680829.15 | N9: =$C9*F9 -> -6848.7298 | O9: =$C9*G9 -> 970654.45 | P9: =$C9*H9 -> 1855174 | Q9: =$C9*I9 -> 341313.61 | R9: =$C9*J9 -> 3841122.5 | S9: =$C9*K9 -> 0 | T9: =$C9*L9 -> 3841122.5
B10: 6 to 9 | C10: =IncidenceComplications!C6*IncidenceComplications!E44 -> 31258.986 | E10: =Inpatient!C49*Inpatient!M9 -> 5.680379 | F10: =Inpatient!Y49/IncidenceComplications!G6 -> -4.3013986 | G10: =Inpatient!AO49/IncidenceComplications!G6 -> 16.98467 | H10: =Outpatient!N49 -> 28.273647 | I10: =Pharmaceutical!N49 -> 8.2528184 | J10: =SUM(E10:I10) -> 54.890116 | K10: =Sick_Leave!K9/IncidenceComplications!G6 -> 0 | L10: =J10+K10 -> 54.890116 | M10: =$C10*E10 -> 177562.89 | N10: =$C10*F10 -> -134457.36 | O10: =$C10*G10 -> 530923.58 | P10: =$C10*H10 -> 883805.55 | Q10: =$C10*I10 -> 257974.74 | R10: =$C10*J10 -> 1715809.4 | S10: =$C10*K10 -> 0 | T10: =$C10*L10 -> 1715809.4
B11: 10 to 17 | C11: =IncidenceComplications!C7*IncidenceComplications!E45 -> 61768.079 | E11: =Inpatient!C50*Inpatient!M10 -> 10.90825 | F11: =Inpatient!Y50/IncidenceComplications!G7 -> 0 | G11: =Inpatient!AO50/IncidenceComplications!G7 -> 6.8186696 | H11: =Outpatient!N50 -> 66.837741 | I11: =Pharmaceutical!N50 -> 7.9282283 | J11: =SUM(E11:I11) -> 92.492889 | K11: =Sick_Leave!K10/IncidenceComplications!G7 -> 3.3121585 | L11: =J11+K11 -> 95.805048 | M11: =$C11*E11 -> 673781.65 | N11: =$C11*F11 -> 0 | O11: =$C11*G11 -> 421176.13 | P11: =$C11*H11 -> 4128438.9 | Q11: =$C11*I11 -> 489711.43 | R11: =$C11*J11 -> 5713108.1 | S11: =$C11*K11 -> 204585.67 | T11: =$C11*L11 -> 5917693.7
B12: 18 to 34 | C12: =IncidenceComplications!C8*IncidenceComplications!E46 -> 169658.1 | E12: =Inpatient!C51*Inpatient!M11 -> 5.3469653 | F12: =Inpatient!Y51/IncidenceComplications!G8 -> 0.16578018 | G12: =Inpatient!AO51/IncidenceComplications!G8 -> 4.3069794 | H12: =Outpatient!N51 -> 53.760705 | I12: =Pharmaceutical!N51 -> 4.4213549 | J12: =SUM(E12:I12) -> 68.001785 | K12: =Sick_Leave!K11/IncidenceComplications!G8 -> 139.37659 | L12: =J12+K12 -> 207.37837 | M12: =$C12*E12 -> 907155.94 | N12: =$C12*F12 -> 28125.95 | O12: =$C12*G12 -> 730713.93 | P12: =$C12*H12 -> 9120938.9 | Q12: =$C12*I12 -> 750118.65 | R12: =$C12*J12 -> 11537053 | S12: =$C12*K12 -> 23646366 | T12: =$C12*L12 -> 35183420
B13: 35 to 59 | C13: =IncidenceComplications!C9*IncidenceComplications!E47 -> 260305.66 | E13: =Inpatient!C52*Inpatient!M12 -> 3.0296929 | F13: =Inpatient!Y52/IncidenceComplications!G9 -> 0.18748272 | G13: =Inpatient!AO52/IncidenceComplications!G9 -> 5.475467 | H13: =Outpatient!N52 -> 67.653051 | I13: =Pharmaceutical!N52 -> 6.1275699 | J13: =SUM(E13:I13) -> 82.473263 | K13: =Sick_Leave!K12/IncidenceComplications!G9 -> 328.49255 | L13: =J13+K13 -> 410.96582 | M13: =$C13*E13 -> 788646.21 | N13: =$C13*F13 -> 48802.813 | O13: =$C13*G13 -> 1425295.1 | P13: =$C13*H13 -> 17610472 | Q13: =$C13*I13 -> 1595041.1 | R13: =$C13*J13 -> 21468257 | S13: =$C13*K13 -> 85508471 | T13: =$C13*L13 -> 1.0697673e+08
B14: 60 plus | C14: =IncidenceComplications!C10*IncidenceComplications!E48 -> 108374.2 | E14: =Inpatient!C53*Inpatient!M13 -> 19.005997 | F14: =Inpatient!Y53/IncidenceComplications!G10 -> 0 | G14: =Inpatient!AO53/IncidenceComplications!G10 -> 30.584517 | H14: =Outpatient!N53 -> 63.783311 | I14: =Pharmaceutical!N53 -> 7.202694 | J14: =SUM(E14:I14) -> 120.57652 | K14: =Sick_Leave!K13/IncidenceComplications!G10 -> 70.943381 | L14: =J14+K14 -> 191.5199 | M14: =$C14*E14 -> 2059759.7 | N14: =$C14*F14 -> 0 | O14: =$C14*G14 -> 3314572.5 | P14: =$C14*H14 -> 6912465.3 | Q14: =$C14*I14 -> 780586.19 | R14: =$C14*J14 -> 13067384 | S14: =$C14*K14 -> 7688432.1 | T14: =$C14*L14 -> 20755816
B15: Total | C15: =IncidenceComplications!C11*IncidenceComplications!E49 -> 745845.12 | E15: {=SUM(E8:E14*IncidenceComplications!$G4:$G10)/SUM(IncidenceComplications!$G4:$G10)} -> 7.6449272 | F15: =Inpatient!Y54/IncidenceComplications!G11 -> -0.087745512 | G15: =Inpatient!AO54/IncidenceComplications!G11 -> 9.999175 | H15: {=SUM(H8:H14*IncidenceComplications!$G4:$G10)/SUM(IncidenceComplications!$G4:$G10)} -> 59.396216 | I15: {=SUM(I8:I14*IncidenceComplications!$G4:$G10)/SUM(IncidenceComplications!$G4:$G10)} -> 6.0860787 | J15: =SUM(E15:I15) -> 83.038651 | K15: =Sick_Leave!K14/IncidenceComplications!G11 -> 177.8785 | L15: =J15+K15 -> 260.91715 | M15: =$C15*E15 -> 5701931.6 | N15: =$C15*F15 -> -65444.562 | O15: =$C15*G15 -> 7457835.9 | P15: =$C15*H15 -> 44300378 | Q15: =$C15*I15 -> 4539272.1 | R15: =$C15*J15 -> 61933973 | S15: =$C15*K15 -> 1.3266981e+08 | T15: =$C15*L15 -> 1.9460378e+08
A16: 2013 | B16: 0 to 1 | C16: =IncidenceComplications!C12*IncidenceComplications!E50 -> 40719.804 | E16: =Inpatient!C55*Inpatient!M15 -> 116.54592 | F16: =Inpatient!Y55/IncidenceComplications!G12 -> 0 | G16: =Inpatient!AO55/IncidenceComplications!G12 -> 256.45629 | H16: =Outpatient!N55 -> 36.219493 | I16: =Pharmaceutical!N55 -> 7.8588391 | J16: =SUM(E16:I16) -> 417.08054 | K16: =Sick_Leave!K15/IncidenceComplications!G12 -> 0 | L16: =J16+K16 -> 417.08054 | M16: =$C16*E16 -> 4745726.9 | N16: =$C16*F16 -> 0 | O16: =$C16*G16 -> 10442850 | P16: =$C16*H16 -> 1474850.6 | Q16: =$C16*I16 -> 320010.39 | R16: =$C16*J16 -> 16983438 | S16: =$C16*K16 -> 0 | T16: =$C16*L16 -> 16983438
B17: 2 to 5 | C17: =IncidenceComplications!C13*IncidenceComplications!E51 -> 106595.69 | E17: =Inpatient!C56*Inpatient!M16 -> 27.228466 | F17: =Inpatient!Y56/IncidenceComplications!G13 -> 0.26945743 | G17: =Inpatient!AO56/IncidenceComplications!G13 -> 28.61437 | H17: =Outpatient!N56 -> 51.447115 | I17: =Pharmaceutical!N56 -> 7.9786506 | J17: =SUM(E17:I17) -> 115.53806 | K17: =Sick_Leave!K16/IncidenceComplications!G13 -> 0 | L17: =J17+K17 -> 115.53806 | M17: =$C17*E17 -> 2902437 | N17: =$C17*F17 -> 28723 | O17: =$C17*G17 -> 3050168.5 | P17: =$C17*H17 -> 5484040.6 | Q17: =$C17*I17 -> 850489.76 | R17: =$C17*J17 -> 12315859 | S17: =$C17*K17 -> 0 | T17: =$C17*L17 -> 12315859
B18: 6 to 9 | C18: =IncidenceComplications!C14*IncidenceComplications!E52 -> 81334.735 | E18: =Inpatient!C57*Inpatient!M17 -> 16.400897 | F18: =Inpatient!Y57/IncidenceComplications!G14 -> -0.5423904 | G18: =Inpatient!AO57/IncidenceComplications!G14 -> 4.2723429 | H18: =Outpatient!N57 -> 35.770091 | I18: =Pharmaceutical!N57 -> 6.3895896 | J18: =SUM(E18:I18) -> 62.290531 | K18: =Sick_Leave!K17/IncidenceComplications!G14 -> 0 | L18: =J18+K18 -> 62.290531 | M18: =$C18*E18 -> 1333962.6 | N18: =$C18*F18 -> -44115.179 | O18: =$C18*G18 -> 347489.88 | P18: =$C18*H18 -> 2909350.9 | Q18: =$C18*I18 -> 519695.57 | R18: =$C18*J18 -> 5066383.8 | S18: =$C18*K18 -> 0 | T18: =$C18*L18 -> 5066383.8
B19: 10 to 17 | C19: =IncidenceComplications!C15*IncidenceComplications!E53 -> 126347.9 | E19: =Inpatient!C58*Inpatient!M18 -> 6.7022029 | F19: =Inpatient!Y58/IncidenceComplications!G15 -> 0.27365244 | G19: =Inpatient!AO58/IncidenceComplications!G15 -> 2.7283544 | H19: =Outpatient!N58 -> 48.978572 | I19: =Pharmaceutical!N58 -> 9.2573969 | J19: =SUM(E19:I19) -> 67.940179 | K19: =Sick_Leave!K18/IncidenceComplications!G15 -> 4.9983098 | L19: =J19+K19 -> 72.938488 | M19: =$C19*E19 -> 846809.24 | N19: =$C19*F19 -> 34575.41 | O19: =$C19*G19 -> 344721.84 | P19: =$C19*H19 -> 6188339.6 | Q19: =$C19*I19 -> 1169652.6 | R19: =$C19*J19 -> 8584098.7 | S19: =$C19*K19 -> 631525.93 | T19: =$C19*L19 -> 9215624.6
B20: 18 to 34 | C20: =IncidenceComplications!C16*IncidenceComplications!E54 -> 283793.39 | E20: =Inpatient!C59*Inpatient!M19 -> 6.4216457 | F20: =Inpatient!Y59/IncidenceComplications!G16 -> 0.19483739 | G20: =Inpatient!AO59/IncidenceComplications!G16 -> 2.3688941 | H20: =Outpatient!N59 -> 56.792918 | I20: =Pharmaceutical!N59 -> 5.2757656 | J20: =SUM(E20:I20) -> 71.054061 | K20: =Sick_Leave!K19/IncidenceComplications!G16 -> 144.04099 | L20: =J20+K20 -> 215.09505 | M20: =$C20*E20 -> 1822420.6 | N20: =$C20*F20 -> 55293.564 | O20: =$C20*G20 -> 672276.49 | P20: =$C20*H20 -> 16117455 | Q20: =$C20*I20 -> 1497227.4 | R20: =$C20*J20 -> 20164673 | S20: =$C20*K20 -> 40877882 | T20: =$C20*L20 -> 61042555
B21: 35 to 59 | C21: =IncidenceComplications!C17*IncidenceComplications!E55 -> 544679.7 | E21: =Inpatient!C60*Inpatient!M20 -> 5.8540258 | F21: =Inpatient!Y60/IncidenceComplications!G17 -> -0.051827451 | G21: =Inpatient!AO60/IncidenceComplications!G17 -> 5.6643363 | H21: =Outpatient!N60 -> 48.639013 | I21: =Pharmaceutical!N60 -> 6.1710535 | J21: =SUM(E21:I21) -> 66.276602 | K21: =Sick_Leave!K20/IncidenceComplications!G17 -> 360.09249 | L21: =J21+K21 -> 426.36909 | M21: =$C21*E21 -> 3188569 | N21: =$C21*F21 -> -28229.361 | O21: =$C21*G21 -> 3085249 | P21: =$C21*H21 -> 26492683 | Q21: =$C21*I21 -> 3361247.6 | R21: =$C21*J21 -> 36099520 | S21: =$C21*K21 -> 1.9613507e+08 | T21: =$C21*L21 -> 2.3223459e+08
B22: 60 plus | C22: =IncidenceComplications!C18*IncidenceComplications!E56 -> 169385.91 | E22: =Inpatient!C61*Inpatient!M21 -> 29.500192 | F22: =Inpatient!Y61/IncidenceComplications!G18 -> 0 | G22: =Inpatient!AO61/IncidenceComplications!G18 -> 42.674757 | H22: =Outpatient!N61 -> 69.269889 | I22: =Pharmaceutical!N61 -> 8.6169219 | J22: =SUM(E22:I22) -> 150.06176 | K22: =Sick_Leave!K21/IncidenceComplications!G18 -> 101.51223 | L22: =J22+K22 -> 251.57399 | M22: =$C22*E22 -> 4996916.9 | N22: =$C22*F22 -> 0 | O22: =$C22*G22 -> 7228502.6 | P22: =$C22*H22 -> 11733343 | Q22: =$C22*I22 -> 1459585.2 | R22: =$C22*J22 -> 25418348 | S22: =$C22*K22 -> 17194742 | T22: =$C22*L22 -> 42613089
B23: Total | C23: =IncidenceComplications!C19*IncidenceComplications!E57 -> 1443237.8 | E23: {=SUM(E16:E22*IncidenceComplications!$G12:$G18)/SUM(IncidenceComplications!$G12:$G18)} -> 11.974789 | F23: =Inpatient!Y62/IncidenceComplications!G19 -> 0.038298219 | G23: =Inpatient!AO62/IncidenceComplications!G19 -> 13.187873 | H23: {=SUM(H16:H22*IncidenceComplications!$G12:$G18)/SUM(IncidenceComplications!$G12:$G18)} -> 51.684676 | I23: {=SUM(I16:I22*IncidenceComplications!$G12:$G18)/SUM(IncidenceComplications!$G12:$G18)} -> 6.6332343 | J23: =SUM(E23:I23) -> 83.518871 | K23: =Sick_Leave!K22/IncidenceComplications!G19 -> 198.25186 | L23: =J23+K23 -> 281.77073 | M23: =$C23*E23 -> 17282468 | N23: =$C23*F23 -> 55273.437 | O23: =$C23*G23 -> 19033237 | P23: =$C23*H23 -> 74593278 | Q23: =$C23*I23 -> 9573334.5 | R23: =$C23*J23 -> 1.2053759e+08 | S23: =$C23*K23 -> 2.8612457e+08 | T23: =$C23*L23 -> 4.0666216e+08
A24: 2014 | B24: 0 to 1 | C24: =IncidenceComplications!C20*IncidenceComplications!E58 -> 20416.875 | E24: =Inpatient!C63*Inpatient!M23 -> 18.719533 | F24: =Inpatient!Y63/IncidenceComplications!G20 -> 13.211338 | G24: =Inpatient!AO63/IncidenceComplications!G20 -> 0 | H24: =Outpatient!N63 -> 52.469407 | I24: =Pharmaceutical!N63 -> 7.6010403 | J24: =SUM(E24:I24) -> 92.001318 | K24: =Sick_Leave!K23/IncidenceComplications!G20 -> 0 | L24: =J24+K24 -> 92.001318 | M24: =$C24*E24 -> 382194.36 | N24: =$C24*F24 -> 269734.22 | O24: =$C24*G24 -> 0 | P24: =$C24*H24 -> 1071261.3 | Q24: =$C24*I24 -> 155189.49 | R24: =$C24*J24 -> 1878379.4 | S24: =$C24*K24 -> 0 | T24: =$C24*L24 -> 1878379.4
B25: 2 to 5 | C25: =IncidenceComplications!C21*IncidenceComplications!E59 -> 35316.384 | E25: =Inpatient!C64*Inpatient!M24 -> 14.539106 | F25: =Inpatient!Y64/IncidenceComplications!G21 -> 1.726 | G25: =Inpatient!AO64/IncidenceComplications!G21 -> 33.975508 | H25: =Outpatient!N64 -> 42.990276 | I25: =Pharmaceutical!N64 -> 8.1868258 | J25: =SUM(E25:I25) -> 101.41772 | K25: =Sick_Leave!K24/IncidenceComplications!G21 -> 0 | L25: =J25+K25 -> 101.41772 | M25: =$C25*E25 -> 513468.65 | N25: =$C25*F25 -> 60956.079 | O25: =$C25*G25 -> 1199892.1 | P25: =$C25*H25 -> 1518261.1 | Q25: =$C25*I25 -> 289129.08 | R25: =$C25*J25 -> 3581707 | S25: =$C25*K25 -> 0 | T25: =$C25*L25 -> 3581707
B26: 6 to 9 | C26: =IncidenceComplications!C22*IncidenceComplications!E60 -> 22718.621 | E26: =Inpatient!C65*Inpatient!M25 -> 14.219562 | F26: =Inpatient!Y65/IncidenceComplications!G22 -> 0 | G26: =Inpatient!AO65/IncidenceComplications!G22 -> 11.957822 | H26: =Outpatient!N65 -> 52.333842 | I26: =Pharmaceutical!N65 -> 8.3833254 | J26: =SUM(E26:I26) -> 86.894552 | K26: =Sick_Leave!K25/IncidenceComplications!G22 -> 0 | L26: =J26+K26 -> 86.894552 | M26: =$C26*E26 -> 323048.84 | N26: =$C26*F26 -> 0 | O26: =$C26*G26 -> 271665.23 | P26: =$C26*H26 -> 1188952.7 | Q26: =$C26*I26 -> 190457.59 | R26: =$C26*J26 -> 1974124.4 | S26: =$C26*K26 -> 0 | T26: =$C26*L26 -> 1974124.4
B27: 10 to 17 | C27: =IncidenceComplications!C23*IncidenceComplications!E61 -> 49776.154 | E27: =Inpatient!C66*Inpatient!M26 -> 7.0589037 | F27: =Inpatient!Y66/IncidenceComplications!G23 -> 0 | G27: =Inpatient!AO66/IncidenceComplications!G23 -> 4.6863719 | H27: =Outpatient!N66 -> 60.805269 | I27: =Pharmaceutical!N66 -> 7.1283949 | J27: =SUM(E27:I27) -> 79.678939 | K27: =Sick_Leave!K26/IncidenceComplications!G23 -> 5.0737735 | L27: =J27+K27 -> 84.752713 | M27: =$C27*E27 -> 351365.07 | N27: =$C27*F27 -> 0 | O27: =$C27*G27 -> 233269.57 | P27: =$C27*H27 -> 3026652.4 | Q27: =$C27*I27 -> 354824.08 | R27: =$C27*J27 -> 3966111.1 | S27: =$C27*K27 -> 252552.93 | T27: =$C27*L27 -> 4218664
B28: 18 to 34 | C28: =IncidenceComplications!C24*IncidenceComplications!E62 -> 153712.03 | E28: =Inpatient!C67*Inpatient!M27 -> 3.4412743 | F28: =Inpatient!Y67/IncidenceComplications!G24 -> 0.44793192 | G28: =Inpatient!AO67/IncidenceComplications!G24 -> 1.4766155 | H28: =Outpatient!N67 -> 52.500011 | I28: =Pharmaceutical!N67 -> 4.1133198 | J28: =SUM(E28:I28) -> 61.979152 | K28: =Sick_Leave!K27/IncidenceComplications!G24 -> 126.48987 | L28: =J28+K28 -> 188.46903 | M28: =$C28*E28 -> 528965.26 | N28: =$C28*F28 -> 68852.525 | O28: =$C28*G28 -> 226973.56 | P28: =$C28*H28 -> 8069883.2 | Q28: =$C28*I28 -> 632266.73 | R28: =$C28*J28 -> 9526941.3 | S28: =$C28*K28 -> 19443016 | T28: =$C28*L28 -> 28969957
B29: 35 to 59 | C29: =IncidenceComplications!C25*IncidenceComplications!E63 -> 231905.41 | E29: =Inpatient!C68*Inpatient!M28 -> 5.7480161 | F29: =Inpatient!Y68/IncidenceComplications!G25 -> 1.1344251 | G29: =Inpatient!AO68/IncidenceComplications!G25 -> 20.046973 | H29: =Outpatient!N68 -> 51.466354 | I29: =Pharmaceutical!N68 -> 5.473922 | J29: =SUM(E29:I29) -> 83.86969 | K29: =Sick_Leave!K28/IncidenceComplications!G25 -> 300.86287 | L29: =J29+K29 -> 384.73256 | M29: =$C29*E29 -> 1332996 | N29: =$C29*F29 -> 263079.32 | O29: =$C29*G29 -> 4649001.5 | P29: =$C29*H29 -> 11935326 | Q29: =$C29*I29 -> 1269432.1 | R29: =$C29*J29 -> 19449835 | S29: =$C29*K29 -> 69771728 | T29: =$C29*L29 -> 89221563
B30: 60 plus | C30: =IncidenceComplications!C26*IncidenceComplications!E64 -> 99527.128 | E30: =Inpatient!C69*Inpatient!M29 -> 15.470474 | F30: =Inpatient!Y69/IncidenceComplications!G26 -> 1.0925291 | G30: =Inpatient!AO69/IncidenceComplications!G26 -> 27.398731 | H30: =Outpatient!N69 -> 61.56094 | I30: =Pharmaceutical!N69 -> 5.5270735 | J30: =SUM(E30:I30) -> 111.04975 | K30: =Sick_Leave!K29/IncidenceComplications!G26 -> 66.787054 | L30: =J30+K30 -> 177.8368 | M30: =$C30*E30 -> 1539731.8 | N30: =$C30*F30 -> 108736.28 | O30: =$C30*G30 -> 2726917 | P30: =$C30*H30 -> 6126983.5 | Q30: =$C30*I30 -> 550093.75 | R30: =$C30*J30 -> 11052462 | S30: =$C30*K30 -> 6647123.7 | T30: =$C30*L30 -> 17699586
B31: Total | C31: =IncidenceComplications!C27*IncidenceComplications!E65 -> 649333.59 | E31: {=SUM(E24:E30*IncidenceComplications!$G20:$G26)/SUM(IncidenceComplications!$G20:$G26)} -> 7.3382439 | F31: =Inpatient!Y70/IncidenceComplications!G27 -> 1.0890992 | G31: =Inpatient!AO70/IncidenceComplications!G27 -> 14.37344 | H31: {=SUM(H24:H30*IncidenceComplications!$G20:$G26)/SUM(IncidenceComplications!$G20:$G26)} -> 53.123079 | I31: {=SUM(I24:I30*IncidenceComplications!$G20:$G26)/SUM(IncidenceComplications!$G20:$G26)} -> 5.5125154 | J31: =SUM(E31:I31) -> 81.436378 | K31: =Sick_Leave!K30/IncidenceComplications!G27 -> 167.14456 | L31: =J31+K31 -> 248.58094 | M31: =$C31*E31 -> 4764968.3 | N31: =$C31*F31 -> 707188.67 | O31: =$C31*G31 -> 9333157.5 | P31: =$C31*H31 -> 34494600 | Q31: =$C31*I31 -> 3579461.4 | R31: =$C31*J31 -> 52879376 | S31: =$C31*K31 -> 1.0853258e+08 | T31: =$C31*L31 -> 1.6141196e+08
A32: Total | C32: =IncidenceComplications!C28*IncidenceComplications!E66 -> 2832610.3 | E32: =(E15*IncidenceComplications!$G11+E23*IncidenceComplications!$G19+E31*IncidenceComplications!$G27)/(IncidenceComplications!$G11+IncidenceComplications!$G19+IncidenceComplications!$G27) -> 9.7934963 | F32: =Inpatient!Y71/IncidenceComplications!G28 -> 0.2566375 | G32: =Inpatient!AO71/IncidenceComplications!G28 -> 12.674843 | H32: =(H15*IncidenceComplications!$G11+H23*IncidenceComplications!$G19+H31*IncidenceComplications!$G27)/(IncidenceComplications!$G11+IncidenceComplications!$G19+IncidenceComplications!$G27) -> 53.948747 | I32: =(I15*IncidenceComplications!$G11+I23*IncidenceComplications!$G19+I31*IncidenceComplications!$G27)/(IncidenceComplications!$G11+IncidenceComplications!$G19+IncidenceComplications!$G27) -> 6.2304743 | J32: =SUM(E32:I32) -> 82.904198 | K32: =Sick_Leave!K31/IncidenceComplications!G28 -> 185.77991 | L32: =J32+K32 -> 268.68411 | M32: =$C32*E32 -> 27741159 | N32: =$C32*F32 -> 726954.01 | O32: =$C32*G32 -> 35902891 | P32: =$C32*H32 -> 1.5281578e+08 | Q32: =$C32*I32 -> 17648506 | R32: =$C32*J32 -> 2.3483529e+08 | S32: =$C32*K32 -> 5.2624208e+08 | T32: =$C32*L32 -> 7.6107737e+08
A33: Absolute numbers (sums) | B33: 0 to 1 | C33: =IncidenceComplications!C29*IncidenceComplications!E67 -> 85026.019 | E33: =(E8*IncidenceComplications!$G4+E16*IncidenceComplications!$G12+E24*IncidenceComplications!$G20)/(IncidenceComplications!$G4+IncidenceComplications!$G12+IncidenceComplications!$G20) -> 68.780196 | F33: =Inpatient!Y72/IncidenceComplications!G29 -> 3.6754519 | G33: =Inpatient!AO72/IncidenceComplications!G29 -> 123.86942 | H33: =(H8*IncidenceComplications!$G4+H16*IncidenceComplications!$G12+H24*IncidenceComplications!$G20)/(IncidenceComplications!$G4+IncidenceComplications!$G12+IncidenceComplications!$G20) -> 47.985013 | I33: =(I8*IncidenceComplications!$G4+I16*IncidenceComplications!$G12+I24*IncidenceComplications!$G20)/(IncidenceComplications!$G4+IncidenceComplications!$G12+IncidenceComplications!$G20) -> 7.597713 | J33: =SUM(E33:I33) -> 251.9078 | K33: =Sick_Leave!K32/IncidenceComplications!G29 -> 0 | L33: =J33+K33 -> 251.9078 | M33: =$C33*E33 -> 5848106.3 | N33: =$C33*F33 -> 312509.04 | O33: =$C33*G33 -> 10532124 | P33: =$C33*H33 -> 4079974.6 | Q33: =$C33*I33 -> 646003.29 | R33: =$C33*J33 -> 21418717 | S33: =$C33*K33 -> 0 | T33: =$C33*L33 -> 21418717
B34: 2 to 5 | C34: =IncidenceComplications!C30*IncidenceComplications!E68 -> 190643.69 | E34: =(E9*IncidenceComplications!$G5+E17*IncidenceComplications!$G13+E25*IncidenceComplications!$G21)/(IncidenceComplications!$G5+IncidenceComplications!$G13+IncidenceComplications!$G21) -> 21.289973 | F34: =Inpatient!Y73/IncidenceComplications!G30 -> 0.47477202 | G34: =Inpatient!AO73/IncidenceComplications!G30 -> 27.518489 | H34: =(H9*IncidenceComplications!$G5+H17*IncidenceComplications!$G13+H25*IncidenceComplications!$G21)/(IncidenceComplications!$G5+IncidenceComplications!$G13+IncidenceComplications!$G21) -> 46.235178 | I34: =(I9*IncidenceComplications!$G5+I17*IncidenceComplications!$G13+I25*IncidenceComplications!$G21)/(IncidenceComplications!$G5+IncidenceComplications!$G13+IncidenceComplications!$G21) -> 7.7485619 | J34: =SUM(E34:I34) -> 103.26697 | K34: =Sick_Leave!K33/IncidenceComplications!G30 -> 0 | L34: =J34+K34 -> 103.26697 | M34: =$C34*E34 -> 4058798.9 | N34: =$C34*F34 -> 90512.289 | O34: =$C34*G34 -> 5246226.4 | P34: =$C34*H34 -> 8814444.8 | Q34: =$C34*I34 -> 1477214.4 | R34: =$C34*J34 -> 19687197 | S34: =$C34*K34 -> 0 | T34: =$C34*L34 -> 19687197
B35: 6 to 9 | C35: =IncidenceComplications!C31*IncidenceComplications!E69 -> 135054.26 | E35: =(E10*IncidenceComplications!$G6+E18*IncidenceComplications!$G14+E26*IncidenceComplications!$G22)/(IncidenceComplications!$G6+IncidenceComplications!$G14+IncidenceComplications!$G22) -> 13.590766 | F35: =Inpatient!Y74/IncidenceComplications!G31 -> -1.3004371 | G35: =Inpatient!AO74/IncidenceComplications!G31 -> 8.4911114 | H35: =(H10*IncidenceComplications!$G6+H18*IncidenceComplications!$G14+H26*IncidenceComplications!$G22)/(IncidenceComplications!$G6+IncidenceComplications!$G14+IncidenceComplications!$G22) -> 36.950192 | I35: =(I10*IncidenceComplications!$G6+I18*IncidenceComplications!$G14+I26*IncidenceComplications!$G22)/(IncidenceComplications!$G6+IncidenceComplications!$G14+IncidenceComplications!$G22) -> 7.1587223 | J35: =SUM(E35:I35) -> 64.890354 | K35: =Sick_Leave!K34/IncidenceComplications!G31 -> 0 | L35: =J35+K35 -> 64.890354 | M35: =$C35*E35 -> 1835490.9 | N35: =$C35*F35 -> -175629.58 | O35: =$C35*G35 -> 1146760.8 | P35: =$C35*H35 -> 4990281 | Q35: =$C35*I35 -> 966815.97 | R35: =$C35*J35 -> 8763719 | S35: =$C35*K35 -> 0 | T35: =$C35*L35 -> 8763719
B36: 10 to 17 | C36: =IncidenceComplications!C32*IncidenceComplications!E70 -> 237501.3 | E36: =(E11*IncidenceComplications!$G7+E19*IncidenceComplications!$G15+E27*IncidenceComplications!$G23)/(IncidenceComplications!$G7+IncidenceComplications!$G15+IncidenceComplications!$G23) -> 7.7891275 | F36: =Inpatient!Y75/IncidenceComplications!G32 -> 0.15374025 | G36: =Inpatient!AO75/IncidenceComplications!G32 -> 4.1018472 | H36: =(H11*IncidenceComplications!$G7+H19*IncidenceComplications!$G15+H27*IncidenceComplications!$G23)/(IncidenceComplications!$G7+IncidenceComplications!$G15+IncidenceComplications!$G23) -> 55.619346 | I36: =(I11*IncidenceComplications!$G7+I19*IncidenceComplications!$G15+I27*IncidenceComplications!$G23)/(IncidenceComplications!$G7+IncidenceComplications!$G15+IncidenceComplications!$G23) -> 8.5178546 | J36: =SUM(E36:I36) -> 76.181916 | K36: =Sick_Leave!K35/IncidenceComplications!G32 -> 4.6054878 | L36: =J36+K36 -> 80.787404 | M36: =$C36*E36 -> 1849927.9 | N36: =$C36*F36 -> 36513.509 | O36: =$C36*G36 -> 974194.05 | P36: =$C36*H36 -> 13209667 | Q36: =$C36*I36 -> 2023001.5 | R36: =$C36*J36 -> 18093304 | S36: =$C36*K36 -> 1093809.3 | T36: =$C36*L36 -> 19187113
B37: 18 to 34 | C37: =IncidenceComplications!C33*IncidenceComplications!E71 -> 605777.74 | E37: =(E12*IncidenceComplications!$G8+E20*IncidenceComplications!$G16+E28*IncidenceComplications!$G24)/(IncidenceComplications!$G8+IncidenceComplications!$G16+IncidenceComplications!$G24) -> 5.3489512 | F37: =Inpatient!Y76/IncidenceComplications!G33 -> 0.25423673 | G37: =Inpatient!AO76/IncidenceComplications!G33 -> 2.6430257 | H37: =(H12*IncidenceComplications!$G8+H20*IncidenceComplications!$G16+H28*IncidenceComplications!$G24)/(IncidenceComplications!$G8+IncidenceComplications!$G16+IncidenceComplications!$G24) -> 54.856837 | I37: =(I12*IncidenceComplications!$G8+I20*IncidenceComplications!$G16+I28*IncidenceComplications!$G24)/(IncidenceComplications!$G8+IncidenceComplications!$G16+IncidenceComplications!$G24) -> 4.7427258 | J37: =SUM(E37:I37) -> 67.845777 | K37: =Sick_Leave!K36/IncidenceComplications!G33 -> 138.1624 | L37: =J37+K37 -> 206.00818 | M37: =$C37*E37 -> 3240275.6 | N37: =$C37*F37 -> 154010.95 | O37: =$C37*G37 -> 1601086.1 | P37: =$C37*H37 -> 33231051 | Q37: =$C37*I37 -> 2873037.7 | R37: =$C37*J37 -> 41099461 | S37: =$C37*K37 -> 83695708 | T37: =$C37*L37 -> 1.2479517e+08
B38: 35 to 59 | C38: =IncidenceComplications!C34*IncidenceComplications!E72 -> 1035196.6 | E38: =(E13*IncidenceComplications!$G9+E21*IncidenceComplications!$G17+E29*IncidenceComplications!$G25)/(IncidenceComplications!$G9+IncidenceComplications!$G17+IncidenceComplications!$G25) -> 5.1522317 | F38: =Inpatient!Y77/IncidenceComplications!G34 -> 0.28114478 | G38: =Inpatient!AO77/IncidenceComplications!G34 -> 8.9604844 | H38: =(H13*IncidenceComplications!$G9+H21*IncidenceComplications!$G17+H29*IncidenceComplications!$G25)/(IncidenceComplications!$G9+IncidenceComplications!$G17+IncidenceComplications!$G25) -> 53.854701 | I38: =(I13*IncidenceComplications!$G9+I21*IncidenceComplications!$G17+I29*IncidenceComplications!$G25)/(IncidenceComplications!$G9+IncidenceComplications!$G17+IncidenceComplications!$G25) -> 5.9986675 | J38: =SUM(E38:I38) -> 74.247229 | K38: =Sick_Leave!K37/IncidenceComplications!G34 -> 338.75559 | L38: =J38+K38 -> 413.00282 | M38: =$C38*E38 -> 5333572.8 | N38: =$C38*F38 -> 291040.11 | O38: =$C38*G38 -> 9275863 | P38: =$C38*H38 -> 55750203 | Q38: =$C38*I38 -> 6209800.1 | R38: =$C38*J38 -> 76860479 | S38: =$C38*K38 -> 3.5067863e+08 | T38: =$C38*L38 -> 4.2753911e+08
B39: 60 plus | C39: =IncidenceComplications!C35*IncidenceComplications!E73 -> 376770.53 | E39: =(E14*IncidenceComplications!$G10+E22*IncidenceComplications!$G18+E30*IncidenceComplications!$G26)/(IncidenceComplications!$G10+IncidenceComplications!$G18+IncidenceComplications!$G26) -> 22.885986 | F39: =Inpatient!Y78/IncidenceComplications!G35 -> 0.29526853 | G39: =Inpatient!AO78/IncidenceComplications!G35 -> 35.294451 | H39: =(H14*IncidenceComplications!$G10+H22*IncidenceComplications!$G18+H30*IncidenceComplications!$G26)/(IncidenceComplications!$G10+IncidenceComplications!$G18+IncidenceComplications!$G26) -> 65.71079 | I39: =(I14*IncidenceComplications!$G10+I22*IncidenceComplications!$G18+I30*IncidenceComplications!$G26)/(IncidenceComplications!$G10+IncidenceComplications!$G18+IncidenceComplications!$G26) -> 7.4014848 | J39: =SUM(E39:I39) -> 131.58798 | K39: =Sick_Leave!K38/IncidenceComplications!G35 -> 83.90557 | L39: =J39+K39 -> 215.49355 | M39: =$C39*E39 -> 8622765 | N39: =$C39*F39 -> 111248.48 | O39: =$C39*G39 -> 13297909 | P39: =$C39*H39 -> 24757889 | Q39: =$C39*I39 -> 2788661.4 | R39: =$C39*J39 -> 49578473 | S39: =$C39*K39 -> 31613146 | T39: =$C39*L39 -> 81191619
B40: Total | C40: =IncidenceComplications!C36*IncidenceComplications!E74 -> 2832610.3 | E40: {=SUM(E33:E39*IncidenceComplications!$G29:$G35)/SUM(IncidenceComplications!$G29:$G35)} -> 9.7934963 | F40: =Inpatient!Y79/IncidenceComplications!G36 -> 0.2566375 | G40: =Inpatient!AO79/IncidenceComplications!G36 -> 12.674843 | H40: {=SUM(H33:H39*IncidenceComplications!$G29:$G35)/SUM(IncidenceComplications!$G29:$G35)} -> 53.948747 | I40: {=SUM(I33:I39*IncidenceComplications!$G29:$G35)/SUM(IncidenceComplications!$G29:$G35)} -> 6.2304743 | J40: =SUM(E40:I40) -> 82.904198 | K40: =Sick_Leave!K39/IncidenceComplications!G36 -> 185.77991 | L40: =J40+K40 -> 268.68411 | M40: =$C40*E40 -> 27741159 | N40: =$C40*F40 -> 726954.01 | O40: =$C40*G40 -> 35902891 | P40: =$C40*H40 -> 1.5281578e+08 | Q40: =$C40*I40 -> 17648506 | R40: =$C40*J40 -> 2.3483529e+08 | S40: =$C40*K40 -> 5.2624208e+08 | T40: =$C40*L40 -> 7.6107737e+08
D43: Covariance | E43: Inpatient Flu | F43: Inpatient AOM | G43: Inpatient CAP | H43: Outpatient | I43: Pharmaceutical
D44: Inpatient Flu | E44: 63750.411 | F44: 148.44298 | G44: 15290.764 | H44: 1224.77 | I44: 54.6042
D45: Inpatient AOM | E45: 148.44298 | F45: 1527.6514 | G45: -3.2528741 | H45: 311.70816 | I45: 19.005144
D46: Inpatient CAP | E46: 15290.764 | F46: -3.2528741 | G46: 510551.24 | H46: 1637.6144 | I46: 283.2182
D47: Outpatient | E47: 1224.77 | F47: 311.70816 | G47: 1637.6144 | H47: 310933.45 | I47: 1212.0573
...

Sheet Inpatient
A3: INPATIENT COSTS | C3: Overall | Q3: AOM | AE3: CAP
C4: NO INSURED WITH SERVICE USE | E4: LOS | K4: Costs | Q4: NO INSURED WITH SERVICE USE | S4: LOS | Y4: Costs | AE4: NO INSURED WITH SERVICE USE | AG4: LOS | AM4: Costs
E5: Sum | G5: Mean | I5: SD | K5: Sum | M5: Mean | O5: SD | S5: Sum | U5: Mean | W5: SD | Y5: Sum | AA5: Mean | AC5: SD | AG5: Sum | AI5: Mean | AK5: SD | AM5: Sum | AO5: Mean | AQ5: SD
A6: Year | B6: Age group | C6: Flu | D6: Control | E6: Flu | F6: Control | G6: Flu | H6: Control | I6: Flu | J6: Control | K6: Flu | L6: Control | M6: Flu | N6: Control | O6: Flu | P6: Control | Q6: Flu | R6: Control | S6: Flu | T6: Control | U6: Flu | V6: Control | W6: Flu | X6: Control | Y6: Flu | Z6: Control | AA6: Flu | AB6: Control | AC6: Flu | AD6: Control | AG6: Flu | AH6: Control | AI6: Flu | AJ6: Control | AK6: Flu | AL6: Control | AM6: Flu | AN6: Control | AO6: Flu | AP6: Control | AQ6: Flu | AR6: Control
A7: 2012 | B7: 0 to 1 | C7: 11 | E7: 32 | G7: =E7/C7 -> 2.9090909 | I7: 1.9211739 | K7: 20684.717 | M7: =K7/C7 -> 1880.4288 | O7: 1828.668 | Q7: 0 | R7: 0 | S7: 0 | T7: 0 | Y7: 0 | Z7: 0 | AA7: =IF(IncidenceComplications!O4>0,Y7/IncidenceComplications!O4,"") | AB7: =IF(IncidenceComplications!P4>0,Z7/IncidenceComplications!P4,"") | AE7: 5 | AF7: 0 | AG7: 25 | AH7: 0 | AI7: =AG7/AE7 -> 5 | AK7: 1.2247449 | AM7: 18394.542 | AN7: 0 | AO7: =IF(AE7>0,AM7/AE7,"") -> 3678.9084 | AQ7: 1894.538
B8: 2 to 5 | C8: 13 | E8: 45 | G8: =E8/C8 -> 3.4615385 | I8: 1.6641006 | K8: 20963.392 | M8: =K8/C8 -> 1612.5686 | O8: 523.69956 | Q8: 1 | R8: 1 | S8: 3 | T8: 6 | U8: =IF(Q8>0,S8/Q8,"") -> 3 | V8: =IF(R8>0,T8/R8,"") -> 6 | Y8: 1613.7089 | Z8: 1824.5879 | AA8: =IF(IncidenceComplications!O5>0,Y8/IncidenceComplications!O5,"") -> 1613.7089 | AB8: =IF(IncidenceComplications!P5>0,Z8/IncidenceComplications!P5,"") -> 1824.5879 | AE8: 16 | AF8: 6 | AG8: 72 | AH8: 27 | AI8: =AG8/AE8 -> 4.5 | AJ8: =AH8/AF8 -> 4.5 | AK8: 1.4605935 | AL8: 1.8708287 | AM8: 45055.333 | AN8: 15167.939 | AO8: =IF(AE8>0,AM8/AE8,"") -> 2815.9583 | AP8: =IF(AF8>0,AN8/AF8,"") -> 2527.9898 | AQ8: 700.45292 | AR8: 200.65008
B9: 6 to 9 | C9: 6 | E9: 17 | G9: =E9/C9 -> 2.8333333 | I9: 1.3291601 | K9: 6259.7777 | M9: =K9/C9 -> 1043.2963 | O9: 493.40981 | Q9: 0 | R9: 2 | S9: 0 | T9: 6 | V9: =IF(R9>0,T9/R9,"") -> 3 | X9: 0 | Y9: 0 | Z9: 4740.1412 | AA9: =IF(IncidenceComplications!O6>0,Y9/IncidenceComplications!O6,"") | AB9: =IF(IncidenceComplications!P6>0,Z9/IncidenceComplications!P6,"") -> 2370.0706 | AD9: 1161.4162 | AE9: 8 | AF9: 1 | AG9: 56 | AH9: 4 | AI9: =AG9/AE9 -> 7 | AJ9: =AH9/AF9 -> 4 | AK9: 3.8172541 | AM9: 21224.86 | AN9: 2507.7534 | AO9: =IF(AE9>0,AM9/AE9,"") -> 2653.1075 | AP9: =IF(AF9>0,AN9/AF9,"") -> 2507.7534 | AQ9: 579.55899
B10: 10 to 17 | C10: 13 | E10: 57 | G10: =E10/C10 -> 4.3846154 | I10: 3.9059455 | K10: 22165.564 | M10: =K10/C10 -> 1705.0434 | O10: 410.89214 | Q10: 0 | R10: 0 | S10: 0 | T10: 0 | Y10: 0 | Z10: 0 | AA10: =IF(IncidenceComplications!O7>0,Y10/IncidenceComplications!O7,"") | AB10: =IF(IncidenceComplications!P7>0,Z10/IncidenceComplications!P7,"") | AE10: 6 | AF10: 0 | AG10: 46 | AH10: 0 | AI10: =AG10/AE10 -> 7.6666667 | AK10: 4.3204938 | AM10: 13855.537 | AN10: 0 | AO10: =IF(AE10>0,AM10/AE10,"") -> 2309.2561 | AQ10: 134.64717
B11: 18 to 34 | C11: 18 | E11: 61 | G11: =E11/C11 -> 3.3888889 | I11: 3.4151718 | K11: 35295.318 | M11: =K11/C11 -> 1960.851 | O11: 1259.4011 | Q11: 1 | R11: 1 | S11: 12 | T11: 2 | U11: =IF(Q11>0,S11/Q11,"") -> 12 | V11: =IF(R11>0,T11/R11,"") -> 2 | Y11: 2426.0712 | Z11: 1331.7562 | AA11: =IF(IncidenceComplications!O8>0,Y11/IncidenceComplications!O8,"") -> 2426.0712 | AB11: =IF(IncidenceComplications!P8>0,Z11/IncidenceComplications!P8,"") -> 1331.7562 | AE11: 13 | AF11: 0 | AG11: 87 | AH11: 0 | AI11: =AG11/AE11 -> 6.6923077 | AK11: 3.3760089 | AM11: 28430.371 | AN11: 0 | AO11: =IF(AE11>0,AM11/AE11,"") -> 2186.9516 | AQ11: 180.37817
B12: 35 to 59 | C12: 18 | E12: 67 | G12: =E12/C12 -> 3.7222222 | I12: 1.8725747 | K12: 28715.429 | M12: =K12/C12 -> 1595.3016 | O12: 936.23665 | Q12: 1 | R12: 0 | S12: 4 | T12: 0 | U12: =IF(Q12>0,S12/Q12,"") -> 4 | Y12: 1776.9612 | Z12: 0 | AA12: =IF(IncidenceComplications!O9>0,Y12/IncidenceComplications!O9,"") -> 1776.9612 | AB12: =IF(IncidenceComplications!P9>0,Z12/IncidenceComplications!P9,"") | AE12: 23 | AF12: 1 | AG12: 150 | AH12: 3 | AI12: =AG12/AE12 -> 6.5217391 | AJ12: =AH12/AF12 -> 3 | AK12: 3.1315051 | AM12: 54077.858 | AN12: 2181.3811 | AO12: =IF(AE12>0,AM12/AE12,"") -> 2351.2112 | AP12: =IF(AF12>0,AN12/AF12,"") -> 2181.3811 | AQ12: 594.01466
B13: 60 plus | C13: 14 | E13: 97 | G13: =E13/C13 -> 6.9285714 | I13: 8.7483122 | K13: 47115.866 | M13: =K13/C13 -> 3365.419 | O13: 5989.9969 | Q13: 0 | R13: 0 | S13: 0 | T13: 0 | Y13: 0 | Z13: 0 | AA13: =IF(IncidenceComplications!O10>0,Y13/IncidenceComplications!O10,"") | AB13: =IF(IncidenceComplications!P10>0,Z13/IncidenceComplications!P10,"") | AE13: 17 | AF13: 1 | AG13: 216 | AH13: 7 | AI13: =AG13/AE13 -> 12.705882 | AJ13: =AH13/AF13 -> 7 | AK13: 10.402912 | AM13: 80337.345 | AN13: 4518.3278 | AO13: =IF(AE13>0,AM13/AE13,"") -> 4725.7261 | AP13: =IF(AF13>0,AN13/AF13,"") -> 4518.3278 | AQ13: 5500.724
B14: Total | C14: =SUM(C7:C13) -> 93 | E14: =SUM(E7:E13) -> 376 | G14: =E14/C14 -> 4.0430108 | I14: {=SQRT(SUM(I7:I13^2*(C7:C13-1))/(SUM(C7:C13)-7))} -> 4.1969917 | K14: =SUM(K7:K13) -> 181200.06 | M14: =K14/C14 -> 1948.3878 | O14: {=SQRT(AVERAGE(O7:O13^2))} -> 2460.3503 | Q14: =SUM(Q7:Q13) -> 3 | R14: =SUM(R7:R13) -> 4 | S14: =SUM(S7:S13) -> 19 | T14: =SUM(T7:T13) -> 14 | U14: =IF(Q14>0,S14/Q14,"") -> 6.3333333 | V14: =IF(R14>0,T14/R14,"") -> 3.5 | X14: =SQRT(AVERAGE(X9^2)) -> 0 | Y14: =SUM(Y7:Y13) -> 5816.7413 | Z14: =SUM(Z7:Z13) -> 7896.4854 | AA14: =IF(IncidenceComplications!O11>0,Y14/IncidenceComplications!O11,"") -> 1938.9138 | AB14: =IF(IncidenceComplications!P11>0,Z14/IncidenceComplications!P11,"") -> 1974.1214 | AD14: =AD9 -> 1161.4162 | AE14: =SUM(AE7:AE13) -> 88 | AF14: =SUM(AF7:AF13) -> 9 | AG14: =SUM(AG7:AG13) -> 652 | AH14: =SUM(AH7:AH13) -> 41 | AI14: =AG14/AE14 -> 7.4090909 | AJ14: =AH14/AF14 -> 4.5555556 | AK14: {=SQRT(AVERAGE(AK7:AK13^2))} -> 4.8740681 | AL14: =SQRT(AVERAGE(AL8^2)) -> 1.8708287 | AM14: =SUM(AM7:AM13) -> 261375.85 | AN14: =SUM(AN7:AN13) -> 24375.401 | AO14: =IF(AE14>0,AM14/AE14,"") -> 2970.1801 | AP14: =IF(AF14>0,AN14/AF14,"") -> 2708.3779 | AQ14: {=SQRT(AVERAGE(AQ7:AQ13^2))} -> 2238.5353 | AR14: =SQRT(AVERAGE(AR8^2)) -> 200.65008
A15: 2013 | B15: 0 to 1 | C15: 21 | E15: 130 | G15: =E15/C15 -> 6.1904762 | I15: 11.876948 | K15: 86943.254 | M15: =K15/C15 -> 4140.155 | O15: 9700.2326 | Q15: 0 | R15: 0 | S15: 0 | T15: 0 | Y15: 0 | Z15: 0 | AA15: =IF(IncidenceComplications!O12>0,Y15/IncidenceComplications!O12,"") | AB15: =IF(IncidenceComplications!P12>0,Z15/IncidenceComplications!P12,"") | AE15: 16 | AF15: 5 | AG15: 198 | AH15: 25 | AI15: =AG15/AE15 -> 12.375 | AJ15: =AH15/AF15 -> 5 | AK15: 23.921747 | AL15: 1.8708287 | AM15: 205085.63 | AN15: 13769.238 | AO15: =IF(AE15>0,AM15/AE15,"") -> 12817.852 | AP15: =IF(AF15>0,AN15/AF15,"") -> 2753.8475 | AQ15: 37762.904 | AR15: 580.8953
B16: 2 to 5 | C16: 51 | E16: 193 | G16: =E16/C16 -> 3.7843137 | I16: 3.4018449 | K16: 94482.775 | M16: =K16/C16 -> 1852.6034 | O16: 791.44291 | Q16: 2 | R16: 1 | S16: 7 | T16: 5 | U16: =IF(Q16>0,S16/Q16,"") -> 3.5 | V16: =IF(R16>0,T16/R16,"") -> 5 | W16: 2.1213203 | Y16: 2899.2683 | Z16: 1964.251 | AA16: =IF(IncidenceComplications!O13>0,Y16/IncidenceComplications!O13,"") -> 1449.6341 | AB16: =IF(IncidenceComplications!P13>0,Z16/IncidenceComplications!P13,"") -> 1964.251 | AC16: 147.51613 | AE16: 42 | AF16: 9 | AG16: 221 | AH16: 41 | AI16: =AG16/AE16 -> 5.2619048 | AJ16: =AH16/AF16 -> 4.5555556 | AK16: 3.8322096 | AL16: 2.0069324 | AM16: 121464.95 | AN16: 22173.089 | AO16: =IF(AE16>0,AM16/AE16,"") -> 2892.0227 | AP16: =IF(AF16>0,AN16/AF16,"") -> 2463.6766 | AQ16: 1411.8163 | AR16: 119.21778
B17: 6 to 9 | C17: 29 | E17: 102 | G17: =E17/C17 -> 3.5172414 | I17: 1.5725477 | K17: 47775.814 | M17: =K17/C17 -> 1647.4418 | O17: 478.89356 | Q17: 1 | R17: 1 | S17: 7 | T17: 3 | U17: =IF(Q17>0,S17/Q17,"") -> 7 | V17: =IF(R17>0,T17/R17,"") -> 3 | Y17: 1498.4139 | Z17: 3078.3972 | AA17: =IF(IncidenceComplications!O14>0,Y17/IncidenceComplications!O14,"") -> 1498.4139 | AB17: =IF(IncidenceComplications!P14>0,Z17/IncidenceComplications!P14,"") -> 3078.3972 | AE17: 9 | AF17: 3 | AG17: 46 | AH17: 11 | AI17: =AG17/AE17 -> 5.1111111 | AJ17: =AH17/AF17 -> 3.6666667 | AK17: 2.8480012 | AL17: 1.1547005 | AM17: 19389.322 | AN17: 6943.9869 | AO17: =IF(AE17>0,AM17/AE17,"") -> 2154.3691 | AP17: =IF(AF17>0,AN17/AF17,"") -> 2314.6623 | AQ17: 906.79463 | AR17: 58.86564
B18: 10 to 17 | C18: 22 | E18: 59 | G18: =E18/C18 -> 2.6818182 | I18: 1.3933982 | K18: 31647.802 | M18: =K18/C18 -> 1438.5365 | O18: 546.43784 | Q18: 1 | R18: 0 | S18: 3 | T18: 0 | U18: =IF(Q18>0,S18/Q18,"") -> 3 | Y18: 1292.1868 | Z18: 0 | AA18: =IF(IncidenceComplications!O15>0,Y18/IncidenceComplications!O15,"") -> 1292.1868 | AB18: =IF(IncidenceComplications!P15>0,Z18/IncidenceComplications!P15,"") | AE18: 5 | AF18: 0 | AG18: 23 | AH18: 0 | AI18: =AG18/AE18 -> 4.6 | AK18: 1.5165751 | AM18: 12883.289 | AN18: 0 | AO18: =IF(AE18>0,AM18/AE18,"") -> 2576.6579 | AP18: =IF(AF18>0,AN18/AF18,"") | AQ18: 746.65948
B19: 18 to 34 | C19: 38 | E19: 160 | G19: =E19/C19 -> 4.2105263 | I19: 5.1525795 | K19: 75897.431 | M19: =K19/C19 -> 1997.3008 | O19: 3986.2372 | Q19: 3 | R19: 1 | S19: 8 | T19: 2 | U19: =IF(Q19>0,S19/Q19,"") -> 2.6666667 | V19: =IF(R19>0,T19/R19,"") -> 2 | W19: 1.1547005 | Y19: 4290.4559 | Z19: 1987.6728 | AA19: =IF(IncidenceComplications!O16>0,Y19/IncidenceComplications!O16,"") -> 1430.152 | AB19: =IF(IncidenceComplications!P16>0,Z19/IncidenceComplications!P16,"") -> 1987.6728 | AC19: 308.8884 | AE19: 12 | AF19: 3 | AG19: 83 | AH19: 9 | AI19: =AG19/AE19 -> 6.9166667 | AJ19: =AH19/AF19 -> 3 | AK19: 4.9259671 | AL19: 3 | AM19: 33129.177 | AN19: 5131.2175 | AO19: =IF(AE19>0,AM19/AE19,"") -> 2760.7647 | AP19: =IF(AF19>0,AN19/AF19,"") -> 1710.4058 | AQ19: 1977.5903 | AR19: 859.09135
B20: 35 to 59 | C20: 71 | E20: 331 | G20: =E20/C20 -> 4.6619718 | I20: 3.7945211 | K20: 122167.66 | M20: =K20/C20 -> 1720.6713 | O20: 1026.8951 | Q20: 4 | R20: 3 | S20: 14 | T20: 15 | U20: =IF(Q20>0,S20/Q20,"") -> 3.5 | V20: =IF(R20>0,T20/R20,"") -> 5 | W20: 2.6457513 | X20: 1.7320508 | Y20: 5280.8756 | Z20: 6362.4627 | AA20: =IF(IncidenceComplications!O17>0,Y20/IncidenceComplications!O17,"") -> 1320.2189 | AB20: =IF(IncidenceComplications!P17>0,Z20/IncidenceComplications!P17,"") -> 2120.8209 | AC20: 855.99412 | AD20: 792.99109 | AE20: 41 | AF20: 4 | AG20: 380 | AH20: 29 | AI20: =AG20/AE20 -> 9.2682927 | AJ20: =AH20/AF20 -> 7.25 | AK20: 9.0664888 | AL20: 1.7078251 | AM20: 129869.63 | AN20: 11660.593 | AO20: =IF(AE20>0,AM20/AE20,"") -> 3167.5519 | AP20: =IF(AF20>0,AN20/AF20,"") -> 2915.1483 | AQ20: 3332.0434 | AR20: 802.68298
B21: 60 plus | C21: 49 | E21: 333 | G21: =E21/C21 -> 6.7959184 | I21: 5.1071012 | K21: 125287.32 | M21: =K21/C21 -> 2556.884 | O21: 3734.5001 | Q21: 0 | R21: 0 | S21: 0 | T21: 0 | Y21: 0 | Z21: 0 | AA21: =IF(IncidenceComplications!O18>0,Y21/IncidenceComplications!O18,"") | AB21: =IF(IncidenceComplications!P18>0,Z21/IncidenceComplications!P18,"") | AE21: 50 | AF21: 5 | AG21: 549 | AH21: 37 | AI21: =AG21/AE21 -> 10.98 | AJ21: =AH21/AF21 -> 7.4 | AK21: 6.8556248 | AL21: 3.7815341 | AM21: 193488.05 | AN21: 12248.353 | AO21: =IF(AE21>0,AM21/AE21,"") -> 3869.761 | AP21: =IF(AF21>0,AN21/AF21,"") -> 2449.6706 | AQ21: 5368.9481 | AR21: 565.39104
B22: Total | C22: =SUM(C15:C21) -> 281 | E22: =SUM(E15:E21) -> 1308 | G22: =E22/C22 -> 4.6548043 | I22: {=SQRT(SUM(I15:I21^2*(C15:C21-1))/(SUM(C15:C21)-7))} -> 4.9641202 | K22: =SUM(K15:K21) -> 584202.06 | M22: =K22/C22 -> 2079.0109 | O22: {=SQRT(AVERAGE(O15:O21^2))} -> 4244.9957 | Q22: =SUM(Q15:Q21) -> 11 | R22: =SUM(R15:R21) -> 6 | S22: =SUM(S15:S21) -> 39 | T22: =SUM(T15:T21) -> 25 | U22: =IF(Q22>0,S22/Q22,"") -> 3.5454545 | V22: =IF(R22>0,T22/R22,"") -> 4.1666667 | W22: =SQRT(AVERAGE(W16^2,W19^2,W20^2)) -> 2.0682789 | X22: =SQRT(AVERAGE(X20^2)) -> 1.7320508 | Y22: =SUM(Y15:Y21) -> 15261.201 | Z22: =SUM(Z15:Z21) -> 13392.784 | AA22: =IF(IncidenceComplications!O19>0,Y22/IncidenceComplications!O19,"") -> 1387.3819 | AB22: =IF(IncidenceComplications!P19>0,Z22/IncidenceComplications!P19,"") -> 2232.1306 | AC22: =SQRT(AVERAGE(AC16^2,AC19^2,AC20^2)) -> 532.25902 | AD22: =AD20 -> 792.99109 | AE22: =SUM(AE15:AE21) -> 175 | AF22: =SUM(AF15:AF21) -> 29 | AG22: =SUM(AG15:AG21) -> 1500 | AH22: =SUM(AH15:AH21) -> 152 | AI22: =AG22/AE22 -> 8.5714286 | AJ22: =AH22/AF22 -> 5.2413793 | AK22: {=SQRT(AVERAGE(AK15:AK21^2))} -> 10.356591 | AL22: =SQRT(AVERAGE(AL15^2,AL16^2,AL17^2,AL19^2,AL20^2,AL21^2)) -> 2.4179116 | AM22: =SUM(AM15:AM21) -> 715310.05 | AN22: =SUM(AN15:AN21) -> 71926.477 | AO22: =IF(AE22>0,AM22/AE22,"") -> 4087.486 | AP22: =IF(AF22>0,AN22/AF22,"") -> 2480.2234 | AQ22: {=SQRT(AVERAGE(AQ15:AQ21^2))} -> 14507.382 | AR22: =SQRT(AVERAGE(AR15^2,AR16^2,AR17^2,AR19^2,AR20^2,AR21^2)) -> 585.53712
A23: 2014 | B23: 0 to 1 | C23: 6 | E23: 12 | G23: =E23/C23 -> 2 | I23: 1.5491933 | K23: 8816.9 | M23: =K23/C23 -> 1469.4833 | O23: 781.33761 | Q23: 4 | R23: 0 | S23: 14 | T23: 0 | U23: =IF(Q23>0,S23/Q23,"") -> 3.5 | W23: 2.3804761 | Y23: 6222.54 | Z23: 0 | AA23: =IF(IncidenceComplications!O20>0,Y23/IncidenceComplications!O20,"") -> 1555.635 | AB23: =IF(IncidenceComplications!P20>0,Z23/IncidenceComplications!P20,"") | AC23: 495.50486 | AE23: 0 | AF23: 0 | AG23: 0 | AH23: 0 | AM23: 0 | AN23: 0 | AO23: =IF(AE23>0,AM23/AE23,"") | AP23: =IF(AF23>0,AN23/AF23,"")
B24: 2 to 5 | C24: 9 | E24: 39 | G24: =E24/C24 -> 4.3333333 | I24: 2.5 | K24: 19191.62 | M24: =K24/C24 -> 2132.4022 | O24: 497.54379 | Q24: 1 | R24: 1 | S24: 9 | T24: 3 | U24: =IF(Q24>0,S24/Q24,"") -> 9 | V24: =IF(R24>0,T24/R24,"") -> 3 | Y24: 3906.03 | Z24: 1627.71 | AA24: =IF(IncidenceComplications!O21>0,Y24/IncidenceComplications!O21,"") -> 3906.03 | AB24: =IF(IncidenceComplications!P21>0,Z24/IncidenceComplications!P21,"") -> 1627.71 | AE24: 18 | AF24: 1 | AG24: 89 | AH24: 3 | AI24: =AG24/AE24 -> 4.9444444 | AJ24: =AH24/AF24 -> 3 | AK24: 2.4608038 | AM24: 47402.75 | AN24: 2555.08 | AO24: =IF(AE24>0,AM24/AE24,"") -> 2633.4861 | AP24: =IF(AF24>0,AN24/AF24,"") -> 2555.08 | AQ24: 499.03762
B25: 6 to 9 | C25: 6 | E25: 30 | G25: =E25/C25 -> 5 | I25: 2.5298221 | K25: 12015.53 | M25: =K25/C25 -> 2002.5883 | O25: 581.6948 | Q25: 0 | R25: 0 | S25: 0 | T25: 0 | Y25: 0 | Z25: 0 | AA25: =IF(IncidenceComplications!O22>0,Y25/IncidenceComplications!O22,"") | AB25: =IF(IncidenceComplications!P22>0,Z25/IncidenceComplications!P22,"") | AE25: 4 | AF25: 0 | AG25: 22 | AH25: 0 | AI25: =AG25/AE25 -> 5.5 | AK25: 5.0662281 | AM25: 10104.36 | AN25: 0 | AO25: =IF(AE25>0,AM25/AE25,"") -> 2526.09 | AP25: =IF(AF25>0,AN25/AF25,"") | AQ25: 53.713926
B26: 10 to 17 | C26: 7 | E26: 25 | G26: =E26/C26 -> 3.5714286 | I26: 2.4397502 | K26: 11654.25 | M26: =K26/C26 -> 1664.8929 | O26: 692.07267 | Q26: 0 | R26: 0 | S26: 0 | T26: 0 | Y26: 0 | Z26: 0 | AA26: =IF(IncidenceComplications!O23>0,Y26/IncidenceComplications!O23,"") | AB26: =IF(IncidenceComplications!P23>0,Z26/IncidenceComplications!P23,"") | AE26: 3 | AF26: 0 | AG26: 20 | AH26: 0 | AI26: =AG26/AE26 -> 6.6666667 | AK26: 1.1547005 | AM26: 7737.2 | AN26: 0 | AO26: =IF(AE26>0,AM26/AE26,"") -> 2579.0667 | AP26: =IF(AF26>0,AN26/AF26,"") | AQ26: 134.37257
B27: 18 to 34 | C27: 13 | E27: 42 | G27: =E27/C27 -> 3.2307692 | I27: 1.8327505 | K27: 22846.62 | M27: =K27/C27 -> 1757.4323 | O27: 1120.4252 | Q27: 2 | R27: 0 | S27: 5 | T27: 0 | U27: =IF(Q27>0,S27/Q27,"") -> 2.5 | W27: 0.70710678 | Y27: 2973.82 | Z27: 0 | AA27: =IF(IncidenceComplications!O24>0,Y27/IncidenceComplications!O24,"") -> 1486.91 | AB27: =IF(IncidenceComplications!P24>0,Z27/IncidenceComplications!P24,"") | AC27: 24.183052 | AE27: 5 | AF27: 1 | AG27: 23 | AH27: 3 | AI27: =AG27/AE27 -> 4.6 | AJ27: =AH27/AF27 -> 3 | AK27: 1.5165751 | AM27: 12456.64 | AN27: 2653.39 | AO27: =IF(AE27>0,AM27/AE27,"") -> 2491.328 | AP27: =IF(AF27>0,AN27/AF27,"") -> 2653.39 | AQ27: 109.65277
B28: 35 to 59 | C28: 29 | E28: 102 | G28: =E28/C28 -> 3.5172414 | I28: 1.9202063 | K28: 52789.78 | M28: =K28/C28 -> 1820.3372 | O28: 1135.9199 | Q28: 6 | R28: 0 | S28: 25 | T28: 0 | U28: =IF(Q28>0,S28/Q28,"") -> 4.1666667 | W28: 3.3714487 | Y28: 10418.56 | Z28: 0 | AA28: =IF(IncidenceComplications!O25>0,Y28/IncidenceComplications!O25,"") -> 1736.4267 | AB28: =IF(IncidenceComplications!P25>0,Z28/IncidenceComplications!P25,"") | AC28: 1069.6393 | AE28: 23 | AF28: 0 | AG28: 215 | AH28: 0 | AI28: =AG28/AE28 -> 9.3478261 | AK28: 14.27206 | AM28: 184111.4 | AN28: 0 | AO28: =IF(AE28>0,AM28/AE28,"") -> 8004.8435 | AP28: =IF(AF28>0,AN28/AF28,"") | AQ28: 26673.08
B29: 60 plus | C29: 14 | E29: 113 | G29: =E29/C29 -> 8.0714286 | I29: 8.5166289 | K29: 38536.95 | M29: =K29/C29 -> 2752.6393 | O29: 3201.0689 | Q29: 2 | R29: 0 | S29: 8 | T29: 0 | U29: =IF(Q29>0,S29/Q29,"") -> 4 | W29: 0 | Y29: 2721.49 | Z29: 0 | AA29: =IF(IncidenceComplications!O26>0,Y29/IncidenceComplications!O26,"") -> 1360.745 | AB29: =IF(IncidenceComplications!P26>0,Z29/IncidenceComplications!P26,"") | AC29: 10.472251 | AE29: 15 | AF29: 2 | AG29: 123 | AH29: 14 | AI29: =AG29/AE29 -> 8.2 | AJ29: =AH29/AF29 -> 7 | AK29: 5.1851436 | AL29: 4.2426407 | AM29: 83891.79 | AN29: 15641.55 | AO29: =IF(AE29>0,AM29/AE29,"") -> 5592.786 | AP29: =IF(AF29>0,AN29/AF29,"") -> 7820.775 | AQ29: 9487.3564 | AR29: 7518.829
