Workbook
Name eu5_change: #REF!
Name eu5_note: #REF!
Name eu5_response: #REF!

Sheet Containment index sources
A2: reference | B2: Sources
A3: (uk1) | B3: https://www.gov.uk/government/publications/our-plan-to-rebuild-the-uk-governments-covid-19-recovery-strategy/our-plan-to-rebuild-the-uk-governments-covid-19-recovery-strategy
A4: (uk2) | B4: https://www.health.org.uk/news-and-comment/charts-and-infographics/covid-19-policy-tracker
A5: (uk3) | B5: https://www.instituteforgovernment.org.uk/explainers/coronavirus-and-devolution
A6: (uk4) | B6: https://www.gov.uk/government/publications/actions-for-schools-during-the-coronavirus-outbreak/guidance-for-full-opening-schools
A8: (ge1) | B8: https://www.bbc.co.uk/news/world-europe-51999080
A9: (ge2) | B9: https://www.bundesregierung.de/breg-en
A10: (ge3) | B10: https://kcrwberlin.com/2020/06/covid-19-in-berlin-and-germany-what-you-need-to-know/
B11: Containment index sources
A12: (ge4) | B12: https://en.wikipedia.org/wiki/COVID-19_pandemic_in_Germany
A13: (ge5) | B13: https://www.theguardian.com/world/2020/apr/28/germans-urged-to-stay-home-amid-covid-19-infection-rate-fears
A14: (ge6) | B14: https://www.thelocal.de/20200518/state-by-state-what-are-the-new-rules-for-eating-out-around-germany
A15: (ge7) | B15: https://www.dw.com/en/what-are-germanys-new-coronavirus-social-distancing-rules/a-52881742
A16: (ge8) | B16: https://www.bavaria.by/information-coronavirus/
A17: (ge9) | B17: https://berlinspectator.com/2020/06/01/chronology-germany-and-the-coronavirus-3/
A19: (sp1) | B19: https://www.boe.es/biblioteca_juridica/codigos/codigo.php?id=363&modo=2&nota=0&tab=2
A20: (sp2) | B20: https://www.spainenglish.com/2020/05/31/lifting-lockdown-spain-full-details-phases/
A21: (sp3) | B21: https://www.rtve.es/noticias/20200605/mapa-desescalada-espana-fase-esta-tu-provincia/2013477.shtml
A23: (fr1) | B23: https://www.gouvernement.fr/en/coronavirus-covid-19
A24: (fr2) | B24: https://www.connexionfrance.com/French-news/France-deconfinement-May-11-What-is-allowed-or-not-allowed-parks-beaches-schools-bars-restaurants-going-out-travel-transport
A25: (fr3) | B25: https://www.thesun.co.uk/news/11391728/coronavirus-france-lockdown/
... A39: (it1) | B39: http://www.governo.it/it/coronavirus-misure-del-governo
B46: https://www.dw.com/en/coronavirus-what-are-the-lockdown-measures-across-europe/a-52905137 | G46: tabella bandierine e restrizioni

Sheet Containment index data
A1: Containment index data
A2: countryCode | B2: countryName | C2: week starting | D2: C1_Schools | E2: C1_reg | F2: C1_note | G2: C2_Workplace (Manuf/Services/other businesses) | H2: C2_reg | I2: C2_note | J2: C3_Retail (excl essential goods) | K2: C3_reg | L2: C3_note | M2: C4_Hospitality (bar,restaurants, accomodations) excl. Takeway | N2: N4_reg | O2: C4_note | P2: C5_Personal care (hairdresser,beauty salons,..) | Q2: C5_reg | R2: C5_note | S2: C6_Assembly and Leisure (museums, cinema, gyms, worship, sports...) | T2: C6_reg | U2: C6_note | V2: C7_Internal movement | W2: C7_reg | X2: C7_note | Y2: C8_Stay at home | Z2: C8_reg | AA2: C8_note | AB2: C9_Gatherings | AC2: C9_reg | AD2: C9_note | AE2: Containment index | AF2: GENERAL NOTE
A3: DEU | B3: Germany | C3: 20200106 | AE3: =SUM(AB3,Y3,V3,S3,P3,M3,J3,G3,D3) -> 0
A4: DEU | B4: Germany | C4: 20200113 | AE4: =SUM(AB4,Y4,V4,S4,P4,M4,J4,G4,D4) -> 0
A5: DEU | B5: Germany | C5: 20200120 | AE5: =SUM(AB5,Y5,V5,S5,P5,M5,J5,G5,D5) -> 0
A6: DEU | B6: Germany | C6: 20200127 | AE6: =SUM(AB6,Y6,V6,S6,P6,M6,J6,G6,D6) -> 0
A7: DEU | B7: Germany | C7: 20200203 | AE7: =SUM(AB7,Y7,V7,S7,P7,M7,J7,G7,D7) -> 0
A8: DEU | B8: Germany | C8: 20200210 | AE8: =SUM(AB8,Y8,V8,S8,P8,M8,J8,G8,D8) -> 0
A9: DEU | B9: Germany | C9: 20200217 | AE9: =SUM(AB9,Y9,V9,S9,P9,M9,J9,G9,D9) -> 0
A10: DEU | B10: Germany | C10: 20200224 | D10: 0.25 | E10: T | F10: (ox) (YI) explains it is one small city that was hotspot | AE10: =SUM(AB10,Y10,V10,S10,P10,M10,J10,G10,D10) -> 0.25
A11: DEU | B11: Germany | C11: 20200302 | D11: 0.25 | E11: T | AE11: =SUM(AB11,Y11,V11,S11,P11,M11,J11,G11,D11) -> 0.25
A12: DEU | B12: Germany | C12: 20200309 | D12: 0.25 | E12: T | S12: 0.25 | T12: T | U12: (ge4) On 8 March, the German Health Minister recommended to cancel events of more than 1000 attendees for the time being (ge9) Berlin closes its opera, concert halls and theaters, other federal state, such as Bavaria, are taking a similar approach to slow down the spread of the virus. | AB12: 0.25 | AC12: R | AD12: (ge4) On 8 March, the German Health Minister recommended to cancel events of more than 1000 attendees for the time being | AE12: =SUM(AB12,Y12,V12,S12,P12,M12,J12,G12,D12) -> 0.75
A13: DEU | B13: Germany | C13: 20200316 | D13: 1 | E13: N | F13: before regional, now national (ge4) On 13 March, 14 of the 16 German federal states decided to close their schools and nurseries for the next few weeks. | J13: 1 | K13: N | L13: (ge4) March 15th Supermarkets, chemist's shops, banks, pet shops, and all businesses that sell essential basic needs are allowed extended opening times including on Sundays, while non-essential shops are to be closed at all times. | M13: 0.75 | N13: N | O13: (ge4) 17 March. Restaurants were ordered to limit their dine-in opening hours to before 3:00 pm; | Q13: N | S13: 0.5 | T13: T | U13: (ge9) Berlin forbids events with 50 or more people. More businesses, even casinos and brothels, are forced to close. There are exceptions for restaurants. | AB13: 0.25 | AC13: R | AD13: (ge9) Berlin forbids events with 50 or more people | AE13: =SUM(AB13,Y13,V13,S13,P13,M13,J13,G13,D13) -> 3.5
A14: DEU | B14: Germany | C14: 20200323 | D14: 1 | E14: N | G14: 0.5 | H14: N | I14: (ox) + deck Never completely closed. Working from home recommanded | J14: 1 | K14: N | L14: (ge1) The measures included closing hair, beauty and massage studios. Other non-essential shops had already been shut. | M14: 1 | N14: N | O14: (ge1) Restaurants will now only be allowed to open for takeaway service. (ge7) Gastronomy businesses must close. Businesses offering food delivery and collection will be allowed to remain open. | P14: 1 | Q14: N | R14: (ge1) The measures included closing hair, beauty and massage studios. Other non-essential shops had already been shut. (ge7) Service providers such as hair-dressers, cosmetic, massage and tattoo studios where a 2-meter distance between people is not possible must also close. Businesses and centers offering medical treatments may remain open. | S14: 1 | T14: N | U14: (ge8) Events and assemblies are prohibited nationwide. This also applies to meetings in churches, mosques and synagogues as well as meetings of other religious communities. Major events remain prohibited at least until 31 August 2020. (YI) checked with Yasemin museum, theatrhes etc closed | V14: 0.5 | W14: T | X14: (ge7) Commuting to work, helping others and exercising alone outside will still be permissible, as long as the activities are carried out in abidance with the guidelines. (differences by region, some strcter) (ox) restrictions on some states only => flag as 0.5 (YI) some states not possible (est vs west approx) | Y14: 0.5 | Z14: N | AA14: (ge7) Commuting to work, helping others and exercising alone outside will still be permissible, as long as the activities are carried out in abidance with the guidelines. (differences by region, some strcter) | AB14: 0.75 | AC14: N | AD14: (ge1) People will not be allowed to form groups of three or more in public unless they live together in the same household, or the gathering is work-related. (ge7) General contact with others should be reduced to a minimum. | AE14: =SUM(AB14,Y14,V14,S14,P14,M14,J14,G14,D14) -> 7.25 | AF14: (ge1) All restrictions apply to every German state, and will be in place for at least the next two weeks. (ge6) German Chancellor Angela Merkel announced new measures on Monday to try to prevent the further spread of COVID-19 in Germany. Non-essential businesses and shops will shut down, while religious gatherings will be prohibited and holiday travel will grind to a halt. "There have never been measures like this in our country before," Merkel announced. "They are far-reaching, but at the moment they are necessary." Supermarkets, pharmacies, petrol stations, banks, post offices, delivery services, drycleaners and hairdressers will be among the businesses that will remain open.
A15: DEU | B15: Germany | C15: 20200330 | D15: 1 | E15: N | G15: 0.5 | H15: N | J15: 1 | K15: N | M15: 1 | N15: N | P15: 1 | Q15: N | S15: 1 | T15: N | V15: 0.5 | W15: T | Y15: 0.5 | Z15: N | AB15: 0.75 | AC15: N | AE15: =SUM(AB15,Y15,V15,S15,P15,M15,J15,G15,D15) -> 7.25
A16: DEU | B16: Germany | C16: 20200406 | D16: 1 | E16: N | G16: 0.5 | H16: N | J16: 1 | K16: N | M16: 1 | N16: N | P16: 1 | Q16: N | S16: 1 | T16: N | V16: 0.5 | W16: T | Y16: 0.5 | Z16: N | AB16: 0.75 | AC16: N | AE16: =SUM(AB16,Y16,V16,S16,P16,M16,J16,G16,D16) -> 7.25
A17: DEU | B17: Germany | C17: 20200413 | D17: 1 | E17: N | G17: 0.5 | H17: N | J17: 1 | K17: N | M17: 1 | N17: N | P17: 1 | Q17: N | S17: 1 | T17: N | V17: 0.5 | W17: T | Y17: 0.5 | Z17: N | AB17: 0.75 | AC17: N | AE17: =SUM(AB17,Y17,V17,S17,P17,M17,J17,G17,D17) -> 7.25
A18: DEU | B18: Germany | C18: 20200420 | D18: 1 | E18: N | G18: 0.5 | H18: N | J18: 0.5 | K18: N | L18: (eu) Smaller shops have been allowed to reopen while respecting social distancing measures, as have other businesses such as car dealers and bicycle shops. (ge2) As of 20 April 2020, individual shops and also libraries at universities can reopen in most Länder, provided they meet considtions (YI) Shops with less than 800sm and limited person in shops, hairdressers can re-open by May 4th with restrictions | M18: 1 | N18: N | P18: 1 | Q18: N | S18: 1 | T18: N | V18: 0.5 | W18: T | Y18: 0.5 | Z18: N | AB18: 0.75 | AC18: N | AE18: =SUM(AB18,Y18,V18,S18,P18,M18,J18,G18,D18) -> 6.75 | AF18: (eu) Germany began its first steps to ease restrictions on April 20. (ge2) As of 20 April 2020, individual shops and also libraries at universities can reopen in most Länder, provided they meet conditions for hygiene, control access and take steps to prevent queues from forming,.. draft a concept for the reopening of schools by 29 April. The other measures concerning contact restrictions will remain in place until at least 3 May 2020.
A19: DEU | B19: Germany | C19: 20200427 | D19: 1 | E19: N | G19: 0.5 | H19: N | J19: 0.5 | K19: N | M19: 1 | N19: N | P19: 1 | Q19: N | S19: 1 | T19: N | V19: 0.5 | W19: T | Y19: 0.5 | Z19: N | AA19: (ge5)Germans have been advised to stay at home as much as possible and continue to apply physical distancing | AB19: 0.75 | AC19: N | AE19: =SUM(AB19,Y19,V19,S19,P19,M19,J19,G19,D19) -> 6.75
A20: DEU | B20: Germany | C20: 20200504 | D20: 0.75 | E20: R | F20: (ge2) .. draft a concept for the reopening of schools by 29 April. (YI) : only last year of each level of school => approx 25% of students (cg) R as peculiarities by region but finally almost all affected | G20: 0.5 | H20: N | J20: 0.25 | K20: R | L20: deck AW (YI) all opened but max # person/sqm, masks etc (cg) consistently with Italy let's set to 0.25 | M20: 0.5 | N20: R | O20: regional differences. Restaurants can re-open with distance | P20: 0.25 | Q20: R | R20: (ge4) opening on 4 May, as well as hair salons although with all rules for social distances, limited capacity etc. (ge3) hairdresser opened on may 4th, tatoot/nail salon from may9th (Berlin) | S20: 0.25 | T20: R | U20: (ge8) Bavaria: Assemblies are permitted since 4 May under conditions (max 50 patercipats,Only outdoors and stationary, with a basic min dist of 1.5 m and without distribution of flyers etc., Max duration: 60 min etc). Almost same for Divine services . (cg) set 0.25 as aonly some of activites resumed and with significant limitations as for capacity | V20: 0 | W20: N | X20: (ge8) With effect from 6 May 2020, the general movement restriction ceased to apply. (Bavaria considered stricter state => set to 0) | Y20: 0.5 | Z20: N | AB20: 0.5 | AC20: R | AD20: (ge4) May 4th: while contact limitations would remain until 5 June. Under the newly agreed conditions, a maximum of two different households can meet in public (ge8) Bavaria: The existing contact restriction and the distance rule will continue to apply. Everyone is therefore required to reduce physical contact with other people outside the members of their own household to an absolutely necessary minimum. Wherever possible, a minimum distance between two persons of 1.5 m must be maintained. Accumulations in public spaces remain prohibited. | AE20: =SUM(AB20,Y20,V20,S20,P20,M20,J20,G20,D20) -> 3.5
A21: DEU | B21: Germany | C21: 20200511 | D21: 0.75 | E21: R | G21: 0.5 | H21: N | J21: 0.25 | K21: R | M21: 0.5 | N21: R | O21: (ge6) North Rhine-Westphalia, Germany’s most populous state also allowed all restaurants to open as of Monday, May 11th. Anche Lower Saxony | P21: 0.25 | Q21: R | S21: 0.25 | T21: R | U21: (ge8) Bavaria: Since 11 May the following facilities and businesses have reopened: Animal parks and botanical gardens with conditions (admission, 20 sqm rule, distance, outdoor facilities only, no gastronomy, no petting zoo). Libraries, museums, galleries, exhibitions and memorials with conditions (20 sqm rule, distance, no catering business). Contact-free individual sports with distance (e.g. tennis, athletics, golf, sailing, riding (also indoors) or aviation) are permitted again | V21: 0 | W21: N | Y21: 0.5 | Z21: N | AB21: 0.5 | AC21: R | AE21: =SUM(AB21,Y21,V21,S21,P21,M21,J21,G21,D21) -> 3.5
A22: DEU | B22: Germany | C22: 20200518 | D22: 0.75 | E22: R | G22: 0.5 | H22: N | J22: 0.25 | K22: R | M22: 0.5 | N22: R | O22: (ge6) As of Monday, restaurants in each of Germany's 16 states can open their doors - albeit with different restrictions. (ge8) Bavaria: Gastronomy has opened gradually since 18 May 2020, initially outdoors (e.g. beer gardens), and indoors since 25 May 2020. | P22: 0.25 | Q22: R | S22: 0.25 | T22: R | V22: 0 | W22: N | Y22: 0.5 | Z22: N | AB22: 0.5 | AC22: R | AE22: =SUM(AB22,Y22,V22,S22,P22,M22,J22,G22,D22) -> 3.5
A23: DEU | B23: Germany | C23: 20200525 | D23: 0.75 | E23: R | G23: 0.5 | H23: N | J23: 0.25 | K23: R | M23: 0.25 | N23: R | O23: (cg) reduce score as per note above | P23: 0.25 | Q23: R | S23: 0.25 | T23: R | V23: 0 | W23: N | Y23: 0.5 | Z23: N | AB23: 0.5 | AC23: R | AE23: =SUM(AB23,Y23,V23,S23,P23,M23,J23,G23,D23) -> 3.25
A24: DEU | B24: Germany | C24: 20200601 | D24: 0.75 | E24: R | G24: 0.5 | H24: N | J24: 0.25 | K24: R | M24: 0.25 | N24: R | O24: (ge3) Berlino: Bars, pubs and shisha bars were permitted to reopen from June 2 (ge8) Bavaria: The Whitsun weekend (30 May) is the date for a possible opening of hotels | P24: 0.25 | Q24: R | S24: 0.25 | T24: R | U24: (ge8) Bavaria) on 30 May, outdoor leisure facilities such as amusement parks should also be able to resume operations from this day. From 15 June 2020, the resumption of theatre, concert and other cultural events is possible (up to 50 guests indoors, up to 100 guests outdoors) From 15 June 2020, the resumption of cinema operations is possible in principle | V24: 0 | W24: N | Y24: 0.5 | Z24: N | AB24: 0.5 | AC24: R | AE24: =SUM(AB24,Y24,V24,S24,P24,M24,J24,G24,D24) -> 3.25
A25: ESP | B25: Spain | C25: 20200106 | AE25: =SUM(AB25,Y25,V25,S25,P25,M25,J25,G25,D25) -> 0
A26: ESP | B26: Spain | C26: 20200113 | AE26: =SUM(AB26,Y26,V26,S26,P26,M26,J26,G26,D26) -> 0
A27: ESP | B27: Spain | C27: 20200120 | AE27: =SUM(AB27,Y27,V27,S27,P27,M27,J27,G27,D27) -> 0
A28: ESP | B28: Spain | C28: 20200127 | AE28: =SUM(AB28,Y28,V28,S28,P28,M28,J28,G28,D28) -> 0
A29: ESP | B29: Spain | C29: 20200203 | AE29: =SUM(AB29,Y29,V29,S29,P29,M29,J29,G29,D29) -> 0
A30: ESP | B30: Spain | C30: 20200210 | AE30: =SUM(AB30,Y30,V30,S30,P30,M30,J30,G30,D30) -> 0
A31: ESP | B31: Spain | C31: 20200217 | AE31: =SUM(AB31,Y31,V31,S31,P31,M31,J31,G31,D31) -> 0
A32: ESP | B32: Spain | C32: 20200224 | AE32: =SUM(AB32,Y32,V32,S32,P32,M32,J32,G32,D32) -> 0
A33: ESP | B33: Spain | C33: 20200302 | AE33: =SUM(AB33,Y33,V33,S33,P33,M33,J33,G33,D33) -> 0
A34: ESP | B34: Spain | C34: 20200309 | D34: 0.5 | E34: T | F34: Closure in Madrid, Pais Vascos and few others | AE34: =SUM(AB34,Y34,V34,S34,P34,M34,J34,G34,D34) -> 0.5
A35: ESP | B35: Spain | C35: 20200316 | D35: 1 | E35: N | G35: 0.75 | H35: N | I35: ordered to workfrom home whenever possible | J35: 1 | K35: N | L35: (sp1) Buletin Fase 0: Se suspende la apertura al público de los locales y establecimientos minoristas, a excepción de los establecimientos comerciales minoristas de alimentación, bebidas, productos y bienes de primera necesidad, etc | M35: 1 | N35: N | O35: (sp1) Buletin Fase 0: Se suspenden las actividades de hostelería y restauración, pudiendo prestarse exclusivamente servicios de entrega a domicilio. | P35: 1 | Q35: N | R35: (sp1) Buletin Fase 0: En cualquier caso, se suspenderá la actividad de cualquier establecimiento que, a juicio de la autoridad competente, pueda suponer un riesgo de contagio por las condiciones en las que se esté desarrollando. | S35: 1 | T35: N | U35: (sp1) Buletin Fase 0: Se suspende la apertura al público de los museos, archivos, bibliotecas, monumentos, así como de los locales y establecimientos en los que se desarrollen espectáculos públicos, las actividades deportivas y de ocio indicados en el anexo del presente real decreto. Se suspenden asimismo las verbenas, desfiles y fiestas populares | V35: 1 | W35: N | Y35: 1 | Z35: N | AA35: (sp1) Buletin Fase 0 Durante la vigencia del estado de alarma, las personas únicamente podrán circular por las vías o espacios de uso público para la realización de las siguientes actividades (..food, work, …essential reasons) | AB35: 1 | AC35: N | AE35: =SUM(AB35,Y35,V35,S35,P35,M35,J35,G35,D35) -> 8.75 | AF35: (eu) The strict lockdown in place since mid-March
A36: ESP | B36: Spain | C36: 20200323 | D36: 1 | E36: N | G36: 0.75 | H36: N | J36: 1 | K36: N | M36: 1 | N36: N | P36: 1 | Q36: N | S36: 1 | T36: N | V36: 1 | W36: N | Y36: 1 | Z36: N | AB36: 1 | AC36: N | AE36: =SUM(AB36,Y36,V36,S36,P36,M36,J36,G36,D36) -> 8.75
A37: ESP | B37: Spain | C37: 20200330 | D37: 1 | E37: N | G37: 1 | H37: N | I37: chiusura totale fino semana santa | J37: 1 | K37: N | M37: 1 | N37: N | P37: 1 | Q37: N | S37: 1 | T37: N | V37: 1 | W37: N | Y37: 1 | Z37: N | AB37: 1 | AC37: N | AE37: =SUM(AB37,Y37,V37,S37,P37,M37,J37,G37,D37) -> 9
A38: ESP | B38: Spain | C38: 20200406 | D38: 1 | E38: N | G38: 1 | H38: N | J38: 1 | K38: N | M38: 1 | N38: N | P38: 1 | Q38: N | S38: 1 | T38: N | V38: 1 | W38: N | Y38: 1 | Z38: N | AB38: 1 | AC38: N | AE38: =SUM(AB38,Y38,V38,S38,P38,M38,J38,G38,D38) -> 9
A39: ESP | B39: Spain | C39: 20200413 | D39: 1 | E39: N | G39: 1 | H39: N | J39: 1 | K39: N | M39: 1 | N39: N | P39: 1 | Q39: N | S39: 1 | T39: N | V39: 1 | W39: N | Y39: 1 | Z39: N | AB39: 1 | AC39: N | AE39: =SUM(AB39,Y39,V39,S39,P39,M39,J39,G39,D39) -> 9
A40: ESP | B40: Spain | C40: 20200420 | D40: 1 | E40: N | G40: 0.75 | H40: N | I40: (eu) After Easter Spain allowed some employees to return to work in factories, offices and on construction sites. | J40: 1 | K40: N | M40: 1 | N40: N | P40: 1 | Q40: N | S40: 1 | T40: N | V40: 1 | W40: N | Y40: 1 | Z40: N | AB40: 1 | AC40: N | AE40: =SUM(AB40,Y40,V40,S40,P40,M40,J40,G40,D40) -> 8.75
A41: ESP | B41: Spain | C41: 20200427 | D41: 1 | E41: N | G41: 0.75 | H41: N | J41: 1 | K41: N | M41: 1 | N41: N | P41: 1 | Q41: N | S41: 1 | T41: N | V41: 1 | W41: N | Y41: 0.75 | Z41: N | AA41: (sp2) Phase 0: children out for daily walks and exercise from Sunday 26 April | AB41: 1 | AC41: N | AE41: =SUM(AB41,Y41,V41,S41,P41,M41,J41,G41,D41) -> 8.5
A42: ESP | B42: Spain | C42: 20200504 | D42: 1 | E42: N | G42: 0.75 | H42: N | J42: 1 | K42: N | M42: 1 | N42: N | P42: 1 | Q42: N | S42: 1 | T42: N | V42: 1 | W42: N | Y42: 0.75 | Z42: N | AA42: (sp2) Phase 0: .. and adults being allowed out for daily walks and exercise from Saturday 2 May (individually) | AB42: 1 | AC42: N | AE42: =SUM(AB42,Y42,V42,S42,P42,M42,J42,G42,D42) -> 8.5 | AF42: (eu) The strict lockdown is to be eased in four phases, with each stage to last for at least two weeks and conditional on progress. (sp2) The de-escalation to ‘a new normality’ officially started on Monday 4 May and will last up to eight weeks, until the end of June. (sp2) Phase Zero started on 4 May
A43: ESP | B43: Spain | C43: 20200511 | D43: 1 | E43: R | G43: 0.75 | H43: R | I43: (sp2) Fase 1: The BOE also recommends that people continue to work from home where possible | J43: 0.75 | K43: R | L43: phase I for several provinces (sp1) Fase 1: Podrá procederse a la reapertura al público de todos los establecimientos y locales comerciales minoristas y de actividades de servicios profesionales cuya actividad se hubiera suspendido tras la declaración del estado de alarma, una superficie útil de exposición y venta igual o inferior a 400 metros cuadrados + altre regole distanziamento, max 30% capacity etc | M43: 0.75 | N43: R | O43: phase I for several provinces (sp2) Phase 1: Restaurants, bars and cafés can open their outside terraces at 50% capacity. Hotels and tourist accommodation can open, but communal areas must remain closed | P43: 0.75 | Q43: R | R43: phase I for several provinces | S43: 0.75 | T43: R | U43: phase I for several provinces | V43: 0.75 | W43: R | X43: (sp2) Phase I: The official measures are that citizens must not travel from province to province, but travel within a province or healthcare zone is allowed. | Y43: 0.75 | Z43: R | AA43: (sp2) during phase one remains individual exercise | AB43: 0.75 | AC43: R | AD43: (sp2) Up to 10 people can meet for social gatherings, either outside or in someone’s home (also at restaurant and bar terraces – see below), but social distancing measures must be respected between people who do not already live together | AE43: =SUM(AB43,Y43,V43,S43,P43,M43,J43,G43,D43) -> 7 | AF43: (sp2) Phase One started on 11 May for many regions and provinces. (sp3) approx 50% in fase 0, 50% fase 1 (in base mappa)
A44: ESP | B44: Spain | C44: 20200518 | D44: 1 | E44: R | G44: 0.75 | H44: R | J44: 0.5 | K44: R | M44: 0.5 | N44: R | P44: 0.5 | Q44: R | S44: 0.5 | T44: R | V44: 0.5 | W44: R | Y44: 0.5 | Z44: R | AB44: 0.5 | AC44: R | AE44: =SUM(AB44,Y44,V44,S44,P44,M44,J44,G44,D44) -> 5.25 | AF44: (sp3) approx 20% in fase 0, 80% fase 1 (in base mappa)
A45: ESP | B45: Spain | C45: 20200525 | D45: 1 | E45: R | G45: 0.75 | H45: R | J45: 0.25 | K45: R | L45: phase II for several provinces (sp2) Fase 2: Shops and stores can open independently of their size, but with capacity limited to 40%. There should also be priority timetables for the over 65s | M45: 0.25 | N45: R | O45: phase II for several provinces (sp2) fase2: Restaurant and bars can now re-open their interior dining areas, apart from nightclubs and music bars, provided capacity is limited to 40% (sp2) fase2: Hotels and tourist accommodations can re-open their common areas, provided capacity is kept to 30%. | P45: 0.25 | Q45: R | S45: 0.25 | T45: R | U45: (sp1) Buletin Fase 2: Se permitirá la asistencia a lugares de culto siempre que no se supere el cincuenta por ciento de su aforo. (sp2) Fase 2: Cinemas, theatres, auditoriums and culture venues can re-open capacity is limited to 30%, Casinos can open at 50% capacity. Open-air concerts are allowed, but the public must be seated, observing social distancing, with capacity at 30% and limited to 400 people. | V45: 0.5 | W45: R | X45: (sp1) Buletin Fase 2: Se podrá circular por la provincia, isla o unidad territorial de referencia a efectos del proceso de desescalada, sin perjuicio de las excepciones que justifiquen el desplazamiento a otra parte del territorio nacional …. (alla fine rimane il vincolo entro prov) | Y45: 0.5 | Z45: R | AA45: (sp2) Fase2 : . All are allowed to go out for walks and practise individual sports (jogging, cycling), in any part of their province, island or healthcare zone, with no limit on time or distance. It also means that anyone living in a Phase Two area can also go to the countryside or trekking, as long as they remain within their province or healthcare zone | AB45: 0.25 | AC45: R | AD45: (sp2) Up to 15 people can now meet for social gatherings, either outside or indorr, but social distancingto be respected. Up to 20 people can participate in nature tourism activities together | AE45: =SUM(AB45,Y45,V45,S45,P45,M45,J45,G45,D45) -> 4 | AF45: (sp2) Phase Two started on 25 May. (sp2) From Thursday 21 May, it then became compulsory to wear face masks in Spain in closed spaces (sp2) Madrid finally moved to Phase One on Monday 25 May. (sp3) approx 40% in fase 1, 60% fase 2 (in base mappa)
A46: ESP | B46: Spain | C46: 20200601 | D46: 1 | E46: R | G46: 0.75 | H46: R | J46: 0.25 | K46: R | M46: 0.25 | N46: R | P46: 0.25 | Q46: R | S46: 0.25 | T46: R | V46: 0.5 | W46: R | X46: (sp2) Most importantly, the regional authorities for areas in Phase Three can allow free movement within their entire territories from Monday 8 June. | Y46: 0.5 | Z46: R | AB46: 0.25 | AC46: R | AE46: =SUM(AB46,Y46,V46,S46,P46,M46,J46,G46,D46) -> 4 | AF46: (sp2) On 3 June, the Spanish Congress voted to extend the ‘state of alarm’ for a sixth and final time until 21 June. The ‘state of alarm’ is in place whilst the country also continues with the plan of lifting lockdown restrictions. (sp2) Phase Three now starts from Monday 8 June for many regions (although some islands were already in Phase Three – see below). (sp3) approx 20% in fase 1, 80% fase 2 (in base mappa)
A47: FRA | B47: France | C47: 20200106 | AE47: =SUM(AB47,Y47,V47,S47,P47,M47,J47,G47,D47) -> 0
A48: FRA | B48: France | C48: 20200113 | AE48: =SUM(AB48,Y48,V48,S48,P48,M48,J48,G48,D48) -> 0
A49: FRA | B49: France | C49: 20200120 | AE49: =SUM(AB49,Y49,V49,S49,P49,M49,J49,G49,D49) -> 0
A50: FRA | B50: France | C50: 20200127 | AE50: =SUM(AB50,Y50,V50,S50,P50,M50,J50,G50,D50) -> 0
A51: FRA | B51: France | C51: 20200203 | AE51: =SUM(AB51,Y51,V51,S51,P51,M51,J51,G51,D51) -> 0
A52: FRA | B52: France | C52: 20200210 | AE52: =SUM(AB52,Y52,V52,S52,P52,M52,J52,G52,D52) -> 0
A53: FRA | B53: France | C53: 20200217 | AE53: =SUM(AB53,Y53,V53,S53,P53,M53,J53,G53,D53) -> 0
A54: FRA | B54: France | C54: 20200224 | AE54: =SUM(AB54,Y54,V54,S54,P54,M54,J54,G54,D54) -> 0
A55: FRA | B55: France | C55: 20200302 | D55: 0.5 | E55: T | F55: (ox) regional. Only some prov in Northern France/Britanny. | AE55: =SUM(AB55,Y55,V55,S55,P55,M55,J55,G55,D55) -> 0.5
A56: FRA | B56: France | C56: 20200309 | D56: 0.5 | E56: T | AE56: =SUM(AB56,Y56,V56,S56,P56,M56,J56,G56,D56) -> 0.5
A57: FRA | B57: France | C57: 20200316 | D57: 1 | E57: N | F57: (ox) national | G57: 1 | H57: N | I57: (ox) | J57: 1 | K57: N | M57: 1 | N57: N | P57: 1 | Q57: N | S57: 1 | T57: N | U57: (fr3) The French have been confined to their homes with only brief trips allowed outside for buying food and essential errands. | V57: 1 | W57: N | X57: ( fr1) You may travel freely in your local area, respecting the ‘barrier gestures’ detailed below. You may not travel over 100 km from your home (as the crow flies), unless you have an imperative family or professional reason to do so. You must complete a declaration for those trips. ma quando iniziata??? (fr3) Every time a citizen leaves their home, they are required to download and fill in a form stating the reason for going outside. | Y57: 1 | Z57: N | AA57: (fr3) The French have been confined to their homes with only brief trips allowed outside for buying food and essential errands. In Paris - the worst affected area - lockdown measures were extended to ban all outdoor exercise between the hours of 10pm and 7am. | AB57: 1 | AC57: N | AD57: (fr3) The French have been confined to their homes with only brief trips allowed outside for buying food and essential errands. | AE57: =SUM(AB57,Y57,V57,S57,P57,M57,J57,G57,D57) -> 9 | AF57: (fr3) French President Emmanuel Macron announced strict confinement measures on March 17
A58: FRA | B58: France | C58: 20200323 | D58: 1 | E58: N | G58: 1 | H58: N | J58: 1 | K58: N | M58: 1 | N58: N | P58: 1 | Q58: N | S58: 1 | T58: N | V58: 1 | W58: N | Y58: 1 | Z58: N | AB58: 1 | AC58: N | AE58: =SUM(AB58,Y58,V58,S58,P58,M58,J58,G58,D58) -> 9
A59: FRA | B59: France | C59: 20200330 | D59: 1 | E59: N | G59: 1 | H59: N | J59: 1 | K59: N | M59: 1 | N59: N | P59: 1 | Q59: N | S59: 1 | T59: N | V59: 1 | W59: N | Y59: 1 | Z59: N | AB59: 1 | AC59: N | AE59: =SUM(AB59,Y59,V59,S59,P59,M59,J59,G59,D59) -> 9
A60: FRA | B60: France | C60: 20200406 | D60: 1 | E60: N | G60: 1 | H60: N | J60: 1 | K60: N | M60: 1 | N60: N | P60: 1 | Q60: N | S60: 1 | T60: N | V60: 1 | W60: N | Y60: 1 | Z60: N | AB60: 1 | AC60: N | AE60: =SUM(AB60,Y60,V60,S60,P60,M60,J60,G60,D60) -> 9
A61: FRA | B61: France | C61: 20200413 | D61: 1 | E61: N | G61: 1 | H61: N | J61: 1 | K61: N | M61: 1 | N61: N | P61: 1 | Q61: N | S61: 1 | T61: N | V61: 1 | W61: N | Y61: 1 | Z61: N | AB61: 1 | AC61: N | AE61: =SUM(AB61,Y61,V61,S61,P61,M61,J61,G61,D61) -> 9
A62: FRA | B62: France | C62: 20200420 | D62: 1 | E62: N | G62: 1 | H62: N | J62: 1 | K62: N | M62: 1 | N62: N | P62: 1 | Q62: N | S62: 1 | T62: N | V62: 1 | W62: N | Y62: 1 | Z62: N | AB62: 1 | AC62: N | AE62: =SUM(AB62,Y62,V62,S62,P62,M62,J62,G62,D62) -> 9
A63: FRA | B63: France | C63: 20200427 | D63: 1 | E63: N | G63: 1 | H63: N | J63: 1 | K63: N | M63: 1 | N63: N | P63: 1 | Q63: N | S63: 1 | T63: N | V63: 1 | W63: N | Y63: 1 | Z63: N | AB63: 1 | AC63: N | AE63: =SUM(AB63,Y63,V63,S63,P63,M63,J63,G63,D63) -> 9
A64: FRA | B64: France | C64: 20200504 | D64: 1 | E64: N | G64: 1 | H64: N | J64: 1 | K64: N | M64: 1 | N64: N | P64: 1 | Q64: N | S64: 1 | T64: N | V64: 1 | W64: N | Y64: 1 | Z64: N | AB64: 1 | AC64: N | AE64: =SUM(AB64,Y64,V64,S64,P64,M64,J64,G64,D64) -> 9
A65: FRA | B65: France | C65: 20200511 | D65: 0.75 | E65: T/R | F65: (fr1) Kindergarten and primary school children may return to school, on a voluntary basis, since May 11th. Middle schools (collèges) are gradually reopening in departments in green zones. They will remain closed in red zones. | G65: 0.5 | H65: N | I65: (fr2) Where possible, people should continue to work from home, especially in red departments. However, for businesses and jobs where this is not possible, the transport minister has recommended that companies reduce the number of staff working at one time, and stagger hours as much as possible. Approx 400k out of 800k back to work | J65: 0.25 | K65: N | L65: (fr2) Most shops will be open, as will hairdressers, barbers and beauty salons. Food markets will also reopen. | M65: 1 | N65: N | O65: (fr3) But restaurants, cafes, hotels, museums and cultural sites must stay closed and large festivals and events may only be allowed after mid-July. He also ordered that borders with EU countries - aside from Britain - would remain closed. | P65: 0.25 | Q65: N | R65: (fr2) Most shops will be open, as will hairdressers, barbers and beauty salons. Food markets will also reopen. | S65: 0.75 | T65: N | U65: (fr1) ..But team sports and contact sports remain prohibited; gyms, swimming pools and sport centres remain closed and professional sport will not resume this season. Libraries and small museums reopened on May 11th ; larger museums, cinemas, theatres, beaches and lakes, summer camps and so on remain closed. Public parks and gardens may open in green zones. Places of worship remain open but public religious ceremonies may not resume. | V65: 0.5 | W65: N | X65: (fr2) Travel up to 100km from your home address will now be permitted. ...You will no longer need an attestation form to leave your house, except proof of address <=100km limit. | Y65: 0.5 | Z65: N | AA65: (fr1) You may carry out individual outdoor sports, as long as you respect social distancing rules. (fr2) Vulnerable and/or at-risk people are no longer required to be in “mandatory confinement” | AB65: 0.5 | AC65: N | AD65: (fr2) You will now be allowed to visit friends, or have them round to your house, but there are conditions.Gatherings are still limited to 10 people at a time, and you must respect barrier gestures at all times - including not kissing or hugging, continue regular hand washing and/or using sanitiser gel, coughing into your elbow, etc. | AE65: =SUM(AB65,Y65,V65,S65,P65,M65,J65,G65,D65) -> 5 | AF65: (fr1) Depuis le 11 mai, le déconfinement s’effectue de façon progressive (fr2) The first phase of deconfinement is to last for three weeks, with the rules and restrictions set to be further re-evaluated at the end of May. Certain rules will apply to the entire country, while some things will only be allowed in “green departments”, and not in those still coloured “red”
A66: FRA | B66: France | C66: 20200518 | D66: 0.75 | E66: T/R | G66: 0.5 | H66: N | J66: 0.25 | K66: N | M66: 1 | N66: N | P66: 0.25 | Q66: N | S66: 0.75 | T66: N | V66: 0.5 | W66: N | Y66: 0.5 | Z66: N | AB66: 0.5 | AC66: N | AE66: =SUM(AB66,Y66,V66,S66,P66,M66,J66,G66,D66) -> 5
A67: FRA | B67: France | C67: 20200525 | D67: 0.75 | E67: T/R | G67: 0.5 | H67: N | J67: 0.25 | K67: N | M67: 1 | N67: N | P67: 0.25 | Q67: N | S67: 0.75 | T67: N | V67: 0.5 | W67: N | Y67: 0.5 | Z67: N | AB67: 0.5 | AC67: N | AE67: =SUM(AB67,Y67,V67,S67,P67,M67,J67,G67,D67) -> 5
A68: FRA | B68: France | C68: 20200601 | D68: 0.75 | E68: T/R | F68: A decision on high schools (lycées) and vocational training schools (lycées professionels) will be taken at the end of May. (fr4) on jun 22nd: "Despite the easing that began in mid-May and included the gradual reopening of schools, many schoolchildren have not set foot on school grounds in three months. According to the latest figures from the country’s education ministry, only 1.8 million primary school children, out of a total of 6.7 million, have returned to school – and most not on a full-time basis. The figures for collège, France’s middle schools, are 600,000 out of 3.3 million. (fr5) sembra che prima abbiano aperto e poi nel giro di 2 settimane molte hanno richiuso per casi positivi etc => forse questo speiga il saldo "basso" a fine giugno quando inevece chiesto dal governo di riapre in massa... Lascio score 0.5 o metto 0.75? | G68: 0.5 | H68: N | I68: (fr1) Working from home must be preferred whenever possible. | J68: 0.25 | K68: N | L68: (fr1) Most shops and open-air markets are now open, with health measures in place. | M68: 1 | N68: N | O68: (fr1) Bars and restaurants will not reopen until further notice. | P68: 0.25 | Q68: N | S68: 0.75 | T68: N | V68: 0.5 | W68: N | X68: ( fr1) You may travel freely in your local area, respecting the ‘barrier gestures’ detailed below. You may not travel over 100 km from your home (as the crow flies), unless you have an imperative family or professional reason to do so. You must complete a declaration for those trips. ma quando iniziata??? | Y68: 0.5 | Z68: N | AB68: 0.5 | AC68: N | AD68: (fr1) No more than 10 people may gather in any one place at present. | AE68: =SUM(AB68,Y68,V68,S68,P68,M68,J68,G68,D68) -> 5
A69: GBR | B69: United Kingdom | C69: 20200106 | E69: T/R | AE69: =SUM(AB69,Y69,V69,S69,P69,M69,J69,G69,D69) -> 0
A70: GBR | B70: United Kingdom | C70: 20200113 | AE70: =SUM(AB70,Y70,V70,S70,P70,M70,J70,G70,D70) -> 0
A71: GBR | B71: United Kingdom | C71: 20200120 | AE71: =SUM(AB71,Y71,V71,S71,P71,M71,J71,G71,D71) -> 0
A72: GBR | B72: United Kingdom | C72: 20200127 | AE72: =SUM(AB72,Y72,V72,S72,P72,M72,J72,G72,D72) -> 0
A73: GBR | B73: United Kingdom | C73: 20200203 | AE73: =SUM(AB73,Y73,V73,S73,P73,M73,J73,G73,D73) -> 0
A74: GBR | B74: United Kingdom | C74: 20200210 | AE74: =SUM(AB74,Y74,V74,S74,P74,M74,J74,G74,D74) -> 0
A75: GBR | B75: United Kingdom | C75: 20200217 | AE75: =SUM(AB75,Y75,V75,S75,P75,M75,J75,G75,D75) -> 0
A76: GBR | B76: United Kingdom | C76: 20200224 | AE76: =SUM(AB76,Y76,V76,S76,P76,M76,J76,G76,D76) -> 0
A77: GBR | B77: United Kingdom | C77: 20200302 | AE77: =SUM(AB77,Y77,V77,S77,P77,M77,J77,G77,D77) -> 0
A78: GBR | B78: United Kingdom | C78: 20200309 | AE78: =SUM(AB78,Y78,V78,S78,P78,M78,J78,G78,D78) -> 0
A79: GBR | B79: United Kingdom | C79: 20200316 | AE79: =SUM(AB79,Y79,V79,S79,P79,M79,J79,G79,D79) -> 0 | AF79: On 16 March, the government announced stricter social distancing measures for all – asking the public to ‘stop non-essential contact with others and to stop all unnecessary travel’. (ma poi effective since mar 20th)
A80: GBR | B80: United Kingdom | C80: 20200323 | D80: 1 | E80: N | F80: (uk2): On 18 March, the Prime Minister announced that schools would close from 20 March, except for children of key workers and vulnerable group (uk4) Schools have remained open to some pupils since 23 March 2020, welcoming more pupils back from 1 June 2020. Schools should therefore have already assessed the risks and implemented proportionate control measures to limit the transmission of coronavirus (COVID-19) for a limited number of pupils. | G80: 1 | H80: N | I80: (internal IQVIA-UK) car manuf closed but airbus no. Which list allowed to stay open? Chemical highly recommanded to work from home but if required they would go | J80: 1 | K80: N | L80: (uk2) Bars, restaurants, shops, and some other premises were told to close on 20 March. In a pre-recorded, televised address to the nation on 23 March, the Prime Minister announced stricter lockdown measures, instructing people to only leave their home for a small number of purposes, closing all non-essential shops, and stopping social gatherings. | M80: 1 | N80: N | O80: (uk2) Bars, restaurants, shops, and some other premises were told to close on 20 March. In a pre-recorded, televised address to the nation on 23 March, the Prime Minister announced stricter lockdown measures, instructing people to only leave their home for a small number of purposes, closing all non-essential shops, and stopping social gatherings. (uk2) on 20 March with the closure of all entertainment, hospitality, and indoor leisure premises. | P80: 1 | Q80: N | R80: (uk2) Bars, restaurants, shops, and some other premises were told to close on 20 March. In a pre-recorded, televised address to the nation on 23 March, the Prime Minister announced stricter lockdown measures, instructing people to only leave their home for a small number of purposes, closing all non-essential shops, and stopping social gatherings. | S80: 1 | T80: N | U80: (uk2) Bars, restaurants, shops, and some other premises were told to close on 20 March. In a pre-recorded, televised address to the nation on 23 March, the Prime Minister announced stricter lockdown measures, instructing people to only leave their home for a small number of purposes, closing all non-essential shops, and stopping social gatherings. (uk2) on 20 March with the closure of all entertainment, hospitality, and indoor leisure premises. | V80: 1 | W80: N | X80: (uk2) Essential travel does not include visits to second homes, camp sites, caravan parks or similar, whether for isolation purposes or holidays. People must remain in their primary residence. | Y80: 1 | AA80: (uk2) Bars, restaurants, shops, and some other premises were told to close on 20 March. In a pre-recorded, televised address to the nation on 23 March, the Prime Minister announced stricter lockdown measures, instructing people to only leave their home for a small number of purposes, closing all non-essential shops, and stopping social gatherings. | AB80: 1 | AD80: (uk2) Bars, restaurants, shops, and some other premises were told to close on 20 March. In a pre-recorded, televised address to the nation on 23 March, the Prime Minister announced stricter lockdown measures, instructing people to only leave their home for a small number of purposes, closing all non-essential shops, and stopping social gatherings. | AE80: =SUM(AB80,Y80,V80,S80,P80,M80,J80,G80,D80) -> 9 | AF80: (uk3) Why are there different restrictions in different parts of the UK? The UK government is only responsible for lockdown restrictions in England. This is because health is a devolved matter, which means that Scotland, Wales and Northern Ireland are responsible for their own policies in relation to public health matters. ‘Lockdown’ was imposed through public health legislation, with separate regulations made in the UK, Scottish and Welsh Parliaments and the Northern Ireland Assembly. The Scottish government, Welsh government and Northern Ireland executive remain responsible for introducing and lifting restrictions in their respective territories, and can make different decisions. England, Scotland and Wales introduced lockdown restrictions on 26 March and Northern Ireland on 28 March with only minor differences in their respective approaches. However, over time, differences between the approach of each part of the UK emerged, and (uk3)the four-nation exit strategy appears to have broken down.
A81: GBR | B81: United Kingdom | C81: 20200330 | D81: 1 | E81: N | G81: 1 | H81: N | J81: 1 | K81: N | M81: 1 | N81: N | P81: 1 | Q81: N | S81: 1 | T81: N | V81: 1 | W81: N | Y81: 1 | AB81: 1 | AE81: =SUM(AB81,Y81,V81,S81,P81,M81,J81,G81,D81) -> 9
A82: GBR | B82: United Kingdom | C82: 20200406 | D82: 1 | E82: N | G82: 1 | H82: N | J82: 1 | K82: N | M82: 1 | N82: N | P82: 1 | Q82: N | S82: 1 | T82: N | V82: 1 | W82: N | Y82: 1 | AB82: 1 | AE82: =SUM(AB82,Y82,V82,S82,P82,M82,J82,G82,D82) -> 9
A83: GBR | B83: United Kingdom | C83: 20200413 | D83: 1 | E83: N | G83: 1 | H83: N | J83: 1 | K83: N | M83: 1 | N83: N | P83: 1 | Q83: N | S83: 1 | T83: N | V83: 1 | W83: N | Y83: 1 | AB83: 1 | AE83: =SUM(AB83,Y83,V83,S83,P83,M83,J83,G83,D83) -> 9
A84: GBR | B84: United Kingdom | C84: 20200420 | D84: 1 | E84: N | G84: 1 | H84: N | J84: 1 | K84: N | M84: 1 | N84: N | P84: 1 | Q84: N | S84: 1 | T84: N | V84: 1 | W84: N | Y84: 1 | AB84: 1 | AE84: =SUM(AB84,Y84,V84,S84,P84,M84,J84,G84,D84) -> 9
A85: GBR | B85: United Kingdom | C85: 20200427 | D85: 1 | E85: N | G85: 1 | H85: N | J85: 1 | K85: N | M85: 1 | N85: N | P85: 1 | Q85: N | S85: 1 | T85: N | V85: 1 | W85: N | Y85: 1 | AB85: 1 | AE85: =SUM(AB85,Y85,V85,S85,P85,M85,J85,G85,D85) -> 9
A86: GBR | B86: United Kingdom | C86: 20200504 | D86: 1 | E86: N | G86: 1 | H86: N | J86: 1 | K86: N | L86: (internal IQVI-UK): from may 2nd approx openings on building related shops (paint, wood etc). Confirms no clothes, shoes, bookshops etc | M86: 1 | N86: N | P86: 1 | Q86: N | S86: 1 | T86: N | V86: 1 | W86: N | Y86: 1 | AB86: 1 | AE86: =SUM(AB86,Y86,V86,S86,P86,M86,J86,G86,D86) -> 9
A87: GBR | B87: United Kingdom | C87: 20200511 | D87: 1 | E87: N | G87: 0.25 | H87: N | I87: (uk2) starting from 13 May and in place until at least 1 June – anyone who cannot work from home is actively encouraged to go back to work, and people will be allowed to take ‘unlimited’ outdoor exercise Applied same score than Italy | J87: 1 | K87: N | M87: 1 | N87: N | P87: 1 | Q87: N | S87: 1 | T87: N | V87: 1 | W87: N | Y87: 0.5 | AA87: (internal IQVIA -UK):Unlimited exercise/ meeting another person not from your household – from 13th of May (uk1) Still no vist at home/indoor, no overnight out (uk2) starting from 13 May and in place until at least 1 June – anyone who cannot work from home is actively encouraged to go back to work, and people will be allowed to take ‘unlimited’ outdoor exercise..The government’s message of ‘stay home’ also changed to ‘stay alert’. | AB87: 1 | AE87: =SUM(AB87,Y87,V87,S87,P87,M87,J87,G87,D87) -> 7.75
A88: GBR | B88: United Kingdom | C88: 20200518 | D88: 1 | E88: N | G88: 0.25 | H88: N | I88: (internall IQVIA-UK): Back at work for people who cannot work from home (Construction and manufacturing sectors) – 18th of May Applied same score than Italy | J88: 1 | K88: N | M88: 1 | N88: N | P88: 1 | Q88: N | S88: 1 | T88: N | V88: 1 | W88: N | Y88: 0.5 | AB88: 1 | AE88: =SUM(AB88,Y88,V88,S88,P88,M88,J88,G88,D88) -> 7.75
A89: GBR | B89: United Kingdom | C89: 20200525 | D89: 1 | E89: N | G89: 0.25 | H89: N | J89: 1 | K89: N | M89: 1 | N89: N | P89: 1 | Q89: N | S89: 1 | T89: N | V89: 1 | W89: N | Y89: 0.5 | AB89: 1 | AE89: =SUM(AB89,Y89,V89,S89,P89,M89,J89,G89,D89) -> 7.75
A90: GBR | B90: United Kingdom | C90: 20200601 | D90: 0.75 | E90: N | F90: 1 giu iniziano gradualmente (corriere) (uk4) When we made the decision to ask schools to open only to a small number of children, this was done with the aim of reducing transmission of coronavirus (COVID-19), to protect the NHS and save lives. As the situation improved, we began to consider how we could bring more children and young people back into schools. From 1 June, we supported primary schools to welcome some children back, focusing on specific year groups being educated in small ‘bubbles’, and from 15 June secondary schools welcomed back year 10 and 12 students to spend some time in school in small groups, with public health risk reduction measures in place. Since 15 June, primary schools have also had the flexibility to bring back other pupils where they have space to do so. (uk4) Schools have remained open to some pupils since 23 March 2020, welcoming more pupils back from 1 June 2020. Schools should therefore have already assessed the risks and implemented proportionate control measures to limit the transmission of coronavirus (COVID-19) for a limited number of pupils. | G90: 0.25 | H90: N | J90: 1 | K90: N | L90: (corriere) still closed till 15-jun | M90: 1 | N90: N | O90: (corriere) opening still tbd | P90: 1 | Q90: N | R90: (corriere) opening still tbd | S90: 1 | T90: N | U90: (corriere) opening still tbd | V90: 1 | W90: N | Y90: 0.5 | AB90: 0.5 | AD90: non più di 6 persone from different housholds (uk gov) | AE90: =SUM(AB90,Y90,U90,S90,P90,M90,J90,G90,D90) -> 6
A91: ITA | B91: Italy | C91: 20200106 | AE91: =SUM(AB91,Y91,V91,S91,P91,M91,J91,G91,D91) -> 0
A92: ITA | B92: Italy | C92: 20200113 | AE92: =SUM(AB92,Y92,V92,S92,P92,M92,J92,G92,D92) -> 0
A93: ITA | B93: Italy | C93: 20200120 | AE93: =SUM(AB93,Y93,V93,S93,P93,M93,J93,G93,D93) -> 0
A94: ITA | B94: Italy | C94: 20200127 | AE94: =SUM(AB94,Y94,V94,S94,P94,M94,J94,G94,D94) -> 0
A95: ITA | B95: Italy | C95: 20200203 | AE95: =SUM(AB95,Y95,V95,S95,P95,M95,J95,G95,D95) -> 0
A96: ITA | B96: Italy | C96: 20200210 | AE96: =SUM(AB96,Y96,V96,S96,P96,M96,J96,G96,D96) -> 0
A97: ITA | B97: Italy | C97: 20200217 | AE97: =SUM(AB97,Y97,V97,S97,P97,M97,J97,G97,D97) -> 0
A98: ITA | B98: Italy | C98: 20200224 | D98: 0.5 | E98: T | F98: (it1) dcpm 23/2, Codogno area + Vo Euganeo only | G98: 0.5 | H98: T | I98: (it1) dcpm 23/2, Codogno area + Vo Euganeo only. Non essential activities closed in these areas. | J98: 0.5 | K98: T | L98: (it1) dcpm 23/2, Codogno area + Vo Euganeo only | M98: 0.5 | N98: T | O98: (it1) dcpm 23/2, Codogno area + Vo Euganeo only | P98: 0.5 | Q98: T | R98: (it1) dcpm 23/2, Codogno area + Vo Euganeo only | S98: 0.5 | T98: T | U98: (it1) dcpm 23/2, Codogno area + Vo Euganeo only | V98: 0.5 | W98: T | X98: (it1) dcpm 23/2, Codogno area + Vo Euganeo only | Y98: 0.5 | Z98: T | AA98: (it1) dcpm 23/2, Codogno area + Vo Euganeo only | AB98: 0.5 | AC98: T | AD98: (it1) dcpm 23/2, Codogno area + Vo Euganeo only | AE98: =SUM(AB98,Y98,V98,S98,P98,M98,J98,G98,D98) -> 4.5
A99: ITA | B99: Italy | C99: 20200302 | D99: 1 | E99: N | F99: by march 4th national | G99: 0.5 | H99: N | I99: (it1) dcpm 1/3, In aggiunta su zone rosse (ER+Lomb-Piem+Veneto+PU+SV), raccomandato smarworking | J99: 0.5 | K99: T | L99: (it1) dcpm 1/3, In aggiunta su zone rosse (ER+Lomb-Piem+Veneto+PU+SV), richiesto distanziamento, limitazioni accesso/contingentamento | M99: 0.5 | N99: T | O99: (it1) dcpm 1/3, In aggiunta su zone rosse (ER+Lomb-Piem+Veneto+PU+SV), riduzioni oari apertura, solo servizio al tavolo | P99: 0.5 | Q99: T | S99: 0.5 | T99: T | U99: (it1) dcpm 1/3, In aggiunta su zone rosse (ER+Lomb-Piem+Veneto+PU+SV) misure "intermedie: mo manifestazioni sportive, limitazioni funzioni regiose, cancellazione eventi etc, palestre, centri sportivi | V99: 0.5 | W99: N | Y99: 0.5 | Z99: N | AB99: 0.5 | AC99: N | AE99: =SUM(AB99,Y99,V99,S99,P99,M99,J99,G99,D99) -> 5 | AF99: si aggiungono restrizioni "mild" sulle 14 zone rosse. Nel complesso lascio score di 0,5
A100: ITA | B100: Italy | C100: 20200309 | D100: 1 | E100: N | G100: 1 | H100: N | I100: closed except essentials | J100: 1 | K100: N | M100: 1 | N100: N | P100: 1 | Q100: N | S100: 1 | T100: N | V100: 1 | W100: N | X100: entro regione, entro comune ,solo essential | Y100: 1 | Z100: N | AB100: 1 | AC100: N | AD100: solo conviventi eccetto necessità | AE100: =SUM(AB100,Y100,V100,S100,P100,M100,J100,G100,D100) -> 9
...

Sheet Containment index tables
A1: Containment index tables
A2: Table 1
A3: Index label | C3: Index description
A4: C1 | B4: Schools | C4: Restrictions on access/openings as for all levels of school (kindergarden, primary, secondary, high school, university etc) and/or daycare closure
A5: C2 | B5: Business & Workplace | C5: Restrictions on companies activities: open and/or recommaned smartworking and/or stopped. Focus on all activities except C3--C5 (retail, shops, bar/restaurants etc.)
A6: C3 | B6: Shops/Retail | C6: Restrictions on access/opening for retail activities excluding selling essentials goods (although list of inclusion might be different across countries)
A7: C4 | B7: Hospitality | C7: Restrictions on access/opening for restaurants, bars, cafes, pubs, hotel and accomodations.
A8: C5 | B8: Personal care activities | C8: Restrictions on access/opening for hairdresser, beauty salons, massage etc. ( considered separately from C1-C4 as higher risk for reduced physical distances)
A9: C6 | B9: Assembly and Leisure | C9: Restriction on access/openings to museums, cinema, gyms, worship,etc
A10: C7 | B10: Internal movement | C10: Restrictions on movement distances within the country
A11: C8 | B11: Stay at home | C11: Restrictions on reasons for leaving home
A12: C9 | B12: Gatherings | C12: Restrictions on number of people that can meet
A15: Table 2.
A16: Index label | C16: Score (decreasing severity)
C17: 1 | D17: 0.75 | E17: 0.5 | F17: 0.25 | G17: 0
A18: C1 | B18: Schools | C18: All closed excl few exceptions (ex. UK for children of key workers and vulnerable group) | D18: Few levels opened (ex GE only graduating classes) | E18: Some open and/or depending on region (i.e. partial and/or targeted) | F18: Most open except few exceptions | G18: No measures
A19: C2 | B19: Business & Workplace | C19: Smart working required otherwise non essential supply chain closed | D19: Few specific non-essential categories allowed (ex. Italy Buildings/engineering that opened before others) | E19: Some open, working from home incentived and/or depending on region (i.e. partial and/or targeted) | F19: Most open (and/or smartworking recommanded) | G19: No restrictions although smartworking recommanded
A20: C3 | B20: Shops/Retail | C20: Closed excluded essential goods (although definition not exactly the same in all countries | D20: Not assigned | E20: Some open and/or depending on region (i.e. partial and/or targeted) | F20: Mostly open although with reduced capacity and social distancing measures | G20: All opened
A21: C4 | B21: Hospitality | C21: All closed excl few exceptions (like hospital cafes, service station,..). Home delivery allowed | D21: Mostly closed and/or Takeaway allowed | E21: Some open and/or depending on region (i.e. partial and/or targeted) | F21: Mostly open although with reduced capacity and social distancing measures | G21: All opened
A22: C5 | B22: Personal care activities | C22: Closed | D22: mostly closed | E22: Some open and/or depending on region (i.e. partial and/or targeted) | F22: Mostly open although with reduced capacity and social distancing measures | G22: All opened
A23: C6 | B23: Assembly and Leisure | C23: All closed | D23: Several closed/restriced | E23: Some open and/or depending on region (i.e. partial and/or targeted) | F23: Mostly open although with reduced capacity and social distancing measures | G23: All opened
A24: C7 | B24: Internal movement | C24: Request to stay within municipalities | D24: Used in case score 1 applied only to some regions | E24: Restrictions but allowing for some internal movement (ex within province or region or within max distance (100km like France) ) | F24: Used in case score 0.5 applied only to some regions | G24: No restrictions at all
A25: C8 | B25: Stay at home | C25: Say at home except essentials needs (buying food, medical reasons, assistance/caregiving) | D25: Limited daily walks and exercise (individual) | E25: Stay at home as much as possible and continue to apply physical distancing but no justification required | F25: Not assigned | G25: No restrictions at all
A26: C9 | B26: Gatherings | C26: Only same households | D26: Very limited under conditions (ex max 2 households) | E26: Approximatevely max 10 persons | F26: Events (>50) banned | G26: No restrictions at all
A31: Sum of Containment index | B31: Column Labels
A32: Row Labels | B32: France | C32: Germany | D32: Italy | E32: Spain | F32: United Kingdom
A33: 20200106 | B33: 0 | C33: 0 | D33: 0 | E33: 0 | F33: 0
A34: 20200113 | B34: 0 | C34: 0 | D34: 0 | E34: 0 | F34: 0
A35: 20200120 | B35: 0 | C35: 0 | D35: 0 | E35: 0 | F35: 0
A36: 20200127 | B36: 0 | C36: 0 | D36: 0 | E36: 0 | F36: 0
A37: 20200203 | B37: 0 | C37: 0 | D37: 0 | E37: 0 | F37: 0
A38: 20200210 | B38: 0 | C38: 0 | D38: 0 | E38: 0 | F38: 0
A39: 20200217 | B39: 0 | C39: 0 | D39: 0 | E39: 0 | F39: 0
A40: 20200224 | B40: 0 | C40: 0.25 | D40: 4.5 | E40: 0 | F40: 0
A41: 20200302 | B41: 0.5 | C41: 0.25 | D41: 5 | E41: 0 | F41: 0
A42: 20200309 | B42: 0.5 | C42: 0.75 | D42: 9 | E42: 0.5 | F42: 0
A43: 20200316 | B43: 9 | C43: 3.5 | D43: 9 | E43: 8.75 | F43: 0
A44: 20200323 | B44: 9 | C44: 7.25 | D44: 9 | E44: 8.75 | F44: 9
... A54: 20200601 | B54: 5 | C54: 3.25 | D54: 2.5 | E54: 4 | F54: 6
A55: Grand Total | B55: 93 | C55: 64.25 | D55: 104 | E55: 91 | F55: 92.25

Sheet pop
A1: Population per Country
A2: population | B2: Country/Region
A3: 65273512 | B3: France
A4: 83783945 | B4: Germany
A5: 60461828 | B5: Italy
A6: 46754783 | B6: Spain
A7: 67886004 | B7: United Kingdom
A10: PER NORMALIZZAZIONE | B10: 100000
A11: PER NORMALIZZAZIONE | B11: 1000000

Sheet date
A1: Timeframe
A3: Week starting | B3: targeted start | C3: lockdown | D3: phase2 | E3: phase 2 + 30 days
A4: France | B4: 43892 | C4: 43906 | D4: 43962 | E4: 43992
A5: Germany | B5: 43885 | C5: 43913 | D5: 43955 | E5: 43985
A6: Italy | B6: 43885 | C6: 43899 | D6: 43969 | E6: 43999
A7: Spain | B7: 43899 | C7: 43906 | D7: 43969 | E7: 43999
A8: United Kingdom | C8: 43913 | D8: 43983 | E8: 44013

Sheet total cases
B2: Figure 2. Total cases comparison for 100K inhabitants
D4: France | E4: Germany | F4: Italy | G4: Spain | H4: United Kingdom
B5: Targeted start | D5: 0.29261487 | E5: 0.019096737 | F5: 0.37875137 | G5: 4.9363934
B6: Lockdown start | D6: 10.075297 | E6: 34.679675 | F6: 15.169902 | G6: 29.992653 | H6: 9.7958336
B7: Phase 2 start | D7: 213.7452 | E7: 198.31007 | F7: 373.60101 | G7: 496.28505 | H7: 407.05298

Sheet new cases
B2: Figure 4. Average daily new cases. The figure shows the actual average daily new cases and the predicted ones in 30 days starting from Phase Two start (T2).
B4: Average daily new cases per 100K population in 30 days starting from T2
D6: average daily new cases in 30 days - actual | E6: average daily new cases in 30 days - predicted
B7: France | D7: 23.93 | E7: 12.2
B8: Germany | D8: 21.45 | E8: 14.28
B9: Italy | D9: 19.75 | E9: 21.63
B10: Spain | D10: 28.3 | E10: 15.2
B11: United Kingdom | D11: 54.73 | E11: 27.32

Sheet actual
A1: Number of cases in the different countries in the different days
B2: actual - IT | C2: actual - GE | D2: actual - FR | E2: actual - SP | F2: actual - UK | H2: normalized actual - IT | I2: normalized actual - GE | J2: normalized actual - FR | K2: normalized actual - SP | L2: normalized actual - UK
A3: 43881 | B3: 3 | C3: 16 | D3: 12 | E3: 3 | F3: 9 | H3: =+B3*pop!$B$10/pop!$A$5 -> 0.0049618083 | I3: =+C3*pop!$B$10/pop!$A$4 -> 0.019096737 | J3: =+D3*pop!$B$10/pop!$A$3 -> 0.01838418 | K3: =+E3*pop!$B$10/pop!$A$6 -> 0.0064164558 | L3: =+F3*pop!$B$10/pop!$A$7 -> 0.013257519
A4: 43882 | B4: 20 | C4: 16 | D4: 12 | E4: 3 | F4: 9 | H4: =+B4*pop!$B$10/pop!$A$5 -> 0.033078722 | I4: =+C4*pop!$B$10/pop!$A$4 -> 0.019096737 | J4: =+D4*pop!$B$10/pop!$A$3 -> 0.01838418 | K4: =+E4*pop!$B$10/pop!$A$6 -> 0.0064164558 | L4: =+F4*pop!$B$10/pop!$A$7 -> 0.013257519
A5: 43883 | B5: 62 | C5: 16 | D5: 12 | E5: 3 | F5: 9 | H5: =+B5*pop!$B$10/pop!$A$5 -> 0.10254404 | I5: =+C5*pop!$B$10/pop!$A$4 -> 0.019096737 | J5: =+D5*pop!$B$10/pop!$A$3 -> 0.01838418 | K5: =+E5*pop!$B$10/pop!$A$6 -> 0.0064164558 | L5: =+F5*pop!$B$10/pop!$A$7 -> 0.013257519
A6: 43884 | B6: 155 | C6: 16 | D6: 12 | E6: 3 | F6: 9 | H6: =+B6*pop!$B$10/pop!$A$5 -> 0.2563601 | I6: =+C6*pop!$B$10/pop!$A$4 -> 0.019096737 | J6: =+D6*pop!$B$10/pop!$A$3 -> 0.01838418 | K6: =+E6*pop!$B$10/pop!$A$6 -> 0.0064164558 | L6: =+F6*pop!$B$10/pop!$A$7 -> 0.013257519
A7: 43885 | B7: 229 | C7: 16 | D7: 12 | E7: 4 | F7: 13 | H7: =+B7*pop!$B$10/pop!$A$5 -> 0.37875137 | I7: =+C7*pop!$B$10/pop!$A$4 -> 0.019096737 | J7: =+D7*pop!$B$10/pop!$A$3 -> 0.01838418 | K7: =+E7*pop!$B$10/pop!$A$6 -> 0.0085552744 | L7: =+F7*pop!$B$10/pop!$A$7 -> 0.01914975
A8: 43886 | B8: 322 | C8: 17 | D8: 14 | E8: 10 | F8: 13 | H8: =+B8*pop!$B$10/pop!$A$5 -> 0.53256742 | I8: =+C8*pop!$B$10/pop!$A$4 -> 0.020290284 | J8: =+D8*pop!$B$10/pop!$A$3 -> 0.02144821 | K8: =+E8*pop!$B$10/pop!$A$6 -> 0.021388186 | L8: =+F8*pop!$B$10/pop!$A$7 -> 0.01914975
A9: 43887 | B9: 453 | C9: 27 | D9: 18 | E9: 18 | F9: 13 | H9: =+B9*pop!$B$10/pop!$A$5 -> 0.74923305 | I9: =+C9*pop!$B$10/pop!$A$4 -> 0.032225744 | J9: =+D9*pop!$B$10/pop!$A$3 -> 0.02757627 | K9: =+E9*pop!$B$10/pop!$A$6 -> 0.038498735 | L9: =+F9*pop!$B$10/pop!$A$7 -> 0.01914975
A10: 43888 | B10: 655 | C10: 46 | D10: 38 | E10: 36 | F10: 15 | H10: =+B10*pop!$B$10/pop!$A$5 -> 1.0833281 | I10: =+C10*pop!$B$10/pop!$A$4 -> 0.05490312 | J10: =+D10*pop!$B$10/pop!$A$3 -> 0.05821657 | K10: =+E10*pop!$B$10/pop!$A$6 -> 0.07699747 | L10: =+F10*pop!$B$10/pop!$A$7 -> 0.022095865
A11: 43889 | B11: 888 | C11: 48 | D11: 57 | E11: 55 | F11: 20 | H11: =+B11*pop!$B$10/pop!$A$5 -> 1.4686953 | I11: =+C11*pop!$B$10/pop!$A$4 -> 0.057290212 | J11: =+D11*pop!$B$10/pop!$A$3 -> 0.087324855 | K11: =+E11*pop!$B$10/pop!$A$6 -> 0.11763502 | L11: =+F11*pop!$B$10/pop!$A$7 -> 0.029461154
A12: 43890 | B12: 1128 | C12: 79 | D12: 100 | E12: 83 | F12: 23 | H12: =+B12*pop!$B$10/pop!$A$5 -> 1.8656399 | I12: =+C12*pop!$B$10/pop!$A$4 -> 0.094290141 | J12: =+D12*pop!$B$10/pop!$A$3 -> 0.1532015 | K12: =+E12*pop!$B$10/pop!$A$6 -> 0.17752194 | L12: =+F12*pop!$B$10/pop!$A$7 -> 0.033880327
A13: 43891 | B13: 1694 | C13: 130 | D13: 130 | E13: 138 | F13: 36 | H13: =+B13*pop!$B$10/pop!$A$5 -> 2.8017678 | I13: =+C13*pop!$B$10/pop!$A$4 -> 0.15516099 | J13: =+D13*pop!$B$10/pop!$A$3 -> 0.19916195 | K13: =+E13*pop!$B$10/pop!$A$6 -> 0.29515697 | L13: =+F13*pop!$B$10/pop!$A$7 -> 0.053030077
A14: 43892 | B14: 2036 | C14: 159 | D14: 191 | E14: 195 | F14: 40 | H14: =+B14*pop!$B$10/pop!$A$5 -> 3.3674139 | I14: =+C14*pop!$B$10/pop!$A$4 -> 0.18977383 | J14: =+D14*pop!$B$10/pop!$A$3 -> 0.29261487 | K14: =+E14*pop!$B$10/pop!$A$6 -> 0.41706963 | L14: =+F14*pop!$B$10/pop!$A$7 -> 0.058922307
... A148: 44026 | B148: 243344 | C148: 200456 | D148: 173304 | E148: 257494 | F148: 291373 | H148: =+B148*pop!$B$10/pop!$A$5 -> 402.47543 | I148: =+C148*pop!$B$10/pop!$A$4 -> 239.25348 | J148: =+D148*pop!$B$10/pop!$A$3 -> 265.50433 | K148: =+E148*pop!$B$10/pop!$A$6 -> 550.73296 | L148: =+F148*pop!$B$10/pop!$A$7 -> 429.20924
A149: 44027 | B149: 243506 | C149: 200890 | D149: 173304 | F149: 291911 | H149: =+B149*pop!$B$10/pop!$A$5 -> 402.74336 | I149: =+C149*pop!$B$10/pop!$A$4 -> 239.77147 | J149: =+D149*pop!$B$10/pop!$A$3 -> 265.50433 | K149: =+E149*pop!$B$10/pop!$A$6 -> 0 | L149: =+F149*pop!$B$10/pop!$A$7 -> 430.00174
A150: 44028 | B150: 243736 | H150: =+B150*pop!$B$10/pop!$A$5 -> 403.12377 | I150: =+C150*pop!$B$10/pop!$A$4 -> 0 | J150: =+D150*pop!$B$10/pop!$A$3 -> 0 | K150: =+E150*pop!$B$10/pop!$A$6 -> 0 | L150: =+F150*pop!$B$10/pop!$A$7 -> 0
A151: 44029 | B151: 243967 | H151: =+B151*pop!$B$10/pop!$A$5 -> 403.50583 | I151: =+C151*pop!$B$10/pop!$A$4 -> 0 | J151: =+D151*pop!$B$10/pop!$A$3 -> 0 | K151: =+E151*pop!$B$10/pop!$A$6 -> 0 | L151: =+F151*pop!$B$10/pop!$A$7 -> 0
A152: 44030 | B152: 244216 | H152: =+B152*pop!$B$10/pop!$A$5 -> 403.91766 | I152: =+C152*pop!$B$10/pop!$A$4 -> 0 | J152: =+D152*pop!$B$10/pop!$A$3 -> 0 | K152: =+E152*pop!$B$10/pop!$A$6 -> 0 | L152: =+F152*pop!$B$10/pop!$A$7 -> 0
A153: 44031 | B153: 244434 | H153: =+B153*pop!$B$10/pop!$A$5 -> 404.27822 | I153: =+C153*pop!$B$10/pop!$A$4 -> 0 | J153: =+D153*pop!$B$10/pop!$A$3 -> 0 | K153: =+E153*pop!$B$10/pop!$A$6 -> 0 | L153: =+F153*pop!$B$10/pop!$A$7 -> 0
A154: 44032 | B154: 244624 | H154: =+B154*pop!$B$10/pop!$A$5 -> 404.59246 | I154: =+C154*pop!$B$10/pop!$A$4 -> 0 | J154: =+D154*pop!$B$10/pop!$A$3 -> 0 | K154: =+E154*pop!$B$10/pop!$A$6 -> 0 | L154: =+F154*pop!$B$10/pop!$A$7 -> 0
A155: 44033 | B155: 244752 | H155: =+B155*pop!$B$10/pop!$A$5 -> 404.80417 | I155: =+C155*pop!$B$10/pop!$A$4 -> 0 | J155: =+D155*pop!$B$10/pop!$A$3 -> 0 | K155: =+E155*pop!$B$10/pop!$A$6 -> 0 | L155: =+F155*pop!$B$10/pop!$A$7 -> 0
A156: 44034 | B156: 245032 | H156: =+B156*pop!$B$10/pop!$A$5 -> 405.26727 | I156: =+C156*pop!$B$10/pop!$A$4 -> 0 | J156: =+D156*pop!$B$10/pop!$A$3 -> 0 | K156: =+E156*pop!$B$10/pop!$A$6 -> 0 | L156: =+F156*pop!$B$10/pop!$A$7 -> 0
A157: 44035 | B157: 245338 | H157: =+B157*pop!$B$10/pop!$A$5 -> 405.77337 | I157: =+C157*pop!$B$10/pop!$A$4 -> 0 | J157: =+D157*pop!$B$10/pop!$A$3 -> 0 | K157: =+E157*pop!$B$10/pop!$A$6 -> 0 | L157: =+F157*pop!$B$10/pop!$A$7 -> 0
A158: 44036 | B158: 245590 | H158: =+B158*pop!$B$10/pop!$A$5 -> 406.19017 | I158: =+C158*pop!$B$10/pop!$A$4 -> 0 | J158: =+D158*pop!$B$10/pop!$A$3 -> 0 | K158: =+E158*pop!$B$10/pop!$A$6 -> 0 | L158: =+F158*pop!$B$10/pop!$A$7 -> 0
A159: 44037 | B159: 245864 | H159: =+B159*pop!$B$10/pop!$A$5 -> 406.64335 | I159: =+C159*pop!$B$10/pop!$A$4 -> 0 | J159: =+D159*pop!$B$10/pop!$A$3 -> 0 | K159: =+E159*pop!$B$10/pop!$A$6 -> 0 | L159: =+F159*pop!$B$10/pop!$A$7 -> 0
A160: 44038 | B160: 246118 | H160: =+B160*pop!$B$10/pop!$A$5 -> 407.06345 | I160: =+C160*pop!$B$10/pop!$A$4 -> 0 | J160: =+D160*pop!$B$10/pop!$A$3 -> 0 | K160: =+E160*pop!$B$10/pop!$A$6 -> 0 | L160: =+F160*pop!$B$10/pop!$A$7 -> 0
A161: 44039 | B161: 246286 | H161: =+B161*pop!$B$10/pop!$A$5 -> 407.34131 | I161: =+C161*pop!$B$10/pop!$A$4 -> 0 | J161: =+D161*pop!$B$10/pop!$A$3 -> 0 | K161: =+E161*pop!$B$10/pop!$A$6 -> 0 | L161: =+F161*pop!$B$10/pop!$A$7 -> 0
... A185: 44063 | B185: 256118 | H185: =+B185*pop!$B$10/pop!$A$5 -> 423.60281 | I185: =+C185*pop!$B$10/pop!$A$4 -> 0 | J185: =+D185*pop!$B$10/pop!$A$3 -> 0 | K185: =+E185*pop!$B$10/pop!$A$6 -> 0 | L185: =+F185*pop!$B$10/pop!$A$7 -> 0

Sheet epidemic curve
A1: Figure 3. Epidemic curve. The figure shows curves representing the trend of actual total cases (continuous line) and curves representing the prediction taken at Phase Two start (dotted line).
B2: 43881 | C2: 43882 | D2: 43883 | E2: 43884 | F2: 43885 | G2: 43886 | H2: 43887 | I2: 43888 | J2: 43889 | K2: 43890 | L2: 43891 | M2: 43892 | N2: 43893 | O2: 43894 | P2: 43895 | Q2: 43896 | R2: 43897 | S2: 43898 | T2: 43899 | U2: 43900 | V2: 43901 | W2: 43902 | X2: 43903 | Y2: 43904 | Z2: 43905 | AA2: 43906 | AB2: 43907 | AC2: 43908 | AD2: 43909 | AE2: 43910 | AF2: 43911 | AG2: 43912 | AH2: 43913 | AI2: 43914 | AJ2: 43915 | AK2: 43916 | AL2: 43917 | AM2: 43918 | AN2: 43919 | AO2: 43920 | AP2: 43921 | AQ2: 43922 | AR2: 43923 | AS2: 43924 | AT2: 43925 | AU2: 43926 | AV2: 43927 | AW2: 43928 | AX2: 43929 | AY2: 43930 | AZ2: 43931 | BA2: 43932 | BB2: 43933 | BC2: 43934 | BD2: 43935 | BE2: 43936 | BF2: 43937 | BG2: 43938 | BH2: 43939 | BI2: 43940 | BJ2: 43941 | BK2: 43942 | BL2: 43943 | BM2: 43944 | BN2: 43945 | BO2: 43946 | BP2: 43947 | BQ2: 43948 | BR2: 43949 | BS2: 43950 | BT2: 43951 | BU2: 43952 | BV2: 43953 | BW2: 43954 | BX2: 43955 | BY2: 43956 | BZ2: 43957 | CA2: 43958 | CB2: 43959 | CC2: 43960 | CD2: 43961 | CE2: 43962 | CF2: 43963 | CG2: 43964 | CH2: 43965 | CI2: 43966 | CJ2: 43967 | CK2: 43968 | CL2: 43969 | CM2: 43970 | CN2: 43971 | CO2: 43972 | CP2: 43973 | CQ2: 43974 | CR2: 43975 | CS2: 43976 | CT2: 43977 | CU2: 43978 | CV2: 43979 | CW2: 43980 | CX2: 43981 | CY2: 43982 | CZ2: 43983 | DA2: 43984 | DB2: 43985 | DC2: 43986 | DD2: 43987 | DE2: 43988 | DF2: 43989 | DG2: 43990 | DH2: 43991 | DI2: 43992 | DJ2: 43993 | DK2: 43994 | DL2: 43995 | DM2: 43996 | DN2: 43997 | DO2: 43998 | DP2: 43999 | DQ2: 44000 | DR2: 44001 | DS2: 44002 | DT2: 44003 | DU2: 44004 | DV2: 44005 | DW2: 44006 | DX2: 44007 | DY2: 44008 | DZ2: 44009 | EA2: 44010 | EB2: 44011 | EC2: 44012 | ED2: 44013 | EE2: 44014 | EF2: 44015 | EG2: 44016 | EH2: 44017 | EI2: 44018 | EJ2: 44019 | EK2: 44020 | EL2: 44021 | EM2: 44022 | EN2: 44023 | EO2: 44024 | EP2: 44025 | EQ2: 44026 | ER2: 44027 | ES2: 44028 | ET2: 44029 | EU2: 44030 | EV2: 44031 | EW2: 44032 | EX2: 44033 | EY2: 44034 | EZ2: 44035 | FA2: 44036 | FB2: 44037 | FC2: 44038 | FD2: 44039 | FE2: 44040 | FF2: 44041 | FG2: 44042 | FH2: 44043 | FI2: 44044 | FJ2: 44045 | FK2: 44046 | FL2: 44047 | FM2: 44048 | FN2: 44049 | FO2: 44050 | FP2: 44051 | FQ2: 44052 | FR2: 44053 | FS2: 44054 | FT2: 44055 | FU2: 44056 | FV2: 44057 | FW2: 44058 | FX2: 44059 | FY2: 44060 | FZ2: 44061 | GA2: 44062 | GB2: 44063
A3: IT
A4: actual | B4: 0.0049618083 | C4: 0.033078722 | D4: 0.10254404 | E4: 0.2563601 | F4: 0.37875137 | G4: 0.53256742 | H4: 0.74923305 | I4: 1.0833281 | J4: 1.4686953 | K4: 1.8656399 | L4: 2.8017678 | M4: 3.3674139 | N4: 4.1381481 | O4: 5.1090086 | P4: 6.3808855 | Q4: 7.6676478 | R4: 9.7301061 | S4: 12.197779 | T4: 15.169902 | U4: 16.785797 | V4: 20.611352 | W4: 24.995936 | X4: 29.208512 | Y4: 34.992326 | Z4: 40.929957 | AA4: 46.277132 | AB4: 52.108911 | AC4: 59.06702 | AD4: 67.869268 | AE4: 77.769729 | AF4: 88.614588 | AG4: 97.810473 | AH4: 105.73117 | AI4: 114.41268 | AJ4: 123.02969 | AK4: 133.28906 | AL4: 143.06216 | AM4: 152.94278 | AN4: 161.57136 | AO4: 168.2698 | AP4: 174.97321 | AQ4: 182.88233 | AR4: 190.6029 | AS4: 198.1862 | AT4: 206.13336 | AU4: 213.27175 | AV4: 219.22427 | AW4: 224.25058 | AX4: 230.59508 | AY4: 237.54823 | AZ4: 244.08293 | BA4: 251.8465 | BB4: 258.61441 | BC4: 263.82927 | BD4: 268.74477 | BE4: 273.15582 | BF4: 279.41762 | BG4: 285.19482 | BH4: 290.96871 | BI4: 296.00825 | BJ4: 299.73953 | BK4: 304.25312 | BL4: 309.82689 | BM4: 314.2032 | BN4: 319.19974 | BO4: 323.09807 | BP4: 326.94182 | BQ4: 329.81801 | BR4: 333.27639 | BS4: 336.7265 | BT4: 339.82267 | BU4: 343.07266 | BV4: 346.21514 | BW4: 348.51245 | BX4: 350.53191 | BY4: 352.30989 | BZ4: 354.69817 | CA4: 357.01534 | CB4: 359.21011 | CC4: 361.00132 | CD4: 362.32778 | CE4: 363.55831 | CF4: 365.87713 | CG4: 367.34582 | CH4: 368.98653 | CI4: 370.29148 | CJ4: 371.73868 | CK4: 372.85508 | CL4: 373.60101 | CM4: 374.94566 | CN4: 376.04553 | CO4: 377.10735 | CP4: 378.18572 | CQ4: 379.2922 | CR4: 380.17044 | CS4: 380.66662 | CT4: 381.32324 | CU4: 382.28914 | CV4: 383.26992 | CW4: 384.12335 | CX4: 384.81139 | CY4: 385.36215 | CZ4: 385.69294 | DA4: 386.21889 | DB4: 386.7498 | DC4: 387.04255 | DD4: 387.89929 | DE4: 388.34585 | DF4: 388.67168 | DG4: 389.13478 | DH4: 389.60284 | DI4: 389.93694 | DJ4: 390.56378 | DK4: 390.83337 | DL4: 391.40563 | DM4: 391.96466 | DN4: 392.4625 | DO4: 392.80982 | DP4: 393.35231
A5: predicted at phase 2 start | T5: 0 | U5: 0 | V5: 0 | W5: 0 | X5: 0 | Y5: 0 | Z5: 0 | AA5: 0 | AB5: 0 | AC5: 0 | AD5: 0 | AE5: 0 | AF5: 0 | AG5: 0 | AH5: 0 | AI5: 0 | AJ5: 0 | AK5: 0 | AL5: 0 | AM5: 0 | AN5: 0 | AO5: 0 | AP5: 0 | AQ5: 0 | AR5: 0 | AS5: 0 | AT5: 0 | AU5: 0 | AV5: 0 | AW5: 0 | AX5: 0 | AY5: 0 | AZ5: 0 | BA5: 0 | BB5: 0 | BC5: 0 | BD5: 0 | BE5: 0 | BF5: 0 | BG5: 0 | BH5: 0 | BI5: 0 | BJ5: 0 | BK5: 0 | BL5: 0 | BM5: 0 | BN5: 0 | BO5: 0 | BP5: 0 | BQ5: 0 | BR5: 0 | BS5: 0 | BT5: 0 | BU5: 0 | BV5: 0 | BW5: 0 | BX5: 0 | BY5: 0 | BZ5: 0 | CA5: 0 | CB5: 0 | CC5: 0 | CD5: 0 | CE5: 0 | CF5: 0 | CG5: 0 | CH5: 0 | CI5: 0 | CJ5: 0 | CK5: 0 | CL5: 373.60101 | CM5: 374.97694 | CN5: 376.28425 | CO5: 377.52636 | CP5: 378.7065 | CQ5: 379.82776 | CR5: 380.89307 | CS5: 381.90521 | CT5: 382.86683 | CU5: 383.78045 | CV5: 384.64845 | CW5: 385.47312 | CX5: 386.25661 | CY5: 387.00097 | CZ5: 387.70816 | DA5: 388.38002 | DB5: 389.01833 | DC5: 389.62475 | DD5: 390.20087 | DE5: 390.74821 | DF5: 391.26821 | DG5: 391.76222 | DH5: 392.23155 | DI5: 392.67743 | DJ5: 393.10102 | DK5: 393.50345 | DL5: 393.88576 | DM5: 394.24897 | DN5: 394.59403 | DO5: 394.92184 | DP5: 395.23326
A7: UK
A8: actual | B8: 0.013257519 | C8: 0.013257519 | D8: 0.013257519 | E8: 0.013257519 | F8: 0.01914975 | G8: 0.01914975 | H8: 0.01914975 | I8: 0.022095865 | J8: 0.029461154 | K8: 0.033880327 | L8: 0.053030077 | M8: 0.058922307 | N8: 0.075125942 | O8: 0.1252099 | P8: 0.16940163 | Q8: 0.2401084 | R8: 0.30344988 | S8: 0.40214475 | T8: 0.47285152 | U8: 0.56270804 | V8: 0.67171431 | W8: 0.67171431 | X8: 1.1755 | Y8: 1.6792858 | Z8: 1.6792858 | AA8: 2.272928 | AB8: 2.8724625 | AC8: 3.8682495 | AD8: 3.9610521 | AE8: 5.8671888 | AF8: 7.3918035 | AG8: 8.3713868 | AH8: 9.7958336 | AI8: 11.897887 | AJ8: 14.036767 | AK8: 17.172907 | AL8: 21.422678 | AM8: 25.173083 | AN8: 28.757032 | AO8: 32.61497 | AP8: 37.047401 | AQ8: 43.416902 | AR8: 49.668559 | AS8: 56.223666 | AT8: 61.725536 | AU8: 70.420996 | AV8: 76.021561 | AW8: 81.374653 | AX8: 89.463212 | AY8: 95.862175 | AZ8: 108.64979 | BA8: 116.3583 | BB8: 124.14783 | BC8: 130.54385 | BD8: 138.28034 | BE8: 145.06083 | BF8: 151.86194 | BG8: 160.10959 | BH8: 168.24823 | BI8: 176.86562 | BJ8: 183.75363 | BK8: 190.08926 | BL8: 196.64584 | BM8: 203.39686 | BN8: 211.33075 | BO8: 218.56788 | BP8: 225.14214 | BQ8: 231.48954 | BR8: 237.37588 | BS8: 243.38006 | BT8: 252.26555 | BU8: 261.39998 | BV8: 268.47949 | BW8: 274.87109 | BX8: 280.74123 | BY8: 287.23152 | BZ8: 296.23337 | CA8: 304.50312 | CB8: 311.35136 | CC8: 317.0904 | CD8: 322.8692 | CE8: 328.58025 | CF8: 333.59306 | CG8: 338.36872 | CH8: 343.44487 | CI8: 348.68896 | CJ8: 353.77101 | CK8: 358.97679 | CL8: 362.97025 | CM8: 366.52327 | CN8: 365.74991 | CO8: 369.60196 | CP8: 374.4439 | CQ8: 378.80268 | CR8: 382.34538 | CS8: 384.7391 | CT8: 390.69467 | CU8: 393.65994 | CV8: 396.4396 | CW8: 399.52565 | CX8: 401.88844 | CY8: 404.74028 | CZ8: 407.05298 | DA8: 409.48794 | DB8: 412.24403 | DC8: 414.9029 | DD8: 417.33345 | DE8: 419.627 | DF8: 421.58027 | DG8: 423.35531 | DH8: 425.9199 | DI8: 427.39738 | DJ8: 429.26227 | DK8: 431.53225 | DL8: 433.63136 | DM8: 435.86157 | DN8: 437.28749 | DO8: 439.17153 | DP8: 440.81399 | DQ8: 442.60817 | DR8: 444.59091 | DS8: 446.49852 | DT8: 448.29712 | DU8: 449.70831 | DV8: 451.06499 | DW8: 452.02543 | DX8: 453.67231 | DY8: 455.70513 | DZ8: 457.01615 | EA8: 458.34337 | EB8: 459.54244 | EC8: 460.55738 | ED8: 461.77854
A9: predicted at phase 2 start | CZ9: 407.05298 | DA9: 409.24103 | DB9: 411.27281 | DC9: 413.15949 | DD9: 414.91142 | DE9: 416.53822 | DF9: 418.04884 | DG9: 419.45156 | DH9: 420.7541 | DI9: 421.9636 | DJ9: 423.08672 | DK9: 424.12962 | DL9: 425.09803 | DM9: 425.99727 | DN9: 426.83228 | DO9: 427.60765 | DP9: 428.32764 | DQ9: 428.9962 | DR9: 429.61701 | DS9: 430.19348 | DT9: 430.72877 | DU9: 431.22583 | DV9: 431.68738 | DW9: 432.11596 | DX9: 432.51394 | DY9: 432.88348 | DZ9: 433.22663 | EA9: 433.54527 | EB9: 433.84116 | EC9: 434.1159 | ED9: 434.37102
A10: GE
A11: actual | B11: 0.019096737 | C11: 0.019096737 | D11: 0.019096737 | E11: 0.019096737 | F11: 0.019096737 | G11: 0.020290284 | H11: 0.032225744 | I11: 0.05490312 | J11: 0.057290212 | K11: 0.094290141 | L11: 0.15516099 | M11: 0.18977383 | N11: 0.23393503 | O11: 0.31270908 | P11: 0.57528922 | Q11: 0.79967588 | R11: 0.95364333 | S11: 1.2412879 | T11: 1.4036102 | U11: 1.7389967 | V11: 2.2772859 | W11: 2.4801888 | X11: 4.3862819 | Y11: 5.4724088 | Z11: 6.9165996 | AA11: 8.6794672 | AB11: 11.048656 | AC11: 14.712843 | AD11: 18.285126 | AE11: 23.689503 | AF11: 26.512239 | AG11: 29.687072 | AH11: 34.679675 | AI11: 39.370311 | AJ11: 44.546721 | AK11: 52.442028 | AL11: 60.716883 | AM11: 68.861642 | AN11: 74.113244 | AO11: 79.83033 | AP11: 85.706158 | AQ11: 92.943821 | AR11: 101.20555 | AS11: 108.80247 | AT11: 114.69023 | AU11: 119.50142 | AV11: 123.38163 | AW11: 128.50075 | AX11: 135.224 | AY11: 141.05447 | AZ11: 145.81672 | BA11: 149.08346 | BB11: 152.59964 | BC11: 155.24693 | BD11: 156.78302 | BE11: 160.83392 | BF11: 164.34891 | BG11: 168.76384 | BH11: 171.08528 | BI11: 173.2838 | BJ11: 175.52886 | BK11: 176.99214 | BL11: 179.80533 | BM11: 182.76652 | BN11: 184.99845 | BO11: 186.80548 | BP11: 188.30577 | BQ11: 189.48499 | BR11: 190.86234 | BS11: 192.80424 | BT11: 194.55875 | BU11: 195.83346 | BV11: 196.89572 | BW11: 197.72762 | BX11: 198.31007 | BY11: 199.33055 | BZ11: 200.7091 | CA11: 202.22251 | CB11: 203.60464 | CC11: 204.48309 | CD11: 205.14551 | CE11: 205.97741 | CF11: 206.68757 | CG11: 207.79399 | CH11: 208.24753 | CI11: 209.14866 | CJ11: 209.76811 | CK11: 210.50453 | CL11: 210.72176 | CM11: 212.18624 | CN11: 213.01575 | CO11: 213.66981 | CP11: 214.49217 | CQ11: 214.82159 | CR11: 215.22978 | CS11: 215.55442 | CT11: 216.27055 | CU11: 216.65726 | CV11: 217.45932 | CW11: 218.32584 | CX11: 218.64451 | CY11: 218.90829 | CZ11: 219.1279 | DA11: 219.46806 | DB11: 219.7569
A12: predicted at phase 2 start | BX12: 198.31007 | BY12: 199.43793 | BZ12: 200.48747 | CA12: 201.46403 | CB12: 202.37258 | CC12: 203.21778 | CD12: 204.00397 | CE12: 204.73519 | CF12: 205.41524 | CG12: 206.04764 | CH12: 206.63568 | CI12: 207.18243 | CJ12: 207.69075 | CK12: 208.1633 | CL12: 208.60259 | CM12: 209.01091 | CN12: 209.39044 | CO12: 209.74318 | CP12: 210.071 | CQ12: 210.37566 | CR12: 210.65877 | CS12: 210.92184 | CT12: 211.16628 | CU12: 211.39341 | CV12: 211.60444 | CW12: 211.8005 | CX12: 211.98265 | CY12: 212.15187 | CZ12: 212.30908 | DA12: 212.45512 | DB12: 212.59078
A14: FR
A15: actual | B15: 0.01838418 | C15: 0.01838418 | D15: 0.01838418 | E15: 0.01838418 | F15: 0.01838418 | G15: 0.02144821 | H15: 0.02757627 | I15: 0.05821657 | J15: 0.087324855 | K15: 0.1532015 | L15: 0.19916195 | M15: 0.29261487 | N15: 0.32478718 | O15: 0.43662428 | P15: 0.64804235 | Q15: 0.9391252 | R15: 1.4538822 | S15: 1.8093097 | T15: 2.1632052 | U15: 2.7331148 | V15: 3.4945262 | W15: 4.4060752 | X15: 5.6500713 | Y15: 6.8940675 | Z15: 8.3081174 | AA15: 10.076063 | AB15: 11.842476 | AC15: 13.993425 | AD15: 16.844505 | AE15: 19.321773 | AF15: 22.151405 | AG15: 25.567798 | AH15: 30.41969 | AI15: 34.166999 | AJ15: 38.657335 | AK15: 44.665898 | AL15: 50.501343 | AM15: 57.565464 | AN15: 61.547171 | AO15: 68.251269 | AP15: 79.860878 | AQ15: 87.308003 | AR15: 90.549747 | AS15: 98.566782 | AT15: 105.10389 | AU15: 107.97335 | AV15: 113.9666 | AW15: 119.75302 | AX15: 125.69877 | AY15: 132.26498 | AZ15: 138.91699 | BA15: 143.68769 | BB15: 146.15883 | BC15: 150.2539 | BD15: 158.67539 | BE15: 162.70919 | BF15: 166.75524 | BG15: 167.3757 | BH15: 171.31145 | BI15: 172.51408 | BJ15: 175.65624 | BK15: 179.74213 | BL15: 182.54112 | BM15: 185.07354 | BN15: 187.7898 | BO15: 190.14451 | BP15: 190.85077 | BQ15: 196.61727 | BR15: 198.94594 | BS15: 198.94594 | BT15: 198.94594 | BU15: 199.44537 | BV15: 200.66179 | BW15: 201.13365 | BX15: 202.01609 | BY15: 203.70744 | BZ15: 210.11586 | CA15: 211.0795 | CB15: 212.06305 | CC15: 212.72641 | CD15: 213.0466 | CE15: 213.7452 | CF15: 214.82987 | CG15: 215.6066 | CH15: 216.55951 | CI15: 217.42204 | CJ15: 217.99195 | CK15: 218.17579 | CL15: 218.92954 | CM15: 219.73232 | CN15: 220.3727 | CO15: 220.85988 | CP15: 221.46196 | CQ15: 221.84497 | CR15: 222.02115 | CS15: 222.56961 | CT15: 222.99244 | CU15: 223.28506 | CV15: 228.37901 | CW15: 229.29362 | CX15: 232.09415 | CY15: 232.48787 | CZ15: 233.00569 | DA15: 233.00569 | DB15: 233.00569 | DC15: 233.5465 | DD15: 234.48256 | DE15: 235.36959 | DF15: 235.89507 | DG15: 236.21833 | DH15: 236.83573 | DI15: 237.67068
A16: predicted at phase 2 start | CE16: 213.7452 | CF16: 214.3981 | CG16: 215.02721 | CH16: 215.63354 | CI16: 216.21801 | CJ16: 216.78151 | CK16: 217.32488 | CL16: 217.84892 | CM16: 218.3544 | CN16: 218.84203 | CO16: 219.31252 | CP16: 219.76651 | CQ16: 220.20465 | CR16: 220.62752 | CS16: 221.0357 | CT16: 221.42975 | CU16: 221.81017 | CV16: 222.17748 | CW16: 222.53216 | CX16: 222.87466 | CY16: 223.20543 | CZ16: 223.52489 | DA16: 223.83344 | DB16: 224.13148 | DC16: 224.41937 | DD16: 224.69748 | DE16: 224.96615 | DF16: 225.22571 | DG16: 225.47649 | DH16: 225.71878 | DI16: 225.95289
A18: SP
A19: actual | B19: 0.0064164558 | C19: 0.0064164558 | D19: 0.0064164558 | E19: 0.0064164558 | F19: 0.0085552744 | G19: 0.021388186 | H19: 0.038498735 | I19: 0.07699747 | J19: 0.11763502 | K19: 0.17752194 | L19: 0.29515697 | M19: 0.41706963 | N19: 0.57748102 | O19: 0.75072533 | P19: 1.1421291 | Q19: 1.6426127 | R19: 2.3527005 | S19: 3.2830866 | T19: 4.9363934 | U19: 7.0238803 | V19: 9.4984934 | W19: 12.783719 | X19: 16.383351 | Y19: 20.977533 | Z19: 24.634913 | AA19: 29.992653 | AB19: 37.895588 | AC19: 46.562081 | AD19: 56.334343 | AE19: 67.984488 | AF19: 78.394119 | AG19: 88.33107 | AH19: 104.78286 | AI19: 123.09757 | AJ19: 142.25924 | AK19: 161.91285 | AL19: 179.56452 | AM19: 193.31284 | AN19: 205.7458 | AO19: 223.17289 | AP19: 239.02795 | AQ19: 255.26372 | AR19: 270.83432 | AS19: 285.11735 | AT19: 296.96427 | AU19: 304.81801 | AV19: 315.96767 | AW19: 327.91511 | AX19: 340.21118 | AY19: 349.92142 | AZ19: 359.67443 | BA19: 368.02438 | BB19: 374.51142 | BC19: 381.21234 | BD19: 390.70227 | BE19: 398.87684 | BF19: 407.05782 | BG19: 415.27302 | BH19: 415.27302 | BI19: 418.49194 | BJ19: 424.81857 | BK19: 429.85763 | BL19: 436.10511 | BM19: 440.62872 | BN19: 445.98646 | BO19: 449.4984 | BP19: 453.04884 | BQ19: 456.32337 | BR19: 458.18842 | BS19: 460.8705 | BT19: 463.61888 | BU19: 466.25604 | BV19: 468.18525 | BW19: 469.13489 | BX19: 471.32504 | BY19: 473.19437 | BZ19: 475.13642 | CA19: 477.61103 | CB19: 479.19803 | CC19: 480.71018 | CD19: 486.92131 | CE19: 488.44842 | CF19: 489.69749 | CG19: 490.6343 | CH19: 492.30043 | CI19: 493.53881 | CJ19: 494.75366 | CK19: 495.36322 | CL19: 496.28505 | CM19: 497.39296 | CN19: 498.42387 | CO19: 502.24594 | CP19: 503.24263 | CQ19: 504.27354 | CR19: 504.27354 | CS19: 505.31515 | CT19: 505.31515 | CU19: 508.83778 | CV19: 510.24512 | CW19: 511.6653 | CX19: 512.20214 | CY19: 512.54221 | CZ19: 513.17103 | DA19: 514.01372 | DB19: 514.72809 | DC19: 515.40823 | DD19: 516.11832 | DE19: 516.63164 | DF19: 516.98882 | DG19: 517.52138 | DH19: 518.19297 | DI19: 519.10625 | DJ19: 520.17994 | DK19: 521.02691 | DL19: 521.71775 | DM19: 522.10487 | DN19: 522.57327 | DO19: 523.33255 | DP19: 524.58376
A20: predicted at phase 2 start | CL20: 496.73207 | CM20: 497.9492 | CN20: 499.0794 | CO20: 500.12886 | CP20: 501.10337 | CQ20: 502.00827 | CR20: 502.84853 | CS20: 503.62877 | CT20: 504.35329 | CU20: 505.02605 | CV20: 505.65076 | CW20: 506.23084 | CX20: 506.76949 | CY20: 507.26967 | CZ20: 507.73412 | DA20: 508.16539 | DB20: 508.56586 | DC20: 508.93773 | DD20: 509.28303 | DE20: 509.60367 | DF20: 509.9014 | DG20: 510.17787 | DH20: 510.43459 | DI20: 510.67297 | DJ20: 510.89433 | DK20: 511.09988 | DL20: 511.29074 | DM20: 511.46797 | DN20: 511.63254 | DO20: 511.78536 | DP20: 511.92726
