Workbook
Name Has_initiative: 'S4'!$B$9
Name If_no__none_planned: 'S4'!$B$12
Name If_no__planned: 'S4'!$B$13
Name No: 'S4'!$B$11
Name Yes: 'S4'!$B$10

Sheet Contents
A1: Tab Label | B1: Contents / Title
A2: S1 | B2: Initiative-level content assessment of data submitted by Local Authorities regarding their vaping initiatives
A3: S2 | B3: Authority-level content assessment of data submitted by Local Authorities regarding their vaping initiatives
A4: S3 | B4: Authority-level qualitative data submitted by Local Authorities regarding their vaping initiatives
A5: S4 | B5: Frequencies of survey responses and content analysis
A6: S5 | B6: Content assessment labels

Sheet S1
A1: Local authority | B1: Initiative type | C1: Target age group(s) | D1: Integrated with other programmes | E1: Details of integration with other programmes | F1: Duration of the initiative | G1: Responsible parties for delivery | H1: Delivery method | I1: Delivery method-text | J1: Evidence-based? (Yes/No) | K1: Data collected or evaluated? (Yes/No) | L1: Details about data collection/analysis | M1: Evaluation of effectiveness | N1: Tailoring based on data/feedback | O1: Integration with other programmes | P1: Notes
A2: Gateshead Council | B2: NA | C2: NA | D2: NA | E2: NA | F2: NA | G2: NA | H2: NA | I2: NA | J2: NA | K2: NA | L2: NA | M2: NA | N2: NA | O2: NA
A3: London Borough of Newham | B3: School-based educational campaign | C3: 12-17 | D3: Yes | F3: 3 | G3: Educators,Local authority members,Young people | H3: Slides for assemblies or lessons,Community based activities | J3: Yes | K3: Yes | L3: We have delivered training to over 120 professionals in Newham on misinformation around youth vaping. From January - December 2024, we had 223 young people referred to our substance misuse service for vaping cessation following an initial risk assessment. Following introduction of healthy schools award in a pilot Pupil Referral Unit, reduced percentage of incidents recorded for substance abuse below the baseline (34 incidences). | M3: YP data | N3: Unknown | O3: Claimed | P3: Action plan with evaluation plans included
A4: London Borough of Newham | B4: Service provision (including clinics) | C4: 11-17 | D4: Yes | F4: 3 | G4: Trained specialists,Stop Smoking/Vaping Services,Substance misuse services | H4: In-person workshops or sessions,Community based activities | J4: No | K4: Yes | M4: YP data | N4: Unknown | O4: Claimed
A5: London Borough of Newham | B5: Website / online information or support | C5: Under 10-17 | D5: Yes | F5: 2 | G5: Local authority members | H5: Online materials,Printed materials | J5: Yes | K5: Yes | M5: YP data | N5: Unknown | O5: Claimed
A6: London Borough of Newham | B6: A holistic school-based programme | C6: 11-17 | D6: Yes | F6: 3 | G6: Educators | H6: Slides for assemblies or lessons,Community based activities | J6: Yes | K6: Yes | M6: YP data | N6: Unknown | O6: Claimed
A7: London Borough of Newham | B7: Training for teachers | C7: Under 10-17 | D7: Yes | F7: 2 | G7: Trained specialists,Stop Smoking/Vaping Services,Local authority members | H7: In-person workshops or sessions,Online materials,Community based activities | J7: Yes | K7: Yes | M7: YP data | N7: Unknown | O7: Claimed
A8: Thurrock Council | B8: School-based educational campaign | C8: 11-17 | D8: No | F8: ongoing | G8: Educators | H8: Online materials,Printed materials,Slides for assemblies or lessons | J8: Yes | K8: No | L8: too early to evaluate. | M8: No data | N8: No data | O8: Stand-alone initiative
A9: Darlington Borough Council | B9: NA | C9: NA | D9: NA | E9: NA | F9: NA | G9: NA | H9: NA | I9: NA | J9: NA | K9: NA | L9: NA | M9: NA | N9: NA | O9: NA
A10: Oxfordshire County Council | B10: School-based educational campaign | D10: Unknown | E10: we are working on how we should integrate an offer to schools for all risky behaviour, especially as we offer a protective behaviour programme to schools too, and a healthy food approach but we haven't got there yet | H10: Unknown | J10: Unknown | K10: No | M10: No data | N10: No data | O10: Unknown
A11: Oxfordshire County Council | B11: Training for teachers | C11: 11-13 | D11: No | F11: 1 year | G11: Stop Smoking/Vaping Services | H11: In-person workshops or sessions,Online materials,Printed materials | J11: Yes | K11: No | M11: No data | N11: No data | O11: Stand-alone initiative
A12: Cornwall Council and also the Council of the Isles of Scilly | B12: School-based educational campaign | C12: Under 10-17 | D12: Yes | E12: Sessions in schools will also cover smoking. Content is tailored to the school's needs and may include information for teachers if requested. Otherwise teachers are directed to the resources on the Healthy Cornwall website (https://www.healthycornwall.org.uk/youth-vaping-toolkit/) | F12: Ongoing for 18 months | G12: Stop Smoking/Vaping Services | H12: In-person workshops or sessions,Online materials,Slides for assemblies or lessons | J12: Yes | K12: Yes | L12: We conduct surveys with pupils after the sessions have been delivered. We trialled the intervention with one school first and this was reviewed and the intervention adapted as a result but equally the service links with each school to create a bespoke offer. | M12: YP data | N12: Yes | O12: Part of smoking initiatiave | P12: VapeAnon - anonymous reporting to trading standards
A13: Cornwall Council and also the Council of the Isles of Scilly | B13: Service provision (including clinics) | C13: 12-17 | D13: No | F13: 12 months - provided on an ad hoc basis in response to demand (which is minimal)) | G13: Stop Smoking/Vaping Services | H13: In-person workshops or sessions,Telephone-based | J13: No | K13: No | M13: No data | N13: No data | O13: Stand-alone initiative
A14: Cornwall Council and also the Council of the Isles of Scilly | B14: Website / online information or support | D14: No | F14: Can't remember - 12+ months approx. | G14: Local authority members | H14: Online materials | J14: Yes | K14: No | M14: No data | N14: No data | O14: Stand-alone initiative
A15: Cornwall Council and also the Council of the Isles of Scilly | B15: Training for teachers | D15: No | F15: As per website. Although letter first sent to schools in Nov. 2022 | H15: Online materials | J15: Yes | K15: No | M15: No data | N15: No data | O15: Stand-alone initiative
A16: Cornwall Council and also the Council of the Isles of Scilly | B16: VapeAnon - a webpage for local CYP to report intel on underage sales/provision. | C16: 11-16 | D16: No | F16: Spring 2025 | G16: Trading Standards | H16: Online materials,Slides for assemblies or lessons | J16: Yes | K16: No | M16: No data | N16: No data | O16: Stand-alone initiative
A17: Brighton and Hove City Council - Healthy Lifestyles Team / Stop Smoking team | B17: School-based educational campaign | C17: 12-16 | D17: Yes | E17: I discuss smoking risks etc, ask about MH and signpost to young persons substance use service RUOK / am often referred young people from RUOK - vaping crossover re substances such as THC, Spice, cannabis | F17: 45597 | G17: Trained specialists,Educators,Stop Smoking/Vaping Services | H17: In-person workshops or sessions,Printed materials,Slides for assemblies or lessons | I17: It's mainly just me doing it, but RUOK support as does PSHE | J17: Yes | K17: No | L17: I haven't collected data yet as the program is fairly new, since Nov 24 | M17: No data | N17: No data | O17: Part of broader substance misuse
A18: Brighton and Hove City Council - Healthy Lifestyles Team / Stop Smoking team | B18: Community-based educational campaign | C18: 12-17 | D18: Yes | F18: 45597 | G18: Trained specialists,Stop Smoking/Vaping Services | H18: In-person workshops or sessions,Online materials,Printed materials,Social media outreach,Community based activities | J18: Yes | K18: No | M18: No data | N18: No data | O18: Part of broader substance misuse
A19: Brighton and Hove City Council - Healthy Lifestyles Team / Stop Smoking team | B19: Service provision (including clinics) | C19: 12-17 | D19: Yes | F19: 45597 | G19: Trained specialists,Stop Smoking/Vaping Services | H19: In-person workshops or sessions,Printed materials,Slides for assemblies or lessons | J19: Yes | K19: No | M19: No data | N19: No data | O19: Part of broader substance misuse
A20: Brighton and Hove City Council - Healthy Lifestyles Team / Stop Smoking team | B20: Counselling or behavioural support | C20: 12-17 | D20: Yes | F20: 45597 | G20: Trained specialists,Stop Smoking/Vaping Services | H20: In-person workshops or sessions,Printed materials,Social media outreach,Telephone-based,Slides for assemblies or lessons | J20: Yes | K20: No | M20: No data | N20: No data | O20: Part of broader substance misuse
A21: Brighton and Hove City Council - Healthy Lifestyles Team / Stop Smoking team | B21: Website / online information or support | C21: 12-17 | D21: Yes | F21: 45597 | G21: Trained specialists,Stop Smoking/Vaping Services | H21: In-person workshops or sessions,Printed materials | J21: Yes | K21: No | M21: No data | N21: No data | O21: Part of broader substance misuse
A22: Suffolk County Council | B22: School-based educational campaign | C22: Under 10-16 | D22: Yes | E22: Content includes information on smoking cessation and harm impacts | F22: less than 1 year | G22: Local authority members | H22: Online materials,Slides for assemblies or lessons | J22: Yes | K22: No | M22: No data | N22: No data | O22: Part of smoking initiatiave
A23: Suffolk County Council | B23: Website / online information or support | C23: Under 10-17 | D23: Yes | F23: about to go live | G23: Stop Smoking/Vaping Services,Local authority members | H23: Online materials | J23: Yes | K23: No | M23: No data | N23: No data | O23: Part of smoking initiatiave
A24: Torbay Council | B24: Website / online information or support | C24: Under 10-17 | D24: Yes | E24: Our Torbay Healthy Learning website offers content around a range of health and prevention programmes that support the delivery of PHSE and | F24: 2 years | G24: Educators,School nurses | H24: In-person workshops or sessions,Online materials | J24: Yes | K24: No | M24: No data | N24: No data | O24: Integrated into school PSHE
A25: Gloucestershire County Council | B25: Website / online information or support | C25: 12-17 | D25: Yes | E25: Website - This page is part of Gloucestershireâ€™s strategy to support people to stop smoking. Our strategy supports the use of vapes as a tool to help adults to stop smoking tobacco, and aims to stop young people from starting to vape or smoke. | F25: 45597 | G25: Local authority members | H25: Online materials | J25: No | K25: Yes | L25: Website - currently producing an evaluation of the project, where we will be collecting data on clicks on the website and to other resources. | M25: Planned | N25: No data | O25: Part of smoking initiatiave
A26: Gloucestershire County Council | B26: Training for teachers | C26: Under 10-17 | D26: Yes | E26: Training for teachers ties in to whole school approach to reduce substance use amongst pupils. | F26: 45261 | G26: Trained specialists,Educators | H26: In-person workshops or sessions,Online materials,Printed materials,Slides for assemblies or lessons | J26: No | K26: Yes | L26: Training for teachers - feedback collected at the end of the training has been positive and has been implemented within school settings. | M26: Deliverer feedback | N26: Yes | O26: Part of broader substance misuse
A27: Gloucestershire County Council | B27: Webinar for professionals on how to prevent adolescent vaping in Gloucestershire | C27: 12-17 | D27: Unknown | F27: Webinar - December 2024 - 1 day. | G27: Educators,Local authority members,School nurses | H27: Online materials | J27: Unknown | K27: Unknown | M27: Unknown | N27: Unknown | O27: Claimed
A28: Gloucestershire County Council | B28: community engagement to gather insights on youth vaping in order to inform future adolescent vaping interventions. | C28: 12-17 | D28: Unknown | F28: Community engagement - November 2024 to January 2025 over 3 days. | G28: Local authority members | H28: community based activities, printed materials, in-person workshops or sessions. | J28: Unknown | K28: Unknown | M28: Unknown | N28: Unknown | O28: Claimed
A29: Blackpool Council | B29: School-based educational campaign | D29: Unknown | H29: Unknown | J29: Unknown | K29: Unknown | M29: Unknown | N29: Unknown | O29: Unknown | P29: Resource to parents claims that 9% of youth now smoke as a result of vaping. Data from 3,532 young people aged 10 to 24 showed that 5% of their sample said they vaped after they had smoked. 9% of those who vaped said ‘yes’ to having started after vaping – a much smaller proportion than 9% of all young people in the area. This is an association, not causality.
A30: Blackpool Council | B30: Community-based educational campaign | D30: Unknown | H30: Unknown | J30: Unknown | K30: Unknown | M30: Unknown | N30: Unknown | O30: Unknown
A31: Blackpool Council | B31: Parent-focused educational campaign | D31: Unknown | H31: Unknown | J31: Unknown | K31: Unknown | M31: Unknown | N31: Unknown | O31: Unknown
A32: Blackpool Council | B32: Counselling or behavioural support | D32: Unknown | H32: Unknown | J32: Unknown | K32: Unknown | M32: Unknown | N32: Unknown | O32: Unknown
A33: Blackpool Council | B33: Website / online information or support | D33: Unknown | H33: Unknown | J33: Unknown | K33: Unknown | M33: Unknown | N33: Unknown | O33: Unknown
A34: Blackpool Council | B34: A holistic school-based programme | D34: Unknown | H34: Unknown | J34: Unknown | K34: Unknown | M34: Unknown | N34: Unknown | O34: Unknown
A35: Blackpool Council | B35: Training for teachers | D35: Unknown | H35: Unknown | J35: Unknown | K35: Unknown | M35: Unknown | N35: Unknown | O35: Unknown
A36: Leicester City Council | B36: NA | C36: NA | D36: NA | E36: NA | F36: NA | G36: NA | H36: NA | I36: NA | J36: NA | K36: NA | L36: NA | M36: NA | N36: NA | O36: NA
A37: London Borough of Havering | B37: School-based educational campaign | C37: Under 10-16 | D37: Yes | E37: Part of PHSE lessons | F37: 6 months | G37: Educators | H37: Online materials,Slides for assemblies or lessons | J37: Yes | K37: No | M37: No data | N37: No data | O37: Integrated into school PSHE
A38: North Northamptonshire Council | B38: Website / online information or support | C38: Do not know/Unsure | D38: No | F38: We updated our website around a year ago with advice on how to quit vaping - it was in response to the queries that were coming through our stop smoking service. | G38: Stop Smoking/Vaping Services | H38: Online materials,Printed materials | J38: Yes | K38: No | M38: No data | N38: No data | O38: Stand-alone initiative
A39: North Northamptonshire Council | B39: Developed school guidance | C39: 11-17 | D39: No | F39: The school guidance is still being developed and has been worked on for around a year - significant delays due to capacity and a lack of feedback from schools | G39: Educators | H39: Online materials | J39: Yes | K39: No | M39: No data | N39: No data | O39: Stand-alone initiative
A40: Bury Council | B40: School-based educational campaign | C40: 11-17 | D40: Yes | E40: harm reduction | F40: 1-2 years | G40: Educators | H40: In-person workshops or sessions,Online materials,Printed materials,Slides for assemblies or lessons | J40: Unknown | K40: Yes | M40: Claimed | N40: Not stated | O40: Part of broader substance misuse
...

Sheet S2
A1: Local authority | B1: Has initiative? (Yes/No) | C1: Integrated with other programmes | D1: Evidence-based? (Yes/No) | E1: Data collected or evaluated? (Yes/No) | F1: Evaluation of Effectiveness | G1: Tailoring Based on Data/feedback | H1: Inaccurate or potentially overstated claims | I1: Outdated Information | J1: Own materials created | K1: ASH resources used | L1: Sheffield/ASH resources used | M1: NHS resources used | N1: FRANK resources used | O1: DHSC/NHS resources used | P1: The exchange / drug science resources used | Q1: NCSCT resources used | R1: INTENT resources used | S1: PSHE Association resources used | T1: Other authorities resources used | U1: Other links used | V1: Availability of resources | W1: Unitary vs upper tier local authority (UTLA) | X1: Notes | Y1: Number of initiatives
A2: Gateshead Council | B2: No | C2: NA | D2: NA | E2: NA | F2: NA | G2: NA | H2: NA | I2: NA | J2: NA | K2: NA | L2: NA | M2: NA | N2: NA | O2: NA | P2: NA | Q2: NA | R2: NA | S2: NA | T2: NA | U2: NA | V2: NA | W2: Unitary | Y2: 0
A3: London Borough of Newham | B3: Yes | C3: Yes | D3: Yes | E3: Yes | F3: YP data | G3: Unknown | H3: Yes; Potentially overstated claims about mental health, Inaccurate information about comparison with smoking, Potentially overstated claims about brain development | I3: Yes; Outdated information about disposable vapes, Outdated statistics | J3: Yes; healthy schools programme | K3: Yes; link to guidance for schools | L3: Yes; link | M3: No | N3: Yes; links | O3: No | P3: No | Q3: No | R3: No | S3: Yes; links broken | T3: Yes; Slough, North West, Wiltshire, Cumbria | U3: Yes; London Tobacco Alliance toolkit, New Zealand vape free website, mental heatlh support | V3: Available | W3: Unitary | X3: Action plan with evaluation plans included | Y3: 5
A4: Thurrock Council | B4: Yes | C4: No | D4: Yes | E4: No | F4: No data | G4: No data | H4: No inaccurate/overstated claims | I4: Yes; Outdated information about disposable vapes, Outdated statistics | J4: No | K4: Yes; survey statistics | L4: Yes; links | M4: No | N4: Yes; via sheffield resources | O4: Yes | P4: No | Q4: No | R4: No | S4: No | T4: Yes: Essex police | U4: Yes; Trading Standards | V4: Available | W4: Unitary | Y4: 1
A5: Darlington Borough Council | B5: No | C5: NA | D5: NA | E5: NA | F5: NA | G5: NA | H5: NA | I5: NA | J5: NA | K5: NA | L5: NA | M5: NA | N5: NA | O5: NA | P5: NA | Q5: NA | R5: NA | S5: NA | T5: NA | U5: NA | V5: NA | W5: Unitary | Y5: 0
A6: Oxfordshire County Council | B6: Yes | C6: No | D6: Yes | E6: No | F6: No data | G6: No data | H6: No inaccurate/overstated claims | I6: Yes; Outdated information about disposable vapes, Outdated statistics | J6: Yes; smokefree school gates, fact sheet | K6: Yes; survey statistics, quitting leaflet | L6: Yes; links | M6: No | N6: Yes; via sheffield resources | O6: Yes; links | P6: No | Q6: Yes; link | R6: Yes | S6: No | T6: No | U6: Yes; Southeast directors; University Hospitals Southampton | V6: Available | W6: UTLA | Y6: 2
A7: Cornwall Council and also the Council of the Isles of Scilly | B7: Yes | C7: Yes | D7: Yes | E7: Yes | F7: YP data | G7: Yes | H7: No inaccurate/overstated claims | I7: Yes; Outdated information about disposable vapes, Outdated statistics | J7: Yes; tailored to schools needs | K7: No | L7: Yes: links | M7: No | N7: Yes; via sheffield resources | O7: No | P7: No | Q7: No | R7: No | S7: No | T7: No | U7: No | V7: Available | W7: Unitary | X7: VapeAnon - anonymous reporting to trading standards | Y7: 5
A8: Brighton and Hove City Council - Healthy Lifestyles Team / Stop Smoking team | B8: Yes | C8: Yes | D8: Yes | E8: No | F8: No data | G8: No data | H8: Unable to assess | I8: Unable to assess | J8: Yes; unclear what | K8: Yes; used to guide | L8: No | M8: No | N8: No | O8: No | P8: No | Q8: Yes; used to guide | R8: No | S8: No | T8: No | U8: No | V8: Unknown | W8: Unitary | Y8: 5
A9: Suffolk County Council | B9: Yes | C9: Yes | D9: Yes | E9: No | F9: No data | G9: No data | H9: Unable to assess | I9: Unable to assess | J9: Yes; unclear what | K9: No | L9: No | M9: No | N9: No | O9: No | P9: No | Q9: No | R9: No | S9: No | T9: No | U9: No | V9: Internal only | W9: UTLA | Y9: 2
A10: Torbay Council | B10: Yes | C10: Yes | D10: Yes | E10: No | F10: No data | G10: No data | H10: No inaccurate/overstated claims | I10: Yes; Outdated information about disposable vapes, Outdated statistics | J10: No | K10: Yes; link to factsheet and includes survey data | L10: Yes; link | M10: No | N10: Yes; via sheffield resources | O10: No | P10: No | Q10: No | R10: No | S10: No | T10: No | U10: Yes; Trading standards | V10: Available | W10: Unitary | Y10: 1
A11: Gloucestershire County Council | B11: Yes | C11: Yes | D11: No | E11: Yes | F11: Planned, Deliverer feedback | G11: Yes | H11: No inaccurate/overstated claims | I11: Yes; Outdated information about disposable vapes, Outdated statistics | J11: Yes; healthy lifestyles website and whole school approach | K11: No | L11: Yes; links | M11: No | N11: Yes; links | O11: Yes | P11: Yes | Q11: No | R11: No | S11: Yes; link to conference workshop | T11: No | U11: Yes; BBC epidode | V11: Available | W11: UTLA | Y11: 4
A12: Blackpool Council | B12: Yes | C12: Unknown | D12: Unknown | E12: Unknown | F12: Unknown | G12: Unknown | H12: Yes;Potentially overstated claims about vaping causing smoking | I12: Yes; Outdated information about disposable vapes, Outdated statistics | J12: Yes | K12: Yes; survey data | L12: No | M12: No | N12: Yes; link | O12: No | P12: No | Q12: No | R12: No | S12: No | T12: No | U12: Yes; Addiction service | V12: Available | W12: Unitary | X12: Resource to parents claims that 9% of youth now smoke as a result of vaping. Data from 3,532 young people aged 10 to 24 showed that 5% of their sample said they vaped after they had smoked. 9% of those who vaped said ‘yes’ to having started after vaping – a much smaller proportion than 9% of all young people in the area. This is an association, not causality. | Y12: 7
A13: Leicester City Council | B13: No | C13: NA | D13: NA | E13: NA | F13: NA | G13: NA | H13: NA | I13: NA | J13: NA | K13: NA | L13: NA | M13: NA | N13: NA | O13: NA | P13: NA | Q13: NA | R13: NA | S13: NA | T13: NA | U13: NA | V13: NA | W13: UTLA | Y13: 0
A14: London Borough of Havering | B14: Yes | C14: Yes | D14: Yes | E14: No | F14: No data | G14: No data | H14: Unable to assess | I14: Unable to assess | J14: No | K14: No | L14: No | M14: No | N14: No | O14: No | P14: No | Q14: No | R14: No | S14: No | T14: No | U14: No | V14: Unknown | W14: Unitary | Y14: 1
A15: North Northamptonshire Council | B15: Yes | C15: No | D15: Yes | E15: No | F15: No data | G15: No data | H15: Unable to assess | I15: Unable to assess | J15: Yes; not completed | K15: No | L15: No | M15: No | N15: No | O15: No | P15: No | Q15: Yes; used to guide | R15: No | S15: No | T15: No | U15: No | V15: Available | W15: Unitary | Y15: 2
A16: Bury Council | B16: Yes | C16: Yes | D16: Unknown | E16: Yes | F16: Claimed | G16: Not stated | H16: No inaccurate/overstated claims | I16: Yes; Outdated information about disposable vapes | J16: Yes; intervention but not enough detail to assess, training for teachers, primary and secondary | K16: No | L16: No | M16: No | N16: No | O16: No | P16: No | Q16: No | R16: No | S16: No | T16: No | U16: Yes; Early Break referral | V16: Unknown | W16: Unitary | Y16: 3
A17: Worcestershire County Council | B17: Yes | C17: No | D17: Yes | E17: Yes | F17: YP feedback | G17: Yes | H17: Yes; Potentially overstated claims about brain development | I17: Yes; Outdated information about disposable vapes, Outdated statistics | J17: Yes; posters and slides, infographic | K17: Yes; link | L17: No | M17: No | N17: Yes; link | O17: No | P17: No | Q17: No | R17: No | S17: No | T17: No | U17: No | V17: Available | W17: UTLA | X17: Social norms theory used | Y17: 1
A18: Nottinghamshire County Council | B18: Yes | C18: No | D18: Yes | E18: No | F18: No data | G18: No data | H18: No inaccurate/overstated claims | I18: Yes; Outdated information about disposable vapes, Outdated statistics | J18: Yes | K18: Yes; based on recommendations | L18: Yes; links | M18: Yes; links | N18: Yes; link | O18: Yes | P18: No | Q18: Yes; link | R18: Yes | S18: Yes; Lifelab | T18: Yes; NICE recommendations, ADPH Southeast | U18: Yes; MHRA, trading standards, hope uk etc. | V18: Internal only | W18: UTLA | X18: Duplicate entry merged. Social norms theory included in padlet | Y18: 5
A19: Devon County Council | B19: Yes | C19: Yes | D19: Yes | E19: No | F19: Planned | G19: No data | H19: Yes; Potentially overstated claims about brain development | I19: Yes; Outdated statistics | J19: Yes; slides and policy template, whole school approach | K19: Yes; link to website | L19: Yes; link | M19: No | N19: Yes; link | O19: Yes; link | P19: No | Q19: No | R19: No | S19: Yes; link is broken | T19: No | U19: Yes; BBc bitesize, the Mix, Better Health | V19: Available | W19: UTLA | Y19: 1
A20: West Berkshire Council's Public Health Team | B20: Yes | C20: No | D20: Yes | E20: No | F20: No data | G20: No data | H20: Yes; Inaccurate information about comparison with smoking, Potentially overstated claims about brain development,Potentially overstated claims about vaping causing seizures | I20: Yes; Outdated information about disposable vapes | J20: Yes; slides, parental advice | K20: No | L20: No | M20: No | N20: Yes; link | O20: No | P20: No | Q20: No | R20: No | S20: No | T20: No | U20: Yes; smokefree teen | V20: Unknown | W20: Unitary | Y20: 2
A21: Barnsley Council | B21: Yes | C21: Yes | D21: Yes | E21: No | F21: Planned | G21: No data | H21: Unable to assess | I21: Yes; Outdated information about disposable vapes, Outdated statistics | J21: No | K21: No | L21: Yes; shared in ondrive | M21: No | N21: Yes; via Sheffield resources | O21: No | P21: No | Q21: No | R21: No | S21: No | T21: No | U21: No | V21: Available | W21: Unitary | Y21: 7
A22: City of London Corporation and Hackney Council | B22: Yes | C22: Yes | D22: Yes | E22: No | F22: No data | G22: No data | H22: No inaccurate/overstated claims | I22: Yes; Outdated information about disposable vapes, Outdated statistics | J22: No | K22: Yes; based on reccommendations | L22: Yes | M22: No | N22: Yes; via sheffield resources | O22: Yes | P22: No | Q22: No | R22: No | S22: No | T22: No | U22: No | V22: Unknown | W22: Unitary | Y22: 3
A23: London Borough of Bexley | B23: Yes | C23: Yes | D23: Yes | E23: Yes | F23: Claimed | G23: Not stated | H23: No inaccurate/overstated claims | I23: Yes; Outdated information about disposable vape, Outdated statistics | J23: No | K23: No | L23: No | M23: No | N23: No | O23: No | P23: No | Q23: No | R23: Yes | S23: No | T23: No | U23: No | V23: Internal only | W23: Unitary | Y23: 3
A24: Rochdale Borough Council | B24: Yes | C24: Yes | D24: No | E24: No | F24: No data | G24: No data | H24: No inaccurate/overstated claims | I24: No outdated information | J24: Yes; whole school approach | K24: No | L24: No | M24: No | N24: No | O24: No | P24: No | Q24: No | R24: No | S24: No | T24: No | U24: No | V24: Unknown | W24: Unitary | Y24: 5
A25: Catch22 commisioned service by London Borough of Merton | B25: Yes | C25: Yes | D25: Yes | E25: Yes (determined by submitted materials) | F25: Planned, YP feedback, YP data | G25: Yes (slides suggest tailoring based on feedback for social media and texts) | H25: Yes; Potentially overstated claims about brain development, Inaccurate information about comparison with smoking, Inaccurate information about overheating | I25: Yes; Outdated information about disposable vapes, Outdated statistics | J25: Yes; slides and workshop, training, resource packs | K25: Yes; survey statistics | L25: No | M25: Yes; website | N25: No | O25: No | P25: No | Q25: No | R25: No | S25: No | T25: No | U25: No | V25: Available | W25: Unitary | X25: Duplicate entry merged | Y25: 8
A26: Herefordshire Council | B26: Yes | C26: Unknown | D26: Unknown | E26: Unknown | F26: Unknown | G26: Unknown | H26: Unable to assess | I26: Unable to assess | J26: Yes; healthy schools and one-off awareness campaign | K26: No | L26: No | M26: No | N26: No | O26: No | P26: No | Q26: No | R26: No | S26: No | T26: No | U26: No | V26: Unknown | W26: Unitary | Y26: 1
A27: North Tyneside Council | B27: Yes | C27: Unknown | D27: Unknown | E27: Unknown | F27: Unknown | G27: Unknown | H27: Unable to assess | I27: Unable to assess | J27: Yes; website now unavailable | K27: No | L27: No | M27: No | N27: No | O27: No | P27: No | Q27: No | R27: No | S27: No | T27: No | U27: No | V27: Available | W27: Unitary | Y27: 1
A28: Solutions 4 Health - Slough Borough Council | B28: Yes | C28: Unknown | D28: Unknown | E28: Unknown | F28: Unknown | G28: Unknown | H28: Unable to assess | I28: Unable to assess | J28: Yes; training | K28: No | L28: No | M28: No | N28: No | O28: No | P28: No | Q28: No | R28: No | S28: No | T28: No | U28: No | V28: Unknown | W28: Unitary | Y28: 5
A29: London Borough of Camden | B29: Yes | C29: Unknown | D29: Unknown | E29: Unknown | F29: Unknown | G29: Unknown | H29: Unable to assess | I29: Unable to assess | J29: No | K29: No | L29: No | M29: No | N29: No | O29: No | P29: No | Q29: No | R29: No | S29: No | T29: No | U29: No | V29: Unknown | W29: Unitary | Y29: 2
A30: Cheshire East Council | B30: Yes | C30: Unknown | D30: Unknown | E30: Unknown | F30: Unknown | G30: Unknown | H30: No inaccurate/overstated claims | I30: Yes; Outdated statistics | J30: No | K30: Yes; survey statistics | L30: Yes; links | M30: No | N30: Yes; via sheffield resources | O30: No | P30: No | Q30: No | R30: No | S30: No | T30: No | U30: No | V30: Available | W30: Unitary | Y30: 1
A31: East Sussex County Council | B31: Yes | C31: Yes | D31: Yes | E31: Yes | F31: Claimed | G31: Planned | H31: Unable to assess | I31: Yes; Outdated information about disposable vape, Outdated statistics | J31: Yes; whole school approach and support within schools | K31: No | L31: Yes | M31: No | N31: No | O31: No | P31: No | Q31: No | R31: No | S31: No | T31: No | U31: No | V31: Internal only | W31: UTLA | Y31: 3
A32: Staffordshire County Council | B32: Yes | C32: Yes | D32: Yes | E32: Yes | F32: YP feedback, Deliverer feedback | G32: Unknown | H32: Yes; Potentially overstated claims about brain development, Inaccurate information about comparison with smoking | I32: Yes; Outdated information about disposable vapes, Outdated statistics | J32: Yes; videos for website and duides for a range of audiences | K32: Yes; local toolkit | L32: No | M32: No | N32: No | O32: No | P32: No | Q32: Yes | R32: No | S32: No | T32: No | U32: OHID | V32: Available | W32: UTLA | Y32: 2
A33: Stoke-on-Trent Council | B33: No | C33: NA | D33: NA | E33: NA | F33: NA | G33: NA | H33: NA | I33: NA | J33: NA | K33: NA | L33: NA | M33: NA | N33: NA | O33: NA | P33: NA | Q33: NA | R33: NA | S33: NA | T33: NA | U33: NA | V33: NA | W33: Unitary | Y33: 0
A34: Somerset Council | B34: Yes | C34: Yes | D34: Yes | E34: Yes | F34: YP data | G34: Unknown | H34: Yes; Inaccurate information about comparison with smoking | I34: Yes; Outdated information about disposable vapes, Outdated statistics | J34: Yes; poster, video | K34: Yes; link to factsheet | L34: No | M34: No | N34: Yes; link | O34: No | P34: No | Q34: Yes | R34: Yes | S34: No | T34: No | U34: Yes; Trading standards, OHID, New Zealand vape free schools, ADPH southeast | V34: Internal only | W34: Unitary | Y34: 4
A35: Hartlepool Borough Council | B35: Yes | C35: No | D35: No | E35: No | F35: Planned | G35: No data | H35: Unable to assess | I35: Unable to assess | J35: No | K35: No | L35: No | M35: No | N35: No | O35: No | P35: No | Q35: No | R35: No | S35: No | T35: No | U35: No | V35: Unknown | W35: Unitary | X35: Toolkit but unclear if own or Sheffield's | Y35: 2
A36: Buckinghamshire Council | B36: Yes | C36: Yes | D36: Yes | E36: Yes | F36: Claimed | G36: Not stated | H36: No inaccurate/overstated claims | I36: Yes; Outdated statistics | J36: Yes; workshops | K36: No | L36: Yes; links | M36: No | N36: Yes; via Sheffield resources | O36: No | P36: No | Q36: No | R36: No | S36: No | T36: Yes; ADHP southeast | U36: No | V36: Available | W36: Unitary | Y36: 3
A37: Sheffield City Council | B37: Yes | C37: Yes | D37: Yes | E37: Yes | F37: Deliverer feedback | G37: Yes | H37: No inaccurate/overstated claims | I37: Yes; Outdated information about disposable vapes, Outdated statistics | J37: Yes; developed Sheffield materials | K37: Yes; survey statistics | L37: Yes | M37: Yes; links | N37: Yes; links | O37: No | P37: No | Q37: No | R37: No | S37: No | T37: No | U37: No | V37: Available | W37: Unitary | Y37: 8
A38: Lambeth Council | B38: Yes | C38: No | D38: No | E38: No | F38: No data | G38: No data | H38: Unable to assess | I38: Unable to assess | J38: No | K38: No | L38: No | M38: No | N38: No | O38: No | P38: No | Q38: No | R38: No | S38: No | T38: No | U38: No | V38: Unknown | W38: Unitary | X38: Website not found | Y38: 1
A39: London Borough of Lewisham | B39: Yes | C39: No | D39: No | E39: Yes | F39: Claimed | G39: Not stated | H39: Unable to assess | I39: Unable to assess | J39: No | K39: No | L39: No | M39: No | N39: No | O39: No | P39: No | Q39: No | R39: No | S39: No | T39: No | U39: No | V39: Available | W39: Unitary | Y39: 4
A40: City of York Council | B40: Yes | C40: Yes | D40: Unknown | E40: Yes | F40: YP feedback, Deliverer feedback | G40: Not stated | H40: No inaccurate/overstated claims | I40: Yes; Outdated information about disposable vapes, Outdated statistics | J40: Yes; video, leaflets, postcards and posters, and slides | K40: Yes; link and survey statistics | L40: Yes; adapted | M40: No | N40: Yes; via Sheffield resources | O40: No | P40: No | Q40: No | R40: No | S40: No | T40: No | U40: No | V40: Available | W40: Unitary | Y40: 7
...

Sheet S3
A1: Local authority | B1: Materials/resources provided | C1: Evidence or information used | D1: Challenges faced | E1: Potential improvements needed | F1: Plans to expand/develop | G1: Additional documents/information | H1: Plans to implement an initiative (if none currently)
A2: Gateshead Council | B2: NA | C2: NA | D2: NA | E2: NA | F2: NA | G2: NA | H2: No
A3: London Borough of Newham | B3: "https://www.wellnewham.org.uk/advice/young-people-and-vaping " - scroll down below for additional resources, Professionals - Youth Vaping Training (1).pptx, Newham Vaping Toolkit (Digital).pdf, Young people Action Plan on Vaping and Smoking in Newham.pdf, Newham Trading Standards - Business card.pdf | C3: " https://ash.org.uk/resources/view/use-of-e-cigarettes-among-young-people-in-great-britain " All resource links we refer to in our vaping prevention work can be found at the end of the vaping toolkit. Newham Vaping Toolkit (Digital).pdf | D3: Lack of national guidance on messaging around vaping. Confusing when vapes are an effective cessation aid for adult smokers but strongly discouraged among young people and non-smokers, as they think vapes are safer alternative. | E3: Clearer national guidance following the ban of disposable vapes which can be disseminated to local authorities. Additional research on cost-effective interventions to support young people who are dependent on vaping which local authorities can implement within their local programmes. | F3: Expansion of school-based prevention programmes targeting primary school pupils.
A4: Thurrock Council | B4: " https://www.thurrocktradedservices.co.uk/Page/41235 " | C4: The materials we use were created by ASH and Smokefree Sheffield, and are evidence based. | D4: none | E4: we should build in a feedback loop from schools. They asked for resources and we need to know whether they are using them and how they are finding them. | F4: although no plans in place, we will need to revisit some of materials in line with the T&V bill when it receives ascent. We would also want to look at nicotine products more broadly than just vapes, as pouch use could rise following the disposable ban. | G4: Campaign materials are available to all schools and colleges, and they are encouraged to use the materials in school. There are posters that can be downloaded and printed and used in schools. There is a classroom resource pack/teachers notes and a parent/carer leaflet. There is a video on the Council You Tube that can be linked in schools comms. These were purchased from Smokefree Sheffield and supplied with the Thurrock Council logo added. There is an offer that Youth Cabinet members or members of Young HealthWatch can co-deliver sessions in schools, using the materials
A5: Darlington Borough Council | B5: NA | C5: NA | D5: NA | E5: NA | F5: NA | G5: NA | H5: No
A6: Oxfordshire County Council | B6: " https://www.oxfordshire.gov.uk/residents/social-and-health-care/public-health-and-wellbeing/smoke-free-oxfordshire#paragraph-16226 ", " https://intent.evidencetoimpact.com/ " | C6: use an evidence based programme | D6: schools taking up the programme | E6: not sure | F6: we are researching other ways to prevention of vaping | G6: No
A7: Cornwall Council and also the Council of the Isles of Scilly | B7: "https://vapeanon.com/ " VapeANON was developed in response to a request from CYP at our 2024 "Annual Conversation" , "https://www.cornwall.gov.uk/health-and-social-care/childrens-services/childrens-rights/our-projects-and-activities/annual-conversation/annual-conversation-2024/ " #smoking, "https://www.healthycornwall.org.uk/youth-vaping-toolkit/" | C7: Vaping toolkit adapted from ASH/Sheffield Council resources. VapeANON developed with local Youth Council members and consultation with CYP event. | D7: Resources/competing demands. | E7: A national campaign and resources. Keen to hear more about the national "love your lungs" campaign. | F7: Future work will be informed by results of local survey of CYP on use of vapes etc. Expect to run activities to support the implementation of the Tobacco and vapes bill e.g. expand current smokefree play park initiatives to include vape free spaces. Reducing the number of CYP vaping is a current aim of our local Smokefree Alliance. | G7: No - except to note we are trying to maintain a focus on smoking.
A8: Brighton and Hove City Council - Healthy Lifestyles Team / Stop Smoking team | B8: Vaping Diary .docx | C8: I work with the latest guidance and evidence from the National Centre for Smoking Cessation and Training as well as ASH, as well as evidence based behaviour change and motivational interviewing techniques from my experience in smoking cessation. There isn't really any official guidance from these bodies yet around youth vaping cessation but we are all helping to form it and it should be coming soon! | D8: Perhaps not many young people really wanting to stop vaping, lacking the incentive or any evidence of serious health risks - difficult as most peers also vape. Lacking official guidance, as mentioned, but feel confident in forming a program and with co-production with young people. | E8: More social media reach - more peer -led sessions | F8: No | G8: Aimed at children and young people aged 12-18 - going well generally I think! Not so much vape 'prevention' as such, but can support and encourage cessation - tends to be more vaping education, harm prevention, education around illicit vapes, environmental impact - beyond the addiction and illegality which is a problem, there are as yet no proven significant health risks
A9: Suffolk County Council | B9: Our materials are uploaded to a portal accessible only by schools. | C9: Gathered from a range of sources | D9: We don't currently have resource (staff, money) to add to the suite of information to further support the messaging around vaping harm | E9: Government focus on vaping and YP - currently the focus (money, reporting requirements) is soley on tobacco, and as such the resources are channelled in those areas. | F9: potentially looking at a graded plan of what activities could be offered if there was more time/money available - this will be completed within the next 12 months
A10: Torbay Council | B10: " http://www.healthylearningtorbay.co.uk/themes/smoking-and-vaping/ " | C10: References of research and materials cited are included on the website. | D10: Lack of local surveillance data on rates of vaping amongst young people Lack of current evidence on what types of interventions have been tested and evaluated Capacity within schools is limited and teachers can only do so much in their roles alongside the many other pressures and priorities they have | F10: Currently scoping what a support offer to assist young people who are nicotine dependant
A11: Gloucestershire County Council | B11: " https://www.nhsglos.nhs.uk/your-health-services/healthy-communities/vaping/ ", " https://www.ghll.org.uk/pink-safeguarding-curriculum/pink-curriculum-resources/resources-for-key-stages-34/vaping/ ", " https://www.gloucestershire.gov.uk/education-and-learning/families-in-partnership-newsletters/families-in-partnership-newsletter-february-2025/young-people-and-vaping/" , " https://hlsglos.org/stop-smoking/vaping-faqs/ " | D11: Pulling together resources when nationally/locally, the evidence base is limited. Community engagement - currently there is no specialist vaping cessation service to signpost young people on to, so partner agencies can only provide support to young people that vape to a certain point. | E11: The introduction of a specialist vaping cessation pathway for young people would improve support and boost quit rates. | F11: Currently a under-18 vaping cessation pathway is being developed by the healthy lifestyles service.
A12: Blackpool Council | B12: Healthwatch Blackpool Vaping and YP Report " https://healthwatchblackpool.co.uk/vaping "
A13: Leicester City Council | B13: NA | C13: NA | D13: NA | E13: NA | F13: NA | G13: NA | H13: Yes; We are planning a co-design of educational materials around smoking and vaping. Working in partnership with young people.
A14: London Borough of Havering | C14: national campaign assets | D14: Capacity of teachers and PHSE leads to attend meetings | E14: More engagament with schools/colleges | F14: Youth vaping needs assessment, engagement with parents
A15: North Northamptonshire Council | B15: " https://www.northnorthants.gov.uk/stop-smoking-drug-and-alcohol-support/stop-smoking/e-cigarettes " " https://www.northnorthants.gov.uk/stop-smoking-drug-and-alcohol-support/stop-smoking/stopping-vaping " " https://northnorthants.moderngov.co.uk/documents/s27658/Agenda%20Item%2004%20-%20Appendix%20B%20Smoking%20and%20Vaping.pdf " | C15: For the website we utilised the NCSCT guidance around advice to stop vaping, for the school guidance we have used a document produced by Public Health Wales. | D15: For the school policy guidance we were expecting far more interest when we went out to consult with schools. It took 3 months and multiple chaser emails - eventually two schools came back. | F15: No | G15: We did float the idea to a few schools around potentially commissioning INTENT - however the response was underwhelming. We held a webinar and around 8 schools turned up. We are looking forward to exploring this area more though now that SFG priorities have been achieved, there has simply not been the capacity to do additional things relating to vaping - especially when there is no real evidence based around vaping cessation yet.
A16: Bury Council | B16: Schools vaping presentation.pptx, Q1 EB CYP Schools vape report GS (005).docx,
A17: Worcestershire County Council | B17: This is a test copy of the pre and post intervention survey that was undertaken at an FE College " https://forms.office.com/e/L5b9XwAf5B ", College webpage, part of the intervention: " https://www.wsfc.ac.uk/vaping-information-for-parents-and-carers/" , Social Norms Vaping Project school agreement FINAL.docx, JN2425.279 Social Norms Vaping Campaign - Hands A3.pdf, JN2425.279 Social Norms Vaping Campaign - Pull-up Banner.pdf, WSFC Vaping prevention FE tutorial.pdf | C17: Social norms research and approach generally eg " https://pubmed.ncbi.nlm.nih.gov/12022722/ " | D17: School responsiveness to ensure that at least 50% of pupils completed the surveys. | E17: We amended the programme after the pilot school to ensure more commitment from schools so that they programme had a specific lifespan and didn't drag on. See one of the documents uploaded. We added information about health impacts of vaping to the posters as this was something young people told us that they wanted to know about. Looking forward we thing promoting the importance of not offering a vape to another person and not accepting one is an important angle to follow. | F17: We would like to offer this intervention to a small number of schools each year if we get take up. I feel it is important to have more information for young people about how to quit vaping as we hear this anecdotally. This is important if we are running these types of campaigns in schools/colleges. | G17: I haven't uploaded the results of the interventions and outcomes. I'd be happy to discuss and share these alongside the limitations and considerations. [email address removed] but has only been delivered in 1 secondary school as a pilot and currently running in an FE college. There is not the capacity to deliver to all schools and there has been little interest by schools, to be involved.
A18: Nottinghamshire County Council | B18: " https://padlet.com/kaymassingham/notts-vape-free-schools-resource-pack-v20lldho8fvd4u3r " (Non-searchable link, shared with schools and other professional audiences in Nottinghamshire). CYP Vaping Webinar Notts health promo 9.6.2025.pdf | C18: We are using Intent which is an evidence based programme. | D18: Lack of engagement by schools | E18: Try to get schools to participate | F18: We are proposing to decommission the INTENT programme next year and replace it with something coproduced with schools and young people
A19: Devon County Council | B19: "https://www.devonschoolswellbeing.org.uk/smoking-vaping/" , TEMPLA~1.DOC,Vaping Infographic (A5) (2).pdf, | C19: Discussions held with schools about what kinds of support they want. Knowledge gained from the first iteration of Operation Vapour where the Police tested confiscated vapes that schools provided. This helped shape our thinking. | D19: One of the key challenges in implementing the youth vaping prevention initiative has been navigating the integration within the existing Local Specialist Stop Smoking Service (LSSS). While there is strong recognition of the importance of addressing youth vaping, there are understandable concerns about how embedding this initiative might impact the core business of the LSSS. Specifically, there is apprehension around the potential strain on resources and capacity, particularly in terms of meeting increased demand without compromising the quality and accessibility of existing services. Balancing the need for targeted youth prevention work with the ongoing delivery of adult cessation support requires careful planning, clear role delineation, and potentially additional resourcing to ensure both priorities can be effectively met. With the information packs that were sent out to schools we realised that they are not fit for SEN provision so we have paused that while we develop a resource pack that is appropriate. The other area that needs more thought is support for colleges as they cater for the transitional ages of 16 plus and many pupils are over the age of 18. The comms would need to be carefully developed with this in mind. | E19: There is still much to learn about the young people who will engage with this service, as well as those who may not currently be accessing it. As our understanding of their needs evolves, the service may need to be iteratively developed to ensure it remains responsive and effective. This could include increasing the availability of behavioural support appointments, exploring the introduction of Nicotine Replacement Therapy (NRT) where appropriate, and considering alternative formats such as group-based support. Flexibility will be key, allowing the service to adapt based on emerging insights and feedback from both young people and practitioners. | F19: No | G19: (Public Health mailed out to schools posters, leaflets and information to support schools in educating pupils and staff. Directed to online resources - assembly presentation. Clear instructions to differing support regarding nicotine and drug vape use.)
A20: West Berkshire Council's Public Health Team | B20: Vaping Presentation Schools 2025 version.pptx, Primary School Vaping Presentation 2024.pptx, Illegal vapes.pdf, Talking to Teens_Vaping_links.pdf | C20: Schools Attitudinal Survey Results Data 2024 -Schools Slide Pack.pptx, | D20: Lack of resourcing. | E20: More resourcing. | F20: Agreement in principle from DPH to implement a quit nicotine service for young people within West Berkshire. Business is currently being drafted.
A21: Barnsley Council | B21: Unable to attached links as on SharePoint. Tried dragging some resources in to the boxes but it won't allow? " https://www.livewellbarnsley.co.uk/directory/bmbc-youth-vaping/ " | C21: We have used all the resources developed and provided from ASH. We have recently commissioned Performance in Education to go in to schools. Our local stop smoking service uses evidence from ASH and other sources. As previously, unable to attach files? | D21: Keeping up to date with new evidence and ensuring this is disseminated. Ensuring messages are consistent. | E21: Consistent messaging i.e. don't vape if under 18, don't vape if not smoked etc. vs the swap to stop scheme in addition to smoke free environments where swap to stop is delivered i.e. hospitals. | F21: We will follow the evidence and consistently send out messages and deliver evidenced-based interventions.
A22: City of London Corporation and Hackney Council | B22: We are currently undergoing a CYP insights and intervention design project. This will inform future work and we are happy to share resources when they are completed in the coming month/s. | C22: ASH youth vaping resources, OHID resource pack for schools on vaping, Sheffield vaping resource on ASH website We conducted our own youth vaping survey in April 2025, the results of which will be used to inform the implementation of educational intervention | D22: Lack of time in PSHE classes, time constraints in working with schools overall Focus of tobacco control funding being on tobacco leaves less flexibility to work on vaping Lack of consensus locally around vaping benefits and harms. As a result, have just agreed a local vaping position statement which is opening doors in terms of discussing vapes and their use in smoking cessation. | E22: Governmental resources and priorities for vaping support for young people Capacity within the stop smoking service | F22: Educational intervention is in last stage of design, to be implemented in coming months | G22: Pleased to see further information being gathered on vaping. More needs to be done in this space. It is challenging to pump out a youth vaping prevention programme while also participating in Swap to Stop - the messages get muddled and make it difficult to implement, particularly where the government doesnt specifically fund youth vaping work. Have provided school-based and community-based educational resources on vaping. However, these are one-off sessions and in schools happen during limited PSHE time. They have not been coordinated, expansive campaigns.
A23: London Borough of Bexley | B23: " https://intent.evidencetoimpact.com/ " | C23: Evidence-based programmes have been commissioned in both areas | D23: Engagement with schools | E23: Having external staff deliver the initiative rather than the teachers | F23: No
A24: Rochdale Borough Council | B24: Template whole school vaping policy.docx, Template letter to parents.docx, Smoke %26 Vape Free HR Policy.pdf, Implementation checklist.docx | D24: No challenges in implementing, it's just they can only become really effective if the easy supply and availability of vaping products is stopped. We will see how the disposable vape ban goes, but it's been the easy availability (alongside some other but lesser factors) driving use. The work we have done/do is necessary but is not sufficient to really prevent youth vaping. | E24: As above - stop the supply of vapes. | F24: Creating 'vape free' sports clubs
A25: Catch22 commisioned service by London Borough of Merton. | B25: Catch22 Youth Voice- Vaping July23.pdf, Catch22 Smoke Free Generation - Free Service Offer in Schools.pdf, Catch22 Smoke Free Generation - Free Service Offer Community (1).pdf, All resources can be found under the following link, this includes parents pack and training PowerPoint. " https://healthydialogues.co.uk/offering/kickthecloud/ " " https://www.youtube.com/watch?v=xWERLbTCEMs " | C25: Final Version Merton Vaping Project Summative Report.pptx | D25: None to date | E25: Development of pre and post exit survey | F25: We are early in to the service and likey this will develop
A26: Herefordshire Council
A27: North Tyneside Council | B27: " https://my.northtyneside.gov.uk/category/597/quitting-smoking "
A28: Solutions 4 Health - Slough Borough Council
A29: London Borough of Camden
A30: Cheshire East Council | B30: " https://www.cheshireeast.gov.uk/livewell/health-matters/keeping-well/stopping-smoking/stopping-smoking.aspx " | F30: Yes; Other initiatives/ interventions are being scoped but not yet delivered. Survey including questions re: vaping to be implemented with schools for completion by pupils and staff in Autumn 2025 | G30: As above, our initiatives are being scoped and in development. Further information will be able to be provided over the next 12-18 months
A31: East Sussex County Council | B31: We can share them via email as too large to upload but we brought and use the ASH X Smokefree Sheffield Youth Vaping resources and use them in our schools., ASH Smoke Free Sheffield Youth Vaping resources that we purchased and used within schools. We also offer youth vaping support within our school health service and have been conducting youth vaping insights to with children and young people to inform our local response to youth vaping. Happy to share our findings when we have completed all of the insights within educational and community settings. | C31: Sheffield City Council resources for schools on youth vaping. These were developed in collaboration with ASH to help make children and young people aware of the facts about vaping. | D31: Some schools or youth settings are more engaged than others and in our areas of high smoking prevalence which link to our areas of highest deprivation some of the schools view other issues they face as more important than vaping. | E31: We are working with the children and young people locally to inform our response to youth vaping locally and I think at a national level we need to see more flexibility with the additional tobacco funding or other funding sources to be used | F31: Yes we are using our youth insights to inform the expansion/developing of vaping prevention initiative in the future.
A32: Staffordshire County Council | B32: " https://staffordshire.everyonehealth.co.uk/services/stop-smoking/vaping-information/ " | C32: Khan Review: making smoking obsolete (2022) Office of Health Improvement and Disparities' information on e-cigarettes and vaping Local Stop Smoking Services: service and delivery guidance 2014 (produced by NCSCT and PHE Action on smoking and heath (ASH) Local Toolkit | D32: The number of young people vaping is continuing to rise and some young people are vaping before they reach high school, we need to continue educating parents about the risks associated with their children vaping. | E32: we need to develop our vaping offer as more young people are taking up vaping. | F32: not at the moment, however we would like to develop our vaping offer in the near future
A33: Stoke-on-Trent Council* | B33: NA | C33: The programme is beginning to be developed and will be informed by evidence, including our behavioural insights research | D33: this is unknown at this point | E33: this is unknown at this point | F33: this will depend on evaluation of our efforts | G33: NA | H33: Yes; We are in the process of commissioning a new service (in place from 1 October 2025 which will support anyone aged 12 and over and provide vaping cessation support as well as stop smoking support. We are completing behavioural insight work which has targeted children and young people, among other groups, and this will be used to inform and develop service promotion and campaign activity aimed at people who smoke and vape. We have created a young people's tobacco and vaping prevention officer role which will work with education settings to support messaging about vaping and help young people to access support
A34: Somerset Council | B34: " https://www.cypsomersethealth.org/?ks=1&page=smoking,_vaping_and_smokefree_settings " | C34: Evidence review and local experience for all. INTENT programme commissioned for training and various sources included in links on website | D34: Teacher training has provided some barriers - schools feedback they would prefer someone to come in and hold workshops but due to limited capacity a train the train model is more effective | E34: Looking at peer mentor models in schools, more focus with youth groups in training, developing new campaign and resoruces with young people and families | G34: Developing as we go based on lack of national evidence available establishing baseline data for local areas is difficult due to lack of national surveys - local school based surveys now include vaping behaviour to help establish trends and demographics at most risk for targeting prevention work
A35: Hartlepool Borough Council | D35: Time | E35: Potentially further insight into youth vaping in schools across Hartlepool so that initiatives can be tailored to the needs of the school | F35: As above
A36: Buckinghamshire Council | B36: " https://www.healthandwellbeingbucks.org/s4s/WhereILive/Council?pageId=5915#section1 " | C36: In March 2024, Buckinghamshire Public Health hosted a vape workshop at the Bucks Youth Voice Summit. Young people shared that they generally viewed vaping negatively and were aware of its harms. While many felt confident refusing vapes, this varied depending on social and personal factors. They also called for more open conversations and prevention efforts. Local schools are seeking guidance to support students who vape, with reports of vaping-related disruptions, bullying, and theft. In response, the Buckinghamshire Tobacco Control Alliance published a county-wide Vaping Position Statement. Based on insights from the Vape Space and TCA, a school-based intervention for Years 7 and 8 was created | D36: Some schools declined due to building limitations or scheduling conflicts. | E36: Expand reach to more schools and integrate with broader public health themes. Consider digital delivery options for schools unable to host in-person sessions. | F36: we are planning to recommission the dramatic initative; however, the evaluation is not yet complete. A formal proposal will be developed following the completion of the evaluation. In the meantime, we are exploring opportunities for cross-working within the Public Health team to potentially expand the scope of the service, aligning with other areas currently supported by the provider
