Workbook

Sheet rawdata
A1: Score out of 6, awarded by peer | C1: Reviewee | AN1: Group scores | AP1: Generosity | AR1: Modified score out of 6 | AT1: Reviewee
C2: A | D2: B | E2: C | F2: D | G2: E | H2: F | I2: G | J2: H | K2: I | L2: J | M2: K | N2: L | O2: M | P2: N | Q2: O | R2: P | S2: Q | T2: R | U2: S | V2: T | W2: U | X2: V | Y2: W | Z2: X | AA2: Y | AB2: Z | AC2: Γ | AD2: Δ | AE2: Θ | AF2: Λ | AG2: Ξ | AH2: Π | AI2: Σ | AJ2: Φ | AK2: Ψ | AL2: Ω | AT2: A | AU2: B | AV2: C | AW2: D | AX2: E | AY2: F | AZ2: G | BA2: H | BB2: I | BC2: J | BD2: K | BE2: L | BF2: M | BG2: N | BH2: O | BI2: P | BJ2: Q | BK2: R | BL2: S | BM2: T | BN2: U | BO2: V | BP2: W | BQ2: X | BR2: Y | BS2: Z | BT2: Γ | BU2: Δ | BV2: Θ | BW2: Λ | BX2: Ξ | BY2: Π | BZ2: Σ | CA2: Φ | CB2: Ψ | CC2: Ω
A3: Reviewer | B3: A | D3: 3 | E3: 3 | F3: 4 | G3: 3 | H3: 2 | I3: 2 | J3: 2 | K3: 4 | L3: 2 | M3: 4 | N3: 4 | O3: 4 | P3: 5 | Q3: 4 | R3: 4 | S3: 5 | T3: 2 | U3: 5 | V3: 5 | W3: 5 | X3: 4 | Y3: 4 | Z3: 5 | AA3: 6 | AB3: 5 | AC3: 6 | AD3: 4 | AE3: 5 | AF3: 5 | AG3: 6 | AH3: 5 | AI3: 6 | AJ3: 6 | AK3: 6 | AL3: 6 | AN3: Presentation | AO3: 75 | AP3: =AVERAGE(C3:AL3) -> 4.3142857 | AR3: Reviewer | AS3: A | AU3: =D3/$AP3 -> 0.69536424 | AV3: =E3/$AP3 -> 0.69536424 | AW3: =F3/$AP3 -> 0.92715232 | AX3: =G3/$AP3 -> 0.69536424 | AY3: =H3/$AP3 -> 0.46357616 | AZ3: =I3/$AP3 -> 0.46357616 | BA3: =J3/$AP3 -> 0.46357616 | BB3: =K3/$AP3 -> 0.92715232 | ... CC3: =AL3/$AP3 -> 1.3907285
B4: B | C4: 3 | E4: 3 | F4: 2 | G4: 3 | H4: 5 | I4: 4 | J4: 3 | K4: 4 | L4: 5 | M4: 4 | N4: 1 | O4: 4 | P4: 5 | Q4: 5 | R4: 4 | S4: 5 | T4: 4 | U4: 5 | V4: 4 | W4: 5 | X4: 4 | Y4: 5 | Z4: 6 | AA4: 6 | AB4: 5 | AC4: 5 | AD4: 6 | AE4: 5 | AF4: 5 | AG4: 5 | AH4: 6 | AI4: 5 | AJ4: 6 | AK4: 6 | AL4: 6 | AN4: Report | AO4: 72 | AP4: =AVERAGE(C4:AL4) -> 4.5428571 | AS4: B | AT4: =C4/$AP4 -> 0.66037736 | AV4: =E4/$AP4 -> 0.66037736 | AW4: =F4/$AP4 -> 0.44025157 | AX4: =G4/$AP4 -> 0.66037736 | AY4: =H4/$AP4 -> 1.1006289 | AZ4: =I4/$AP4 -> 0.88050314 | BA4: =J4/$AP4 -> 0.66037736 | BB4: =K4/$AP4 -> 0.88050314 | BC4: =L4/$AP4 -> 1.1006289 | ... CC4: =AL4/$AP4 -> 1.3207547
B5: C | C5: 3 | D5: 3 | F5: 5 | G5: 4 | H5: 4 | I5: 5 | J5: 5 | K5: 5 | L5: 3 | M5: 4 | N5: 4 | O5: 4 | P5: 3 | Q5: 5 | R5: 5 | S5: 4 | T5: 5 | U5: 5 | V5: 5 | W5: 5 | X5: 5 | Y5: 6 | Z5: 6 | AA5: 5 | AB5: 6 | AC5: 4 | AD5: 2 | AE5: 5 | AF5: 5 | AG5: 5 | AH5: 5 | AI5: 5 | AJ5: 5 | AK5: 6 | AL5: 6 | AN5: Average | AO5: =AVERAGE(AO3:AO4) -> 73.5 | AP5: =AVERAGE(C5:AL5) -> 4.6285714 | AS5: C | AT5: =C5/$AP5 -> 0.64814815 | AU5: =D5/$AP5 -> 0.64814815 | AW5: =F5/$AP5 -> 1.0802469 | AX5: =G5/$AP5 -> 0.86419753 | AY5: =H5/$AP5 -> 0.86419753 | AZ5: =I5/$AP5 -> 1.0802469 | BA5: =J5/$AP5 -> 1.0802469 | BB5: =K5/$AP5 -> 1.0802469 | BC5: =L5/$AP5 -> 0.64814815 | BD5: =M5/$AP5 -> 0.86419753 | ... CC5: =AL5/$AP5 -> 1.2962963
B6: D | C6: 3 | D6: 3 | E6: 3 | G6: 5 | H6: 4 | I6: 5 | J6: 3 | K6: 3 | L6: 4 | M6: 4 | N6: 6 | O6: 4 | P6: 4 | Q6: 5 | R6: 5 | S6: 5 | T6: 4 | U6: 6 | V6: 5 | W6: 6 | X6: 5 | Y6: 6 | Z6: 1 | AA6: 5 | AB6: 6 | AC6: 6 | AD6: 3 | AE6: 5 | AF6: 5 | AG6: 5 | AH6: 5 | AI6: 5 | AJ6: 6 | AK6: 6 | AL6: 6 | AP6: =AVERAGE(C6:AL6) -> 4.6285714 | AS6: D | AT6: =C6/$AP6 -> 0.64814815 | AU6: =D6/$AP6 -> 0.64814815 | AV6: =E6/$AP6 -> 0.64814815 | AX6: =G6/$AP6 -> 1.0802469 | AY6: =H6/$AP6 -> 0.86419753 | AZ6: =I6/$AP6 -> 1.0802469 | BA6: =J6/$AP6 -> 0.64814815 | BB6: =K6/$AP6 -> 0.64814815 | BC6: =L6/$AP6 -> 0.86419753 | BD6: =M6/$AP6 -> 0.86419753 | BE6: =N6/$AP6 -> 1.2962963 | ... CC6: =AL6/$AP6 -> 1.2962963
B7: E | C7: 2 | D7: 3 | E7: 4 | F7: 5 | H7: 5 | I7: 6 | J7: 5 | K7: 3 | L7: 4 | M7: 4 | N7: 6 | O7: 4 | P7: 5 | Q7: 4 | R7: 5 | S7: 5 | T7: 5 | U7: 4 | V7: 5 | W7: 4 | X7: 6 | Y7: 5 | Z7: 6 | AA7: 6 | AB7: 6 | AC7: 6 | AD7: 6 | AE7: 5 | AF7: 6 | AG7: 6 | AH7: 5 | AI7: 6 | AJ7: 5 | AK7: 6 | AL7: 6 | AP7: =AVERAGE(C7:AL7) -> 4.9714286 | AS7: E | AT7: =C7/$AP7 -> 0.40229885 | AU7: =D7/$AP7 -> 0.60344828 | AV7: =E7/$AP7 -> 0.8045977 | AW7: =F7/$AP7 -> 1.0057471 | AY7: =H7/$AP7 -> 1.0057471 | AZ7: =I7/$AP7 -> 1.2068966 | BA7: =J7/$AP7 -> 1.0057471 | BB7: =K7/$AP7 -> 0.60344828 | BC7: =L7/$AP7 -> 0.8045977 | BD7: =M7/$AP7 -> 0.8045977 | BE7: =N7/$AP7 -> 1.2068966 | BF7: =O7/$AP7 -> 0.8045977 | ... CC7: =AL7/$AP7 -> 1.2068966
B8: F | C8: 3 | D8: 3 | E8: 2 | F8: 3 | G8: 3 | I8: 3 | J8: 3 | K8: 4 | L8: 3 | M8: 4 | N8: 1 | O8: 4 | P8: 4 | Q8: 4 | R8: 4 | S8: 4 | T8: 4 | U8: 4 | V8: 4 | W8: 4 | X8: 4 | Y8: 5 | Z8: 6 | AA8: 6 | AB8: 4 | AC8: 6 | AD8: 6 | AE8: 5 | AF8: 5 | AG8: 5 | AH8: 5 | AI8: 5 | AJ8: 6 | AK8: 6 | AL8: 6 | AP8: =AVERAGE(C8:AL8) -> 4.2285714 | AS8: F | AT8: =C8/$AP8 -> 0.70945946 | AU8: =D8/$AP8 -> 0.70945946 | AV8: =E8/$AP8 -> 0.47297297 | AW8: =F8/$AP8 -> 0.70945946 | AX8: =G8/$AP8 -> 0.70945946 | AZ8: =I8/$AP8 -> 0.70945946 | BA8: =J8/$AP8 -> 0.70945946 | BB8: =K8/$AP8 -> 0.94594595 | BC8: =L8/$AP8 -> 0.70945946 | BD8: =M8/$AP8 -> 0.94594595 | BE8: =N8/$AP8 -> 0.23648649 | BF8: =O8/$AP8 -> 0.94594595 | BG8: =P8/$AP8 -> 0.94594595 | ... CC8: =AL8/$AP8 -> 1.4189189
B9: G | C9: 3 | D9: 3 | E9: 4 | F9: 3 | G9: 4 | H9: 4 | J9: 5 | K9: 4 | L9: 4 | M9: 4 | N9: 4 | O9: 4 | P9: 4 | Q9: 5 | R9: 4 | S9: 4 | T9: 5 | U9: 4 | V9: 5 | W9: 4 | X9: 4 | Y9: 6 | Z9: 6 | AA9: 4 | AB9: 6 | AC9: 4 | AD9: 6 | AE9: 5 | AF9: 5 | AG9: 5 | AH9: 5 | AI9: 5 | AJ9: 6 | AK9: 6 | AL9: 6 | AP9: =AVERAGE(C9:AL9) -> 4.5714286 | AS9: G | AT9: =C9/$AP9 -> 0.65625 | AU9: =D9/$AP9 -> 0.65625 | AV9: =E9/$AP9 -> 0.875 | AW9: =F9/$AP9 -> 0.65625 | AX9: =G9/$AP9 -> 0.875 | AY9: =H9/$AP9 -> 0.875 | BA9: =J9/$AP9 -> 1.09375 | BB9: =K9/$AP9 -> 0.875 | BC9: =L9/$AP9 -> 0.875 | BD9: =M9/$AP9 -> 0.875 | BE9: =N9/$AP9 -> 0.875 | BF9: =O9/$AP9 -> 0.875 | BG9: =P9/$AP9 -> 0.875 | BH9: =Q9/$AP9 -> 1.09375 | ... CC9: =AL9/$AP9 -> 1.3125
B10: H | C10: 4 | D10: 3 | E10: 4 | F10: 1 | G10: 2 | H10: 1 | I10: 2 | K10: 4 | L10: 4 | M10: 4 | N10: 3 | O10: 4 | P10: 3 | Q10: 4 | R10: 4 | S10: 5 | T10: 5 | U10: 4 | V10: 5 | W10: 4 | X10: 5 | Y10: 4 | Z10: 6 | AA10: 6 | AB10: 5 | AC10: 5 | AD10: 4 | AE10: 5 | AF10: 5 | AG10: 5 | AH10: 5 | AI10: 5 | AJ10: 5 | AK10: 6 | AL10: 6 | AP10: =AVERAGE(C10:AL10) -> 4.2 | AS10: H | AT10: =C10/$AP10 -> 0.95238095 | AU10: =D10/$AP10 -> 0.71428571 | AV10: =E10/$AP10 -> 0.95238095 | AW10: =F10/$AP10 -> 0.23809524 | AX10: =G10/$AP10 -> 0.47619048 | AY10: =H10/$AP10 -> 0.23809524 | AZ10: =I10/$AP10 -> 0.47619048 | BB10: =K10/$AP10 -> 0.95238095 | BC10: =L10/$AP10 -> 0.95238095 | BD10: =M10/$AP10 -> 0.95238095 | BE10: =N10/$AP10 -> 0.71428571 | BF10: =O10/$AP10 -> 0.95238095 | BG10: =P10/$AP10 -> 0.71428571 | BH10: =Q10/$AP10 -> 0.95238095 | BI10: =R10/$AP10 -> 0.95238095 | ... CC10: =AL10/$AP10 -> 1.4285714
B11: I | C11: 3 | D11: 3 | E11: 4 | F11: 5 | G11: 5 | H11: 5 | I11: 5 | J11: 4 | L11: 4 | M11: 4 | N11: 5 | O11: 4 | P11: 5 | Q11: 5 | R11: 5 | S11: 5 | T11: 5 | U11: 5 | V11: 5 | W11: 5 | X11: 6 | Y11: 6 | Z11: 6 | AA11: 6 | AB11: 6 | AC11: 6 | AD11: 6 | AE11: 5 | AF11: 6 | AG11: 6 | AH11: 6 | AI11: 5 | AJ11: 6 | AK11: 6 | AL11: 6 | AP11: =AVERAGE(C11:AL11) -> 5.1142857 | AS11: I | AT11: =C11/$AP11 -> 0.58659218 | AU11: =D11/$AP11 -> 0.58659218 | AV11: =E11/$AP11 -> 0.78212291 | AW11: =F11/$AP11 -> 0.97765363 | AX11: =G11/$AP11 -> 0.97765363 | AY11: =H11/$AP11 -> 0.97765363 | AZ11: =I11/$AP11 -> 0.97765363 | BA11: =J11/$AP11 -> 0.78212291 | BC11: =L11/$AP11 -> 0.78212291 | BD11: =M11/$AP11 -> 0.78212291 | BE11: =N11/$AP11 -> 0.97765363 | BF11: =O11/$AP11 -> 0.78212291 | BG11: =P11/$AP11 -> 0.97765363 | BH11: =Q11/$AP11 -> 0.97765363 | BI11: =R11/$AP11 -> 0.97765363 | BJ11: =S11/$AP11 -> 0.97765363 | ... CC11: =AL11/$AP11 -> 1.1731844
B12: J | C12: 1 | D12: 3 | E12: 3 | F12: 1 | G12: 3 | H12: 4 | I12: 4 | J12: 3 | K12: 3 | M12: 4 | N12: 4 | O12: 4 | P12: 3 | Q12: 4 | R12: 4 | S12: 4 | T12: 4 | U12: 5 | V12: 4 | W12: 4 | X12: 4 | Y12: 5 | Z12: 6 | AA12: 6 | AB12: 5 | AC12: 5 | AD12: 4 | AE12: 4 | AF12: 5 | AG12: 4 | AH12: 5 | AI12: 4 | AJ12: 5 | AK12: 6 | AL12: 4 | AP12: =AVERAGE(C12:AL12) -> 4.0285714 | AS12: J | AT12: =C12/$AP12 -> 0.24822695 | AU12: =D12/$AP12 -> 0.74468085 | AV12: =E12/$AP12 -> 0.74468085 | AW12: =F12/$AP12 -> 0.24822695 | AX12: =G12/$AP12 -> 0.74468085 | AY12: =H12/$AP12 -> 0.9929078 | AZ12: =I12/$AP12 -> 0.9929078 | BA12: =J12/$AP12 -> 0.74468085 | BB12: =K12/$AP12 -> 0.74468085 | BD12: =M12/$AP12 -> 0.9929078 | BE12: =N12/$AP12 -> 0.9929078 | BF12: =O12/$AP12 -> 0.9929078 | BG12: =P12/$AP12 -> 0.74468085 | BH12: =Q12/$AP12 -> 0.9929078 | BI12: =R12/$AP12 -> 0.9929078 | BJ12: =S12/$AP12 -> 0.9929078 | BK12: =T12/$AP12 -> 0.9929078 | ... CC12: =AL12/$AP12 -> 0.9929078
B13: K | C13: 2 | D13: 3 | E13: 2 | F13: 1 | G13: 1 | H13: 3 | I13: 1 | J13: 2 | K13: 1 | L13: 4 | N13: 4 | O13: 4 | P13: 2 | Q13: 2 | R13: 1 | S13: 1 | T13: 3 | U13: 3 | V13: 3 | W13: 3 | X13: 4 | Y13: 1 | Z13: 6 | AA13: 1 | AB13: 3 | AC13: 1 | AD13: 1 | AE13: 4 | AF13: 5 | AG13: 4 | AH13: 5 | AI13: 4 | AJ13: 5 | AK13: 4 | AL13: 3 | AP13: =AVERAGE(C13:AL13) -> 2.7714286 | AS13: K | AT13: =C13/$AP13 -> 0.72164948 | AU13: =D13/$AP13 -> 1.0824742 | AV13: =E13/$AP13 -> 0.72164948 | AW13: =F13/$AP13 -> 0.36082474 | AX13: =G13/$AP13 -> 0.36082474 | AY13: =H13/$AP13 -> 1.0824742 | AZ13: =I13/$AP13 -> 0.36082474 | BA13: =J13/$AP13 -> 0.72164948 | ... BC13: =L13/$AP13 -> 1.443299 | BE13: =N13/$AP13 -> 1.443299 | BF13: =O13/$AP13 -> 1.443299 | BG13: =P13/$AP13 -> 0.72164948 | BH13: =Q13/$AP13 -> 0.72164948 | BI13: =R13/$AP13 -> 0.36082474 | BJ13: =S13/$AP13 -> 0.36082474 | BK13: =T13/$AP13 -> 1.0824742 | BL13: =U13/$AP13 -> 1.0824742 | ... CC13: =AL13/$AP13 -> 1.0824742
B14: L | C14: 3 | D14: 3 | E14: 3 | F14: 3 | G14: 4 | H14: 5 | I14: 4 | J14: 3 | K14: 4 | L14: 6 | M14: 4 | O14: 4 | P14: 4 | Q14: 5 | R14: 4 | S14: 5 | T14: 4 | U14: 5 | V14: 4 | W14: 5 | X14: 4 | Y14: 5 | Z14: 1 | AA14: 3 | AB14: 5 | AC14: 5 | AD14: 6 | AE14: 5 | AF14: 5 | AG14: 5 | AH14: 5 | AI14: 5 | AJ14: 6 | AK14: 6 | AL14: 6 | AP14: =AVERAGE(C14:AL14) -> 4.4 | AS14: L | AT14: =C14/$AP14 -> 0.68181818 | AU14: =D14/$AP14 -> 0.68181818 | AV14: =E14/$AP14 -> 0.68181818 | AW14: =F14/$AP14 -> 0.68181818 | AX14: =G14/$AP14 -> 0.90909091 | AY14: =H14/$AP14 -> 1.1363636 | AZ14: =I14/$AP14 -> 0.90909091 | BA14: =J14/$AP14 -> 0.68181818 | ... BD14: =M14/$AP14 -> 0.90909091 | BF14: =O14/$AP14 -> 0.90909091 | BG14: =P14/$AP14 -> 0.90909091 | BH14: =Q14/$AP14 -> 1.1363636 | BI14: =R14/$AP14 -> 0.90909091 | BJ14: =S14/$AP14 -> 1.1363636 | BK14: =T14/$AP14 -> 0.90909091 | BL14: =U14/$AP14 -> 1.1363636 | BM14: =V14/$AP14 -> 0.90909091 | ... CC14: =AL14/$AP14 -> 1.3636364
B15: M | C15: 2 | D15: 3 | E15: 2 | F15: 3 | G15: 3 | H15: 3 | I15: 4 | J15: 4 | K15: 3 | L15: 4 | M15: 4 | N15: 5 | P15: 3 | Q15: 3 | R15: 3 | S15: 3 | T15: 2 | U15: 4 | V15: 4 | W15: 4 | X15: 4 | Y15: 5 | Z15: 4 | AA15: 5 | AB15: 4 | AC15: 5 | AD15: 6 | AE15: 5 | AF15: 4 | AG15: 5 | AH15: 5 | AI15: 5 | AJ15: 6 | AK15: 4 | AL15: 5 | AP15: =AVERAGE(C15:AL15) -> 3.9428571 | AS15: M | AT15: =C15/$AP15 -> 0.50724638 | AU15: =D15/$AP15 -> 0.76086957 | AV15: =E15/$AP15 -> 0.50724638 | AW15: =F15/$AP15 -> 0.76086957 | AX15: =G15/$AP15 -> 0.76086957 | AY15: =H15/$AP15 -> 0.76086957 | AZ15: =I15/$AP15 -> 1.0144928 | BA15: =J15/$AP15 -> 1.0144928 | ... BE15: =N15/$AP15 -> 1.2681159 | BG15: =P15/$AP15 -> 0.76086957 | BH15: =Q15/$AP15 -> 0.76086957 | BI15: =R15/$AP15 -> 0.76086957 | BJ15: =S15/$AP15 -> 0.76086957 | BK15: =T15/$AP15 -> 0.50724638 | BL15: =U15/$AP15 -> 1.0144928 | BM15: =V15/$AP15 -> 1.0144928 | BN15: =W15/$AP15 -> 1.0144928 | ... CC15: =AL15/$AP15 -> 1.2681159
B16: N | C16: 3 | D16: 3 | E16: 2 | F16: 4 | G16: 4 | H16: 4 | I16: 4 | J16: 2 | K16: 4 | L16: 4 | M16: 4 | N16: 3 | O16: 4 | Q16: 4 | R16: 4 | S16: 5 | T16: 4 | U16: 5 | V16: 4 | W16: 4 | X16: 4 | Y16: 5 | Z16: 6 | AA16: 5 | AB16: 5 | AC16: 5 | AD16: 6 | AE16: 5 | AF16: 6 | AG16: 6 | AH16: 5 | AI16: 6 | AJ16: 6 | AK16: 5 | AL16: 6 | AP16: =AVERAGE(C16:AL16) -> 4.4571429 | AS16: N | AT16: =C16/$AP16 -> 0.67307692 | AU16: =D16/$AP16 -> 0.67307692 | AV16: =E16/$AP16 -> 0.44871795 | AW16: =F16/$AP16 -> 0.8974359 | AX16: =G16/$AP16 -> 0.8974359 | AY16: =H16/$AP16 -> 0.8974359 | AZ16: =I16/$AP16 -> 0.8974359 | BA16: =J16/$AP16 -> 0.44871795 | ... BF16: =O16/$AP16 -> 0.8974359 | BH16: =Q16/$AP16 -> 0.8974359 | BI16: =R16/$AP16 -> 0.8974359 | BJ16: =S16/$AP16 -> 1.1217949 | BK16: =T16/$AP16 -> 0.8974359 | BL16: =U16/$AP16 -> 1.1217949 | BM16: =V16/$AP16 -> 0.8974359 | BN16: =W16/$AP16 -> 0.8974359 | BO16: =X16/$AP16 -> 0.8974359 | ... CC16: =AL16/$AP16 -> 1.3461538
B17: O | C17: 5 | D17: 3 | E17: 5 | F17: 5 | G17: 6 | H17: 6 | I17: 6 | J17: 4 | K17: 6 | L17: 4 | M17: 4 | N17: 6 | O17: 4 | P17: 6 | R17: 6 | S17: 5 | T17: 6 | U17: 6 | V17: 6 | W17: 6 | X17: 6 | Y17: 6 | Z17: 6 | AA17: 3 | AB17: 6 | AC17: 6 | AD17: 6 | AE17: 6 | AF17: 6 | AG17: 6 | AH17: 6 | AI17: 6 | AJ17: 6 | AK17: 6 | AL17: 6 | AP17: =AVERAGE(C17:AL17) -> 5.4857143 | AS17: O | AT17: =C17/$AP17 -> 0.91145833 | AU17: =D17/$AP17 -> 0.546875 | AV17: =E17/$AP17 -> 0.91145833 | AW17: =F17/$AP17 -> 0.91145833 | AX17: =G17/$AP17 -> 1.09375 | AY17: =H17/$AP17 -> 1.09375 | AZ17: =I17/$AP17 -> 1.09375 | BA17: =J17/$AP17 -> 0.72916667 | ... BG17: =P17/$AP17 -> 1.09375 | BI17: =R17/$AP17 -> 1.09375 | BJ17: =S17/$AP17 -> 0.91145833 | BK17: =T17/$AP17 -> 1.09375 | BL17: =U17/$AP17 -> 1.09375 | BM17: =V17/$AP17 -> 1.09375 | BN17: =W17/$AP17 -> 1.09375 | BO17: =X17/$AP17 -> 1.09375 | BP17: =Y17/$AP17 -> 1.09375 | ... CC17: =AL17/$AP17 -> 1.09375
B18: P | C18: 1 | D18: 3 | E18: 2 | F18: 5 | G18: 4 | H18: 3 | I18: 2 | J18: 3 | K18: 3 | L18: 4 | M18: 4 | N18: 5 | O18: 4 | P18: 4 | Q18: 3 | S18: 2 | T18: 4 | U18: 3 | V18: 3 | W18: 5 | X18: 4 | Y18: 5 | Z18: 5 | AA18: 5 | AB18: 5 | AC18: 5 | AD18: 3 | AE18: 5 | AF18: 6 | AG18: 6 | AH18: 5 | AI18: 6 | AJ18: 5 | AK18: 5 | AL18: 6 | AP18: =AVERAGE(C18:AL18) -> 4.0857143 | AS18: P | AT18: =C18/$AP18 -> 0.24475524 | AU18: =D18/$AP18 -> 0.73426573 | AV18: =E18/$AP18 -> 0.48951049 | AW18: =F18/$AP18 -> 1.2237762 | AX18: =G18/$AP18 -> 0.97902098 | AY18: =H18/$AP18 -> 0.73426573 | AZ18: =I18/$AP18 -> 0.48951049 | BA18: =J18/$AP18 -> 0.73426573 | ... BH18: =Q18/$AP18 -> 0.73426573 | BJ18: =S18/$AP18 -> 0.48951049 | BK18: =T18/$AP18 -> 0.97902098 | BL18: =U18/$AP18 -> 0.73426573 | BM18: =V18/$AP18 -> 0.73426573 | BN18: =W18/$AP18 -> 1.2237762 | BO18: =X18/$AP18 -> 0.97902098 | BP18: =Y18/$AP18 -> 1.2237762 | BQ18: =Z18/$AP18 -> 1.2237762 | ... CC18: =AL18/$AP18 -> 1.4685315
B19: Q | C19: 2 | D19: 3 | E19: 3 | F19: 4 | G19: 4 | H19: 4 | I19: 2 | J19: 5 | K19: 4 | L19: 4 | M19: 4 | N19: 5 | O19: 4 | P19: 4 | Q19: 5 | R19: 5 | T19: 5 | U19: 4 | V19: 5 | W19: 5 | X19: 5 | Y19: 5 | Z19: 6 | AA19: 6 | AB19: 4 | AC19: 5 | AD19: 6 | AE19: 5 | AF19: 5 | AG19: 4 | AH19: 5 | AI19: 6 | AJ19: 6 | AK19: 6 | AL19: 6 | AP19: =AVERAGE(C19:AL19) -> 4.6 | AS19: Q | AT19: =C19/$AP19 -> 0.43478261 | AU19: =D19/$AP19 -> 0.65217391 | AV19: =E19/$AP19 -> 0.65217391 | AW19: =F19/$AP19 -> 0.86956522 | AX19: =G19/$AP19 -> 0.86956522 | AY19: =H19/$AP19 -> 0.86956522 | AZ19: =I19/$AP19 -> 0.43478261 | BA19: =J19/$AP19 -> 1.0869565 | ... BI19: =R19/$AP19 -> 1.0869565 | BK19: =T19/$AP19 -> 1.0869565 | BL19: =U19/$AP19 -> 0.86956522 | BM19: =V19/$AP19 -> 1.0869565 | BN19: =W19/$AP19 -> 1.0869565 | BO19: =X19/$AP19 -> 1.0869565 | BP19: =Y19/$AP19 -> 1.0869565 | BQ19: =Z19/$AP19 -> 1.3043478 | BR19: =AA19/$AP19 -> 1.3043478 | ... CC19: =AL19/$AP19 -> 1.3043478
B20: R | C20: 3 | D20: 3 | E20: 4 | F20: 4 | G20: 4 | H20: 2 | I20: 3 | J20: 3 | K20: 2 | L20: 2 | M20: 4 | N20: 3 | O20: 4 | P20: 3 | Q20: 3 | R20: 4 | S20: 4 | U20: 4 | V20: 4 | W20: 4 | X20: 5 | Y20: 5 | Z20: 5 | AA20: 4 | AB20: 4 | AC20: 5 | AD20: 2 | AE20: 5 | AF20: 5 | AG20: 5 | AH20: 5 | AI20: 5 | AJ20: 5 | AK20: 5 | AL20: 6 | AP20: =AVERAGE(C20:AL20) -> 3.9428571 | AS20: R | AT20: =C20/$AP20 -> 0.76086957 | AU20: =D20/$AP20 -> 0.76086957 | AV20: =E20/$AP20 -> 1.0144928 | AW20: =F20/$AP20 -> 1.0144928 | AX20: =G20/$AP20 -> 1.0144928 | AY20: =H20/$AP20 -> 0.50724638 | AZ20: =I20/$AP20 -> 0.76086957 | BA20: =J20/$AP20 -> 0.76086957 | ... BJ20: =S20/$AP20 -> 1.0144928 | BL20: =U20/$AP20 -> 1.0144928 | BM20: =V20/$AP20 -> 1.0144928 | BN20: =W20/$AP20 -> 1.0144928 | BO20: =X20/$AP20 -> 1.2681159 | BP20: =Y20/$AP20 -> 1.2681159 | BQ20: =Z20/$AP20 -> 1.2681159 | BR20: =AA20/$AP20 -> 1.0144928 | BS20: =AB20/$AP20 -> 1.0144928 | ... CC20: =AL20/$AP20 -> 1.5217391
B21: S | C21: 3 | D21: 3 | E21: 2 | F21: 3 | G21: 3 | H21: 4 | I21: 3 | J21: 3 | K21: 4 | L21: 4 | M21: 4 | N21: 4 | O21: 4 | P21: 5 | Q21: 4 | R21: 4 | S21: 5 | T21: 5 | V21: 5 | W21: 4 | X21: 4 | Y21: 4 | Z21: 4 | AA21: 3 | AB21: 5 | AC21: 5 | AD21: 6 | AE21: 5 | AF21: 5 | AG21: 6 | AH21: 5 | AI21: 6 | AJ21: 6 | AK21: 6 | AL21: 6 | AP21: =AVERAGE(C21:AL21) -> 4.3428571 | AS21: S | AT21: =C21/$AP21 -> 0.69078947 | AU21: =D21/$AP21 -> 0.69078947 | AV21: =E21/$AP21 -> 0.46052632 | AW21: =F21/$AP21 -> 0.69078947 | AX21: =G21/$AP21 -> 0.69078947 | AY21: =H21/$AP21 -> 0.92105263 | AZ21: =I21/$AP21 -> 0.69078947 | BA21: =J21/$AP21 -> 0.69078947 | ... BK21: =T21/$AP21 -> 1.1513158 | BM21: =V21/$AP21 -> 1.1513158 | BN21: =W21/$AP21 -> 0.92105263 | BO21: =X21/$AP21 -> 0.92105263 | BP21: =Y21/$AP21 -> 0.92105263 | BQ21: =Z21/$AP21 -> 0.92105263 | BR21: =AA21/$AP21 -> 0.69078947 | BS21: =AB21/$AP21 -> 1.1513158 | BT21: =AC21/$AP21 -> 1.1513158 | ... CC21: =AL21/$AP21 -> 1.3815789
B22: T | C22: 1 | D22: 3 | E22: 3 | F22: 3 | G22: 3 | H22: 2 | I22: 3 | J22: 4 | K22: 4 | L22: 4 | M22: 4 | N22: 4 | O22: 4 | P22: 3 | Q22: 4 | R22: 4 | S22: 5 | T22: 5 | U22: 5 | W22: 4 | X22: 5 | Y22: 4 | Z22: 4 | AA22: 4 | AB22: 4 | AC22: 4 | AD22: 6 | AE22: 5 | AF22: 5 | AG22: 5 | AH22: 5 | AI22: 5 | AJ22: 5 | AK22: 6 | AL22: 6 | AP22: =AVERAGE(C22:AL22) -> 4.1428571 | AS22: T | AT22: =C22/$AP22 -> 0.24137931 | AU22: =D22/$AP22 -> 0.72413793 | AV22: =E22/$AP22 -> 0.72413793 | AW22: =F22/$AP22 -> 0.72413793 | AX22: =G22/$AP22 -> 0.72413793 | AY22: =H22/$AP22 -> 0.48275862 | AZ22: =I22/$AP22 -> 0.72413793 | BA22: =J22/$AP22 -> 0.96551724 | ... BL22: =U22/$AP22 -> 1.2068966 | BN22: =W22/$AP22 -> 0.96551724 | BO22: =X22/$AP22 -> 1.2068966 | BP22: =Y22/$AP22 -> 0.96551724 | BQ22: =Z22/$AP22 -> 0.96551724 | BR22: =AA22/$AP22 -> 0.96551724 | BS22: =AB22/$AP22 -> 0.96551724 | BT22: =AC22/$AP22 -> 0.96551724 | BU22: =AD22/$AP22 -> 1.4482759 | ... CC22: =AL22/$AP22 -> 1.4482759
B23: U | C23: 3 | D23: 3 | E23: 2 | F23: 3 | G23: 2 | H23: 2 | I23: 3 | J23: 4 | K23: 3 | L23: 2 | M23: 4 | N23: 4 | O23: 4 | P23: 4 | Q23: 2 | R23: 4 | S23: 4 | T23: 2 | U23: 4 | V23: 4 | X23: 4 | Y23: 4 | Z23: 3 | AA23: 6 | AB23: 5 | AC23: 5 | AD23: 4 | AE23: 5 | AF23: 5 | AG23: 6 | AH23: 5 | AI23: 6 | AJ23: 6 | AK23: 5 | AL23: 6 | AP23: =AVERAGE(C23:AL23) -> 3.9428571 | AS23: U | AT23: =C23/$AP23 -> 0.76086957 | AU23: =D23/$AP23 -> 0.76086957 | AV23: =E23/$AP23 -> 0.50724638 | AW23: =F23/$AP23 -> 0.76086957 | AX23: =G23/$AP23 -> 0.50724638 | AY23: =H23/$AP23 -> 0.50724638 | AZ23: =I23/$AP23 -> 0.76086957 | BA23: =J23/$AP23 -> 1.0144928 | ... BM23: =V23/$AP23 -> 1.0144928 | BO23: =X23/$AP23 -> 1.0144928 | BP23: =Y23/$AP23 -> 1.0144928 | BQ23: =Z23/$AP23 -> 0.76086957 | BR23: =AA23/$AP23 -> 1.5217391 | BS23: =AB23/$AP23 -> 1.2681159 | BT23: =AC23/$AP23 -> 1.2681159 | BU23: =AD23/$AP23 -> 1.0144928 | BV23: =AE23/$AP23 -> 1.2681159 | ... CC23: =AL23/$AP23 -> 1.5217391
B24: V | C24: 3 | D24: 3 | E24: 3 | F24: 3 | G24: 2 | H24: 1 | I24: 1 | J24: 4 | K24: 4 | L24: 4 | M24: 4 | N24: 4 | O24: 4 | P24: 3 | Q24: 3 | R24: 3 | S24: 2 | T24: 3 | U24: 3 | V24: 4 | W24: 4 | Y24: 3 | Z24: 3 | AA24: 6 | AB24: 4 | AC24: 4 | AD24: 4 | AE24: 5 | AF24: 5 | AG24: 5 | AH24: 5 | AI24: 5 | AJ24: 5 | AK24: 6 | AL24: 6 | AP24: =AVERAGE(C24:AL24) -> 3.7428571 | AS24: V | AT24: =C24/$AP24 -> 0.80152672 | AU24: =D24/$AP24 -> 0.80152672 | AV24: =E24/$AP24 -> 0.80152672 | AW24: =F24/$AP24 -> 0.80152672 | AX24: =G24/$AP24 -> 0.53435115 | AY24: =H24/$AP24 -> 0.26717557 | AZ24: =I24/$AP24 -> 0.26717557 | BA24: =J24/$AP24 -> 1.0687023 | ... BN24: =W24/$AP24 -> 1.0687023 | BP24: =Y24/$AP24 -> 0.80152672 | BQ24: =Z24/$AP24 -> 0.80152672 | BR24: =AA24/$AP24 -> 1.6030534 | BS24: =AB24/$AP24 -> 1.0687023 | BT24: =AC24/$AP24 -> 1.0687023 | BU24: =AD24/$AP24 -> 1.0687023 | BV24: =AE24/$AP24 -> 1.3358779 | BW24: =AF24/$AP24 -> 1.3358779 | ... CC24: =AL24/$AP24 -> 1.6030534
B25: W | C25: 4 | D25: 3 | E25: 4 | F25: 6 | G25: 5 | H25: 5 | I25: 3 | J25: 5 | K25: 6 | L25: 3 | M25: 4 | N25: 6 | O25: 4 | P25: 6 | Q25: 6 | R25: 6 | S25: 5 | T25: 6 | U25: 5 | V25: 4 | W25: 6 | X25: 6 | Z25: 6 | AA25: 6 | AB25: 6 | AC25: 6 | AD25: 6 | AE25: 6 | AF25: 6 | AG25: 6 | AH25: 5 | AI25: 6 | AJ25: 6 | AK25: 6 | AL25: 6 | AP25: =AVERAGE(C25:AL25) -> 5.2857143 | AS25: W | AT25: =C25/$AP25 -> 0.75675676 | AU25: =D25/$AP25 -> 0.56756757 | AV25: =E25/$AP25 -> 0.75675676 | AW25: =F25/$AP25 -> 1.1351351 | AX25: =G25/$AP25 -> 0.94594595 | AY25: =H25/$AP25 -> 0.94594595 | AZ25: =I25/$AP25 -> 0.56756757 | BA25: =J25/$AP25 -> 0.94594595 | ... BO25: =X25/$AP25 -> 1.1351351 | BQ25: =Z25/$AP25 -> 1.1351351 | BR25: =AA25/$AP25 -> 1.1351351 | BS25: =AB25/$AP25 -> 1.1351351 | BT25: =AC25/$AP25 -> 1.1351351 | BU25: =AD25/$AP25 -> 1.1351351 | BV25: =AE25/$AP25 -> 1.1351351 | BW25: =AF25/$AP25 -> 1.1351351 | BX25: =AG25/$AP25 -> 1.1351351 | ... CC25: =AL25/$AP25 -> 1.1351351
B26: X | C26: 2 | D26: 3 | E26: 3 | F26: 1 | G26: 2 | H26: 3 | I26: 5 | J26: 4 | K26: 3 | L26: 3 | M26: 4 | N26: 2 | O26: 4 | P26: 4 | Q26: 4 | R26: 4 | S26: 5 | T26: 4 | U26: 5 | V26: 4 | W26: 5 | X26: 4 | Y26: 5 | AA26: 5 | AB26: 5 | AC26: 5 | AD26: 6 | AE26: 5 | AF26: 5 | AG26: 5 | AH26: 5 | AI26: 5 | AJ26: 5 | AK26: 5 | AL26: 6 | AP26: =AVERAGE(C26:AL26) -> 4.1428571 | AS26: X | AT26: =C26/$AP26 -> 0.48275862 | AU26: =D26/$AP26 -> 0.72413793 | AV26: =E26/$AP26 -> 0.72413793 | AW26: =F26/$AP26 -> 0.24137931 | AX26: =G26/$AP26 -> 0.48275862 | AY26: =H26/$AP26 -> 0.72413793 | AZ26: =I26/$AP26 -> 1.2068966 | BA26: =J26/$AP26 -> 0.96551724 | ... BP26: =Y26/$AP26 -> 1.2068966 | BR26: =AA26/$AP26 -> 1.2068966 | BS26: =AB26/$AP26 -> 1.2068966 | BT26: =AC26/$AP26 -> 1.2068966 | BU26: =AD26/$AP26 -> 1.4482759 | BV26: =AE26/$AP26 -> 1.2068966 | BW26: =AF26/$AP26 -> 1.2068966 | BX26: =AG26/$AP26 -> 1.2068966 | BY26: =AH26/$AP26 -> 1.2068966 | ... CC26: =AL26/$AP26 -> 1.4482759
B27: Y | C27: 2 | D27: 3 | E27: 3 | F27: 4 | G27: 3 | H27: 3 | I27: 4 | J27: 3 | K27: 4 | L27: 4 | M27: 4 | N27: 4 | O27: 4 | P27: 5 | Q27: 5 | R27: 4 | S27: 5 | T27: 5 | U27: 4 | V27: 5 | W27: 4 | X27: 5 | Y27: 4 | Z27: 4 | AB27: 5 | AC27: 6 | AD27: 6 | AE27: 5 | AF27: 5 | AG27: 5 | AH27: 6 | AI27: 5 | AJ27: 6 | AK27: 6 | AL27: 6 | AP27: =AVERAGE(C27:AL27) -> 4.4571429 | AS27: Y | AT27: =C27/$AP27 -> 0.44871795 | AU27: =D27/$AP27 -> 0.67307692 | AV27: =E27/$AP27 -> 0.67307692 | AW27: =F27/$AP27 -> 0.8974359 | AX27: =G27/$AP27 -> 0.67307692 | AY27: =H27/$AP27 -> 0.67307692 | AZ27: =I27/$AP27 -> 0.8974359 | BA27: =J27/$AP27 -> 0.67307692 | ... BQ27: =Z27/$AP27 -> 0.8974359 | BS27: =AB27/$AP27 -> 1.1217949 | BT27: =AC27/$AP27 -> 1.3461538 | BU27: =AD27/$AP27 -> 1.3461538 | BV27: =AE27/$AP27 -> 1.1217949 | BW27: =AF27/$AP27 -> 1.1217949 | BX27: =AG27/$AP27 -> 1.1217949 | BY27: =AH27/$AP27 -> 1.3461538 | BZ27: =AI27/$AP27 -> 1.1217949 | ... CC27: =AL27/$AP27 -> 1.3461538
B28: Z | C28: 2 | D28: 3 | E28: 2 | F28: 3 | G28: 1 | H28: 1 | I28: 3 | J28: 4 | K28: 3 | L28: 4 | M28: 4 | N28: 4 | O28: 4 | P28: 3 | Q28: 4 | R28: 3 | S28: 4 | T28: 4 | U28: 4 | V28: 4 | W28: 4 | X28: 4 | Y28: 4 | Z28: 4 | AA28: 5 | AC28: 5 | AD28: 4 | AE28: 5 | AF28: 4 | AG28: 5 | AH28: 6 | AI28: 5 | AJ28: 5 | AK28: 6 | AL28: 4 | AP28: =AVERAGE(C28:AL28) -> 3.8285714 | AS28: Z | AT28: =C28/$AP28 -> 0.52238806 | AU28: =D28/$AP28 -> 0.78358209 | AV28: =E28/$AP28 -> 0.52238806 | AW28: =F28/$AP28 -> 0.78358209 | AX28: =G28/$AP28 -> 0.26119403 | AY28: =H28/$AP28 -> 0.26119403 | AZ28: =I28/$AP28 -> 0.78358209 | BA28: =J28/$AP28 -> 1.0447761 | ... BR28: =AA28/$AP28 -> 1.3059701 | BT28: =AC28/$AP28 -> 1.3059701 | BU28: =AD28/$AP28 -> 1.0447761 | BV28: =AE28/$AP28 -> 1.3059701 | BW28: =AF28/$AP28 -> 1.0447761 | BX28: =AG28/$AP28 -> 1.3059701 | BY28: =AH28/$AP28 -> 1.5671642 | BZ28: =AI28/$AP28 -> 1.3059701 | CA28: =AJ28/$AP28 -> 1.3059701 | ... CC28: =AL28/$AP28 -> 1.0447761
B29: Γ | C29: 2 | D29: 3 | E29: 4 | F29: 3 | G29: 3 | H29: 3 | I29: 3 | J29: 5 | K29: 4 | L29: 3 | M29: 4 | N29: 4 | O29: 4 | P29: 3 | Q29: 5 | R29: 4 | S29: 4 | T29: 5 | U29: 5 | V29: 5 | W29: 5 | X29: 5 | Y29: 4 | Z29: 5 | AA29: 6 | AB29: 5 | AD29: 6 | AE29: 5 | AF29: 5 | AG29: 5 | AH29: 6 | AI29: 5 | AJ29: 5 | AK29: 6 | AL29: 6 | AP29: =AVERAGE(C29:AL29) -> 4.4285714 | AS29: Γ | AT29: =C29/$AP29 -> 0.4516129 | AU29: =D29/$AP29 -> 0.67741935 | AV29: =E29/$AP29 -> 0.90322581 | AW29: =F29/$AP29 -> 0.67741935 | AX29: =G29/$AP29 -> 0.67741935 | AY29: =H29/$AP29 -> 0.67741935 | AZ29: =I29/$AP29 -> 0.67741935 | BA29: =J29/$AP29 -> 1.1290323 | ... BS29: =AB29/$AP29 -> 1.1290323 | BU29: =AD29/$AP29 -> 1.3548387 | BV29: =AE29/$AP29 -> 1.1290323 | BW29: =AF29/$AP29 -> 1.1290323 | BX29: =AG29/$AP29 -> 1.1290323 | BY29: =AH29/$AP29 -> 1.3548387 | BZ29: =AI29/$AP29 -> 1.1290323 | CA29: =AJ29/$AP29 -> 1.1290323 | CB29: =AK29/$AP29 -> 1.3548387 | CC29: =AL29/$AP29 -> 1.3548387
B30: Δ | C30: 1 | D30: 3 | E30: 4 | F30: 5 | G30: 5 | H30: 4 | I30: 5 | J30: 4 | K30: 4 | L30: 4 | M30: 4 | N30: 6 | O30: 4 | P30: 5 | Q30: 5 | R30: 6 | S30: 5 | T30: 4 | U30: 4 | V30: 5 | W30: 6 | X30: 6 | Y30: 5 | Z30: 6 | AA30: 6 | AB30: 6 | AC30: 6 | AE30: 6 | AF30: 6 | AG30: 5 | AH30: 6 | AI30: 6 | AJ30: 6 | AK30: 6 | AL30: 6 | AP30: =AVERAGE(C30:AL30) -> 5 | AS30: Δ | AT30: =C30/$AP30 -> 0.2 | AU30: =D30/$AP30 -> 0.6 | AV30: =E30/$AP30 -> 0.8 | AW30: =F30/$AP30 -> 1 | AX30: =G30/$AP30 -> 1 | AY30: =H30/$AP30 -> 0.8 | AZ30: =I30/$AP30 -> 1 | BA30: =J30/$AP30 -> 0.8 | ... BT30: =AC30/$AP30 -> 1.2 | BV30: =AE30/$AP30 -> 1.2 | BW30: =AF30/$AP30 -> 1.2 | BX30: =AG30/$AP30 -> 1 | BY30: =AH30/$AP30 -> 1.2 | BZ30: =AI30/$AP30 -> 1.2 | CA30: =AJ30/$AP30 -> 1.2 | CB30: =AK30/$AP30 -> 1.2 | CC30: =AL30/$AP30 -> 1.2
B31: Θ | C31: 3 | D31: 3 | E31: 2 | F31: 3 | G31: 3 | H31: 4 | I31: 3 | J31: 4 | K31: 4 | L31: 4 | M31: 4 | N31: 4 | O31: 4 | P31: 5 | Q31: 4 | R31: 4 | S31: 5 | T31: 5 | U31: 5 | V31: 5 | W31: 4 | X31: 5 | Y31: 5 | Z31: 4 | AA31: 3 | AB31: 5 | AC31: 5 | AD31: 6 | AF31: 4 | AG31: 6 | AH31: 5 | AI31: 6 | AJ31: 6 | AK31: 6 | AL31: 6 | AP31: =AVERAGE(C31:AL31) -> 4.4 | AS31: Θ | AT31: =C31/$AP31 -> 0.68181818 | AU31: =D31/$AP31 -> 0.68181818 | AV31: =E31/$AP31 -> 0.45454545 | AW31: =F31/$AP31 -> 0.68181818 | AX31: =G31/$AP31 -> 0.68181818 | AY31: =H31/$AP31 -> 0.90909091 | AZ31: =I31/$AP31 -> 0.68181818 | BA31: =J31/$AP31 -> 0.90909091 | ... BU31: =AD31/$AP31 -> 1.3636364 | BW31: =AF31/$AP31 -> 0.90909091 | BX31: =AG31/$AP31 -> 1.3636364 | BY31: =AH31/$AP31 -> 1.1363636 | BZ31: =AI31/$AP31 -> 1.3636364 | CA31: =AJ31/$AP31 -> 1.3636364 | CB31: =AK31/$AP31 -> 1.3636364 | CC31: =AL31/$AP31 -> 1.3636364
B32: Λ | C32: 2 | D32: 3 | E32: 2 | F32: 2 | G32: 3 | H32: 4 | I32: 4 | J32: 4 | K32: 3 | L32: 4 | M32: 4 | N32: 1 | O32: 4 | P32: 4 | Q32: 4 | R32: 4 | S32: 2 | T32: 3 | U32: 4 | V32: 4 | W32: 4 | X32: 4 | Y32: 4 | Z32: 6 | AA32: 5 | AB32: 3 | AC32: 5 | AD32: 5 | AE32: 5 | AG32: 5 | AH32: 5 | AI32: 6 | AJ32: 5 | AK32: 5 | AL32: 4 | AP32: =AVERAGE(C32:AL32) -> 3.8857143 | AS32: Λ | AT32: =C32/$AP32 -> 0.51470588 | AU32: =D32/$AP32 -> 0.77205882 | AV32: =E32/$AP32 -> 0.51470588 | AW32: =F32/$AP32 -> 0.51470588 | AX32: =G32/$AP32 -> 0.77205882 | AY32: =H32/$AP32 -> 1.0294118 | AZ32: =I32/$AP32 -> 1.0294118 | BA32: =J32/$AP32 -> 1.0294118 | ... BV32: =AE32/$AP32 -> 1.2867647 | BX32: =AG32/$AP32 -> 1.2867647 | BY32: =AH32/$AP32 -> 1.2867647 | BZ32: =AI32/$AP32 -> 1.5441176 | CA32: =AJ32/$AP32 -> 1.2867647 | CB32: =AK32/$AP32 -> 1.2867647 | CC32: =AL32/$AP32 -> 1.0294118
B33: Ξ | C33: 3 | D33: 3 | E33: 2 | F33: 3 | G33: 2 | H33: 2 | I33: 3 | J33: 2 | K33: 4 | L33: 4 | M33: 4 | N33: 2 | O33: 4 | P33: 5 | Q33: 4 | R33: 5 | S33: 5 | T33: 4 | U33: 3 | V33: 4 | W33: 4 | X33: 4 | Y33: 5 | Z33: 5 | AA33: 5 | AB33: 4 | AC33: 5 | AD33: 6 | AE33: 5 | AF33: 5 | AH33: 5 | AI33: 6 | AJ33: 6 | AK33: 5 | AL33: 6 | AP33: =AVERAGE(C33:AL33) -> 4.1142857 | AS33: Ξ | AT33: =C33/$AP33 -> 0.72916667 | AU33: =D33/$AP33 -> 0.72916667 | AV33: =E33/$AP33 -> 0.48611111 | AW33: =F33/$AP33 -> 0.72916667 | AX33: =G33/$AP33 -> 0.48611111 | AY33: =H33/$AP33 -> 0.48611111 | AZ33: =I33/$AP33 -> 0.72916667 | BA33: =J33/$AP33 -> 0.48611111 | ... BW33: =AF33/$AP33 -> 1.2152778 | BY33: =AH33/$AP33 -> 1.2152778 | BZ33: =AI33/$AP33 -> 1.4583333 | CA33: =AJ33/$AP33 -> 1.4583333 | CB33: =AK33/$AP33 -> 1.2152778 | CC33: =AL33/$AP33 -> 1.4583333
B34: Π | C34: 2 | D34: 3 | E34: 2 | F34: 1 | G34: 2 | H34: 3 | I34: 2 | J34: 4 | K34: 2 | L34: 4 | M34: 4 | N34: 3 | O34: 4 | P34: 3 | Q34: 5 | R34: 3 | S34: 4 | T34: 4 | U34: 4 | V34: 4 | W34: 4 | X34: 4 | Y34: 2 | Z34: 5 | AA34: 2 | AB34: 4 | AC34: 1 | AD34: 3 | AE34: 5 | AF34: 5 | AG34: 4 | AI34: 5 | AJ34: 5 | AK34: 6 | AL34: 6 | AP34: =AVERAGE(C34:AL34) -> 3.5428571 | AS34: Π | AT34: =C34/$AP34 -> 0.56451613 | AU34: =D34/$AP34 -> 0.84677419 | AV34: =E34/$AP34 -> 0.56451613 | AW34: =F34/$AP34 -> 0.28225806 | AX34: =G34/$AP34 -> 0.56451613 | AY34: =H34/$AP34 -> 0.84677419 | AZ34: =I34/$AP34 -> 0.56451613 | BA34: =J34/$AP34 -> 1.1290323 | ... BX34: =AG34/$AP34 -> 1.1290323 | BZ34: =AI34/$AP34 -> 1.4112903 | CA34: =AJ34/$AP34 -> 1.4112903 | CB34: =AK34/$AP34 -> 1.6935484 | CC34: =AL34/$AP34 -> 1.6935484
B35: Σ | C35: 3 | D35: 3 | E35: 2 | F35: 3 | G35: 3 | H35: 3 | I35: 3 | J35: 3 | K35: 4 | L35: 4 | M35: 4 | N35: 3 | O35: 4 | P35: 4 | Q35: 4 | R35: 5 | S35: 5 | T35: 4 | U35: 4 | V35: 4 | W35: 4 | X35: 4 | Y35: 6 | Z35: 3 | AA35: 5 | AB35: 5 | AC35: 5 | AD35: 6 | AE35: 5 | AF35: 5 | AG35: 6 | AH35: 5 | AJ35: 6 | AK35: 6 | AL35: 6 | AP35: =AVERAGE(C35:AL35) -> 4.2571429 | AS35: Σ | AT35: =C35/$AP35 -> 0.70469799 | AU35: =D35/$AP35 -> 0.70469799 | AV35: =E35/$AP35 -> 0.46979866 | AW35: =F35/$AP35 -> 0.70469799 | AX35: =G35/$AP35 -> 0.70469799 | AY35: =H35/$AP35 -> 0.70469799 | AZ35: =I35/$AP35 -> 0.70469799 | BA35: =J35/$AP35 -> 0.70469799 | ... BY35: =AH35/$AP35 -> 1.1744966 | CA35: =AJ35/$AP35 -> 1.409396 | CB35: =AK35/$AP35 -> 1.409396 | CC35: =AL35/$AP35 -> 1.409396
B36: Φ | C36: 6 | D36: 3 | E36: 5 | F36: 6 | G36: 6 | H36: 6 | I36: 6 | J36: 6 | K36: 6 | L36: 6 | M36: 4 | N36: 6 | O36: 4 | P36: 6 | Q36: 6 | R36: 6 | S36: 5 | T36: 6 | U36: 6 | V36: 6 | W36: 6 | X36: 6 | Y36: 6 | Z36: 6 | AA36: 6 | AB36: 6 | AC36: 6 | AD36: 6 | AE36: 6 | AF36: 6 | AG36: 6 | AH36: 6 | AI36: 6 | AK36: 6 | AL36: 6 | AP36: =AVERAGE(C36:AL36) -> 5.7428571 | AS36: Φ | AT36: =C36/$AP36 -> 1.0447761 | AU36: =D36/$AP36 -> 0.52238806 | AV36: =E36/$AP36 -> 0.87064677 | AW36: =F36/$AP36 -> 1.0447761 | AX36: =G36/$AP36 -> 1.0447761 | AY36: =H36/$AP36 -> 1.0447761 | AZ36: =I36/$AP36 -> 1.0447761 | BA36: =J36/$AP36 -> 1.0447761 | ... BZ36: =AI36/$AP36 -> 1.0447761 | CB36: =AK36/$AP36 -> 1.0447761 | CC36: =AL36/$AP36 -> 1.0447761
B37: Ψ | C37: 3 | D37: 3 | E37: 4 | F37: 4 | G37: 4 | H37: 3 | I37: 5 | J37: 4 | K37: 4 | L37: 4 | M37: 4 | N37: 5 | O37: 4 | P37: 3 | Q37: 4 | R37: 4 | S37: 4 | T37: 5 | U37: 4 | V37: 5 | W37: 4 | X37: 6 | Y37: 4 | Z37: 6 | AA37: 6 | AB37: 6 | AC37: 6 | AD37: 6 | AE37: 5 | AF37: 5 | AG37: 5 | AH37: 6 | AI37: 5 | AJ37: 6 | AL37: 6 | AP37: =AVERAGE(C37:AL37) -> 4.6285714 | AS37: Ψ | AT37: =C37/$AP37 -> 0.64814815 | AU37: =D37/$AP37 -> 0.64814815 | AV37: =E37/$AP37 -> 0.86419753 | AW37: =F37/$AP37 -> 0.86419753 | AX37: =G37/$AP37 -> 0.86419753 | AY37: =H37/$AP37 -> 0.64814815 | AZ37: =I37/$AP37 -> 1.0802469 | BA37: =J37/$AP37 -> 0.86419753 | ... CA37: =AJ37/$AP37 -> 1.2962963 | CC37: =AL37/$AP37 -> 1.2962963
B38: Ω | C38: 3 | D38: 3 | E38: 2 | F38: 3 | G38: 3 | H38: 3 | I38: 3 | J38: 3 | K38: 3 | L38: 4 | M38: 4 | N38: 1 | O38: 4 | P38: 3 | Q38: 3 | R38: 4 | S38: 4 | T38: 4 | U38: 4 | V38: 4 | W38: 4 | X38: 5 | Y38: 5 | Z38: 2 | AA38: 6 | AB38: 5 | AC38: 5 | AD38: 4 | AE38: 4 | AF38: 5 | AG38: 5 | AH38: 5 | AI38: 5 | AJ38: 6 | AK38: 4 | AP38: =AVERAGE(C38:AL38) -> 3.8571429 | AS38: Ω | AT38: =C38/$AP38 -> 0.77777778 | AU38: =D38/$AP38 -> 0.77777778 | AV38: =E38/$AP38 -> 0.51851852 | AW38: =F38/$AP38 -> 0.77777778 | AX38: =G38/$AP38 -> 0.77777778 | AY38: =H38/$AP38 -> 0.77777778 | AZ38: =I38/$AP38 -> 0.77777778 | BA38: =J38/$AP38 -> 0.77777778 | ... CB38: =AK38/$AP38 -> 1.037037
A42: Notes | C42: The scores in the table above were awarded by students to their peers within the same group (all students in this table belong to one group). Blanks indicate oneself. Note that students were not equally generous in the way they awarded points, for instance, student K gave a total of 97 to her peers while student O gave 192. These are summarised in the Generosity column. | AN42: The group scores above were marks out of 100 awarded by the faculty for this group's submitted report and oral defence. | AR42: The modified scores are obtained by taking the original scores and scaling them by the generosity of the reviewer. Note the scale changes: before it was a mark out of 6, and now it is a score relative to the average mark given by the reviewer. Note also that these scores may appear to be rounded to one decimal place but are not really. Rounding is best done only at the end of all calculations to prevent errors accumulating.

Sheet processed
A3: Notes: | B3: Student | C3: A | D3: B | E3: C | F3: D | G3: E | H3: F | I3: G | J3: H | K3: I | L3: J | M3: K | N3: L | O3: M | P3: N | Q3: O | R3: P | S3: Q | T3: R | U3: S | V3: T | W3: U | X3: V | Y3: W | Z3: X | AA3: Y | AB3: Z | AC3: Γ | AD3: Δ | AE3: Θ | AF3: Λ | AG3: Ξ | AH3: Π | AI3: Σ | AJ3: Φ | AK3: Ψ | AL3: Ω
A4: This is a mark out of 6 | B4: Version 1 of peer evaluation score (P1) | C4: =AVERAGE(rawdata!C3:C38) -> 2.6857143 | D4: =AVERAGE(rawdata!D3:D38) -> 3 | E4: =AVERAGE(rawdata!E3:E38) -> 2.9714286 | F4: =AVERAGE(rawdata!F3:F38) -> 3.3428571 | G4: =AVERAGE(rawdata!G3:G38) -> 3.3428571 | H4: =AVERAGE(rawdata!H3:H38) -> 3.4285714 | I4: =AVERAGE(rawdata!I3:I38) -> 3.5428571 | J4: =AVERAGE(rawdata!J3:J38) -> 3.6857143 | ... AL4: =AVERAGE(rawdata!AL3:AL38) -> 5.7142857
A5: This is relative to the average in the group | B5: Version 2 of peer evaluation score (P2) | C5: =AVERAGE(rawdata!AT3:AT38) -> 0.613427 | D5: =AVERAGE(rawdata!AU3:AU38) -> 0.70242107 | E5: =AVERAGE(rawdata!AV3:AV38) -> 0.67653644 | F5: =AVERAGE(rawdata!AW3:AW38) -> 0.75185708 | G5: =AVERAGE(rawdata!AX3:AX38) -> 0.75317411 | H5: =AVERAGE(rawdata!AY3:AY38) -> 0.77630771 | I5: =AVERAGE(rawdata!AZ3:AZ38) -> 0.80047782 | J5: =AVERAGE(rawdata!BA3:BA38) -> 0.84597119 | ... AL5: =AVERAGE(rawdata!CC3:CC38) -> 1.3161437
A6: This is meant to be a mark out of 6, though in principle it may take larger values. | B6: Version 2b of peer evaluation score (P2b), scaled to have same mean as Version 1 | C6: =C5*AVERAGE($C4:$AL4)/AVERAGE($C5:$AL5) -> 2.6693811 | D6: =D5*AVERAGE($C4:$AL4)/AVERAGE($C5:$AL5) -> 3.0566466 | E6: =E5*AVERAGE($C4:$AL4)/AVERAGE($C5:$AL5) -> 2.9440074 | F6: =F5*AVERAGE($C4:$AL4)/AVERAGE($C5:$AL5) -> 3.2717717 | G6: =G5*AVERAGE($C4:$AL4)/AVERAGE($C5:$AL5) -> 3.2775029 | H6: =H5*AVERAGE($C4:$AL4)/AVERAGE($C5:$AL5) -> 3.3781708 | I6: =I5*AVERAGE($C4:$AL4)/AVERAGE($C5:$AL5) -> 3.4833491 | J6: =J5*AVERAGE($C4:$AL4)/AVERAGE($C5:$AL5) -> 3.6813175 | ... AL6: =AL5*AVERAGE($C4:$AL4)/AVERAGE($C5:$AL5) -> 5.7273141 | AN6: Weights for old score
AN7: Report and presentation | AO7: Peer review
A8: The weights w1 and w2, specified in columns AN and AO, respectively (4:3 for group work:peer review), are those traditionally used in the Community Health Project | B8: Old score (with P2b): [w1×Group score + w2×Peer scorex100/6]/[w1+w2] | C8: =($AN8*rawdata!$AO$5+$AO8*100*processed!C6/6)/($AN8+$AO8) -> 61.067008 | D8: =($AN8*rawdata!$AO$5+$AO8*100*processed!D6/6)/($AN8+$AO8) -> 63.83319 | E8: =($AN8*rawdata!$AO$5+$AO8*100*processed!E6/6)/($AN8+$AO8) -> 63.028624 | F8: =($AN8*rawdata!$AO$5+$AO8*100*processed!F6/6)/($AN8+$AO8) -> 65.369798 | G8: =($AN8*rawdata!$AO$5+$AO8*100*processed!G6/6)/($AN8+$AO8) -> 65.410735 | H8: =($AN8*rawdata!$AO$5+$AO8*100*processed!H6/6)/($AN8+$AO8) -> 66.129791 | I8: =($AN8*rawdata!$AO$5+$AO8*100*processed!I6/6)/($AN8+$AO8) -> 66.881065 | J8: =($AN8*rawdata!$AO$5+$AO8*100*processed!J6/6)/($AN8+$AO8) -> 68.295125 | ... AL8: =($AN8*rawdata!$AO$5+$AO8*100*processed!AL6/6)/($AN8+$AO8) -> 82.909387 | AN8: 4 | AO8: 3
B9: New score (with P2): Group score x Peer score | C9: =rawdata!$AO$5*processed!C5 -> 45.086885 | D9: =rawdata!$AO$5*processed!D5 -> 51.627949 | E9: =rawdata!$AO$5*processed!E5 -> 49.725429 | F9: =rawdata!$AO$5*processed!F5 -> 55.261495 | G9: =rawdata!$AO$5*processed!G5 -> 55.358297 | H9: =rawdata!$AO$5*processed!H5 -> 57.058617 | I9: =rawdata!$AO$5*processed!I5 -> 58.835119 | J9: =rawdata!$AO$5*processed!J5 -> 62.178882 | ... AL9: =rawdata!$AO$5*processed!AL5 -> 96.736561
B10: New score (scaled to have same mean as old score) | C10: =C9*AVERAGE($C$8:$AL$8)/AVERAGE($C$9:$AL$9) -> 44.830942 | D10: =D9*AVERAGE($C$8:$AL$8)/AVERAGE($C$9:$AL$9) -> 51.334875 | E10: =E9*AVERAGE($C$8:$AL$8)/AVERAGE($C$9:$AL$9) -> 49.443155 | F10: =F9*AVERAGE($C$8:$AL$8)/AVERAGE($C$9:$AL$9) -> 54.947795 | G10: =G9*AVERAGE($C$8:$AL$8)/AVERAGE($C$9:$AL$9) -> 55.044048 | H10: =H9*AVERAGE($C$8:$AL$8)/AVERAGE($C$9:$AL$9) -> 56.734715 | I10: =I9*AVERAGE($C$8:$AL$8)/AVERAGE($C$9:$AL$9) -> 58.501133 | J10: =J9*AVERAGE($C$8:$AL$8)/AVERAGE($C$9:$AL$9) -> 61.825915 | ... AL10: =AL9*AVERAGE($C$8:$AL$8)/AVERAGE($C$9:$AL$9) -> 96.187421
B12: Notes:
B13: There is little difference between the two versions of the peer evaluation score (P1 and P2b) in this case, because the number of students in the group is relatively large. This means that a student who awards his peers very low scores will not see his own score rise much as a result. In smaller groups, however, the difference might be substantial.
B14: The old score adds the same group score for everyone in the group to the peer review score. It results in relatively little difference between student A, whom most students rated poorly, with student Ω, who was awarded full marks by most of his peers.
B15: The new score multiplies the group score and the peer review scores. This rewards participation and penalises free riding. A substantial difference in the scores of the best and worst students results.
