Workbook

Sheet README
A1: Formula-Preserving Analysis Workbook
A3: Purpose | B3: Reproduce the descriptive analyses reported in the manuscript from published AAMC FACTS aggregate counts. | D3: Worksheet | E3: Contents
A4: Primary inputs | B4: AAMC FACTS Tables A-24, A-26, and A-27 for the periods reported in the manuscript. | D4: Source Counts | E4: Normalized published counts and source metadata.
A5: Primary EO denominator | B5: Known EO records only: EO1/2 plus EO3/4/5. Unknown/not applicable records are included only in the sensitivity analysis. | D5: Annual Analysis | E5: Formula-derived annual group rates, gaps, shares, and representation ratios.
A6: Binary comparison groups | B6: First-generation and fee-assistance reference groups are calculated as the published total minus the focal-group count. | D6: Latest Metrics | E6: Latest-year metrics used in manuscript tables and Results.
A7: Acceptance rate | B7: Acceptees / applicants. | D7: Stage Contributions | E7: Direct representation-share decomposition.
A8: Matriculation yield | B8: Matriculants / acceptees. | D8: Stage Equalization | E8: Rate-equalization and Shapley summaries.
A9: Pipeline rate | B9: Matriculants / applicants = acceptance rate x matriculation yield. | D9: Trend Slopes | E9: Descriptive OLS slopes and R-squared values.
A10: Stage contribution | B10: Absolute stage-specific share change divided by the absolute applicant-to-matriculant share change. | D10: EO Sensitivity | E10: Known-EO versus national-total denominator comparison.
A11: Stage equalization | B11: One focal-group stage rate is replaced by its reference-group counterpart while the other focal-group stage rate is held fixed. | D11: Reference Intervals | E11: Wilson and Newcombe reference intervals.
A12: Trend summaries | B12: Excel SLOPE and RSQ functions applied to annual percentage-point gaps; no significance tests. | D12: Checks | E12: Internal identity and interval-bound checks.
A13: Intervals | B13: Wilson score intervals for rates and Newcombe intervals for independent rate differences under a binomial working model.
A14: Source URL | B14: https://www.aamc.org/data-reports/students-residents/data/facts-applicants-and-matriculants
A15: Reproducibility | B15: Yellow cells are source inputs copied from the published tables; green cells contain formulas. All reported values should update if source counts are changed.

Sheet Source Counts
A1: Domain | B1: Academic year | C1: Year start | D1: Stage | E1: Focal group | F1: Reference group | G1: Focal count | H1: Reported reference count | I1: Unknown/not applicable count | J1: Published total | K1: Source file | L1: Source URL
A2: AAMC EO classification | B2: 2018-2019 | C2: 2018 | D2: Applicants | E2: Lower EO (EO1/2) | F2: Higher EO (EO3/4/5) | G2: 12839 | H2: 31617 | I2: 8321 | J2: 52777 | K2: 2025_FACTS_Table_A-24.xlsx | L2: https://www.aamc.org/data-reports/students-residents/data/facts-applicants-and-matriculants
A3: AAMC EO classification | B3: 2019-2020 | C3: 2019 | D3: Applicants | E3: Lower EO (EO1/2) | F3: Higher EO (EO3/4/5) | G3: 12526 | H3: 32444 | I3: 8398 | J3: 53368 | K3: 2025_FACTS_Table_A-24.xlsx | L3: https://www.aamc.org/data-reports/students-residents/data/facts-applicants-and-matriculants
A4: AAMC EO classification | B4: 2020-2021 | C4: 2020 | D4: Applicants | E4: Lower EO (EO1/2) | F4: Higher EO (EO3/4/5) | G4: 12457 | H4: 32267 | I4: 8306 | J4: 53030 | K4: 2025_FACTS_Table_A-24.xlsx | L4: https://www.aamc.org/data-reports/students-residents/data/facts-applicants-and-matriculants
A5: AAMC EO classification | B5: 2021-2022 | C5: 2021 | D5: Applicants | E5: Lower EO (EO1/2) | F5: Higher EO (EO3/4/5) | G5: 15304 | H5: 36874 | I5: 10265 | J5: 62443 | K5: 2025_FACTS_Table_A-24.xlsx | L5: https://www.aamc.org/data-reports/students-residents/data/facts-applicants-and-matriculants
A6: AAMC EO classification | B6: 2022-2023 | C6: 2022 | D6: Applicants | E6: Lower EO (EO1/2) | F6: Higher EO (EO3/4/5) | G6: 13379 | H6: 33237 | I6: 8573 | J6: 55189 | K6: 2025_FACTS_Table_A-24.xlsx | L6: https://www.aamc.org/data-reports/students-residents/data/facts-applicants-and-matriculants
A7: AAMC EO classification | B7: 2023-2024 | C7: 2023 | D7: Applicants | E7: Lower EO (EO1/2) | F7: Higher EO (EO3/4/5) | G7: 12555 | H7: 31994 | I7: 8028 | J7: 52577 | K7: 2025_FACTS_Table_A-24.xlsx | L7: https://www.aamc.org/data-reports/students-residents/data/facts-applicants-and-matriculants
A8: AAMC EO classification | B8: 2024-2025 | C8: 2024 | D8: Applicants | E8: Lower EO (EO1/2) | F8: Higher EO (EO3/4/5) | G8: 12278 | H8: 31771 | I8: 7897 | J8: 51946 | K8: 2025_FACTS_Table_A-24.xlsx | L8: https://www.aamc.org/data-reports/students-residents/data/facts-applicants-and-matriculants
A9: AAMC EO classification | B9: 2025-2026 | C9: 2025 | D9: Applicants | E9: Lower EO (EO1/2) | F9: Higher EO (EO3/4/5) | G9: 12386 | H9: 33238 | I9: 9075 | J9: 54699 | K9: 2025_FACTS_Table_A-24.xlsx | L9: https://www.aamc.org/data-reports/students-residents/data/facts-applicants-and-matriculants
A10: AAMC EO classification | B10: 2018-2019 | C10: 2018 | D10: Acceptees | E10: Lower EO (EO1/2) | F10: Higher EO (EO3/4/5) | G10: 4684 | H10: 15373 | I10: 2426 | J10: 22483 | K10: 2025_FACTS_Table_A-24.xlsx | L10: https://www.aamc.org/data-reports/students-residents/data/facts-applicants-and-matriculants
A11: AAMC EO classification | B11: 2019-2020 | C11: 2019 | D11: Acceptees | E11: Lower EO (EO1/2) | F11: Higher EO (EO3/4/5) | G11: 4584 | H11: 15578 | I11: 2525 | J11: 22687 | K11: 2025_FACTS_Table_A-24.xlsx | L11: https://www.aamc.org/data-reports/students-residents/data/facts-applicants-and-matriculants
A12: AAMC EO classification | B12: 2020-2021 | C12: 2020 | D12: Acceptees | E12: Lower EO (EO1/2) | F12: Higher EO (EO3/4/5) | G12: 4826 | H12: 15657 | I12: 2622 | J12: 23105 | K12: 2025_FACTS_Table_A-24.xlsx | L12: https://www.aamc.org/data-reports/students-residents/data/facts-applicants-and-matriculants
A13: AAMC EO classification | B13: 2021-2022 | C13: 2021 | D13: Acceptees | E13: Lower EO (EO1/2) | F13: Higher EO (EO3/4/5) | G13: 5119 | H13: 15843 | I13: 2749 | J13: 23711 | K13: 2025_FACTS_Table_A-24.xlsx | L13: https://www.aamc.org/data-reports/students-residents/data/facts-applicants-and-matriculants
... A25: AAMC EO classification | B25: 2025-2026 | C25: 2025 | D25: Matriculants | E25: Lower EO (EO1/2) | F25: Higher EO (EO3/4/5) | G25: 4606 | H25: 16212 | I25: 2622 | J25: 23440 | K25: 2025_FACTS_Table_A-24.xlsx | L25: https://www.aamc.org/data-reports/students-residents/data/facts-applicants-and-matriculants
A26: First-generation status | B26: 2020-2021 | C26: 2020 | D26: Applicants | E26: First generation | F26: Remaining total excluding first generation | G26: 7421 | J26: 53030 | K26: 2025_FACTS_Table_A-26.xlsx | L26: https://www.aamc.org/data-reports/students-residents/data/facts-applicants-and-matriculants
A27: First-generation status | B27: 2021-2022 | C27: 2021 | D27: Applicants | E27: First generation | F27: Remaining total excluding first generation | G27: 9616 | J27: 62443 | K27: 2025_FACTS_Table_A-26.xlsx | L27: https://www.aamc.org/data-reports/students-residents/data/facts-applicants-and-matriculants
A28: First-generation status | B28: 2022-2023 | C28: 2022 | D28: Applicants | E28: First generation | F28: Remaining total excluding first generation | G28: 7712 | J28: 55189 | K28: 2025_FACTS_Table_A-26.xlsx | L28: https://www.aamc.org/data-reports/students-residents/data/facts-applicants-and-matriculants
A29: First-generation status | B29: 2023-2024 | C29: 2023 | D29: Applicants | E29: First generation | F29: Remaining total excluding first generation | G29: 7260 | J29: 52577 | K29: 2025_FACTS_Table_A-26.xlsx | L29: https://www.aamc.org/data-reports/students-residents/data/facts-applicants-and-matriculants
A30: First-generation status | B30: 2024-2025 | C30: 2024 | D30: Applicants | E30: First generation | F30: Remaining total excluding first generation | G30: 7146 | J30: 51946 | K30: 2025_FACTS_Table_A-26.xlsx | L30: https://www.aamc.org/data-reports/students-residents/data/facts-applicants-and-matriculants
A31: First-generation status | B31: 2025-2026 | C31: 2025 | D31: Applicants | E31: First generation | F31: Remaining total excluding first generation | G31: 7530 | J31: 54699 | K31: 2025_FACTS_Table_A-26.xlsx | L31: https://www.aamc.org/data-reports/students-residents/data/facts-applicants-and-matriculants
A32: First-generation status | B32: 2020-2021 | C32: 2020 | D32: Acceptees | E32: First generation | F32: Remaining total excluding first generation | G32: 2647 | J32: 23105 | K32: 2025_FACTS_Table_A-26.xlsx | L32: https://www.aamc.org/data-reports/students-residents/data/facts-applicants-and-matriculants
A33: First-generation status | B33: 2021-2022 | C33: 2021 | D33: Acceptees | E33: First generation | F33: Remaining total excluding first generation | G33: 2928 | J33: 23711 | K33: 2025_FACTS_Table_A-26.xlsx | L33: https://www.aamc.org/data-reports/students-residents/data/facts-applicants-and-matriculants
A34: First-generation status | B34: 2022-2023 | C34: 2022 | D34: Acceptees | E34: First generation | F34: Remaining total excluding first generation | G34: 2667 | J34: 23810 | K34: 2025_FACTS_Table_A-26.xlsx | L34: https://www.aamc.org/data-reports/students-residents/data/facts-applicants-and-matriculants
A35: First-generation status | B35: 2023-2024 | C35: 2023 | D35: Acceptees | E35: First generation | F35: Remaining total excluding first generation | G35: 2720 | J35: 24014 | K35: 2025_FACTS_Table_A-26.xlsx | L35: https://www.aamc.org/data-reports/students-residents/data/facts-applicants-and-matriculants
A36: First-generation status | B36: 2024-2025 | C36: 2024 | D36: Acceptees | E36: First generation | F36: Remaining total excluding first generation | G36: 2669 | J36: 24172 | K36: 2025_FACTS_Table_A-26.xlsx | L36: https://www.aamc.org/data-reports/students-residents/data/facts-applicants-and-matriculants
A37: First-generation status | B37: 2025-2026 | C37: 2025 | D37: Acceptees | E37: First generation | F37: Remaining total excluding first generation | G37: 2615 | J37: 24300 | K37: 2025_FACTS_Table_A-26.xlsx | L37: https://www.aamc.org/data-reports/students-residents/data/facts-applicants-and-matriculants
... A55: Fee assistance | B55: 2025-2026 | C55: 2025 | D55: Matriculants | E55: Used AMCAS fee assistance benefits | F55: Remaining total excluding fee assistance benefits | G55: 3029 | J55: 23440 | K55: 2025_FACTS_Table_A-27.xlsx | L55: https://www.aamc.org/data-reports/students-residents/data/facts-applicants-and-matriculants

Sheet Annual Analysis
A1: Domain | B1: Academic year | C1: Year start | D1: Focal group | E1: Reference group | F1: Focal applicants | G1: Focal acceptees | H1: Focal matriculants | I1: Reference applicants | J1: Reference acceptees | K1: Reference matriculants | L1: Applicant share denominator | M1: Acceptee share denominator | N1: Matriculant share denominator | O1: Focal acceptance rate | P1: Reference acceptance rate | Q1: Acceptance gap (pp) | R1: Focal matriculation yield | S1: Reference matriculation yield | T1: Yield gap (pp) | U1: Focal pipeline rate | V1: Reference pipeline rate | W1: Pipeline gap (pp) | X1: Focal applicant share | Y1: Focal acceptee share | Z1: Focal matriculant share | AA1: Applicant-to-acceptee change (pp) | AB1: Acceptee-to-matriculant change (pp) | AC1: Applicant-to-matriculant change (pp) | AD1: Representation ratio
A2: AAMC EO classification | B2: 2018-2019 | C2: 2018 | D2: Lower EO (EO1/2) | E2: Higher EO (EO3/4/5) | F2: ='Source Counts'!G2 -> 12839 | G2: ='Source Counts'!G10 -> 4684 | H2: ='Source Counts'!G18 -> 4516 | I2: ='Source Counts'!H2 -> 31617 | J2: ='Source Counts'!H10 -> 15373 | K2: ='Source Counts'!H18 -> 14837 | L2: =F2+I2 -> 44456 | M2: =G2+J2 -> 20057 | N2: =H2+K2 -> 19353 | O2: =G2/F2 -> 0.36482592 | P2: =J2/I2 -> 0.48622576 | Q2: =(O2-P2)*100 -> -12.139984 | R2: =H2/G2 -> 0.96413322 | S2: =K2/J2 -> 0.96513368 | T2: =(R2-S2)*100 -> -0.10004565 | U2: =H2/F2 -> 0.35174079 | V2: =K2/I2 -> 0.46927286 | W2: =(U2-V2)*100 -> -11.753207 | X2: =F2/L2 -> 0.28880241 | Y2: =G2/M2 -> 0.23353443 | Z2: =H2/N2 -> 0.23334883 | AA2: =(Y2-X2)*100 -> -5.5267984 | AB2: =(Z2-Y2)*100 -> -0.018559208 | AC2: =(Z2-X2)*100 -> -5.5453577 | AD2: =Z2/X2 -> 0.80798783
A3: AAMC EO classification | B3: 2019-2020 | C3: 2019 | D3: Lower EO (EO1/2) | E3: Higher EO (EO3/4/5) | F3: ='Source Counts'!G3 -> 12526 | G3: ='Source Counts'!G11 -> 4584 | H3: ='Source Counts'!G19 -> 4425 | I3: ='Source Counts'!H3 -> 32444 | J3: ='Source Counts'!H11 -> 15578 | K3: ='Source Counts'!H19 -> 15055 | L3: =F3+I3 -> 44970 | M3: =G3+J3 -> 20162 | N3: =H3+K3 -> 19480 | O3: =G3/F3 -> 0.36595881 | P3: =J3/I3 -> 0.48015041 | Q3: =(O3-P3)*100 -> -11.419161 | R3: =H3/G3 -> 0.96531414 | S3: =K3/J3 -> 0.96642701 | T3: =(R3-S3)*100 -> -0.11128763 | U3: =H3/F3 -> 0.35326521 | V3: =K3/I3 -> 0.46403033 | W3: =(U3-V3)*100 -> -11.076512 | X3: =F3/L3 -> 0.27854125 | Y3: =G3/M3 -> 0.2273584 | Z3: =H3/N3 -> 0.22715606 | AA3: =(Y3-X3)*100 -> -5.1182853 | AB3: =(Z3-Y3)*100 -> -0.020233949 | AC3: =(Z3-X3)*100 -> -5.1385192 | AD3: =Z3/X3 -> 0.81552035
A4: AAMC EO classification | B4: 2020-2021 | C4: 2020 | D4: Lower EO (EO1/2) | E4: Higher EO (EO3/4/5) | F4: ='Source Counts'!G4 -> 12457 | G4: ='Source Counts'!G12 -> 4826 | H4: ='Source Counts'!G20 -> 4650 | I4: ='Source Counts'!H4 -> 32267 | J4: ='Source Counts'!H12 -> 15657 | K4: ='Source Counts'!H20 -> 15132 | L4: =F4+I4 -> 44724 | M4: =G4+J4 -> 20483 | N4: =H4+K4 -> 19782 | O4: =G4/F4 -> 0.3874127 | P4: =J4/I4 -> 0.48523259 | Q4: =(O4-P4)*100 -> -9.7819891 | R4: =H4/G4 -> 0.96353087 | S4: =K4/J4 -> 0.96646867 | T4: =(R4-S4)*100 -> -0.29377977 | U4: =H4/F4 -> 0.3732841 | V4: =K4/I4 -> 0.4689621 | W4: =(U4-V4)*100 -> -9.5678 | X4: =F4/L4 -> 0.27853054 | Y4: =G4/M4 -> 0.23561002 | Z4: =H4/N4 -> 0.23506218 | AA4: =(Y4-X4)*100 -> -4.2920525 | AB4: =(Z4-Y4)*100 -> -0.054784033 | AC4: =(Z4-X4)*100 -> -4.3468365 | AD4: =Z4/X4 -> 0.84393681
A5: AAMC EO classification | B5: 2021-2022 | C5: 2021 | D5: Lower EO (EO1/2) | E5: Higher EO (EO3/4/5) | F5: ='Source Counts'!G5 -> 15304 | G5: ='Source Counts'!G13 -> 5119 | H5: ='Source Counts'!G21 -> 4901 | I5: ='Source Counts'!H5 -> 36874 | J5: ='Source Counts'!H13 -> 15843 | K5: ='Source Counts'!H21 -> 15192 | L5: =F5+I5 -> 52178 | M5: =G5+J5 -> 20962 | N5: =H5+K5 -> 20093 | O5: =G5/F5 -> 0.33448772 | P5: =J5/I5 -> 0.42965233 | Q5: =(O5-P5)*100 -> -9.5164614 | R5: =H5/G5 -> 0.95741356 | S5: =K5/J5 -> 0.9589093 | T5: =(R5-S5)*100 -> -0.14957401 | U5: =H5/F5 -> 0.32024307 | V5: =K5/I5 -> 0.41199761 | W5: =(U5-V5)*100 -> -9.175454 | X5: =F5/L5 -> 0.29330369 | Y5: =G5/M5 -> 0.2442038 | Z5: =H5/N5 -> 0.24391579 | AA5: =(Y5-X5)*100 -> -4.9099894 | AB5: =(Z5-Y5)*100 -> -0.028800578 | AC5: =(Z5-X5)*100 -> -4.93879 | AD5: =Z5/X5 -> 0.83161514
A6: AAMC EO classification | B6: 2022-2023 | C6: 2022 | D6: Lower EO (EO1/2) | E6: Higher EO (EO3/4/5) | F6: ='Source Counts'!G6 -> 13379 | G6: ='Source Counts'!G14 -> 5124 | H6: ='Source Counts'!G22 -> 4887 | I6: ='Source Counts'!H6 -> 33237 | J6: ='Source Counts'!H14 -> 15994 | K6: ='Source Counts'!H22 -> 15293 | L6: =F6+I6 -> 46616 | M6: =G6+J6 -> 21118 | N6: =H6+K6 -> 20180 | O6: =G6/F6 -> 0.38298827 | P6: =J6/I6 -> 0.4812107 | Q6: =(O6-P6)*100 -> -9.8222434 | R6: =H6/G6 -> 0.95374707 | S6: =K6/J6 -> 0.95617106 | T6: =(R6-S6)*100 -> -0.24239915 | U6: =H6/F6 -> 0.36527394 | V6: =K6/I6 -> 0.46011975 | W6: =(U6-V6)*100 -> -9.4845809 | X6: =F6/L6 -> 0.28700446 | Y6: =G6/M6 -> 0.24263661 | Z6: =H6/N6 -> 0.24217047 | AA6: =(Y6-X6)*100 -> -4.4367849 | AB6: =(Z6-Y6)*100 -> -0.046614751 | AC6: =(Z6-X6)*100 -> -4.4833996 | AD6: =Z6/X6 -> 0.84378641
A7: AAMC EO classification | B7: 2023-2024 | C7: 2023 | D7: Lower EO (EO1/2) | E7: Higher EO (EO3/4/5) | F7: ='Source Counts'!G7 -> 12555 | G7: ='Source Counts'!G15 -> 5099 | H7: ='Source Counts'!G23 -> 4897 | I7: ='Source Counts'!H7 -> 31994 | J7: ='Source Counts'!H15 -> 16339 | K7: ='Source Counts'!H23 -> 15647 | L7: =F7+I7 -> 44549 | M7: =G7+J7 -> 21438 | N7: =H7+K7 -> 20544 | O7: =G7/F7 -> 0.40613301 | P7: =J7/I7 -> 0.5106895 | Q7: =(O7-P7)*100 -> -10.455649 | R7: =H7/G7 -> 0.96038439 | S7: =K7/J7 -> 0.95764735 | T7: =(R7-S7)*100 -> 0.27370423 | U7: =H7/F7 -> 0.39004381 | V7: =K7/I7 -> 0.48906045 | W7: =(U7-V7)*100 -> -9.9016642 | X7: =F7/L7 -> 0.28182451 | Y7: =G7/M7 -> 0.23784868 | Z7: =H7/N7 -> 0.23836643 | AA7: =(Y7-X7)*100 -> -4.3975828 | AB7: =(Z7-Y7)*100 -> 0.051775311 | AC7: =(Z7-X7)*100 -> -4.3458075 | AD7: =Z7/X7 -> 0.84579739
A8: AAMC EO classification | B8: 2024-2025 | C8: 2024 | D8: Lower EO (EO1/2) | E8: Higher EO (EO3/4/5) | F8: ='Source Counts'!G8 -> 12278 | G8: ='Source Counts'!G16 -> 5010 | H8: ='Source Counts'!G24 -> 4794 | I8: ='Source Counts'!H8 -> 31771 | J8: ='Source Counts'!H16 -> 16633 | K8: ='Source Counts'!H24 -> 15978 | L8: =F8+I8 -> 44049 | M8: =G8+J8 -> 21643 | N8: =H8+K8 -> 20772 | O8: =G8/F8 -> 0.40804691 | P8: =J8/I8 -> 0.52352775 | Q8: =(O8-P8)*100 -> -11.548083 | R8: =H8/G8 -> 0.95688623 | S8: =K8/J8 -> 0.96062045 | T8: =(R8-S8)*100 -> -0.37342258 | U8: =H8/F8 -> 0.39045447 | V8: =K8/I8 -> 0.50291146 | W8: =(U8-V8)*100 -> -11.245699 | X8: =F8/L8 -> 0.27873505 | Y8: =G8/M8 -> 0.23148362 | Z8: =H8/N8 -> 0.23079145 | AA8: =(Y8-X8)*100 -> -4.7251424 | AB8: =(Z8-Y8)*100 -> -0.069217054 | AC8: =(Z8-X8)*100 -> -4.7943595 | AD8: =Z8/X8 -> 0.82799581
A9: AAMC EO classification | B9: 2025-2026 | C9: 2025 | D9: Lower EO (EO1/2) | E9: Higher EO (EO3/4/5) | F9: ='Source Counts'!G9 -> 12386 | G9: ='Source Counts'!G17 -> 4787 | H9: ='Source Counts'!G25 -> 4606 | I9: ='Source Counts'!H9 -> 33238 | J9: ='Source Counts'!H17 -> 16741 | K9: ='Source Counts'!H25 -> 16212 | L9: =F9+I9 -> 45624 | M9: =G9+J9 -> 21528 | N9: =H9+K9 -> 20818 | O9: =G9/F9 -> 0.38648474 | P9: =J9/I9 -> 0.5036705 | Q9: =(O9-P9)*100 -> -11.718576 | R9: =H9/G9 -> 0.96218926 | S9: =K9/J9 -> 0.96840093 | T9: =(R9-S9)*100 -> -0.62116693 | U9: =H9/F9 -> 0.37187147 | V9: =K9/I9 -> 0.48775498 | W9: =(U9-V9)*100 -> -11.588351 | X9: =F9/L9 -> 0.27147992 | Y9: =G9/M9 -> 0.22236158 | Z9: =H9/N9 -> 0.22125084 | AA9: =(Y9-X9)*100 -> -4.9118347 | AB9: =(Z9-Y9)*100 -> -0.1110735 | AC9: =(Z9-X9)*100 -> -5.0229082 | AD9: =Z9/X9 -> 0.81498049
A10: First-generation status | B10: 2020-2021 | C10: 2020 | D10: First generation | E10: Remaining total excluding first generation | F10: ='Source Counts'!G26 -> 7421 | G10: ='Source Counts'!G32 -> 2647 | H10: ='Source Counts'!G38 -> 2545 | I10: ='Source Counts'!J26-'Source Counts'!G26 -> 45609 | J10: ='Source Counts'!J32-'Source Counts'!G32 -> 20458 | K10: ='Source Counts'!J38-'Source Counts'!G38 -> 19694 | L10: ='Source Counts'!J26 -> 53030 | M10: ='Source Counts'!J32 -> 23105 | N10: ='Source Counts'!J38 -> 22239 | O10: =G10/F10 -> 0.35669047 | P10: =J10/I10 -> 0.44855182 | Q10: =(O10-P10)*100 -> -9.1861348 | R10: =H10/G10 -> 0.96146581 | S10: =K10/J10 -> 0.9626552 | T10: =(R10-S10)*100 -> -0.11893857 | U10: =H10/F10 -> 0.34294569 | V10: =K10/I10 -> 0.43180074 | W10: =(U10-V10)*100 -> -8.8855046 | X10: =F10/L10 -> 0.13993966 | Y10: =G10/M10 -> 0.11456395 | Z10: =H10/N10 -> 0.1144386 | AA10: =(Y10-X10)*100 -> -2.537571 | AB10: =(Z10-Y10)*100 -> -0.012534834 | AC10: =(Z10-X10)*100 -> -2.5501058 | AD10: =Z10/X10 -> 0.81777104
A11: First-generation status | B11: 2021-2022 | C11: 2021 | D11: First generation | E11: Remaining total excluding first generation | F11: ='Source Counts'!G27 -> 9616 | G11: ='Source Counts'!G33 -> 2928 | H11: ='Source Counts'!G39 -> 2804 | I11: ='Source Counts'!J27-'Source Counts'!G27 -> 52827 | J11: ='Source Counts'!J33-'Source Counts'!G33 -> 20783 | K11: ='Source Counts'!J39-'Source Counts'!G39 -> 19862 | L11: ='Source Counts'!J27 -> 62443 | M11: ='Source Counts'!J33 -> 23711 | N11: ='Source Counts'!J39 -> 22666 | O11: =G11/F11 -> 0.30449251 | P11: =J11/I11 -> 0.39341625 | Q11: =(O11-P11)*100 -> -8.8923733 | R11: =H11/G11 -> 0.95765027 | S11: =K11/J11 -> 0.95568493 | T11: =(R11-S11)*100 -> 0.19653384 | U11: =H11/F11 -> 0.29159734 | V11: =K11/I11 -> 0.37598198 | W11: =(U11-V11)*100 -> -8.4384641 | X11: =F11/L11 -> 0.15399644 | Y11: =G11/M11 -> 0.12348699 | Z11: =H11/N11 -> 0.12370952 | AA11: =(Y11-X11)*100 -> -3.0509456 | AB11: =(Z11-Y11)*100 -> 0.022253171 | AC11: =(Z11-X11)*100 -> -3.0286924 | AD11: =Z11/X11 -> 0.80332712
A12: First-generation status | B12: 2022-2023 | C12: 2022 | D12: First generation | E12: Remaining total excluding first generation | F12: ='Source Counts'!G28 -> 7712 | G12: ='Source Counts'!G34 -> 2667 | H12: ='Source Counts'!G40 -> 2543 | I12: ='Source Counts'!J28-'Source Counts'!G28 -> 47477 | J12: ='Source Counts'!J34-'Source Counts'!G34 -> 21143 | K12: ='Source Counts'!J40-'Source Counts'!G40 -> 20167 | L12: ='Source Counts'!J28 -> 55189 | M12: ='Source Counts'!J34 -> 23810 | N12: ='Source Counts'!J40 -> 22710 | O12: =G12/F12 -> 0.34582469 | P12: =J12/I12 -> 0.44533142 | Q12: =(O12-P12)*100 -> -9.9506735 | R12: =H12/G12 -> 0.95350581 | S12: =K12/J12 -> 0.95383815 | T12: =(R12-S12)*100 -> -0.033233797 | U12: =H12/F12 -> 0.32974585 | V12: =K12/I12 -> 0.4247741 | W12: =(U12-V12)*100 -> -9.5028251 | X12: =F12/L12 -> 0.13973799 | Y12: =G12/M12 -> 0.11201176 | Z12: =H12/N12 -> 0.1119771 | AA12: =(Y12-X12)*100 -> -2.7726232 | AB12: =(Z12-Y12)*100 -> -0.0034657167 | AC12: =(Z12-X12)*100 -> -2.7760889 | AD12: =Z12/X12 -> 0.80133614
A13: First-generation status | B13: 2023-2024 | C13: 2023 | D13: First generation | E13: Remaining total excluding first generation | F13: ='Source Counts'!G29 -> 7260 | G13: ='Source Counts'!G35 -> 2720 | H13: ='Source Counts'!G41 -> 2606 | I13: ='Source Counts'!J29-'Source Counts'!G29 -> 45317 | J13: ='Source Counts'!J35-'Source Counts'!G35 -> 21294 | K13: ='Source Counts'!J41-'Source Counts'!G41 -> 20374 | L13: ='Source Counts'!J29 -> 52577 | M13: ='Source Counts'!J35 -> 24014 | N13: ='Source Counts'!J41 -> 22980 | O13: =G13/F13 -> 0.37465565 | P13: =J13/I13 -> 0.46988989 | Q13: =(O13-P13)*100 -> -9.5234239 | R13: =H13/G13 -> 0.95808824 | S13: =K13/J13 -> 0.95679534 | T13: =(R13-S13)*100 -> 0.12928939 | U13: =H13/F13 -> 0.35895317 | V13: =K13/I13 -> 0.44958845 | W13: =(U13-V13)*100 -> -9.0635287 | X13: =F13/L13 -> 0.13808319 | Y13: =G13/M13 -> 0.11326726 | Z13: =H13/N13 -> 0.11340296 | AA13: =(Y13-X13)*100 -> -2.4815932 | AB13: =(Z13-Y13)*100 -> 0.013569833 | AC13: =(Z13-X13)*100 -> -2.4680233 | AD13: =Z13/X13 -> 0.82126548
A14: First-generation status | B14: 2024-2025 | C14: 2024 | D14: First generation | E14: Remaining total excluding first generation | F14: ='Source Counts'!G30 -> 7146 | G14: ='Source Counts'!G36 -> 2669 | H14: ='Source Counts'!G42 -> 2545 | I14: ='Source Counts'!J30-'Source Counts'!G30 -> 44800 | J14: ='Source Counts'!J36-'Source Counts'!G36 -> 21503 | K14: ='Source Counts'!J42-'Source Counts'!G42 -> 20611 | L14: ='Source Counts'!J30 -> 51946 | M14: ='Source Counts'!J36 -> 24172 | N14: ='Source Counts'!J42 -> 23156 | O14: =G14/F14 -> 0.37349566 | P14: =J14/I14 -> 0.47997768 | Q14: =(O14-P14)*100 -> -10.648202 | R14: =H14/G14 -> 0.95354065 | S14: =K14/J14 -> 0.95851742 | T14: =(R14-S14)*100 -> -0.49767642 | U14: =H14/F14 -> 0.3561433 | V14: =K14/I14 -> 0.46006696 | W14: =(U14-V14)*100 -> -10.392367 | X14: =F14/L14 -> 0.13756593 | Y14: =G14/M14 -> 0.11041701 | Z14: =H14/N14 -> 0.10990672 | AA14: =(Y14-X14)*100 -> -2.7148922 | AB14: =(Z14-Y14)*100 -> -0.051029178 | AC14: =(Z14-X14)*100 -> -2.7659214 | AD14: =Z14/X14 -> 0.79893849
A15: First-generation status | B15: 2025-2026 | C15: 2025 | D15: First generation | E15: Remaining total excluding first generation | F15: ='Source Counts'!G31 -> 7530 | G15: ='Source Counts'!G37 -> 2615 | H15: ='Source Counts'!G43 -> 2498 | I15: ='Source Counts'!J31-'Source Counts'!G31 -> 47169 | J15: ='Source Counts'!J37-'Source Counts'!G37 -> 21685 | K15: ='Source Counts'!J43-'Source Counts'!G43 -> 20942 | L15: ='Source Counts'!J31 -> 54699 | M15: ='Source Counts'!J37 -> 24300 | N15: ='Source Counts'!J43 -> 23440 | O15: =G15/F15 -> 0.34727756 | P15: =J15/I15 -> 0.45972991 | Q15: =(O15-P15)*100 -> -11.245235 | R15: =H15/G15 -> 0.95525813 | S15: =K15/J15 -> 0.96573668 | T15: =(R15-S15)*100 -> -1.0478558 | U15: =H15/F15 -> 0.33173971 | V15: =K15/I15 -> 0.44397804 | W15: =(U15-V15)*100 -> -11.223833 | X15: =F15/L15 -> 0.13766248 | Y15: =G15/M15 -> 0.10761317 | Z15: =H15/N15 -> 0.10656997 | AA15: =(Y15-X15)*100 -> -3.0049311 | AB15: =(Z15-Y15)*100 -> -0.10432029 | AC15: =(Z15-X15)*100 -> -3.1092514 | AD15: =Z15/X15 -> 0.77413952
A16: Fee assistance | B16: 2022-2023 | C16: 2022 | D16: Used AMCAS fee assistance benefits | E16: Remaining total excluding fee assistance benefits | F16: ='Source Counts'!G44 -> 6940 | G16: ='Source Counts'!G48 -> 2752 | H16: ='Source Counts'!G52 -> 2639 | I16: ='Source Counts'!J44-'Source Counts'!G44 -> 48249 | J16: ='Source Counts'!J48-'Source Counts'!G48 -> 21058 | K16: ='Source Counts'!J52-'Source Counts'!G52 -> 20071 | L16: ='Source Counts'!J44 -> 55189 | M16: ='Source Counts'!J48 -> 23810 | N16: ='Source Counts'!J52 -> 22710 | O16: =G16/F16 -> 0.39654179 | P16: =J16/I16 -> 0.43644428 | Q16: =(O16-P16)*100 -> -3.9902492 | R16: =H16/G16 -> 0.95893895 | S16: =K16/J16 -> 0.95312945 | T16: =(R16-S16)*100 -> 0.58095015 | U16: =H16/F16 -> 0.38025937 | V16: =K16/I16 -> 0.4159879 | W16: =(U16-V16)*100 -> -3.572853 | X16: =F16/L16 -> 0.1257497 | Y16: =G16/M16 -> 0.11558169 | Z16: =H16/N16 -> 0.11620432 | AA16: =(Y16-X16)*100 -> -1.0168008 | AB16: =(Z16-Y16)*100 -> 0.062262691 | AC16: =(Z16-X16)*100 -> -0.95453812 | AD16: =Z16/X16 -> 0.92409221
A17: Fee assistance | B17: 2023-2024 | C17: 2023 | D17: Used AMCAS fee assistance benefits | E17: Remaining total excluding fee assistance benefits | F17: ='Source Counts'!G45 -> 7129 | G17: ='Source Counts'!G49 -> 3010 | H17: ='Source Counts'!G53 -> 2896 | I17: ='Source Counts'!J45-'Source Counts'!G45 -> 45448 | J17: ='Source Counts'!J49-'Source Counts'!G49 -> 21004 | K17: ='Source Counts'!J53-'Source Counts'!G53 -> 20084 | L17: ='Source Counts'!J45 -> 52577 | M17: ='Source Counts'!J49 -> 24014 | N17: ='Source Counts'!J53 -> 22980 | O17: =G17/F17 -> 0.42221911 | P17: =J17/I17 -> 0.46215455 | Q17: =(O17-P17)*100 -> -3.9935445 | R17: =H17/G17 -> 0.96212625 | S17: =K17/J17 -> 0.95619882 | T17: =(R17-S17)*100 -> 0.59274266 | U17: =H17/F17 -> 0.40622808 | V17: =K17/I17 -> 0.44191164 | W17: =(U17-V17)*100 -> -3.5683553 | X17: =F17/L17 -> 0.13559161 | Y17: =G17/M17 -> 0.12534355 | Z17: =H17/N17 -> 0.12602263 | AA17: =(Y17-X17)*100 -> -1.0248059 | AB17: =(Z17-Y17)*100 -> 0.067907878 | AC17: =(Z17-X17)*100 -> -0.95689801 | AD17: =Z17/X17 -> 0.92942793
A18: Fee assistance | B18: 2024-2025 | C18: 2024 | D18: Used AMCAS fee assistance benefits | E18: Remaining total excluding fee assistance benefits | F18: ='Source Counts'!G46 -> 7474 | G18: ='Source Counts'!G50 -> 3029 | H18: ='Source Counts'!G54 -> 2892 | I18: ='Source Counts'!J46-'Source Counts'!G46 -> 44472 | J18: ='Source Counts'!J50-'Source Counts'!G50 -> 21143 | K18: ='Source Counts'!J54-'Source Counts'!G54 -> 20264 | L18: ='Source Counts'!J46 -> 51946 | M18: ='Source Counts'!J50 -> 24172 | N18: ='Source Counts'!J54 -> 23156 | O18: =G18/F18 -> 0.40527161 | P18: =J18/I18 -> 0.47542274 | Q18: =(O18-P18)*100 -> -7.015113 | R18: =H18/G18 -> 0.95477055 | S18: =K18/J18 -> 0.95842596 | T18: =(R18-S18)*100 -> -0.36554052 | U18: =H18/F18 -> 0.3869414 | V18: =K18/I18 -> 0.45565749 | W18: =(U18-V18)*100 -> -6.8716096 | X18: =F18/L18 -> 0.14388018 | Y18: =G18/M18 -> 0.12531028 | Z18: =H18/N18 -> 0.12489204 | AA18: =(Y18-X18)*100 -> -1.8569907 | AB18: =(Z18-Y18)*100 -> -0.041823973 | AC18: =(Z18-X18)*100 -> -1.8988147 | AD18: =Z18/X18 -> 0.86802806
A19: Fee assistance | B19: 2025-2026 | C19: 2025 | D19: Used AMCAS fee assistance benefits | E19: Remaining total excluding fee assistance benefits | F19: ='Source Counts'!G47 -> 8251 | G19: ='Source Counts'!G51 -> 3151 | H19: ='Source Counts'!G55 -> 3029 | I19: ='Source Counts'!J47-'Source Counts'!G47 -> 46448 | J19: ='Source Counts'!J51-'Source Counts'!G51 -> 21149 | K19: ='Source Counts'!J55-'Source Counts'!G55 -> 20411 | L19: ='Source Counts'!J47 -> 54699 | M19: ='Source Counts'!J51 -> 24300 | N19: ='Source Counts'!J55 -> 23440 | O19: =G19/F19 -> 0.3818931 | P19: =J19/I19 -> 0.45532639 | Q19: =(O19-P19)*100 -> -7.3433283 | R19: =H19/G19 -> 0.96128213 | S19: =K19/J19 -> 0.96510473 | T19: =(R19-S19)*100 -> -0.38226004 | U19: =H19/F19 -> 0.36710702 | V19: =K19/I19 -> 0.43943765 | W19: =(U19-V19)*100 -> -7.2330633 | X19: =F19/L19 -> 0.15084371 | Y19: =G19/M19 -> 0.12967078 | Z19: =H19/N19 -> 0.12922355 | AA19: =(Y19-X19)*100 -> -2.1172926 | AB19: =(Z19-Y19)*100 -> -0.04472324 | AC19: =(Z19-X19)*100 -> -2.1620159 | AD19: =Z19/X19 -> 0.85667179

Sheet Latest Metrics
A1: Domain | B1: Academic year | C1: Focal group | D1: Reference group | E1: Focal applicants (n) | F1: Focal acceptees (n) | G1: Focal matriculants (n) | H1: Reference applicants (n) | I1: Reference acceptees (n) | J1: Reference matriculants (n) | K1: Focal acceptance rate | L1: Reference acceptance rate | M1: Acceptance gap (pp) | N1: Focal pipeline rate | O1: Reference pipeline rate | P1: Pipeline gap (pp) | Q1: Focal matriculation yield | R1: Reference matriculation yield | S1: Yield gap (pp) | T1: Focal applicant share | U1: Focal acceptee share | V1: Focal matriculant share | W1: Representation ratio
A2: AAMC EO classification | B2: 2025-2026 | C2: Lower EO (EO1/2) | D2: Higher EO (EO3/4/5) | E2: ='Annual Analysis'!F9 -> 12386 | F2: ='Annual Analysis'!G9 -> 4787 | G2: ='Annual Analysis'!H9 -> 4606 | H2: ='Annual Analysis'!I9 -> 33238 | I2: ='Annual Analysis'!J9 -> 16741 | J2: ='Annual Analysis'!K9 -> 16212 | K2: ='Annual Analysis'!O9 -> 0.38648474 | L2: ='Annual Analysis'!P9 -> 0.5036705 | M2: ='Annual Analysis'!Q9 -> -11.718576 | N2: ='Annual Analysis'!U9 -> 0.37187147 | O2: ='Annual Analysis'!V9 -> 0.48775498 | P2: ='Annual Analysis'!W9 -> -11.588351 | Q2: ='Annual Analysis'!R9 -> 0.96218926 | R2: ='Annual Analysis'!S9 -> 0.96840093 | S2: ='Annual Analysis'!T9 -> -0.62116693 | T2: ='Annual Analysis'!X9 -> 0.27147992 | U2: ='Annual Analysis'!Y9 -> 0.22236158 | V2: ='Annual Analysis'!Z9 -> 0.22125084 | W2: ='Annual Analysis'!AD9 -> 0.81498049
A3: First-generation status | B3: 2025-2026 | C3: First generation | D3: Remaining total excluding first generation | E3: ='Annual Analysis'!F15 -> 7530 | F3: ='Annual Analysis'!G15 -> 2615 | G3: ='Annual Analysis'!H15 -> 2498 | H3: ='Annual Analysis'!I15 -> 47169 | I3: ='Annual Analysis'!J15 -> 21685 | J3: ='Annual Analysis'!K15 -> 20942 | K3: ='Annual Analysis'!O15 -> 0.34727756 | L3: ='Annual Analysis'!P15 -> 0.45972991 | M3: ='Annual Analysis'!Q15 -> -11.245235 | N3: ='Annual Analysis'!U15 -> 0.33173971 | O3: ='Annual Analysis'!V15 -> 0.44397804 | P3: ='Annual Analysis'!W15 -> -11.223833 | Q3: ='Annual Analysis'!R15 -> 0.95525813 | R3: ='Annual Analysis'!S15 -> 0.96573668 | S3: ='Annual Analysis'!T15 -> -1.0478558 | T3: ='Annual Analysis'!X15 -> 0.13766248 | U3: ='Annual Analysis'!Y15 -> 0.10761317 | V3: ='Annual Analysis'!Z15 -> 0.10656997 | W3: ='Annual Analysis'!AD15 -> 0.77413952
A4: Fee assistance | B4: 2025-2026 | C4: Used AMCAS fee assistance benefits | D4: Remaining total excluding fee assistance benefits | E4: ='Annual Analysis'!F19 -> 8251 | F4: ='Annual Analysis'!G19 -> 3151 | G4: ='Annual Analysis'!H19 -> 3029 | H4: ='Annual Analysis'!I19 -> 46448 | I4: ='Annual Analysis'!J19 -> 21149 | J4: ='Annual Analysis'!K19 -> 20411 | K4: ='Annual Analysis'!O19 -> 0.3818931 | L4: ='Annual Analysis'!P19 -> 0.45532639 | M4: ='Annual Analysis'!Q19 -> -7.3433283 | N4: ='Annual Analysis'!U19 -> 0.36710702 | O4: ='Annual Analysis'!V19 -> 0.43943765 | P4: ='Annual Analysis'!W19 -> -7.2330633 | Q4: ='Annual Analysis'!R19 -> 0.96128213 | R4: ='Annual Analysis'!S19 -> 0.96510473 | S4: ='Annual Analysis'!T19 -> -0.38226004 | T4: ='Annual Analysis'!X19 -> 0.15084371 | U4: ='Annual Analysis'!Y19 -> 0.12967078 | V4: ='Annual Analysis'!Z19 -> 0.12922355 | W4: ='Annual Analysis'!AD19 -> 0.85667179

Sheet Stage Contributions
A1: Domain | B1: Focal group | C1: Academic year | D1: Applicant share | E1: Acceptee share | F1: Matriculant share | G1: Applicant-to-acceptee change (pp) | H1: Acceptee-to-matriculant change (pp) | I1: Applicant-to-matriculant change (pp) | J1: Pre-acceptance contribution | K1: Post-acceptance contribution
A2: AAMC EO classification | B2: Lower EO (EO1/2) | C2: 2025-2026 | D2: ='Latest Metrics'!T2 -> 0.27147992 | E2: ='Latest Metrics'!U2 -> 0.22236158 | F2: ='Latest Metrics'!V2 -> 0.22125084 | G2: =(E2-D2)*100 -> -4.9118347 | H2: =(F2-E2)*100 -> -0.1110735 | I2: =(F2-D2)*100 -> -5.0229082 | J2: =ABS(G2)/ABS(I2) -> 0.97788662 | K2: =ABS(H2)/ABS(I2) -> 0.022113384
A3: First-generation status | B3: First generation | C3: 2025-2026 | D3: ='Latest Metrics'!T3 -> 0.13766248 | E3: ='Latest Metrics'!U3 -> 0.10761317 | F3: ='Latest Metrics'!V3 -> 0.10656997 | G3: =(E3-D3)*100 -> -3.0049311 | H3: =(F3-E3)*100 -> -0.10432029 | I3: =(F3-D3)*100 -> -3.1092514 | J3: =ABS(G3)/ABS(I3) -> 0.96644842 | K3: =ABS(H3)/ABS(I3) -> 0.033551576
A4: Fee assistance | B4: Used AMCAS fee assistance benefits | C4: 2025-2026 | D4: ='Latest Metrics'!T4 -> 0.15084371 | E4: ='Latest Metrics'!U4 -> 0.12967078 | F4: ='Latest Metrics'!V4 -> 0.12922355 | G4: =(E4-D4)*100 -> -2.1172926 | H4: =(F4-E4)*100 -> -0.04472324 | I4: =(F4-D4)*100 -> -2.1620159 | J4: =ABS(G4)/ABS(I4) -> 0.9793141 | K4: =ABS(H4)/ABS(I4) -> 0.020685898

Sheet Stage Equalization
A1: Domain | B1: Focal group | C1: Reference group | D1: Academic year | E1: Observed focal acceptance | F1: Observed reference acceptance | G1: Observed focal yield | H1: Observed reference yield | I1: Observed focal pipeline | J1: Observed reference pipeline | K1: Observed pipeline gap (pp) | L1: Pipeline if acceptance equalized | M1: Remaining gap after acceptance equalized (pp) | N1: Gap reduction if acceptance equalized | O1: Pipeline if yield equalized | P1: Remaining gap after yield equalized (pp) | Q1: Gap reduction if yield equalized | R1: Shapley acceptance component (pp) | S1: Shapley yield component (pp) | T1: Shapley acceptance share | U1: Shapley yield share
A2: AAMC EO classification | B2: Lower EO (EO1/2) | C2: Higher EO (EO3/4/5) | D2: 2025-2026 | E2: ='Latest Metrics'!K2 -> 0.38648474 | F2: ='Latest Metrics'!L2 -> 0.5036705 | G2: ='Latest Metrics'!Q2 -> 0.96218926 | H2: ='Latest Metrics'!R2 -> 0.96840093 | I2: ='Latest Metrics'!N2 -> 0.37187147 | J2: ='Latest Metrics'!O2 -> 0.48775498 | K2: ='Latest Metrics'!P2 -> -11.588351 | L2: =F2*G2 -> 0.48462634 | M2: =(L2-J2)*100 -> -0.31286345 | N2: =(ABS(K2)-ABS(M2))/ABS(K2) -> 0.9730019 | O2: =E2*H2 -> 0.37427218 | P2: =(O2-J2)*100 -> -11.34828 | Q2: =(ABS(K2)-ABS(P2))/ABS(K2) -> 0.020716626 | R2: =((F2-E2)*(G2+H2)/2)*100 -> 11.311884 | S2: =((H2-G2)*(E2+F2)/2)*100 -> 0.2764675 | T2: =R2/(R2+S2) -> 0.97614264 | U2: =S2/(R2+S2) -> 0.023857363
A3: First-generation status | B3: First generation | C3: Remaining total excluding first generation | D3: 2025-2026 | E3: ='Latest Metrics'!K3 -> 0.34727756 | F3: ='Latest Metrics'!L3 -> 0.45972991 | G3: ='Latest Metrics'!Q3 -> 0.95525813 | H3: ='Latest Metrics'!R3 -> 0.96573668 | I3: ='Latest Metrics'!N3 -> 0.33173971 | J3: ='Latest Metrics'!O3 -> 0.44397804 | K3: ='Latest Metrics'!P3 -> -11.223833 | L3: =F3*G3 -> 0.43916073 | M3: =(L3-J3)*100 -> -0.48173066 | N3: =(ABS(K3)-ABS(M3))/ABS(K3) -> 0.95707967 | O3: =E3*H3 -> 0.33537868 | P3: =(O3-J3)*100 -> -10.859936 | Q3: =(ABS(K3)-ABS(P3))/ABS(K3) -> 0.032421795 | R3: =((F3-E3)*(G3+H3)/2)*100 -> 10.801019 | S3: =((H3-G3)*(E3+F3)/2)*100 -> 0.42281373 | T3: =R3/(R3+S3) -> 0.96232894 | U3: =S3/(R3+S3) -> 0.037671065
A4: Fee assistance | B4: Used AMCAS fee assistance benefits | C4: Remaining total excluding fee assistance benefits | D4: 2025-2026 | E4: ='Latest Metrics'!K4 -> 0.3818931 | F4: ='Latest Metrics'!L4 -> 0.45532639 | G4: ='Latest Metrics'!Q4 -> 0.96128213 | H4: ='Latest Metrics'!R4 -> 0.96510473 | I4: ='Latest Metrics'!N4 -> 0.36710702 | J4: ='Latest Metrics'!O4 -> 0.43943765 | K4: ='Latest Metrics'!P4 -> -7.2330633 | L4: =F4*G4 -> 0.43769712 | M4: =(L4-J4)*100 -> -0.17405308 | N4: =(ABS(K4)-ABS(M4))/ABS(K4) -> 0.97593646 | O4: =E4*H4 -> 0.36856684 | P4: =(O4-J4)*100 -> -7.0870809 | Q4: =(ABS(K4)-ABS(P4))/ABS(K4) -> 0.020182662 | R4: =((F4-E4)*(G4+H4)/2)*100 -> 7.0730456 | S4: =((H4-G4)*(E4+F4)/2)*100 -> 0.16001778 | T4: =R4/(R4+S4) -> 0.9778769 | U4: =S4/(R4+S4) -> 0.022123099

Sheet Trend Slopes
A1: Domain | B1: Focal group | C1: Reference group | D1: Metric | E1: Years (n) | F1: Start year | G1: End year | H1: Start gap (pp) | I1: End gap (pp) | J1: Absolute change (pp) | K1: Slope (pp/year) | L1: R-squared
A2: AAMC EO classification | B2: Lower EO (EO1/2) | C2: Higher EO (EO3/4/5) | D2: Acceptance rate | E2: =COUNT('Annual Analysis'!C2:C9) -> 8 | F2: ='Annual Analysis'!C2 -> 2018 | G2: ='Annual Analysis'!C9 -> 2025 | H2: ='Annual Analysis'!Q2 -> -12.139984 | I2: ='Annual Analysis'!Q9 -> -11.718576 | J2: =I2-H2 -> 0.42140868 | K2: =SLOPE('Annual Analysis'!Q2:Q9,'Annual Analysis'!C2:C9) -> -0.00025611033 | L2: =RSQ('Annual Analysis'!Q2:Q9,'Annual Analysis'!C2:C9) -> 3.752876e-07
A3: AAMC EO classification | B3: Lower EO (EO1/2) | C3: Higher EO (EO3/4/5) | D3: Applicant-to-matriculant pipeline rate | E3: =COUNT('Annual Analysis'!C2:C9) -> 8 | F3: ='Annual Analysis'!C2 -> 2018 | G3: ='Annual Analysis'!C9 -> 2025 | H3: ='Annual Analysis'!W2 -> -11.753207 | I3: ='Annual Analysis'!W9 -> -11.588351 | J3: =I3-H3 -> 0.16485583 | K3: =SLOPE('Annual Analysis'!W2:W9,'Annual Analysis'!C2:C9) -> -0.011936458 | L3: =RSQ('Annual Analysis'!W2:W9,'Annual Analysis'!C2:C9) -> 0.00078217373
A4: AAMC EO classification | B4: Lower EO (EO1/2) | C4: Higher EO (EO3/4/5) | D4: Matriculation yield | E4: =COUNT('Annual Analysis'!C2:C9) -> 8 | F4: ='Annual Analysis'!C2 -> 2018 | G4: ='Annual Analysis'!C9 -> 2025 | H4: ='Annual Analysis'!T2 -> -0.10004565 | I4: ='Annual Analysis'!T9 -> -0.62116693 | J4: =I4-H4 -> -0.52112128 | K4: =SLOPE('Annual Analysis'!T2:T9,'Annual Analysis'!C2:C9) -> -0.039867819 | L4: =RSQ('Annual Analysis'!T2:T9,'Annual Analysis'!C2:C9) -> 0.1442425
A5: First-generation status | B5: First generation | C5: Remaining total excluding first generation | D5: Acceptance rate | E5: =COUNT('Annual Analysis'!C10:C15) -> 6 | F5: ='Annual Analysis'!C10 -> 2020 | G5: ='Annual Analysis'!C15 -> 2025 | H5: ='Annual Analysis'!Q10 -> -9.1861348 | I5: ='Annual Analysis'!Q15 -> -11.245235 | J5: =I5-H5 -> -2.0591003 | K5: =SLOPE('Annual Analysis'!Q10:Q15,'Annual Analysis'!C10:C15) -> -0.43244963 | L5: =RSQ('Annual Analysis'!Q10:Q15,'Annual Analysis'!C10:C15) -> 0.81040018
A6: First-generation status | B6: First generation | C6: Remaining total excluding first generation | D6: Applicant-to-matriculant pipeline rate | E6: =COUNT('Annual Analysis'!C10:C15) -> 6 | F6: ='Annual Analysis'!C10 -> 2020 | G6: ='Annual Analysis'!C15 -> 2025 | H6: ='Annual Analysis'!W10 -> -8.8855046 | I6: ='Annual Analysis'!W15 -> -11.223833 | J6: =I6-H6 -> -2.3383282 | K6: =SLOPE('Annual Analysis'!W10:W15,'Annual Analysis'!C10:C15) -> -0.48897293 | L6: =RSQ('Annual Analysis'!W10:W15,'Annual Analysis'!C10:C15) -> 0.77196487
A7: First-generation status | B7: First generation | C7: Remaining total excluding first generation | D7: Matriculation yield | E7: =COUNT('Annual Analysis'!C10:C15) -> 6 | F7: ='Annual Analysis'!C10 -> 2020 | G7: ='Annual Analysis'!C15 -> 2025 | H7: ='Annual Analysis'!T10 -> -0.11893857 | I7: ='Annual Analysis'!T15 -> -1.0478558 | J7: =I7-H7 -> -0.92891725 | K7: =SLOPE('Annual Analysis'!T10:T15,'Annual Analysis'!C10:C15) -> -0.18756268 | L7: =RSQ('Annual Analysis'!T10:T15,'Annual Analysis'!C10:C15) -> 0.55835855
A8: Fee assistance | B8: Used AMCAS fee assistance benefits | C8: Remaining total excluding fee assistance benefits | D8: Acceptance rate | E8: =COUNT('Annual Analysis'!C16:C19) -> 4 | F8: ='Annual Analysis'!C16 -> 2022 | G8: ='Annual Analysis'!C19 -> 2025 | H8: ='Annual Analysis'!Q16 -> -3.9902492 | I8: ='Annual Analysis'!Q19 -> -7.3433283 | J8: =I8-H8 -> -3.3530791 | K8: =SLOPE('Annual Analysis'!Q16:Q19,'Annual Analysis'!C16:C19) -> -1.3080806 | L8: =RSQ('Annual Analysis'!Q16:Q19,'Annual Analysis'!C16:C19) -> 0.83770263
A9: Fee assistance | B9: Used AMCAS fee assistance benefits | C9: Remaining total excluding fee assistance benefits | D9: Applicant-to-matriculant pipeline rate | E9: =COUNT('Annual Analysis'!C16:C19) -> 4 | F9: ='Annual Analysis'!C16 -> 2022 | G9: ='Annual Analysis'!C19 -> 2025 | H9: ='Annual Analysis'!W16 -> -3.572853 | I9: ='Annual Analysis'!W19 -> -7.2330633 | J9: =I9-H9 -> -3.6602103 | K9: =SLOPE('Annual Analysis'!W16:W19,'Annual Analysis'!C16:C19) -> -1.4283885 | L9: =RSQ('Annual Analysis'!W16:W19,'Annual Analysis'!C16:C19) -> 0.83702339
A10: Fee assistance | B10: Used AMCAS fee assistance benefits | C10: Remaining total excluding fee assistance benefits | D10: Matriculation yield | E10: =COUNT('Annual Analysis'!C16:C19) -> 4 | F10: ='Annual Analysis'!C16 -> 2022 | G10: ='Annual Analysis'!C19 -> 2025 | H10: ='Annual Analysis'!T16 -> 0.58095015 | I10: ='Annual Analysis'!T19 -> -0.38226004 | J10: =I10-H10 -> -0.96321019 | K10: =SLOPE('Annual Analysis'!T16:T19,'Annual Analysis'!C16:C19) -> -0.38479138 | L10: =RSQ('Annual Analysis'!T16:T19,'Annual Analysis'!C16:C19) -> 0.80187081

Sheet EO Sensitivity
A1: Analysis role | B1: Academic year | C1: Applicant denominator (n) | D1: Acceptee denominator (n) | E1: Matriculant denominator (n) | F1: Lower-EO applicant share | G1: Lower-EO acceptee share | H1: Lower-EO matriculant share | I1: Applicant-to-matriculant change (pp) | J1: Representation ratio | K1: Acceptance rate | L1: Pipeline rate | M1: Matriculation yield
A2: Main analysis: known EO only | B2: 2025-2026 | C2: ='Annual Analysis'!L9 -> 45624 | D2: ='Annual Analysis'!M9 -> 21528 | E2: ='Annual Analysis'!N9 -> 20818 | F2: ='Annual Analysis'!X9 -> 0.27147992 | G2: ='Annual Analysis'!Y9 -> 0.22236158 | H2: ='Annual Analysis'!Z9 -> 0.22125084 | I2: ='Annual Analysis'!AC9 -> -5.0229082 | J2: ='Annual Analysis'!AD9 -> 0.81498049 | K2: ='Annual Analysis'!O9 -> 0.38648474 | L2: ='Annual Analysis'!U9 -> 0.37187147 | M2: ='Annual Analysis'!R9 -> 0.96218926
A3: Sensitivity analysis: includes unknown/not applicable in denominator | B3: 2025-2026 | C3: ='Source Counts'!J9 -> 54699 | D3: ='Source Counts'!J17 -> 24300 | E3: ='Source Counts'!J25 -> 23440 | F3: ='Annual Analysis'!F9/C3 -> 0.22643924 | G3: ='Annual Analysis'!G9/D3 -> 0.19699588 | H3: ='Annual Analysis'!H9/E3 -> 0.19650171 | I3: =(H3-F3)*100 -> -2.9937534 | J3: =H3/F3 -> 0.86778999 | K3: ='Annual Analysis'!O9 -> 0.38648474 | L3: ='Annual Analysis'!U9 -> 0.37187147 | M3: ='Annual Analysis'!R9 -> 0.96218926

Sheet Reference Intervals
A1: Domain | B1: Academic year | C1: Metric | D1: Focal group | E1: Reference group | F1: Focal numerator | G1: Focal denominator | H1: Focal rate | I1: Focal Wilson 95% low | J1: Focal Wilson 95% high | K1: Reference numerator | L1: Reference denominator | M1: Reference rate | N1: Reference Wilson 95% low | O1: Reference Wilson 95% high | P1: Difference, focal-reference (pp) | Q1: Newcombe 95% low (pp) | R1: Newcombe 95% high (pp) | S1: Note | V1: Parameter | W1: Value
A2: AAMC EO classification | B2: 2025-2026 | C2: Acceptance rate | D2: Lower EO (EO1/2) | E2: Higher EO (EO3/4/5) | F2: ='Latest Metrics'!F2 -> 4787 | G2: ='Latest Metrics'!E2 -> 12386 | H2: =F2/G2 -> 0.38648474 | I2: =(H2+$W$2^2/(2*G2))/(1+$W$2^2/G2)-$W$2*SQRT(H2*(1-H2)/G2+$W$2^2/(4*G2^2))/(1+$W$2^2/G2) -> 0.37794565 | J2: =(H2+$W$2^2/(2*G2))/(1+$W$2^2/G2)+$W$2*SQRT(H2*(1-H2)/G2+$W$2^2/(4*G2^2))/(1+$W$2^2/G2) -> 0.39509422 | K2: ='Latest Metrics'!I2 -> 16741 | L2: ='Latest Metrics'!H2 -> 33238 | M2: =K2/L2 -> 0.5036705 | N2: =(M2+$W$2^2/(2*L2))/(1+$W$2^2/L2)-$W$2*SQRT(M2*(1-M2)/L2+$W$2^2/(4*L2^2))/(1+$W$2^2/L2) -> 0.49829525 | O2: =(M2+$W$2^2/(2*L2))/(1+$W$2^2/L2)+$W$2*SQRT(M2*(1-M2)/L2+$W$2^2/(4*L2^2))/(1+$W$2^2/L2) -> 0.50904489 | P2: =(H2-M2)*100 -> -11.718576 | Q2: =P2-SQRT((H2-I2)^2+(O2-M2)^2)*100 -> -12.727536 | R2: =P2+SQRT((J2-H2)^2+(M2-N2)^2)*100 -> -10.703606 | S2: Reference-only interval summary under a binomial working model; not used for hypothesis testing or superpopulation inference. | V2: Two-sided 95% z | W2: 1.959964
A3: AAMC EO classification | B3: 2025-2026 | C3: Applicant-to-matriculant pipeline rate | D3: Lower EO (EO1/2) | E3: Higher EO (EO3/4/5) | F3: ='Latest Metrics'!G2 -> 4606 | G3: ='Latest Metrics'!E2 -> 12386 | H3: =F3/G3 -> 0.37187147 | I3: =(H3+$W$2^2/(2*G3))/(1+$W$2^2/G3)-$W$2*SQRT(H3*(1-H3)/G3+$W$2^2/(4*G3^2))/(1+$W$2^2/G3) -> 0.36340098 | J3: =(H3+$W$2^2/(2*G3))/(1+$W$2^2/G3)+$W$2*SQRT(H3*(1-H3)/G3+$W$2^2/(4*G3^2))/(1+$W$2^2/G3) -> 0.38042141 | K3: ='Latest Metrics'!J2 -> 16212 | L3: ='Latest Metrics'!H2 -> 33238 | M3: =K3/L3 -> 0.48775498 | N3: =(M3+$W$2^2/(2*L3))/(1+$W$2^2/L3)-$W$2*SQRT(M3*(1-M3)/L3+$W$2^2/(4*L3^2))/(1+$W$2^2/L3) -> 0.48238304 | O3: =(M3+$W$2^2/(2*L3))/(1+$W$2^2/L3)+$W$2*SQRT(M3*(1-M3)/L3+$W$2^2/(4*L3^2))/(1+$W$2^2/L3) -> 0.49312975 | P3: =(H3-M3)*100 -> -11.588351 | Q3: =P3-SQRT((H3-I3)^2+(O3-M3)^2)*100 -> -12.591533 | R3: =P3+SQRT((J3-H3)^2+(M3-N3)^2)*100 -> -10.578602 | S3: Reference-only interval summary under a binomial working model; not used for hypothesis testing or superpopulation inference.
A4: AAMC EO classification | B4: 2025-2026 | C4: Matriculation yield | D4: Lower EO (EO1/2) | E4: Higher EO (EO3/4/5) | F4: ='Latest Metrics'!G2 -> 4606 | G4: ='Latest Metrics'!F2 -> 4787 | H4: =F4/G4 -> 0.96218926 | I4: =(H4+$W$2^2/(2*G4))/(1+$W$2^2/G4)-$W$2*SQRT(H4*(1-H4)/G4+$W$2^2/(4*G4^2))/(1+$W$2^2/G4) -> 0.95640489 | J4: =(H4+$W$2^2/(2*G4))/(1+$W$2^2/G4)+$W$2*SQRT(H4*(1-H4)/G4+$W$2^2/(4*G4^2))/(1+$W$2^2/G4) -> 0.96723244 | K4: ='Latest Metrics'!J2 -> 16212 | L4: ='Latest Metrics'!I2 -> 16741 | M4: =K4/L4 -> 0.96840093 | N4: =(M4+$W$2^2/(2*L4))/(1+$W$2^2/L4)-$W$2*SQRT(M4*(1-M4)/L4+$W$2^2/(4*L4^2))/(1+$W$2^2/L4) -> 0.96564175 | O4: =(M4+$W$2^2/(2*L4))/(1+$W$2^2/L4)+$W$2*SQRT(M4*(1-M4)/L4+$W$2^2/(4*L4^2))/(1+$W$2^2/L4) -> 0.9709452 | P4: =(H4-M4)*100 -> -0.62116693 | Q4: =P4-SQRT((H4-I4)^2+(O4-M4)^2)*100 -> -1.2530868 | R4: =P4+SQRT((J4-H4)^2+(M4-N4)^2)*100 -> -0.046304313 | S4: Reference-only interval summary under a binomial working model; not used for hypothesis testing or superpopulation inference.
A5: First-generation status | B5: 2025-2026 | C5: Acceptance rate | D5: First generation | E5: Remaining total excluding first generation | F5: ='Latest Metrics'!F3 -> 2615 | G5: ='Latest Metrics'!E3 -> 7530 | H5: =F5/G5 -> 0.34727756 | I5: =(H5+$W$2^2/(2*G5))/(1+$W$2^2/G5)-$W$2*SQRT(H5*(1-H5)/G5+$W$2^2/(4*G5^2))/(1+$W$2^2/G5) -> 0.3366043 | J5: =(H5+$W$2^2/(2*G5))/(1+$W$2^2/G5)+$W$2*SQRT(H5*(1-H5)/G5+$W$2^2/(4*G5^2))/(1+$W$2^2/G5) -> 0.35810655 | K5: ='Latest Metrics'!I3 -> 21685 | L5: ='Latest Metrics'!H3 -> 47169 | M5: =K5/L5 -> 0.45972991 | N5: =(M5+$W$2^2/(2*L5))/(1+$W$2^2/L5)-$W$2*SQRT(M5*(1-M5)/L5+$W$2^2/(4*L5^2))/(1+$W$2^2/L5) -> 0.45523581 | O5: =(M5+$W$2^2/(2*L5))/(1+$W$2^2/L5)+$W$2*SQRT(M5*(1-M5)/L5+$W$2^2/(4*L5^2))/(1+$W$2^2/L5) -> 0.46423056 | P5: =(H5-M5)*100 -> -11.245235 | Q5: =P5-SQRT((H5-I5)^2+(O5-M5)^2)*100 -> -12.403571 | R5: =P5+SQRT((J5-H5)^2+(M5-N5)^2)*100 -> -10.072784 | S5: Reference-only interval summary under a binomial working model; not used for hypothesis testing or superpopulation inference.
A6: First-generation status | B6: 2025-2026 | C6: Applicant-to-matriculant pipeline rate | D6: First generation | E6: Remaining total excluding first generation | F6: ='Latest Metrics'!G3 -> 2498 | G6: ='Latest Metrics'!E3 -> 7530 | H6: =F6/G6 -> 0.33173971 | I6: =(H6+$W$2^2/(2*G6))/(1+$W$2^2/G6)-$W$2*SQRT(H6*(1-H6)/G6+$W$2^2/(4*G6^2))/(1+$W$2^2/G6) -> 0.32119324 | J6: =(H6+$W$2^2/(2*G6))/(1+$W$2^2/G6)+$W$2*SQRT(H6*(1-H6)/G6+$W$2^2/(4*G6^2))/(1+$W$2^2/G6) -> 0.34245776 | K6: ='Latest Metrics'!J3 -> 20942 | L6: ='Latest Metrics'!H3 -> 47169 | M6: =K6/L6 -> 0.44397804 | N6: =(M6+$W$2^2/(2*L6))/(1+$W$2^2/L6)-$W$2*SQRT(M6*(1-M6)/L6+$W$2^2/(4*L6^2))/(1+$W$2^2/L6) -> 0.43949898 | O6: =(M6+$W$2^2/(2*L6))/(1+$W$2^2/L6)+$W$2*SQRT(M6*(1-M6)/L6+$W$2^2/(4*L6^2))/(1+$W$2^2/L6) -> 0.44846622 | P6: =(H6-M6)*100 -> -11.223833 | Q6: =P6-SQRT((H6-I6)^2+(O6-M6)^2)*100 -> -12.370008 | R6: =P6+SQRT((J6-H6)^2+(M6-N6)^2)*100 -> -10.062202 | S6: Reference-only interval summary under a binomial working model; not used for hypothesis testing or superpopulation inference.
A7: First-generation status | B7: 2025-2026 | C7: Matriculation yield | D7: First generation | E7: Remaining total excluding first generation | F7: ='Latest Metrics'!G3 -> 2498 | G7: ='Latest Metrics'!F3 -> 2615 | H7: =F7/G7 -> 0.95525813 | I7: =(H7+$W$2^2/(2*G7))/(1+$W$2^2/G7)-$W$2*SQRT(H7*(1-H7)/G7+$W$2^2/(4*G7^2))/(1+$W$2^2/G7) -> 0.9466443 | J7: =(H7+$W$2^2/(2*G7))/(1+$W$2^2/G7)+$W$2*SQRT(H7*(1-H7)/G7+$W$2^2/(4*G7^2))/(1+$W$2^2/G7) -> 0.96253636 | K7: ='Latest Metrics'!J3 -> 20942 | L7: ='Latest Metrics'!I3 -> 21685 | M7: =K7/L7 -> 0.96573668 | N7: =(M7+$W$2^2/(2*L7))/(1+$W$2^2/L7)-$W$2*SQRT(M7*(1-M7)/L7+$W$2^2/(4*L7^2))/(1+$W$2^2/L7) -> 0.96323191 | O7: =(M7+$W$2^2/(2*L7))/(1+$W$2^2/L7)+$W$2*SQRT(M7*(1-M7)/L7+$W$2^2/(4*L7^2))/(1+$W$2^2/L7) -> 0.96807648 | P7: =(H7-M7)*100 -> -1.0478558 | Q7: =P7-SQRT((H7-I7)^2+(O7-M7)^2)*100 -> -1.9404512 | R7: =P7+SQRT((J7-H7)^2+(M7-N7)^2)*100 -> -0.27813795 | S7: Reference-only interval summary under a binomial working model; not used for hypothesis testing or superpopulation inference.
A8: Fee assistance | B8: 2025-2026 | C8: Acceptance rate | D8: Used AMCAS fee assistance benefits | E8: Remaining total excluding fee assistance benefits | F8: ='Latest Metrics'!F4 -> 3151 | G8: ='Latest Metrics'!E4 -> 8251 | H8: =F8/G8 -> 0.3818931 | I8: =(H8+$W$2^2/(2*G8))/(1+$W$2^2/G8)-$W$2*SQRT(H8*(1-H8)/G8+$W$2^2/(4*G8^2))/(1+$W$2^2/G8) -> 0.37146707 | J8: =(H8+$W$2^2/(2*G8))/(1+$W$2^2/G8)+$W$2*SQRT(H8*(1-H8)/G8+$W$2^2/(4*G8^2))/(1+$W$2^2/G8) -> 0.39242906 | K8: ='Latest Metrics'!I4 -> 21149 | L8: ='Latest Metrics'!H4 -> 46448 | M8: =K8/L8 -> 0.45532639 | N8: =(M8+$W$2^2/(2*L8))/(1+$W$2^2/L8)-$W$2*SQRT(M8*(1-M8)/L8+$W$2^2/(4*L8^2))/(1+$W$2^2/L8) -> 0.45080135 | O8: =(M8+$W$2^2/(2*L8))/(1+$W$2^2/L8)+$W$2*SQRT(M8*(1-M8)/L8+$W$2^2/(4*L8^2))/(1+$W$2^2/L8) -> 0.45985881 | P8: =(H8-M8)*100 -> -7.3433283 | Q8: =P8-SQRT((H8-I8)^2+(O8-M8)^2)*100 -> -8.4801878 | R8: =P8+SQRT((J8-H8)^2+(M8-N8)^2)*100 -> -6.1966711 | S8: Reference-only interval summary under a binomial working model; not used for hypothesis testing or superpopulation inference.
A9: Fee assistance | B9: 2025-2026 | C9: Applicant-to-matriculant pipeline rate | D9: Used AMCAS fee assistance benefits | E9: Remaining total excluding fee assistance benefits | F9: ='Latest Metrics'!G4 -> 3029 | G9: ='Latest Metrics'!E4 -> 8251 | H9: =F9/G9 -> 0.36710702 | I9: =(H9+$W$2^2/(2*G9))/(1+$W$2^2/G9)-$W$2*SQRT(H9*(1-H9)/G9+$W$2^2/(4*G9^2))/(1+$W$2^2/G9) -> 0.35677055 | J9: =(H9+$W$2^2/(2*G9))/(1+$W$2^2/G9)+$W$2*SQRT(H9*(1-H9)/G9+$W$2^2/(4*G9^2))/(1+$W$2^2/G9) -> 0.37756717 | K9: ='Latest Metrics'!J4 -> 20411 | L9: ='Latest Metrics'!H4 -> 46448 | M9: =K9/L9 -> 0.43943765 | N9: =(M9+$W$2^2/(2*L9))/(1+$W$2^2/L9)-$W$2*SQRT(M9*(1-M9)/L9+$W$2^2/(4*L9^2))/(1+$W$2^2/L9) -> 0.43492922 | O9: =(M9+$W$2^2/(2*L9))/(1+$W$2^2/L9)+$W$2*SQRT(M9*(1-M9)/L9+$W$2^2/(4*L9^2))/(1+$W$2^2/L9) -> 0.4439561 | P9: =(H9-M9)*100 -> -7.2330633 | Q9: =P9-SQRT((H9-I9)^2+(O9-M9)^2)*100 -> -8.3611545 | R9: =P9+SQRT((J9-H9)^2+(M9-N9)^2)*100 -> -6.0940252 | S9: Reference-only interval summary under a binomial working model; not used for hypothesis testing or superpopulation inference.
A10: Fee assistance | B10: 2025-2026 | C10: Matriculation yield | D10: Used AMCAS fee assistance benefits | E10: Remaining total excluding fee assistance benefits | F10: ='Latest Metrics'!G4 -> 3029 | G10: ='Latest Metrics'!F4 -> 3151 | H10: =F10/G10 -> 0.96128213 | I10: =(H10+$W$2^2/(2*G10))/(1+$W$2^2/G10)-$W$2*SQRT(H10*(1-H10)/G10+$W$2^2/(4*G10^2))/(1+$W$2^2/G10) -> 0.95396512 | J10: =(H10+$W$2^2/(2*G10))/(1+$W$2^2/G10)+$W$2*SQRT(H10*(1-H10)/G10+$W$2^2/(4*G10^2))/(1+$W$2^2/G10) -> 0.96747579 | K10: ='Latest Metrics'!J4 -> 20411 | L10: ='Latest Metrics'!I4 -> 21149 | M10: =K10/L10 -> 0.96510473 | N10: =(M10+$W$2^2/(2*L10))/(1+$W$2^2/L10)-$W$2*SQRT(M10*(1-M10)/L10+$W$2^2/(4*L10^2))/(1+$W$2^2/L10) -> 0.96254577 | O10: =(M10+$W$2^2/(2*L10))/(1+$W$2^2/L10)+$W$2*SQRT(M10*(1-M10)/L10+$W$2^2/(4*L10^2))/(1+$W$2^2/L10) -> 0.96749477 | P10: =(H10-M10)*100 -> -0.38226004 | Q10: =P10-SQRT((H10-I10)^2+(O10-M10)^2)*100 -> -1.1520061 | R10: =P10+SQRT((J10-H10)^2+(M10-N10)^2)*100 -> 0.28788707 | S10: Reference-only interval summary under a binomial working model; not used for hypothesis testing or superpopulation inference.

Sheet Checks
A1: Check | B1: Scope | C1: Absolute error / indicator | D1: Status
A2: Pipeline identity | B2: AAMC EO classification, 2018-2019 | C2: =ABS('Annual Analysis'!U2-'Annual Analysis'!O2*'Annual Analysis'!R2) -> 0 | D2: =IF(C2<=0.000001,"PASS","CHECK") -> PASS
A3: Pipeline identity | B3: AAMC EO classification, 2019-2020 | C3: =ABS('Annual Analysis'!U3-'Annual Analysis'!O3*'Annual Analysis'!R3) -> 0 | D3: =IF(C3<=0.000001,"PASS","CHECK") -> PASS
A4: Pipeline identity | B4: AAMC EO classification, 2020-2021 | C4: =ABS('Annual Analysis'!U4-'Annual Analysis'!O4*'Annual Analysis'!R4) -> 0 | D4: =IF(C4<=0.000001,"PASS","CHECK") -> PASS
A5: Pipeline identity | B5: AAMC EO classification, 2021-2022 | C5: =ABS('Annual Analysis'!U5-'Annual Analysis'!O5*'Annual Analysis'!R5) -> 0 | D5: =IF(C5<=0.000001,"PASS","CHECK") -> PASS
A6: Pipeline identity | B6: AAMC EO classification, 2022-2023 | C6: =ABS('Annual Analysis'!U6-'Annual Analysis'!O6*'Annual Analysis'!R6) -> 0 | D6: =IF(C6<=0.000001,"PASS","CHECK") -> PASS
A7: Pipeline identity | B7: AAMC EO classification, 2023-2024 | C7: =ABS('Annual Analysis'!U7-'Annual Analysis'!O7*'Annual Analysis'!R7) -> 0 | D7: =IF(C7<=0.000001,"PASS","CHECK") -> PASS
A8: Pipeline identity | B8: AAMC EO classification, 2024-2025 | C8: =ABS('Annual Analysis'!U8-'Annual Analysis'!O8*'Annual Analysis'!R8) -> 0 | D8: =IF(C8<=0.000001,"PASS","CHECK") -> PASS
A9: Pipeline identity | B9: AAMC EO classification, 2025-2026 | C9: =ABS('Annual Analysis'!U9-'Annual Analysis'!O9*'Annual Analysis'!R9) -> 0 | D9: =IF(C9<=0.000001,"PASS","CHECK") -> PASS
A10: Pipeline identity | B10: First-generation status, 2020-2021 | C10: =ABS('Annual Analysis'!U10-'Annual Analysis'!O10*'Annual Analysis'!R10) -> 0 | D10: =IF(C10<=0.000001,"PASS","CHECK") -> PASS
A11: Pipeline identity | B11: First-generation status, 2021-2022 | C11: =ABS('Annual Analysis'!U11-'Annual Analysis'!O11*'Annual Analysis'!R11) -> 0 | D11: =IF(C11<=0.000001,"PASS","CHECK") -> PASS
A12: Pipeline identity | B12: First-generation status, 2022-2023 | C12: =ABS('Annual Analysis'!U12-'Annual Analysis'!O12*'Annual Analysis'!R12) -> 0 | D12: =IF(C12<=0.000001,"PASS","CHECK") -> PASS
A13: Pipeline identity | B13: First-generation status, 2023-2024 | C13: =ABS('Annual Analysis'!U13-'Annual Analysis'!O13*'Annual Analysis'!R13) -> 0 | D13: =IF(C13<=0.000001,"PASS","CHECK") -> PASS
... A19: Pipeline identity | B19: Fee assistance, 2025-2026 | C19: =ABS('Annual Analysis'!U19-'Annual Analysis'!O19*'Annual Analysis'!R19) -> 0 | D19: =IF(C19<=0.000001,"PASS","CHECK") -> PASS
A20: Interval bounds | B20: AAMC EO classification, Acceptance rate | C20: =IF(AND('Reference Intervals'!I2<='Reference Intervals'!H2,'Reference Intervals'!H2<='Reference Intervals'!J2,'Reference Intervals'!N2<='Reference Intervals'!M2,'Reference Intervals'!M2<='Reference Intervals'!O2),0,1) -> 0 | D20: =IF(C20=0,"PASS","CHECK") -> PASS
A21: Interval bounds | B21: AAMC EO classification, Applicant-to-matriculant pipeline rate | C21: =IF(AND('Reference Intervals'!I3<='Reference Intervals'!H3,'Reference Intervals'!H3<='Reference Intervals'!J3,'Reference Intervals'!N3<='Reference Intervals'!M3,'Reference Intervals'!M3<='Reference Intervals'!O3),0,1) -> 0 | D21: =IF(C21=0,"PASS","CHECK") -> PASS
A22: Interval bounds | B22: AAMC EO classification, Matriculation yield | C22: =IF(AND('Reference Intervals'!I4<='Reference Intervals'!H4,'Reference Intervals'!H4<='Reference Intervals'!J4,'Reference Intervals'!N4<='Reference Intervals'!M4,'Reference Intervals'!M4<='Reference Intervals'!O4),0,1) -> 0 | D22: =IF(C22=0,"PASS","CHECK") -> PASS
A23: Interval bounds | B23: First-generation status, Acceptance rate | C23: =IF(AND('Reference Intervals'!I5<='Reference Intervals'!H5,'Reference Intervals'!H5<='Reference Intervals'!J5,'Reference Intervals'!N5<='Reference Intervals'!M5,'Reference Intervals'!M5<='Reference Intervals'!O5),0,1) -> 0 | D23: =IF(C23=0,"PASS","CHECK") -> PASS
A24: Interval bounds | B24: First-generation status, Applicant-to-matriculant pipeline rate | C24: =IF(AND('Reference Intervals'!I6<='Reference Intervals'!H6,'Reference Intervals'!H6<='Reference Intervals'!J6,'Reference Intervals'!N6<='Reference Intervals'!M6,'Reference Intervals'!M6<='Reference Intervals'!O6),0,1) -> 0 | D24: =IF(C24=0,"PASS","CHECK") -> PASS
A25: Interval bounds | B25: First-generation status, Matriculation yield | C25: =IF(AND('Reference Intervals'!I7<='Reference Intervals'!H7,'Reference Intervals'!H7<='Reference Intervals'!J7,'Reference Intervals'!N7<='Reference Intervals'!M7,'Reference Intervals'!M7<='Reference Intervals'!O7),0,1) -> 0 | D25: =IF(C25=0,"PASS","CHECK") -> PASS
A26: Interval bounds | B26: Fee assistance, Acceptance rate | C26: =IF(AND('Reference Intervals'!I8<='Reference Intervals'!H8,'Reference Intervals'!H8<='Reference Intervals'!J8,'Reference Intervals'!N8<='Reference Intervals'!M8,'Reference Intervals'!M8<='Reference Intervals'!O8),0,1) -> 0 | D26: =IF(C26=0,"PASS","CHECK") -> PASS
A27: Interval bounds | B27: Fee assistance, Applicant-to-matriculant pipeline rate | C27: =IF(AND('Reference Intervals'!I9<='Reference Intervals'!H9,'Reference Intervals'!H9<='Reference Intervals'!J9,'Reference Intervals'!N9<='Reference Intervals'!M9,'Reference Intervals'!M9<='Reference Intervals'!O9),0,1) -> 0 | D27: =IF(C27=0,"PASS","CHECK") -> PASS
A28: Interval bounds | B28: Fee assistance, Matriculation yield | C28: =IF(AND('Reference Intervals'!I10<='Reference Intervals'!H10,'Reference Intervals'!H10<='Reference Intervals'!J10,'Reference Intervals'!N10<='Reference Intervals'!M10,'Reference Intervals'!M10<='Reference Intervals'!O10),0,1) -> 0 | D28: =IF(C28=0,"PASS","CHECK") -> PASS
A30: Overall internal consistency | B30: All listed checks | C30: =MAX(C2:C29) -> 0 | D30: =IF(C30<=0.000001,"PASS","CHECK") -> PASS
