Workbook
Name MinPrice: 'Assessing options'!$A$11

Sheet Price advantage
B2: Maximum extra price allowed compared to the cheapest option (%) | C2: 1 | F2: In this example, we see seven products with different prices. The cheapest product is the first from the left, and it will get 100% of the points according to the price criterion. Any product with a price higher than the cutoff point (red line) will get 0% of points according to the price criterion. The products with prices in between the cheapest and the cutoff point will get points based on a simple linear function.
B3: (e.g. +100% means double price, +200% means triple price of the reference product)
G9: =MAX(1-(G10-$G$10)/($G$10*$C$2),0) -> 1 | H9: =MAX(1-(H10-$G$10)/($G$10*$C$2),0) -> 0.5 | I9: =MAX(1-(I10-$G$10)/($G$10*$C$2),0) -> 0 | J9: =MAX(1-(J10-$G$10)/($G$10*$C$2),0) -> 0 | K9: =MAX(1-(K10-$G$10)/($G$10*$C$2),0) -> 0 | L9: =MAX(1-(L10-$G$10)/($G$10*$C$2),0) -> 0 | M9: =MAX(1-(M10-$G$10)/($G$10*$C$2),0) -> 0
F10: Options | G10: 10 | H10: 15 | I10: 20 | J10: 25 | K10: 30 | L10: 40 | M10: 50 | N10: =G10*(1+C2) -> 20
F11: Cutoff point | G11: =$G$10*(1+$C$2) -> 20 | H11: =$G$10*(1+$C$2) -> 20 | I11: =$G$10*(1+$C$2) -> 20 | J11: =$G$10*(1+$C$2) -> 20 | K11: =$G$10*(1+$C$2) -> 20 | L11: =$G$10*(1+$C$2) -> 20 | M11: =$G$10*(1+$C$2) -> 20

Sheet Cover
E7: Multi-criteria Decision Analysis (MCDA) tool
F8: for purchasing implantable medical devices
A11: Version 2.0
A12: Developed 3 March 2022

Sheet Scoring Functions
A1: Criteria number and intended definition | B1: Criteria name | C1: Possible scoring elements | D1: options | E1: Score (%)
A2: 1. To assure fulfilling the technical specifications | B2: Technical characteristics of the medical device | C2: Fulfills <70% of the technical specefications required | D2: =IF(C2="","",C2) -> Fulfills <70% of the technical specefications required | E2: EXCLUSION
C3: Fulfills 70%-<80% of the technical specefications required | D3: =IF(C3="","",C3) -> Fulfills 70%-<80% of the technical specefications required | E3: 0.1
C4: Fulfills 80%-<90% of the technical specefications required | D4: =IF(C4="","",C4) -> Fulfills 80%-<90% of the technical specefications required | E4: 0.6
C5: Fulfills 90%-<100% of the technical specefications required | D5: =IF(C5="","",C5) -> Fulfills 90%-<100% of the technical specefications required | E5: 0.8
C6: Fulfills 100% of the technical specefications required | D6: =IF(C6="","",C6) -> Fulfills 100% of the technical specefications required | E6: 1
A7: 2. To assure manufacturing in a country with good standards of quality | B7: Country of origin | C7: Non reference countries for both | D7: =IF(C7="","",C7) -> Non reference countries for both | E7: 0.4
C8: Reference country of the legal manufacturer or actual manufacturer | D8: =IF(C8="","",C8) -> Reference country of the legal manufacturer or actual manufacturer | E8: 0.8
C9: Reference countries for both legal and actual manufacturer or local product | D9: =IF(C9="","",C9) -> Reference countries for both legal and actual manufacturer or local product | E9: 1
A10: 3. To assure previous use in countries with good standards of quality | B10: Use in reference countries | C10: European CE certificate only (for local products only) | D10: =IF(C10="","",C10) -> European CE certificate only (for local products only) | E10: 0.5
C11: European CE certificate + free sale certificate from a reference country | D11: =IF(C11="","",C11) -> European CE certificate + free sale certificate from a reference country | E11: 0.75
C12: Canadian free sale certificate + ((medical device active license + MDSAP certificate) or medical device establishment license ) | D12: =IF(C12="","",C12) -> Canadian free sale certificate + ((medical device active license + MDSAP certificate) or medical device establishment license ) | E12: 0.8
C13: CFG certificate from FDA | D13: =IF(C13="","",C13) -> CFG certificate from FDA | E13: 1
A14: 5. To assure the relaiability of the supplier | B14: Supply reliability | C14: Supplier fulfilled < 50% of the committed requirements in the last 3 years | D14: =IF(C14="","",C14) -> Supplier fulfilled < 50% of the committed requirements in the last 3 years | E14: 0.1
C15: Did not supply previously | D15: =IF(C15="","",C15) -> Did not supply previously | E15: 0.5
C16: Supplier fulfilled 50% - 70% of the committed requirements in the last 3 years | D16: =IF(C16="","",C16) -> Supplier fulfilled 50% - 70% of the committed requirements in the last 3 years | E16: 0.6
C17: Supplier fulfilled 70% - 90% of the committed requirements in the last 3 years | D17: =IF(C17="","",C17) -> Supplier fulfilled 70% - 90% of the committed requirements in the last 3 years | E17: 0.8
C18: Supplier fulfilled more than 90% of the committed requirements in the last 3 years | D18: =IF(C18="","",C18) -> Supplier fulfilled more than 90% of the committed requirements in the last 3 years | E18: 1
A19: 4. To assure previous use in tenders (must provide import approval in case of imported products) | B19: Previous use in tenders | C19: Did not supply previously | D19: =IF(C19="","",C19) -> Did not supply previously | E19: 0.45
C20: Supplied to governmental or non-governmental organizations in the previous 2 years | D20: =IF(C20="","",C20) -> Supplied to governmental or non-governmental organizations in the previous 2 years | E20: 0.7
C21: Listed in the UPA platform | D21: =IF(C21="","",C21) -> Listed in the UPA platform | E21: 1
A22: 7. To assure supplier flexibility | B22: Instant replacement within product variety (within surgery OR on shelf stock) | C22: Supplier does not provide product replacement for different sizes/ types | D22: =IF(C22="","",C22) -> Supplier does not provide product replacement for different sizes/ types | E22: 0.15
C23: Supplier provides instant replacement within product variety (During surgery on on shelf stock) | D23: =IF(C23="","",C23) -> Supplier provides instant replacement within product variety (During surgery on on shelf stock) | E23: 1
A24: 6. To assure having a proper recall and pharmacovigilance system for sold products | B24: Pharmacovigilance | C24: No pharmacovigilance system | D24: =IF(C24="","",C24) -> No pharmacovigilance system | E24: EXCLUSION
C25: Supplier has a low quality pharmacovigilance system | D25: =IF(C25="","",C25) -> Supplier has a low quality pharmacovigilance system | E25: 0.2
C26: Supplier has a moderate quality pharmacovigilance system | D26: =IF(C26="","",C26) -> Supplier has a moderate quality pharmacovigilance system | E26: 0.7
C27: Supplier has an efficient pharmacovigilance system | D27: =IF(C27="","",C27) -> Supplier has an efficient pharmacovigilance system | E27: 1
A28: 9. to assure replacement of unwanted or expired products | B28: Refund/Replacement within product variety | C28: The product was present in the stagnant report 4 times in the last year | D28: =IF(C28="","",C28) -> The product was present in the stagnant report 4 times in the last year | E28: 0.2
C29: The product was present in the stagnant report 3 times subsequently in the last year | D29: =IF(C29="","",C29) -> The product was present in the stagnant report 3 times subsequently in the last year | E29: 0.5
C30: The product was present in the stagnant report 2 times subsequently in the last year | D30: =IF(C30="","",C30) -> The product was present in the stagnant report 2 times subsequently in the last year | E30: 0.7
C31: The product was present in the stagnant report 1 time or less in the last year | D31: =IF(C31="","",C31) -> The product was present in the stagnant report 1 time or less in the last year | E31: 1

Sheet SMART Ranking
B3: Now please enter the ranking of each criterion to the orange cell
C4: Rank
B5: ='Scoring Functions'!B2 -> Technical characteristics of the medical device | C5: 1 | D5: =IF(C5="","",C5+I5/25) -> 1.04 | E5: =B5 -> Technical characteristics of the medical device | I5: 1
B6: ='Scoring Functions'!B7 -> Country of origin | C6: 2 | D6: =IF(C6="","",C6+I6/25) -> 2.08 | E6: =B6 -> Country of origin | I6: 2
B7: ='Scoring Functions'!B10 -> Use in reference countries | C7: 3 | D7: =IF(C7="","",C7+I7/25) -> 3.12 | E7: =B7 -> Use in reference countries | I7: 3
B8: ='Scoring Functions'!B19 -> Previous use in tenders | C8: 5 | D8: =IF(C8="","",C8+I8/25) -> 5.16 | E8: =B8 -> Previous use in tenders | I8: 4
B9: ='Scoring Functions'!B14 -> Supply reliability | C9: 4 | D9: =IF(C9="","",C9+I9/25) -> 4.2 | E9: =B9 -> Supply reliability | I9: 5
B10: ='Scoring Functions'!B24 -> Pharmacovigilance | C10: 7 | D10: =IF(C10="","",C10+I10/25) -> 7.24 | E10: =B10 -> Pharmacovigilance | I10: 6
B11: ='Scoring Functions'!B22 -> Instant replacement within product variety (within surgery OR on shelf stock) | C11: 6 | D11: =IF(C11="","",C11+I11/25) -> 6.28 | E11: =B11 -> Instant replacement within product variety (within surgery OR on shelf stock) | I11: 7
B12: ='Scoring Functions'!#REF! -> #REF! | D12: =IF(C12="","",C12+I12/25) | E12: =B12 -> #REF! | I12: 8
B13: ='Scoring Functions'!B28 -> Refund/Replacement within product variety | C13: 8 | D13: =IF(C13="","",C13+I13/25) -> 8.36 | E13: =B13 -> Refund/Replacement within product variety | I13: 9

Sheet Order of criteria
B4: Rank | C4: Criterion
B5: =IFERROR(SMALL('SMART Ranking'!$D$5:$D$13,K5),"") -> 1.04 | C5: =IF(B5="","",VLOOKUP(B5,'SMART Ranking'!$D$5:$E$13,2,FALSE)) -> Technical characteristics of the medical device | K5: 1
B6: =IFERROR(SMALL('SMART Ranking'!$D$5:$D$13,K6),"") -> 2.08 | C6: =IF(B6="","",VLOOKUP(B6,'SMART Ranking'!$D$5:$E$13,2,FALSE)) -> Country of origin | K6: 2
B7: =IFERROR(SMALL('SMART Ranking'!$D$5:$D$13,K7),"") -> 3.12 | C7: =IF(B7="","",VLOOKUP(B7,'SMART Ranking'!$D$5:$E$13,2,FALSE)) -> Use in reference countries | K7: 3
B8: =IFERROR(SMALL('SMART Ranking'!$D$5:$D$13,K8),"") -> 4.2 | C8: =IF(B8="","",VLOOKUP(B8,'SMART Ranking'!$D$5:$E$13,2,FALSE)) -> Supply reliability | K8: 4
B9: =IFERROR(SMALL('SMART Ranking'!$D$5:$D$13,K9),"") -> 5.16 | C9: =IF(B9="","",VLOOKUP(B9,'SMART Ranking'!$D$5:$E$13,2,FALSE)) -> Previous use in tenders | K9: 5
B10: =IFERROR(SMALL('SMART Ranking'!$D$5:$D$13,K10),"") -> 6.28 | C10: =IF(B10="","",VLOOKUP(B10,'SMART Ranking'!$D$5:$E$13,2,FALSE)) -> Instant replacement within product variety (within surgery OR on shelf stock) | K10: 6
B11: =IFERROR(SMALL('SMART Ranking'!$D$5:$D$13,K11),"") -> 7.24 | C11: =IF(B11="","",VLOOKUP(B11,'SMART Ranking'!$D$5:$E$13,2,FALSE)) -> Pharmacovigilance | K11: 7
B12: =IFERROR(SMALL('SMART Ranking'!$D$5:$D$13,K12),"") -> 8.36 | C12: =IF(B12="","",VLOOKUP(B12,'SMART Ranking'!$D$5:$E$13,2,FALSE)) -> Refund/Replacement within product variety | K12: 8
B13: =IFERROR(SMALL('SMART Ranking'!$D$5:$D$13,K13),"") | C13: =IF(B13="","",VLOOKUP(B13,'SMART Ranking'!$D$5:$E$13,2,FALSE)) | K13: 9
B14: =IFERROR(SMALL('SMART Ranking'!$D$5:$D$12,K14),"") | C14: =IF(B14="","",VLOOKUP(B14,'SMART Ranking'!$D$5:$E$12,2,FALSE)) | K14: 10
B15: =IFERROR(SMALL('SMART Ranking'!$D$5:$D$12,K15),"") | C15: =IF(B15="","",VLOOKUP(B15,'SMART Ranking'!$D$5:$E$12,2,FALSE)) | K15: 11
B16: =IFERROR(SMALL('SMART Ranking'!$D$5:$D$12,K16),"") | C16: =IF(B16="","",VLOOKUP(B16,'SMART Ranking'!$D$5:$E$12,2,FALSE)) | K16: 12

Sheet Criteria weights
C3: Maximum extra price they are willing to pay compared to the cheapest option (%) | F3: ='Price advantage'!C2 -> 1
C8: Distribution of non-price criteria based on the SMART method (overall) | D8: Weight increase compared to previous | E8: =SUM(E10:E18) -> 2.4861361 | F8: Final weight
B9: Rank | G9: weight | H9: median
B10: =IFERROR(SMALL('SMART Ranking'!$D$5:$D$13,M10),"") -> 1.04 | C10: =IF(B10="","",CONCATENATE("Weight of the ", VLOOKUP(B10,'SMART Ranking'!$D$5:$E$13,2,FALSE), " criterion")) -> Weight of the Technical characteristics of the medical device criterion | D10: 0.51 | E10: =IF(C11<>"",E11*(1+D10),IF(C10<>"",10%,"")) -> 0.73158151 | F10: =IF(C10="","",E10/$E$8) -> 0.29426447 | G10: =IF(C10="","",IF(C11="",10,G11*H10)) -> #REF! | H10: =IF(#REF!="",1,#REF!) -> #REF! | M10: 1
B11: =IFERROR(SMALL('SMART Ranking'!$D$5:$D$13,M11),"") -> 2.08 | C11: =IF(B11="","",CONCATENATE("Weight of the ", VLOOKUP(B11,'SMART Ranking'!$D$5:$E$13,2,FALSE), " criterion")) -> Weight of the Country of origin criterion | D11: 0.31 | E11: =IF(C12<>"",E12*(1+D11),IF(C11<>"",10%,"")) -> 0.48449107 | F11: =IF(C11="","",E11/$E$8) -> 0.19487713 | G11: =IF(C11="","",IF(C12="",10,G12*H11)) -> #REF! | H11: =IF(#REF!="",1,#REF!) -> #REF! | M11: 2
B12: =IFERROR(SMALL('SMART Ranking'!$D$5:$D$13,M12),"") -> 3.12 | C12: =IF(B12="","",CONCATENATE("Weight of the ", VLOOKUP(B12,'SMART Ranking'!$D$5:$E$13,2,FALSE), " criterion")) -> Weight of the Use in reference countries criterion | D12: 0.27 | E12: =IF(C13<>"",E13*(1+D12),IF(C12<>"",10%,"")) -> 0.36984051 | F12: =IF(C12="","",E12/$E$8) -> 0.14876117 | G12: =IF(C12="","",IF(C13="",10,G13*H12)) -> #REF! | H12: =IF(#REF!="",1,#REF!) -> #REF! | M12: 3
B13: =IFERROR(SMALL('SMART Ranking'!$D$5:$D$13,M13),"") -> 4.2 | C13: =IF(B13="","",CONCATENATE("Weight of the ", VLOOKUP(B13,'SMART Ranking'!$D$5:$E$13,2,FALSE), " criterion")) -> Weight of the Supply reliability criterion | D13: 0.3 | E13: =IF(C14<>"",E14*(1+D13),IF(C13<>"",10%,"")) -> 0.291213 | F13: =IF(C13="","",E13/$E$8) -> 0.11713478 | G13: =IF(C13="","",IF(C14="",10,G14*H13)) -> #REF! | H13: =IF(#REF!="",1,#REF!) -> #REF! | M13: 4
B14: =IFERROR(SMALL('SMART Ranking'!$D$5:$D$13,M14),"") -> 5.16 | C14: =IF(B14="","",CONCATENATE("Weight of the ", VLOOKUP(B14,'SMART Ranking'!$D$5:$E$13,2,FALSE), " criterion")) -> Weight of the Previous use in tenders criterion | D14: 0.31 | E14: =IF(C15<>"",E15*(1+D14),IF(C14<>"",10%,"")) -> 0.22401 | F14: =IF(C14="","",E14/$E$8) -> 0.090103676 | G14: =IF(C14="","",IF(C15="",10,G15*H14)) -> #REF! | H14: =IF(#REF!="",1,#REF!) -> #REF! | M14: 5
B15: =IFERROR(SMALL('SMART Ranking'!$D$5:$D$13,M15),"") -> 6.28 | C15: =IF(B15="","",CONCATENATE("Weight of the ", VLOOKUP(B15,'SMART Ranking'!$D$5:$E$13,2,FALSE), " criterion")) -> Weight of the Instant replacement within product variety (within surgery OR on shelf stock) criterion | D15: 0.5 | E15: =IF(C16<>"",E16*(1+D15),IF(C15<>"",10%,"")) -> 0.171 | F15: =IF(C15="","",E15/$E$8) -> 0.068781432 | G15: =IF(C15="","",IF(C16="",10,G16*H15)) -> #REF! | H15: =IF(#REF!="",1,#REF!) -> #REF! | M15: 6
B16: =IFERROR(SMALL('SMART Ranking'!$D$5:$D$13,M16),"") -> 7.24 | C16: =IF(B16="","",CONCATENATE("Weight of the ", VLOOKUP(B16,'SMART Ranking'!$D$5:$E$13,2,FALSE), " criterion")) -> Weight of the Pharmacovigilance criterion | D16: 0.14 | E16: =IF(C17<>"",E17*(1+D16),IF(C16<>"",10%,"")) -> 0.114 | F16: =IF(C16="","",E16/$E$8) -> 0.045854288 | G16: =IF(C16="","",IF(C17="",10,G17*H16)) -> #REF! | H16: =IF(#REF!="",1,#REF!) -> #REF! | M16: 7
B17: =IFERROR(SMALL('SMART Ranking'!$D$5:$D$13,M17),"") -> 8.36 | C17: =IF(B17="","",CONCATENATE("Weight of the ", VLOOKUP(B17,'SMART Ranking'!$D$5:$E$13,2,FALSE), " criterion")) -> Weight of the Refund/Replacement within product variety criterion | E17: =IF(C18<>"",E18*(1+D17),IF(C17<>"",10%,"")) -> 0.1 | F17: =IF(C17="","",E17/$E$8) -> 0.04022306 | G17: =IF(C17="","",IF(#REF!="",10,#REF!*H17)) -> #REF! | H17: =IF(#REF!="",1,#REF!) -> #REF! | M17: 8
B18: =IFERROR(SMALL('SMART Ranking'!$D$5:$D$13,M18),"") | C18: =IF(B18="","",CONCATENATE("Weight of the ", VLOOKUP(B18,'SMART Ranking'!$D$5:$E$13,2,FALSE), " criterion")) | E18: =IF(C19<>"",E19*(1+D18),IF(C18<>"",10%,"")) | F18: =IF(C18="","",E18/$E$8) | G18: =SUM(G10:G17) -> #REF! | M18: 9
E19: =IF(C20<>"",E20*(1+D19),IF(C19<>"",10%,""))
E20: =IF(C21<>"",E21*(1+D20),IF(C20<>"",10%,""))
E21: =IF(C22<>"",E22*(1+D21),IF(C21<>"",10%,""))
E22: =IF(C23<>"",E23*(1+D22),IF(C22<>"",10%,""))

Sheet Weights
C3: The weight of the Price criterion | D3: ='Price advantage'!C4*100 -> 0
C4: This means that the combined weights of all other criteria will be | D4: ='Price advantage'!C5*100 -> 0
F6: SMART weighting
C8: Total distribution of weights of all criteria | F8: SMART weighting | G8: Manually set weights | H8: Please select!
B9: Rank | D9: =IF(OR($F$6="Please select!",$F$6="",$F$6=$F$8),F9,G9) -> 100 | F9: 100 | G9: =SUM(G10:G21) -> 0
D10: =IF(OR($F$6="Please select!",$F$6="",$F$6=$F$8),F10,G10) -> 0 | F10: 0 | G10: =IF(C10="","","-") | I10: =IF($F$6=$G$8, IF(OR(G10=0,G10="-"),"This criterion is currently excluded!",IF(G10<0,"Please assign only non-negative values to criteria weights!","")),"")
B11: =IFERROR(SMALL('SMART Ranking'!$D$5:$D$13,H11),"") -> 1.04 | C11: =IF(B11="","",CONCATENATE("Calculated weight of the ",VLOOKUP(B11,'SMART Ranking'!$D$5:$E$13,2,FALSE), " criterion")) -> Calculated weight of the Technical characteristics of the medical device criterion | D11: =IF(OR($F$6="Please select!",$F$6="",$F$6=$F$8),F11,G11) -> 29.426447 | F11: =IF(C11="","",100*'Criteria weights'!F10) -> 29.426447 | G11: =IF(C11="","","-") -> - | H11: 1 | I11: =IF($F$6=$G$8, IF(OR(G11=0,G11="-"),"This criterion is currently excluded!",IF(G11<0,"Please assign only non-negative values to criteria weights!","")),"")
B12: =IFERROR(SMALL('SMART Ranking'!$D$5:$D$13,H12),"") -> 2.08 | C12: =IF(B12="","",CONCATENATE("Calculated weight of the ",VLOOKUP(B12,'SMART Ranking'!$D$5:$E$13,2,FALSE), " criterion")) -> Calculated weight of the Country of origin criterion | D12: =IF(OR($F$6="Please select!",$F$6="",$F$6=$F$8),F12,G12) -> 19.487713 | F12: =IF(C12="","",100*'Criteria weights'!F11) -> 19.487713 | G12: =IF(C12="","","-") -> - | H12: 2 | I12: =IF($F$6=$G$8, IF(OR(G12=0,G12="-"),"This criterion is currently excluded!",IF(G12<0,"Please assign only non-negative values to criteria weights!","")),"")
B13: =IFERROR(SMALL('SMART Ranking'!$D$5:$D$13,H13),"") -> 3.12 | C13: =IF(B13="","",CONCATENATE("Calculated weight of the ",VLOOKUP(B13,'SMART Ranking'!$D$5:$E$13,2,FALSE), " criterion")) -> Calculated weight of the Use in reference countries criterion | D13: =IF(OR($F$6="Please select!",$F$6="",$F$6=$F$8),F13,G13) -> 14.876117 | F13: =IF(C13="","",100*'Criteria weights'!F12) -> 14.876117 | G13: =IF(C13="","","-") -> - | H13: 3 | I13: =IF($F$6=$G$8, IF(OR(G13=0,G13="-"),"This criterion is currently excluded!",IF(G13<0,"Please assign only non-negative values to criteria weights!","")),"")
B14: =IFERROR(SMALL('SMART Ranking'!$D$5:$D$13,H14),"") -> 4.2 | C14: =IF(B14="","",CONCATENATE("Calculated weight of the ",VLOOKUP(B14,'SMART Ranking'!$D$5:$E$13,2,FALSE), " criterion")) -> Calculated weight of the Supply reliability criterion | D14: =IF(OR($F$6="Please select!",$F$6="",$F$6=$F$8),F14,G14) -> 11.713478 | F14: =IF(C14="","",100*'Criteria weights'!F13) -> 11.713478 | G14: =IF(C14="","","-") -> - | H14: 4 | I14: =IF($F$6=$G$8, IF(OR(G14=0,G14="-"),"This criterion is currently excluded!",IF(G14<0,"Please assign only non-negative values to criteria weights!","")),"")
B15: =IFERROR(SMALL('SMART Ranking'!$D$5:$D$13,H15),"") -> 5.16 | C15: =IF(B15="","",CONCATENATE("Calculated weight of the ",VLOOKUP(B15,'SMART Ranking'!$D$5:$E$13,2,FALSE), " criterion")) -> Calculated weight of the Previous use in tenders criterion | D15: =IF(OR($F$6="Please select!",$F$6="",$F$6=$F$8),F15,G15) -> 9.0103676 | F15: =IF(C15="","",100*'Criteria weights'!F14) -> 9.0103676 | G15: =IF(C15="","","-") -> - | H15: 5 | I15: =IF($F$6=$G$8, IF(OR(G15=0,G15="-"),"This criterion is currently excluded!",IF(G15<0,"Please assign only non-negative values to criteria weights!","")),"")
B16: =IFERROR(SMALL('SMART Ranking'!$D$5:$D$13,H16),"") -> 6.28 | C16: =IF(B16="","",CONCATENATE("Calculated weight of the ",VLOOKUP(B16,'SMART Ranking'!$D$5:$E$13,2,FALSE), " criterion")) -> Calculated weight of the Instant replacement within product variety (within surgery OR on shelf stock) criterion | D16: =IF(OR($F$6="Please select!",$F$6="",$F$6=$F$8),F16,G16) -> 6.8781432 | F16: =IF(C16="","",100*'Criteria weights'!F15) -> 6.8781432 | G16: =IF(C16="","","-") -> - | H16: 6 | I16: =IF($F$6=$G$8, IF(OR(G16=0,G16="-"),"This criterion is currently excluded!",IF(G16<0,"Please assign only non-negative values to criteria weights!","")),"")
B17: =IFERROR(SMALL('SMART Ranking'!$D$5:$D$13,H17),"") -> 7.24 | C17: =IF(B17="","",CONCATENATE("Calculated weight of the ",VLOOKUP(B17,'SMART Ranking'!$D$5:$E$13,2,FALSE), " criterion")) -> Calculated weight of the Pharmacovigilance criterion | D17: =IF(OR($F$6="Please select!",$F$6="",$F$6=$F$8),F17,G17) -> 4.5854288 | F17: =IF(C17="","",100*'Criteria weights'!F16) -> 4.5854288 | G17: =IF(C17="","","-") -> - | H17: 7 | I17: =IF($F$6=$G$8, IF(OR(G17=0,G17="-"),"This criterion is currently excluded!",IF(G17<0,"Please assign only non-negative values to criteria weights!","")),"")
B18: =IFERROR(SMALL('SMART Ranking'!$D$5:$D$13,H18),"") -> 8.36 | C18: =IF(B18="","",CONCATENATE("Calculated weight of the ",VLOOKUP(B18,'SMART Ranking'!$D$5:$E$13,2,FALSE), " criterion")) -> Calculated weight of the Refund/Replacement within product variety criterion | D18: =IF(OR($F$6="Please select!",$F$6="",$F$6=$F$8),F18,G18) -> 4.022306 | F18: =IF(C18="","",100*'Criteria weights'!F17) -> 4.022306 | G18: =IF(C18="","","-") -> - | H18: 8 | I18: =IF($F$6=$G$8, IF(OR(G18=0,G18="-"),"This criterion is currently excluded!",IF(G18<0,"Please assign only non-negative values to criteria weights!","")),"")
B19: =IFERROR(SMALL('SMART Ranking'!$D$5:$D$13,H19),"") | C19: =IF(B19="","",CONCATENATE("Calculated weight of the ",VLOOKUP(B19,'SMART Ranking'!$D$5:$E$13,2,FALSE), " criterion")) | D19: =IF(OR($F$6="Please select!",$F$6="",$F$6=$F$8),F19,G19) | F19: =IF(C19="","",100*'Criteria weights'!F18) | G19: =IF(C19="","","-") | H19: 9 | I19: =IF($F$6=$G$8, IF(OR(G19=0,G19="-"),"This criterion is currently excluded!",IF(G19<0,"Please assign only non-negative values to criteria weights!","")),"")
B20: =IFERROR(SMALL('SMART Ranking'!$D$5:$D$12,H20),"") | C20: =IF(B20="","",CONCATENATE("Calculated weight of the ",VLOOKUP(B20,'SMART Ranking'!$D$5:$E$12,2,FALSE)," criterion")) | D20: =IF(OR($F$6="Please select!",$F$6="",$F$6=$F$8),F20,G20) | F20: =IF(C20="","",(100-$D$3)*'Criteria weights'!#REF!) | G20: =IF(C20="","","-") | H20: 10 | I20: =IF($F$6=$G$8, IF(OR(G20=0,G20="-"),"This criterion is currently excluded!",IF(G20<0,"Please assign only non-negative values to criteria weights!","")),"")
B21: =IFERROR(SMALL('SMART Ranking'!$D$5:$D$12,H21),"") | C21: =IF(B21="","",CONCATENATE("Calculated weight of the ",VLOOKUP(B21,'SMART Ranking'!$D$5:$E$12,2,FALSE)," criterion")) | D21: =IF(OR($F$6="Please select!",$F$6="",$F$6=$F$8),F21,G21) | F21: =IF(C21="","",(100-$D$3)*'Criteria weights'!#REF!) | G21: =IF(C21="","","-") | H21: 11 | I21: =IF($F$6=$G$8, IF(OR(G21=0,G21="-"),"This criterion is currently excluded!",IF(G21<0,"Please assign only non-negative values to criteria weights!","")),"")
B22: =IFERROR(SMALL('SMART Ranking'!$D$5:$D$12,H22),"") | C22: =IF(B22="","",CONCATENATE("Calculated weight of the ",VLOOKUP(B22,'SMART Ranking'!$D$5:$E$12,2,FALSE)," criterion")) | D22: =IF(C22="","",(1-$D$3)*'Criteria weights'!#REF!) | H22: 12
G23: =IF(F6=G8, IF(G9>100,"Please do not go over the sum of 100%!",IF(G9<100,"Please distribute 100% of weights among criteria completely!","")),"")
G24: =IF(F6=G8, IF(G9=100, "", CONCATENATE("Total weights to be distributed among criteria: ", IF(ISNUMBER(SEARCH(".", 1.1)), TEXT(100-G9, "0.00"), TEXT(100-G9, "0,00")), "%")),"")

Sheet Assessing options
B1: Criterion | C1: Weight of criterion | D1: Comparator 1 | G1: Comparator 2 | J1: Comparator 3 | M1: Comparator 4 | P1: Comparator 5
D2: Assessment | E2: Points | F2: Score within weights (%) | G2: Assessment | H2: Points | I2: Score within weights (%) | J2: Assessment | K2: Points | L2: Score within weights (%) | M2: Assessment | N2: Points | O2: Score within weights (%) | P2: Assessment | Q2: Points | R2: Score within weights (%)
B3: ='Order of criteria'!C5 -> Technical characteristics of the medical device | C3: =IF(B3="","",IF(ISNUMBER(SEARCH(B3,Weights!$C$11)),Weights!$D$11,IF(ISNUMBER(SEARCH(B3,Weights!$C$12)),Weights!$D$12, IF(ISNUMBER(SEARCH(B3,Weights!$C$13)),Weights!$D$13, IF(ISNUMBER(SEARCH(B3,Weights!$C$14)),Weights!$D$14,IF(ISNUMBER(SEARCH(B3,Weights!$C$15)),Weights!$D$15, IF(ISNUMBER(SEARCH(B3,Weights!$C$16)),Weights!$D$16,IF(ISNUMBER(SEARCH(B3,Weights!$C$17)),Weights!$D$17,IF(ISNUMBER(SEARCH(B3,Weights!$C$18)),Weights!$D$18, IF(ISNUMBER(SEARCH(B3,Weights!$C$19)),Weights!$D$19,IF(ISNUMBER(SEARCH(B3,Weights!$C$20)),Weights!$D$20,IF(ISNUMBER(SEARCH(B3,Weights!$C$21)),Weights!$D$21,0)))))))))))) -> 29.426447 | E3: =IF(OR($B$3="",$C$3=0,$C$3="-"),"",IF(VLOOKUP(D3,'Scoring Functions'!$C$2:$E$6,3,FALSE)="EXCLUSION","EXCLUDED",VLOOKUP(D3,'Scoring Functions'!$C$2:$E$6,3,FALSE)*$C3)) -> #N/A | F3: =IF(OR($B$3="",$C$3=0,$C$3="-"),"",IF(E3="EXCLUDED","EXCLUDED",E3/$C3)) -> #N/A | H3: =IF(OR($B$3="",$C$3=0,$C$3="-"),"",IF(VLOOKUP(G3,'Scoring Functions'!$C$2:$E$6,3,FALSE)="EXCLUSION","EXCLUDED",VLOOKUP(G3,'Scoring Functions'!$C$2:$E$6,3,FALSE)*$C3)) -> #N/A | I3: =IF(OR($B$3="",$C$3=0,$C$3="-"),"",IF(H3="EXCLUDED","EXCLUDED",H3/$C3)) -> #N/A | K3: =IF(OR($B$3="",$C$3=0,$C$3="-"),"",IF(VLOOKUP(J3,'Scoring Functions'!$C$2:$E$6,3,FALSE)="EXCLUSION","EXCLUDED",VLOOKUP(J3,'Scoring Functions'!$C$2:$E$6,3,FALSE)*$C3)) -> #N/A | L3: =IF(OR($B$3="",$C$3=0,$C$3="-"),"",IF(K3="EXCLUDED","EXCLUDED",K3/$C3)) -> #N/A | N3: =IF(OR($B$3="",$C$3=0,$C$3="-"),"",IF(VLOOKUP(M3,'Scoring Functions'!$C$2:$E$6,3,FALSE)="EXCLUSION","EXCLUDED",VLOOKUP(M3,'Scoring Functions'!$C$2:$E$6,3,FALSE)*$C3)) -> #N/A | O3: =IF(OR($B$3="",$C$3=0,$C$3="-"),"",IF(N3="EXCLUDED","EXCLUDED",N3/$C3)) -> #N/A | Q3: =IF(OR($B$3="",$C$3=0,$C$3="-"),"",IF(VLOOKUP(P3,'Scoring Functions'!$C$2:$E$6,3,FALSE)="EXCLUSION","EXCLUDED",VLOOKUP(P3,'Scoring Functions'!$C$2:$E$6,3,FALSE)*$C3)) -> #N/A | R3: =IF(OR($B$3="",$C$3=0,$C$3="-"),"",IF(Q3="EXCLUDED","EXCLUDED",Q3/$C3)) -> #N/A
B4: ='Order of criteria'!C6 -> Country of origin | C4: =IF(B4="","",IF(ISNUMBER(SEARCH(B4,Weights!$C$11)),Weights!$D$11,IF(ISNUMBER(SEARCH(B4,Weights!$C$12)),Weights!$D$12, IF(ISNUMBER(SEARCH(B4,Weights!$C$13)),Weights!$D$13, IF(ISNUMBER(SEARCH(B4,Weights!$C$14)),Weights!$D$14,IF(ISNUMBER(SEARCH(B4,Weights!$C$15)),Weights!$D$15, IF(ISNUMBER(SEARCH(B4,Weights!$C$16)),Weights!$D$16,IF(ISNUMBER(SEARCH(B4,Weights!$C$17)),Weights!$D$17,IF(ISNUMBER(SEARCH(B4,Weights!$C$18)),Weights!$D$18, IF(ISNUMBER(SEARCH(B4,Weights!$C$19)),Weights!$D$19,IF(ISNUMBER(SEARCH(B4,Weights!$C$20)),Weights!$D$20,IF(ISNUMBER(SEARCH(B4,Weights!$C$21)),Weights!$D$21,0)))))))))))) -> 19.487713 | E4: =IF(OR($B$3="",$C$3=0,$C$3="-"),"",IF(VLOOKUP(D4,'Scoring Functions'!$C$7:$E$9,3,FALSE)="EXCLUSION","EXCLUDED",VLOOKUP(D4,'Scoring Functions'!$C$7:$E$9,3,FALSE)*$C4)) -> #N/A | F4: =IF(OR($B$4="",$C$4=0,$C$4="-"),"",IF(E4="EXCLUDED","EXCLUDED",E4/$C4)) -> #N/A | H4: =IF(OR($B$3="",$C$3=0,$C$3="-"),"",IF(VLOOKUP(G4,'Scoring Functions'!$C$7:$E$9,3,FALSE)="EXCLUSION","EXCLUDED",VLOOKUP(G4,'Scoring Functions'!$C$7:$E$9,3,FALSE)*$C4)) -> #N/A | I4: =IF(OR($B$4="",$C$4=0,$C$4="-"),"",IF(H4="EXCLUDED","EXCLUDED",H4/$C4)) -> #N/A | K4: =IF(OR($B$3="",$C$3=0,$C$3="-"),"",IF(VLOOKUP(J4,'Scoring Functions'!$C$7:$E$9,3,FALSE)="EXCLUSION","EXCLUDED",VLOOKUP(J4,'Scoring Functions'!$C$7:$E$9,3,FALSE)*$C4)) -> #N/A | L4: =IF(OR($B$4="",$C$4=0,$C$4="-"),"",IF(K4="EXCLUDED","EXCLUDED",K4/$C4)) -> #N/A | N4: =IF(OR($B$3="",$C$3=0,$C$3="-"),"",IF(VLOOKUP(M4,'Scoring Functions'!$C$7:$E$9,3,FALSE)="EXCLUSION","EXCLUDED",VLOOKUP(M4,'Scoring Functions'!$C$7:$E$9,3,FALSE)*$C4)) -> #N/A | O4: =IF(OR($B$4="",$C$4=0,$C$4="-"),"",IF(N4="EXCLUDED","EXCLUDED",N4/$C4)) -> #N/A | Q4: =IF(OR($B$3="",$C$3=0,$C$3="-"),"",IF(VLOOKUP(P4,'Scoring Functions'!$C$7:$E$9,3,FALSE)="EXCLUSION","EXCLUDED",VLOOKUP(P4,'Scoring Functions'!$C$7:$E$9,3,FALSE)*$C4)) -> #N/A | R4: =IF(OR($B$4="",$C$4=0,$C$4="-"),"",IF(Q4="EXCLUDED","EXCLUDED",Q4/$C4)) -> #N/A
B5: ='Order of criteria'!C7 -> Use in reference countries | C5: =IF(B5="","",IF(ISNUMBER(SEARCH(B5,Weights!$C$11)),Weights!$D$11,IF(ISNUMBER(SEARCH(B5,Weights!$C$12)),Weights!$D$12, IF(ISNUMBER(SEARCH(B5,Weights!$C$13)),Weights!$D$13, IF(ISNUMBER(SEARCH(B5,Weights!$C$14)),Weights!$D$14,IF(ISNUMBER(SEARCH(B5,Weights!$C$15)),Weights!$D$15, IF(ISNUMBER(SEARCH(B5,Weights!$C$16)),Weights!$D$16,IF(ISNUMBER(SEARCH(B5,Weights!$C$17)),Weights!$D$17,IF(ISNUMBER(SEARCH(B5,Weights!$C$18)),Weights!$D$18, IF(ISNUMBER(SEARCH(B5,Weights!$C$19)),Weights!$D$19,IF(ISNUMBER(SEARCH(B5,Weights!$C$20)),Weights!$D$20,IF(ISNUMBER(SEARCH(B5,Weights!$C$21)),Weights!$D$21,0)))))))))))) -> 14.876117 | E5: =IF(OR($B$3="",$C$3=0,$C$3="-"),"",IF(VLOOKUP(D5,'Scoring Functions'!$C$10:$E$13,3,FALSE)="EXCLUSION","EXCLUDED",VLOOKUP(D5,'Scoring Functions'!$C$10:$E$13,3,FALSE)*$C5)) -> #N/A | F5: =IF(OR($B$5="",$C$5=0,$C$5="-"),"",IF(E5="EXCLUDED","EXCLUDED",E5/$C5)) -> #N/A | H5: =IF(OR($B$3="",$C$3=0,$C$3="-"),"",IF(VLOOKUP(G5,'Scoring Functions'!$C$10:$E$13,3,FALSE)="EXCLUSION","EXCLUDED",VLOOKUP(G5,'Scoring Functions'!$C$10:$E$13,3,FALSE)*$C5)) -> #N/A | I5: =IF(OR($B$5="",$C$5=0,$C$5="-"),"",IF(H5="EXCLUDED","EXCLUDED",H5/$C5)) -> #N/A | K5: =IF(OR($B$3="",$C$3=0,$C$3="-"),"",IF(VLOOKUP(J5,'Scoring Functions'!$C$10:$E$13,3,FALSE)="EXCLUSION","EXCLUDED",VLOOKUP(J5,'Scoring Functions'!$C$10:$E$13,3,FALSE)*$C5)) -> #N/A | L5: =IF(OR($B$5="",$C$5=0,$C$5="-"),"",IF(K5="EXCLUDED","EXCLUDED",K5/$C5)) -> #N/A | N5: =IF(OR($B$3="",$C$3=0,$C$3="-"),"",IF(VLOOKUP(M5,'Scoring Functions'!$C$10:$E$13,3,FALSE)="EXCLUSION","EXCLUDED",VLOOKUP(M5,'Scoring Functions'!$C$10:$E$13,3,FALSE)*$C5)) -> #N/A | O5: =IF(OR($B$5="",$C$5=0,$C$5="-"),"",IF(N5="EXCLUDED","EXCLUDED",N5/$C5)) -> #N/A | Q5: =IF(OR($B$3="",$C$3=0,$C$3="-"),"",IF(VLOOKUP(P5,'Scoring Functions'!$C$10:$E$13,3,FALSE)="EXCLUSION","EXCLUDED",VLOOKUP(P5,'Scoring Functions'!$C$10:$E$13,3,FALSE)*$C5)) -> #N/A | R5: =IF(OR($B$5="",$C$5=0,$C$5="-"),"",IF(Q5="EXCLUDED","EXCLUDED",Q5/$C5)) -> #N/A
B6: ='Order of criteria'!C8 -> Supply reliability | C6: =IF(B6="","",IF(ISNUMBER(SEARCH(B6,Weights!$C$11)),Weights!$D$11,IF(ISNUMBER(SEARCH(B6,Weights!$C$12)),Weights!$D$12, IF(ISNUMBER(SEARCH(B6,Weights!$C$13)),Weights!$D$13, IF(ISNUMBER(SEARCH(B6,Weights!$C$14)),Weights!$D$14,IF(ISNUMBER(SEARCH(B6,Weights!$C$15)),Weights!$D$15, IF(ISNUMBER(SEARCH(B6,Weights!$C$16)),Weights!$D$16,IF(ISNUMBER(SEARCH(B6,Weights!$C$17)),Weights!$D$17,IF(ISNUMBER(SEARCH(B6,Weights!$C$18)),Weights!$D$18, IF(ISNUMBER(SEARCH(B6,Weights!$C$19)),Weights!$D$19,IF(ISNUMBER(SEARCH(B6,Weights!$C$20)),Weights!$D$20,IF(ISNUMBER(SEARCH(B6,Weights!$C$21)),Weights!$D$21,0)))))))))))) -> 11.713478 | E6: =IF(OR($B$3="",$C$3=0,$C$3="-"),"",IF(VLOOKUP(D6,'Scoring Functions'!$C$14:$E$18,3,FALSE)="EXCLUSION","EXCLUDED",VLOOKUP(D6,'Scoring Functions'!$C$14:$E$18,3,FALSE)*$C6)) -> #N/A | F6: =IF(OR($B$6="",$C$6=0,$C$6="-"),"",IF(E6="EXCLUDED","EXCLUDED",E6/$C6)) -> #N/A | H6: =IF(OR($B$3="",$C$3=0,$C$3="-"),"",IF(VLOOKUP(G6,'Scoring Functions'!$C$14:$E$18,3,FALSE)="EXCLUSION","EXCLUDED",VLOOKUP(G6,'Scoring Functions'!$C$14:$E$18,3,FALSE)*$C6)) -> #N/A | I6: =IF(OR($B$6="",$C$6=0,$C$6="-"),"",IF(H6="EXCLUDED","EXCLUDED",H6/$C6)) -> #N/A | K6: =IF(OR($B$3="",$C$3=0,$C$3="-"),"",IF(VLOOKUP(J6,'Scoring Functions'!$C$14:$E$18,3,FALSE)="EXCLUSION","EXCLUDED",VLOOKUP(J6,'Scoring Functions'!$C$14:$E$18,3,FALSE)*$C6)) -> #N/A | L6: =IF(OR($B$6="",$C$6=0,$C$6="-"),"",IF(K6="EXCLUDED","EXCLUDED",K6/$C6)) -> #N/A | N6: =IF(OR($B$3="",$C$3=0,$C$3="-"),"",IF(VLOOKUP(M6,'Scoring Functions'!$C$14:$E$18,3,FALSE)="EXCLUSION","EXCLUDED",VLOOKUP(M6,'Scoring Functions'!$C$14:$E$18,3,FALSE)*$C6)) -> #N/A | O6: =IF(OR($B$6="",$C$6=0,$C$6="-"),"",IF(N6="EXCLUDED","EXCLUDED",N6/$C6)) -> #N/A | Q6: =IF(OR($B$3="",$C$3=0,$C$3="-"),"",IF(VLOOKUP(P6,'Scoring Functions'!$C$14:$E$18,3,FALSE)="EXCLUSION","EXCLUDED",VLOOKUP(P6,'Scoring Functions'!$C$14:$E$18,3,FALSE)*$C6)) -> #N/A | R6: =IF(OR($B$6="",$C$6=0,$C$6="-"),"",IF(Q6="EXCLUDED","EXCLUDED",Q6/$C6)) -> #N/A
B7: ='Order of criteria'!C9 -> Previous use in tenders | C7: =IF(B7="","",IF(ISNUMBER(SEARCH(B7,Weights!$C$11)),Weights!$D$11,IF(ISNUMBER(SEARCH(B7,Weights!$C$12)),Weights!$D$12, IF(ISNUMBER(SEARCH(B7,Weights!$C$13)),Weights!$D$13, IF(ISNUMBER(SEARCH(B7,Weights!$C$14)),Weights!$D$14,IF(ISNUMBER(SEARCH(B7,Weights!$C$15)),Weights!$D$15, IF(ISNUMBER(SEARCH(B7,Weights!$C$16)),Weights!$D$16,IF(ISNUMBER(SEARCH(B7,Weights!$C$17)),Weights!$D$17,IF(ISNUMBER(SEARCH(B7,Weights!$C$18)),Weights!$D$18, IF(ISNUMBER(SEARCH(B7,Weights!$C$19)),Weights!$D$19,IF(ISNUMBER(SEARCH(B7,Weights!$C$20)),Weights!$D$20,IF(ISNUMBER(SEARCH(B7,Weights!$C$21)),Weights!$D$21,0)))))))))))) -> 9.0103676 | E7: =IF(OR($B$3="",$C$3=0,$C$3="-"),"",IF(VLOOKUP(D7,'Scoring Functions'!$C$19:$E$21,3,FALSE)="EXCLUSION","EXCLUDED",VLOOKUP(D7,'Scoring Functions'!$C$19:$E$21,3,FALSE)*$C7)) -> #N/A | F7: =IF(OR($B$7="",$C$7=0,$C$7="-"),"",IF(E7="EXCLUDED","EXCLUDED",E7/$C7)) -> #N/A | H7: =IF(OR($B$3="",$C$3=0,$C$3="-"),"",IF(VLOOKUP(G7,'Scoring Functions'!$C$19:$E$21,3,FALSE)="EXCLUSION","EXCLUDED",VLOOKUP(G7,'Scoring Functions'!$C$19:$E$21,3,FALSE)*$C7)) -> #N/A | I7: =IF(OR($B$7="",$C$7=0,$C$7="-"),"",IF(H7="EXCLUDED","EXCLUDED",H7/$C7)) -> #N/A | K7: =IF(OR($B$3="",$C$3=0,$C$3="-"),"",IF(VLOOKUP(J7,'Scoring Functions'!$C$19:$E$21,3,FALSE)="EXCLUSION","EXCLUDED",VLOOKUP(J7,'Scoring Functions'!$C$19:$E$21,3,FALSE)*$C7)) -> #N/A | L7: =IF(OR($B$7="",$C$7=0,$C$7="-"),"",IF(K7="EXCLUDED","EXCLUDED",K7/$C7)) -> #N/A | N7: =IF(OR($B$3="",$C$3=0,$C$3="-"),"",IF(VLOOKUP(M7,'Scoring Functions'!$C$19:$E$21,3,FALSE)="EXCLUSION","EXCLUDED",VLOOKUP(M7,'Scoring Functions'!$C$19:$E$21,3,FALSE)*$C7)) -> #N/A | O7: =IF(OR($B$7="",$C$7=0,$C$7="-"),"",IF(N7="EXCLUDED","EXCLUDED",N7/$C7)) -> #N/A | Q7: =IF(OR($B$3="",$C$3=0,$C$3="-"),"",IF(VLOOKUP(P7,'Scoring Functions'!$C$19:$E$21,3,FALSE)="EXCLUSION","EXCLUDED",VLOOKUP(P7,'Scoring Functions'!$C$19:$E$21,3,FALSE)*$C7)) -> #N/A | R7: =IF(OR($B$7="",$C$7=0,$C$7="-"),"",IF(Q7="EXCLUDED","EXCLUDED",Q7/$C7)) -> #N/A
B8: ='Order of criteria'!C10 -> Instant replacement within product variety (within surgery OR on shelf stock) | C8: =IF(B8="","",IF(ISNUMBER(SEARCH(B8,Weights!$C$11)),Weights!$D$11,IF(ISNUMBER(SEARCH(B8,Weights!$C$12)),Weights!$D$12, IF(ISNUMBER(SEARCH(B8,Weights!$C$13)),Weights!$D$13, IF(ISNUMBER(SEARCH(B8,Weights!$C$14)),Weights!$D$14,IF(ISNUMBER(SEARCH(B8,Weights!$C$15)),Weights!$D$15, IF(ISNUMBER(SEARCH(B8,Weights!$C$16)),Weights!$D$16,IF(ISNUMBER(SEARCH(B8,Weights!$C$17)),Weights!$D$17,IF(ISNUMBER(SEARCH(B8,Weights!$C$18)),Weights!$D$18, IF(ISNUMBER(SEARCH(B8,Weights!$C$19)),Weights!$D$19,IF(ISNUMBER(SEARCH(B8,Weights!$C$20)),Weights!$D$20,IF(ISNUMBER(SEARCH(B8,Weights!$C$21)),Weights!$D$21,0)))))))))))) -> 6.8781432 | E8: =IF(OR($B$3="",$C$3=0,$C$3="-"),"",IF(VLOOKUP(D8,'Scoring Functions'!$C$22:$E$23,3,FALSE)="EXCLUSION","EXCLUDED",VLOOKUP(D8,'Scoring Functions'!$C$22:$E$23,3,FALSE)*$C8)) -> #N/A | F8: =IF(OR($B$8="",$C$8=0,$C$8="-"),"",IF(E8="EXCLUDED","EXCLUDED",E8/$C8)) -> #N/A | H8: =IF(OR($B$3="",$C$3=0,$C$3="-"),"",IF(VLOOKUP(G8,'Scoring Functions'!$C$22:$E$23,3,FALSE)="EXCLUSION","EXCLUDED",VLOOKUP(G8,'Scoring Functions'!$C$22:$E$23,3,FALSE)*$C8)) -> #N/A | I8: =IF(OR($B$8="",$C$8=0,$C$8="-"),"",IF(H8="EXCLUDED","EXCLUDED",H8/$C8)) -> #N/A | K8: =IF(OR($B$3="",$C$3=0,$C$3="-"),"",IF(VLOOKUP(J8,'Scoring Functions'!$C$22:$E$23,3,FALSE)="EXCLUSION","EXCLUDED",VLOOKUP(J8,'Scoring Functions'!$C$22:$E$23,3,FALSE)*$C8)) -> #N/A | L8: =IF(OR($B$8="",$C$8=0,$C$8="-"),"",IF(K8="EXCLUDED","EXCLUDED",K8/$C8)) -> #N/A | N8: =IF(OR($B$3="",$C$3=0,$C$3="-"),"",IF(VLOOKUP(M8,'Scoring Functions'!$C$22:$E$23,3,FALSE)="EXCLUSION","EXCLUDED",VLOOKUP(M8,'Scoring Functions'!$C$22:$E$23,3,FALSE)*$C8)) -> #N/A | O8: =IF(OR($B$8="",$C$8=0,$C$8="-"),"",IF(N8="EXCLUDED","EXCLUDED",N8/$C8)) -> #N/A | Q8: =IF(OR($B$3="",$C$3=0,$C$3="-"),"",IF(VLOOKUP(P8,'Scoring Functions'!$C$22:$E$23,3,FALSE)="EXCLUSION","EXCLUDED",VLOOKUP(P8,'Scoring Functions'!$C$22:$E$23,3,FALSE)*$C8)) -> #N/A | R8: =IF(OR($B$8="",$C$8=0,$C$8="-"),"",IF(Q8="EXCLUDED","EXCLUDED",Q8/$C8)) -> #N/A
B9: ='Order of criteria'!C11 -> Pharmacovigilance | C9: =IF(B9="","",IF(ISNUMBER(SEARCH(B9,Weights!$C$11)),Weights!$D$11,IF(ISNUMBER(SEARCH(B9,Weights!$C$12)),Weights!$D$12, IF(ISNUMBER(SEARCH(B9,Weights!$C$13)),Weights!$D$13, IF(ISNUMBER(SEARCH(B9,Weights!$C$14)),Weights!$D$14,IF(ISNUMBER(SEARCH(B9,Weights!$C$15)),Weights!$D$15, IF(ISNUMBER(SEARCH(B9,Weights!$C$16)),Weights!$D$16,IF(ISNUMBER(SEARCH(B9,Weights!$C$17)),Weights!$D$17,IF(ISNUMBER(SEARCH(B9,Weights!$C$18)),Weights!$D$18, IF(ISNUMBER(SEARCH(B9,Weights!$C$19)),Weights!$D$19,IF(ISNUMBER(SEARCH(B9,Weights!$C$20)),Weights!$D$20,IF(ISNUMBER(SEARCH(B9,Weights!$C$21)),Weights!$D$21,0)))))))))))) -> 4.5854288 | E9: =IF(OR($B$3="",$C$3=0,$C$3="-"),"",IF(VLOOKUP(D9,'Scoring Functions'!$C$24:$E$27,3,FALSE)="EXCLUSION","EXCLUDED",VLOOKUP(D9,'Scoring Functions'!$C$24:$E$27,3,FALSE)*$C9)) -> #N/A | F9: =IF(OR($B$9="",$C$9=0,$C$9="-"),"",IF(E9="EXCLUDED","EXCLUDED",E9/$C9)) -> #N/A | H9: =IF(OR($B$3="",$C$3=0,$C$3="-"),"",IF(VLOOKUP(G9,'Scoring Functions'!$C$24:$E$27,3,FALSE)="EXCLUSION","EXCLUDED",VLOOKUP(G9,'Scoring Functions'!$C$24:$E$27,3,FALSE)*$C9)) -> #N/A | I9: =IF(OR($B$9="",$C$9=0,$C$9="-"),"",IF(H9="EXCLUDED","EXCLUDED",H9/$C9)) -> #N/A | K9: =IF(OR($B$3="",$C$3=0,$C$3="-"),"",IF(VLOOKUP(J9,'Scoring Functions'!$C$24:$E$27,3,FALSE)="EXCLUSION","EXCLUDED",VLOOKUP(J9,'Scoring Functions'!$C$24:$E$27,3,FALSE)*$C9)) -> #N/A | L9: =IF(OR($B$9="",$C$9=0,$C$9="-"),"",IF(K9="EXCLUDED","EXCLUDED",K9/$C9)) -> #N/A | N9: =IF(OR($B$3="",$C$3=0,$C$3="-"),"",IF(VLOOKUP(M9,'Scoring Functions'!$C$24:$E$27,3,FALSE)="EXCLUSION","EXCLUDED",VLOOKUP(M9,'Scoring Functions'!$C$24:$E$27,3,FALSE)*$C9)) -> #N/A | O9: =IF(OR($B$9="",$C$9=0,$C$9="-"),"",IF(N9="EXCLUDED","EXCLUDED",N9/$C9)) -> #N/A | Q9: =IF(OR($B$3="",$C$3=0,$C$3="-"),"",IF(VLOOKUP(P9,'Scoring Functions'!$C$24:$E$27,3,FALSE)="EXCLUSION","EXCLUDED",VLOOKUP(P9,'Scoring Functions'!$C$24:$E$27,3,FALSE)*$C9)) -> #N/A | R9: =IF(OR($B$9="",$C$9=0,$C$9="-"),"",IF(Q9="EXCLUDED","EXCLUDED",Q9/$C9)) -> #N/A
B10: ='Order of criteria'!C12 -> Refund/Replacement within product variety | C10: =IF(B10="","",IF(ISNUMBER(SEARCH(B10,Weights!$C$11)),Weights!$D$11,IF(ISNUMBER(SEARCH(B10,Weights!$C$12)),Weights!$D$12, IF(ISNUMBER(SEARCH(B10,Weights!$C$13)),Weights!$D$13, IF(ISNUMBER(SEARCH(B10,Weights!$C$14)),Weights!$D$14,IF(ISNUMBER(SEARCH(B10,Weights!$C$15)),Weights!$D$15, IF(ISNUMBER(SEARCH(B10,Weights!$C$16)),Weights!$D$16,IF(ISNUMBER(SEARCH(B10,Weights!$C$17)),Weights!$D$17,IF(ISNUMBER(SEARCH(B10,Weights!$C$18)),Weights!$D$18, IF(ISNUMBER(SEARCH(B10,Weights!$C$19)),Weights!$D$19,IF(ISNUMBER(SEARCH(B10,Weights!$C$20)),Weights!$D$20,IF(ISNUMBER(SEARCH(B10,Weights!$C$21)),Weights!$D$21,0)))))))))))) -> 4.022306 | E10: =IF(OR($B$3="",$C$3=0,$C$3="-"),"",IF(VLOOKUP(D10,'Scoring Functions'!$C$28:$E$31,3,FALSE)="EXCLUSION","EXCLUDED",VLOOKUP(D10,'Scoring Functions'!$C$28:$E$31,3,FALSE)*$C10)) -> #N/A | F10: =IF(OR($B$10="",$C$10=0,$C$10="-"),"",IF(E10="EXCLUDED","EXCLUDED",E10/$C10)) -> #N/A | H10: =IF(OR($B$3="",$C$3=0,$C$3="-"),"",IF(VLOOKUP(G10,'Scoring Functions'!$C$28:$E$31,3,FALSE)="EXCLUSION","EXCLUDED",VLOOKUP(G10,'Scoring Functions'!$C$28:$E$31,3,FALSE)*$C10)) -> #N/A | I10: =IF(OR($B$10="",$C$10=0,$C$10="-"),"",IF(H10="EXCLUDED","EXCLUDED",H10/$C10)) -> #N/A | K10: =IF(OR($B$3="",$C$3=0,$C$3="-"),"",IF(VLOOKUP(J10,'Scoring Functions'!$C$28:$E$31,3,FALSE)="EXCLUSION","EXCLUDED",VLOOKUP(J10,'Scoring Functions'!$C$28:$E$31,3,FALSE)*$C10)) -> #N/A | L10: =IF(OR($B$10="",$C$10=0,$C$10="-"),"",IF(K10="EXCLUDED","EXCLUDED",K10/$C10)) -> #N/A | N10: =IF(OR($B$3="",$C$3=0,$C$3="-"),"",IF(VLOOKUP(M10,'Scoring Functions'!$C$28:$E$31,3,FALSE)="EXCLUSION","EXCLUDED",VLOOKUP(M10,'Scoring Functions'!$C$28:$E$31,3,FALSE)*$C10)) -> #N/A | O10: =IF(OR($B$10="",$C$10=0,$C$10="-"),"",IF(N10="EXCLUDED","EXCLUDED",N10/$C10)) -> #N/A | Q10: =IF(OR($B$3="",$C$3=0,$C$3="-"),"",IF(VLOOKUP(P10,'Scoring Functions'!$C$28:$E$31,3,FALSE)="EXCLUSION","EXCLUDED",VLOOKUP(P10,'Scoring Functions'!$C$28:$E$31,3,FALSE)*$C10)) -> #N/A | R10: =IF(OR($B$10="",$C$10=0,$C$10="-"),"",IF(Q10="EXCLUDED","EXCLUDED",Q10/$C10)) -> #N/A
A11: =MIN(IF(OR(#REF!="",#REF!<=0,$D$11="OPTION IS EXCLUDED"),MAX(#REF!,#REF!,#REF!,#REF!),#REF!),IF(OR(#REF!="",#REF!<=0,$G$11="OPTION IS EXCLUDED"),MAX(#REF!,#REF!,#REF!,#REF!),#REF!),IF(OR(#REF!="",#REF!<=0,$J$11="OPTION IS EXCLUDED"),MAX(#REF!,#REF!,#REF!,#REF!),#REF!),IF(OR(#REF!="",#REF!<=0,$M$11="OPTION IS EXCLUDED"),MAX(#REF!,#REF!,#REF!,#REF!),#REF!)) -> #REF! | B11: Overall score | D11: =IF(OR(E3="EXCLUDED",E6="EXCLUDED",E4="EXCLUDED",E7="EXCLUDED",E5="EXCLUDED",E8="EXCLUDED",E9="EXCLUDED",E10="EXCLUDED"),"OPTION IS EXCLUDED","") -> #N/A | F11: =IF(D11="OPTION IS EXCLUDED","",SUM(E3:E10)) -> #N/A | G11: =IF(OR(H3="EXCLUDED",H6="EXCLUDED",H4="EXCLUDED",H7="EXCLUDED",H5="EXCLUDED",H8="EXCLUDED",H9="EXCLUDED",H10="EXCLUDED"),"OPTION IS EXCLUDED","") -> #N/A | I11: =IF(G11="OPTION IS EXCLUDED","",SUM(H3:H10)) -> #N/A | J11: =IF(OR(K3="EXCLUDED",K6="EXCLUDED",K4="EXCLUDED",K7="EXCLUDED",K5="EXCLUDED",K8="EXCLUDED",K9="EXCLUDED",K10="EXCLUDED"),"OPTION IS EXCLUDED","") -> #N/A | L11: =IF(J11="OPTION IS EXCLUDED","",SUM(K3:K10)) -> #N/A | M11: =IF(OR(N3="EXCLUDED",N6="EXCLUDED",N4="EXCLUDED",N7="EXCLUDED",N5="EXCLUDED",N8="EXCLUDED",N9="EXCLUDED",N10="EXCLUDED"),"OPTION IS EXCLUDED","") -> #N/A | O11: =IF(M11="OPTION IS EXCLUDED","",SUM(N3:N10)) -> #N/A | P11: =IF(OR(Q3="EXCLUDED",Q6="EXCLUDED",Q4="EXCLUDED",Q7="EXCLUDED",Q5="EXCLUDED",Q8="EXCLUDED",Q9="EXCLUDED",Q10="EXCLUDED"),"OPTION IS EXCLUDED","") -> #N/A | R11: =IF(P11="OPTION IS EXCLUDED","",SUM(Q3:Q10)) -> #N/A

Sheet Graph
D3: ='Assessing options'!D1 -> Comparator 1 | E3: ='Assessing options'!G1 -> Comparator 2 | F3: ='Assessing options'!J1 -> Comparator 3 | G3: ='Assessing options'!M1 -> Comparator 4 | H3: ='Assessing options'!P1 -> Comparator 5
C4: ='Assessing options'!B3 -> Technical characteristics of the medical device | D4: =IF('Assessing options'!$D$11="OPTION IS EXCLUDED","",'Assessing options'!E3) -> #N/A | E4: =IF('Assessing options'!$G$11="OPTION IS EXCLUDED","", 'Assessing options'!H3) -> #N/A | F4: =IF('Assessing options'!$J$11="OPTION IS EXCLUDED","",'Assessing options'!K3) -> #N/A | G4: =IF('Assessing options'!$M$11="OPTION IS EXCLUDED","",'Assessing options'!N3) -> #N/A | H4: =IF('Assessing options'!$P$11="OPTION IS EXCLUDED","",'Assessing options'!Q3) -> #N/A
C5: ='Assessing options'!B6 -> Supply reliability | D5: =IF('Assessing options'!$D$11="OPTION IS EXCLUDED","",'Assessing options'!E6) -> #N/A | E5: =IF('Assessing options'!$G$11="OPTION IS EXCLUDED","", 'Assessing options'!H6) -> #N/A | F5: =IF('Assessing options'!$J$11="OPTION IS EXCLUDED","",'Assessing options'!K6) -> #N/A | G5: =IF('Assessing options'!$M$11="OPTION IS EXCLUDED","",'Assessing options'!N6) -> #N/A | H5: =IF('Assessing options'!$P$11="OPTION IS EXCLUDED","",'Assessing options'!Q6) -> #N/A
C6: ='Assessing options'!B4 -> Country of origin | D6: =IF('Assessing options'!$D$11="OPTION IS EXCLUDED","",'Assessing options'!E4) -> #N/A | E6: =IF('Assessing options'!$G$11="OPTION IS EXCLUDED","", 'Assessing options'!H4) -> #N/A | F6: =IF('Assessing options'!$J$11="OPTION IS EXCLUDED","",'Assessing options'!K4) -> #N/A | G6: =IF('Assessing options'!$M$11="OPTION IS EXCLUDED","",'Assessing options'!N4) -> #N/A | H6: =IF('Assessing options'!$P$11="OPTION IS EXCLUDED","",'Assessing options'!Q4) -> #N/A
C7: ='Assessing options'!B7 -> Previous use in tenders | D7: =IF('Assessing options'!$D$11="OPTION IS EXCLUDED","",'Assessing options'!E7) -> #N/A | E7: =IF('Assessing options'!$G$11="OPTION IS EXCLUDED","", 'Assessing options'!H7) -> #N/A | F7: =IF('Assessing options'!$J$11="OPTION IS EXCLUDED","",'Assessing options'!K7) -> #N/A | G7: =IF('Assessing options'!$M$11="OPTION IS EXCLUDED","",'Assessing options'!N7) -> #N/A | H7: =IF('Assessing options'!$P$11="OPTION IS EXCLUDED","",'Assessing options'!Q7) -> #N/A
C8: ='Assessing options'!B5 -> Use in reference countries | D8: =IF('Assessing options'!$D$11="OPTION IS EXCLUDED","",'Assessing options'!E5) -> #N/A | E8: =IF('Assessing options'!$G$11="OPTION IS EXCLUDED","", 'Assessing options'!H5) -> #N/A | F8: =IF('Assessing options'!$J$11="OPTION IS EXCLUDED","",'Assessing options'!K5) -> #N/A | G8: =IF('Assessing options'!$M$11="OPTION IS EXCLUDED","",'Assessing options'!N5) -> #N/A | H8: =IF('Assessing options'!$P$11="OPTION IS EXCLUDED","",'Assessing options'!Q5) -> #N/A
C9: ='Assessing options'!B8 -> Instant replacement within product variety (within surgery OR on shelf stock) | D9: =IF('Assessing options'!$D$11="OPTION IS EXCLUDED","",'Assessing options'!E8) -> #N/A | E9: =IF('Assessing options'!$G$11="OPTION IS EXCLUDED","", 'Assessing options'!H8) -> #N/A | F9: =IF('Assessing options'!$J$11="OPTION IS EXCLUDED","",'Assessing options'!K8) -> #N/A | G9: =IF('Assessing options'!$M$11="OPTION IS EXCLUDED","",'Assessing options'!N8) -> #N/A | H9: =IF('Assessing options'!$P$11="OPTION IS EXCLUDED","",'Assessing options'!Q8) -> #N/A
C10: ='Assessing options'!B9 -> Pharmacovigilance | D10: =IF('Assessing options'!$D$11="OPTION IS EXCLUDED","",'Assessing options'!E9) -> #N/A | E10: =IF('Assessing options'!$G$11="OPTION IS EXCLUDED","", 'Assessing options'!H9) -> #N/A | F10: =IF('Assessing options'!$J$11="OPTION IS EXCLUDED","",'Assessing options'!K9) -> #N/A | G10: =IF('Assessing options'!$M$11="OPTION IS EXCLUDED","",'Assessing options'!N9) -> #N/A | H10: =IF('Assessing options'!$P$11="OPTION IS EXCLUDED","",'Assessing options'!Q9) -> #N/A
C11: ='Assessing options'!B10 -> Refund/Replacement within product variety | D11: =IF('Assessing options'!$D$11="OPTION IS EXCLUDED","",'Assessing options'!E10) -> #N/A | E11: =IF('Assessing options'!$G$11="OPTION IS EXCLUDED","", 'Assessing options'!H10) -> #N/A | F11: =IF('Assessing options'!$J$11="OPTION IS EXCLUDED","",'Assessing options'!K10) -> #N/A | G11: =IF('Assessing options'!$M$11="OPTION IS EXCLUDED","",'Assessing options'!N10) -> #N/A | H11: =IF('Assessing options'!$P$11="OPTION IS EXCLUDED","",'Assessing options'!Q10) -> #N/A
C12: ='Assessing options'!#REF! -> #REF! | D12: =IF('Assessing options'!$D$11="OPTION IS EXCLUDED","",'Assessing options'!#REF!) -> #N/A | E12: =IF('Assessing options'!$G$11="OPTION IS EXCLUDED","", 'Assessing options'!#REF!) -> #N/A | F12: =IF('Assessing options'!$J$11="OPTION IS EXCLUDED","",'Assessing options'!#REF!) -> #N/A | G12: =IF('Assessing options'!$M$11="OPTION IS EXCLUDED","",'Assessing options'!#REF!) -> #N/A | H12: =IF('Assessing options'!$P$11="OPTION IS EXCLUDED","",'Assessing options'!#REF!) -> #N/A
C13: ='Assessing options'!#REF! -> #REF! | D13: =IF('Assessing options'!$D$11="OPTION IS EXCLUDED","",'Assessing options'!#REF!) -> #N/A | E13: =IF('Assessing options'!$G$11="OPTION IS EXCLUDED","", 'Assessing options'!#REF!) -> #N/A | F13: =IF('Assessing options'!$J$11="OPTION IS EXCLUDED","",'Assessing options'!#REF!) -> #N/A | G13: =IF('Assessing options'!$M$11="OPTION IS EXCLUDED","",'Assessing options'!N11) -> #N/A | H13: =IF('Assessing options'!$P$11="OPTION IS EXCLUDED","",'Assessing options'!Q11) -> #N/A
C14: ='Assessing options'!#REF! -> #REF! | D14: =IF('Assessing options'!$D$11="OPTION IS EXCLUDED","",'Assessing options'!#REF!) -> #N/A | E14: =IF('Assessing options'!$G$11="OPTION IS EXCLUDED","", 'Assessing options'!#REF!) -> #N/A | F14: =IF('Assessing options'!$J$11="OPTION IS EXCLUDED","",'Assessing options'!#REF!) -> #N/A | G14: =IF('Assessing options'!$M$11="OPTION IS EXCLUDED","",'Assessing options'!#REF!) -> #N/A | H14: =IF('Assessing options'!$P$11="OPTION IS EXCLUDED","",'Assessing options'!#REF!) -> #N/A
C15: ='Assessing options'!#REF! -> #REF! | D15: =IF('Assessing options'!$D$11="OPTION IS EXCLUDED","",'Assessing options'!#REF!) -> #N/A | E15: =IF('Assessing options'!$G$11="OPTION IS EXCLUDED","", 'Assessing options'!#REF!) -> #N/A | F15: =IF('Assessing options'!$J$11="OPTION IS EXCLUDED","",'Assessing options'!#REF!) -> #N/A | G15: =IF('Assessing options'!$M$11="OPTION IS EXCLUDED","",'Assessing options'!N12) -> #N/A | H15: =IF('Assessing options'!$P$11="OPTION IS EXCLUDED","",'Assessing options'!Q12) -> #N/A
