Workbook

Sheet Master
A1: Table of Contents
A2: Calculations
B3: Fixed and Operating Cost of In-house Maintenance | D3: =HYPERLINK("#"&ADDRESS(1,1,,,"C_fullhouse"),"here") -> here
B4: Administrative, Preventive Maintenance and Corrective Maintenance Cost based on PLAMAHS data for Table 2, colum 3. | D4: =HYPERLINK("#"&ADDRESS(1,1,,,"C_contracted_PLAMAHS"),"here") -> here
B6: NPV Calculation of Derpeciation and Maintenance Cost; Robustness Check for the Life Time Reduction Assumption | D6: =HYPERLINK("#"&ADDRESS(1,1,,,"C_depreciation_mtn_NPV"),"here") -> here
D7: =HYPERLINK("#"&ADDRESS(1,1,,,"C_device_share"),"here") -> here
B8: Share of Considered Devices in Total
B9: Calculation of Depreciation based on Device Value and Life Expectancy | D9: =HYPERLINK("#"&ADDRESS(1,1,,,"C_depreciation_yearly"),"here") -> here
B10: Colculation: Downtime for District Hospitals | D10: =HYPERLINK("#"&ADDRESS(1,1,,,"C_downtime_cost"),"here") -> here
B11: Average Number of Serives per Day | D11: =HYPERLINK("#"&ADDRESS(1,1,,,"C_services_daily"),"here") -> here
B12: Overhead Cost | D12: =HYPERLINK("#"&ADDRESS(1,1,,,"C_overhead_cost"),"here") -> here
A14: Data
B15: Invoiced Program Cost | D15: =HYPERLINK("#"&ADDRESS(1,1,,,"D_invoiced_cost"),"here") -> here
B16: Device Values | D16: =HYPERLINK("#"&ADDRESS(1,1,,,"D_device_values"),"here") -> here
B17: Service Prices | D17: =HYPERLINK("#"&ADDRESS(1,1,,,"D_service_prices"),"here") -> here
B18: Device Lifecycles | D18: =HYPERLINK("#"&ADDRESS(1,1,,,"D_device_lifecycles"),"here") -> here
B19: Currency Conversion | D19: =HYPERLINK("#"&ADDRESS(1,1,,,"D_currency_conversion"),"here") -> here
B20: Detailed Maintenance Component Cost In-house Maintenance Calculation | D20: =HYPERLINK("#"&ADDRESS(1,1,,,"D_fullhouse"),"here") -> here
A21: Notes: Sheets beginning with C_ are calucations, sheets beginning with D_ store data

Sheet C_fullhouse
B1: =HYPERLINK("#"&ADDRESS(1,1,,,"MASTER"),"M <=") -> M <=
A2: Fixed and Operating Cost of In-house Maintenance
C3: Assumed Discount Rate | F3: =Master!#REF! -> #REF!
F4: Year
D5: 10 years | E5: 3 years | F5: 0 | G5: 1 | H5: 2 | I5: 3 | J5: 4 | K5: 5 | L5: 6 | M5: 7 | N5: 8 | O5: 9 | P5: 10
A6: Initial investments | D6: =SUM(F7:F8) -> 910424 | E6: ‚
B7: Construction WS | D7: =F7+(G7/(1+$F$3)^1)+(H7/(1+$F$3)^2)+(I7/(1+$F$3)^3)+(J7/(1+$F$3)^4)+(K7/(1+$F$3)^5)+(L7/(1+$F$3)^6)+(M7/(1+$F$3)^7)+(N7/(1+$F$3)^8)+(O7/(1+$F$3)^9)+(P7/(1+$F$3)^10) -> #REF! | E7: =F7+(G7/(1+$F$3)^1)+(H7/(1+$F$3)^2)+(I7/(1+$F$3)^3) -> #REF! | F7: =D_fullhouse!S7 -> 710424
B8: Tools | D8: =F8+(G8/(1+$F$3)^1)+(H8/(1+$F$3)^2)+(I8/(1+$F$3)^3)+(J8/(1+$F$3)^4)+(K8/(1+$F$3)^5)+(L8/(1+$F$3)^6)+(M8/(1+$F$3)^7)+(N8/(1+$F$3)^8)+(O8/(1+$F$3)^9)+(P8/(1+$F$3)^10) -> #REF! | E8: =F8+(G8/(1+$F$3)^1)+(H8/(1+$F$3)^2)+(I8/(1+$F$3)^3) -> #REF! | F8: =D_fullhouse!N7 -> 200000
A9: Initial Admin
D10: =F10+(G10/(1+$F$3)^1)+(H10/(1+$F$3)^2)+(I10/(1+$F$3)^3)+(J10/(1+$F$3)^4)+(K10/(1+$F$3)^5)+(L10/(1+$F$3)^6)+(M10/(1+$F$3)^7)+(N10/(1+$F$3)^8)+(O10/(1+$F$3)^9)+(P10/(1+$F$3)^10) -> #REF! | E10: =F10+(G10/(1+$F$3)^1)+(H10/(1+$F$3)^2)+(I10/(1+$F$3)^3) -> #REF! | F10: =SUM(C_overhead_cost!O5:O7)/25 -> 3090.352 | G10: =C_overhead_cost!$P$16/25 -> 125864.07 | H10: =C_overhead_cost!$P$16/25 -> 125864.07 | I10: =C_overhead_cost!$P$16/25 -> 125864.07 | J10: =C_overhead_cost!$P$16/25 -> 125864.07 | K10: =C_overhead_cost!$P$16/25 -> 125864.07 | L10: =C_overhead_cost!$P$16/25 -> 125864.07 | M10: =C_overhead_cost!$P$16/25 -> 125864.07 | N10: =C_overhead_cost!$P$16/25 -> 125864.07 | ... P10: =C_overhead_cost!$P$16/25 -> 125864.07
A11: Operating cost | D11: =SUM(D12:D13) -> #REF! | E11: =SUM(E12:E13) -> #REF!
B12: Salaries | D12: =F12+(G12/(1+$F$3)^1)+(H12/(1+$F$3)^2)+(I12/(1+$F$3)^3)+(J12/(1+$F$3)^4)+(K12/(1+$F$3)^5)+(L12/(1+$F$3)^6)+(M12/(1+$F$3)^7)+(N12/(1+$F$3)^8)+(O12/(1+$F$3)^9)+(P12/(1+$F$3)^10) -> #REF! | E12: =F12+(G12/(1+$F$3)^1)+(H12/(1+$F$3)^2)+(I12/(1+$F$3)^3) -> #REF! | G12: =D_fullhouse!$M$8 -> 600000 | H12: =G12 -> 600000 | I12: =H12 -> 600000 | J12: =I12 -> 600000 | K12: =J12 -> 600000 | L12: =K12 -> 600000 | M12: =L12 -> 600000 | N12: =M12 -> 600000 | O12: =N12 -> 600000 | P12: =O12 -> 600000
B13: Spares & testing | D13: =F13+(G13/(1+$F$3)^1)+(H13/(1+$F$3)^2)+(I13/(1+$F$3)^3)+(J13/(1+$F$3)^4)+(K13/(1+$F$3)^5)+(L13/(1+$F$3)^6)+(M13/(1+$F$3)^7)+(N13/(1+$F$3)^8)+(O13/(1+$F$3)^9)+(P13/(1+$F$3)^10) -> #REF! | E13: =F13+(G13/(1+$F$3)^1)+(H13/(1+$F$3)^2)+(I13/(1+$F$3)^3) -> #REF! | G13: =0.7*(D_fullhouse!$O$8+D_fullhouse!$P$8) -> 385000 | H13: =$G$13 -> 385000 | I13: =$G$13 -> 385000 | J13: =$G$13 -> 385000 | K13: =$G$13 -> 385000 | L13: =$G$13 -> 385000 | M13: =$G$13 -> 385000 | N13: =$G$13 -> 385000 | O13: =$G$13 -> 385000 | P13: =$G$13 -> 385000
A14: Depreciation rate: | D14: =F14+(G14/(1+$F$3)^1)+(H14/(1+$F$3)^2)+(I14/(1+$F$3)^3)+(J14/(1+$F$3)^4)+(K14/(1+$F$3)^5)+(L14/(1+$F$3)^6)+(M14/(1+$F$3)^7)+(N14/(1+$F$3)^8)+(O14/(1+$F$3)^9)+(P14/(1+$F$3)^10) -> #REF! | E14: =F14+(G14/(1+$F$3)^1)+(H14/(1+$F$3)^2)+(I14/(1+$F$3)^3) -> #REF! | G14: =C_depreciation_yearly!$Q$25 -> 1960858.7 | H14: =C_depreciation_yearly!$Q$25 -> 1960858.7 | I14: =C_depreciation_yearly!$Q$25 -> 1960858.7 | J14: =C_depreciation_yearly!$Q$25 -> 1960858.7 | K14: =C_depreciation_yearly!$Q$25 -> 1960858.7 | L14: =C_depreciation_yearly!$Q$25 -> 1960858.7 | M14: =C_depreciation_yearly!$Q$25 -> 1960858.7 | N14: =C_depreciation_yearly!$Q$25 -> 1960858.7 | ... P14: =C_depreciation_yearly!$Q$25 -> 1960858.7
F15: =SUM(F7:F14) -> 913514.35 | G15: =SUM(G7:G14) -> 3071722.7 | H15: =SUM(H7:H14) -> 3071722.7 | I15: =SUM(I7:I14) -> 3071722.7 | J15: =SUM(J7:J14) -> 3071722.7 | K15: =SUM(K7:K14) -> 3071722.7 | L15: =SUM(L7:L14) -> 3071722.7 | M15: =SUM(M7:M14) -> 3071722.7 | ... P15: =SUM(P7:P14) -> 3071722.7
A16: NPV | B16: total | D16: =SUM(D6,D11,D14) -> #REF! | E16: =SUM(E6,E11,E14) -> #REF!
A17: NPV | B17: per year | D17: =D16/10 -> #REF! | E17: =E16/3 -> #REF!
A19: H_fullhouse | C19: for data
A21: Notes: WS = Work Shop. We asume identical management cost for in-house and contracted-out maintenance (Table 2, column 2&3)

Sheet C_contracted_PLAMAHS
B1: =HYPERLINK("#"&ADDRESS(1,1,,,"MASTER"),"M <=") -> M <=
B2: Administrative, Preventive Maintenance and Corrective Maintenance Cost based on PLAMAHS data for Table 2, colum 3.
B3: Costing based on break-down of progam cost
C4: In USD (2016)
C5: Assumed discount rate: | H5: =Master!#REF! -> #REF!
E6: 10 years | F6: 3 years | G6: 3 yrs (w/o In. Inv.) | H6: Year
B7: Contracted MTN | H7: 0 | I7: 1 | J7: 2 | K7: 3 | L7: 4 | M7: 5 | N7: 6 | O7: 7 | P7: 8 | Q7: 9 | R7: 10
B8: Maintenance Cost
C9: Administrative cost: | E9: =H9+(I9/(1+H$5)^1)+(J9/(1+H$5)^2)+(K9/(1+H$5)^3)+(L9/(1+H$5)^4)+(M9/(1+H$5)^5)+(N9/(1+H$5)^6)+(O9/(1+H$5)^7)+(P9/(1+H$5)^8)+(Q9/(1+H$5)^9)+(R9/(1+H$5)^10) -> #REF! | F9: =H9+(I9/(1+H$5)^1)+(J9/(1+H$5)^2)+(K9/(1+H$5)^3) -> #REF! | H9: =C_overhead_cost!$P$9/25 -> 653576.6 | I9: =C_overhead_cost!$P$16/25 -> 125864.07 | J9: =C_overhead_cost!$P$16/25 -> 125864.07 | K9: =C_overhead_cost!$P$16/25 -> 125864.07 | L9: =C_overhead_cost!$P$16/25 -> 125864.07 | M9: =C_overhead_cost!$P$16/25 -> 125864.07 | N9: =C_overhead_cost!$P$16/25 -> 125864.07 | O9: =C_overhead_cost!$P$16/25 -> 125864.07 | P9: =C_overhead_cost!$P$16/25 -> 125864.07 | ... R9: =C_overhead_cost!$P$16/25 -> 125864.07
C10: PM operating cost: | E10: =H10+(I10/(1+H$5)^1)+(J10/(1+H$5)^2)+(K10/(1+H$5)^3)+(L10/(1+H$5)^4)+(M10/(1+H$5)^5)+(N10/(1+H$5)^6)+(O10/(1+H$5)^7)+(P10/(1+H$5)^8)+(Q10/(1+H$5)^9)+(R10/(1+H$5)^10) -> #REF! | F10: =H10+(I10/(1+H$5)^1)+(J10/(1+H$5)^2)+(K10/(1+H$5)^3) -> #REF! | G10: =(I10/(1+H$5)^1)+(J10/(1+H$5)^2)+(K10/(1+H$5)^3) -> #REF! | H10: =(1/19)*D_invoiced_cost!C31*10^6*D_currency_conversion!$I$12*D_currency_conversion!$J$12 -> 903151.69 | I10: =(1/19)*D_invoiced_cost!D34*10^6*D_currency_conversion!$I$12*D_currency_conversion!$J$12 -> 118378.7 | J10: =(1/19)*D_invoiced_cost!E34*10^6*D_currency_conversion!$I$12*D_currency_conversion!$J$12 -> 157286.1 | K10: =(1/19)*D_invoiced_cost!F34*10^6*D_currency_conversion!$I$12*D_currency_conversion!$J$12 -> 176908.42 | L10: =0.85*K10+0.15*J10 -> 173965.07 | M10: =0.85*L10+0.15*K10 -> 174406.57 | N10: =(1/19)*D_invoiced_cost!I34*10^6*D_currency_conversion!$I$12*D_currency_conversion!$J$12 -> 264371.94 | O10: =(1/19)*D_invoiced_cost!J34*10^6*(1/D_currency_conversion!$J$6)*D_currency_conversion!$I$12*D_currency_conversion!$J$12 -> 0 | P10: =(1/19)*D_invoiced_cost!K34*10^6*(1/D_currency_conversion!$J$6)*D_currency_conversion!$I$12*D_currency_conversion!$J$12 -> 0 | Q10: =(1/19)*D_invoiced_cost!L34*10^6*(1/D_currency_conversion!$J$6)*D_currency_conversion!$I$12*D_currency_conversion!$J$12 -> 0 | R10: =(1/19)*D_invoiced_cost!M34*10^6*(1/D_currency_conversion!$J$6)*D_currency_conversion!$I$12*D_currency_conversion!$J$12 -> 0
C11: CM spare cost: | E11: =H11+(I11/(1+H$5)^1)+(J11/(1+H$5)^2)+(K11/(1+H$5)^3)+(L11/(1+H$5)^4)+(M11/(1+H$5)^5)+(N11/(1+H$5)^6)+(O11/(1+H$5)^7)+(P11/(1+H$5)^8)+(Q11/(1+H$5)^9)+(R11/(1+H$5)^10) -> #REF! | F11: =H11+(I11/(1+H$5)^1)+(J11/(1+H$5)^2)+(K11/(1+H$5)^3) -> #REF! | G11: =(I11/(1+H$5)^1)+(J11/(1+H$5)^2)+(K11/(1+H$5)^3) -> #REF! | I11: =(1/19)*D_invoiced_cost!D35*10^6*D_currency_conversion!$I$12*D_currency_conversion!$J$12 -> 9344.7184 | J11: =(1/19)*D_invoiced_cost!E35*10^6*D_currency_conversion!$I$12*D_currency_conversion!$J$12 -> 50924.052 | K11: =(1/19)*D_invoiced_cost!F35*10^6*D_currency_conversion!$I$12*D_currency_conversion!$J$12 -> 29776.119 | L11: =(1/19)*D_invoiced_cost!G35*10^6*D_currency_conversion!$I$12*D_currency_conversion!$J$12 -> 41551.697 | M11: =(1/19)*D_invoiced_cost!H35*10^6*D_currency_conversion!$I$12*D_currency_conversion!$J$12 -> 53327.274 | N11: =(1/19)*D_invoiced_cost!I35*10^6*D_currency_conversion!$I$12*D_currency_conversion!$J$12 -> 65090.596 | O11: =(1/19)*D_invoiced_cost!J35*10^6*(1/D_currency_conversion!$J$6)*D_currency_conversion!$I$12*D_currency_conversion!$J$12 -> 0 | P11: =(1/19)*D_invoiced_cost!K35*10^6*(1/D_currency_conversion!$J$6)*D_currency_conversion!$I$12*D_currency_conversion!$J$12 -> 0 | Q11: =(1/19)*D_invoiced_cost!L35*10^6*(1/D_currency_conversion!$J$6)*D_currency_conversion!$I$12*D_currency_conversion!$J$12 -> 0 | R11: =(1/19)*D_invoiced_cost!M35*10^6*(1/D_currency_conversion!$J$6)*D_currency_conversion!$I$12*D_currency_conversion!$J$12 -> 0
A13: Notes: CM = Corrective Maintenance; PM = Preventive Maintenance; MTN = Maintenance; w/o In. Inv. = Without Initial Invoice

Sheet C_depreciation_mtn_NPV
A1: =HYPERLINK("#"&ADDRESS(1,1,,,"MASTER"),"M <=") -> M <=
A2: NPV Calculation of Derpeciation and Maintenance Cost; Robustness Check for the Life Time Reduction Assumption
B3: for only five device types, in USD (2016) | O3: Discount Rate: | P3: =Master!#REF! -> #REF!
D4: NPV | P4: 0 | Q4: 1 | R4: 2 | S4: 3 | T4: 4 | U4: 5 | V4: 6 | W4: 7 | X4: 8 | Y4: 9 | Z4: 10
A5: No Maintenace | D5: 20 years | E5: 15 years | F5: 10 years | G5: 9 years | H5: 8 years | I5: 7 years | J5: 6 years | K5: 5 years | L5: 4 years | M5: 3 years | N5: 2 years | O5: 1 years
A6: Depreciation rate: | C6: Lifetime Reduction
C7: 0.39 | D7: =$P7+($Q7/(1+$P$3)^1)+($R7/(1+$P$3)^2)+($S7/(1+$P$3)^3)+($T7/(1+$P$3)^4)+($U7/(1+$P$3)^5)+($V7/(1+$P$3)^6)+($W7/(1+$P$3)^7)+($X7/(1+$P$3)^8)+($Y7/(1+$P$3)^9)+($Z7/(1+$P$3)^10)+Z7*(1/(1+$P$3)^11+1/(1+$P$3)^12+1/(1+$P$3)^13+1/(1+$P$3)^14+1/(1+$P$3)^15+1/(1+$P$3)^16+1/(1+$P$3)^17+1/(1+$P$3)^18+1/(1+$P$3)^19+1/(1+$P$3)^20) -> #REF! | E7: =$P7+($Q7/(1+$P$3)^1)+($R7/(1+$P$3)^2)+($S7/(1+$P$3)^3)+($T7/(1+$P$3)^4)+($U7/(1+$P$3)^5)+($V7/(1+$P$3)^6)+($W7/(1+$P$3)^7)+($X7/(1+$P$3)^8)+($Y7/(1+$P$3)^9)+($Z7/(1+$P$3)^10)+Z7*(1/(1+$P$3)^11+1/(1+$P$3)^12+1/(1+$P$3)^13+1/(1+$P$3)^14+1/(1+$P$3)^15) -> #REF! | F7: =($Q7/(1+$P$3)^1)+($R7/(1+$P$3)^2)+($S7/(1+$P$3)^3)+($T7/(1+$P$3)^4)+($U7/(1+$P$3)^5)+($V7/(1+$P$3)^6)+($W7/(1+$P$3)^7)+($X7/(1+$P$3)^8)+($Y7/(1+$P$3)^9)+($Z7/(1+$P$3)^10) -> #REF! | G7: =($Q7/(1+$P$3)^1)+($R7/(1+$P$3)^2)+($S7/(1+$P$3)^3)+($T7/(1+$P$3)^4)+($U7/(1+$P$3)^5)+($V7/(1+$P$3)^6)+($W7/(1+$P$3)^7)+($X7/(1+$P$3)^8)+($Y7/(1+$P$3)^9) -> #REF! | H7: =($Q7/(1+$P$3)^1)+($R7/(1+$P$3)^2)+($S7/(1+$P$3)^3)+($T7/(1+$P$3)^4)+($U7/(1+$P$3)^5)+($V7/(1+$P$3)^6)+($W7/(1+$P$3)^7)+($X7/(1+$P$3)^8) -> #REF! | I7: =($Q7/(1+$P$3)^1)+($R7/(1+$P$3)^2)+($S7/(1+$P$3)^3)+($T7/(1+$P$3)^4)+($U7/(1+$P$3)^5)+($V7/(1+$P$3)^6)+($W7/(1+$P$3)^7) -> #REF! | J7: =($Q7/(1+$P$3)^1)+($R7/(1+$P$3)^2)+($S7/(1+$P$3)^3)+($T7/(1+$P$3)^4)+($U7/(1+$P$3)^5)+($V7/(1+$P$3)^6) -> #REF! | K7: =($Q7/(1+$P$3)^1)+($R7/(1+$P$3)^2)+($S7/(1+$P$3)^3)+($T7/(1+$P$3)^4)+($U7/(1+$P$3)^5) -> #REF! | L7: =($Q7/(1+$P$3)^1)+($R7/(1+$P$3)^2)+($S7/(1+$P$3)^3)+($T7/(1+$P$3)^4) -> #REF! | M7: =($Q7/(1+$P$3)^1)+($R7/(1+$P$3)^2)+($S7/(1+$P$3)^3) -> #REF! | N7: =($Q7/(1+$P$3)^1)+($R7/(1+$P$3)^2) -> #REF! | O7: =($Q7/(1+$P$3)^1) -> #REF! | Q7: =C_depreciation_yearly!$O$25 -> #REF! | R7: =C_depreciation_yearly!$O$25 -> #REF! | S7: =C_depreciation_yearly!$O$25 -> #REF! | T7: =C_depreciation_yearly!$O$25 -> #REF! | U7: =C_depreciation_yearly!$O$25 -> #REF! | V7: =C_depreciation_yearly!$O$25 -> #REF! | W7: =C_depreciation_yearly!$O$25 -> #REF! | X7: =C_depreciation_yearly!$O$25 -> #REF! | ... Z7: =C_depreciation_yearly!$O$25 -> #REF!
C8: 0 | D8: =$P8+($Q8/(1+$P$3)^1)+($R8/(1+$P$3)^2)+($S8/(1+$P$3)^3)+($T8/(1+$P$3)^4)+($U8/(1+$P$3)^5)+($V8/(1+$P$3)^6)+($W8/(1+$P$3)^7)+($X8/(1+$P$3)^8)+($Y8/(1+$P$3)^9)+($Z8/(1+$P$3)^10)+Z8*(1/(1+$P$3)^11+1/(1+$P$3)^12+1/(1+$P$3)^13+1/(1+$P$3)^14+1/(1+$P$3)^15+1/(1+$P$3)^16+1/(1+$P$3)^17+1/(1+$P$3)^18+1/(1+$P$3)^19+1/(1+$P$3)^20) -> #REF! | E8: =$P8+($Q8/(1+$P$3)^1)+($R8/(1+$P$3)^2)+($S8/(1+$P$3)^3)+($T8/(1+$P$3)^4)+($U8/(1+$P$3)^5)+($V8/(1+$P$3)^6)+($W8/(1+$P$3)^7)+($X8/(1+$P$3)^8)+($Y8/(1+$P$3)^9)+($Z8/(1+$P$3)^10)+Z8*(1/(1+$P$3)^11+1/(1+$P$3)^12+1/(1+$P$3)^13+1/(1+$P$3)^14+1/(1+$P$3)^15) -> #REF! | F8: =($Q8/(1+$P$3)^1)+($R8/(1+$P$3)^2)+($S8/(1+$P$3)^3)+($T8/(1+$P$3)^4)+($U8/(1+$P$3)^5)+($V8/(1+$P$3)^6)+($W8/(1+$P$3)^7)+($X8/(1+$P$3)^8)+($Y8/(1+$P$3)^9)+($Z8/(1+$P$3)^10) -> #REF! | G8: =($Q8/(1+$P$3)^1)+($R8/(1+$P$3)^2)+($S8/(1+$P$3)^3)+($T8/(1+$P$3)^4)+($U8/(1+$P$3)^5)+($V8/(1+$P$3)^6)+($W8/(1+$P$3)^7)+($X8/(1+$P$3)^8)+($Y8/(1+$P$3)^9) -> #REF! | H8: =($Q8/(1+$P$3)^1)+($R8/(1+$P$3)^2)+($S8/(1+$P$3)^3)+($T8/(1+$P$3)^4)+($U8/(1+$P$3)^5)+($V8/(1+$P$3)^6)+($W8/(1+$P$3)^7)+($X8/(1+$P$3)^8) -> #REF! | I8: =($Q8/(1+$P$3)^1)+($R8/(1+$P$3)^2)+($S8/(1+$P$3)^3)+($T8/(1+$P$3)^4)+($U8/(1+$P$3)^5)+($V8/(1+$P$3)^6)+($W8/(1+$P$3)^7) -> #REF! | J8: =($Q8/(1+$P$3)^1)+($R8/(1+$P$3)^2)+($S8/(1+$P$3)^3)+($T8/(1+$P$3)^4)+($U8/(1+$P$3)^5)+($V8/(1+$P$3)^6) -> #REF! | K8: =($Q8/(1+$P$3)^1)+($R8/(1+$P$3)^2)+($S8/(1+$P$3)^3)+($T8/(1+$P$3)^4)+($U8/(1+$P$3)^5) -> #REF! | L8: =($Q8/(1+$P$3)^1)+($R8/(1+$P$3)^2)+($S8/(1+$P$3)^3)+($T8/(1+$P$3)^4) -> #REF! | M8: =($Q8/(1+$P$3)^1)+($R8/(1+$P$3)^2)+($S8/(1+$P$3)^3) -> #REF! | N8: =($Q8/(1+$P$3)^1)+($R8/(1+$P$3)^2) -> #REF! | O8: =($Q8/(1+$P$3)^1) -> #REF! | Q8: =C_depreciation_yearly!$O$54 -> 35295456 | R8: =C_depreciation_yearly!$O$54 -> 35295456 | S8: =C_depreciation_yearly!$O$54 -> 35295456 | T8: =C_depreciation_yearly!$O$54 -> 35295456 | U8: =C_depreciation_yearly!$O$54 -> 35295456 | V8: =C_depreciation_yearly!$O$54 -> 35295456 | W8: =C_depreciation_yearly!$O$54 -> 35295456 | X8: =C_depreciation_yearly!$O$54 -> 35295456 | ... Z8: =C_depreciation_yearly!$O$54 -> 35295456
C9: =C8+0.05 -> 0.05 | D9: =$P9+($Q9/(1+$P$3)^1)+($R9/(1+$P$3)^2)+($S9/(1+$P$3)^3)+($T9/(1+$P$3)^4)+($U9/(1+$P$3)^5)+($V9/(1+$P$3)^6)+($W9/(1+$P$3)^7)+($X9/(1+$P$3)^8)+($Y9/(1+$P$3)^9)+($Z9/(1+$P$3)^10)+Z9*(1/(1+$P$3)^11+1/(1+$P$3)^12+1/(1+$P$3)^13+1/(1+$P$3)^14+1/(1+$P$3)^15+1/(1+$P$3)^16+1/(1+$P$3)^17+1/(1+$P$3)^18+1/(1+$P$3)^19+1/(1+$P$3)^20) -> #REF! | E9: =$P9+($Q9/(1+$P$3)^1)+($R9/(1+$P$3)^2)+($S9/(1+$P$3)^3)+($T9/(1+$P$3)^4)+($U9/(1+$P$3)^5)+($V9/(1+$P$3)^6)+($W9/(1+$P$3)^7)+($X9/(1+$P$3)^8)+($Y9/(1+$P$3)^9)+($Z9/(1+$P$3)^10)+Z9*(1/(1+$P$3)^11+1/(1+$P$3)^12+1/(1+$P$3)^13+1/(1+$P$3)^14+1/(1+$P$3)^15) -> #REF! | F9: =($Q9/(1+$P$3)^1)+($R9/(1+$P$3)^2)+($S9/(1+$P$3)^3)+($T9/(1+$P$3)^4)+($U9/(1+$P$3)^5)+($V9/(1+$P$3)^6)+($W9/(1+$P$3)^7)+($X9/(1+$P$3)^8)+($Y9/(1+$P$3)^9)+($Z9/(1+$P$3)^10) -> #REF! | G9: =($Q9/(1+$P$3)^1)+($R9/(1+$P$3)^2)+($S9/(1+$P$3)^3)+($T9/(1+$P$3)^4)+($U9/(1+$P$3)^5)+($V9/(1+$P$3)^6)+($W9/(1+$P$3)^7)+($X9/(1+$P$3)^8)+($Y9/(1+$P$3)^9) -> #REF! | H9: =($Q9/(1+$P$3)^1)+($R9/(1+$P$3)^2)+($S9/(1+$P$3)^3)+($T9/(1+$P$3)^4)+($U9/(1+$P$3)^5)+($V9/(1+$P$3)^6)+($W9/(1+$P$3)^7)+($X9/(1+$P$3)^8) -> #REF! | I9: =($Q9/(1+$P$3)^1)+($R9/(1+$P$3)^2)+($S9/(1+$P$3)^3)+($T9/(1+$P$3)^4)+($U9/(1+$P$3)^5)+($V9/(1+$P$3)^6)+($W9/(1+$P$3)^7) -> #REF! | J9: =($Q9/(1+$P$3)^1)+($R9/(1+$P$3)^2)+($S9/(1+$P$3)^3)+($T9/(1+$P$3)^4)+($U9/(1+$P$3)^5)+($V9/(1+$P$3)^6) -> #REF! | K9: =($Q9/(1+$P$3)^1)+($R9/(1+$P$3)^2)+($S9/(1+$P$3)^3)+($T9/(1+$P$3)^4)+($U9/(1+$P$3)^5) -> #REF! | L9: =($Q9/(1+$P$3)^1)+($R9/(1+$P$3)^2)+($S9/(1+$P$3)^3)+($T9/(1+$P$3)^4) -> #REF! | M9: =($Q9/(1+$P$3)^1)+($R9/(1+$P$3)^2)+($S9/(1+$P$3)^3) -> #REF! | N9: =($Q9/(1+$P$3)^1)+($R9/(1+$P$3)^2) -> #REF! | O9: =($Q9/(1+$P$3)^1) -> #REF! | Q9: =C_depreciation_yearly!$O$79 -> 37153111 | R9: =C_depreciation_yearly!$O$79 -> 37153111 | S9: =C_depreciation_yearly!$O$79 -> 37153111 | T9: =C_depreciation_yearly!$O$79 -> 37153111 | U9: =C_depreciation_yearly!$O$79 -> 37153111 | V9: =C_depreciation_yearly!$O$79 -> 37153111 | W9: =C_depreciation_yearly!$O$79 -> 37153111 | X9: =C_depreciation_yearly!$O$79 -> 37153111 | ... Z9: =C_depreciation_yearly!$O$79 -> 37153111
C10: =C9+0.05 -> 0.1 | D10: =$P10+($Q10/(1+$P$3)^1)+($R10/(1+$P$3)^2)+($S10/(1+$P$3)^3)+($T10/(1+$P$3)^4)+($U10/(1+$P$3)^5)+($V10/(1+$P$3)^6)+($W10/(1+$P$3)^7)+($X10/(1+$P$3)^8)+($Y10/(1+$P$3)^9)+($Z10/(1+$P$3)^10)+Z10*(1/(1+$P$3)^11+1/(1+$P$3)^12+1/(1+$P$3)^13+1/(1+$P$3)^14+1/(1+$P$3)^15+1/(1+$P$3)^16+1/(1+$P$3)^17+1/(1+$P$3)^18+1/(1+$P$3)^19+1/(1+$P$3)^20) -> #REF! | E10: =$P10+($Q10/(1+$P$3)^1)+($R10/(1+$P$3)^2)+($S10/(1+$P$3)^3)+($T10/(1+$P$3)^4)+($U10/(1+$P$3)^5)+($V10/(1+$P$3)^6)+($W10/(1+$P$3)^7)+($X10/(1+$P$3)^8)+($Y10/(1+$P$3)^9)+($Z10/(1+$P$3)^10)+Z10*(1/(1+$P$3)^11+1/(1+$P$3)^12+1/(1+$P$3)^13+1/(1+$P$3)^14+1/(1+$P$3)^15) -> #REF! | F10: =($Q10/(1+$P$3)^1)+($R10/(1+$P$3)^2)+($S10/(1+$P$3)^3)+($T10/(1+$P$3)^4)+($U10/(1+$P$3)^5)+($V10/(1+$P$3)^6)+($W10/(1+$P$3)^7)+($X10/(1+$P$3)^8)+($Y10/(1+$P$3)^9)+($Z10/(1+$P$3)^10) -> #REF! | G10: =($Q10/(1+$P$3)^1)+($R10/(1+$P$3)^2)+($S10/(1+$P$3)^3)+($T10/(1+$P$3)^4)+($U10/(1+$P$3)^5)+($V10/(1+$P$3)^6)+($W10/(1+$P$3)^7)+($X10/(1+$P$3)^8)+($Y10/(1+$P$3)^9) -> #REF! | H10: =($Q10/(1+$P$3)^1)+($R10/(1+$P$3)^2)+($S10/(1+$P$3)^3)+($T10/(1+$P$3)^4)+($U10/(1+$P$3)^5)+($V10/(1+$P$3)^6)+($W10/(1+$P$3)^7)+($X10/(1+$P$3)^8) -> #REF! | I10: =($Q10/(1+$P$3)^1)+($R10/(1+$P$3)^2)+($S10/(1+$P$3)^3)+($T10/(1+$P$3)^4)+($U10/(1+$P$3)^5)+($V10/(1+$P$3)^6)+($W10/(1+$P$3)^7) -> #REF! | J10: =($Q10/(1+$P$3)^1)+($R10/(1+$P$3)^2)+($S10/(1+$P$3)^3)+($T10/(1+$P$3)^4)+($U10/(1+$P$3)^5)+($V10/(1+$P$3)^6) -> #REF! | K10: =($Q10/(1+$P$3)^1)+($R10/(1+$P$3)^2)+($S10/(1+$P$3)^3)+($T10/(1+$P$3)^4)+($U10/(1+$P$3)^5) -> #REF! | L10: =($Q10/(1+$P$3)^1)+($R10/(1+$P$3)^2)+($S10/(1+$P$3)^3)+($T10/(1+$P$3)^4) -> #REF! | M10: =($Q10/(1+$P$3)^1)+($R10/(1+$P$3)^2)+($S10/(1+$P$3)^3) -> #REF! | N10: =($Q10/(1+$P$3)^1)+($R10/(1+$P$3)^2) -> #REF! | O10: =($Q10/(1+$P$3)^1) -> #REF! | Q10: =C_depreciation_yearly!$O$104 -> 39217173 | R10: =C_depreciation_yearly!$O$104 -> 39217173 | S10: =C_depreciation_yearly!$O$104 -> 39217173 | T10: =C_depreciation_yearly!$O$104 -> 39217173 | U10: =C_depreciation_yearly!$O$104 -> 39217173 | V10: =C_depreciation_yearly!$O$104 -> 39217173 | W10: =C_depreciation_yearly!$O$104 -> 39217173 | X10: =C_depreciation_yearly!$O$104 -> 39217173 | ... Z10: =C_depreciation_yearly!$O$104 -> 39217173
C11: =C10+0.05 -> 0.15 | D11: =$P11+($Q11/(1+$P$3)^1)+($R11/(1+$P$3)^2)+($S11/(1+$P$3)^3)+($T11/(1+$P$3)^4)+($U11/(1+$P$3)^5)+($V11/(1+$P$3)^6)+($W11/(1+$P$3)^7)+($X11/(1+$P$3)^8)+($Y11/(1+$P$3)^9)+($Z11/(1+$P$3)^10)+Z11*(1/(1+$P$3)^11+1/(1+$P$3)^12+1/(1+$P$3)^13+1/(1+$P$3)^14+1/(1+$P$3)^15+1/(1+$P$3)^16+1/(1+$P$3)^17+1/(1+$P$3)^18+1/(1+$P$3)^19+1/(1+$P$3)^20) -> #REF! | E11: =$P11+($Q11/(1+$P$3)^1)+($R11/(1+$P$3)^2)+($S11/(1+$P$3)^3)+($T11/(1+$P$3)^4)+($U11/(1+$P$3)^5)+($V11/(1+$P$3)^6)+($W11/(1+$P$3)^7)+($X11/(1+$P$3)^8)+($Y11/(1+$P$3)^9)+($Z11/(1+$P$3)^10)+Z11*(1/(1+$P$3)^11+1/(1+$P$3)^12+1/(1+$P$3)^13+1/(1+$P$3)^14+1/(1+$P$3)^15) -> #REF! | F11: =($Q11/(1+$P$3)^1)+($R11/(1+$P$3)^2)+($S11/(1+$P$3)^3)+($T11/(1+$P$3)^4)+($U11/(1+$P$3)^5)+($V11/(1+$P$3)^6)+($W11/(1+$P$3)^7)+($X11/(1+$P$3)^8)+($Y11/(1+$P$3)^9)+($Z11/(1+$P$3)^10) -> #REF! | G11: =($Q11/(1+$P$3)^1)+($R11/(1+$P$3)^2)+($S11/(1+$P$3)^3)+($T11/(1+$P$3)^4)+($U11/(1+$P$3)^5)+($V11/(1+$P$3)^6)+($W11/(1+$P$3)^7)+($X11/(1+$P$3)^8)+($Y11/(1+$P$3)^9) -> #REF! | H11: =($Q11/(1+$P$3)^1)+($R11/(1+$P$3)^2)+($S11/(1+$P$3)^3)+($T11/(1+$P$3)^4)+($U11/(1+$P$3)^5)+($V11/(1+$P$3)^6)+($W11/(1+$P$3)^7)+($X11/(1+$P$3)^8) -> #REF! | I11: =($Q11/(1+$P$3)^1)+($R11/(1+$P$3)^2)+($S11/(1+$P$3)^3)+($T11/(1+$P$3)^4)+($U11/(1+$P$3)^5)+($V11/(1+$P$3)^6)+($W11/(1+$P$3)^7) -> #REF! | J11: =($Q11/(1+$P$3)^1)+($R11/(1+$P$3)^2)+($S11/(1+$P$3)^3)+($T11/(1+$P$3)^4)+($U11/(1+$P$3)^5)+($V11/(1+$P$3)^6) -> #REF! | K11: =($Q11/(1+$P$3)^1)+($R11/(1+$P$3)^2)+($S11/(1+$P$3)^3)+($T11/(1+$P$3)^4)+($U11/(1+$P$3)^5) -> #REF! | L11: =($Q11/(1+$P$3)^1)+($R11/(1+$P$3)^2)+($S11/(1+$P$3)^3)+($T11/(1+$P$3)^4) -> #REF! | M11: =($Q11/(1+$P$3)^1)+($R11/(1+$P$3)^2)+($S11/(1+$P$3)^3) -> #REF! | N11: =($Q11/(1+$P$3)^1)+($R11/(1+$P$3)^2) -> #REF! | O11: =($Q11/(1+$P$3)^1) -> #REF! | Q11: =C_depreciation_yearly!$O$129 -> 41524066 | R11: =C_depreciation_yearly!$O$129 -> 41524066 | S11: =C_depreciation_yearly!$O$129 -> 41524066 | T11: =C_depreciation_yearly!$O$129 -> 41524066 | U11: =C_depreciation_yearly!$O$129 -> 41524066 | V11: =C_depreciation_yearly!$O$129 -> 41524066 | W11: =C_depreciation_yearly!$O$129 -> 41524066 | X11: =C_depreciation_yearly!$O$129 -> 41524066 | ... Z11: =C_depreciation_yearly!$O$129 -> 41524066
C12: =C11+0.05 -> 0.2 | D12: =$P12+($Q12/(1+$P$3)^1)+($R12/(1+$P$3)^2)+($S12/(1+$P$3)^3)+($T12/(1+$P$3)^4)+($U12/(1+$P$3)^5)+($V12/(1+$P$3)^6)+($W12/(1+$P$3)^7)+($X12/(1+$P$3)^8)+($Y12/(1+$P$3)^9)+($Z12/(1+$P$3)^10)+Z12*(1/(1+$P$3)^11+1/(1+$P$3)^12+1/(1+$P$3)^13+1/(1+$P$3)^14+1/(1+$P$3)^15+1/(1+$P$3)^16+1/(1+$P$3)^17+1/(1+$P$3)^18+1/(1+$P$3)^19+1/(1+$P$3)^20) -> #REF! | E12: =$P12+($Q12/(1+$P$3)^1)+($R12/(1+$P$3)^2)+($S12/(1+$P$3)^3)+($T12/(1+$P$3)^4)+($U12/(1+$P$3)^5)+($V12/(1+$P$3)^6)+($W12/(1+$P$3)^7)+($X12/(1+$P$3)^8)+($Y12/(1+$P$3)^9)+($Z12/(1+$P$3)^10)+Z12*(1/(1+$P$3)^11+1/(1+$P$3)^12+1/(1+$P$3)^13+1/(1+$P$3)^14+1/(1+$P$3)^15) -> #REF! | F12: =($Q12/(1+$P$3)^1)+($R12/(1+$P$3)^2)+($S12/(1+$P$3)^3)+($T12/(1+$P$3)^4)+($U12/(1+$P$3)^5)+($V12/(1+$P$3)^6)+($W12/(1+$P$3)^7)+($X12/(1+$P$3)^8)+($Y12/(1+$P$3)^9)+($Z12/(1+$P$3)^10) -> #REF! | G12: =($Q12/(1+$P$3)^1)+($R12/(1+$P$3)^2)+($S12/(1+$P$3)^3)+($T12/(1+$P$3)^4)+($U12/(1+$P$3)^5)+($V12/(1+$P$3)^6)+($W12/(1+$P$3)^7)+($X12/(1+$P$3)^8)+($Y12/(1+$P$3)^9) -> #REF! | H12: =($Q12/(1+$P$3)^1)+($R12/(1+$P$3)^2)+($S12/(1+$P$3)^3)+($T12/(1+$P$3)^4)+($U12/(1+$P$3)^5)+($V12/(1+$P$3)^6)+($W12/(1+$P$3)^7)+($X12/(1+$P$3)^8) -> #REF! | I12: =($Q12/(1+$P$3)^1)+($R12/(1+$P$3)^2)+($S12/(1+$P$3)^3)+($T12/(1+$P$3)^4)+($U12/(1+$P$3)^5)+($V12/(1+$P$3)^6)+($W12/(1+$P$3)^7) -> #REF! | J12: =($Q12/(1+$P$3)^1)+($R12/(1+$P$3)^2)+($S12/(1+$P$3)^3)+($T12/(1+$P$3)^4)+($U12/(1+$P$3)^5)+($V12/(1+$P$3)^6) -> #REF! | K12: =($Q12/(1+$P$3)^1)+($R12/(1+$P$3)^2)+($S12/(1+$P$3)^3)+($T12/(1+$P$3)^4)+($U12/(1+$P$3)^5) -> #REF! | L12: =($Q12/(1+$P$3)^1)+($R12/(1+$P$3)^2)+($S12/(1+$P$3)^3)+($T12/(1+$P$3)^4) -> #REF! | M12: =($Q12/(1+$P$3)^1)+($R12/(1+$P$3)^2)+($S12/(1+$P$3)^3) -> #REF! | N12: =($Q12/(1+$P$3)^1)+($R12/(1+$P$3)^2) -> #REF! | O12: =($Q12/(1+$P$3)^1) -> #REF! | Q12: =C_depreciation_yearly!$O$154 -> 44119320 | R12: =C_depreciation_yearly!$O$154 -> 44119320 | S12: =C_depreciation_yearly!$O$154 -> 44119320 | T12: =C_depreciation_yearly!$O$154 -> 44119320 | U12: =C_depreciation_yearly!$O$154 -> 44119320 | V12: =C_depreciation_yearly!$O$154 -> 44119320 | W12: =C_depreciation_yearly!$O$154 -> 44119320 | X12: =C_depreciation_yearly!$O$154 -> 44119320 | ... Z12: =C_depreciation_yearly!$O$154 -> 44119320
C13: =C12+0.05 -> 0.25 | D13: =$P13+($Q13/(1+$P$3)^1)+($R13/(1+$P$3)^2)+($S13/(1+$P$3)^3)+($T13/(1+$P$3)^4)+($U13/(1+$P$3)^5)+($V13/(1+$P$3)^6)+($W13/(1+$P$3)^7)+($X13/(1+$P$3)^8)+($Y13/(1+$P$3)^9)+($Z13/(1+$P$3)^10)+Z13*(1/(1+$P$3)^11+1/(1+$P$3)^12+1/(1+$P$3)^13+1/(1+$P$3)^14+1/(1+$P$3)^15+1/(1+$P$3)^16+1/(1+$P$3)^17+1/(1+$P$3)^18+1/(1+$P$3)^19+1/(1+$P$3)^20) -> #REF! | E13: =$P13+($Q13/(1+$P$3)^1)+($R13/(1+$P$3)^2)+($S13/(1+$P$3)^3)+($T13/(1+$P$3)^4)+($U13/(1+$P$3)^5)+($V13/(1+$P$3)^6)+($W13/(1+$P$3)^7)+($X13/(1+$P$3)^8)+($Y13/(1+$P$3)^9)+($Z13/(1+$P$3)^10)+Z13*(1/(1+$P$3)^11+1/(1+$P$3)^12+1/(1+$P$3)^13+1/(1+$P$3)^14+1/(1+$P$3)^15) -> #REF! | F13: =($Q13/(1+$P$3)^1)+($R13/(1+$P$3)^2)+($S13/(1+$P$3)^3)+($T13/(1+$P$3)^4)+($U13/(1+$P$3)^5)+($V13/(1+$P$3)^6)+($W13/(1+$P$3)^7)+($X13/(1+$P$3)^8)+($Y13/(1+$P$3)^9)+($Z13/(1+$P$3)^10) -> #REF! | G13: =($Q13/(1+$P$3)^1)+($R13/(1+$P$3)^2)+($S13/(1+$P$3)^3)+($T13/(1+$P$3)^4)+($U13/(1+$P$3)^5)+($V13/(1+$P$3)^6)+($W13/(1+$P$3)^7)+($X13/(1+$P$3)^8)+($Y13/(1+$P$3)^9) -> #REF! | H13: =($Q13/(1+$P$3)^1)+($R13/(1+$P$3)^2)+($S13/(1+$P$3)^3)+($T13/(1+$P$3)^4)+($U13/(1+$P$3)^5)+($V13/(1+$P$3)^6)+($W13/(1+$P$3)^7)+($X13/(1+$P$3)^8) -> #REF! | I13: =($Q13/(1+$P$3)^1)+($R13/(1+$P$3)^2)+($S13/(1+$P$3)^3)+($T13/(1+$P$3)^4)+($U13/(1+$P$3)^5)+($V13/(1+$P$3)^6)+($W13/(1+$P$3)^7) -> #REF! | J13: =($Q13/(1+$P$3)^1)+($R13/(1+$P$3)^2)+($S13/(1+$P$3)^3)+($T13/(1+$P$3)^4)+($U13/(1+$P$3)^5)+($V13/(1+$P$3)^6) -> #REF! | K13: =($Q13/(1+$P$3)^1)+($R13/(1+$P$3)^2)+($S13/(1+$P$3)^3)+($T13/(1+$P$3)^4)+($U13/(1+$P$3)^5) -> #REF! | L13: =($Q13/(1+$P$3)^1)+($R13/(1+$P$3)^2)+($S13/(1+$P$3)^3)+($T13/(1+$P$3)^4) -> #REF! | M13: =($Q13/(1+$P$3)^1)+($R13/(1+$P$3)^2)+($S13/(1+$P$3)^3) -> #REF! | N13: =($Q13/(1+$P$3)^1)+($R13/(1+$P$3)^2) -> #REF! | O13: =($Q13/(1+$P$3)^1) -> #REF! | Q13: =C_depreciation_yearly!$O$179 -> 47060608 | R13: =C_depreciation_yearly!$O$179 -> 47060608 | S13: =C_depreciation_yearly!$O$179 -> 47060608 | T13: =C_depreciation_yearly!$O$179 -> 47060608 | U13: =C_depreciation_yearly!$O$179 -> 47060608 | V13: =C_depreciation_yearly!$O$179 -> 47060608 | W13: =C_depreciation_yearly!$O$179 -> 47060608 | X13: =C_depreciation_yearly!$O$179 -> 47060608 | ... Z13: =C_depreciation_yearly!$O$179 -> 47060608
C14: =C13+0.05 -> 0.3 | D14: =$P14+($Q14/(1+$P$3)^1)+($R14/(1+$P$3)^2)+($S14/(1+$P$3)^3)+($T14/(1+$P$3)^4)+($U14/(1+$P$3)^5)+($V14/(1+$P$3)^6)+($W14/(1+$P$3)^7)+($X14/(1+$P$3)^8)+($Y14/(1+$P$3)^9)+($Z14/(1+$P$3)^10)+Z14*(1/(1+$P$3)^11+1/(1+$P$3)^12+1/(1+$P$3)^13+1/(1+$P$3)^14+1/(1+$P$3)^15+1/(1+$P$3)^16+1/(1+$P$3)^17+1/(1+$P$3)^18+1/(1+$P$3)^19+1/(1+$P$3)^20) -> #REF! | E14: =$P14+($Q14/(1+$P$3)^1)+($R14/(1+$P$3)^2)+($S14/(1+$P$3)^3)+($T14/(1+$P$3)^4)+($U14/(1+$P$3)^5)+($V14/(1+$P$3)^6)+($W14/(1+$P$3)^7)+($X14/(1+$P$3)^8)+($Y14/(1+$P$3)^9)+($Z14/(1+$P$3)^10)+Z14*(1/(1+$P$3)^11+1/(1+$P$3)^12+1/(1+$P$3)^13+1/(1+$P$3)^14+1/(1+$P$3)^15) -> #REF! | F14: =($Q14/(1+$P$3)^1)+($R14/(1+$P$3)^2)+($S14/(1+$P$3)^3)+($T14/(1+$P$3)^4)+($U14/(1+$P$3)^5)+($V14/(1+$P$3)^6)+($W14/(1+$P$3)^7)+($X14/(1+$P$3)^8)+($Y14/(1+$P$3)^9)+($Z14/(1+$P$3)^10) -> #REF! | G14: =($Q14/(1+$P$3)^1)+($R14/(1+$P$3)^2)+($S14/(1+$P$3)^3)+($T14/(1+$P$3)^4)+($U14/(1+$P$3)^5)+($V14/(1+$P$3)^6)+($W14/(1+$P$3)^7)+($X14/(1+$P$3)^8)+($Y14/(1+$P$3)^9) -> #REF! | H14: =($Q14/(1+$P$3)^1)+($R14/(1+$P$3)^2)+($S14/(1+$P$3)^3)+($T14/(1+$P$3)^4)+($U14/(1+$P$3)^5)+($V14/(1+$P$3)^6)+($W14/(1+$P$3)^7)+($X14/(1+$P$3)^8) -> #REF! | I14: =($Q14/(1+$P$3)^1)+($R14/(1+$P$3)^2)+($S14/(1+$P$3)^3)+($T14/(1+$P$3)^4)+($U14/(1+$P$3)^5)+($V14/(1+$P$3)^6)+($W14/(1+$P$3)^7) -> #REF! | J14: =($Q14/(1+$P$3)^1)+($R14/(1+$P$3)^2)+($S14/(1+$P$3)^3)+($T14/(1+$P$3)^4)+($U14/(1+$P$3)^5)+($V14/(1+$P$3)^6) -> #REF! | K14: =($Q14/(1+$P$3)^1)+($R14/(1+$P$3)^2)+($S14/(1+$P$3)^3)+($T14/(1+$P$3)^4)+($U14/(1+$P$3)^5) -> #REF! | L14: =($Q14/(1+$P$3)^1)+($R14/(1+$P$3)^2)+($S14/(1+$P$3)^3)+($T14/(1+$P$3)^4) -> #REF! | M14: =($Q14/(1+$P$3)^1)+($R14/(1+$P$3)^2)+($S14/(1+$P$3)^3) -> #REF! | N14: =($Q14/(1+$P$3)^1)+($R14/(1+$P$3)^2) -> #REF! | O14: =($Q14/(1+$P$3)^1) -> #REF! | Q14: =C_depreciation_yearly!$O$204 -> 50422080 | R14: =C_depreciation_yearly!$O$204 -> 50422080 | S14: =C_depreciation_yearly!$O$204 -> 50422080 | T14: =C_depreciation_yearly!$O$204 -> 50422080 | U14: =C_depreciation_yearly!$O$204 -> 50422080 | V14: =C_depreciation_yearly!$O$204 -> 50422080 | W14: =C_depreciation_yearly!$O$204 -> 50422080 | X14: =C_depreciation_yearly!$O$204 -> 50422080 | ... Z14: =C_depreciation_yearly!$O$204 -> 50422080
C15: =C14+0.05 -> 0.35 | D15: =$P15+($Q15/(1+$P$3)^1)+($R15/(1+$P$3)^2)+($S15/(1+$P$3)^3)+($T15/(1+$P$3)^4)+($U15/(1+$P$3)^5)+($V15/(1+$P$3)^6)+($W15/(1+$P$3)^7)+($X15/(1+$P$3)^8)+($Y15/(1+$P$3)^9)+($Z15/(1+$P$3)^10)+Z15*(1/(1+$P$3)^11+1/(1+$P$3)^12+1/(1+$P$3)^13+1/(1+$P$3)^14+1/(1+$P$3)^15+1/(1+$P$3)^16+1/(1+$P$3)^17+1/(1+$P$3)^18+1/(1+$P$3)^19+1/(1+$P$3)^20) -> #REF! | E15: =$P15+($Q15/(1+$P$3)^1)+($R15/(1+$P$3)^2)+($S15/(1+$P$3)^3)+($T15/(1+$P$3)^4)+($U15/(1+$P$3)^5)+($V15/(1+$P$3)^6)+($W15/(1+$P$3)^7)+($X15/(1+$P$3)^8)+($Y15/(1+$P$3)^9)+($Z15/(1+$P$3)^10)+Z15*(1/(1+$P$3)^11+1/(1+$P$3)^12+1/(1+$P$3)^13+1/(1+$P$3)^14+1/(1+$P$3)^15) -> #REF! | F15: =($Q15/(1+$P$3)^1)+($R15/(1+$P$3)^2)+($S15/(1+$P$3)^3)+($T15/(1+$P$3)^4)+($U15/(1+$P$3)^5)+($V15/(1+$P$3)^6)+($W15/(1+$P$3)^7)+($X15/(1+$P$3)^8)+($Y15/(1+$P$3)^9)+($Z15/(1+$P$3)^10) -> #REF! | G15: =($Q15/(1+$P$3)^1)+($R15/(1+$P$3)^2)+($S15/(1+$P$3)^3)+($T15/(1+$P$3)^4)+($U15/(1+$P$3)^5)+($V15/(1+$P$3)^6)+($W15/(1+$P$3)^7)+($X15/(1+$P$3)^8)+($Y15/(1+$P$3)^9) -> #REF! | H15: =($Q15/(1+$P$3)^1)+($R15/(1+$P$3)^2)+($S15/(1+$P$3)^3)+($T15/(1+$P$3)^4)+($U15/(1+$P$3)^5)+($V15/(1+$P$3)^6)+($W15/(1+$P$3)^7)+($X15/(1+$P$3)^8) -> #REF! | I15: =($Q15/(1+$P$3)^1)+($R15/(1+$P$3)^2)+($S15/(1+$P$3)^3)+($T15/(1+$P$3)^4)+($U15/(1+$P$3)^5)+($V15/(1+$P$3)^6)+($W15/(1+$P$3)^7) -> #REF! | J15: =($Q15/(1+$P$3)^1)+($R15/(1+$P$3)^2)+($S15/(1+$P$3)^3)+($T15/(1+$P$3)^4)+($U15/(1+$P$3)^5)+($V15/(1+$P$3)^6) -> #REF! | K15: =($Q15/(1+$P$3)^1)+($R15/(1+$P$3)^2)+($S15/(1+$P$3)^3)+($T15/(1+$P$3)^4)+($U15/(1+$P$3)^5) -> #REF! | L15: =($Q15/(1+$P$3)^1)+($R15/(1+$P$3)^2)+($S15/(1+$P$3)^3)+($T15/(1+$P$3)^4) -> #REF! | M15: =($Q15/(1+$P$3)^1)+($R15/(1+$P$3)^2)+($S15/(1+$P$3)^3) -> #REF! | N15: =($Q15/(1+$P$3)^1)+($R15/(1+$P$3)^2) -> #REF! | O15: =($Q15/(1+$P$3)^1) -> #REF! | Q15: =C_depreciation_yearly!$O$229 -> 54300701 | R15: =C_depreciation_yearly!$O$229 -> 54300701 | S15: =C_depreciation_yearly!$O$229 -> 54300701 | T15: =C_depreciation_yearly!$O$229 -> 54300701 | U15: =C_depreciation_yearly!$O$229 -> 54300701 | V15: =C_depreciation_yearly!$O$229 -> 54300701 | W15: =C_depreciation_yearly!$O$229 -> 54300701 | X15: =C_depreciation_yearly!$O$229 -> 54300701 | ... Z15: =C_depreciation_yearly!$O$229 -> 54300701
C16: =C15+0.05 -> 0.4 | D16: =$P16+($Q16/(1+$P$3)^1)+($R16/(1+$P$3)^2)+($S16/(1+$P$3)^3)+($T16/(1+$P$3)^4)+($U16/(1+$P$3)^5)+($V16/(1+$P$3)^6)+($W16/(1+$P$3)^7)+($X16/(1+$P$3)^8)+($Y16/(1+$P$3)^9)+($Z16/(1+$P$3)^10)+Z16*(1/(1+$P$3)^11+1/(1+$P$3)^12+1/(1+$P$3)^13+1/(1+$P$3)^14+1/(1+$P$3)^15+1/(1+$P$3)^16+1/(1+$P$3)^17+1/(1+$P$3)^18+1/(1+$P$3)^19+1/(1+$P$3)^20) -> #REF! | E16: =$P16+($Q16/(1+$P$3)^1)+($R16/(1+$P$3)^2)+($S16/(1+$P$3)^3)+($T16/(1+$P$3)^4)+($U16/(1+$P$3)^5)+($V16/(1+$P$3)^6)+($W16/(1+$P$3)^7)+($X16/(1+$P$3)^8)+($Y16/(1+$P$3)^9)+($Z16/(1+$P$3)^10)+Z16*(1/(1+$P$3)^11+1/(1+$P$3)^12+1/(1+$P$3)^13+1/(1+$P$3)^14+1/(1+$P$3)^15) -> #REF! | F16: =($Q16/(1+$P$3)^1)+($R16/(1+$P$3)^2)+($S16/(1+$P$3)^3)+($T16/(1+$P$3)^4)+($U16/(1+$P$3)^5)+($V16/(1+$P$3)^6)+($W16/(1+$P$3)^7)+($X16/(1+$P$3)^8)+($Y16/(1+$P$3)^9)+($Z16/(1+$P$3)^10) -> #REF! | G16: =($Q16/(1+$P$3)^1)+($R16/(1+$P$3)^2)+($S16/(1+$P$3)^3)+($T16/(1+$P$3)^4)+($U16/(1+$P$3)^5)+($V16/(1+$P$3)^6)+($W16/(1+$P$3)^7)+($X16/(1+$P$3)^8)+($Y16/(1+$P$3)^9) -> #REF! | H16: =($Q16/(1+$P$3)^1)+($R16/(1+$P$3)^2)+($S16/(1+$P$3)^3)+($T16/(1+$P$3)^4)+($U16/(1+$P$3)^5)+($V16/(1+$P$3)^6)+($W16/(1+$P$3)^7)+($X16/(1+$P$3)^8) -> #REF! | I16: =($Q16/(1+$P$3)^1)+($R16/(1+$P$3)^2)+($S16/(1+$P$3)^3)+($T16/(1+$P$3)^4)+($U16/(1+$P$3)^5)+($V16/(1+$P$3)^6)+($W16/(1+$P$3)^7) -> #REF! | J16: =($Q16/(1+$P$3)^1)+($R16/(1+$P$3)^2)+($S16/(1+$P$3)^3)+($T16/(1+$P$3)^4)+($U16/(1+$P$3)^5)+($V16/(1+$P$3)^6) -> #REF! | K16: =($Q16/(1+$P$3)^1)+($R16/(1+$P$3)^2)+($S16/(1+$P$3)^3)+($T16/(1+$P$3)^4)+($U16/(1+$P$3)^5) -> #REF! | L16: =($Q16/(1+$P$3)^1)+($R16/(1+$P$3)^2)+($S16/(1+$P$3)^3)+($T16/(1+$P$3)^4) -> #REF! | M16: =($Q16/(1+$P$3)^1)+($R16/(1+$P$3)^2)+($S16/(1+$P$3)^3) -> #REF! | N16: =($Q16/(1+$P$3)^1)+($R16/(1+$P$3)^2) -> #REF! | O16: =($Q16/(1+$P$3)^1) -> #REF! | Q16: =C_depreciation_yearly!$O$254 -> 58825760 | R16: =C_depreciation_yearly!$O$254 -> 58825760 | S16: =C_depreciation_yearly!$O$254 -> 58825760 | T16: =C_depreciation_yearly!$O$254 -> 58825760 | U16: =C_depreciation_yearly!$O$254 -> 58825760 | V16: =C_depreciation_yearly!$O$254 -> 58825760 | W16: =C_depreciation_yearly!$O$254 -> 58825760 | X16: =C_depreciation_yearly!$O$254 -> 58825760 | ... Z16: =C_depreciation_yearly!$O$254 -> 58825760
C17: =C16+0.05 -> 0.45 | D17: =$P17+($Q17/(1+$P$3)^1)+($R17/(1+$P$3)^2)+($S17/(1+$P$3)^3)+($T17/(1+$P$3)^4)+($U17/(1+$P$3)^5)+($V17/(1+$P$3)^6)+($W17/(1+$P$3)^7)+($X17/(1+$P$3)^8)+($Y17/(1+$P$3)^9)+($Z17/(1+$P$3)^10)+Z17*(1/(1+$P$3)^11+1/(1+$P$3)^12+1/(1+$P$3)^13+1/(1+$P$3)^14+1/(1+$P$3)^15+1/(1+$P$3)^16+1/(1+$P$3)^17+1/(1+$P$3)^18+1/(1+$P$3)^19+1/(1+$P$3)^20) -> #REF! | E17: =$P17+($Q17/(1+$P$3)^1)+($R17/(1+$P$3)^2)+($S17/(1+$P$3)^3)+($T17/(1+$P$3)^4)+($U17/(1+$P$3)^5)+($V17/(1+$P$3)^6)+($W17/(1+$P$3)^7)+($X17/(1+$P$3)^8)+($Y17/(1+$P$3)^9)+($Z17/(1+$P$3)^10)+Z17*(1/(1+$P$3)^11+1/(1+$P$3)^12+1/(1+$P$3)^13+1/(1+$P$3)^14+1/(1+$P$3)^15) -> #REF! | F17: =($Q17/(1+$P$3)^1)+($R17/(1+$P$3)^2)+($S17/(1+$P$3)^3)+($T17/(1+$P$3)^4)+($U17/(1+$P$3)^5)+($V17/(1+$P$3)^6)+($W17/(1+$P$3)^7)+($X17/(1+$P$3)^8)+($Y17/(1+$P$3)^9)+($Z17/(1+$P$3)^10) -> #REF! | G17: =($Q17/(1+$P$3)^1)+($R17/(1+$P$3)^2)+($S17/(1+$P$3)^3)+($T17/(1+$P$3)^4)+($U17/(1+$P$3)^5)+($V17/(1+$P$3)^6)+($W17/(1+$P$3)^7)+($X17/(1+$P$3)^8)+($Y17/(1+$P$3)^9) -> #REF! | H17: =($Q17/(1+$P$3)^1)+($R17/(1+$P$3)^2)+($S17/(1+$P$3)^3)+($T17/(1+$P$3)^4)+($U17/(1+$P$3)^5)+($V17/(1+$P$3)^6)+($W17/(1+$P$3)^7)+($X17/(1+$P$3)^8) -> #REF! | I17: =($Q17/(1+$P$3)^1)+($R17/(1+$P$3)^2)+($S17/(1+$P$3)^3)+($T17/(1+$P$3)^4)+($U17/(1+$P$3)^5)+($V17/(1+$P$3)^6)+($W17/(1+$P$3)^7) -> #REF! | J17: =($Q17/(1+$P$3)^1)+($R17/(1+$P$3)^2)+($S17/(1+$P$3)^3)+($T17/(1+$P$3)^4)+($U17/(1+$P$3)^5)+($V17/(1+$P$3)^6) -> #REF! | K17: =($Q17/(1+$P$3)^1)+($R17/(1+$P$3)^2)+($S17/(1+$P$3)^3)+($T17/(1+$P$3)^4)+($U17/(1+$P$3)^5) -> #REF! | L17: =($Q17/(1+$P$3)^1)+($R17/(1+$P$3)^2)+($S17/(1+$P$3)^3)+($T17/(1+$P$3)^4) -> #REF! | M17: =($Q17/(1+$P$3)^1)+($R17/(1+$P$3)^2)+($S17/(1+$P$3)^3) -> #REF! | N17: =($Q17/(1+$P$3)^1)+($R17/(1+$P$3)^2) -> #REF! | O17: =($Q17/(1+$P$3)^1) -> #REF! | Q17: =C_depreciation_yearly!$O$279 -> 64173556 | R17: =C_depreciation_yearly!$O$279 -> 64173556 | S17: =C_depreciation_yearly!$O$279 -> 64173556 | T17: =C_depreciation_yearly!$O$279 -> 64173556 | U17: =C_depreciation_yearly!$O$279 -> 64173556 | V17: =C_depreciation_yearly!$O$279 -> 64173556 | W17: =C_depreciation_yearly!$O$279 -> 64173556 | X17: =C_depreciation_yearly!$O$279 -> 64173556 | ... Z17: =C_depreciation_yearly!$O$279 -> 64173556
C18: =C17+0.05 -> 0.5 | D18: =$P18+($Q18/(1+$P$3)^1)+($R18/(1+$P$3)^2)+($S18/(1+$P$3)^3)+($T18/(1+$P$3)^4)+($U18/(1+$P$3)^5)+($V18/(1+$P$3)^6)+($W18/(1+$P$3)^7)+($X18/(1+$P$3)^8)+($Y18/(1+$P$3)^9)+($Z18/(1+$P$3)^10)+Z18*(1/(1+$P$3)^11+1/(1+$P$3)^12+1/(1+$P$3)^13+1/(1+$P$3)^14+1/(1+$P$3)^15+1/(1+$P$3)^16+1/(1+$P$3)^17+1/(1+$P$3)^18+1/(1+$P$3)^19+1/(1+$P$3)^20) -> #REF! | E18: =$P18+($Q18/(1+$P$3)^1)+($R18/(1+$P$3)^2)+($S18/(1+$P$3)^3)+($T18/(1+$P$3)^4)+($U18/(1+$P$3)^5)+($V18/(1+$P$3)^6)+($W18/(1+$P$3)^7)+($X18/(1+$P$3)^8)+($Y18/(1+$P$3)^9)+($Z18/(1+$P$3)^10)+Z18*(1/(1+$P$3)^11+1/(1+$P$3)^12+1/(1+$P$3)^13+1/(1+$P$3)^14+1/(1+$P$3)^15) -> #REF! | F18: =($Q18/(1+$P$3)^1)+($R18/(1+$P$3)^2)+($S18/(1+$P$3)^3)+($T18/(1+$P$3)^4)+($U18/(1+$P$3)^5)+($V18/(1+$P$3)^6)+($W18/(1+$P$3)^7)+($X18/(1+$P$3)^8)+($Y18/(1+$P$3)^9)+($Z18/(1+$P$3)^10) -> #REF! | G18: =($Q18/(1+$P$3)^1)+($R18/(1+$P$3)^2)+($S18/(1+$P$3)^3)+($T18/(1+$P$3)^4)+($U18/(1+$P$3)^5)+($V18/(1+$P$3)^6)+($W18/(1+$P$3)^7)+($X18/(1+$P$3)^8)+($Y18/(1+$P$3)^9) -> #REF! | H18: =($Q18/(1+$P$3)^1)+($R18/(1+$P$3)^2)+($S18/(1+$P$3)^3)+($T18/(1+$P$3)^4)+($U18/(1+$P$3)^5)+($V18/(1+$P$3)^6)+($W18/(1+$P$3)^7)+($X18/(1+$P$3)^8) -> #REF! | I18: =($Q18/(1+$P$3)^1)+($R18/(1+$P$3)^2)+($S18/(1+$P$3)^3)+($T18/(1+$P$3)^4)+($U18/(1+$P$3)^5)+($V18/(1+$P$3)^6)+($W18/(1+$P$3)^7) -> #REF! | J18: =($Q18/(1+$P$3)^1)+($R18/(1+$P$3)^2)+($S18/(1+$P$3)^3)+($T18/(1+$P$3)^4)+($U18/(1+$P$3)^5)+($V18/(1+$P$3)^6) -> #REF! | K18: =($Q18/(1+$P$3)^1)+($R18/(1+$P$3)^2)+($S18/(1+$P$3)^3)+($T18/(1+$P$3)^4)+($U18/(1+$P$3)^5) -> #REF! | L18: =($Q18/(1+$P$3)^1)+($R18/(1+$P$3)^2)+($S18/(1+$P$3)^3)+($T18/(1+$P$3)^4) -> #REF! | M18: =($Q18/(1+$P$3)^1)+($R18/(1+$P$3)^2)+($S18/(1+$P$3)^3) -> #REF! | N18: =($Q18/(1+$P$3)^1)+($R18/(1+$P$3)^2) -> #REF! | O18: =($Q18/(1+$P$3)^1) -> #REF! | Q18: =C_depreciation_yearly!$O$304 -> 70590912 | R18: =C_depreciation_yearly!$O$304 -> 70590912 | S18: =C_depreciation_yearly!$O$304 -> 70590912 | T18: =C_depreciation_yearly!$O$304 -> 70590912 | U18: =C_depreciation_yearly!$O$304 -> 70590912 | V18: =C_depreciation_yearly!$O$304 -> 70590912 | W18: =C_depreciation_yearly!$O$304 -> 70590912 | X18: =C_depreciation_yearly!$O$304 -> 70590912 | ... Z18: =C_depreciation_yearly!$O$304 -> 70590912
A20: Downtime cost
B21: Apporach | C21: 1 | D21: =$P21+($Q21/(1+$P$3)^1)+($R21/(1+$P$3)^2)+($S21/(1+$P$3)^3)+($T21/(1+$P$3)^4)+($U21/(1+$P$3)^5)+($V21/(1+$P$3)^6)+($W21/(1+$P$3)^7)+($X21/(1+$P$3)^8)+($Y21/(1+$P$3)^9)+($Z21/(1+$P$3)^10)+Z7*(1/(1+P3)^11+1/(1+P3)^12+1/(1+P3)^13+1/(1+P3)^14+1/(1+P3)^15+1/(1+P3)^16+1/(1+P3)^17+1/(1+P3)^18+1/(1+P3)^19+1/(1+P3)^20) -> #REF! | E21: =$P21+($Q21/(1+$P$3)^1)+($R21/(1+$P$3)^2)+($S21/(1+$P$3)^3)+($T21/(1+$P$3)^4)+($U21/(1+$P$3)^5)+($V21/(1+$P$3)^6)+($W21/(1+$P$3)^7)+($X21/(1+$P$3)^8)+($Y21/(1+$P$3)^9)+($Z21/(1+$P$3)^10)+Z7*(1/(1+P3)^11+1/(1+P3)^12+1/(1+P3)^13+1/(1+P3)^14+1/(1+P3)^15) -> #REF! | F21: =$P21+($Q21/(1+$P$3)^1)+($R21/(1+$P$3)^2)+($S21/(1+$P$3)^3)+($T21/(1+$P$3)^4)+($U21/(1+$P$3)^5)+($V21/(1+$P$3)^6)+($W21/(1+$P$3)^7)+($X21/(1+$P$3)^8)+($Y21/(1+$P$3)^9)+($Z21/(1+$P$3)^10) -> #REF! | G21: =$P21+($Q21/(1+$P$3)^1)+($R21/(1+$P$3)^2)+($S21/(1+$P$3)^3)+($T21/(1+$P$3)^4)+($U21/(1+$P$3)^5)+($V21/(1+$P$3)^6)+($W21/(1+$P$3)^7)+($X21/(1+$P$3)^8)+($Y21/(1+$P$3)^9) -> #REF! | H21: =$P21+($Q21/(1+$P$3)^1)+($R21/(1+$P$3)^2)+($S21/(1+$P$3)^3)+($T21/(1+$P$3)^4)+($U21/(1+$P$3)^5)+($V21/(1+$P$3)^6)+($W21/(1+$P$3)^7)+($X21/(1+$P$3)^8) -> #REF! | I21: =$P21+($Q21/(1+$P$3)^1)+($R21/(1+$P$3)^2)+($S21/(1+$P$3)^3)+($T21/(1+$P$3)^4)+($U21/(1+$P$3)^5)+($V21/(1+$P$3)^6)+($W21/(1+$P$3)^7) -> #REF! | J21: =$P21+($Q21/(1+$P$3)^1)+($R21/(1+$P$3)^2)+($S21/(1+$P$3)^3)+($T21/(1+$P$3)^4)+($U21/(1+$P$3)^5)+($V21/(1+$P$3)^6) -> #REF! | K21: =$P21+($Q21/(1+$P$3)^1)+($R21/(1+$P$3)^2)+($S21/(1+$P$3)^3)+($T21/(1+$P$3)^4)+($U21/(1+$P$3)^5) -> #REF! | L21: =$P21+($Q21/(1+$P$3)^1)+($R21/(1+$P$3)^2)+($S21/(1+$P$3)^3)+($T21/(1+$P$3)^4) -> #REF! | M21: =$P21+($Q21/(1+$P$3)^1)+($R21/(1+$P$3)^2)+($S21/(1+$P$3)^3) -> #REF! | N21: =$P21+($Q21/(1+$P$3)^1)+($R21/(1+$P$3)^2) -> #REF! | O21: =$P21+($Q21/(1+$P$3)^1) -> #REF! | Q21: =C_downtime_cost!$AC$25*19 -> 399683.63 | R21: =C_downtime_cost!$AC$25*19 -> 399683.63 | S21: =C_downtime_cost!$AC$25*19 -> 399683.63 | T21: =C_downtime_cost!$AC$25*19 -> 399683.63 | U21: =C_downtime_cost!$AC$25*19 -> 399683.63 | V21: =C_downtime_cost!$AC$25*19 -> 399683.63 | W21: =C_downtime_cost!$AC$25*19 -> 399683.63 | X21: =C_downtime_cost!$AC$25*19 -> 399683.63 | ... Z21: =C_downtime_cost!$AC$25*19 -> 399683.63
B22: Approach | C22: 2 | D22: =$P22+($Q22/(1+$P$3)^1)+($R22/(1+$P$3)^2)+($S22/(1+$P$3)^3)+($T22/(1+$P$3)^4)+($U22/(1+$P$3)^5)+($V22/(1+$P$3)^6)+($W22/(1+$P$3)^7)+($X22/(1+$P$3)^8)+($Y22/(1+$P$3)^9)+($Z22/(1+$P$3)^10)+Z7*(1/(1+P3)^11+1/(1+P3)^12+1/(1+P3)^13+1/(1+P3)^14+1/(1+P3)^15+1/(1+P3)^16+1/(1+P3)^17+1/(1+P3)^18+1/(1+P3)^19+1/(1+P3)^20) -> #REF! | E22: =$P22+($Q22/(1+$P$3)^1)+($R22/(1+$P$3)^2)+($S22/(1+$P$3)^3)+($T22/(1+$P$3)^4)+($U22/(1+$P$3)^5)+($V22/(1+$P$3)^6)+($W22/(1+$P$3)^7)+($X22/(1+$P$3)^8)+($Y22/(1+$P$3)^9)+($Z22/(1+$P$3)^10)++Z7*(1/(1+P3)^11+1/(1+P3)^12+1/(1+P3)^13+1/(1+P3)^14+1/(1+P3)^15) -> #REF! | F22: =$P22+($Q22/(1+$P$3)^1)+($R22/(1+$P$3)^2)+($S22/(1+$P$3)^3)+($T22/(1+$P$3)^4)+($U22/(1+$P$3)^5)+($V22/(1+$P$3)^6)+($W22/(1+$P$3)^7)+($X22/(1+$P$3)^8)+($Y22/(1+$P$3)^9)+($Z22/(1+$P$3)^10) -> #REF! | G22: =$P22+($Q22/(1+$P$3)^1)+($R22/(1+$P$3)^2)+($S22/(1+$P$3)^3)+($T22/(1+$P$3)^4)+($U22/(1+$P$3)^5)+($V22/(1+$P$3)^6)+($W22/(1+$P$3)^7)+($X22/(1+$P$3)^8)+($Y22/(1+$P$3)^9) -> #REF! | H22: =$P22+($Q22/(1+$P$3)^1)+($R22/(1+$P$3)^2)+($S22/(1+$P$3)^3)+($T22/(1+$P$3)^4)+($U22/(1+$P$3)^5)+($V22/(1+$P$3)^6)+($W22/(1+$P$3)^7)+($X22/(1+$P$3)^8) -> #REF! | I22: =$P22+($Q22/(1+$P$3)^1)+($R22/(1+$P$3)^2)+($S22/(1+$P$3)^3)+($T22/(1+$P$3)^4)+($U22/(1+$P$3)^5)+($V22/(1+$P$3)^6)+($W22/(1+$P$3)^7) -> #REF! | J22: =$P22+($Q22/(1+$P$3)^1)+($R22/(1+$P$3)^2)+($S22/(1+$P$3)^3)+($T22/(1+$P$3)^4)+($U22/(1+$P$3)^5)+($V22/(1+$P$3)^6) -> #REF! | K22: =$P22+($Q22/(1+$P$3)^1)+($R22/(1+$P$3)^2)+($S22/(1+$P$3)^3)+($T22/(1+$P$3)^4)+($U22/(1+$P$3)^5) -> #REF! | L22: =$P22+($Q22/(1+$P$3)^1)+($R22/(1+$P$3)^2)+($S22/(1+$P$3)^3)+($T22/(1+$P$3)^4) -> #REF! | M22: =$P22+($Q22/(1+$P$3)^1)+($R22/(1+$P$3)^2)+($S22/(1+$P$3)^3) -> #REF! | N22: =$P22+($Q22/(1+$P$3)^1)+($R22/(1+$P$3)^2) -> #REF! | O22: =$P22+($Q22/(1+$P$3)^1) -> #REF! | Q22: =C_downtime_cost!$AE$25*19 -> 1228457.6 | R22: =C_downtime_cost!$AE$25*19 -> 1228457.6 | S22: =C_downtime_cost!$AE$25*19 -> 1228457.6 | T22: =C_downtime_cost!$AE$25*19 -> 1228457.6 | U22: =C_downtime_cost!$AE$25*19 -> 1228457.6 | V22: =C_downtime_cost!$AE$25*19 -> 1228457.6 | W22: =C_downtime_cost!$AE$25*19 -> 1228457.6 | X22: =C_downtime_cost!$AE$25*19 -> 1228457.6 | ... Z22: =C_downtime_cost!$AE$25*19 -> 1228457.6
B23: Approach | C23: 3 | D23: =$P23+($Q23/(1+$P$3)^1)+($R23/(1+$P$3)^2)+($S23/(1+$P$3)^3)+($T23/(1+$P$3)^4)+($U23/(1+$P$3)^5)+($V23/(1+$P$3)^6)+($W23/(1+$P$3)^7)+($X23/(1+$P$3)^8)+($Y23/(1+$P$3)^9)+($Z23/(1+$P$3)^10)+Z7*(1/(1+P3)^11+1/(1+P3)^12+1/(1+P3)^13+1/(1+P3)^14+1/(1+P3)^15+1/(1+P3)^16+1/(1+P3)^17+1/(1+P3)^18+1/(1+P3)^19+1/(1+P3)^20) -> #REF! | E23: =$P23+($Q23/(1+$P$3)^1)+($R23/(1+$P$3)^2)+($S23/(1+$P$3)^3)+($T23/(1+$P$3)^4)+($U23/(1+$P$3)^5)+($V23/(1+$P$3)^6)+($W23/(1+$P$3)^7)+($X23/(1+$P$3)^8)+($Y23/(1+$P$3)^9)+($Z23/(1+$P$3)^10)+Z7*(1/(1+P3)^11+1/(1+P3)^12+1/(1+P3)^13+1/(1+P3)^14+1/(1+P3)^15) -> #REF! | F23: =$P23+($Q23/(1+$P$3)^1)+($R23/(1+$P$3)^2)+($S23/(1+$P$3)^3)+($T23/(1+$P$3)^4)+($U23/(1+$P$3)^5)+($V23/(1+$P$3)^6)+($W23/(1+$P$3)^7)+($X23/(1+$P$3)^8)+($Y23/(1+$P$3)^9)+($Z23/(1+$P$3)^10) -> #REF! | G23: =$P23+($Q23/(1+$P$3)^1)+($R23/(1+$P$3)^2)+($S23/(1+$P$3)^3)+($T23/(1+$P$3)^4)+($U23/(1+$P$3)^5)+($V23/(1+$P$3)^6)+($W23/(1+$P$3)^7)+($X23/(1+$P$3)^8)+($Y23/(1+$P$3)^9) -> #REF! | H23: =$P23+($Q23/(1+$P$3)^1)+($R23/(1+$P$3)^2)+($S23/(1+$P$3)^3)+($T23/(1+$P$3)^4)+($U23/(1+$P$3)^5)+($V23/(1+$P$3)^6)+($W23/(1+$P$3)^7)+($X23/(1+$P$3)^8) -> #REF! | I23: =$P23+($Q23/(1+$P$3)^1)+($R23/(1+$P$3)^2)+($S23/(1+$P$3)^3)+($T23/(1+$P$3)^4)+($U23/(1+$P$3)^5)+($V23/(1+$P$3)^6)+($W23/(1+$P$3)^7) -> #REF! | J23: =$P23+($Q23/(1+$P$3)^1)+($R23/(1+$P$3)^2)+($S23/(1+$P$3)^3)+($T23/(1+$P$3)^4)+($U23/(1+$P$3)^5)+($V23/(1+$P$3)^6) -> #REF! | K23: =$P23+($Q23/(1+$P$3)^1)+($R23/(1+$P$3)^2)+($S23/(1+$P$3)^3)+($T23/(1+$P$3)^4)+($U23/(1+$P$3)^5) -> #REF! | L23: =$P23+($Q23/(1+$P$3)^1)+($R23/(1+$P$3)^2)+($S23/(1+$P$3)^3)+($T23/(1+$P$3)^4) -> #REF! | M23: =$P23+($Q23/(1+$P$3)^1)+($R23/(1+$P$3)^2)+($S23/(1+$P$3)^3) -> #REF! | N23: =$P23+($Q23/(1+$P$3)^1)+($R23/(1+$P$3)^2) -> #REF! | O23: =$P23+($Q23/(1+$P$3)^1) -> #REF! | Q23: =C_downtime_cost!$AG$25*19 -> 40537779 | R23: =C_downtime_cost!$AG$25*19 -> 40537779 | S23: =C_downtime_cost!$AG$25*19 -> 40537779 | T23: =C_downtime_cost!$AG$25*19 -> 40537779 | U23: =C_downtime_cost!$AG$25*19 -> 40537779 | V23: =C_downtime_cost!$AG$25*19 -> 40537779 | W23: =C_downtime_cost!$AG$25*19 -> 40537779 | X23: =C_downtime_cost!$AG$25*19 -> 40537779 | ... Z23: =C_downtime_cost!$AG$25*19 -> 40537779
A25: Total Cost | C25: Lifetime Reduction
C26: 0.39 | D26: =D7+D$22 -> #REF! | E26: =E7+E$22 -> #REF! | F26: =F7+F$22 -> #REF! | G26: =G7+G$22 -> #REF! | H26: =H7+H$22 -> #REF! | I26: =I7+I$22 -> #REF! | J26: =J7+J$22 -> #REF! | K26: =K7+K$22 -> #REF! | ... O26: =O7+O$22 -> #REF!
C27: 0 | D27: =D8+D$22 -> #REF! | E27: =E8+E$22 -> #REF! | F27: =F8+F$22 -> #REF! | G27: =G8+G$22 -> #REF! | H27: =H8+H$22 -> #REF! | I27: =I8+I$22 -> #REF! | J27: =J8+J$22 -> #REF! | K27: =K8+K$22 -> #REF! | ... O27: =O8+O$22 -> #REF!
C28: =C27+0.05 -> 0.05 | D28: =D9+D$22 -> #REF! | E28: =E9+E$22 -> #REF! | F28: =F9+F$22 -> #REF! | G28: =G9+G$22 -> #REF! | H28: =H9+H$22 -> #REF! | I28: =I9+I$22 -> #REF! | J28: =J9+J$22 -> #REF! | K28: =K9+K$22 -> #REF! | ... O28: =O9+O$22 -> #REF!
C29: =C28+0.05 -> 0.1 | D29: =D10+D$22 -> #REF! | E29: =E10+E$22 -> #REF! | F29: =F10+F$22 -> #REF! | G29: =G10+G$22 -> #REF! | H29: =H10+H$22 -> #REF! | I29: =I10+I$22 -> #REF! | J29: =J10+J$22 -> #REF! | K29: =K10+K$22 -> #REF! | ... O29: =O10+O$22 -> #REF!
C30: =C29+0.05 -> 0.15 | D30: =D11+D$22 -> #REF! | E30: =E11+E$22 -> #REF! | F30: =F11+F$22 -> #REF! | G30: =G11+G$22 -> #REF! | H30: =H11+H$22 -> #REF! | I30: =I11+I$22 -> #REF! | J30: =J11+J$22 -> #REF! | K30: =K11+K$22 -> #REF! | ... O30: =O11+O$22 -> #REF!
C31: =C30+0.05 -> 0.2 | D31: =D12+D$22 -> #REF! | E31: =E12+E$22 -> #REF! | F31: =F12+F$22 -> #REF! | G31: =G12+G$22 -> #REF! | H31: =H12+H$22 -> #REF! | I31: =I12+I$22 -> #REF! | J31: =J12+J$22 -> #REF! | K31: =K12+K$22 -> #REF! | ... O31: =O12+O$22 -> #REF!
C32: =C31+0.05 -> 0.25 | D32: =D13+D$22 -> #REF! | E32: =E13+E$22 -> #REF! | F32: =F13+F$22 -> #REF! | G32: =G13+G$22 -> #REF! | H32: =H13+H$22 -> #REF! | I32: =I13+I$22 -> #REF! | J32: =J13+J$22 -> #REF! | K32: =K13+K$22 -> #REF! | ... O32: =O13+O$22 -> #REF!
C33: =C32+0.05 -> 0.3 | D33: =D14+D$22 -> #REF! | E33: =E14+E$22 -> #REF! | F33: =F14+F$22 -> #REF! | G33: =G14+G$22 -> #REF! | H33: =H14+H$22 -> #REF! | I33: =I14+I$22 -> #REF! | J33: =J14+J$22 -> #REF! | K33: =K14+K$22 -> #REF! | ... O33: =O14+O$22 -> #REF!
C34: =C33+0.05 -> 0.35 | D34: =D15+D$22 -> #REF! | E34: =E15+E$22 -> #REF! | F34: =F15+F$22 -> #REF! | G34: =G15+G$22 -> #REF! | H34: =H15+H$22 -> #REF! | I34: =I15+I$22 -> #REF! | J34: =J15+J$22 -> #REF! | K34: =K15+K$22 -> #REF! | ... O34: =O15+O$22 -> #REF!
C35: =C34+0.05 -> 0.4 | D35: =D16+D$22 -> #REF! | E35: =E16+E$22 -> #REF! | F35: =F16+F$22 -> #REF! | G35: =G16+G$22 -> #REF! | H35: =H16+H$22 -> #REF! | I35: =I16+I$22 -> #REF! | J35: =J16+J$22 -> #REF! | K35: =K16+K$22 -> #REF! | ... O35: =O16+O$22 -> #REF!
C36: =C35+0.05 -> 0.45 | D36: =D17+D$22 -> #REF! | E36: =E17+E$22 -> #REF! | F36: =F17+F$22 -> #REF! | G36: =G17+G$22 -> #REF! | H36: =H17+H$22 -> #REF! | I36: =I17+I$22 -> #REF! | J36: =J17+J$22 -> #REF! | K36: =K17+K$22 -> #REF! | ... O36: =O17+O$22 -> #REF!
C37: =C36+0.05 -> 0.5 | D37: =D18+D$22 -> #REF! | E37: =E18+E$22 -> #REF! | F37: =F18+F$22 -> #REF! | G37: =G18+G$22 -> #REF! | H37: =H18+H$22 -> #REF! | I37: =I18+I$22 -> #REF! | J37: =J18+J$22 -> #REF! | K37: =K18+K$22 -> #REF! | ... O37: =O18+O$22 -> #REF!
D39: NPV | P39: Year
A40: Contracted-out Maintenance | D40: 20 years | E40: 15 years | F40: 10 years | G40: 9 years | H40: 8 years | I40: 7 years | J40: 6 years | K40: 5 years | L40: 4 years | M40: 3 years | N40: 2 years | O40: 1 years | P40: 0 | Q40: 1 | R40: 2 | S40: 3 | T40: 4 | U40: 5 | V40: 6 | W40: 7 | X40: 8 | Y40: 9 | Z40: 10
A41: Maintenance Cost
B42: PM operating cost: | D42: =F42+Z42*(1/(1+$P$3)^11+1/(1+$P$3)^12+1/(1+$P$3)^13+1/(1+$P$3)^14+1/(1+$P$3)^15+1/(1+$P$3)^16+1/(1+$P$3)^17+1/(1+$P$3)^18+1/(1+$P$3)^19+1/(1+$P$3)^20) -> #REF! | E42: =F42+Z42*(1/(1+$P$3)^11+1/(1+$P$3)^12+1/(1+$P$3)^13+1/(1+$P$3)^14+1/(1+$P$3)^15) -> #REF! | F42: =($Q42/(1+$P$3)^1)+($R42/(1+$P$3)^2)+($S42/(1+$P$3)^3)+($T42/(1+$P$3)^4)+($U42/(1+$P$3)^5)+($V42/(1+$P$3)^6)+($W42/(1+$P$3)^7)+($X42/(1+$P$3)^8)+($Y42/(1+$P$3)^9)+($Z42/(1+$P$3)^10) -> #REF! | G42: =($Q42/(1+$P$3)^1)+($R42/(1+$P$3)^2)+($S42/(1+$P$3)^3)+($T42/(1+$P$3)^4)+($U42/(1+$P$3)^5)+($V42/(1+$P$3)^6)+($W42/(1+$P$3)^7)+($X42/(1+$P$3)^8)+($Y42/(1+$P$3)^9) -> #REF! | H42: =($Q42/(1+$P$3)^1)+($R42/(1+$P$3)^2)+($S42/(1+$P$3)^3)+($T42/(1+$P$3)^4)+($U42/(1+$P$3)^5)+($V42/(1+$P$3)^6)+($W42/(1+$P$3)^7)+($X42/(1+$P$3)^8) -> #REF! | I42: =($Q42/(1+$P$3)^1)+($R42/(1+$P$3)^2)+($S42/(1+$P$3)^3)+($T42/(1+$P$3)^4)+($U42/(1+$P$3)^5)+($V42/(1+$P$3)^6)+($W42/(1+$P$3)^7) -> #REF! | J42: =($Q42/(1+$P$3)^1)+($R42/(1+$P$3)^2)+($S42/(1+$P$3)^3)+($T42/(1+$P$3)^4)+($U42/(1+$P$3)^5)+($V42/(1+$P$3)^6) -> #REF! | K42: =($Q42/(1+$P$3)^1)+($R42/(1+$P$3)^2)+($S42/(1+$P$3)^3)+($T42/(1+$P$3)^4)+($U42/(1+$P$3)^5) -> #REF! | L42: =($Q42/(1+$P$3)^1)+($R42/(1+$P$3)^2)+($S42/(1+$P$3)^3)+($T42/(1+$P$3)^4) -> #REF! | M42: =($Q42/(1+$P$3)^1)+($R42/(1+$P$3)^2)+($S42/(1+$P$3)^3) -> #REF! | N42: =($Q42/(1+$P$3)^1)+($R42/(1+$P$3)^2) -> #REF! | O42: =($Q42/(1+$P$3)^1) -> #REF! | P42: =D_invoiced_cost!C31*10^6*D_currency_conversion!$I$12*D_currency_conversion!$J$12*C_depreciation_yearly!M27 -> 5109016.9 | Q42: =D_invoiced_cost!D31*10^6*D_currency_conversion!$I$12*D_currency_conversion!$J$12*C_depreciation_yearly!$M$27 -> 4520704.9 | R42: =D_invoiced_cost!E31*10^6*D_currency_conversion!$I$12*D_currency_conversion!$J$12*C_depreciation_yearly!M27 -> 5562610.2 | S42: =D_invoiced_cost!F31*10^6*D_currency_conversion!$I$12*D_currency_conversion!$J$12*C_depreciation_yearly!M27 -> 6428785.5 | T42: =D_invoiced_cost!G31*10^6*D_currency_conversion!$I$12*D_currency_conversion!$J$12*C_depreciation_yearly!$M$27 -> 6659880.6 | U42: =D_invoiced_cost!H31*10^6*D_currency_conversion!$I$12*D_currency_conversion!$J$12*C_depreciation_yearly!M27 -> 6659880.6 | V42: =U42 -> 6659880.6 | W42: =V42 -> 6659880.6 | X42: =W42 -> 6659880.6 | Y42: =X42 -> 6659880.6 | Z42: =Y42 -> 6659880.6
B43: CM spare cost: | D43: =F43+Z43*(1/(1+$P$3)^11+1/(1+$P$3)^12+1/(1+$P$3)^13+1/(1+$P$3)^14+1/(1+$P$3)^15+1/(1+$P$3)^16+1/(1+$P$3)^17+1/(1+$P$3)^18+1/(1+$P$3)^19+1/(1+$P$3)^20) -> #REF! | E43: =F43+Z43*(1/(1+$P$3)^11+1/(1+$P$3)^12+1/(1+$P$3)^13+1/(1+$P$3)^14+1/(1+$P$3)^15) -> #REF! | F43: =($Q43/(1+$P$3)^1)+($R43/(1+$P$3)^2)+($S43/(1+$P$3)^3)+($T43/(1+$P$3)^4)+($U43/(1+$P$3)^5)+($V43/(1+$P$3)^6)+($W43/(1+$P$3)^7)+($X43/(1+$P$3)^8)+($Y43/(1+$P$3)^9)+($Z43/(1+$P$3)^10) -> #REF! | G43: =($Q43/(1+$P$3)^1)+($R43/(1+$P$3)^2)+($S43/(1+$P$3)^3)+($T43/(1+$P$3)^4)+($U43/(1+$P$3)^5)+($V43/(1+$P$3)^6)+($W43/(1+$P$3)^7)+($X43/(1+$P$3)^8)+($Y43/(1+$P$3)^9) -> #REF! | H43: =($Q43/(1+$P$3)^1)+($R43/(1+$P$3)^2)+($S43/(1+$P$3)^3)+($T43/(1+$P$3)^4)+($U43/(1+$P$3)^5)+($V43/(1+$P$3)^6)+($W43/(1+$P$3)^7)+($X43/(1+$P$3)^8) -> #REF! | I43: =($Q43/(1+$P$3)^1)+($R43/(1+$P$3)^2)+($S43/(1+$P$3)^3)+($T43/(1+$P$3)^4)+($U43/(1+$P$3)^5)+($V43/(1+$P$3)^6)+($W43/(1+$P$3)^7) -> #REF! | J43: =($Q43/(1+$P$3)^1)+($R43/(1+$P$3)^2)+($S43/(1+$P$3)^3)+($T43/(1+$P$3)^4)+($U43/(1+$P$3)^5)+($V43/(1+$P$3)^6) -> #REF! | K43: =($Q43/(1+$P$3)^1)+($R43/(1+$P$3)^2)+($S43/(1+$P$3)^3)+($T43/(1+$P$3)^4)+($U43/(1+$P$3)^5) -> #REF! | L43: =($Q43/(1+$P$3)^1)+($R43/(1+$P$3)^2)+($S43/(1+$P$3)^3)+($T43/(1+$P$3)^4) -> #REF! | M43: =($Q43/(1+$P$3)^1)+($R43/(1+$P$3)^2)+($S43/(1+$P$3)^3) -> #REF! | N43: =($Q43/(1+$P$3)^1)+($R43/(1+$P$3)^2) -> #REF! | O43: =($Q43/(1+$P$3)^1) -> #REF! | Q43: =D_invoiced_cost!D32*10^6*D_currency_conversion!$I$12*D_currency_conversion!$J$12*C_depreciation_yearly!$M$27 -> 328826.55 | R43: =D_invoiced_cost!E32*10^6*D_currency_conversion!$I$12*D_currency_conversion!$J$12*C_depreciation_yearly!$M$27 -> 328826.55 | S43: =D_invoiced_cost!F32*10^6*D_currency_conversion!$I$12*D_currency_conversion!$J$12*C_depreciation_yearly!$M$27 -> 328826.55 | T43: =D_invoiced_cost!G32*10^6*D_currency_conversion!$I$12*D_currency_conversion!$J$12*C_depreciation_yearly!$M$27 -> 394591.86 | U43: =T43 -> 394591.86 | V43: =U43 -> 394591.86 | W43: =V43 -> 394591.86 | X43: =W43 -> 394591.86 | Y43: =X43 -> 394591.86 | Z43: =Y43 -> 394591.86
...

Sheet C_device_share
A1: Share of Considered Devices in Total | E1: =HYPERLINK("#"&ADDRESS(1,1,,,"MASTER"),"M <=") -> M <= | J1: Number of Devices from each maintenance Round
A2: Equipment type selection: | J2: BoQ | K2: All Devices | N2: Only Considered Device Types
A3: 1 | B3: Laboratory equipment | J3: PPM | K3: Tot | L3: Crit | M3: NonCrit | N3: Tot | P3: Crit | R3: NonCrit
B4: a | C4: analyser | D4: ANL | E4: ANL | J4: 1 | K4: =L4+M4 -> 776 | L4: 81 | M4: 695 | N4: 507 | O4: =N4/K4 -> 0.65335052 | P4: 68 | Q4: =P4/L4 -> 0.83950617 | R4: 439 | S4: =R4/M4 -> 0.63165468
B5: b | C5: centrifuge | D5: CEN | E5: CEN | J5: 2 | K5: =L5+M5 -> 921 | L5: 83 | M5: 838 | N5: 602 | O5: =N5/K5 -> 0.65363735 | P5: 71 | Q5: =P5/L5 -> 0.85542169 | R5: 531 | S5: =R5/M5 -> 0.63365155
B6: c | C6: microscope | D6: MIC | E6: MIC | J6: 3 | K6: =L6+M6 -> 1000 | L6: 85 | M6: 915 | N6: 658 | O6: =N6/K6 -> 0.658 | P6: 74 | Q6: =P6/L6 -> 0.87058824 | R6: 584 | S6: =R6/M6 -> 0.63825137
A7: 2 | B7: Cold chain equipment | J7: 4 | K7: =L7+M7 -> 1075 | L7: 87 | M7: 988 | N7: 714 | O7: =N7/K7 -> 0.66418605 | P7: 76 | Q7: =P7/L7 -> 0.87356322 | R7: 638 | S7: =R7/M7 -> 0.64574899
B8: a | C8: refrigerator | D8: CLD | J8: 5 | K8: =L8+M8 -> 1108 | L8: 92 | M8: 1016 | N8: 730 | O8: =N8/K8 -> 0.65884477 | P8: 81 | Q8: =P8/L8 -> 0.88043478 | R8: 649 | S8: =R8/M8 -> 0.63877953
B9: b | C9: freezer | D9: CLD | J9: 6 | K9: =L9+M9 -> 1132 | L9: 97 | M9: 1035 | N9: 749 | O9: =N9/K9 -> 0.66166078 | P9: 86 | Q9: =P9/L9 -> 0.88659794 | R9: 663 | S9: =R9/M9 -> 0.64057971
A10: 3 | B10: Surgical equipment | J10: 7 | K10: =L10+M10 -> 97 | L10: 97 | N10: 86 | O10: =N10/K10 -> 0.88659794 | P10: 86 | Q10: =P10/L10 -> 0.88659794
B11: a | C11: anaesthesia unit | D11: ANS | J11: 8 | K11: =L11+M11 -> 98 | L11: 98 | N11: 87 | O11: =N11/K11 -> 0.8877551 | P11: 87 | Q11: =P11/L11 -> 0.8877551
B12: b | C12: electrosurgical unit | D12: ESU | J12: 9 | K12: =L12+M12 -> 96 | L12: 96 | N12: 85 | O12: =N12/K12 -> 0.88541667 | P12: 85 | Q12: =P12/L12 -> 0.88541667
B13: c | C13: operating light | D13: LGHT | J13: Notes: The numbers are for all devices, including those not in district hopitals
B14: d | C14: oxygen concentrator | D14: OXG
B15: e | C15: strelizing unit | D15: STR | J15: Summary Statistics and Share Calculation
B16: f | C16: operating table | D16: TAB | N16: DH only
A17: 4 | B17: Monitoring | J17: Average PPM-BoQ | M17: =AVERAGE($K$4:$K$9) -> 1002 | N17: =AVERAGE($K$4:$K$9) -> 1002
B18: a | C18: ecg | D18: ECG | E18: ECG | J18: Total maximum PPM-BoQ | M18: =MAX($K$4:$K$12) -> 1132 | N18: =MAX($K$4:$K$12) -> 1132
B19: b | C19: monitor | D19: MON | J19: Selection maximum BoQ | M19: =MAX(N4:N9) -> 749 | N19: =C_depreciation_yearly!K23 -> 419
A20: 5 | B20: Ultrasound imaging | D20: ULS | E20: ULS | J20: Share of total BoQ | M20: =M19/M18 -> 0.66166078 | N20: =N19/N18 -> 0.37014134
A21: 6 | B21: Xray imaging | D21: XRAY | E21: XRAY | J21: Notes: DH = District Hospitals

Sheet C_depreciation_yearly
A1: Calculation of Depreciation based on Device Value and Life Expectancy
A2: Equipment type: | D2: =HYPERLINK("#"&ADDRESS(1,1,,,"MASTER"),"M <=") -> M <= | E2: Purchasing | F2: Purchasing | G2: Life Expectancy | I2: Depreciation rate | K2: BoQ | L2: BoQ per HF | M2: Accum purch. | N2: Accum. deprec. rate | P2: Avg purch value | Q2: Avg depr rate per HF | S2: Life exp.
E3: value (NPR,14) | F3: value (NPR,16) | G3: w MTN | H3: w\o MTN | I3: w MTN | J3: w\o MTN | K3: (Cat2) | L3: (Cat2) | M3: value (NPR,14) | N3: w MTN | O3: w\o MTN | P3: per HF (NPR,14) | Q3: w MTN | R3: w\o MTN | S3: change
A4: 1 | B4: Laboratory equipment
B5: a | C5: analyser | D5: ANL | E5: =1000*D_device_values!$Q$4*(1/D_currency_conversion!$H$7)*D_currency_conversion!$H$6 -> 849913.19 | F5: =E5*D_currency_conversion!$I$12*D_currency_conversion!$J$12 -> 997381.26 | G5: =D_device_lifecycles!$X$4 -> 7.5 | H5: =D_device_lifecycles!$Y$4 -> #REF! | I5: =$F5/G5 -> 132984.17 | J5: =$F5/H5 -> #REF! | K5: 11 | L5: =K5/18 -> 0.61111111 | M5: =K5*E5 -> 9349045.1 | N5: =K5*I5 -> 1462825.8 | O5: =K5*J5 -> #REF! | P5: =L5*E5 -> 519391.39 | Q5: =I5*L5 -> 81268.102 | R5: =L5*J5 -> #REF! | S5: =(G5-H5)/G5 -> #REF!
B6: b | C6: centrifuge | D6: CEN | E6: =1000*D_device_values!$Q$5*(1/D_currency_conversion!$H$7)*D_currency_conversion!$H$6 -> 64714.202 | F6: =E6*D_currency_conversion!$I$12*D_currency_conversion!$J$12 -> 75942.735 | G6: =D_device_lifecycles!$X$5 -> 9 | H6: =D_device_lifecycles!$Y$5 -> #REF! | I6: =$F6/G6 -> 8438.0817 | J6: =$F6/H6 -> #REF! | K6: 53 | L6: =K6/18 -> 2.9444444 | M6: =K6*E6 -> 3429852.7 | N6: =K6*I6 -> 447218.33 | O6: =K6*J6 -> #REF! | P6: =L6*E6 -> 190547.37 | Q6: =I6*L6 -> 24845.463 | R6: =L6*J6 -> #REF! | S6: =(G6-H6)/G6 -> #REF!
B7: c | C7: microscope | D7: MIC | E7: =1000*D_device_values!$Q$6*(1/D_currency_conversion!$H$7)*D_currency_conversion!$H$6 -> 207085.45 | F7: =E7*D_currency_conversion!$I$12*D_currency_conversion!$J$12 -> 243016.75 | G7: =D_device_lifecycles!$X$6 -> 10 | H7: =D_device_lifecycles!$Y$6 -> #REF! | I7: =$F7/G7 -> 24301.675 | J7: =$F7/H7 -> #REF! | K7: 41 | L7: =K7/18 -> 2.2777778 | M7: =K7*E7 -> 8490503.3 | N7: =K7*I7 -> 996368.69 | O7: =K7*J7 -> #REF! | P7: =L7*E7 -> 471694.63 | Q7: =I7*L7 -> 55353.816 | R7: =L7*J7 -> #REF! | S7: =(G7-H7)/G7 -> #REF!
A8: 2 | B8: Cold chain equipment
B9: a | C9: refrigerator | D9: CLD | E9: =1000*D_device_values!$Q$8*(1/D_currency_conversion!$H$7)*D_currency_conversion!$H$6 -> 173469.52 | F9: =E9*D_currency_conversion!$I$12*D_currency_conversion!$J$12 -> 203568.14 | G9: =D_device_lifecycles!$X$8 -> 10 | H9: =D_device_lifecycles!$Y$8 -> #REF! | I9: =$F9/G9 -> 20356.814 | J9: =$F9/H9 -> #REF! | K9: 22 | L9: =K9/18 -> 1.2222222 | M9: =K9*E9 -> 3816329.5 | N9: =K9*I9 -> 447849.91 | O9: =K9*J9 -> #REF! | P9: =L9*E9 -> 212018.3 | Q9: =I9*L9 -> 24880.551 | R9: =L9*J9 -> #REF! | S9: =(G9-H9)/G9 -> #REF!
B10: b | C10: freezer | D10: CLD | E10: =1000*D_device_values!$Q$9*(1/D_currency_conversion!$H$7)*D_currency_conversion!$H$6 -> 173732.74 | F10: =E10*D_currency_conversion!$I$12*D_currency_conversion!$J$12 -> 203877.04 | G10: =D_device_lifecycles!$X$9 -> 11 | H10: =D_device_lifecycles!$Y$9 -> #REF! | I10: =$F10/G10 -> 18534.276 | J10: =$F10/H10 -> #REF! | K10: 22 | L10: =K10/18 -> 1.2222222 | M10: =K10*E10 -> 3822120.3 | N10: =K10*I10 -> 407754.07 | O10: =K10*J10 -> #REF! | P10: =L10*E10 -> 212340.02 | Q10: =I10*L10 -> 22653.004 | R10: =L10*J10 -> #REF! | S10: =(G10-H10)/G10 -> #REF!
A11: 3 | B11: Surgical equipment
B12: a | C12: anaesthesia unit | D12: ANS | E12: =1000*D_device_values!$Q$11*(1/D_currency_conversion!$H$7)*D_currency_conversion!$H$6 -> 1064482.6 | F12: =E12*D_currency_conversion!$I$12*D_currency_conversion!$J$12 -> 1249180.5 | G12: =D_device_lifecycles!$X$11 -> 10 | H12: =D_device_lifecycles!$Y$11 -> #REF! | I12: =$F12/G12 -> 124918.05 | J12: =$F12/H12 -> #REF! | K12: 4 | L12: =K12/18 -> 0.22222222 | M12: =K12*E12 -> 4257930.4 | N12: =K12*I12 -> 499672.2 | O12: =K12*J12 -> #REF! | P12: =L12*E12 -> 236551.69 | Q12: =I12*L12 -> 27759.567 | R12: =L12*J12 -> #REF! | S12: =(G12-H12)/G12 -> #REF!
