Workbook

Sheet Overview
A1: Supplemental Table Overview
A3: ='S1'!A$1:E$1 -> S1. Age at death for NMRs and GPs.
A4: ='S2'!A$1:E$1 -> S2. Number of analyzed biological replicates per group.
A5: ='S3'!A$1:E$1 -> S3. Reason for exclusion of samples from further analysis.
A6: ='S4'!A$1:E$1 -> S4. Number of uniquely aligned RNA-seq reads.
A7: =S5A!A$1:E$1 -> S5A. Naked mole-rat. Mean pairwise Pearson correlation coefficients between biological replicates.
A8: =S5B!A$1:E$1 -> S5B. Guinea Pig. Mean pairwise Pearson correlation coefficients between biological replicates.
A9: ='S6'!A$1:E$1 -> S6: Principle component analysis. Raw data behind Figure 1 of main document.
A10: ='S7'!A$1:E$1 -> S7. Number of differentially expressed genes (FDR < 0.01) between NMR and GP with logFC threshold (|logFC| > 2)
A11: ='S8'!A$1:E$1 -> S8: Log fold changes of cross-species DEGs differentially expressed across tissues.
A12: ='S9'!A$1:E$1 -> S9. DEGs in cross-species comparison that show an overlap with DAA.
A13: ='S10'!A$1:E$1 -> S10. Gene set enrichment analysis for cross-species DEGs (FDR < 0.01, |logFC| > 2) that are aging-related (DAA).
A14: ='S11'!A$1:E$1 -> S11. Number of sex-related (female vs. male) DEGs in (A) non-breeder and (B) breeder (FDR < 0.01).
A15: ='S12'!A$1:E$1 -> S12. Functional enrichment analysis of 790 DEGs shared between GP-B-FvM and GP-N-FvM.
A16: ='S13'!A$1:E$1 -> S13. Gene description of sex-related DEGs in NMR-N-FvsM.
A17: ='S14'!A$1:E$1 -> S14. Number of status-related (breeder vs.non-breeder )DEGs in (A) females and (B) males (FDR < 0.01).
A18: ='S15'!A$1:E$1 -> S15. Functional gene set enrichment analysis of DEGs in Ovr of NMR-F-BvsN.
A19: ='S16'!A$1:E$1 -> S16. Functional gene set enrichment analysis of DEGs in Adr of NMR-F-BvsN.
A20: ='S17'!A$1:E$1 -> S17. Functional gene set enrichment analysis of DEGs in Cer of NMR-F-BvsN.
A21: ='S18'!A$1:E$1 -> S18. DEGs in intersection between NMR-F-BvsN and NMR-M-BvsN.
A22: ='S19'!A$1:E$1 -> S19. Functional gene set enrichment analysis of DEGs in Tes of NMR-M-BvsN.
A23: ='S20'!A$1:E$1 -> S20. Functional gene set enrichemnt in cellular components of DEGs in Tes NMR-M-BvsN.
A24: ='S21'!A$1:E$1 -> S21. Functional gene set enrichment analysis of DEGs in Skn of NMR-M-BvsN.
A25: ='S22'!A$1:E$1 -> S22. Proportion of mitochondrial transcriptonal output.
A26: ='S23'!A$1:E$1 -> S23. Differentially expressed nuclear genes (FDR<0.05) associated with mitochondrial respiratory chain complexes in Tes and Skn of NMR-M-BvsN.
A27: ='S24'!A$1:E$1 -> S24. Antioxidant enzymes differentially expressed in Tes and Skn of NMR-M-BvsN (FDR<0.05)
A28: ='S25'!A$1:E$1 -> S25. Enrichment of age-related genes (Digital Ageing Atlas) in status-related DEGs. Only tissues having at least 50 DEGs were tested for enrichment.
A29: ='S26'!A$1:E$1 -> S26. Shared status-related DEGs between NMR and GP.
A30: ='S27'!A$1:E$1 -> S27. FDR values (Fisher's exact test) for overlap between Digital Ageing Atlas and upper quintile of status-related expression differences having the greatest interspecies difference. Three groups were investigated: (i) opposing and (ii) same direction of expression in both species as well as (iii) independent of direction. Further, in each group direction in each species was tested separately.
A31: ='S28'!A$1:E$1 -> S28. Functional enrichment analysis of the non-redundant set of ageing-related 20%-quantiles that show the greatest interspecies diﬀerence in males (Skn, Tes).
A32: ='S29'!A$1:E$1 -> S29. Functional enrichment analysis of the non-redundant set of ageing-related 20%-quantiles that show the greatest interspecies diﬀerence in females (Hrt, Pit, Ovr).

Sheet S1
A1: S1. Age at death for NMRs and GPs.
A3: species | B3: animal | C3: status | D3: sex | E3: age (years)
A4: NMR | B4: 1816 | C4: breeder | D4: female | E4: 3.6
A5: NMR | B5: 6382 | C5: breeder | D5: female | E5: 3.5
A6: NMR | B6: 4121 | C6: breeder | D6: female | E6: 3.3
A7: NMR | B7: 6841 | C7: breeder | D7: female | E7: 3.3
A8: NMR | B8: 1090 | C8: breeder | D8: female | E8: 3.7
A9: NMR | B9: 4772 | C9: breeder | D9: female | E9: 3.7
A10: NMR | B10: 1215 | C10: breeder | D10: male | E10: 3.4
A11: NMR | B11: 5982 | C11: breeder | D11: male | E11: 2.9
A12: NMR | B12: 6656 | C12: breeder | D12: male | E12: 2.8
A13: NMR | B13: 1147 | C13: breeder | D13: male | E13: 3.9
A14: NMR | B14: 1400 | C14: breeder | D14: male | E14: 4
A15: NMR | B15: 3274 | C15: breeder | D15: male | E15: 4.1
... A51: GP | B51: 30 | C51: non-breeder | D51: male | E51: 0.96

Sheet S2
A1: S2. Number of analyzed biological replicates per group.
B3: female | F3: male
A4: Tissue | B4: NMR-N | C4: GP-N | D4: NMR-B | E4: GP-B | F4: NMR-N | G4: GP-N | H4: NMR-B | I4: GP-B | J4: Total
A5: Heart | B5: 6 | C5: 6 | D5: 6 | E5: 6 | F5: 6 | G5: 6 | H5: 6 | I5: 6 | J5: 48
A6: Skin | B6: 6 | C6: 6 | D6: 6 | E6: 6 | F6: 6 | G6: 6 | H6: 6 | I6: 6 | J6: 48
A7: Liver | B7: 5 | C7: 6 | D7: 6 | E7: 6 | F7: 6 | G7: 6 | H7: 6 | I7: 6 | J7: 47
A8: Kidney | B8: 6 | C8: 6 | D8: 6 | E8: 6 | F8: 6 | G8: 6 | H8: 6 | I8: 6 | J8: 48
A9: Cerebellum | B9: 6 | C9: 6 | D9: 6 | E9: 6 | F9: 6 | G9: 6 | H9: 4 | I9: 6 | J9: 46
A10: Hypothalamus | B10: 6 | C10: 6 | D10: 6 | E10: 6 | F10: 6 | G10: 6 | H10: 6 | I10: 6 | J10: 48
A11: Pituitary | B11: 6 | C11: 6 | D11: 6 | E11: 6 | F11: 6 | G11: 6 | H11: 6 | I11: 5 | J11: 47
A12: Thyroid | B12: 6 | C12: 6 | D12: 6 | E12: 5 | F12: 6 | G12: 5 | H12: 6 | I12: 6 | J12: 46
A13: Adrenal | B13: 6 | C13: 6 | D13: 6 | E13: 6 | F13: 6 | G13: 6 | H13: 6 | I13: 6 | J13: 48
A14: Gonad | B14: 6 | C14: 6 | D14: 5 | E14: 6 | F14: 6 | G14: 6 | H14: 6 | I14: 6 | J14: 47
A15: Total | B15: 59 | C15: 60 | D15: 59 | E15: 59 | F15: 60 | G15: 59 | H15: 58 | I15: 59 | J15: =SUM(B15:I15) -> 473

Sheet S3
A1: S3. Reason for exclusion of samples from further analysis.
A3: species | B3: animal | C3: status | D3: sex | E3: tissue | F3: description
A4: GP | B4: 19 | C4: non-breeder | D4: m | E4: thyroid | F4: Wrong tissue. Sample does not cluster within the thyroid cluster.
A5: GP | B5: 12 | C5: breeder | D5: f | E5: thyroid | F5: Sample missing.
A6: GP | B6: 20 | C6: breeder | D6: m | E6: pituitary | F6: Sample missing.
A7: NMR | B7: 5982 | C7: breeder | D7: m | E7: cerebellum | F7: Wrong tissue. Sample clusters with hypothalamus samples.
A8: NMR | B8: 1816 | C8: breeder | D8: f | E8: ovary | F8: Quality issue. Sample does not cluster within the ovary cluster.
A9: NMR | B9: 3650 | C9: worker | D9: f | E9: liver | F9: Sample missing.
A10: NMR | B10: 3274 | C10: breeder | D10: m | E10: cerebellum | F10: Sample missing.

Sheet S4
A1: S4. Number of uniquely aligned RNA-seq reads.
A3: species | B3: animal | C3: tissue | D3: total reads | E3: read length | F3: uniquely mapped reads
A4: GP | B4: 01 | C4: adrenal gland | D4: 26177539 | E4: 50 | F4: 20039968
A5: GP | B5: 02 | C5: adrenal gland | D5: 28032986 | E5: 50 | F5: 21676768
A6: GP | B6: 03 | C6: adrenal gland | D6: 31388001 | E6: 50 | F6: 24642455
A7: GP | B7: 05 | C7: adrenal gland | D7: 23054669 | E7: 50 | F7: 18245667
A8: GP | B8: 06 | C8: adrenal gland | D8: 28713972 | E8: 50 | F8: 20899400
A9: GP | B9: 08 | C9: adrenal gland | D9: 32543461 | E9: 51 | F9: 24868609
A10: GP | B10: 09 | C10: adrenal gland | D10: 35007247 | E10: 51 | F10: 27318620
A11: GP | B11: 11 | C11: adrenal gland | D11: 34927907 | E11: 51 | F11: 27245298
A12: GP | B12: 12 | C12: adrenal gland | D12: 41354976 | E12: 51 | F12: 32058415
A13: GP | B13: 13 | C13: adrenal gland | D13: 30466425 | E13: 51 | F13: 23484796
A14: GP | B14: 14 | C14: adrenal gland | D14: 34688031 | E14: 51 | F14: 26698476
A15: GP | B15: 15 | C15: adrenal gland | D15: 37267463 | E15: 51 | F15: 28407028
... A479: NMR | B479: 6841 | C479: thyroid | D479: 25797577 | E479: 51 | F479: 22937176

Sheet S5A
A1: S5A. Naked mole-rat. Mean pairwise Pearson correlation coefficients between biological replicates.
A3: tissue | B3: group | C3: sex | D3: samples | E3: mean | F3: sd | G3: se
A4: heart | B4: worker | C4: male | D4: 6 | E4: 0.98940721 | F4: 0.0041132815 | G4: 0.0010620447
A5: heart | B5: breeder | C5: male | D5: 6 | E5: 0.99250572 | F5: 0.0020721393 | G5: 0.00053502407
A6: heart | B6: worker | C6: female | D6: 6 | E6: 0.97349629 | F6: 0.018599514 | G6: 0.004802374
A7: heart | B7: breeder | C7: female | D7: 6 | E7: 0.98173578 | F7: 0.011964943 | G7: 0.003089335
A8: skin | B8: worker | C8: male | D8: 6 | E8: 0.9469923 | F8: 0.035528889 | G8: 0.0091735198
A9: skin | B9: breeder | C9: male | D9: 6 | E9: 0.96240948 | F9: 0.017667658 | G9: 0.0045617696
A10: skin | B10: worker | C10: female | D10: 6 | E10: 0.96143978 | F10: 0.015128656 | G10: 0.0039062022
A11: skin | B11: breeder | C11: female | D11: 6 | E11: 0.96520452 | F11: 0.015637749 | G11: 0.0040376493
A12: liver | B12: worker | C12: male | D12: 6 | E12: 0.97579842 | F12: 0.018074261 | G12: 0.0046667542
A13: liver | B13: breeder | C13: male | D13: 6 | E13: 0.9861839 | F13: 0.0045826701 | G13: 0.0011832403
A14: liver | B14: worker | C14: female | D14: 5 | E14: 0.98371408 | F14: 0.0037615359 | G14: 0.0011895021
A15: liver | B15: breeder | C15: female | D15: 6 | E15: 0.97798536 | F15: 0.0089267522 | G15: 0.0023048775
... A23: cerebellum | B23: breeder | C23: female | D23: 6 | E23: 0.98936534 | F23: 0.0052541064 | G23: 0.0013566044
A24: hypothalamus | B24: worker | C24: male | E24: 0.98839477 | F24: 0.0051035927 | G24: 0.001317742
A25: hypothalamus | B25: breeder | C25: male | D25: 6 | E25: 0.99080519 | F25: 0.0027346634 | G25: 0.00070608706
A26: hypothalamus | B26: worker | C26: female | D26: 6 | E26: 0.98874683 | F26: 0.0039134276 | G26: 0.0010104427
A27: hypothalamus | B27: breeder | C27: female | D27: 6 | E27: 0.98755364 | F27: 0.0040413647 | G27: 0.0010434759
A28: pituitary | B28: worker | C28: male | D28: 6 | E28: 0.9854437 | F28: 0.0033478161 | G28: 0.00086440241
A29: pituitary | B29: breeder | C29: male | D29: 6 | E29: 0.98741799 | F29: 0.0025533509 | G29: 0.00065927236
A30: pituitary | B30: worker | C30: female | D30: 6 | E30: 0.96070202 | F30: 0.030399685 | G30: 0.0078491648
A31: pituitary | B31: breeder | C31: female | D31: 6 | E31: 0.98753332 | F31: 0.0034555112 | G31: 0.00089220915
A32: thyroid | B32: worker | C32: male | D32: 6 | E32: 0.98620203 | F32: 0.003221245 | G32: 0.00083172189
A33: thyroid | B33: breeder | C33: male | D33: 6 | E33: 0.95298727 | F33: 0.042906003 | G33: 0.011078282
A34: thyroid | B34: worker | C34: female | D34: 6 | E34: 0.97603426 | F34: 0.013031132 | G34: 0.0033646238
A35: thyroid | B35: breeder | C35: female | D35: 6 | E35: 0.98705123 | F35: 0.0039083746 | G35: 0.001009138
A36: adrenal gland | B36: worker | C36: male | D36: 6 | E36: 0.99061018 | F36: 0.0022027747 | G36: 0.00056875398
... A43: ovary | B43: breeder | C43: female | D43: 5 | E43: 0.9845296 | F43: 0.0043871199 | G43: 0.0013873291

Sheet S5B
A1: S5B. Guinea Pig. Mean pairwise Pearson correlation coefficients between biological replicates.
A3: tissue | B3: group | C3: sex | D3: samples | E3: mean | F3: sd | G3: se
A4: heart | B4: worker | C4: male | D4: 6 | E4: 0.97909366 | F4: 0.015946104 | G4: 0.0041172664
A5: heart | B5: breeder | C5: male | D5: 6 | E5: 0.98227288 | F5: 0.011402217 | G5: 0.0029440398
A6: heart | B6: worker | C6: female | D6: 6 | E6: 0.99325261 | F6: 0.0015641331 | G6: 0.00040385743
A7: heart | B7: breeder | C7: female | D7: 6 | E7: 0.9917039 | F7: 0.0022666645 | G7: 0.00058525025
A8: skin | B8: worker | C8: male | D8: 6 | E8: 0.97727481 | F8: 0.0074402055 | G8: 0.0019210528
A9: skin | B9: breeder | C9: male | D9: 6 | E9: 0.97116234 | F9: 0.017336447 | G9: 0.0044762514
A10: skin | B10: worker | C10: female | D10: 6 | E10: 0.97649814 | F10: 0.01191336 | G10: 0.0030760162
A11: skin | B11: breeder | C11: female | D11: 6 | E11: 0.96849585 | F11: 0.017719639 | G11: 0.0045751912
A12: liver | B12: worker | C12: male | D12: 6 | E12: 0.98885805 | F12: 0.0027536309 | G12: 0.00071098445
A13: liver | B13: breeder | C13: male | D13: 6 | E13: 0.98371635 | F13: 0.0055484682 | G13: 0.0014326083
A14: liver | B14: worker | C14: female | D14: 6 | E14: 0.98195373 | F14: 0.0051983098 | G14: 0.0013421978
A15: liver | B15: breeder | C15: female | D15: 6 | E15: 0.98504726 | F15: 0.0038267406 | G15: 0.00098806018
... A43: ovary | B43: breeder | C43: female | D43: 6 | E43: 0.9903385 | F43: 0.0020892111 | G43: 0.00053943199

Sheet S6
A1: S6: Principle component analysis. Raw data behind Figure 1 of main document.
A3: tissue | B3: status | C3: sex | D3: species | E3: PC1 | F3: PC2 | G3: PC3
A4: heart | B4: non-breeder | C4: m | D4: NMR | E4: -101.33592 | F4: 87.027761 | G4: -6.3258793
A5: skin | B5: non-breeder | C5: m | D5: NMR | E5: -46.108529 | F5: 88.833612 | G5: -139.71468
A6: liver | B6: non-breeder | C6: m | D6: NMR | E6: -208.73508 | F6: 94.811467 | G6: 143.30172
A7: kidney | B7: non-breeder | C7: m | D7: NMR | E7: -71.536119 | F7: 92.894846 | G7: -2.8336412
A8: cerebellum | B8: non-breeder | C8: m | D8: NMR | E8: 149.06383 | F8: 100.43378 | G8: 55.969993
A9: hypothalamus | B9: non-breeder | C9: m | D9: NMR | E9: 158.67032 | F9: 101.54559 | G9: 46.071565
A10: pituitary | B10: non-breeder | C10: m | D10: NMR | E10: 84.857707 | F10: 101.71681 | G10: 4.072299
A11: thyroid | B11: non-breeder | C11: m | D11: NMR | E11: -48.785936 | F11: 101.63468 | G11: -56.729276
A12: adrenal gland | B12: non-breeder | C12: m | D12: NMR | E12: -5.3370503 | F12: 95.280959 | G12: -22.888044
A13: testis | B13: non-breeder | C13: m | D13: NMR | E13: 54.987331 | F13: 76.987561 | G13: -44.10168
A14: heart | B14: breeder | C14: m | D14: NMR | E14: -94.31625 | F14: 86.967137 | G14: -12.127298
A15: skin | B15: breeder | C15: m | D15: NMR | E15: -49.133299 | F15: 85.49322 | G15: -132.73574
... A83: ovary | B83: breeder | C83: f | D83: GP | E83: -3.6454126 | F83: -103.44987 | G83: -47.313858

Sheet S7
A1: S7. Number of differentially expressed genes (FDR < 0.01) between NMR and GP with logFC threshold (|logFC| > 2)
A3: tissue | B3: DEGs | C3: up | D3: down
A4: heart | B4: 1620 | C4: 844 | D4: 776
A5: skin | B5: 1433 | C5: 890 | D5: 543
A6: liver | B6: 1975 | C6: 1019 | D6: 956
A7: kidney | B7: 1412 | C7: 780 | D7: 632
A8: cerebellum | B8: 1193 | C8: 714 | D8: 479
A9: hypothalamus | B9: 899 | C9: 493 | D9: 406
A10: pituitary | B10: 1174 | C10: 646 | D10: 528
A11: thyroid | B11: 1670 | C11: 801 | D11: 869
A12: adrenal gland | B12: 1840 | C12: 976 | D12: 864
A13: testis | B13: 3375 | C13: 1711 | D13: 1664
A14: ovary | B14: 1409 | C14: 777 | D14: 632
A15: sum | B15: =SUBTOTAL(109,B4:B14) -> 18000 | C15: =SUBTOTAL(109,C4:C14) -> 9651 | D15: =SUBTOTAL(109,D4:D14) -> 8349
A16: union | B16: 5951 | C16: 3843 | D16: 3779
A17: intersection | B17: 29 | C17: 15 | D17: 4

Sheet S8
A1: S8: Log fold changes of cross-species DEGs differentially expressed across tissues.
A3: tissue | B3: ADAD1 | C3: ANKRD23 | D3: ANKUB1 | E3: C1ORF158 | F3: CCDC135 | G3: CCDC42 | H3: CLHC1 | I3: CNGA4 | J3: EXO5 | K3: FAM154A | L3: HESX1 | M3: HLA-DRA | N3: IL23A | O3: LDHAL6B | P3: MIPOL1 | Q3: MYO7B | R3: NAA10 | S3: PGLYRP4 | T3: PLK4 | U3: PPP2R1A | V3: PRPH2 | W3: PSPN | X3: RASL12 | Y3: RPL39 | Z3: RRAGB | AA3: SLC26A5 | AB3: SPON2 | AC3: TMEM8C | AD3: TSPEAR
A4: heart | B4: 4.919176 | C4: -2.9675833 | D4: 5.4712833 | E4: -5.0238338 | F4: 2.4330542 | G4: 3.4307646 | H4: 4.7669005 | I4: 3.8691861 | J4: -6.8797785 | K4: 4.7473932 | L4: 6.3887952 | M4: 9.3463603 | N4: 3.2393763 | O4: 2.7172445 | P4: 2.5064088 | Q4: 2.4942362 | R4: 2.4542082 | S4: 4.9696026 | T4: -6.1952787 | U4: 2.1980237 | V4: 6.6413126 | W4: 3.3061143 | X4: -3.757936 | Y4: 2.0691791 | Z4: 4.1691371 | AA4: 4.6981163 | AB4: 2.8377669 | AC4: 3.8669358 | AD4: 6.2185881
A5: skin | B5: 3.9143334 | C5: 2.0300495 | D5: 6.7505785 | E5: -4.4044742 | F5: 2.9594039 | G5: 4.1762131 | H5: 4.8471542 | I5: 3.5968847 | J5: -9.5541503 | K5: 5.4730275 | L5: 6.1702708 | M5: 13.009447 | N5: 2.904005 | O5: 3.819696 | P5: 5.6288589 | Q5: 6.4205422 | R5: 2.8958434 | S5: 2.6735465 | T5: -2.821185 | U5: 2.8613301 | V5: 5.0204635 | W5: 2.2814058 | X5: -4.0885396 | Y5: 2.9417824 | Z5: 3.9865037 | AA5: 4.4883265 | AB5: 4.7477991 | AC5: 6.0589881 | AD5: 4.0827744
A6: liver | B6: 5.45021 | C6: 4.8286428 | D6: 9.9545496 | E6: -5.3289733 | F6: 8.65828 | G6: 4.5049528 | H6: 2.9804246 | I6: 4.812214 | J6: -7.0426075 | K6: 7.3759149 | L6: 6.3005019 | M6: 9.5313282 | N6: 5.6875977 | O6: 2.3282396 | P6: 4.2001577 | Q6: 6.4413172 | R6: 3.191156 | S6: 2.7415951 | T6: -7.4959839 | U6: 3.0678619 | V6: 6.6480715 | W6: 3.3405608 | X6: -4.6031514 | Y6: 3.022807 | Z6: 4.1470885 | AA6: 5.4992256 | AB6: 3.5871358 | AC6: 4.3780639 | AD6: 8.8471651
A7: kidney | B7: 7.7956048 | C7: 5.7957665 | D7: 3.127884 | E7: -7.5609245 | F7: 3.5637917 | G7: 4.521133 | H7: 2.214523 | I7: 4.9674708 | J7: -8.5021772 | K7: 5.2543041 | L7: 7.6125431 | M7: 9.8232321 | N7: 4.7060314 | O7: 3.9978843 | P7: 4.6171499 | Q7: -2.1046676 | R7: 2.2150658 | S7: 5.0879944 | T7: -5.7323942 | U7: 2.5529712 | V7: 2.1016102 | W7: 2.6367602 | X7: -4.5685841 | Y7: 2.3047367 | Z7: 3.0572543 | AA7: 2.5407738 | AB7: 2.9591562 | AC7: 3.068494 | AD7: 7.460829
A8: cerebellum | B8: 5.6530722 | C8: 4.4701486 | D8: 6.2935411 | E8: -5.1611696 | F8: 3.3645411 | G8: 4.2755537 | H8: 3.0082429 | I8: 2.5426583 | J8: -8.4589265 | K8: 4.8275331 | L8: 3.6706154 | M8: 10.447132 | N8: 4.9980696 | O8: 3.351099 | P8: 3.4728881 | Q8: 3.5220412 | R8: 2.3998799 | S8: 3.8368478 | T8: -5.9232062 | U8: 2.9604687 | V8: 7.2681182 | W8: 4.4751158 | X8: -6.6685027 | Y8: 2.9290366 | Z8: 2.1776067 | AA8: 7.6852006 | AB8: 2.7510432 | AC8: 2.4402548 | AD8: 9.0740612
A9: hypothalamus | B9: 6.0844905 | C9: 4.5186112 | D9: 5.5806349 | E9: -3.3521221 | F9: 2.0145239 | G9: 2.9024463 | H9: 2.1301334 | I9: 3.7063444 | J9: -8.4269909 | K9: 3.908828 | L9: 2.5013836 | M9: 10.201157 | N9: 4.101307 | O9: 3.5228681 | P9: 3.4129484 | Q9: 4.0961253 | R9: 2.6987205 | S9: 4.3971118 | T9: -4.846031 | U9: 2.4930152 | V9: 4.0543972 | W9: 3.8081536 | X9: -5.9145631 | Y9: 2.8148615 | Z9: 2.2798908 | AA9: 7.1480737 | AB9: 3.0762977 | AC9: 2.2076365 | AD9: 7.3125086
A10: pituitary | B10: 6.3337123 | C10: 4.1331408 | D10: 2.780751 | E10: -3.4584529 | F10: 2.7893846 | G10: 3.1489355 | H10: 4.764783 | I10: 3.4614744 | J10: -8.6726419 | K10: 3.618489 | L10: 5.7255953 | M10: 10.48505 | N10: 3.2440151 | O10: 4.4196621 | P10: 3.6669858 | Q10: 4.1156741 | R10: 2.8235402 | S10: 5.1224146 | T10: -3.0425679 | U10: 2.5174461 | V10: 2.4142084 | W10: 2.1093794 | X10: -5.532803 | Y10: 3.3578892 | Z10: 3.130742 | AA10: 6.3288324 | AB10: 4.0731725 | AC10: 2.6686615 | AD10: 6.838849
A11: thyroid | B11: 6.323487 | C11: 5.1763759 | D11: 4.1850969 | E11: -5.8132089 | F11: 5.3752717 | G11: 3.9727929 | H11: 3.2145036 | I11: 4.8937395 | J11: -10.592233 | K11: 5.6949436 | L11: 5.8330682 | M11: 9.242714 | N11: 4.6349435 | O11: 4.3165734 | P11: 5.1551413 | Q11: 6.7181773 | R11: 2.564333 | S11: 11.524345 | T11: -5.8822428 | U11: 2.7927267 | V11: 5.8587778 | W11: 3.0359574 | X11: -2.1335579 | Y11: 2.3921428 | Z11: 2.8489828 | AA11: 3.4350887 | AB11: 4.1127525 | AC11: 3.2453431 | AD11: 8.7341236
A12: adrenal gland | B12: 6.6012052 | C12: 2.678925 | D12: 6.3772569 | E12: -6.4311774 | F12: 3.4206339 | G12: 5.3468183 | H12: 3.4700619 | I12: 4.4922969 | J12: -7.1791905 | K12: 5.9814905 | L12: 4.2964754 | M12: 9.2300208 | N12: 6.3847477 | O12: 4.7038707 | P12: 2.5004408 | Q12: 5.2372353 | R12: 2.5659098 | S12: 5.6643605 | T12: -5.0562465 | U12: 3.035891 | V12: 4.8653536 | W12: 4.4285904 | X12: -3.5694271 | Y12: 2.4893276 | Z12: 2.9617425 | AA12: 4.6228508 | AB12: 5.5903606 | AC12: 3.9047194 | AD12: 5.1828267
A13: testis | B13: -2.3139757 | C13: 5.8032241 | D13: 5.8098134 | E13: -4.8709983 | F13: -5.1601895 | G13: -5.1013097 | H13: -2.108264 | I13: -4.1557224 | J13: -6.011619 | K13: -3.5244085 | L13: 3.0753365 | M13: 7.1049451 | N13: 3.2082891 | O13: -3.3177393 | P13: 3.407968 | Q13: 2.290254 | R13: 3.6457613 | S13: -2.4809688 | T13: -4.597105 | U13: 2.4255188 | V13: 3.1086649 | W13: 2.3838197 | X13: -2.7051264 | Y13: 2.655816 | Z13: 3.2071731 | AA13: 3.7225673 | AB13: 6.998706 | AC13: 3.2706133 | AD13: 4.2246299
A14: ovary | B14: 4.465329 | C14: 6.1946692 | D14: 2.1541647 | E14: -2.3185019 | F14: 2.0930816 | G14: 2.273217 | H14: 3.8755525 | I14: 2.5069149 | J14: -5.1583507 | K14: 4.1241728 | L14: 2.0174447 | M14: 10.809852 | N14: 6.0694999 | O14: 2.4502465 | P14: 3.8624727 | Q14: 4.9492867 | R14: 2.8935236 | S14: 4.1182905 | T14: -2.8428385 | U14: 2.5754295 | V14: 4.7267851 | W14: 2.4329587 | X14: -4.522103 | Y14: 2.0703265 | Z14: 2.7103517 | AA14: 4.0558956 | AB14: 6.7068948 | AC14: 3.8104898 | AD14: 2.6298425

Sheet S9
A1: S9. DEGs in cross-species comparison that show an overlap with DAA.
A3: Gene Symbols
A4: AADACABAT
A5: ABCA4
A6: ABCB1
A7: ACER3
A8: ACOT11
A9: ACSL5
A10: ACTL6A
A11: ACTR5
A12: ADCK1
A13: ADIPOR2
... A998: SEC61A1
A999: 37865
A1000: SERPINH1
A1001: SGPL1
A1002: SH3GLB1
A1003: SIDT2
A1004: SLC16A9
A1005: SLC22A17
A1006: SLC25A25
A1007: SLC25A3
A1008: SLC25A5
A1009: SLC7A1
A1010: SLC9A1
A1011: SMPD1
... A1058: TRPC1

Sheet S10
A1: S10. Gene set enrichment analysis for cross-species DEGs (FDR < 0.01, |logFC| > 2) that are aging-related (DAA).
A3: Row | B3: GOID | C3: Description | D3: Genes | E3: DEGs | F3: Enrichment | G3: log10(pvalue) | H3: FDR | I3: REVIGO | J3: Representative
A4: 1 | B4: GO:0002455 | C4: humoral immune response mediated by circulating immunoglobulin | D4: 19 | E4: 10 | F4: 4.735046 | G4: -5.005508 | H4: 0 | I4: GO:0006958 | J4: 0
A5: 2 | B5: GO:0002504 | C5: antigen processing and presentation of peptide or polysaccharide antigen via MHC class II | D5: 12 | E5: 9 | F5: 6.74744 | G5: -6.396009 | H5: 0 | I5: GO:0002504 | J5: 1
A6: 3 | B6: GO:0003008 | C6: system process | D6: 763 | E6: 135 | F6: 1.591795 | G6: -8.133678 | H6: 0 | I6: GO:0003008 | J6: 1
A7: 4 | B7: GO:0006082 | C7: organic acid metabolic process | D7: 560 | E7: 110 | F7: 1.767187 | G7: -9.254622 | H7: 0 | I7: GO:0032787 | J7: 0
A8: 5 | B8: GO:0006629 | C8: lipid metabolic process | D8: 632 | E8: 119 | F8: 1.693978 | G8: -8.811983 | H8: 0 | I8: GO:0006629 | J8: 1
A9: 6 | B9: GO:0006695 | C9: cholesterol biosynthetic process | D9: 32 | E9: 15 | F9: 4.21715 | G9: -6.401954 | H9: 0 | I9: GO:0008610 | J9: 0
A10: 7 | B10: GO:0006935 | C10: chemotaxis | D10: 328 | E10: 64 | F10: 1.755432 | G10: -5.440723 | H10: 0 | I10: GO:0006935 | J10: 1
A11: 8 | B11: GO:0006956 | C11: complement activation | D11: 18 | E11: 10 | F11: 4.998104 | G11: -5.284583 | H11: 0 | I11: GO:0006958 | J11: 0
A12: 9 | B12: GO:0006958 | C12: complement activation classical pathway | D12: 15 | E12: 9 | F12: 5.397952 | G12: -5.174447 | H12: 0 | I12: GO:0006958 | J12: 1
A13: 10 | B13: GO:0007155 | C13: cell adhesion | D13: 497 | E13: 94 | F13: 1.701568 | G13: -7.100541 | H13: 0 | I13: GO:0016337 | J13: 0
A14: 11 | B14: GO:0007275 | C14: multicellular organismal development | D14: 1960 | E14: 268 | F14: 1.230146 | G14: -4.566821 | H14: 0 | I14: GO:0048731 | J14: 0
A15: 12 | B15: GO:0007399 | C15: nervous system development | D15: 865 | E15: 133 | F15: 1.38329 | G15: -4.507862 | H15: 0 | I15: GO:0048731 | J15: 0
... A190: 187 | B190: GO:0050996 | C190: positive regulation of lipid catabolic process | D190: 11 | E190: 5 | F190: 4.089358 | G190: -2.360189 | H190: 0.049572 | I190: GO:0008610 | J190: 0

Sheet S11
A1: S11. Number of sex-related (female vs. male) DEGs in (A) non-breeder and (B) breeder (FDR < 0.01).
A3: A. non-breeder female vs. male
B4: non-breeder
B5: NMR | E5: GP | H5: NMR/GP
A6: tissues | B6: up | C6: down | D6: total | E6: up | F6: down | G6: total | H6: intersection
A7: heart | B7: 8 | C7: 2 | D7: 10 | E7: 0 | F7: 4 | G7: 4 | H7: 2
A8: skin | B8: 4 | C8: 2 | D8: 6 | E8: 3 | F8: 3 | G8: 6 | H8: 1
A9: liver | B9: 4 | C9: 0 | D9: 4 | E9: 136 | F9: 247 | G9: 383 | H9: 1
A10: kidney | B10: 6 | C10: 0 | D10: 6 | E10: 89 | F10: 20 | G10: 109 | H10: 1
A11: cerebellum | B11: 5 | C11: 0 | D11: 5 | E11: 0 | F11: 1 | G11: 1 | H11: 1
A12: hypothalamus | B12: 7 | C12: 1 | D12: 8 | E12: 1 | F12: 1 | G12: 2 | H12: 1
A13: pituitary | B13: 8 | C13: 1 | D13: 9 | E13: 180 | F13: 167 | G13: 347 | H13: 1
A14: thyroid | B14: 0 | C14: 0 | D14: 0 | E14: 1 | F14: 2 | G14: 3 | H14: 0
A15: adrenal gland | B15: 1 | C15: 3 | D15: 4 | E15: 363 | F15: 495 | G15: 858 | H15: 1
A16: non-redundant | B16: 14 | C16: 8 | D16: 22 | E16: 755 | F16: 910 | G16: 1634 | H16: 6
A17: sum | B17: 43 | C17: 9 | D17: 52 | E17: 773 | F17: 940 | G17: 1713
A19: B. breeder female vs. male
B20: breeder
B21: NMR | E21: GP | H21: NMR/GP
A22: tissues | B22: up | C22: down | D22: total | E22: up | F22: down | G22: total | H22: intersection
A23: heart | B23: 6 | C23: 7 | D23: 13 | E23: 38 | F23: 51 | G23: 89 | H23: 1
A24: skin | B24: 4 | C24: 1 | D24: 5 | E24: 1 | F24: 2 | G24: 3 | H24: 1
A25: liver | B25: 7 | C25: 3 | D25: 10 | E25: 142 | F25: 93 | G25: 235 | H25: 1
A26: kidney | B26: 10 | C26: 11 | D26: 21 | E26: 53 | F26: 53 | G26: 106 | H26: 2
A27: cerebellum | B27: 4 | C27: 21 | D27: 25 | E27: 0 | F27: 2 | G27: 2 | H27: 1
A28: hypothalamus | B28: 6 | C28: 5 | D28: 11 | E28: 0 | F28: 1 | G28: 1 | H28: 1
A29: pituitary | B29: 38 | C29: 9 | D29: 47 | E29: 132 | F29: 175 | G29: 307 | H29: 4
A30: thyroid | B30: 1096 | C30: 695 | D30: 1791 | E30: 1149 | F30: 938 | G30: 2087 | H30: 298
A31: adrenal gland | B31: 173 | C31: 360 | D31: 533 | E31: 277 | F31: 547 | G31: 824 | H31: 29
A32: non-redundant | B32: 1284 | C32: 1083 | D32: 2360 | E32: 1746 | F32: 1800 | G32: 3398 | H32: 514
A33: sum | B33: 1344 | C33: 1112 | D33: 2456 | E33: 1792 | F33: 1862 | G33: 3654

Sheet S12
A1: S12. Functional enrichment analysis of 790 DEGs shared between GP-B-FvM and GP-N-FvM.
A3: Row | B3: GOID | C3: Description | D3: Genes | E3: DEGs | F3: Enrichment | G3: log10(pvalue) | H3: FDR | I3: REVIGO | J3: Representative
A4: 1 | B4: GO:0001775 | C4: cell activation | D4: 556 | E4: 58 | F4: 1.952537 | G4: -6.190699 | H4: 0 | I4: GO:0001775 | J4: 1
A5: 2 | B5: GO:0002376 | C5: immune system process | D5: 1091 | E5: 103 | F5: 1.76709 | G5: -8.345651 | H5: 0 | I5: GO:0002376 | J5: 1
A6: 3 | B6: GO:0006629 | C6: lipid metabolic process | D6: 896 | E6: 81 | F6: 1.692089 | G6: -5.820005 | H6: 0 | I6: GO:0006629 | J6: 1
A7: 4 | B7: GO:0006954 | C7: inflammatory response | D7: 306 | E7: 39 | F7: 2.385554 | G7: -6.43671 | H7: 0 | I7: GO:0006954 | J7: 1
A8: 5 | B8: GO:0006955 | C8: immune response | D8: 659 | E8: 70 | F8: 1.988194 | G8: -7.707583 | H8: 0 | I8: GO:0046649 | J8: 0
A9: 6 | B9: GO:0009611 | C9: response to wounding | D9: 740 | E9: 83 | F9: 2.099387 | G9: -10.277353 | H9: 0 | I9: GO:0009611 | J9: 1
A10: 7 | B10: GO:0040011 | C10: locomotion | D10: 831 | E10: 78 | F10: 1.75687 | G10: -6.254501 | H10: 0 | I10: GO:0040011 | J10: 1
A11: 8 | B11: GO:0042221 | C11: response to chemical stimulus | D11: 1754 | E11: 148 | F11: 1.579349 | G11: -8.545395 | H11: 0 | I11: GO:0042221 | J11: 1
A12: 9 | B12: GO:0050896 | C12: response to stimulus | D12: 3435 | E12: 258 | F12: 1.40585 | G12: -10.272076 | H12: 0 | I12: GO:0050896 | J12: 1
A13: 10 | B13: GO:0051179 | C13: localization | D13: 3206 | E13: 225 | F13: 1.313606 | G13: -6.025306 | H13: 0 | I13: GO:0051179 | J13: 1
A14: 11 | B14: GO:0051241 | C14: negative regulation of multicellular organismal process | D14: 175 | E14: 28 | F14: 2.994788 | G14: -6.779237 | H14: 0 | I14: GO:0051241 | J14: 1
A15: 12 | B15: GO:0008202 | C15: steroid metabolic process | D15: 230 | E15: 29 | F15: 2.360023 | G15: -4.844802 | H15: 0.000455 | I15: GO:0008202 | J15: 1
... A161: 158 | B161: GO:0045619 | C161: regulation of lymphocyte differentiation | D161: 59 | E161: 9 | F161: 2.8552 | G161: -2.416609 | H161: 0.049872 | I161: GO:0046649 | J161: 0

Sheet S13
A1: S13. Gene description of sex-related DEGs in NMR-N-FvsM.
A3: Symbol | B3: Entrez | C3: Description | D3: RefSeq Gene Description | E3: GP-N-FvsM
A4: CXorf36 | B4: 79742 | C4: Chromosome X Open Reading Frame 36 | D4: RefSeq:CXorf36 (Chromosome X Open Reading Frame 36) is a Protein Coding gene. An important paralog of this gene is C3orf58. | E4: 1
A5: EIF2S3 | B5: 1968 | C5: Eukaryotic Translation Initiation Factor 2 Subunit Gamma | D5: RefSeq:The protein encoded by this gene is the largest subunit of a heterotrimeric GTP-binding protein involved in the recruitment of methionyl-tRNA(i) to the 40 S ribosomal subunit. [provided by RefSeq, Jan 2010] Uniprot:As a subunit of eukaryotic initiation factor 2 (eIF2), involved in the early steps of protein synthesis. In the presence of GTP, eIF2 forms a ternary complex with initiator tRNA Met-tRNAi and then recruits the 40S ribosomal complex, a step that determines the rate of protein translation. This step is followed by mRNA binding to form the 43S pre-initiation complex. Junction of the 60S ribosomal subunit to form the 80S initiation complex is preceded by hydrolysis of the GTP bound to eIF2 and release of an eIF2-GDP binary complex. In order for eIF2 to recycle and catalyze another round of initiation, the GDP bound to eIF2 must exchange with GTP by way of a reaction catalyzed by eIF2B (By similarity). Along with its paralog on chromosome Y, may contribute to spermatogenesis up to the round spermatid stage (By similarity). | E5: 1
A6: GPR143 | B6: 4935 | C6: G Protein-Coupled Receptor 143 | D6: RefSeq:This gene encodes a protein that binds to heterotrimeric G proteins and is targeted to melanosomes in pigment cells. This protein is thought to be involved in intracellular signal transduction mechanisms. Mutations in this gene cause ocular albinism type 1, also referred to as Nettleship-Falls type ocular albinism, a severe visual disorder. A related pseudogene has been identified on chromosome Y. [provided by RefSeq, Dec 2009] Uniprot:Receptor for tyrosine, L-DOPA and dopamine. After binding to L-DOPA, stimulates Ca(2+) influx into the cytoplasm, increases secretion of the neurotrophic factor SERPINF1 and relocalizes beta arrestin at the plasma membrane; this ligand-dependent signaling occurs through a G(q)-mediated pathway in melanocytic cells. Its activity is mediated by G proteins which activate the phosphoinositide signaling pathway. Plays also a role as an intracellular G protein-coupled receptor involved in melanosome biogenesis, organization and transport. | E6: 0
A7: KIF4A | B7: 24137 | C7: Kinesin Family Member 4A | D7: RefSeq:This gene encodes a member of the kinesin 4 subfamily of kinesin related proteins. The encoded protein is an ATP dependent microtubule-based motor protein that is involved in the intracellular transport of membranous organelles. This protein also associates with condensed chromosome arms and may be involved in maintaining chromosome integrity during mitosis. This protein may also be involved in the organization of the central spindle prior to cytokinesis. A pseudogene of this gene is found on chromosome X.[provided by RefSeq, Mar 2010] Uniprot:Motor protein that translocates PRC1 to the plus ends of interdigitating spindle microtubules during the metaphase to anaphase transition, an essential step for the formation of an organized central spindle midzone and midbody and for successful cytokinesis. May play a role in mitotic chromosomal positioning and bipolar spindle stabilization. | E7: 0
A8: KLF15 | B8: 28999 | C8: Kruppel Like Factor 15 | D8: RefSeq:KLF15 (Kruppel Like Factor 15) is a Protein Coding gene. Diseases associated with KLF15 include Aortic Aneurysm. Among its related pathways are Adipogenesis. GO annotations related to this gene include transcription factor activity, sequence-specific DNA binding and transcriptional activator activity, RNA polymerase II core promoter proximal region sequence-specific binding. An important paralog of this gene is KLF1. Uniprot:Transcriptional regulator that binds to the GA element of the CLCNKA promoter. Binds to the KCNIP2 promoter and regulates KCNIP2 circadian expression in the heart (By similarity). Is a repressor of CTGF expression, involved in the control of cardiac fibrosis. It is also involved in the control of cardiac hypertrophy acting through the inhibition of MEF2A and GATA4 (By similarity). Involved in podocyte differentiation (By similarity). Inhibits MYOCD activity. Is a negative regulator of TP53 acetylation. Inhibits NF-kappa-B activation through repression of EP300-dependent RELA acetylation. | E8: 0
A9: OFD1 | B9: 8481 | C9: OFD1, Centriole And Centriolar Satellite Protein | D9: RefSeq:This gene is located on the X chromosome and encodes a centrosomal protein. A knockout mouse model has been used to study the effect of mutations in this gene. The mouse gene is also located on the X chromosome, however, unlike the human gene it is not subject to X inactivation. Mutations in this gene are associated with oral-facial-digital syndrome type I and Simpson-Golabi-Behmel syndrome type 2. Many pseudogenes have been identified; a single pseudogene is found on chromosome 5 while as many as fifteen have been found on the Y chromosome. [provided by RefSeq, Aug 2016] Uniprot:Component of the centrioles controlling mother and daughter centrioles length. Recruits to the centriole IFT88 and centriole distal appendage-specific proteins including CEP164. Involved in the biogenesis of the cilium, a centriole-associated function. The cilium is a cell surface projection found in many vertebrate cells required to transduce signals important for development and tissue homeostasis. Plays an important role in development by regulating Wnt signaling and the specification of the left-right axis. Only OFD1 localized at the centriolar satellites is removed by autophagy, which is an important step in the ciliogenesis regulation (By similarity). | E9: 0
A10: RAB9A | B10: 9367 | C10: RAB9A, Member RAS Oncogene Family | D10: RefSeq:This gene is located on the X chromosome and encodes a centrosomal protein. A knockout mouse model has been used to study the effect of mutations in this gene. The mouse gene is also located on the X chromosome, however, unlike the human gene it is not subject to X inactivation. Mutations in this gene are associated with oral-facial-digital syndrome type I and Simpson-Golabi-Behmel syndrome type 2. Many pseudogenes have been identified; a single pseudogene is found on chromosome 5 while as many as fifteen have been found on the Y chromosome. [provided by RefSeq, Aug 2016] Uniprot:Involved in the transport of proteins between the endosomes and the trans Golgi network. | E10: 1
A11: TNFAIP3 | B11: 7128 | C11: TNF Alpha Induced Protein 3 | D11: RefSeq:This gene was identified as a gene whose expression is rapidly induced by the tumor necrosis factor (TNF). The protein encoded by this gene is a zinc finger protein and ubiqitin-editing enzyme, and has been shown to inhibit NF-kappa B activation as well as TNF-mediated apoptosis. The encoded protein, which has both ubiquitin ligase and deubiquitinase activities, is involved in the cytokine-mediated immune and inflammatory responses. Several transcript variants encoding the same protein have been found for this gene. [provided by RefSeq, Jul 2012] Uniprot:Ubiquitin-editing enzyme that contains both ubiquitin ligase and deubiquitinase activities. Involved in immune and inflammatory responses signaled by cytokines, such as TNF-alpha and IL-1 beta, or pathogens via Toll-like receptors (TLRs) through terminating NF-kappa-B activity. Essential component of a ubiquitin-editing protein complex, comprising also RNF11, ITCH and TAX1BP1, that ensures the transient nature of inflammatory signaling pathways. In cooperation with TAX1BP1 promotes disassembly of E2-E3 ubiquitin protein ligase complexes in IL-1R and TNFR-1 pathways; affected are at least E3 ligases TRAF6, TRAF2 and BIRC2, and E2 ubiquitin-conjugating enzymes UBE2N and UBE2D3. In cooperation with TAX1BP1 promotes ubiquitination of UBE2N and proteasomal degradation of UBE2N and UBE2D3. Upon TNF stimulation, deubiquitinates Lys-63-polyubiquitin chains on RIPK1 and catalyzes the formation of Lys-48-polyubiquitin chains. This leads to RIPK1 proteasomal degradation and consequently termination of the TNF- or LPS-mediated activation of NF-kappa-B. Deubiquitinates TRAF6 probably acting on Lys-63-linked polyubiquitin. Upon T-cell receptor (TCR)-mediated T-cell activation, deubiquitinates Lys-63-polyubiquitin chains on MALT1 thereby mediating disassociation of the CBM (CARD11:BCL10:MALT1) and IKK complexes and preventing sustained IKK activation. Deubiquitinates NEMO/IKBKG; the function is facilitated by TNIP1 and leads to inhibition of NF-kappa-B activation. Upon stimulation by bacterial peptidoglycans, probably deubiquitinates RIPK2. Can also inhibit I-kappa-B-kinase (IKK) through a non-catalytic mechanism which involves polyubiquitin; polyubiquitin promotes association with IKBKG and prevents IKK MAP3K7-mediated phosphorylation. Targets TRAF2 for lysosomal degradation. In vitro able to deubiquitinate Lys-11-, Lys-48- and Lys-63 polyubiquitin chains. Inhibitor of programmed cell death. Has a role in the function of the lymphoid system. Required for LPS-induced production of proinflammatory cytokines and IFN beta in LPS-tolerized macrophages. | E11: 0
A12: TRAPPC2 | B12: 6399 | C12: Trafficking Protein Particle Complex 2 | D12: RefSeq:The protein encoded by this gene is thought to be part of a large multi-subunit complex involved in the targeting and fusion of endoplasmic reticulum-to-Golgi transport vesicles with their acceptor compartment. In addition, the encoded protein can bind c-myc promoter-binding protein 1 and block its transcriptional repression capability. Mutations in this gene are a cause of spondyloepiphyseal dysplasia tarda (SEDT). A processed pseudogene of this gene is located on chromosome 19, and other pseudogenes are found on chromosomes 8 and Y. Alternatively spliced transcript variants have been found for this gene. [provided by RefSeq, Mar 2010] Uniprot:Prevents transcriptional repression and induction of cell death by ENO1 (By similarity). May play a role in vesicular transport from endoplasmic reticulum to Golgi. | E12: 0
A13: ZRSR2 | B13: 8233 | C13: Zinc Finger CCCH-Type, RNA Binding Motif And Serine/Arginine Rich 2 | D13: RefSeq:This gene encodes an essential splicing factor. The encoded protein associates with the U2 auxiliary factor heterodimer, which is required for the recognition of a functional 3' splice site in pre-mRNA splicing, and may play a role in network interactions during spliceosome assembly. [provided by RefSeq, Jul 2008] Uniprot:Pre-mRNA-binding protein required for splicing of both U2- and U12-type introns. Selectively interacts with the 3-splice site of U2- and U12-type pre-mRNAs and promotes different steps in U2 and U12 intron splicing. Recruited to U12 pre-mRNAs in an ATP-dependent manner and is required for assembly of the prespliceosome, a precursor to other spliceosomal complexes. For U2-type introns, it is selectively and specifically required for the second step of splicing. | E13: 0
A14: CLEC4A | B14: 50856 | C14: C-Type Lectin Domain Family 4 Member A | D14: RefSeq:This gene encodes a member of the C-type lectin/C-type lectin-like domain (CTL/CTLD) superfamily. Members of this family share a common protein fold and have diverse functions, such as cell adhesion, cell-cell signalling, glycoprotein turnover, and roles in inflammation and immune response. The encoded type 2 transmembrane protein may play a role in inflammatory and immune response. Multiple transcript variants encoding distinct isoforms have been identified for this gene. This gene is closely linked to other CTL/CTLD superfamily members on chromosome 12p13 in the natural killer gene complex region. [provided by RefSeq, Jul 2008] Uniprot:May be involved in regulating immune reactivity. May play a role in modulating dendritic cells (DC) differentiation and/or maturation. May be involved via its ITIM motif (immunoreceptor tyrosine-based inhibitory motifs) in the inhibition of B-cell-receptor-mediated calcium mobilization and protein tyrosine phosphorylation. | E14: 0
A15: NR4A2 | B15: 4929 | C15: Nuclear Receptor Subfamily 4 Group A Member 2 | D15: RefSeq:This gene encodes a member of the steroid-thyroid hormone-retinoid receptor superfamily. The encoded protein may act as a transcription factor. Mutations in this gene have been associated with disorders related to dopaminergic dysfunction, including Parkinson disease, schizophernia, and manic depression. Misregulation of this gene may be associated with rheumatoid arthritis. Alternatively spliced transcript variants have been described, but their biological validity has not been determined. [provided by RefSeq, Jul 2008] Uniprot:Transcriptional regulator which is important for the differentiation and maintenance of meso-diencephalic dopaminergic (mdDA) neurons during development. It is crucial for expression of a set of genes such as SLC6A3, SLC18A2, TH and DRD2 which are essential for development of mdDA neurons (By similarity). | E15: 0
... A25: PSMB1 | B25: 5689 | C25: Proteasome Subunit Beta 1 | D25: RefSeq:The proteasome is a multicatalytic proteinase complex with a highly ordered ring-shaped 20S core structure. The core structure is composed of 4 rings of 28 non-identical subunits; 2 rings are composed of 7 alpha subunits and 2 rings are composed of 7 beta subunits. Proteasomes are distributed throughout eukaryotic cells at a high concentration and cleave peptides in an ATP/ubiquitin-dependent process in a non-lysosomal pathway. An essential function of a modified proteasome, the immunoproteasome, is the processing of class I MHC peptides. This gene encodes a member of the proteasome B-type family, also known as the T1B family, that is a 20S core beta subunit. This gene is tightly linked to the TBP (TATA-binding protein) gene in human and in mouse, and is transcribed in the opposite orientation in both species. [provided by RefSeq, Jul 2008] Uniprot:The proteasome is a multicatalytic proteinase complex which is characterized by its ability to cleave peptides with Arg, Phe, Tyr, Leu, and Glu adjacent to the leaving group at neutral or slightly basic pH. The proteasome has an ATP-dependent proteolytic activity. | E25: 1

Sheet S14
A1: S14. Number of status-related (breeder vs.non-breeder )DEGs in (A) females and (B) males (FDR < 0.01).
A3: A. females
B5: NMR | E5: GP | H5: NMR/GP
A6: tissues | B6: up | C6: down | D6: total | E6: up | F6: down | G6: total | H6: intersection
A7: heart | B7: 3 | C7: 0 | D7: 3 | E7: 2 | F7: 0 | G7: 2 | H7: 0
A8: skin | B8: 1 | C8: 0 | D8: 1 | E8: 1 | F8: 4 | G8: 5 | H8: 0
A9: liver | B9: 0 | C9: 0 | D9: 0 | E9: 27 | F9: 44 | G9: 71 | H9: 0
A10: kidney | B10: 2 | C10: 2 | D10: 4 | E10: 1 | F10: 0 | G10: 1 | H10: 0
A11: cerebellum | B11: 15 | C11: 0 | D11: 15 | E11: 0 | F11: 0 | G11: 0 | H11: 0
A12: hypothalamus | B12: 5 | C12: 0 | D12: 5 | E12: 0 | F12: 0 | G12: 0 | H12: 0
A13: pituitary | B13: 16 | C13: 98 | D13: 114 | E13: 47 | F13: 67 | G13: 114 | H13: 1
A14: thyroid | B14: 101 | C14: 184 | D14: 285 | E14: 196 | F14: 479 | G14: 675 | H14: 8
A15: adrenal gland | B15: 125 | C15: 76 | D15: 201 | E15: 0 | F15: 0 | G15: 0 | H15: 0
A16: gonade | B16: 291 | C16: 211 | D16: 502 | E16: 16 | F16: 2 | G16: 18 | H16: 2
A17: non-redundant | B17: 534 | C17: 559 | D17: 1078 | E17: 289 | F17: 596 | G17: 883 | H17: 46
A18: sum | B18: 559 | C18: 571 | D18: 1130 | E18: 290 | F18: 596 | G18: 886
A20: B. males
B22: NMR | E22: GP | H22: NMR/GP
A23: tissues | B23: up | C23: down | D23: total | E23: up | F23: down | G23: total | H23: intersection
A24: heart | B24: 0 | C24: 0 | D24: 0 | E24: 0 | F24: 0 | G24: 0 | H24: 0
A25: skin | B25: 47 | C25: 176 | D25: 223 | E25: 0 | F25: 0 | G25: 0 | H25: 0
A26: liver | B26: 0 | C26: 1 | D26: 1 | E26: 7 | F26: 2 | G26: 9 | H26: 0
A27: kidney | B27: 0 | C27: 0 | D27: 0 | E27: 0 | F27: 0 | G27: 0 | H27: 0
A28: cerebellum | B28: 0 | C28: 0 | D28: 0 | E28: 0 | F28: 0 | G28: 0 | H28: 0
A29: hypothalamus | B29: 0 | C29: 0 | D29: 0 | E29: 0 | F29: 2 | G29: 2 | H29: 0
A30: pituitary | B30: 0 | C30: 1 | D30: 1 | E30: 1 | F30: 1 | G30: 2 | H30: 0
A31: thyroid | B31: 0 | C31: 0 | D31: 0 | E31: 0 | F31: 1 | G31: 1 | H31: 0
A32: adrenal gland | B32: 2 | C32: 2 | D32: 4 | E32: 0 | F32: 1 | G32: 1 | H32: 0
A33: gonade | B33: 225 | C33: 156 | D33: 381 | E33: 1 | F33: 2 | G33: 3 | H33: 1
A34: non-redundant | B34: 270 | C34: 336 | D34: 598 | E34: 9 | F34: 5 | G34: 14 | H34: 1
A35: sum | B35: 274 | C35: 336 | D35: 610 | E35: 9 | F35: 9 | G35: 18

Sheet S15
A1: S15. Functional gene set enrichment analysis of DEGs in Ovr of NMR-F-BvsN.
A3: Row | B3: GOID | C3: Description | D3: Genes | E3: DEGs | F3: Enrichment | G3: log10(pvalue) | H3: FDR | I3: REVIGO | J3: Representative
A4: 1 | B4: GO:0007166 | C4: cell surface receptor linked signaling pathway | D4: 1604 | E4: 93 | F4: 1.708376 | G4: -7.078558 | H4: 0 | I4: GO:0007166 | J4: 1
A5: 2 | B5: GO:0007596 | C5: blood coagulation | D5: 360 | E5: 31 | F5: 2.537255 | G5: -5.734442 | H5: 0 | I5: GO:0007596 | J5: 1
A6: 3 | B6: GO:0009605 | C6: response to external stimulus | D6: 897 | E6: 58 | F6: 1.905199 | G6: -5.889119 | H6: 0 | I6: GO:0009605 | J6: 1
A7: 4 | B7: GO:0009611 | C7: response to wounding | D7: 770 | E7: 56 | F7: 2.142901 | G7: -7.365578 | H7: 0 | I7: GO:0009611 | J7: 1
A8: 5 | B8: GO:0016477 | C8: cell migration | D8: 521 | E8: 40 | F8: 2.26218 | G8: -5.948456 | H8: 0 | I8: GO:0030334 | J8: 0
A9: 6 | B9: GO:0023052 | C9: signaling | D9: 3469 | E9: 165 | F9: 1.401472 | G9: -6.615656 | H9: 0 | I9: GO:0023052 | J9: 1
A10: 7 | B10: GO:0032501 | C10: multicellular organismal process | D10: 4220 | E10: 193 | F10: 1.347565 | G10: -6.733734 | H10: 0 | I10: GO:0032501 | J10: 1
A11: 8 | B11: GO:0040011 | C11: locomotion | D11: 871 | E11: 63 | F11: 2.131215 | G11: -8.175136 | H11: 0 | I11: GO:0040011 | J11: 1
A12: 9 | B12: GO:0042221 | C12: response to chemical stimulus | D12: 1793 | E12: 96 | F12: 1.577596 | G12: -5.696467 | H12: 0 | I12: GO:0042221 | J12: 1
A13: 10 | B13: GO:0048731 | C13: system development | D13: 2492 | E13: 129 | F13: 1.525269 | G13: -6.974689 | H13: 0 | I13: GO:0048731 | J13: 1
A14: 11 | B14: GO:0050817 | C14: coagulation | D14: 363 | E14: 31 | F14: 2.516285 | G14: -5.658612 | H14: 0 | I14: GO:0050817 | J14: 1
A15: 12 | B15: GO:0065008 | C15: regulation of biological quality | D15: 1924 | E15: 111 | F15: 1.699898 | G15: -8.439551 | H15: 0 | I15: GO:0065008 | J15: 1
... A27: 24 | B27: GO:0051270 | C27: regulation of cellular component movement | D27: 246 | E27: 23 | F27: 2.754848 | G27: -4.968481 | H27: 0.00125 | I27: GO:0030334 | J27: 0
A28: 25 | B28: GO:0023033 | C28: signaling pathway | D28: 2601 | E28: 125 | F28: 1.416037 | G28: -4.98366 | H28: 0.00129 | I28: NA | J28: NA
A29: 26 | B29: GO:0051239 | C29: regulation of multicellular organismal process | D29: 1050 | E29: 61 | F29: 1.71177 | G29: -4.689403 | H29: 0.001316 | I29: GO:0051239 | J29: 1
A30: 27 | B30: GO:0001944 | C30: vasculature development | D30: 335 | E30: 28 | F30: 2.462737 | G30: -4.986609 | H30: 0.001333 | I30: GO:0001568 | J30: 0
A31: 28 | B31: GO:0032502 | C31: developmental process | D31: 3261 | E31: 146 | F31: 1.319189 | G31: -4.205002 | H31: 0.001346 | I31: GO:0032502 | J31: 1
A32: 29 | B32: GO:0014911 | C32: positive regulation of smooth muscle cell migration | D32: 11 | E32: 5 | F32: 13.393132 | G32: -4.765809 | H32: 0.001351 | I32: GO:0030334 | J32: 0
A33: 30 | B33: GO:0030334 | C33: regulation of cell migration | D33: 222 | E33: 22 | F33: 2.919944 | G33: -5.17984 | H33: 0.001364 | I33: GO:0030334 | J33: 1
A34: 31 | B34: GO:0023060 | C34: signal transmission | D34: 2514 | E34: 118 | F34: 1.382998 | G34: -4.20763 | H34: 0.001373 | I34: GO:0023060 | J34: 1
A35: 32 | B35: GO:0003012 | C35: muscle system process | D35: 211 | E35: 21 | F35: 2.932525 | G35: -4.999161 | H35: 0.001379 | I35: GO:0003012 | J35: 1
A36: 33 | B36: GO:0007178 | C36: transmembrane receptor protein serine threonine kinase signaling pathway | D36: 153 | E36: 17 | F36: 3.273877 | G36: -4.771935 | H36: 0.001389 | I36: GO:0007178 | J36: 1
A37: 34 | B37: GO:0050673 | C37: epithelial cell proliferation | D37: 152 | E37: 16 | F37: 3.101567 | G37: -4.236456 | H37: 0.0014 | I37: GO:0050673 | J37: 1
A38: 35 | B38: GO:0009653 | C38: anatomical structure morphogenesis | D38: 1374 | E38: 76 | F38: 1.62979 | G38: -5.006055 | H38: 0.001429 | I38: GO:0009653 | J38: 1
A39: 36 | B39: GO:0030335 | C39: positive regulation of cell migration | D39: 134 | E39: 15 | F39: 3.298309 | G39: -4.315743 | H39: 0.001429 | I39: GO:0030334 | J39: 0
A40: 37 | B40: GO:0050896 | C40: response to stimulus | D40: 3552 | E40: 160 | F40: 1.327247 | G40: -4.8484 | H40: 0.001429 | I40: GO:0050896 | J40: 1
... A44: 41 | B44: GO:0001568 | C44: blood vessel development | D44: 325 | E44: 26 | F44: 2.357191 | G44: -4.343627 | H44: 0.001489 | I44: GO:0001568 | J44: 1
A45: 42 | B45: GO:0023046 | C45: signaling process | D45: 2517 | E45: 118 | F45: 1.38135 | G45: -4.184401 | H45: 0.001509 | I45: NA | J45: NA
A46: 43 | B46: GO:0043403 | C46: skeletal muscle tissue regeneration | D46: 13 | E46: 5 | F46: 11.33265 | G46: -4.345372 | H46: 0.001522 | I46: GO:0007596 | J46: 0
A47: 44 | B47: GO:0045072 | C47: regulation of interferon-gamma biosynthetic process | D47: 13 | E47: 5 | F47: 11.33265 | G47: -4.345372 | H47: 0.001522 | I47: GO:0045072 | J47: 1
A48: 45 | B48: GO:2000145 | C48: regulation of cell motility | D48: 225 | E48: 22 | F48: 2.881012 | G48: -5.085871 | H48: 0.001538 | I48: GO:0030334 | J48: 0
A49: 46 | B49: GO:0007167 | C49: enzyme linked receptor protein signaling pathway | D49: 671 | E49: 43 | F49: 1.888212 | G49: -4.371555 | H49: 0.001591 | I49: GO:0007167 | J49: 1
A50: 47 | B50: GO:0090092 | C50: regulation of transmembrane receptor protein serine threonine kinase signaling pathway | D50: 88 | E50: 13 | F50: 4.352768 | G50: -5.108512 | H50: 0.0016 | I50: GO:0007178 | J50: 0
A51: 48 | B51: GO:0014910 | C51: regulation of smooth muscle cell migration | D51: 20 | E51: 6 | F51: 8.839467 | G51: -4.419041 | H51: 0.001628 | I51: GO:0030334 | J51: 0
A52: 49 | B52: GO:0007155 | C52: cell adhesion | D52: 772 | E52: 50 | F52: 1.908348 | G52: -5.141499 | H52: 0.001667 | I52: GO:0042129 | J52: 0
A53: 50 | B53: GO:0022610 | C53: biological adhesion | D53: 772 | E53: 50 | F53: 1.908348 | G53: -5.141499 | H53: 0.001667 | I53: GO:0022610 | J53: 1
A54: 51 | B54: GO:0048608 | C54: reproductive structure development | D54: 162 | E54: 17 | F54: 3.091995 | G54: -4.448201 | H54: 0.001667 | I54: GO:0048608 | J54: 1
A55: 52 | B55: GO:0007275 | C55: multicellular organismal development | D55: 2985 | E55: 137 | F55: 1.352325 | G55: -4.449295 | H55: 0.001707 | I55: GO:0048731 | J55: 0
A56: 53 | B56: GO:0051272 | C56: positive regulation of cellular component movement | D56: 143 | E56: 16 | F56: 3.296771 | G56: -4.562765 | H56: 0.00175 | I56: GO:0030334 | J56: 0
A57: 54 | B57: GO:0090066 | C57: regulation of anatomical structure size | D57: 409 | E57: 31 | F57: 2.23328 | G57: -4.612172 | H57: 0.001795 | I57: GO:0090066 | J57: 1
... A78: 75 | B78: GO:0010646 | C78: regulation of cell communication | D78: 871 | E78: 50 | F78: 1.69144 | G78: -3.782453 | H78: 0.003333 | I78: GO:0010646 | J78: 1
A79: 76 | B79: GO:0035466 | C79: regulation of signaling pathway | D79: 1074 | E79: 59 | F79: 1.618649 | G79: -3.861375 | H79: 0.003333 | I79: NA | J79: NA
A80: 77 | B80: GO:0042036 | C80: negative regulation of cytokine biosynthetic process | D80: 17 | E80: 5 | F80: 8.666144 | G80: -3.712282 | H80: 0.003333 | I80: GO:0045072 | J80: 0
A81: 78 | B81: GO:0003013 | C81: circulatory system process | D81: 236 | E81: 20 | F81: 2.497025 | G81: -3.801287 | H81: 0.00338 | I81: GO:0003012 | J81: 0
A82: 79 | B82: GO:0008015 | C82: blood circulation | D82: 236 | E82: 20 | F82: 2.497025 | G82: -3.801287 | H82: 0.00338 | I82: GO:0050880 | J82: 0
A83: 80 | B83: GO:0031099 | C83: regeneration | D83: 85 | E83: 11 | F83: 3.813104 | G83: -3.87259 | H83: 0.003387 | I83: GO:0031099 | J83: 1
A84: 81 | B84: GO:0048589 | C84: developmental growth | D84: 165 | E84: 16 | F84: 2.857202 | G84: -3.811913 | H84: 0.003478 | I84: GO:0048589 | J84: 1
A85: 82 | B85: GO:0008406 | C85: gonad development | D85: 123 | E85: 13 | F85: 3.114175 | G85: -3.565084 | H85: 0.003929 | I85: GO:0048608 | J85: 0
A86: 83 | B86: GO:0006935 | C86: chemotaxis | D86: 466 | E86: 31 | F86: 1.960111 | G86: -3.568064 | H86: 0.003976 | I86: GO:0030334 | J86: 0
A87: 84 | B87: GO:0042330 | C87: taxis | D87: 466 | E87: 31 | F87: 1.960111 | G87: -3.568064 | H87: 0.003976 | I87: GO:0030334 | J87: 0
A88: 85 | B88: GO:0048518 | C88: positive regulation of biological process | D88: 2264 | E88: 105 | F88: 1.366525 | G88: -3.526748 | H88: 0.004471 | I88: GO:0048518 | J88: 1
A89: 86 | B89: GO:0035150 | C89: regulation of tube size | D89: 79 | E89: 10 | F89: 3.729733 | G89: -3.49061 | H89: 0.004713 | I89: GO:0050880 | J89: 0
A90: 87 | B90: GO:0050880 | C90: regulation of blood vessel size | D90: 79 | E90: 10 | F90: 3.729733 | G90: -3.49061 | H90: 0.004713 | I90: GO:0050880 | J90: 1
A91: 88 | B91: GO:0008202 | C91: steroid metabolic process | D91: 231 | E91: 19 | F91: 2.423519 | G91: -3.474077 | H91: 0.005 | I91: GO:0008202 | J91: 1
... A160: 157 | B160: GO:0008217 | C160: regulation of blood pressure | D160: 95 | E160: 10 | F160: 3.101567 | G160: -2.853332 | H160: 0.019045 | I160: GO:0050880 | J160: 0
A161: 158 | B161: GO:0006916 | C161: anti-apoptosis | D161: 221 | E161: 17 | F161: 2.26653 | G161: -2.844586 | H161: 0.019051 | I161: NA | J161: NA
A162: 159 | B162: GO:0030030 | C162: cell projection organization | D162: 629 | E162: 36 | F162: 1.686385 | G162: -2.831876 | H162: 0.019057 | I162: GO:0030030 | J162: 1
A163: 160 | B163: GO:0042129 | C163: regulation of T cell proliferation | D163: 65 | E163: 8 | F163: 3.626448 | G163: -2.816539 | H163: 0.01908 | I163: GO:0042129 | J163: 1
A164: 161 | B164: GO:0032535 | C164: regulation of cellular component size | D164: 345 | E164: 23 | F164: 1.964326 | G164: -2.796764 | H164: 0.019096 | I164: GO:0050880 | J164: 0
A165: 162 | B165: GO:0030154 | C165: cell differentiation | D165: 1862 | E165: 86 | F165: 1.360892 | G165: -2.856952 | H165: 0.019097 | I165: GO:0048731 | J165: 0
A166: 163 | B166: GO:0045669 | C166: positive regulation of osteoblast differentiation | D166: 25 | E166: 5 | F166: 5.892978 | G166: -2.875766 | H166: 0.019145 | I166: GO:0045669 | J166: 1
A167: 164 | B167: GO:0007411 | C167: axon guidance | D167: 303 | E167: 21 | F167: 2.042121 | G167: -2.804462 | H167: 0.019146 | I167: GO:0030334 | J167: 0
A168: 165 | B168: GO:0048634 | C168: regulation of muscle organ development | D168: 51 | E168: 7 | F168: 4.044201 | G168: -2.803966 | H168: 0.019152 | I168: GO:0016202 | J168: 0
A169: 166 | B169: GO:0030168 | C169: platelet activation | D169: 222 | E169: 17 | F169: 2.25632 | G169: -2.823377 | H169: 0.019187 | I169: GO:0007596 | J169: 0
A170: 167 | B170: GO:0065007 | C170: biological regulation | D170: 6435 | E170: 248 | F170: 1.135554 | G170: -2.770936 | H170: 0.019822 | I170: GO:0065007 | J170: 1
A171: 168 | B171: GO:0046661 | C171: male sex differentiation | D171: 81 | E171: 9 | F171: 3.273877 | G171: -2.783924 | H171: 0.01988 | I171: GO:0048608 | J171: 0
A172: 169 | B172: GO:0060541 | C172: respiratory system development | D172: 114 | E172: 11 | F172: 2.843104 | G172: -2.774125 | H172: 0.01994 | I172: GO:0060541 | J172: 1
A173: 170 | B173: GO:0048667 | C173: cell morphogenesis involved in neuron differentiation | D173: 435 | E173: 27 | F173: 1.828855 | G173: -2.732274 | H173: 0.020814 | I173: GO:0031175 | J173: 0
... A189: 186 | B189: GO:0060548 | C189: negative regulation of cell death | D189: 402 | E189: 25 | F189: 1.832394 | G189: -2.579881 | H189: 0.025661 | I189: GO:0043066 | J189: 0
A190: 187 | B190: GO:0035467 | C190: negative regulation of signaling pathway | D190: 295 | E190: 20 | F190: 1.99762 | G190: -2.585084 | H190: 0.025745 | I190: NA | J190: NA
A191: 188 | B191: GO:0042098 | C191: T cell proliferation | D191: 86 | E191: 9 | F191: 3.083535 | G191: -2.602185 | H191: 0.025806 | I191: GO:0042129 | J191: 0
A192: 189 | B192: GO:0048869 | C192: cellular developmental process | D192: 1901 | E192: 86 | F192: 1.332972 | G192: -2.591604 | H192: 0.025829 | I192: GO:0048731 | J192: 0
A193: 190 | B193: GO:0055002 | C193: striated muscle cell development | D193: 71 | E193: 8 | F193: 3.319988 | G193: -2.56924 | H193: 0.025969 | I193: GO:0016202 | J193: 0
A194: 191 | B194: GO:0030510 | C194: regulation of BMP signaling pathway | D194: 29 | E194: 5 | F194: 5.080154 | G194: -2.574838 | H194: 0.026 | I194: GO:0007178 | J194: 0
A195: 192 | B195: GO:0030323 | C195: respiratory tube development | D195: 104 | E195: 10 | F195: 2.833163 | G195: -2.558129 | H195: 0.027732 | I195: GO:0030324 | J195: 0
A196: 193 | B196: GO:0010594 | C196: regulation of endothelial cell migration | D196: 42 | E196: 6 | F196: 4.20927 | G196: -2.56158 | H196: 0.027824 | I196: GO:0030334 | J196: 0
A197: 194 | B197: GO:0042310 | C197: vasoconstriction | D197: 42 | E197: 6 | F197: 4.20927 | G197: -2.56158 | H197: 0.027824 | I197: GO:0050880 | J197: 0
A198: 195 | B198: GO:0003254 | C198: regulation of membrane depolarization | D198: 9 | E198: 3 | F198: 9.82163 | G198: -2.553114 | H198: 0.0297 | I198: GO:0003254 | J198: 1
A199: 196 | B199: GO:0006707 | C199: cholesterol catabolic process | D199: 9 | E199: 3 | F199: 9.82163 | G199: -2.553114 | H199: 0.0297 | I199: GO:0008202 | J199: 0
A200: 197 | B200: GO:0016127 | C200: sterol catabolic process | D200: 9 | E200: 3 | F200: 9.82163 | G200: -2.553114 | H200: 0.0297 | I200: GO:0008202 | J200: 0
A201: 198 | B201: GO:0045885 | C201: positive regulation of survival gene product expression | D201: 9 | E201: 3 | F201: 9.82163 | G201: -2.553114 | H201: 0.0297 | I201: GO:0045885 | J201: 1
A202: 199 | B202: GO:0051489 | C202: regulation of filopodium assembly | D202: 9 | E202: 3 | F202: 9.82163 | G202: -2.553114 | H202: 0.0297 | I202: GO:0031175 | J202: 0
... A286: 283 | B286: GO:0060562 | C286: epithelial tube morphogenesis | D286: 137 | E286: 11 | F286: 2.365794 | G286: -2.158813 | H286: 0.049965 | I286: GO:0030324 | J286: 0

Sheet S16
A1: S16. Functional gene set enrichment analysis of DEGs in Adr of NMR-F-BvsN.
A3: Row | B3: GOID | C3: Description | D3: Genes | E3: DEGs | F3: Enrichment | G3: log10(pvalue) | H3: FDR | I3: REVIGO | J3: Representative
A4: 1 | B4: GO:0006412 | C4: translation | D4: 395 | E4: 20 | F4: 3.899696 | G4: -6.725157 | H4: 0 | I4: GO:0006412 | J4: 1
A5: 2 | B5: GO:0006414 | C5: translational elongation | D5: 100 | E5: 18 | F5: 13.863418 | G5: -15.295255 | H5: 0 | I5: GO:0006412 | J5: 0
A6: 3 | B6: GO:0006415 | C6: translational termination | D6: 90 | E6: 17 | F6: 14.548031 | G6: -14.834196 | H6: 0 | I6: GO:0032984 | J6: 0
A7: 4 | B7: GO:0019058 | C7: viral infectious cycle | D7: 193 | E7: 17 | F7: 6.784056 | G7: -9.311893 | H7: 0 | I7: GO:0019058 | J7: 1
A8: 5 | B8: GO:0019080 | C8: viral genome expression | D8: 135 | E8: 17 | F8: 9.698687 | G8: -11.812851 | H8: 0 | I8: GO:0019058 | J8: 0
A9: 6 | B9: GO:0019083 | C9: viral transcription | D9: 135 | E9: 17 | F9: 9.698687 | G9: -11.812851 | H9: 0 | I9: GO:0019058 | J9: 0
A10: 7 | B10: GO:0022411 | C10: cellular component disassembly | D10: 229 | E10: 23 | F10: 7.735531 | G10: -13.710266 | H10: 0 | I10: GO:0022411 | J10: 1
A11: 8 | B11: GO:0022415 | C11: viral reproductive process | D11: 210 | E11: 17 | F11: 6.23487 | G11: -8.744369 | H11: 0 | I11: NA | J11: NA
A12: 9 | B12: GO:0031016 | C12: pancreas development | D12: 130 | E12: 18 | F12: 10.664167 | G12: -13.216629 | H12: 0 | I12: GO:0031016 | J12: 1
A13: 10 | B13: GO:0031018 | C13: endocrine pancreas development | D13: 112 | E13: 17 | F13: 11.690382 | G13: -13.180104 | H13: 0 | I13: GO:0031018 | J13: 1
A14: 11 | B14: GO:0032984 | C14: macromolecular complex disassembly | D14: 155 | E14: 19 | F14: 9.441037 | G14: -12.944595 | H14: 0 | I14: GO:0032984 | J14: 1
A15: 12 | B15: GO:0034621 | C15: cellular macromolecular complex subunit organization | D15: 490 | E15: 22 | F15: 3.457995 | G15: -6.453946 | H15: 0 | I15: NA | J15: NA
A16: 13 | B16: GO:0034623 | C16: cellular macromolecular complex disassembly | D16: 152 | E16: 19 | F16: 9.627373 | G16: -13.10183 | H16: 0 | I16: NA | J16: NA
A17: 14 | B17: GO:0035270 | C17: endocrine system development | D17: 169 | E17: 18 | F17: 8.203206 | G17: -11.224401 | H17: 0 | I17: GO:0035270 | J17: 1
A18: 15 | B18: GO:0043241 | C18: protein complex disassembly | D18: 145 | E18: 19 | F18: 10.092143 | G18: -13.483184 | H18: 0 | I18: GO:0032984 | J18: 0
A19: 16 | B19: GO:0043624 | C19: cellular protein complex disassembly | D19: 142 | E19: 19 | F19: 10.305357 | G19: -13.653224 | H19: 0 | I19: GO:0032984 | J19: 0
A20: 17 | B20: GO:0048610 | C20: cellular process involved in reproduction | D20: 321 | E20: 20 | F20: 4.798691 | G20: -8.22163 | H20: 0 | I20: GO:0048610 | J20: 1
A21: 18 | B21: GO:0071822 | C21: protein complex subunit organization | D21: 600 | E21: 25 | F21: 3.209124 | G21: -6.67276 | H21: 0 | I21: GO:0032984 | J21: 0
A22: 19 | B22: GO:0071845 | C22: cellular component disassembly at cellular level | D22: 226 | E22: 23 | F22: 7.838216 | G22: -13.83469 | H22: 0 | I22: NA | J22: NA
A23: 20 | B23: GO:0043933 | C23: macromolecular complex subunit organization | D23: 787 | E23: 26 | F23: 2.544465 | G23: -5.038144 | H23: 0.001304 | I23: GO:0043933 | J23: 1
A24: 21 | B24: GO:0016032 | C24: viral reproduction | D24: 381 | E24: 17 | F24: 3.436543 | G24: -5.041459 | H24: 0.001364 | I24: GO:0019058 | J24: 0
A25: 22 | B25: GO:0000003 | C25: reproduction | D25: 879 | E25: 28 | F25: 2.453392 | G25: -5.106067 | H25: 0.001429 | I25: GO:0000003 | J25: 1
A26: 23 | B26: GO:0022414 | C26: reproductive process | D26: 878 | E26: 28 | F26: 2.456186 | G26: -5.115365 | H26: 0.0015 | I26: GO:0022414 | J26: 1
A27: 24 | B27: GO:0048513 | C27: organ development | D27: 1658 | E27: 42 | F27: 1.951024 | G27: -4.977248 | H27: 0.001667 | I27: GO:0048731 | J27: 0
A28: 25 | B28: GO:0048731 | C28: system development | D28: 2492 | E28: 54 | F28: 1.668951 | G28: -4.41962 | H28: 0.0024 | I28: GO:0048731 | J28: 1
A29: 26 | B29: GO:0048856 | C29: anatomical structure development | D29: 2733 | E29: 57 | F29: 1.606324 | G29: -4.196431 | H29: 0.003462 | I29: GO:0048731 | J29: 0
A30: 27 | B30: GO:0007275 | C30: multicellular organismal development | D30: 2985 | E30: 60 | F30: 1.54812 | G30: -3.958691 | H30: 0.003704 | I30: GO:0048731 | J30: 0
A31: 28 | B31: GO:0032501 | C31: multicellular organismal process | D31: 4220 | E31: 77 | F31: 1.405323 | G31: -3.759147 | H31: 0.005357 | I31: GO:0032501 | J31: 1
A32: 29 | B32: GO:0009310 | C32: amine catabolic process | D32: 95 | E32: 7 | F32: 5.675083 | G32: -3.635999 | H32: 0.007586 | I32: GO:0009310 | J32: 1
A33: 30 | B33: GO:0007599 | C33: hemostasis | D33: 366 | E33: 14 | F33: 2.946081 | G33: -3.532567 | H33: 0.011333 | I33: GO:0007599 | J33: 1
A34: 31 | B34: GO:0032502 | C34: developmental process | D34: 3261 | E34: 62 | F34: 1.464329 | G34: -3.386959 | H34: 0.013871 | I34: GO:0032502 | J34: 1
... A42: 39 | B42: GO:0046164 | C42: alcohol catabolic process | D42: 94 | E42: 6 | F42: 4.916106 | G42: -2.85856 | H42: 0.041282 | I42: GO:0009310 | J42: 0

Sheet S17
A1: S17. Functional gene set enrichment analysis of DEGs in Cer of NMR-F-BvsN.
A3: Row | B3: GOID | C3: Description | D3: Genes | E3: DEGs | F3: Enrichment | G3: log10(pvalue) | H3: FDR | I3: REVIGO | J3: Representative
A4: 1 | B4: GO:0006066 | C4: alcohol metabolic process | D4: 459 | E4: 6 | F4: 10.604793 | G4: -4.981454 | H4: 0 | I4: GO:0006066 | J4: 1
A5: 2 | B5: GO:0006082 | C5: organic acid metabolic process | D5: 737 | E5: 8 | F5: 8.806151 | G5: -6.115444 | H5: 0 | I5: GO:0032787 | J5: 0
A6: 3 | B6: GO:0009719 | C6: response to endogenous stimulus | D6: 569 | E6: 7 | F6: 9.980434 | G6: -5.660878 | H6: 0 | I6: GO:0009719 | J6: 1
A7: 4 | B7: GO:0009725 | C7: response to hormone stimulus | D7: 516 | E7: 7 | F7: 11.005556 | G7: -5.946058 | H7: 0 | I7: GO:0009725 | J7: 1
A8: 5 | B8: GO:0019752 | C8: carboxylic acid metabolic process | D8: 722 | E8: 8 | F8: 8.989104 | G8: -6.183727 | H8: 0 | I8: GO:0032787 | J8: 0
A9: 6 | B9: GO:0032787 | C9: monocarboxylic acid metabolic process | D9: 361 | E9: 6 | F9: 13.483657 | G9: -5.583524 | H9: 0 | I9: GO:0032787 | J9: 1
A10: 7 | B10: GO:0042180 | C10: cellular ketone metabolic process | D10: 739 | E10: 8 | F10: 8.782318 | G10: -6.10645 | H10: 0 | I10: GO:0042180 | J10: 1
A11: 8 | B11: GO:0043434 | C11: response to peptide hormone stimulus | D11: 278 | E11: 5 | F11: 14.591127 | G11: -4.82566 | H11: 0 | I11: GO:0009725 | J11: 0
A12: 9 | B12: GO:0043436 | C12: oxoacid metabolic process | D12: 722 | E12: 8 | F12: 8.989104 | G12: -6.183727 | H12: 0 | I12: GO:0032787 | J12: 0
A13: 10 | B13: GO:0051005 | C13: negative regulation of lipoprotein lipase activity | D13: 5 | E13: 2 | F13: 324.50667 | G13: -4.849183 | H13: 0 | I13: GO:0060192 | J13: 0
A14: 11 | B14: GO:0060192 | C14: negative regulation of lipase activity | D14: 7 | E14: 2 | F14: 231.79048 | G14: -4.527583 | H14: 0 | I14: GO:0060192 | J14: 1
A15: 12 | B15: GO:0044283 | C15: small molecule biosynthetic process | D15: 587 | E15: 6 | F15: 8.292334 | G15: -4.37374 | H15: 0.000769 | I15: GO:0032787 | J15: 0
... A96: 93 | B96: GO:0002683 | C96: negative regulation of immune system process | D96: 93 | E96: 2 | F96: 17.446595 | G96: -2.245139 | H96: 0.041304 | I96: GO:0002683 | J96: 1

Sheet S18
A1: S18. DEGs in intersection between NMR-F-BvsN and NMR-M-BvsN.
A3: Gene Symbols
A4: ADIPOQ, TAC4, ABLIM3, BIN1, CKMT2, EDIL3, GALNT16, GP2, USH1C, ADAM11, CPQ, CTSV, MPZ, PRDX1, PRKAR1A, SLC22A4, SUCLG2, ZFR2, ACSL1, COMT, GPNMB, MDH2, PGD, PLA2G16, RCAN2, RECK, SASH1, SCHIP1, SLC3A2, SOD1, ACADL, ACPP, BTG1, COX7A1, DHCR7, EDNRB, ELOVL5, ENPEP, EPHX1, FBP1, GABBR2, ICAM1, IL6ST, LAMB1, LMBRD1, OXCT1, RFTN1, RRAD, SCARB1, SERPINE2, SOBP, SSTR3, TMOD1, TNNI3, TRPC6

Sheet S19
A1: S19. Functional gene set enrichment analysis of DEGs in Tes of NMR-M-BvsN.
A3: Row | B3: GOID | C3: Description | D3: Genes | E3: DEGs | F3: Enrichment | G3: log10(pvalue) | H3: FDR | I3: REVIGO | J3: Representative
A4: 1 | B4: GO:0006006 | C4: glucose metabolic process | D4: 177 | E4: 17 | F4: 4.129944 | G4: -6.109111 | H4: 0 | I4: GO:0008610 | J4: 0
A5: 2 | B5: GO:0006066 | C5: alcohol metabolic process | D5: 459 | E5: 42 | F5: 3.934641 | G5: -13.75951 | H5: 0 | I5: GO:0006066 | J5: 1
A6: 3 | B6: GO:0006082 | C6: organic acid metabolic process | D6: 737 | E6: 47 | F6: 2.742198 | G6: -9.697731 | H6: 0 | I6: GO:0044282 | J6: 0
A7: 4 | B7: GO:0006091 | C7: generation of precursor metabolites and energy | D7: 383 | E7: 29 | F7: 3.255875 | G7: -7.677946 | H7: 0 | I7: GO:0006091 | J7: 1
A8: 5 | B8: GO:0006098 | C8: pentose-phosphate shunt | D8: 12 | E8: 5 | F8: 17.916667 | G8: -5.342059 | H8: 0 | I8: GO:0006732 | J8: 0
A9: 6 | B9: GO:0006629 | C9: lipid metabolic process | D9: 903 | E9: 64 | F9: 3.047619 | G9: -15.5267 | H9: 0 | I9: GO:0006629 | J9: 1
A10: 7 | B10: GO:0006631 | C10: fatty acid metabolic process | D10: 240 | E10: 21 | F10: 3.7625 | G10: -6.725548 | H10: 0 | I10: GO:0044282 | J10: 0
A11: 8 | B11: GO:0006638 | C11: neutral lipid metabolic process | D11: 83 | E11: 11 | F11: 5.698795 | G11: -5.489731 | H11: 0 | I11: GO:0008610 | J11: 0
A12: 9 | B12: GO:0006639 | C12: acylglycerol metabolic process | D12: 82 | E12: 11 | F12: 5.768293 | G12: -5.542534 | H12: 0 | I12: GO:0008610 | J12: 0
A13: 10 | B13: GO:0006641 | C13: triglyceride metabolic process | D13: 77 | E13: 10 | F13: 5.584416 | G13: -4.960559 | H13: 0 | I13: GO:0008610 | J13: 0
A14: 11 | B14: GO:0006662 | C14: glycerol ether metabolic process | D14: 95 | E14: 12 | F14: 5.431579 | G14: -5.711912 | H14: 0 | I14: GO:0006662 | J14: 1
A15: 12 | B15: GO:0006694 | C15: steroid biosynthetic process | D15: 115 | E15: 22 | F15: 8.226087 | G15: -13.779952 | H15: 0 | I15: GO:0008610 | J15: 0
... A131: 128 | B131: GO:0042743 | C131: hydrogen peroxide metabolic process | D131: 28 | E131: 4 | F131: 6.142857 | G131: -2.423049 | H131: 0.047188 | I131: GO:0042743 | J131: 1

Sheet S20
A1: S20. Functional gene set enrichemnt in cellular components of DEGs in Tes NMR-M-BvsN.
A3: Row | B3: GOID | C3: Description | D3: Genes | E3: DEGs | F3: Enrichment | G3: log10(pvalue) | H3: FDR | I3: REVIGO | J3: Representative
A4: 1 | B4: GO:0005739 | C4: mitochondrion | D4: 1200 | E4: 62 | F4: 2.150128 | G4: -8.298799 | H4: 0 | I4: GO:0005739 | J4: 1
A5: 2 | B5: GO:0005777 | C5: peroxisome | D5: 97 | E5: 13 | F5: 5.57732 | G5: -6.273861 | H5: 0 | I5: GO:0005777 | J5: 1
A6: 3 | B6: GO:0005789 | C6: endoplasmic reticulum membrane | D6: 585 | E6: 35 | F6: 2.489809 | G6: -6.211282 | H6: 0 | I6: GO:0005789 | J6: 1
A7: 4 | B7: GO:0005792 | C7: microsome | D7: 212 | E7: 19 | F7: 3.729681 | G7: -6.063947 | H7: 0 | I7: GO:0005792 | J7: 1
A8: 5 | B8: GO:0042175 | C8: nuclear membrane-endoplasmic reticulum network | D8: 597 | E8: 36 | F8: 2.50947 | G8: -6.459629 | H8: 0 | I8: GO:0042175 | J8: 1
A9: 6 | B9: GO:0042579 | C9: microbody | D9: 97 | E9: 13 | F9: 5.57732 | G9: -6.273861 | H9: 0 | I9: GO:0042579 | J9: 1
A10: 7 | B10: GO:0042598 | C10: vesicular fraction | D10: 219 | E10: 19 | F10: 3.610467 | G10: -5.850172 | H10: 0 | I10: GO:0042598 | J10: 1
A11: 8 | B11: GO:0044429 | C11: mitochondrial part | D11: 609 | E11: 35 | F11: 2.391689 | G11: -5.808197 | H11: 0 | I11: GO:0005759 | J11: 0
A12: 9 | B12: GO:0044444 | C12: cytoplasmic part | D12: 5225 | E12: 168 | F12: 1.338064 | G12: -6.040913 | H12: 0 | I12: GO:0044444 | J12: 1
A13: 10 | B13: GO:0005783 | C13: endoplasmic reticulum | D13: 965 | E13: 45 | F13: 1.940614 | G13: -4.881355 | H13: 0.000833 | I13: GO:0005783 | J13: 1
A14: 11 | B14: GO:0005737 | C14: cytoplasm | D14: 7208 | E14: 211 | F14: 1.218208 | G14: -4.94204 | H14: 0.000909 | I14: GO:0005737 | J14: 1
A15: 12 | B15: GO:0044432 | C15: endoplasmic reticulum part | D15: 663 | E15: 35 | F15: 2.196891 | G15: -4.990528 | H15: 0.001 | I15: GO:0005789 | J15: 0
... A33: 30 | B33: GO:0016021 | C33: integral to membrane | D33: 4145 | E33: 123 | F33: 1.234908 | G33: -2.518979 | H33: 0.042857 | I33: GO:0031224 | J33: 0

Sheet S21
A1: S21. Functional gene set enrichment analysis of DEGs in Skn of NMR-M-BvsN.
A3: Row | B3: GOID | C3: Description | D3: Genes | E3: DEGs | F3: Enrichment | G3: log10(pvalue) | H3: FDR | I3: REVIGO | J3: Representative
A4: 1 | B4: GO:0000272 | C4: polysaccharide catabolic process | D4: 39 | E4: 7 | F4: 11.680104 | G4: -5.736258 | H4: 0 | I4: GO:0044262 | J4: 0
A5: 2 | B5: GO:0005975 | C5: carbohydrate metabolic process | D5: 557 | E5: 27 | F5: 3.154437 | G5: -6.974425 | H5: 0 | I5: GO:0005975 | J5: 1
A6: 3 | B6: GO:0005996 | C6: monosaccharide metabolic process | D6: 245 | E6: 21 | F6: 5.577846 | G6: -9.783978 | H6: 0 | I6: GO:0044262 | J6: 0
A7: 4 | B7: GO:0006006 | C7: glucose metabolic process | D7: 177 | E7: 19 | F7: 6.985438 | G7: -10.578664 | H7: 0 | I7: GO:0044262 | J7: 0
A8: 5 | B8: GO:0006066 | C8: alcohol metabolic process | D8: 459 | E8: 25 | F8: 3.544383 | G8: -7.452025 | H8: 0 | I8: GO:0006066 | J8: 1
A9: 6 | B9: GO:0006084 | C9: acetyl-CoA metabolic process | D9: 40 | E9: 10 | F9: 16.268717 | G9: -9.484103 | H9: 0 | I9: GO:0051187 | J9: 0
A10: 7 | B10: GO:0006090 | C10: pyruvate metabolic process | D10: 66 | E10: 9 | F10: 8.873845 | G10: -6.163654 | H10: 0 | I10: GO:0043648 | J10: 0
A11: 8 | B11: GO:0006091 | C11: generation of precursor metabolites and energy | D11: 383 | E11: 41 | F11: 6.966239 | G11: -22.735607 | H11: 0 | I11: GO:0006091 | J11: 1
A12: 9 | B12: GO:0006099 | C12: tricarboxylic acid cycle | D12: 25 | E12: 8 | F12: 20.823957 | G12: -8.635327 | H12: 0 | I12: GO:0015980 | J12: 0
A13: 10 | B13: GO:0006119 | C13: oxidative phosphorylation | D13: 53 | E13: 8 | F13: 9.822621 | G13: -5.881459 | H13: 0 | I13: GO:0015980 | J13: 0
A14: 11 | B14: GO:0009056 | C14: catabolic process | D14: 1254 | E14: 43 | F14: 2.231435 | G14: -6.518187 | H14: 0 | I14: GO:0009056 | J14: 1
A15: 12 | B15: GO:0009060 | C15: aerobic respiration | D15: 36 | E15: 10 | F15: 18.076352 | G15: -9.984054 | H15: 0 | I15: GO:0015980 | J15: 0
... A124: 121 | B124: GO:0014823 | C124: response to activity | D124: 20 | E124: 3 | F124: 9.76123 | G124: -2.47397 | H124: 0.043719 | I124: GO:0014823 | J124: 1

Sheet S22
A1: S22. Proportion of mitochondrial transcriptonal output.
A3: tissue | B3: GP* | C3: NMR* | D3: GP - NMR
A4: heart | B4: 30.37±6.46 | C4: 30.13 ±1.79 | D4: 0.2397931
A5: skin | B5: 12.65±3.15 | C5: 18.05±2.9 | D5: -5.3952385
A6: liver | B6: 8.21±1.7 | C6: 9.67±3.38 | D6: -1.4555817
A7: kidney | B7: 23.43±9.26 | C7: 16.36±2.32 | D7: 7.065641
A8: cerebellum | B8: 5.51±0.42 | C8: 6.67±0.61 | D8: -1.1614823
A9: hypothalamus | B9: 10.11±1.94 | C9: 7.83±0.99 | D9: 2.2774783
A10: pituitary | B10: 3.51±0.41 | C10: 5.9±1.76 | D10: -2.3850462
A11: thyroid | B11: 6.26±1.54 | C11: 10.71±3.8 | D11: -4.4490121
A12: adrenal gland | B12: 24±13.11 | C12: 24±8.33 | D12: 0
A13: testis | B13: 0.9±0.1 | C13: 5.53±1.3 | D13: -4.6283087
A14: ovary | B14: 3.89±0.43 | C14: 5.62±0.87 | D14: -1.7309935
A16: * mean across samples ± standard deviation

Sheet S23
A1: S23. Differentially expressed nuclear genes (FDR<0.05) associated with mitochondrial respiratory chain complexes in Tes and Skn of NMR-M-BvsN.
A3: Row | B3: Gene Symbol | C3: tissue | D3: log2FoldChange
A4: 1 | B4: ATP5B | C4: Skn | D4: -0.74946176
A5: 2 | B5: ATP5C1 | C5: Skn | D5: -0.97828264
A6: 3 | B6: ATP5F1 | C6: Skn | D6: -0.8355911
A7: 4 | B7: ATP5G1 | C7: Skn | D7: -0.89372109
A8: 5 | B8: ATP5G3 | C8: Skn | D8: -0.90729026
A9: 6 | B9: ATP5H | C9: Skn | D9: -0.89125985
A10: 7 | B10: ATP5L | C10: Skn | D10: -1.0861295
A11: 8 | B11: ATP5O | C11: Skn | D11: -0.90963256
A12: 9 | B12: COX4I1 | C12: Skn | D12: -0.76923301
A13: 10 | B13: COX5A | C13: Skn | D13: -1.0128127
A14: 11 | B14: COX5B | C14: Skn | D14: -0.79581138
A15: 12 | B15: COX6A2 | C15: Skn | D15: -1.1327381
... A95: 92 | B95: UQCRFS1 | C95: Gon | D95: 0.27721914

Sheet S24
A1: S24. Antioxidant enzymes differentially expressed in Tes and Skn of NMR-M-BvsN (FDR<0.05)
A3: Row | B3: Gene Symbol | C3: tissue | D3: log2FoldChange
A4: 1 | B4: CAT | C4: Tes | D4: 0.68
A5: 2 | B5: GPX1 | C5: Tes | D5: 0.67
A6: 3 | B6: PRDX1 | C6: Tes | D6: 0.47
A7: 4 | B7: PRDX2 | C7: Tes | D7: 0.32
A8: 5 | B8: PRDX3 | C8: Tes | D8: 0.86
A9: 6 | B9: PRDX5 | C9: Tes | D9: 0.74
A10: 7 | B10: SOD1 | C10: Tes | D10: 0.88
A11: 8 | B11: SOD2 | C11: Tes | D11: 0.64
A12: 9 | B12: PRDX3 | C12: Skn | D12: -1.1
A13: 10 | B13: SOD2 | C13: Skn | D13: -1.4

Sheet S25
A1: S25. Enrichment of age-related genes (Digital Ageing Atlas) in status-related DEGs. Only tissues having at least 50 DEGs were tested for enrichment.
A3: species | B3: sex | C3: tissue | D3: DEGs | E3: age-related | F3: age-related (%) | G3: p-value | H3: FDR
A4: NMR | B4: male | C4: skin | D4: 223 | E4: 55 | F4: 0.24663677 | G4: 0.00040031764 | H4: 0.001200953
A5: NMR | B5: male | C5: testis | D5: 381 | E5: 80 | F5: 0.20997375 | G5: 0.0042232004 | H5: 0.01013568
A6: NMR | B6: male | C6: non-redundant DEGs | D6: 598 | E6: 134 | F6: 0.22408027 | G6: 1.1346919e-05 | H6: 4.538767e-05
A7: NMR | B7: female | C7: pituitary | D7: 114 | E7: 24 | F7: 0.21052632 | G7: 0.08407322 | H7: 0.09580055
A8: NMR | B8: female | C8: thyroid | D8: 285 | E8: 59 | F8: 0.20701754 | G8: 0.01670552 | H8: 0.03341104
A9: NMR | B9: female | C9: adrenal gland | D9: 201 | E9: 43 | F9: 0.21393035 | G9: 0.0221123 | H9: 0.0379068
A10: NMR | B10: female | C10: ovary | D10: 502 | E10: 127 | F10: 0.25298805 | G10: 2.0437816e-08 | H10: 1.226269e-07
A11: NMR | B11: female | C11: non-redundant DEGs | D11: 1078 | E11: 245 | F11: 0.22727273 | G11: 5.8661049e-10 | H11: 7.039326e-09
A12: GP | B12: female | C12: liver | D12: 71 | E12: 16 | F12: 0.22535211 | G12: 0.087817166 | H12: 0.09580055
A13: GP | B13: female | C13: pituitary | D13: 114 | E13: 24 | F13: 0.21052632 | G13: 0.085025226 | H13: 0.09580055
A14: GP | B14: female | C14: thyroid | D14: 675 | E14: 113 | F14: 0.16740741 | G14: 0.27637499 | H14: 0.276375
A15: GP | B15: female | C15: non-redundant DEGs | D15: 883 | E15: 160 | F15: 0.18120045 | G15: 0.034177836 | H15: 0.05126675

Sheet S26
A1: S26. Shared status-related DEGs between NMR and GP.
A3: Gene Symbol | B3: tissue | C3: sex | D3: log2FC.NMR | E3: log2FC.GP | F3: same.direction | G3: daad
A4: AHCYL2 | B4: Thy | C4: female | D4: 0.70248259 | E4: -0.85973458 | F4: FALSE | G4: TRUE
A5: B4GALNT1 | B5: Thy | C5: female | D5: -0.68101399 | E5: 0.64965233 | F5: FALSE | G5: FALSE
A6: CAPN11 | B6: Thy | C6: female | D6: -0.9674094 | E6: 0.79589708 | F6: FALSE | G6: FALSE
A7: DFFA | B7: Thy | C7: female | D7: 0.60239203 | E7: -0.6897363 | F7: FALSE | G7: FALSE
A8: HNRNPH2 | B8: Thy | C8: female | D8: 0.40166872 | E8: -0.70107739 | F8: FALSE | G8: FALSE
A9: NKG7 | B9: Thy | C9: female | D9: -0.8044754 | E9: 1.0511024 | F9: FALSE | G9: FALSE
A10: SLC24A5 | B10: Thy | C10: female | D10: -0.67603151 | E10: 0.44323917 | F10: FALSE | G10: FALSE
A11: TOM1 | B11: Thy | C11: female | D11: -0.48543449 | E11: 0.35644896 | F11: FALSE | G11: FALSE
A12: FGFR2 | B12: Ova | C12: female | D12: -0.35645653 | E12: 0.66370434 | F12: FALSE | G12: FALSE
A13: KCNK2 | B13: Ova | C13: female | D13: 2.3516964 | E13: 0.95739792 | F13: TRUE | G13: TRUE
A14: BTBD11 | B14: Pit | C14: female | D14: -1.3588963 | E14: -0.61603216 | F14: TRUE | G14: TRUE
A15: PIR | B15: Pir | C15: male | D15: 0.80892124 | E15: -0.7131255 | F15: FALSE | G15: FALSE

Sheet S27
A1: S27. FDR values (Fisher's exact test) for overlap between Digital Ageing Atlas and upper quintile of status-related expression differences having the greatest interspecies difference. Three groups were investigated: (i) opposing and (ii) same direction of expression in both species as well as (iii) independent of direction. Further, in each group direction in each species was tested separately.
A3: sex | B3: direction between NMR and GP | C3: direction in NMR | D3: Hrt | E3: Skn | F3: Lvr | G3: Kid | H3: Cer | I3: Hyp | J3: Pit | K3: Thy | L3: Adr | M3: Gon
A4: females | B4: independent | C4: total | D4: 0.0044 | E4: 0.3308 | F4: 0.3308 | G4: 0.3039 | H4: 0.3039 | I4: 0.8643 | J4: 0.014 | K4: 0.916 | L4: 0.6699 | M4: 0.0004
A5: females | B5: independent | C5: NMR up | D5: 0.0006 | E5: 0.8883 | F5: 0.1429 | G5: 0.5888 | H5: 0.9977 | I5: 0.1429 | J5: 0.0056 | K5: 0.9977 | L5: 0.8883 | M5: 0.0464
A6: females | B6: independent | C6: NMR down | D6: 0.513 | E6: 0.0775 | F6: 0.9908 | G6: 0.4607 | H6: 0.0157 | I6: 0.9908 | J6: 0.4607 | K6: 0.2957 | L6: 0.4607 | M6: 0.0157
A7: females | B7: independent | C7: GP up | D7: 0.3166 | E7: 0.4707 | F7: 0.9761 | G7: 0.4707 | H7: 0.0146 | I7: 0.9761 | J7: 0.433 | K7: 0.4127 | L7: 0.8847 | M7: 0.0326
A8: females | B8: independent | C8: GP down | D8: 0.0249 | E8: 0.245 | F8: 0.0978 | G8: 0.411 | H8: 0.9958 | I8: 0.4007 | J8: 0.0978 | K8: 0.9958 | L8: 0.7463 | M8: 0.0282
A9: females | B9: opposing | C9: total | D9: 0.0024 | E9: 0.8785 | F9: 0.6698 | G9: 0.2396 | H9: 0.1049 | I9: 0.9918 | J9: 0.0053 | K9: 0.7117 | L9: 0.8327 | M9: 0.0013
A10: females | B10: opposing | C10: NMR down | D10: 0.2722 | E10: 0.7278 | F10: 0.9826 | G10: 0.4071 | H10: 0.0166 | I10: 0.9826 | J10: 0.0827 | K10: 0.2722 | L10: 0.9826 | M10: 0.0039
A11: females | B11: opposing | C11: NMR up | D11: 0.0042 | E11: 0.9012 | F11: 0.4464 | G11: 0.3041 | H11: 0.9012 | I11: 0.9012 | J11: 0.0397 | K11: 0.9012 | L11: 0.6003 | M11: 0.0397
A12: females | B12: same | C12: total | D12: 0.1414 | E12: 0.1031 | F12: 0.9766 | G12: 0.5882 | H12: 0.1952 | I12: 0.1624 | J12: 0.9766 | K12: 0.1624 | L12: 0.0162 | M12: 0.0443
A13: females | B13: same | C13: both down | D13: 0.5854 | E13: 0.0064 | F13: 0.9026 | G13: 0.9026 | H13: 0.7633 | I13: 0.9026 | J13: 0.9026 | K13: 0.1383 | L13: 0.0024 | M13: 0.0125
A14: females | B14: same | C14: both up | D14: 0.2312 | E14: 0.9095 | F14: 0.9095 | G14: 0.2612 | H14: 0.353 | I14: 0.1051 | J14: 0.9095 | K14: 0.9095 | L14: 0.4386 | M14: 0.5741
A15: males | B15: independent | C15: total | D15: 0.4032 | E15: 0.0297 | F15: 0.5138 | G15: 0.2024 | H15: 0.7359 | I15: 0.4032 | J15: 0.2024 | K15: 0.0096 | L15: 0.0431 | M15: 0.9945
... A25: males | B25: same | C25: both up | D25: 0.7815 | E25: 0.0003 | F25: 0.9311 | G25: 0.9311 | H25: 0.9311 | I25: 0.9311 | J25: 0.9311 | K25: 0.0518 | L25: 0.0984 | M25: 0.0025

Sheet S28
A1: S28. Functional enrichment analysis of the non-redundant set of ageing-related 20%-quantiles that show the greatest interspecies diﬀerence in males (Skn, Tes).
A3: Row | B3: GOID | C3: Description | D3: Genes | E3: DEGs | F3: Enrichment | G3: log10(pvalue) | H3: FDR | I3: REVIGO | J3: Representative
A4: 1 | B4: GO:0003012 | C4: muscle system process | D4: 199 | E4: 61 | F4: 1.892557 | G4: -6.645255 | H4: 0 | I4: GO:0003012 | J4: 1
A5: 2 | B5: GO:0005975 | C5: carbohydrate metabolic process | D5: 531 | E5: 135 | F5: 1.569681 | G5: -7.784834 | H5: 0 | I5: GO:0005975 | J5: 1
A6: 3 | B6: GO:0005996 | C6: monosaccharide metabolic process | D6: 236 | E6: 77 | F6: 2.014424 | G6: -9.611627 | H6: 0 | I6: GO:0044262 | J6: 0
A7: 4 | B7: GO:0006006 | C7: glucose metabolic process | D7: 170 | E7: 64 | F7: 2.32436 | G7: -11.061614 | H7: 0 | I7: GO:0044262 | J7: 0
A8: 5 | B8: GO:0006066 | C8: alcohol metabolic process | D8: 437 | E8: 137 | F8: 1.935581 | G8: -15.112789 | H8: 0 | I8: GO:0006066 | J8: 1
A9: 6 | B9: GO:0006082 | C9: organic acid metabolic process | D9: 702 | E9: 209 | F9: 1.838152 | G9: -20.037872 | H9: 0 | I9: GO:0044282 | J9: 0
A10: 7 | B10: GO:0006084 | C10: acetyl-CoA metabolic process | D10: 40 | E10: 25 | F10: 3.8588 | G10: -10.307419 | H10: 0 | I10: GO:0006732 | J10: 0
A11: 8 | B11: GO:0006090 | C11: pyruvate metabolic process | D11: 65 | E11: 28 | F11: 2.659604 | G11: -6.603974 | H11: 0 | I11: GO:0043648 | J11: 0
A12: 9 | B12: GO:0006091 | C12: generation of precursor metabolites and energy | D12: 360 | E12: 160 | F12: 2.744036 | G12: -37.226858 | H12: 0 | I12: GO:0006091 | J12: 1
A13: 10 | B13: GO:0006099 | C13: tricarboxylic acid cycle | D13: 25 | E13: 19 | F13: 4.692301 | G13: -10.237752 | H13: 0 | I13: GO:0015980 | J13: 0
A14: 11 | B14: GO:0006119 | C14: oxidative phosphorylation | D14: 52 | E14: 37 | F14: 4.393096 | G14: -17.830765 | H14: 0 | I14: GO:0015980 | J14: 0
A15: 12 | B15: GO:0006120 | C15: mitochondrial electron transport NADH to ubiquinone | D15: 34 | E15: 25 | F15: 4.539765 | G15: -12.757676 | H15: 0 | I15: GO:0015980 | J15: 0
... A154: 151 | B154: GO:0018212 | C154: peptidyl-tyrosine modification | D154: 97 | E154: 29 | F154: 1.845859 | G154: -3.287925 | H154: 0.007682 | I154: GO:0018108 | J154: 0
A155: 152 | B155: GO:0045426 | C155: quinone cofactor biosynthetic process | D155: 11 | E155: 7 | F155: 3.92896 | G155: -3.283151 | H155: 0.007974 | I155: NA | J155: NA
A156: 153 | B156: GO:0090181 | C156: regulation of cholesterol metabolic process | D156: 11 | E156: 7 | F156: 3.92896 | G156: -3.283151 | H156: 0.007974 | I156: GO:0008610 | J156: 0
A157: 154 | B157: GO:0042375 | C157: quinone cofactor metabolic process | D157: 14 | E157: 8 | F157: 3.528046 | G157: -3.253805 | H157: 0.009026 | I157: NA | J157: NA
A158: 155 | B158: GO:0006534 | C158: cysteine metabolic process | D158: 6 | E158: 5 | F158: 5.145067 | G158: -3.239525 | H158: 0.010065 | I158: GO:0006749 | J158: 0
A159: 156 | B159: GO:0046320 | C159: regulation of fatty acid oxidation | D159: 31 | E159: 13 | F159: 2.58913 | G159: -3.233684 | H159: 0.010192 | I159: GO:0015980 | J159: 0
A160: 157 | B160: GO:0016337 | C160: cell-cell adhesion | D160: 264 | E160: 63 | F160: 1.47336 | G160: -3.141333 | H160: 0.010955 | I160: GO:0016337 | J160: 1
A161: 158 | B161: GO:0010565 | C161: regulation of cellular ketone metabolic process | D161: 118 | E161: 33 | F161: 1.72665 | G161: -3.083336 | H161: 0.011491 | I161: GO:0006732 | J161: 0
A162: 159 | B162: GO:0002221 | C162: pattern recognition receptor signaling pathway | D162: 77 | E162: 24 | F162: 1.924389 | G162: -3.102399 | H162: 0.0115 | I162: GO:0002758 | J162: 0
A163: 160 | B163: GO:0006839 | C163: mitochondrial transport | D163: 77 | E163: 24 | F163: 1.924389 | G163: -3.102399 | H163: 0.0115 | I163: GO:0006839 | J163: 1
A164: 161 | B164: GO:0045454 | C164: cell redox homeostasis | D164: 64 | E164: 21 | F164: 2.02587 | G164: -3.106537 | H164: 0.011646 | I164: GO:0045454 | J164: 1
A165: 162 | B165: GO:0009201 | C165: ribonucleoside triphosphate biosynthetic process | D165: 82 | E165: 25 | F165: 1.882342 | G165: -3.050509 | H165: 0.012147 | I165: GO:0042776 | J165: 0
A166: 163 | B166: GO:0009206 | C166: purine ribonucleoside triphosphate biosynthetic process | D166: 82 | E166: 25 | F166: 1.882342 | G166: -3.050509 | H166: 0.012147 | I166: GO:0042776 | J166: 0
A167: 164 | B167: GO:0051881 | C167: regulation of mitochondrial membrane potential | D167: 18 | E167: 9 | F167: 3.08704 | G167: -3.043992 | H167: 0.012317 | I167: GO:0051881 | J167: 1
A168: 165 | B168: GO:0002218 | C168: activation of innate immune response | D168: 78 | E168: 24 | F168: 1.899717 | G168: -3.013757 | H168: 0.013614 | I168: GO:0002758 | J168: 0
A169: 166 | B169: GO:0002758 | C169: innate immune response-activating signal transduction | D169: 78 | E169: 24 | F169: 1.899717 | G169: -3.013757 | H169: 0.013614 | I169: GO:0002758 | J169: 1
... A271: 268 | B271: GO:0071705 | C271: nitrogen compound transport | D271: 146 | E271: 36 | F271: 1.522376 | G271: -2.276494 | H271: 0.049963 | I271: GO:0071705 | J271: 1

Sheet S29
A1: S29. Functional enrichment analysis of the non-redundant set of ageing-related 20%-quantiles that show the greatest interspecies diﬀerence in females (Hrt, Pit, Ovr).
A3: Row | B3: GOID | C3: Description | D3: Genes | E3: DEGs | F3: Enrichment | G3: log10(pvalue) | H3: FDR | I3: REVIGO | J3: Representative
A4: 1 | B4: GO:0000902 | C4: cell morphogenesis | D4: 522 | E4: 192 | F4: 1.47061 | G4: -9.182171 | H4: 0 | I4: GO:0032990 | J4: 0
A5: 2 | B5: GO:0000904 | C5: cell morphogenesis involved in differentiation | D5: 455 | E5: 170 | F5: 1.493841 | G5: -8.764495 | H5: 0 | I5: GO:0032990 | J5: 0
A6: 3 | B6: GO:0001525 | C6: angiogenesis | D6: 213 | E6: 92 | F6: 1.726932 | G6: -8.411575 | H6: 0 | I6: GO:0072358 | J6: 0
A7: 4 | B7: GO:0001568 | C7: blood vessel development | D7: 302 | E7: 125 | F7: 1.654893 | G7: -9.723822 | H7: 0 | I7: GO:0072358 | J7: 0
A8: 5 | B8: GO:0001775 | C8: cell activation | D8: 525 | E8: 191 | F8: 1.454591 | G8: -8.693755 | H8: 0 | I8: GO:0001775 | J8: 1
A9: 6 | B9: GO:0001944 | C9: vasculature development | D9: 312 | E9: 129 | F9: 1.653111 | G9: -9.979184 | H9: 0 | I9: GO:0072358 | J9: 0
A10: 7 | B10: GO:0002253 | C10: activation of immune response | D10: 190 | E10: 76 | F10: 1.599289 | G10: -5.485064 | H10: 0 | I10: GO:0006959 | J10: 0
A11: 8 | B11: GO:0002376 | C11: immune system process | D11: 1014 | E11: 344 | F11: 1.356399 | G11: -10.789794 | H11: 0 | I11: GO:0002376 | J11: 1
A12: 9 | B12: GO:0002682 | C12: regulation of immune system process | D12: 502 | E12: 186 | F12: 1.481413 | G12: -9.203286 | H12: 0 | I12: GO:0048534 | J12: 0
A13: 10 | B13: GO:0002684 | C13: positive regulation of immune system process | D13: 343 | E13: 131 | F13: 1.527018 | G13: -7.531392 | H13: 0 | I13: GO:0006959 | J13: 0
A14: 11 | B14: GO:0002685 | C14: regulation of leukocyte migration | D14: 37 | E14: 23 | F14: 2.485381 | G14: -5.734509 | H14: 0 | I14: GO:0030334 | J14: 0
A15: 12 | B15: GO:0003013 | C15: circulatory system process | D15: 210 | E15: 84 | F15: 1.599289 | G15: -5.993979 | H15: 0 | I15: GO:0008015 | J15: 0
... A51: 48 | B51: GO:0022610 | C51: biological adhesion | D51: 709 | E51: 277 | F51: 1.56207 | G51: -17.008587 | H51: 0 | I51: GO:0022610 | J51: 1
A52: 49 | B52: GO:0023033 | C52: signaling pathway | D52: 2415 | E52: 738 | F52: 1.221817 | G52: -11.797474 | H52: 0 | I52: NA | J52: NA
A53: 50 | B53: GO:0023046 | C53: signaling process | D53: 2348 | E53: 713 | F53: 1.214111 | G53: -10.711643 | H53: 0 | I53: NA | J53: NA
A54: 51 | B54: GO:0023052 | C54: signaling | D54: 3210 | E54: 985 | F54: 1.226869 | G54: -17.575642 | H54: 0 | I54: GO:0023052 | J54: 1
A55: 52 | B55: GO:0023060 | C55: signal transmission | D55: 2345 | E55: 713 | F55: 1.215664 | G55: -10.835128 | H55: 0 | I55: GO:0023060 | J55: 1
A56: 53 | B56: GO:0030030 | C56: cell projection organization | D56: 589 | E56: 199 | F56: 1.350842 | G56: -6.221466 | H56: 0 | I56: GO:0030030 | J56: 1
A57: 54 | B57: GO:0030154 | C57: cell differentiation | D57: 1708 | E57: 548 | F57: 1.282802 | G57: -12.333509 | H57: 0 | I57: GO:0048731 | J57: 0
A58: 55 | B58: GO:0030168 | C58: platelet activation | D58: 208 | E58: 84 | F58: 1.614667 | G58: -6.198615 | H58: 0 | I58: GO:0042060 | J58: 0
A59: 56 | B59: GO:0030182 | C59: neuron differentiation | D59: 644 | E59: 223 | F59: 1.384477 | G59: -7.901902 | H59: 0 | I59: GO:0031175 | J59: 0
A60: 57 | B60: GO:0030334 | C60: regulation of cell migration | D60: 208 | E60: 85 | F60: 1.633889 | G60: -6.525715 | H60: 0 | I60: GO:0030334 | J60: 1
A61: 58 | B61: GO:0030855 | C61: epithelial cell differentiation | D61: 144 | E61: 71 | F61: 1.971346 | G61: -9.644128 | H61: 0 | I61: GO:0030855 | J61: 1
A62: 59 | B62: GO:0031175 | C62: neuron projection development | D62: 466 | E62: 171 | F62: 1.467159 | G62: -8.14437 | H62: 0 | I62: GO:0031175 | J62: 1
A63: 60 | B63: GO:0032101 | C63: regulation of response to external stimulus | D63: 187 | E63: 77 | F63: 1.646327 | G63: -6.127238 | H63: 0 | I63: GO:0051707 | J63: 0
A64: 61 | B64: GO:0032103 | C64: positive regulation of response to external stimulus | D64: 80 | E64: 40 | F64: 1.999111 | G64: -5.917738 | H64: 0 | I64: GO:0051707 | J64: 0
A65: 62 | B65: GO:0032501 | C65: multicellular organismal process | D65: 3794 | E65: 1105 | F65: 1.164479 | G65: -12.238783 | H65: 0 | I65: GO:0032501 | J65: 1
... A68: 65 | B68: GO:0032990 | C68: cell part morphogenesis | D68: 439 | E68: 161 | F68: 1.466318 | G68: -7.679248 | H68: 0 | I68: GO:0032990 | J68: 1
A69: 66 | B69: GO:0035468 | C69: positive regulation of signaling pathway | D69: 351 | E69: 126 | F69: 1.435259 | G69: -5.578606 | H69: 0 | I69: NA | J69: NA
A70: 67 | B70: GO:0040011 | C70: locomotion | D70: 785 | E70: 291 | F70: 1.482143 | G70: -14.294461 | H70: 0 | I70: GO:0040011 | J70: 1
A71: 68 | B71: GO:0040012 | C71: regulation of locomotion | D71: 233 | E71: 92 | F71: 1.578697 | G71: -6.205916 | H71: 0 | I71: GO:0030334 | J71: 0
A72: 69 | B72: GO:0042060 | C72: wound healing | D72: 418 | E72: 154 | F72: 1.473029 | G72: -7.519075 | H72: 0 | I72: GO:0042060 | J72: 1
A73: 70 | B73: GO:0042127 | C73: regulation of cell proliferation | D73: 754 | E73: 264 | F73: 1.399908 | G73: -9.849767 | H73: 0 | I73: GO:0008284 | J73: 0
A74: 71 | B74: GO:0042221 | C74: response to chemical stimulus | D74: 1655 | E74: 542 | F74: 1.309387 | G74: -14.014065 | H74: 0 | I74: GO:0042221 | J74: 1
A75: 72 | B75: GO:0042330 | C75: taxis | D75: 416 | E75: 163 | F75: 1.566611 | G75: -10.226472 | H75: 0 | I75: GO:0030334 | J75: 0
A76: 73 | B76: GO:0048468 | C76: cell development | D76: 876 | E76: 294 | F76: 1.341869 | G76: -8.671392 | H76: 0 | I76: GO:0048731 | J76: 0
A77: 74 | B77: GO:0048514 | C77: blood vessel morphogenesis | D77: 255 | E77: 105 | F77: 1.646327 | G77: -8.119972 | H77: 0 | I77: GO:0072358 | J77: 0
A78: 75 | B78: GO:0048518 | C78: positive regulation of biological process | D78: 2081 | E78: 628 | F78: 1.206575 | G78: -8.76405 | H78: 0 | I78: GO:0048518 | J78: 1
A79: 76 | B79: GO:0048519 | C79: negative regulation of biological process | D79: 1934 | E79: 575 | F79: 1.188716 | G79: -6.916307 | H79: 0 | I79: GO:0048519 | J79: 1
A80: 77 | B80: GO:0048522 | C80: positive regulation of cellular process | D80: 1875 | E80: 553 | F80: 1.179209 | G80: -6.129476 | H80: 0 | I80: GO:0048522 | J80: 1
A81: 78 | B81: GO:0048523 | C81: negative regulation of cellular process | D81: 1799 | E81: 533 | F81: 1.184576 | G81: -6.173021 | H81: 0 | I81: GO:0048523 | J81: 1
... A145: 142 | B145: GO:0003018 | C145: vascular process in circulatory system | D145: 82 | E145: 38 | F145: 1.852835 | G145: -4.670204 | H145: 0.000435 | I145: GO:0008015 | J145: 0
A146: 143 | B146: GO:0010740 | C146: positive regulation of intracellular protein kinase cascade | D146: 205 | E146: 78 | F146: 1.521275 | G146: -4.672261 | H146: 0.000438 | I146: NA | J146: NA
A147: 144 | B147: GO:0035466 | C147: regulation of signaling pathway | D147: 1010 | E147: 308 | F147: 1.21926 | G147: -4.69166 | H147: 0.000441 | I147: NA | J147: NA
A148: 145 | B148: GO:0008219 | C148: cell death | D148: 1204 | E148: 361 | F148: 1.198802 | G148: -4.708083 | H148: 0.000444 | I148: GO:0008219 | J148: 1
A149: 146 | B149: GO:0070887 | C149: cellular response to chemical stimulus | D149: 557 | E149: 182 | F149: 1.306421 | G149: -4.730943 | H149: 0.000448 | I149: GO:0010033 | J149: 0
A150: 147 | B150: GO:0006793 | C150: phosphorus metabolic process | D150: 1148 | E150: 346 | F150: 1.205039 | G150: -4.73565 | H150: 0.000451 | I150: GO:0006793 | J150: 1
A151: 148 | B151: GO:0006796 | C151: phosphate metabolic process | D151: 1148 | E151: 346 | F151: 1.205039 | G151: -4.73565 | H151: 0.000451 | I151: GO:0016310 | J151: 0
A152: 149 | B152: GO:0030198 | C152: extracellular matrix organization | D152: 93 | E152: 42 | F152: 1.805649 | G152: -4.753135 | H152: 0.000458 | I152: GO:0030198 | J152: 1
A153: 150 | B153: GO:0016265 | C153: death | D153: 1206 | E153: 362 | F153: 1.20013 | G153: -4.766856 | H153: 0.000462 | I153: GO:0016265 | J153: 1
A154: 151 | B154: GO:0003008 | C154: system process | D154: 1064 | E154: 320 | F154: 1.202473 | G154: -4.326196 | H154: 0.00051 | I154: GO:0003008 | J154: 1
A155: 152 | B155: GO:0050778 | C155: positive regulation of immune response | D155: 222 | E155: 82 | F155: 1.476821 | G155: -4.337904 | H155: 0.000513 | I155: GO:0006959 | J155: 0
A156: 153 | B156: GO:0001816 | C156: cytokine production | D156: 199 | E156: 75 | F156: 1.506868 | G156: -4.354822 | H156: 0.000516 | I156: GO:0001816 | J156: 1
A157: 154 | B157: GO:0009887 | C157: organ morphogenesis | D157: 487 | E157: 160 | F157: 1.313584 | G157: -4.365281 | H157: 0.000519 | I157: GO:0032990 | J157: 0
A158: 155 | B158: GO:0048520 | C158: positive regulation of behavior | D158: 45 | E158: 24 | F158: 2.132385 | G158: -4.37158 | H158: 0.000523 | I158: GO:0050795 | J158: 0
A159: 156 | B159: GO:0002683 | C159: negative regulation of immune system process | D159: 84 | E159: 38 | F159: 1.808719 | G159: -4.379852 | H159: 0.000526 | I159: GO:0006959 | J159: 0
... A169: 166 | B169: GO:0001817 | C169: regulation of cytokine production | D169: 179 | E169: 68 | F169: 1.518878 | G169: -4.130253 | H169: 0.00076 | I169: GO:0032760 | J169: 0
A170: 167 | B170: GO:0045944 | C170: positive regulation of transcription from RNA polymerase II promoter | D170: 342 | E170: 117 | F170: 1.367813 | G170: -4.152451 | H170: 0.000765 | I170: NA | J170: NA
A171: 168 | B171: GO:0050795 | C171: regulation of behavior | D171: 71 | E171: 33 | F171: 1.858328 | G171: -4.167771 | H171: 0.000769 | I171: GO:0050795 | J171: 1
A172: 169 | B172: GO:0051093 | C172: negative regulation of developmental process | D172: 257 | E172: 92 | F172: 1.43127 | G172: -4.189818 | H172: 0.000774 | I172: GO:0051093 | J172: 1
A173: 170 | B173: GO:0002064 | C173: epithelial cell development | D173: 38 | E173: 21 | F173: 2.209544 | G173: -4.193522 | H173: 0.000778 | I173: GO:0030855 | J173: 0
A174: 171 | B174: GO:0007169 | C174: transmembrane receptor protein tyrosine kinase signaling pathway | D174: 483 | E174: 158 | F174: 1.307907 | G174: -4.20965 | H174: 0.000783 | I174: GO:0007169 | J174: 1
A175: 172 | B175: GO:0045765 | C175: regulation of angiogenesis | D175: 78 | E175: 35 | F175: 1.794074 | G175: -3.994092 | H175: 0.000833 | I175: GO:0072358 | J175: 0
A176: 173 | B176: GO:0002694 | C176: regulation of leukocyte activation | D176: 200 | E176: 74 | F176: 1.479342 | G176: -4.003595 | H176: 0.000838 | I176: GO:0006959 | J176: 0
A177: 174 | B177: GO:0045321 | C177: leukocyte activation | D177: 334 | E177: 114 | F177: 1.364663 | G177: -4.014744 | H177: 0.000843 | I177: GO:0006959 | J177: 0
A178: 175 | B178: GO:0003158 | C178: endothelium development | D178: 26 | E178: 16 | F178: 2.460444 | G178: -4.072098 | H178: 0.000847 | I178: GO:0030855 | J178: 0
A179: 176 | B179: GO:0023034 | C179: intracellular signaling pathway | D179: 1518 | E179: 440 | F179: 1.158905 | G179: -4.078583 | H179: 0.000852 | I179: NA | J179: NA
A180: 177 | B180: GO:0060326 | C180: cell chemotaxis | D180: 63 | E180: 30 | F180: 1.903915 | G180: -4.083421 | H180: 0.000857 | I180: GO:0030334 | J180: 0
A181: 178 | B181: GO:0006887 | C181: exocytosis | D181: 199 | E181: 74 | F181: 1.486776 | G181: -4.084469 | H181: 0.000862 | I181: GO:0006887 | J181: 1
A182: 179 | B182: GO:0050865 | C182: regulation of cell activation | D182: 212 | E182: 78 | F182: 1.471044 | G182: -4.091427 | H182: 0.000867 | I182: GO:0006959 | J182: 0
A183: 180 | B183: GO:0048729 | C183: tissue morphogenesis | D183: 265 | E183: 94 | F183: 1.418237 | G183: -4.096494 | H183: 0.000872 | I183: GO:0030855 | J183: 0
A184: 181 | B184: GO:0006956 | C184: complement activation | D184: 34 | E184: 19 | F184: 2.2343 | G184: -3.932593 | H184: 0.001044 | I184: GO:0006959 | J184: 0
A185: 182 | B185: GO:0045620 | C185: negative regulation of lymphocyte differentiation | D185: 15 | E185: 11 | F185: 2.932029 | G185: -3.941076 | H185: 0.00105 | I185: GO:0006959 | J185: 0
A186: 183 | B186: GO:0002687 | C186: positive regulation of leukocyte migration | D186: 29 | E186: 17 | F186: 2.343785 | G186: -3.920908 | H186: 0.001093 | I186: GO:0030334 | J186: 0
A187: 184 | B187: GO:0090183 | C187: regulation of kidney development | D187: 13 | E187: 10 | F187: 3.075555 | G187: -3.901675 | H187: 0.001141 | I187: GO:0090183 | J187: 1
A188: 185 | B188: GO:0051789 | C188: response to protein stimulus | D188: 112 | E188: 46 | F188: 1.642127 | G188: -3.886857 | H188: 0.001351 | I188: GO:0051789 | J188: 1
A189: 186 | B189: GO:0007423 | C189: sensory organ development | D189: 205 | E189: 75 | F189: 1.462764 | G189: -3.868108 | H189: 0.001452 | I189: GO:0007423 | J189: 1
A190: 187 | B190: GO:0051301 | C190: cell division | D190: 327 | E190: 111 | F190: 1.357195 | G190: -3.817563 | H190: 0.001526 | I190: GO:0051301 | J190: 1
A191: 188 | B191: GO:0006468 | C191: protein phosphorylation | D191: 749 | E191: 230 | F191: 1.227758 | G191: -3.818343 | H191: 0.001534 | I191: GO:0016310 | J191: 0
... A222: 219 | B222: GO:0002764 | C222: immune response-regulating signaling pathway | D222: 159 | E222: 59 | F222: 1.483617 | G222: -3.355047 | H222: 0.006073 | I222: GO:0006959 | J222: 0
A223: 220 | B223: GO:0006916 | C223: anti-apoptosis | D223: 202 | E223: 72 | F223: 1.425109 | G223: -3.35172 | H223: 0.006091 | I223: NA | J223: NA
A224: 221 | B224: GO:0060541 | C224: respiratory system development | D224: 111 | E224: 44 | F224: 1.584881 | G224: -3.340221 | H224: 0.006109 | I224: GO:0060541 | J224: 1
A225: 222 | B225: GO:0050801 | C225: ion homeostasis | D225: 385 | E225: 125 | F225: 1.298124 | G225: -3.307178 | H225: 0.006473 | I225: GO:0050801 | J225: 1
A226: 223 | B226: GO:0032640 | C226: tumor necrosis factor production | D226: 29 | E226: 16 | F226: 2.205916 | G226: -3.30859 | H226: 0.006502 | I226: GO:0032760 | J226: 0
A227: 224 | B227: GO:0032680 | C227: regulation of tumor necrosis factor production | D227: 29 | E227: 16 | F227: 2.205916 | G227: -3.30859 | H227: 0.006502 | I227: GO:0032760 | J227: 0
A228: 225 | B228: GO:0070997 | C228: neuron death | D228: 102 | E228: 41 | F228: 1.607128 | G228: -3.298846 | H228: 0.006637 | I228: GO:0043069 | J228: 0
A229: 226 | B229: GO:0019218 | C229: regulation of steroid metabolic process | D229: 37 | E229: 19 | F229: 2.053141 | G229: -3.299613 | H229: 0.006667 | I229: GO:0019218 | J229: 1
A230: 227 | B230: GO:0031347 | C230: regulation of defense response | D230: 213 | E230: 75 | F230: 1.407825 | G230: -3.285542 | H230: 0.006667 | I230: GO:0006954 | J230: 0
A231: 228 | B231: GO:0016525 | C231: negative regulation of angiogenesis | D231: 24 | E231: 14 | F231: 2.332296 | G231: -3.285473 | H231: 0.006696 | I231: GO:0072358 | J231: 0
A232: 229 | B232: GO:0030199 | C232: collagen fibril organization | D232: 24 | E232: 14 | F232: 2.332296 | G232: -3.285473 | H232: 0.006696 | I232: GO:0030198 | J232: 0
A233: 230 | B233: GO:0055123 | C233: digestive system development | D233: 51 | E233: 24 | F233: 1.881516 | G233: -3.286508 | H233: 0.006696 | I233: GO:0055123 | J233: 1
A234: 231 | B234: GO:0043627 | C234: response to estrogen stimulus | D234: 96 | E234: 39 | F234: 1.624278 | G234: -3.274802 | H234: 0.00671 | I234: GO:0043627 | J234: 1
A235: 232 | B235: GO:0007178 | C235: transmembrane receptor protein serine threonine kinase signaling pathway | D235: 144 | E235: 54 | F235: 1.499333 | G235: -3.248761 | H235: 0.00694 | I235: GO:0007169 | J235: 0
... A237: 234 | B237: GO:0071706 | C237: tumor necrosis factor superfamily cytokine production | D237: 32 | E237: 17 | F237: 2.124055 | G237: -3.227191 | H237: 0.006979 | I237: GO:0032760 | J237: 0
A238: 235 | B238: GO:0010627 | C238: regulation of intracellular protein kinase cascade | D238: 306 | E238: 102 | F238: 1.332741 | G238: -3.239579 | H238: 0.006996 | I238: NA | J238: NA
A239: 236 | B239: GO:0009595 | C239: detection of biotic stimulus | D239: 17 | E239: 11 | F239: 2.587085 | G239: -3.206592 | H239: 0.007288 | I239: GO:0051707 | J239: 0
A240: 237 | B240: GO:0042325 | C240: regulation of phosphorylation | D240: 505 | E240: 158 | F240: 1.250929 | G240: -3.180002 | H240: 0.007458 | I240: GO:0016310 | J240: 0
A241: 238 | B241: GO:0070661 | C241: leukocyte proliferation | D241: 119 | E241: 46 | F241: 1.545531 | G241: -3.180977 | H241: 0.00749 | I241: GO:0008284 | J241: 0
...
