Workbook

Sheet Overview
A1: Supplemental Table Overview
A3: ='S1'!A$1:E$1 -> S1. Age at death for NMRs and GPs.
A4: ='S2'!A$1:E$1 -> S2. Number of analyzed biological replicates per group.
A5: ='S3'!A$1:E$1 -> S3. Reason for exclusion of samples from further analysis.
A6: ='S4'!A$1:E$1 -> S4. Number of uniquely aligned RNA-seq reads.
A7: =S5A!A$1:E$1 -> S5A. Naked mole-rat. Mean pairwise Pearson correlation coefficients between biological replicates.
A8: =S5B!A$1:E$1 -> S5B. Guinea Pig. Mean pairwise Pearson correlation coefficients between biological replicates.
A9: ='S6'!A$1:E$1 -> S6: Principle component analysis. Raw data behind Figure 1 of main document.
A10: ='S7'!A$1:E$1 -> S7. Number of differentially expressed genes (FDR < 0.01) between NMR and GP with logFC threshold (|logFC| > 2)
A11: ='S8'!A$1:E$1 -> S8: Log fold changes of cross-species DEGs differentially expressed across tissues.
A12: ='S9'!A$1:E$1 -> S9. DEGs in cross-species comparison that show an overlap with DAA.
A13: ='S10'!A$1:E$1 -> S10. Gene set enrichment analysis for cross-species DEGs (FDR < 0.01, |logFC| > 2) that are aging-related (DAA).
A14: ='S11'!A$1:E$1 -> S11. Number of sex-related (female vs. male) DEGs in (A) non-breeder and (B) breeder (FDR < 0.01).
A15: ='S12'!A$1:E$1 -> S12. Functional enrichment analysis of 790 DEGs shared between GP-B-FvM and GP-N-FvM.
A16: ='S13'!A$1:E$1 -> S13. Gene description of sex-related DEGs in NMR-N-FvsM.
A17: ='S14'!A$1:E$1 -> S14. Number of status-related (breeder vs.non-breeder )DEGs in (A) females and (B) males (FDR < 0.01).
A18: ='S15'!A$1:E$1 -> S15. Functional gene set enrichment analysis of DEGs in Ovr of NMR-F-BvsN.
A19: ='S16'!A$1:E$1 -> S16. Functional gene set enrichment analysis of DEGs in Adr of NMR-F-BvsN.
A20: ='S17'!A$1:E$1 -> S17. Functional gene set enrichment analysis of DEGs in Cer of NMR-F-BvsN.
A21: ='S18'!A$1:E$1 -> S18. DEGs in intersection between NMR-F-BvsN and NMR-M-BvsN.
A22: ='S19'!A$1:E$1 -> S19. Functional gene set enrichment analysis of DEGs in Tes of NMR-M-BvsN.
A23: ='S20'!A$1:E$1 -> S20. Functional gene set enrichemnt in cellular components of DEGs in Tes NMR-M-BvsN.
A24: ='S21'!A$1:E$1 -> S21. Functional gene set enrichment analysis of DEGs in Skn of NMR-M-BvsN.
A25: ='S22'!A$1:E$1 -> S22. Proportion of mitochondrial transcriptonal output.
A26: ='S23'!A$1:E$1 -> S23. Differentially expressed nuclear genes (FDR<0.05) associated with mitochondrial respiratory chain complexes in Tes and Skn of NMR-M-BvsN.
A27: ='S24'!A$1:E$1 -> S24. Antioxidant enzymes differentially expressed in Tes and Skn of NMR-M-BvsN (FDR<0.05)
A28: ='S25'!A$1:E$1 -> S25. Enrichment of age-related genes (Digital Ageing Atlas) in status-related DEGs. Only tissues having at least 50 DEGs were tested for enrichment.
A29: ='S26'!A$1:E$1 -> S26. Shared status-related DEGs between NMR and GP.
A30: ='S27'!A$1:E$1 -> S27. FDR values (Fisher's exact test) for overlap between Digital Ageing Atlas and upper quintile of status-related expression differences having the greatest interspecies difference. Three groups were investigated: (i) opposing and (ii) same direction of expression in both species as well as (iii) independent of direction. Further, in each group direction in each species was tested separately.
A31: ='S28'!A$1:E$1 -> S28. Functional enrichment analysis of the non-redundant set of ageing-related 20%-quantiles that show the greatest interspecies diﬀerence in males (Skn, Tes).
A32: ='S29'!A$1:E$1 -> S29. Functional enrichment analysis of the non-redundant set of ageing-related 20%-quantiles that show the greatest interspecies diﬀerence in females (Hrt, Pit, Ovr).

Sheet S1
A1: S1. Age at death for NMRs and GPs.
A3: species | B3: animal | C3: status | D3: sex | E3: age (years)
A4: NMR | B4: 1816 | C4: breeder | D4: female | E4: 3.6
A5: NMR | B5: 6382 | C5: breeder | D5: female | E5: 3.5
A6: NMR | B6: 4121 | C6: breeder | D6: female | E6: 3.3
A7: NMR | B7: 6841 | C7: breeder | D7: female | E7: 3.3
A8: NMR | B8: 1090 | C8: breeder | D8: female | E8: 3.7
A9: NMR | B9: 4772 | C9: breeder | D9: female | E9: 3.7
A10: NMR | B10: 1215 | C10: breeder | D10: male | E10: 3.4
A11: NMR | B11: 5982 | C11: breeder | D11: male | E11: 2.9
A12: NMR | B12: 6656 | C12: breeder | D12: male | E12: 2.8
A13: NMR | B13: 1147 | C13: breeder | D13: male | E13: 3.9
A14: NMR | B14: 1400 | C14: breeder | D14: male | E14: 4
A15: NMR | B15: 3274 | C15: breeder | D15: male | E15: 4.1
... A51: GP | B51: 30 | C51: non-breeder | D51: male | E51: 0.96

Sheet S2
A1: S2. Number of analyzed biological replicates per group.
B3: female | F3: male
A4: Tissue | B4: NMR-N | C4: GP-N | D4: NMR-B | E4: GP-B | F4: NMR-N | G4: GP-N | H4: NMR-B | I4: GP-B | J4: Total
A5: Heart | B5: 6 | C5: 6 | D5: 6 | E5: 6 | F5: 6 | G5: 6 | H5: 6 | I5: 6 | J5: 48
A6: Skin | B6: 6 | C6: 6 | D6: 6 | E6: 6 | F6: 6 | G6: 6 | H6: 6 | I6: 6 | J6: 48
A7: Liver | B7: 5 | C7: 6 | D7: 6 | E7: 6 | F7: 6 | G7: 6 | H7: 6 | I7: 6 | J7: 47
A8: Kidney | B8: 6 | C8: 6 | D8: 6 | E8: 6 | F8: 6 | G8: 6 | H8: 6 | I8: 6 | J8: 48
A9: Cerebellum | B9: 6 | C9: 6 | D9: 6 | E9: 6 | F9: 6 | G9: 6 | H9: 4 | I9: 6 | J9: 46
A10: Hypothalamus | B10: 6 | C10: 6 | D10: 6 | E10: 6 | F10: 6 | G10: 6 | H10: 6 | I10: 6 | J10: 48
A11: Pituitary | B11: 6 | C11: 6 | D11: 6 | E11: 6 | F11: 6 | G11: 6 | H11: 6 | I11: 5 | J11: 47
A12: Thyroid | B12: 6 | C12: 6 | D12: 6 | E12: 5 | F12: 6 | G12: 5 | H12: 6 | I12: 6 | J12: 46
A13: Adrenal | B13: 6 | C13: 6 | D13: 6 | E13: 6 | F13: 6 | G13: 6 | H13: 6 | I13: 6 | J13: 48
A14: Gonad | B14: 6 | C14: 6 | D14: 5 | E14: 6 | F14: 6 | G14: 6 | H14: 6 | I14: 6 | J14: 47
A15: Total | B15: 59 | C15: 60 | D15: 59 | E15: 59 | F15: 60 | G15: 59 | H15: 58 | I15: 59 | J15: =SUM(B15:I15) -> 473

Sheet S3
A1: S3. Reason for exclusion of samples from further analysis.
A3: species | B3: animal | C3: status | D3: sex | E3: tissue | F3: description
A4: GP | B4: 19 | C4: non-breeder | D4: m | E4: thyroid | F4: Wrong tissue. Sample does not cluster within the thyroid cluster.
A5: GP | B5: 12 | C5: breeder | D5: f | E5: thyroid | F5: Sample missing.
A6: GP | B6: 20 | C6: breeder | D6: m | E6: pituitary | F6: Sample missing.
A7: NMR | B7: 5982 | C7: breeder | D7: m | E7: cerebellum | F7: Wrong tissue. Sample clusters with hypothalamus samples.
A8: NMR | B8: 1816 | C8: breeder | D8: f | E8: ovary | F8: Quality issue. Sample does not cluster within the ovary cluster.
A9: NMR | B9: 3650 | C9: worker | D9: f | E9: liver | F9: Sample missing.
A10: NMR | B10: 3274 | C10: breeder | D10: m | E10: cerebellum | F10: Sample missing.

Sheet S4
A1: S4. Number of uniquely aligned RNA-seq reads.
A3: species | B3: animal | C3: tissue | D3: total reads | E3: read length | F3: uniquely mapped reads
A4: GP | B4: 01 | C4: adrenal gland | D4: 26177539 | E4: 50 | F4: 20039968
A5: GP | B5: 02 | C5: adrenal gland | D5: 28032986 | E5: 50 | F5: 21676768
A6: GP | B6: 03 | C6: adrenal gland | D6: 31388001 | E6: 50 | F6: 24642455
A7: GP | B7: 05 | C7: adrenal gland | D7: 23054669 | E7: 50 | F7: 18245667
A8: GP | B8: 06 | C8: adrenal gland | D8: 28713972 | E8: 50 | F8: 20899400
A9: GP | B9: 08 | C9: adrenal gland | D9: 32543461 | E9: 51 | F9: 24868609
A10: GP | B10: 09 | C10: adrenal gland | D10: 35007247 | E10: 51 | F10: 27318620
A11: GP | B11: 11 | C11: adrenal gland | D11: 34927907 | E11: 51 | F11: 27245298
A12: GP | B12: 12 | C12: adrenal gland | D12: 41354976 | E12: 51 | F12: 32058415
A13: GP | B13: 13 | C13: adrenal gland | D13: 30466425 | E13: 51 | F13: 23484796
A14: GP | B14: 14 | C14: adrenal gland | D14: 34688031 | E14: 51 | F14: 26698476
A15: GP | B15: 15 | C15: adrenal gland | D15: 37267463 | E15: 51 | F15: 28407028
... A479: NMR | B479: 6841 | C479: thyroid | D479: 25797577 | E479: 51 | F479: 22937176

Sheet S5A
A1: S5A. Naked mole-rat. Mean pairwise Pearson correlation coefficients between biological replicates.
A3: tissue | B3: group | C3: sex | D3: samples | E3: mean | F3: sd | G3: se
A4: heart | B4: worker | C4: male | D4: 6 | E4: 0.98940721 | F4: 0.0041132815 | G4: 0.0010620447
A5: heart | B5: breeder | C5: male | D5: 6 | E5: 0.99250572 | F5: 0.0020721393 | G5: 0.00053502407
A6: heart | B6: worker | C6: female | D6: 6 | E6: 0.97349629 | F6: 0.018599514 | G6: 0.004802374
A7: heart | B7: breeder | C7: female | D7: 6 | E7: 0.98173578 | F7: 0.011964943 | G7: 0.003089335
A8: skin | B8: worker | C8: male | D8: 6 | E8: 0.9469923 | F8: 0.035528889 | G8: 0.0091735198
A9: skin | B9: breeder | C9: male | D9: 6 | E9: 0.96240948 | F9: 0.017667658 | G9: 0.0045617696
A10: skin | B10: worker | C10: female | D10: 6 | E10: 0.96143978 | F10: 0.015128656 | G10: 0.0039062022
A11: skin | B11: breeder | C11: female | D11: 6 | E11: 0.96520452 | F11: 0.015637749 | G11: 0.0040376493
A12: liver | B12: worker | C12: male | D12: 6 | E12: 0.97579842 | F12: 0.018074261 | G12: 0.0046667542
A13: liver | B13: breeder | C13: male | D13: 6 | E13: 0.9861839 | F13: 0.0045826701 | G13: 0.0011832403
A14: liver | B14: worker | C14: female | D14: 5 | E14: 0.98371408 | F14: 0.0037615359 | G14: 0.0011895021
A15: liver | B15: breeder | C15: female | D15: 6 | E15: 0.97798536 | F15: 0.0089267522 | G15: 0.0023048775
... A23: cerebellum | B23: breeder | C23: female | D23: 6 | E23: 0.98936534 | F23: 0.0052541064 | G23: 0.0013566044
A24: hypothalamus | B24: worker | C24: male | E24: 0.98839477 | F24: 0.0051035927 | G24: 0.001317742
A25: hypothalamus | B25: breeder | C25: male | D25: 6 | E25: 0.99080519 | F25: 0.0027346634 | G25: 0.00070608706
A26: hypothalamus | B26: worker | C26: female | D26: 6 | E26: 0.98874683 | F26: 0.0039134276 | G26: 0.0010104427
A27: hypothalamus | B27: breeder | C27: female | D27: 6 | E27: 0.98755364 | F27: 0.0040413647 | G27: 0.0010434759
A28: pituitary | B28: worker | C28: male | D28: 6 | E28: 0.9854437 | F28: 0.0033478161 | G28: 0.00086440241
A29: pituitary | B29: breeder | C29: male | D29: 6 | E29: 0.98741799 | F29: 0.0025533509 | G29: 0.00065927236
A30: pituitary | B30: worker | C30: female | D30: 6 | E30: 0.96070202 | F30: 0.030399685 | G30: 0.0078491648
A31: pituitary | B31: breeder | C31: female | D31: 6 | E31: 0.98753332 | F31: 0.0034555112 | G31: 0.00089220915
A32: thyroid | B32: worker | C32: male | D32: 6 | E32: 0.98620203 | F32: 0.003221245 | G32: 0.00083172189
A33: thyroid | B33: breeder | C33: male | D33: 6 | E33: 0.95298727 | F33: 0.042906003 | G33: 0.011078282
A34: thyroid | B34: worker | C34: female | D34: 6 | E34: 0.97603426 | F34: 0.013031132 | G34: 0.0033646238
A35: thyroid | B35: breeder | C35: female | D35: 6 | E35: 0.98705123 | F35: 0.0039083746 | G35: 0.001009138
A36: adrenal gland | B36: worker | C36: male | D36: 6 | E36: 0.99061018 | F36: 0.0022027747 | G36: 0.00056875398
... A43: ovary | B43: breeder | C43: female | D43: 5 | E43: 0.9845296 | F43: 0.0043871199 | G43: 0.0013873291

Sheet S5B
A1: S5B. Guinea Pig. Mean pairwise Pearson correlation coefficients between biological replicates.
A3: tissue | B3: group | C3: sex | D3: samples | E3: mean | F3: sd | G3: se
A4: heart | B4: worker | C4: male | D4: 6 | E4: 0.97909366 | F4: 0.015946104 | G4: 0.0041172664
A5: heart | B5: breeder | C5: male | D5: 6 | E5: 0.98227288 | F5: 0.011402217 | G5: 0.0029440398
A6: heart | B6: worker | C6: female | D6: 6 | E6: 0.99325261 | F6: 0.0015641331 | G6: 0.00040385743
A7: heart | B7: breeder | C7: female | D7: 6 | E7: 0.9917039 | F7: 0.0022666645 | G7: 0.00058525025
A8: skin | B8: worker | C8: male | D8: 6 | E8: 0.97727481 | F8: 0.0074402055 | G8: 0.0019210528
A9: skin | B9: breeder | C9: male | D9: 6 | E9: 0.97116234 | F9: 0.017336447 | G9: 0.0044762514
A10: skin | B10: worker | C10: female | D10: 6 | E10: 0.97649814 | F10: 0.01191336 | G10: 0.0030760162
A11: skin | B11: breeder | C11: female | D11: 6 | E11: 0.96849585 | F11: 0.017719639 | G11: 0.0045751912
A12: liver | B12: worker | C12: male | D12: 6 | E12: 0.98885805 | F12: 0.0027536309 | G12: 0.00071098445
A13: liver | B13: breeder | C13: male | D13: 6 | E13: 0.98371635 | F13: 0.0055484682 | G13: 0.0014326083
A14: liver | B14: worker | C14: female | D14: 6 | E14: 0.98195373 | F14: 0.0051983098 | G14: 0.0013421978
A15: liver | B15: breeder | C15: female | D15: 6 | E15: 0.98504726 | F15: 0.0038267406 | G15: 0.00098806018
... A43: ovary | B43: breeder | C43: female | D43: 6 | E43: 0.9903385 | F43: 0.0020892111 | G43: 0.00053943199

Sheet S6
A1: S6: Principle component analysis. Raw data behind Figure 1 of main document.
A3: tissue | B3: status | C3: sex | D3: species | E3: PC1 | F3: PC2 | G3: PC3
A4: heart | B4: non-breeder | C4: m | D4: NMR | E4: -101.33592 | F4: 87.027761 | G4: -6.3258793
A5: skin | B5: non-breeder | C5: m | D5: NMR | E5: -46.108529 | F5: 88.833612 | G5: -139.71468
A6: liver | B6: non-breeder | C6: m | D6: NMR | E6: -208.73508 | F6: 94.811467 | G6: 143.30172
A7: kidney | B7: non-breeder | C7: m | D7: NMR | E7: -71.536119 | F7: 92.894846 | G7: -2.8336412
A8: cerebellum | B8: non-breeder | C8: m | D8: NMR | E8: 149.06383 | F8: 100.43378 | G8: 55.969993
A9: hypothalamus | B9: non-breeder | C9: m | D9: NMR | E9: 158.67032 | F9: 101.54559 | G9: 46.071565
A10: pituitary | B10: non-breeder | C10: m | D10: NMR | E10: 84.857707 | F10: 101.71681 | G10: 4.072299
A11: thyroid | B11: non-breeder | C11: m | D11: NMR | E11: -48.785936 | F11: 101.63468 | G11: -56.729276
A12: adrenal gland | B12: non-breeder | C12: m | D12: NMR | E12: -5.3370503 | F12: 95.280959 | G12: -22.888044
A13: testis | B13: non-breeder | C13: m | D13: NMR | E13: 54.987331 | F13: 76.987561 | G13: -44.10168
A14: heart | B14: breeder | C14: m | D14: NMR | E14: -94.31625 | F14: 86.967137 | G14: -12.127298
A15: skin | B15: breeder | C15: m | D15: NMR | E15: -49.133299 | F15: 85.49322 | G15: -132.73574
... A83: ovary | B83: breeder | C83: f | D83: GP | E83: -3.6454126 | F83: -103.44987 | G83: -47.313858

Sheet S7
A1: S7. Number of differentially expressed genes (FDR < 0.01) between NMR and GP with logFC threshold (|logFC| > 2)
A3: tissue | B3: DEGs | C3: up | D3: down
A4: heart | B4: 1620 | C4: 844 | D4: 776
A5: skin | B5: 1433 | C5: 890 | D5: 543
A6: liver | B6: 1975 | C6: 1019 | D6: 956
A7: kidney | B7: 1412 | C7: 780 | D7: 632
A8: cerebellum | B8: 1193 | C8: 714 | D8: 479
A9: hypothalamus | B9: 899 | C9: 493 | D9: 406
A10: pituitary | B10: 1174 | C10: 646 | D10: 528
A11: thyroid | B11: 1670 | C11: 801 | D11: 869
A12: adrenal gland | B12: 1840 | C12: 976 | D12: 864
A13: testis | B13: 3375 | C13: 1711 | D13: 1664
A14: ovary | B14: 1409 | C14: 777 | D14: 632
A15: sum | B15: =SUBTOTAL(109,B4:B14) -> 18000 | C15: =SUBTOTAL(109,C4:C14) -> 9651 | D15: =SUBTOTAL(109,D4:D14) -> 8349
A16: union | B16: 5951 | C16: 3843 | D16: 3779
A17: intersection | B17: 29 | C17: 15 | D17: 4

Sheet S8
A1: S8: Log fold changes of cross-species DEGs differentially expressed across tissues.
A3: tissue | B3: ADAD1 | C3: ANKRD23 | D3: ANKUB1 | E3: C1ORF158 | F3: CCDC135 | G3: CCDC42 | H3: CLHC1 | I3: CNGA4 | J3: EXO5 | K3: FAM154A | L3: HESX1 | M3: HLA-DRA | N3: IL23A | O3: LDHAL6B | P3: MIPOL1 | Q3: MYO7B | R3: NAA10 | S3: PGLYRP4 | T3: PLK4 | U3: PPP2R1A | V3: PRPH2 | W3: PSPN | X3: RASL12 | Y3: RPL39 | Z3: RRAGB | AA3: SLC26A5 | AB3: SPON2 | AC3: TMEM8C | AD3: TSPEAR
A4: heart | B4: 4.919176 | C4: -2.9675833 | D4: 5.4712833 | E4: -5.0238338 | F4: 2.4330542 | G4: 3.4307646 | H4: 4.7669005 | I4: 3.8691861 | J4: -6.8797785 | K4: 4.7473932 | L4: 6.3887952 | M4: 9.3463603 | N4: 3.2393763 | O4: 2.7172445 | P4: 2.5064088 | Q4: 2.4942362 | R4: 2.4542082 | S4: 4.9696026 | T4: -6.1952787 | U4: 2.1980237 | V4: 6.6413126 | W4: 3.3061143 | X4: -3.757936 | Y4: 2.0691791 | Z4: 4.1691371 | AA4: 4.6981163 | AB4: 2.8377669 | AC4: 3.8669358 | AD4: 6.2185881
A5: skin | B5: 3.9143334 | C5: 2.0300495 | D5: 6.7505785 | E5: -4.4044742 | F5: 2.9594039 | G5: 4.1762131 | H5: 4.8471542 | I5: 3.5968847 | J5: -9.5541503 | K5: 5.4730275 | L5: 6.1702708 | M5: 13.009447 | N5: 2.904005 | O5: 3.819696 | P5: 5.6288589 | Q5: 6.4205422 | R5: 2.8958434 | S5: 2.6735465 | T5: -2.821185 | U5: 2.8613301 | V5: 5.0204635 | W5: 2.2814058 | X5: -4.0885396 | Y5: 2.9417824 | Z5: 3.9865037 | AA5: 4.4883265 | AB5: 4.7477991 | AC5: 6.0589881 | AD5: 4.0827744
A6: liver | B6: 5.45021 | C6: 4.8286428 | D6: 9.9545496 | E6: -5.3289733 | F6: 8.65828 | G6: 4.5049528 | H6: 2.9804246 | I6: 4.812214 | J6: -7.0426075 | K6: 7.3759149 | L6: 6.3005019 | M6: 9.5313282 | N6: 5.6875977 | O6: 2.3282396 | P6: 4.2001577 | Q6: 6.4413172 | R6: 3.191156 | S6: 2.7415951 | T6: -7.4959839 | U6: 3.0678619 | V6: 6.6480715 | W6: 3.3405608 | X6: -4.6031514 | Y6: 3.022807 | Z6: 4.1470885 | AA6: 5.4992256 | AB6: 3.5871358 | AC6: 4.3780639 | AD6: 8.8471651
A7: kidney | B7: 7.7956048 | C7: 5.7957665 | D7: 3.127884 | E7: -7.5609245 | F7: 3.5637917 | G7: 4.521133 | H7: 2.214523 | I7: 4.9674708 | J7: -8.5021772 | K7: 5.2543041 | L7: 7.6125431 | M7: 9.8232321 | N7: 4.7060314 | O7: 3.9978843 | P7: 4.6171499 | Q7: -2.1046676 | R7: 2.2150658 | S7: 5.0879944 | T7: -5.7323942 | U7: 2.5529712 | V7: 2.1016102 | W7: 2.6367602 | X7: -4.5685841 | Y7: 2.3047367 | Z7: 3.0572543 | AA7: 2.5407738 | AB7: 2.9591562 | AC7: 3.068494 | AD7: 7.460829
A8: cerebellum | B8: 5.6530722 | C8: 4.4701486 | D8: 6.2935411 | E8: -5.1611696 | F8: 3.3645411 | G8: 4.2755537 | H8: 3.0082429 | I8: 2.5426583 | J8: -8.4589265 | K8: 4.8275331 | L8: 3.6706154 | M8: 10.447132 | N8: 4.9980696 | O8: 3.351099 | P8: 3.4728881 | Q8: 3.5220412 | R8: 2.3998799 | S8: 3.8368478 | T8: -5.9232062 | U8: 2.9604687 | V8: 7.2681182 | W8: 4.4751158 | X8: -6.6685027 | Y8: 2.9290366 | Z8: 2.1776067 | AA8: 7.6852006 | AB8: 2.7510432 | AC8: 2.4402548 | AD8: 9.0740612
A9: hypothalamus | B9: 6.0844905 | C9: 4.5186112 | D9: 5.5806349 | E9: -3.3521221 | F9: 2.0145239 | G9: 2.9024463 | H9: 2.1301334 | I9: 3.7063444 | J9: -8.4269909 | K9: 3.908828 | L9: 2.5013836 | M9: 10.201157 | N9: 4.101307 | O9: 3.5228681 | P9: 3.4129484 | Q9: 4.0961253 | R9: 2.6987205 | S9: 4.3971118 | T9: -4.846031 | U9: 2.4930152 | V9: 4.0543972 | W9: 3.8081536 | X9: -5.9145631 | Y9: 2.8148615 | Z9: 2.2798908 | AA9: 7.1480737 | AB9: 3.0762977 | AC9: 2.2076365 | AD9: 7.3125086
A10: pituitary | B10: 6.3337123 | C10: 4.1331408 | D10: 2.780751 | E10: -3.4584529 | F10: 2.7893846 | G10: 3.1489355 | H10: 4.764783 | I10: 3.4614744 | J10: -8.6726419 | K10: 3.618489 | L10: 5.7255953 | M10: 10.48505 | N10: 3.2440151 | O10: 4.4196621 | P10: 3.6669858 | Q10: 4.1156741 | R10: 2.8235402 | S10: 5.1224146 | T10: -3.0425679 | U10: 2.5174461 | V10: 2.4142084 | W10: 2.1093794 | X10: -5.532803 | Y10: 3.3578892 | Z10: 3.130742 | AA10: 6.3288324 | AB10: 4.0731725 | AC10: 2.6686615 | AD10: 6.838849
A11: thyroid | B11: 6.323487 | C11: 5.1763759 | D11: 4.1850969 | E11: -5.8132089 | F11: 5.3752717 | G11: 3.9727929 | H11: 3.2145036 | I11: 4.8937395 | J11: -10.592233 | K11: 5.6949436 | L11: 5.8330682 | M11: 9.242714 | N11: 4.6349435 | O11: 4.3165734 | P11: 5.1551413 | Q11: 6.7181773 | R11: 2.564333 | S11: 11.524345 | T11: -5.8822428 | U11: 2.7927267 | V11: 5.8587778 | W11: 3.0359574 | X11: -2.1335579 | Y11: 2.3921428 | Z11: 2.8489828 | AA11: 3.4350887 | AB11: 4.1127525 | AC11: 3.2453431 | AD11: 8.7341236
A12: adrenal gland | B12: 6.6012052 | C12: 2.678925 | D12: 6.3772569 | E12: -6.4311774 | F12: 3.4206339 | G12: 5.3468183 | H12: 3.4700619 | I12: 4.4922969 | J12: -7.1791905 | K12: 5.9814905 | L12: 4.2964754 | M12: 9.2300208 | N12: 6.3847477 | O12: 4.7038707 | P12: 2.5004408 | Q12: 5.2372353 | R12: 2.5659098 | S12: 5.6643605 | T12: -5.0562465 | U12: 3.035891 | V12: 4.8653536 | W12: 4.4285904 | X12: -3.5694271 | Y12: 2.4893276 | Z12: 2.9617425 | AA12: 4.6228508 | AB12: 5.5903606 | AC12: 3.9047194 | AD12: 5.1828267
A13: testis | B13: -2.3139757 | C13: 5.8032241 | D13: 5.8098134 | E13: -4.8709983 | F13: -5.1601895 | G13: -5.1013097 | H13: -2.108264 | I13: -4.1557224 | J13: -6.011619 | K13: -3.5244085 | L13: 3.0753365 | M13: 7.1049451 | N13: 3.2082891 | O13: -3.3177393 | P13: 3.407968 | Q13: 2.290254 | R13: 3.6457613 | S13: -2.4809688 | T13: -4.597105 | U13: 2.4255188 | V13: 3.1086649 | W13: 2.3838197 | X13: -2.7051264 | Y13: 2.655816 | Z13: 3.2071731 | AA13: 3.7225673 | AB13: 6.998706 | AC13: 3.2706133 | AD13: 4.2246299
A14: ovary | B14: 4.465329 | C14: 6.1946692 | D14: 2.1541647 | E14: -2.3185019 | F14: 2.0930816 | G14: 2.273217 | H14: 3.8755525 | I14: 2.5069149 | J14: -5.1583507 | K14: 4.1241728 | L14: 2.0174447 | M14: 10.809852 | N14: 6.0694999 | O14: 2.4502465 | P14: 3.8624727 | Q14: 4.9492867 | R14: 2.8935236 | S14: 4.1182905 | T14: -2.8428385 | U14: 2.5754295 | V14: 4.7267851 | W14: 2.4329587 | X14: -4.522103 | Y14: 2.0703265 | Z14: 2.7103517 | AA14: 4.0558956 | AB14: 6.7068948 | AC14: 3.8104898 | AD14: 2.6298425

Sheet S9
A1: S9. DEGs in cross-species comparison that show an overlap with DAA.
A3: Gene Symbols
A4: AADACABAT
A5: ABCA4
A6: ABCB1
A7: ACER3
A8: ACOT11
A9: ACSL5
A10: ACTL6A
A11: ACTR5
A12: ADCK1
A13: ADIPOR2
... A998: SEC61A1
A999: 37865
A1000: SERPINH1
A1001: SGPL1
A1002: SH3GLB1
A1003: SIDT2
A1004: SLC16A9
A1005: SLC22A17
A1006: SLC25A25
A1007: SLC25A3
A1008: SLC25A5
A1009: SLC7A1
A1010: SLC9A1
A1011: SMPD1
... A1058: TRPC1

Sheet S10
A1: S10. Gene set enrichment analysis for cross-species DEGs (FDR < 0.01, |logFC| > 2) that are aging-related (DAA).
A3: Row | B3: GOID | C3: Description | D3: Genes | E3: DEGs | F3: Enrichment | G3: log10(pvalue) | H3: FDR | I3: REVIGO | J3: Representative
A4: 1 | B4: GO:0002455 | C4: humoral immune response mediated by circulating immunoglobulin | D4: 19 | E4: 10 | F4: 4.735046 | G4: -5.005508 | H4: 0 | I4: GO:0006958 | J4: 0
A5: 2 | B5: GO:0002504 | C5: antigen processing and presentation of peptide or polysaccharide antigen via MHC class II | D5: 12 | E5: 9 | F5: 6.74744 | G5: -6.396009 | H5: 0 | I5: GO:0002504 | J5: 1
A6: 3 | B6: GO:0003008 | C6: system process | D6: 763 | E6: 135 | F6: 1.591795 | G6: -8.133678 | H6: 0 | I6: GO:0003008 | J6: 1
A7: 4 | B7: GO:0006082 | C7: organic acid metabolic process | D7: 560 | E7: 110 | F7: 1.767187 | G7: -9.254622 | H7: 0 | I7: GO:0032787 | J7: 0
A8: 5 | B8: GO:0006629 | C8: lipid metabolic process | D8: 632 | E8: 119 | F8: 1.693978 | G8: -8.811983 | H8: 0 | I8: GO:0006629 | J8: 1
A9: 6 | B9: GO:0006695 | C9: cholesterol biosynthetic process | D9: 32 | E9: 15 | F9: 4.21715 | G9: -6.401954 | H9: 0 | I9: GO:0008610 | J9: 0
A10: 7 | B10: GO:0006935 | C10: chemotaxis | D10: 328 | E10: 64 | F10: 1.755432 | G10: -5.440723 | H10: 0 | I10: GO:0006935 | J10: 1
A11: 8 | B11: GO:0006956 | C11: complement activation | D11: 18 | E11: 10 | F11: 4.998104 | G11: -5.284583 | H11: 0 | I11: GO:0006958 | J11: 0
A12: 9 | B12: GO:0006958 | C12: complement activation classical pathway | D12: 15 | E12: 9 | F12: 5.397952 | G12: -5.174447 | H12: 0 | I12: GO:0006958 | J12: 1
A13: 10 | B13: GO:0007155 | C13: cell adhesion | D13: 497 | E13: 94 | F13: 1.701568 | G13: -7.100541 | H13: 0 | I13: GO:0016337 | J13: 0
A14: 11 | B14: GO:0007275 | C14: multicellular organismal development | D14: 1960 | E14: 268 | F14: 1.230146 | G14: -4.566821 | H14: 0 | I14: GO:0048731 | J14: 0
A15: 12 | B15: GO:0007399 | C15: nervous system development | D15: 865 | E15: 133 | F15: 1.38329 | G15: -4.507862 | H15: 0 | I15: GO:0048731 | J15: 0
... A190: 187 | B190: GO:0050996 | C190: positive regulation of lipid catabolic process | D190: 11 | E190: 5 | F190: 4.089358 | G190: -2.360189 | H190: 0.049572 | I190: GO:0008610 | J190: 0

Sheet S11
A1: S11. Number of sex-related (female vs. male) DEGs in (A) non-breeder and (B) breeder (FDR < 0.01).
A3: A. non-breeder female vs. male
B4: non-breeder
B5: NMR | E5: GP | H5: NMR/GP
A6: tissues | B6: up | C6: down | D6: total | E6: up | F6: down | G6: total | H6: intersection
A7: heart | B7: 8 | C7: 2 | D7: 10 | E7: 0 | F7: 4 | G7: 4 | H7: 2
A8: skin | B8: 4 | C8: 2 | D8: 6 | E8: 3 | F8: 3 | G8: 6 | H8: 1
A9: liver | B9: 4 | C9: 0 | D9: 4 | E9: 136 | F9: 247 | G9: 383 | H9: 1
A10: kidney | B10: 6 | C10: 0 | D10: 6 | E10: 89 | F10: 20 | G10: 109 | H10: 1
A11: cerebellum | B11: 5 | C11: 0 | D11: 5 | E11: 0 | F11: 1 | G11: 1 | H11: 1
A12: hypothalamus | B12: 7 | C12: 1 | D12: 8 | E12: 1 | F12: 1 | G12: 2 | H12: 1
A13: pituitary | B13: 8 | C13: 1 | D13: 9 | E13: 180 | F13: 167 | G13: 347 | H13: 1
A14: thyroid | B14: 0 | C14: 0 | D14: 0 | E14: 1 | F14: 2 | G14: 3 | H14: 0
A15: adrenal gland | B15: 1 | C15: 3 | D15: 4 | E15: 363 | F15: 495 | G15: 858 | H15: 1
A16: non-redundant | B16: 14 | C16: 8 | D16: 22 | E16: 755 | F16: 910 | G16: 1634 | H16: 6
A17: sum | B17: 43 | C17: 9 | D17: 52 | E17: 773 | F17: 940 | G17: 1713
A19: B. breeder female vs. male
B20: breeder
B21: NMR | E21: GP | H21: NMR/GP
A22: tissues | B22: up | C22: down | D22: total | E22: up | F22: down | G22: total | H22: intersection
A23: heart | B23: 6 | C23: 7 | D23: 13 | E23: 38 | F23: 51 | G23: 89 | H23: 1
A24: skin | B24: 4 | C24: 1 | D24: 5 | E24: 1 | F24: 2 | G24: 3 | H24: 1
A25: liver | B25: 7 | C25: 3 | D25: 10 | E25: 142 | F25: 93 | G25: 235 | H25: 1
A26: kidney | B26: 10 | C26: 11 | D26: 21 | E26: 53 | F26: 53 | G26: 106 | H26: 2
A27: cerebellum | B27: 4 | C27: 21 | D27: 25 | E27: 0 | F27: 2 | G27: 2 | H27: 1
A28: hypothalamus | B28: 6 | C28: 5 | D28: 11 | E28: 0 | F28: 1 | G28: 1 | H28: 1
A29: pituitary | B29: 38 | C29: 9 | D29: 47 | E29: 132 | F29: 175 | G29: 307 | H29: 4
A30: thyroid | B30: 1096 | C30: 695 | D30: 1791 | E30: 1149 | F30: 938 | G30: 2087 | H30: 298
A31: adrenal gland | B31: 173 | C31: 360 | D31: 533 | E31: 277 | F31: 547 | G31: 824 | H31: 29
A32: non-redundant | B32: 1284 | C32: 1083 | D32: 2360 | E32: 1746 | F32: 1800 | G32: 3398 | H32: 514
A33: sum | B33: 1344 | C33: 1112 | D33: 2456 | E33: 1792 | F33: 1862 | G33: 3654

Sheet S12
A1: S12. Functional enrichment analysis of 790 DEGs shared between GP-B-FvM and GP-N-FvM.
A3: Row | B3: GOID | C3: Description | D3: Genes | E3: DEGs | F3: Enrichment | G3: log10(pvalue) | H3: FDR | I3: REVIGO | J3: Representative
A4: 1 | B4: GO:0001775 | C4: cell activation | D4: 556 | E4: 58 | F4: 1.952537 | G4: -6.190699 | H4: 0 | I4: GO:0001775 | J4: 1
A5: 2 | B5: GO:0002376 | C5: immune system process | D5: 1091 | E5: 103 | F5: 1.76709 | G5: -8.345651 | H5: 0 | I5: GO:0002376 | J5: 1
A6: 3 | B6: GO:0006629 | C6: lipid metabolic process | D6: 896 | E6: 81 | F6: 1.692089 | G6: -5.820005 | H6: 0 | I6: GO:0006629 | J6: 1
A7: 4 | B7: GO:0006954 | C7: inflammatory response | D7: 306 | E7: 39 | F7: 2.385554 | G7: -6.43671 | H7: 0 | I7: GO:0006954 | J7: 1
A8: 5 | B8: GO:0006955 | C8: immune response | D8: 659 | E8: 70 | F8: 1.988194 | G8: -7.707583 | H8: 0 | I8: GO:0046649 | J8: 0
A9: 6 | B9: GO:0009611 | C9: response to wounding | D9: 740 | E9: 83 | F9: 2.099387 | G9: -10.277353 | H9: 0 | I9: GO:0009611 | J9: 1
A10: 7 | B10: GO:0040011 | C10: locomotion | D10: 831 | E10: 78 | F10: 1.75687 | G10: -6.254501 | H10: 0 | I10: GO:0040011 | J10: 1
A11: 8 | B11: GO:0042221 | C11: response to chemical stimulus | D11: 1754 | E11: 148 | F11: 1.579349 | G11: -8.545395 | H11: 0 | I11: GO:0042221 | J11: 1
A12: 9 | B12: GO:0050896 | C12: response to stimulus | D12: 3435 | E12: 258 | F12: 1.40585 | G12: -10.272076 | H12: 0 | I12: GO:0050896 | J12: 1
A13: 10 | B13: GO:0051179 | C13: localization | D13: 3206 | E13: 225 | F13: 1.313606 | G13: -6.025306 | H13: 0 | I13: GO:0051179 | J13: 1
A14: 11 | B14: GO:0051241 | C14: negative regulation of multicellular organismal process | D14: 175 | E14: 28 | F14: 2.994788 | G14: -6.779237 | H14: 0 | I14: GO:0051241 | J14: 1
A15: 12 | B15: GO:0008202 | C15: steroid metabolic process | D15: 230 | E15: 29 | F15: 2.360023 | G15: -4.844802 | H15: 0.000455 | I15: GO:0008202 | J15: 1
... A161: 158 | B161: GO:0045619 | C161: regulation of lymphocyte differentiation | D161: 59 | E161: 9 | F161: 2.8552 | G161: -2.416609 | H161: 0.049872 | I161: GO:0046649 | J161: 0

Sheet S13
A1: S13. Gene description of sex-related DEGs in NMR-N-FvsM.
A3: Symbol | B3: Entrez | C3: Description | D3: RefSeq Gene Description | E3: GP-N-FvsM
A4: CXorf36 | B4: 79742 | C4: Chromosome X Open Reading Frame 36 | D4: RefSeq:CXorf36 (Chromosome X Open Reading Frame 36) is a Protein Coding gene. An important paralog of this gene is C3orf58. | E4: 1
A5: EIF2S3 | B5: 1968 | C5: Eukaryotic Translation Initiation Factor 2 Subunit Gamma | D5: RefSeq:The protein encoded by this gene is the largest subunit of a heterotrimeric GTP-binding protein involved in the recruitment of methionyl-tRNA(i) to the 40 S ribosomal subunit. [provided by RefSeq, Jan 2010] Uniprot:As a subunit of eukaryotic initiation factor 2 (eIF2), involved in the early steps of protein synthesis. In the presence of GTP, eIF2 forms a ternary complex with initiator tRNA Met-tRNAi and then recruits the 40S ribosomal complex, a step that determines the rate of protein translation. This step is followed by mRNA binding to form the 43S pre-initiation complex. Junction of the 60S ribosomal subunit to form the 80S initiation complex is preceded by hydrolysis of the GTP bound to eIF2 and release of an eIF2-GDP binary complex. In order for eIF2 to recycle and catalyze another round of initiation, the GDP bound to eIF2 must exchange with GTP by way of a reaction catalyzed by eIF2B (By similarity). Along with its paralog on chromosome Y, may contribute to spermatogenesis up to the round spermatid stage (By similarity). | E5: 1
A6: GPR143 | B6: 4935 | C6: G Protein-Coupled Receptor 143 | D6: RefSeq:This gene encodes a protein that binds to heterotrimeric G proteins and is targeted to melanosomes in pigment cells. This protein is thought to be involved in intracellular signal transduction mechanisms. Mutations in this gene cause ocular albinism type 1, also referred to as Nettleship-Falls type ocular albinism, a severe visual disorder. A related pseudogene has been identified on chromosome Y. [provided by RefSeq, Dec 2009] Uniprot:Receptor for tyrosine, L-DOPA and dopamine. After binding to L-DOPA, stimulates Ca(2+) influx into the cytoplasm, increases secretion of the neurotrophic factor SERPINF1 and relocalizes beta arrestin at the plasma membrane; this ligand-dependent signaling occurs through a G(q)-mediated pathway in melanocytic cells. Its activity is mediated by G proteins which activate the phosphoinositide signaling pathway. Plays also a role as an intracellular G protein-coupled receptor involved in melanosome biogenesis, organization and transport. | E6: 0
A7: KIF4A | B7: 24137 | C7: Kinesin Family Member 4A | D7: RefSeq:This gene encodes a member of the kinesin 4 subfamily of kinesin related proteins. The encoded protein is an ATP dependent microtubule-based motor protein that is involved in the intracellular transport of membranous organelles. This protein also associates with condensed chromosome arms and may be involved in maintaining chromosome integrity during mitosis. This protein may also be involved in the organization of the central spindle prior to cytokinesis. A pseudogene of this gene is found on chromosome X.[provided by RefSeq, Mar 2010] Uniprot:Motor protein that translocates PRC1 to the plus ends of interdigitating spindle microtubules during the metaphase to anaphase transition, an essential step for the formation of an organized central spindle midzone and midbody and for successful cytokinesis. May play a role in mitotic chromosomal positioning and bipolar spindle stabilization. | E7: 0
A8: KLF15 | B8: 28999 | C8: Kruppel Like Factor 15 | D8: RefSeq:KLF15 (Kruppel Like Factor 15) is a Protein Coding gene. Diseases associated with KLF15 include Aortic Aneurysm. Among its related pathways are Adipogenesis. GO annotations related to this gene include transcription factor activity, sequence-specific DNA binding and transcriptional activator activity, RNA polymerase II core promoter proximal region sequence-specific binding. An important paralog of this gene is KLF1. Uniprot:Transcriptional regulator that binds to the GA element of the CLCNKA promoter. Binds to the KCNIP2 promoter and regulates KCNIP2 circadian expression in the heart (By similarity). Is a repressor of CTGF expression, involved in the control of cardiac fibrosis. It is also involved in the control of cardiac hypertrophy acting through the inhibition of MEF2A and GATA4 (By similarity). Involved in podocyte differentiation (By similarity). Inhibits MYOCD activity. Is a negative regulator of TP53 acetylation. Inhibits NF-kappa-B activation through repression of EP300-dependent RELA acetylation. | E8: 0
A9: OFD1 | B9: 8481 | C9: OFD1, Centriole And Centriolar Satellite Protein | D9: RefSeq:This gene is located on the X chromosome and encodes a centrosomal protein. A knockout mouse model has been used to study the effect of mutations in this gene. The mouse gene is also located on the X chromosome, however, unlike the human gene it is not subject to X inactivation. Mutations in this gene are associated with oral-facial-digital syndrome type I and Simpson-Golabi-Behmel syndrome type 2. Many pseudogenes have been identified; a single pseudogene is found on chromosome 5 while as many as fifteen have been found on the Y chromosome. [provided by RefSeq, Aug 2016] Uniprot:Component of the centrioles controlling mother and daughter centrioles length. Recruits to the centriole IFT88 and centriole distal appendage-specific proteins including CEP164. Involved in the biogenesis of the cilium, a centriole-associated function. The cilium is a cell surface projection found in many vertebrate cells required to transduce signals important for development and tissue homeostasis. Plays an important role in development by regulating Wnt signaling and the specification of the left-right axis. Only OFD1 localized at the centriolar satellites is removed by autophagy, which is an important step in the ciliogenesis regulation (By similarity). | E9: 0
A10: RAB9A | B10: 9367 | C10: RAB9A, Member RAS Oncogene Family | D10: RefSeq:This gene is located on the X chromosome and encodes a centrosomal protein. A knockout mouse model has been used to study the effect of mutations in this gene. The mouse gene is also located on the X chromosome, however, unlike the human gene it is not subject to X inactivation. Mutations in this gene are associated with oral-facial-digital syndrome type I and Simpson-Golabi-Behmel syndrome type 2. Many pseudogenes have been identified; a single pseudogene is found on chromosome 5 while as many as fifteen have been found on the Y chromosome. [provided by RefSeq, Aug 2016] Uniprot:Involved in the transport of proteins between the endosomes and the trans Golgi network. | E10: 1
A11: TNFAIP3 | B11: 7128 | C11: TNF Alpha Induced Protein 3 | D11: RefSeq:This gene was identified as a gene whose expression is rapidly induced by the tumor necrosis factor (TNF). The protein encoded by this gene is a zinc finger protein and ubiqitin-editing enzyme, and has been shown to inhibit NF-kappa B activation as well as TNF-mediated apoptosis. The encoded protein, which has both ubiquitin ligase and deubiquitinase activities, is involved in the cytokine-mediated immune and inflammatory responses. Several transcript variants encoding the same protein have been found for this gene. [provided by RefSeq, Jul 2012] Uniprot:Ubiquitin-editing enzyme that contains both ubiquitin ligase and deubiquitinase activities. Involved in immune and inflammatory responses signaled by cytokines, such as TNF-alpha and IL-1 beta, or pathogens via Toll-like receptors (TLRs) through terminating NF-kappa-B activity. Essential component of a ubiquitin-editing protein complex, comprising also RNF11, ITCH and TAX1BP1, that ensures the transient nature of inflammatory signaling pathways. In cooperation with TAX1BP1 promotes disassembly of E2-E3 ubiquitin protein ligase complexes in IL-1R and TNFR-1 pathways; affected are at least E3 ligases TRAF6, TRAF2 and BIRC2, and E2 ubiquitin-conjugating enzymes UBE2N and UBE2D3. In cooperation with TAX1BP1 promotes ubiquitination of UBE2N and proteasomal degradation of UBE2N and UBE2D3. Upon TNF stimulation, deubiquitinates Lys-63-polyubiquitin chains on RIPK1 and catalyzes the formation of Lys-48-polyubiquitin chains. This leads to RIPK1 proteasomal degradation and consequently termination of the TNF- or LPS-mediated activation of NF-kappa-B. Deubiquitinates TRAF6 probably acting on Lys-63-linked polyubiquitin. Upon T-cell receptor (TCR)-mediated T-cell activation, deubiquitinates Lys-63-polyubiquitin chains on MALT1 thereby mediating disassociation of the CBM (CARD11:BCL10:MALT1) and IKK complexes and preventing sustained IKK activation. Deubiquitinates NEMO/IKBKG; the function is facilitated by TNIP1 and leads to inhibition of NF-kappa-B activation. Upon stimulation by bacterial peptidoglycans, probably deubiquitinates RIPK2. Can also inhibit I-kappa-B-kinase (IKK) through a non-catalytic mechanism which involves polyubiquitin; polyubiquitin promotes association with IKBKG and prevents IKK MAP3K7-mediated phosphorylation. Targets TRAF2 for lysosomal degradation. In vitro able to deubiquitinate Lys-11-, Lys-48- and Lys-63 polyubiquitin chains. Inhibitor of programmed cell death. Has a role in the function of the lymphoid system. Required for LPS-induced production of proinflammatory cytokines and IFN beta in LPS-tolerized macrophages. | E11: 0
A12: TRAPPC2 | B12: 6399 | C12: Trafficking Protein Particle Complex 2 | D12: RefSeq:The protein encoded by this gene is thought to be part of a large multi-subunit complex involved in the targeting and fusion of endoplasmic reticulum-to-Golgi transport vesicles with their acceptor compartment. In addition, the encoded protein can bind c-myc promoter-binding protein 1 and block its transcriptional repression capability. Mutations in this gene are a cause of spondyloepiphyseal dysplasia tarda (SEDT). A processed pseudogene of this gene is located on chromosome 19, and other pseudogenes are found on chromosomes 8 and Y. Alternatively spliced transcript variants have been found for this gene. [provided by RefSeq, Mar 2010] Uniprot:Prevents transcriptional repression and induction of cell death by ENO1 (By similarity). May play a role in vesicular transport from endoplasmic reticulum to Golgi. | E12: 0
A13: ZRSR2 | B13: 8233 | C13: Zinc Finger CCCH-Type, RNA Binding Motif And Serine/Arginine Rich 2 | D13: RefSeq:This gene encodes an essential splicing factor. The encoded protein associates with the U2 auxiliary factor heterodimer, which is required for the recognition of a functional 3' splice site in pre-mRNA splicing, and may play a role in network interactions during spliceosome assembly. [provided by RefSeq, Jul 2008] Uniprot:Pre-mRNA-binding protein required for splicing of both U2- and U12-type introns. Selectively interacts with the 3-splice site of U2- and U12-type pre-mRNAs and promotes different steps in U2 and U12 intron splicing. Recruited to U12 pre-mRNAs in an ATP-dependent manner and is required for assembly of the prespliceosome, a precursor to other spliceosomal complexes. For U2-type introns, it is selectively and specifically required for the second step of splicing. | E13: 0
A14: CLEC4A | B14: 50856 | C14: C-Type Lectin Domain Family 4 Member A | D14: RefSeq:This gene encodes a member of the C-type lectin/C-type lectin-like domain (CTL/CTLD) superfamily. Members of this family share a common protein fold and have diverse functions, such as cell adhesion, cell-cell signalling, glycoprotein turnover, and roles in inflammation and immune response. The encoded type 2 transmembrane protein may play a role in inflammatory and immune response. Multiple transcript variants encoding distinct isoforms have been identified for this gene. This gene is closely linked to other CTL/CTLD superfamily members on chromosome 12p13 in the natural killer gene complex region. [provided by RefSeq, Jul 2008] Uniprot:May be involved in regulating immune reactivity. May play a role in modulating dendritic cells (DC) differentiation and/or maturation. May be involved via its ITIM motif (immunoreceptor tyrosine-based inhibitory motifs) in the inhibition of B-cell-receptor-mediated calcium mobilization and protein tyrosine phosphorylation. | E14: 0
A15: NR4A2 | B15: 4929 | C15: Nuclear Receptor Subfamily 4 Group A Member 2 | D15: RefSeq:This gene encodes a member of the steroid-thyroid hormone-retinoid receptor superfamily. The encoded protein may act as a transcription factor. Mutations in this gene have been associated with disorders related to dopaminergic dysfunction, including Parkinson disease, schizophernia, and manic depression. Misregulation of this gene may be associated with rheumatoid arthritis. Alternatively spliced transcript variants have been described, but their biological validity has not been determined. [provided by RefSeq, Jul 2008] Uniprot:Transcriptional regulator which is important for the differentiation and maintenance of meso-diencephalic dopaminergic (mdDA) neurons during development. It is crucial for expression of a set of genes such as SLC6A3, SLC18A2, TH and DRD2 which are essential for development of mdDA neurons (By similarity). | E15: 0
... A25: PSMB1 | B25: 5689 | C25: Proteasome Subunit Beta 1 | D25: RefSeq:The proteasome is a multicatalytic proteinase complex with a highly ordered ring-shaped 20S core structure. The core structure is composed of 4 rings of 28 non-identical subunits; 2 rings are composed of 7 alpha subunits and 2 rings are composed of 7 beta subunits. Proteasomes are distributed throughout eukaryotic cells at a high concentration and cleave peptides in an ATP/ubiquitin-dependent process in a non-lysosomal pathway. An essential function of a modified proteasome, the immunoproteasome, is the processing of class I MHC peptides. This gene encodes a member of the proteasome B-type family, also known as the T1B family, that is a 20S core beta subunit. This gene is tightly linked to the TBP (TATA-binding protein) gene in human and in mouse, and is transcribed in the opposite orientation in both species. [provided by RefSeq, Jul 2008] Uniprot:The proteasome is a multicatalytic proteinase complex which is characterized by its ability to cleave peptides with Arg, Phe, Tyr, Leu, and Glu adjacent to the leaving group at neutral or slightly basic pH. The proteasome has an ATP-dependent proteolytic activity. | E25: 1

Sheet S14
A1: S14. Number of status-related (breeder vs.non-breeder )DEGs in (A) females and (B) males (FDR < 0.01).
A3: A. females
B5: NMR | E5: GP | H5: NMR/GP
A6: tissues | B6: up | C6: down | D6: total | E6: up | F6: down | G6: total | H6: intersection
A7: heart | B7: 3 | C7: 0 | D7: 3 | E7: 2 | F7: 0 | G7: 2 | H7: 0
A8: skin | B8: 1 | C8: 0 | D8: 1 | E8: 1 | F8: 4 | G8: 5 | H8: 0
A9: liver | B9: 0 | C9: 0 | D9: 0 | E9: 27 | F9: 44 | G9: 71 | H9: 0
A10: kidney | B10: 2 | C10: 2 | D10: 4 | E10: 1 | F10: 0 | G10: 1 | H10: 0
A11: cerebellum | B11: 15 | C11: 0 | D11: 15 | E11: 0 | F11: 0 | G11: 0 | H11: 0
A12: hypothalamus | B12: 5 | C12: 0 | D12: 5 | E12: 0 | F12: 0 | G12: 0 | H12: 0
A13: pituitary | B13: 16 | C13: 98 | D13: 114 | E13: 47 | F13: 67 | G13: 114 | H13: 1
A14: thyroid | B14: 101 | C14: 184 | D14: 285 | E14: 196 | F14: 479 | G14: 675 | H14: 8
A15: adrenal gland | B15: 125 | C15: 76 | D15: 201 | E15: 0 | F15: 0 | G15: 0 | H15: 0
A16: gonade | B16: 291 | C16: 211 | D16: 502 | E16: 16 | F16: 2 | G16: 18 | H16: 2
A17: non-redundant | B17: 534 | C17: 559 | D17: 1078 | E17: 289 | F17: 596 | G17: 883 | H17: 46
A18: sum | B18: 559 | C18: 571 | D18: 1130 | E18: 290 | F18: 596 | G18: 886
A20: B. males
B22: NMR | E22: GP | H22: NMR/GP
A23: tissues | B23: up | C23: down | D23: total | E23: up | F23: down | G23: total | H23: intersection
A24: heart | B24: 0 | C24: 0 | D24: 0 | E24: 0 | F24: 0 | G24: 0 | H24: 0
A25: skin | B25: 47 | C25: 176 | D25: 223 | E25: 0 | F25: 0 | G25: 0 | H25: 0
A26: liver | B26: 0 | C26: 1 | D26: 1 | E26: 7 | F26: 2 | G26: 9 | H26: 0
A27: kidney | B27: 0 | C27: 0 | D27: 0 | E27: 0 | F27: 0 | G27: 0 | H27: 0
A28: cerebellum | B28: 0 | C28: 0 | D28: 0 | E28: 0 | F28: 0 | G28: 0 | H28: 0
A29: hypothalamus | B29: 0 | C29: 0 | D29: 0 | E29: 0 | F29: 2 | G29: 2 | H29: 0
A30: pituitary | B30: 0 | C30: 1 | D30: 1 | E30: 1 | F30: 1 | G30: 2 | H30: 0
A31: thyroid | B31: 0 | C31: 0 | D31: 0 | E31: 0 | F31: 1 | G31: 1 | H31: 0
A32: adrenal gland | B32: 2 | C32: 2 | D32: 4 | E32: 0 | F32: 1 | G32: 1 | H32: 0
A33: gonade | B33: 225 | C33: 156 | D33: 381 | E33: 1 | F33: 2 | G33: 3 | H33: 1
A34: non-redundant | B34: 270 | C34: 336 | D34: 598 | E34: 9 | F34: 5 | G34: 14 | H34: 1
A35: sum | B35: 274 | C35: 336 | D35: 610 | E35: 9 | F35: 9 | G35: 18

Sheet S15
A1: S15. Functional gene set enrichment analysis of DEGs in Ovr of NMR-F-BvsN.
A3: Row | B3: GOID | C3: Description | D3: Genes | E3: DEGs | F3: Enrichment | G3: log10(pvalue) | H3: FDR | I3: REVIGO | J3: Representative
A4: 1 | B4: GO:0007166 | C4: cell surface receptor linked signaling pathway | D4: 1604 | E4: 93 | F4: 1.708376 | G4: -7.078558 | H4: 0 | I4: GO:0007166 | J4: 1
A5: 2 | B5: GO:0007596 | C5: blood coagulation | D5: 360 | E5: 31 | F5: 2.537255 | G5: -5.734442 | H5: 0 | I5: GO:0007596 | J5: 1
A6: 3 | B6: GO:0009605 | C6: response to external stimulus | D6: 897 | E6: 58 | F6: 1.905199 | G6: -5.889119 | H6: 0 | I6: GO:0009605 | J6: 1
A7: 4 | B7: GO:0009611 | C7: response to wounding | D7: 770 | E7: 56 | F7: 2.142901 | G7: -7.365578 | H7: 0 | I7: GO:0009611 | J7: 1
A8: 5 | B8: GO:0016477 | C8: cell migration | D8: 521 | E8: 40 | F8: 2.26218 | G8: -5.948456 | H8: 0 | I8: GO:0030334 | J8: 0
A9: 6 | B9: GO:0023052 | C9: signaling | D9: 3469 | E9: 165 | F9: 1.401472 | G9: -6.615656 | H9: 0 | I9: GO:0023052 | J9: 1
A10: 7 | B10: GO:0032501 | C10: multicellular organismal process | D10: 4220 | E10: 193 | F10: 1.347565 | G10: -6.733734 | H10: 0 | I10: GO:0032501 | J10: 1
A11: 8 | B11: GO:0040011 | C11: locomotion | D11: 871 | E11: 63 | F11: 2.131215 | G11: -8.175136 | H11: 0 | I11: GO:0040011 | J11: 1
A12: 9 | B12: GO:0042221 | C12: response to chemical stimulus | D12: 1793 | E12: 96 | F12: 1.577596 | G12: -5.696467 | H12: 0 | I12: GO:0042221 | J12: 1
A13: 10 | B13: GO:0048731 | C13: system development | D13: 2492 | E13: 129 | F13: 1.525269 | G13: -6.974689 | H13: 0 | I13: GO:0048731 | J13: 1
A14: 11 | B14: GO:0050817 | C14: coagulation | D14: 363 | E14: 31 | F14: 2.516285 | G14: -5.658612 | H14: 0 | I14: GO:0050817 | J14: 1
A15: 12 | B15: GO:0065008 | C15: regulation of biological quality | D15: 1924 | E15: 111 | F15: 1.699898 | G15: -8.439551 | H15: 0 | I15: GO:0065008 | J15: 1
... A27: 24 | B27: GO:0051270 | C27: regulation of cellular component movement | D27: 246 | E27: 23 | F27: 2.754848 | G27: -4.968481 | H27: 0.00125 | I27: GO:0030334 | J27: 0
A28: 25 | B28: GO:0023033 | C28: signaling pathway | D28: 2601 | E28: 125 | F28: 1.416037 | G28: -4.98366 | H28: 0.00129 | I28: NA | J28: NA
A29: 26 | B29: GO:0051239 | C29: regulation of multicellular organismal process | D29: 1050 | E29: 61 | F29: 1.71177 | G29: -4.689403 | H29: 0.001316 | I29: GO:0051239 | J29: 1
A30: 27 | B30: GO:0001944 | C30: vasculature development | D30: 335 | E30: 28 | F30: 2.462737 | G30: -4.986609 | H30: 0.001333 | I30: GO:0001568 | J30: 0
A31: 28 | B31: GO:0032502 | C31: developmental process | D31: 3261 | E31: 146 | F31: 1.319189 | G31: -4.205002 | H31: 0.001346 | I31: GO:0032502 | J31: 1
A32: 29 | B32: GO:0014911 | C32: positive regulation of smooth muscle cell migration | D32: 11 | E32: 5 | F32: 13.393132 | G32: -4.765809 | H32: 0.001351 | I32: GO:0030334 | J32: 0
A33: 30 | B33: GO:0030334 | C33: regulation of cell migration | D33: 222 | E33: 22 | F33: 2.919944 | G33: -5.17984 | H33: 0.001364 | I33: GO:0030334 | J33: 1
A34: 31 | B34: GO:0023060 | C34: signal transmission | D34: 2514 | E34: 118 | F34: 1.382998 | G34: -4.20763 | H34: 0.001373 | I34: GO:0023060 | J34: 1
A35: 32 | B35: GO:0003012 | C35: muscle system process | D35: 211 | E35: 21 | F35: 2.932525 | G35: -4.999161 | H35: 0.001379 | I35: GO:0003012 | J35: 1
A36: 33 | B36: GO:0007178 | C36: transmembrane receptor protein serine threonine kinase signaling pathway | D36: 153 | E36: 17 | F36: 3.273877 | G36: -4.771935 | H36: 0.001389 | I36: GO:0007178 | J36: 1
A37: 34 | B37: GO:0050673 | C37: epithelial cell proliferation | D37: 152 | E37: 16 | F37: 3.101567 | G37: -4.236456 | H37: 0.0014 | I37: GO:0050673 | J37: 1
A38: 35 | B38: GO:0009653 | C38: anatomical structure morphogenesis | D38: 1374 | E38: 76 | F38: 1.62979 | G38: -5.006055 | H38: 0.001429 | I38: GO:0009653 | J38: 1
A39: 36 | B39: GO:0030335 | C39: positive regulation of cell migration | D39: 134 | E39: 15 | F39: 3.298309 | G39: -4.315743 | H39: 0.001429 | I39: GO:0030334 | J39: 0
A40: 37 | B40: GO:0050896 | C40: response to stimulus | D40: 3552 | E40: 160 | F40: 1.327247 | G40: -4.8484 | H40: 0.001429 | I40: GO:0050896 | J40: 1
... A44: 41 | B44: GO:0001568 | C44: blood vessel development | D44: 325 | E44: 26 | F44: 2.357191 | G44: -4.343627 | H44: 0.001489 | I44: GO:0001568 | J44: 1
A45: 42 | B45: GO:0023046 | C45: signaling process | D45: 2517 | E45: 118 | F45: 1.38135 | G45: -4.184401 | H45: 0.001509 | I45: NA | J45: NA
A46: 43 | B46: GO:0043403 | C46: skeletal muscle tissue regeneration | D46: 13 | E46: 5 | F46: 11.33265 | G46: -4.345372 | H46: 0.001522 | I46: GO:0007596 | J46: 0
A47: 44 | B47: GO:0045072 | C47: regulation of interferon-gamma biosynthetic process | D47: 13 | E47: 5 | F47: 11.33265 | G47: -4.345372 | H47: 0.001522 | I47: GO:0045072 | J47: 1
A48: 45 | B48: GO:2000145 | C48: regulation of cell motility | D48: 225 | E48: 22 | F48: 2.881012 | G48: -5.085871 | H48: 0.001538 | I48: GO:0030334 | J48: 0
A49: 46 | B49: GO:0007167 | C49: enzyme linked receptor protein signaling pathway | D49: 671 | E49: 43 | F49: 1.888212 | G49: -4.371555 | H49: 0.001591 | I49: GO:0007167 | J49: 1
A50: 47 | B50: GO:0090092 | C50: regulation of transmembrane receptor protein serine threonine kinase signaling pathway | D50: 88 | E50: 13 | F50: 4.352768 | G50: -5.108512 | H50: 0.0016 | I50: GO:0007178 | J50: 0
A51: 48 | B51: GO:0014910 | C51: regulation of smooth muscle cell migration | D51: 20 | E51: 6 | F51: 8.839467 | G51: -4.419041 | H51: 0.001628 | I51: GO:0030334 | J51: 0
A52: 49 | B52: GO:0007155 | C52: cell adhesion | D52: 772 | E52: 50 | F52: 1.908348 | G52: -5.141499 | H52: 0.001667 | I52: GO:0042129 | J52: 0
A53: 50 | B53: GO:0022610 | C53: biological adhesion | D53: 772 | E53: 50 | F53: 1.908348 | G53: -5.141499 | H53: 0.001667 | I53: GO:0022610 | J53: 1
A54: 51 | B54: GO:0048608 | C54: reproductive structure development | D54: 162 | E54: 17 | F54: 3.091995 | G54: -4.448201 | H54: 0.001667 | I54: GO:0048608 | J54: 1
A55: 52 | B55: GO:0007275 | C55: multicellular organismal development | D55: 2985 | E55: 137 | F55: 1.352325 | G55: -4.449295 | H55: 0.001707 | I55: GO:0048731 | J55: 0
...

Sheet S16
A1: S16. Functional gene set enrichment analysis of DEGs in Adr of NMR-F-BvsN.
A3: Row | B3: GOID | C3: Description | D3: Genes | E3: DEGs | F3: Enrichment | G3: log10(pvalue) | H3: FDR | I3: REVIGO | J3: Representative
A4: 1 | B4: GO:0006412 | C4: translation | D4: 395 | E4: 20 | F4: 3.899696 | G4: -6.725157 | H4: 0 | I4: GO:0006412 | J4: 1
A5: 2 | B5: GO:0006414 | C5: translational elongation | D5: 100 | E5: 18 | F5: 13.863418 | G5: -15.295255 | H5: 0 | I5: GO:0006412 | J5: 0
A6: 3 | B6: GO:0006415 | C6: translational termination | D6: 90 | E6: 17 | F6: 14.548031 | G6: -14.834196 | H6: 0 | I6: GO:0032984 | J6: 0
A7: 4 | B7: GO:0019058 | C7: viral infectious cycle | D7: 193 | E7: 17 | F7: 6.784056 | G7: -9.311893 | H7: 0 | I7: GO:0019058 | J7: 1
A8: 5 | B8: GO:0019080 | C8: viral genome expression | D8: 135 | E8: 17 | F8: 9.698687 | G8: -11.812851 | H8: 0 | I8: GO:0019058 | J8: 0
A9: 6 | B9: GO:0019083 | C9: viral transcription | D9: 135 | E9: 17 | F9: 9.698687 | G9: -11.812851 | H9: 0 | I9: GO:0019058 | J9: 0
A10: 7 | B10: GO:0022411 | C10: cellular component disassembly | D10: 229 | E10: 23 | F10: 7.735531 | G10: -13.710266 | H10: 0 | I10: GO:0022411 | J10: 1
A11: 8 | B11: GO:0022415 | C11: viral reproductive process | D11: 210 | E11: 17 | F11: 6.23487 | G11: -8.744369 | H11: 0 | I11: NA | J11: NA
A12: 9 | B12: GO:0031016 | C12: pancreas development | D12: 130 | E12: 18 | F12: 10.664167 | G12: -13.216629 | H12: 0 | I12: GO:0031016 | J12: 1
A13: 10 | B13: GO:0031018 | C13: endocrine pancreas development | D13: 112 | E13: 17 | F13: 11.690382 | G13: -13.180104 | H13: 0 | I13: GO:0031018 | J13: 1
A14: 11 | B14: GO:0032984 | C14: macromolecular complex disassembly | D14: 155 | E14: 19 | F14: 9.441037 | G14: -12.944595 | H14: 0 | I14: GO:0032984 | J14: 1
A15: 12 | B15: GO:0034621 | C15: cellular macromolecular complex subunit organization | D15: 490 | E15: 22 | F15: 3.457995 | G15: -6.453946 | H15: 0 | I15: NA | J15: NA
A16: 13 | B16: GO:0034623 | C16: cellular macromolecular complex disassembly | D16: 152 | E16: 19 | F16: 9.627373 | G16: -13.10183 | H16: 0 | I16: NA | J16: NA
A17: 14 | B17: GO:0035270 | C17: endocrine system development | D17: 169 | E17: 18 | F17: 8.203206 | G17: -11.224401 | H17: 0 | I17: GO:0035270 | J17: 1
A18: 15 | B18: GO:0043241 | C18: protein complex disassembly | D18: 145 | E18: 19 | F18: 10.092143 | G18: -13.483184 | H18: 0 | I18: GO:0032984 | J18: 0
A19: 16 | B19: GO:0043624 | C19: cellular protein complex disassembly | D19: 142 | E19: 19 | F19: 10.305357 | G19: -13.653224 | H19: 0 | I19: GO:0032984 | J19: 0
A20: 17 | B20: GO:0048610 | C20: cellular process involved in reproduction | D20: 321 | E20: 20 | F20: 4.798691 | G20: -8.22163 | H20: 0 | I20: GO:0048610 | J20: 1
A21: 18 | B21: GO:0071822 | C21: protein complex subunit organization | D21: 600 | E21: 25 | F21: 3.209124 | G21: -6.67276 | H21: 0 | I21: GO:0032984 | J21: 0
A22: 19 | B22: GO:0071845 | C22: cellular component disassembly at cellular level | D22: 226 | E22: 23 | F22: 7.838216 | G22: -13.83469 | H22: 0 | I22: NA | J22: NA
A23: 20 | B23: GO:0043933 | C23: macromolecular complex subunit organization | D23: 787 | E23: 26 | F23: 2.544465 | G23: -5.038144 | H23: 0.001304 | I23: GO:0043933 | J23: 1
A24: 21 | B24: GO:0016032 | C24: viral reproduction | D24: 381 | E24: 17 | F24: 3.436543 | G24: -5.041459 | H24: 0.001364 | I24: GO:0019058 | J24: 0
A25: 22 | B25: GO:0000003 | C25: reproduction | D25: 879 | E25: 28 | F25: 2.453392 | G25: -5.106067 | H25: 0.001429 | I25: GO:0000003 | J25: 1
A26: 23 | B26: GO:0022414 | C26: reproductive process | D26: 878 | E26: 28 | F26: 2.456186 | G26: -5.115365 | H26: 0.0015 | I26: GO:0022414 | J26: 1
A27: 24 | B27: GO:0048513 | C27: organ development | D27: 1658 | E27: 42 | F27: 1.951024 | G27: -4.977248 | H27: 0.001667 | I27: GO:0048731 | J27: 0
A28: 25 | B28: GO:0048731 | C28: system development | D28: 2492 | E28: 54 | F28: 1.668951 | G28: -4.41962 | H28: 0.0024 | I28: GO:0048731 | J28: 1
A29: 26 | B29: GO:0048856 | C29: anatomical structure development | D29: 2733 | E29: 57 | F29: 1.606324 | G29: -4.196431 | H29: 0.003462 | I29: GO:0048731 | J29: 0
A30: 27 | B30: GO:0007275 | C30: multicellular organismal development | D30: 2985 | E30: 60 | F30: 1.54812 | G30: -3.958691 | H30: 0.003704 | I30: GO:0048731 | J30: 0
A31: 28 | B31: GO:0032501 | C31: multicellular organismal process | D31: 4220 | E31: 77 | F31: 1.405323 | G31: -3.759147 | H31: 0.005357 | I31: GO:0032501 | J31: 1
A32: 29 | B32: GO:0009310 | C32: amine catabolic process | D32: 95 | E32: 7 | F32: 5.675083 | G32: -3.635999 | H32: 0.007586 | I32: GO:0009310 | J32: 1
A33: 30 | B33: GO:0007599 | C33: hemostasis | D33: 366 | E33: 14 | F33: 2.946081 | G33: -3.532567 | H33: 0.011333 | I33: GO:0007599 | J33: 1
A34: 31 | B34: GO:0032502 | C34: developmental process | D34: 3261 | E34: 62 | F34: 1.464329 | G34: -3.386959 | H34: 0.013871 | I34: GO:0032502 | J34: 1
... A42: 39 | B42: GO:0046164 | C42: alcohol catabolic process | D42: 94 | E42: 6 | F42: 4.916106 | G42: -2.85856 | H42: 0.041282 | I42: GO:0009310 | J42: 0

Sheet S17
A1: S17. Functional gene set enrichment analysis of DEGs in Cer of NMR-F-BvsN.
A3: Row | B3: GOID | C3: Description | D3: Genes | E3: DEGs | F3: Enrichment | G3: log10(pvalue) | H3: FDR | I3: REVIGO | J3: Representative
A4: 1 | B4: GO:0006066 | C4: alcohol metabolic process | D4: 459 | E4: 6 | F4: 10.604793 | G4: -4.981454 | H4: 0 | I4: GO:0006066 | J4: 1
A5: 2 | B5: GO:0006082 | C5: organic acid metabolic process | D5: 737 | E5: 8 | F5: 8.806151 | G5: -6.115444 | H5: 0 | I5: GO:0032787 | J5: 0
A6: 3 | B6: GO:0009719 | C6: response to endogenous stimulus | D6: 569 | E6: 7 | F6: 9.980434 | G6: -5.660878 | H6: 0 | I6: GO:0009719 | J6: 1
A7: 4 | B7: GO:0009725 | C7: response to hormone stimulus | D7: 516 | E7: 7 | F7: 11.005556 | G7: -5.946058 | H7: 0 | I7: GO:0009725 | J7: 1
A8: 5 | B8: GO:0019752 | C8: carboxylic acid metabolic process | D8: 722 | E8: 8 | F8: 8.989104 | G8: -6.183727 | H8: 0 | I8: GO:0032787 | J8: 0
A9: 6 | B9: GO:0032787 | C9: monocarboxylic acid metabolic process | D9: 361 | E9: 6 | F9: 13.483657 | G9: -5.583524 | H9: 0 | I9: GO:0032787 | J9: 1
A10: 7 | B10: GO:0042180 | C10: cellular ketone metabolic process | D10: 739 | E10: 8 | F10: 8.782318 | G10: -6.10645 | H10: 0 | I10: GO:0042180 | J10: 1
A11: 8 | B11: GO:0043434 | C11: response to peptide hormone stimulus | D11: 278 | E11: 5 | F11: 14.591127 | G11: -4.82566 | H11: 0 | I11: GO:0009725 | J11: 0
A12: 9 | B12: GO:0043436 | C12: oxoacid metabolic process | D12: 722 | E12: 8 | F12: 8.989104 | G12: -6.183727 | H12: 0 | I12: GO:0032787 | J12: 0
A13: 10 | B13: GO:0051005 | C13: negative regulation of lipoprotein lipase activity | D13: 5 | E13: 2 | F13: 324.50667 | G13: -4.849183 | H13: 0 | I13: GO:0060192 | J13: 0
A14: 11 | B14: GO:0060192 | C14: negative regulation of lipase activity | D14: 7 | E14: 2 | F14: 231.79048 | G14: -4.527583 | H14: 0 | I14: GO:0060192 | J14: 1
A15: 12 | B15: GO:0044283 | C15: small molecule biosynthetic process | D15: 587 | E15: 6 | F15: 8.292334 | G15: -4.37374 | H15: 0.000769 | I15: GO:0032787 | J15: 0
... A96: 93 | B96: GO:0002683 | C96: negative regulation of immune system process | D96: 93 | E96: 2 | F96: 17.446595 | G96: -2.245139 | H96: 0.041304 | I96: GO:0002683 | J96: 1

Sheet S18
A1: S18. DEGs in intersection between NMR-F-BvsN and NMR-M-BvsN.
A3: Gene Symbols
A4: ADIPOQ, TAC4, ABLIM3, BIN1, CKMT2, EDIL3, GALNT16, GP2, USH1C, ADAM11, CPQ, CTSV, MPZ, PRDX1, PRKAR1A, SLC22A4, SUCLG2, ZFR2, ACSL1, COMT, GPNMB, MDH2, PGD, PLA2G16, RCAN2, RECK, SASH1, SCHIP1, SLC3A2, SOD1, ACADL, ACPP, BTG1, COX7A1, DHCR7, EDNRB, ELOVL5, ENPEP, EPHX1, FBP1, GABBR2, ICAM1, IL6ST, LAMB1, LMBRD1, OXCT1, RFTN1, RRAD, SCARB1, SERPINE2, SOBP, SSTR3, TMOD1, TNNI3, TRPC6

Sheet S19
A1: S19. Functional gene set enrichment analysis of DEGs in Tes of NMR-M-BvsN.
A3: Row | B3: GOID | C3: Description | D3: Genes | E3: DEGs | F3: Enrichment | G3: log10(pvalue) | H3: FDR | I3: REVIGO | J3: Representative
A4: 1 | B4: GO:0006006 | C4: glucose metabolic process | D4: 177 | E4: 17 | F4: 4.129944 | G4: -6.109111 | H4: 0 | I4: GO:0008610 | J4: 0
A5: 2 | B5: GO:0006066 | C5: alcohol metabolic process | D5: 459 | E5: 42 | F5: 3.934641 | G5: -13.75951 | H5: 0 | I5: GO:0006066 | J5: 1
A6: 3 | B6: GO:0006082 | C6: organic acid metabolic process | D6: 737 | E6: 47 | F6: 2.742198 | G6: -9.697731 | H6: 0 | I6: GO:0044282 | J6: 0
A7: 4 | B7: GO:0006091 | C7: generation of precursor metabolites and energy | D7: 383 | E7: 29 | F7: 3.255875 | G7: -7.677946 | H7: 0 | I7: GO:0006091 | J7: 1
A8: 5 | B8: GO:0006098 | C8: pentose-phosphate shunt | D8: 12 | E8: 5 | F8: 17.916667 | G8: -5.342059 | H8: 0 | I8: GO:0006732 | J8: 0
A9: 6 | B9: GO:0006629 | C9: lipid metabolic process | D9: 903 | E9: 64 | F9: 3.047619 | G9: -15.5267 | H9: 0 | I9: GO:0006629 | J9: 1
A10: 7 | B10: GO:0006631 | C10: fatty acid metabolic process | D10: 240 | E10: 21 | F10: 3.7625 | G10: -6.725548 | H10: 0 | I10: GO:0044282 | J10: 0
A11: 8 | B11: GO:0006638 | C11: neutral lipid metabolic process | D11: 83 | E11: 11 | F11: 5.698795 | G11: -5.489731 | H11: 0 | I11: GO:0008610 | J11: 0
