Workbook

Sheet Supplementary Table 1
A1: Supplementary Table 1. all rpS3 species groups
A2: Sample | B2: Locus | C2: Phylum | D2: rpS3 bearing contig
A3: Intermediate | B3: RPR I A1 k141 1775721 4|RPR I A1 UNK|RPR I A1 | C3: Acidobacteria | D3: RPR_I_A1_k141_1775721
A4: Intermediate | B4: RPR I A1 k141 2473113 9|RPR I A1 UNK|RPR I A1 | C4: Acidobacteria | D4: RPR_I_A1_k141_2473113
A5: Intermediate | B5: RPR I A1 k141 655615 1|RPR I A1 UNK|RPR I A1 | C5: Acidobacteria | D5: RPR_I_A1_k141_655615
A6: Intermediate | B6: RPR I A1 k141 820396 4|RPR I A1 UNK|RPR I A1 | C6: Acidobacteria | D6: RPR_I_A1_k141_820396
A7: Intermediate | B7: RPR I A1 k141 885868 2|RPR I A1 UNK|RPR I A1 | C7: Acidobacteria | D7: RPR_I_A1_k141_885868
A8: Intermediate | B8: RPR I A1 k141 92994 1|RPR I A1 UNK|RPR I A1 | C8: Acidobacteria | D8: RPR_I_A1_k141_92994
A9: Intermediate | B9: RPR I A2 k141 2117470 15|RPR I A2 UNK|RPR I A2 | C9: Acidobacteria | D9: RPR_I_A2_k141_2117470
A10: Intermediate | B10: RPR I A2 k141 2298505 3|RPR I A2 UNK|RPR I A2 | C10: Acidobacteria | D10: RPR_I_A2_k141_2298505
A11: Intermediate | B11: RPR I A2 k141 262900 2|RPR I A2 UNK|RPR I A2 | C11: Acidobacteria | D11: RPR_I_A2_k141_262900
A12: Intermediate | B12: RPR I A2 k141 770053 3|RPR I A2 UNK|RPR I A2 | C12: Acidobacteria | D12: RPR_I_A2_k141_770053
A13: Intermediate | B13: RPR I B1 k141 1245136 12|RPR I B1 UNK|RPR I B1 | C13: Acidobacteria | D13: RPR_I_B1_k141_1245136
... A1233: Saprolite | B1233: RPR SA C2 k141 306009 3|RPR SA C2 UNK|RPR SA C2 | C1233: Verrucomicrobia | D1233: RPR_SA_C2_k141_306009

Sheet Supplementary Table 2
A1: Supplementary Table 2. percent coverage of rpS3 genes
A2: Sample | B2: RPR_I_A1 | C2: cov perc
A3: RPR_I_A1 | B3: RPR_I_A1_k141_965553 id=341767016 bin="RPR_I_A1_UNK" | C3: 0.21847965
A4: RPR_I_A1 | B4: RPR_I_A1_k141_667477 id=341778151 bin="RPR_I_A1_UNK" | C4: 4.1180333
A5: RPR_I_A1 | B5: RPR_I_A1_k141_1268612 id=341794503 bin="RPR_I_A1_UNK" | C5: 0.3575929
A6: RPR_I_A1 | B6: RPR_I_A1_k141_2059049 id=341798280 bin="RPR_I_A1_UNK" | C6: 0.14168284
A7: RPR_I_A1 | B7: RPR_I_A1_k141_916924 id=341811404 bin="RPR_I_A1_UNK" | C7: 0.26641372
A8: RPR_I_A1 | B8: RPR_I_A1_k141_430805 id=341825871 bin="RPR_I_A1_UNK" | C8: 0.162016
A9: RPR_I_A1 | B9: RPR_I_A1_k141_248861 id=341837134 bin="RPR_I_A1_UNK" | C9: 0.35045684
A10: RPR_I_A1 | B10: RPR_I_A1_k141_1642786 id=341838779 bin="RPR_I_A1_UNK" | C10: 0.19760746
A11: RPR_I_A1 | B11: RPR_I_A1_k141_439105 id=341847773 bin="RPR_I_A1_UNK" | C11: 0.10329515
A12: RPR_I_A1 | B12: RPR_I_A1_k141_1037216 id=341850114 bin="RPR_I_A1_UNK" | C12: 0.42143455
A13: RPR_I_A1 | B13: RPR_I_A1_k141_2612323 id=341862815 bin="RPR_I_A1_UNK" | C13: 1.5878027
A14: RPR_I_A1 | B14: RPR_I_A1_k141_203393 id=341887971 bin="RPR_I_A1_UNK" | C14: 0.9671804
... A5412: RPR_SA_C2 | B5412: RPR_S_C2_k141_2264710 id=347985429 bin="RPR_S_C2_UNK" | C5412: 1.7925436

Sheet Supplementary Table 3
A1: Supplementary Table 3. All xoxF sequences identified in the metagenomes
A2: Sample | B2: Tree clade | C2: Locus
A3: Highly weathered | B3: xoxF5 | C3: RPR_SA_C2_k141_4734469_1
A4: Highly weathered | B4: xoxF5 | C4: RPR_SA_C2_k141_429606_2
A5: Highly weathered | B5: xoxF5 | C5: RPR_SA_C2_k141_3609812_1
A6: Highly weathered | B6: xoxF5 | C6: RPR_SA_C2_k141_3392528_1
A7: Highly weathered | B7: xoxF5 | C7: RPR_SA_C2_k141_1313232_3
A8: Highly weathered | B8: xoxF5 | C8: RPR_SA_C1_RPR_SA_C1_scaffold_k141_3404754_1
A9: Highly weathered | B9: xoxF5 | C9: RPR_SA_B2_k141_1635997_1
A10: Highly weathered | B10: xoxF5 | C10: RPR_SA_B2_k141_1374817_3
A11: Highly weathered | B11: xoxF5 | C11: RPR_SA_B1_k141_477025_3
A12: Highly weathered | B12: xoxF5 | C12: RPR_SA_B1_k141_1176830_15
A13: Highly weathered | B13: xoxF5 | C13: RPR_SA_A2_k141_987404_1
... A413: Moderately weathered | B413: xoxF-Unk1 | C413: RPR_I_C1_k141_1641512_2

Sheet Supplementary Table 4
A1: Supplementary Table 4. Whole-rock elemental composition ICP-MS data
B2: Sample Name | D2: W2-O | E2: W2a-24 | F2: GSP2-M-feb2020 | G2: highly weathered | H2: moderately weathered | I2: soil | J2: GSP2-M-feb2020-repeat | M2: Sample Name | O2: W2a-23+D1:S1 | P2: W2a-24 | Q2: GSP2-M-7k | R2: RPR8 (freshest) | S2: RPR1 | T2: RPR2 | U2: RPR3 | V2: RPR4 | W2: GSP2-M-7k-repeat
O3: calib. Std | P3: calib. Std | Q3: granite std
A4: 7 Li | B4: Conc. [ ppb ] | D4: 9186.8885 | E4: 9128.3239 | F4: 35486.921 | G4: 45737.993 | H4: 20919.691 | I4: 13338.666 | J4: 35133.276 | L4: 7 Li | M4: Conc. [ ppb ] | O4: 9154.3246 | P4: 9160.6878 | Q4: 35999.088 | R4: 49884.196 | S4: 23316.593 | T4: 24214.321 | U4: 40656.089 | V4: 30203.961 | W4: 36507.729
A5: 9 Be | B5: Conc. [ ppb ] | D5: 620.90729 | E5: 614.02975 | F5: 1394.0902 | G5: 1537.2782 | H5: 2642.4277 | I5: 726.56825 | J5: 1378.4567 | L5: 9 Be | M5: Conc. [ ppb ] | O5: 612.64838 | P5: 621.94884 | Q5: 1457.1089 | R5: 3082.9144 | S5: 2373.2748 | T5: 2706.3335 | U5: 2790.9428 | V5: 2749.6939 | W5: 1475.3652
A6: 23 Na [ He ] | B6: Conc. [ ppb ] | C6: very poor | D6: 16271145 | E6: 16370656 | F6: 19144139 | G6: 2722031.4 | H6: 19727417 | I6: 4303368.7 | J6: 19431023 | L6: 23 Na [ He ] | M6: Conc. [ ppb ] | O6: 16370741 | P6: 16274557 | Q6: 19767670 | R6: 23114274 | S6: 21648293 | T6: 21881950 | U6: 23828579 | V6: 20823138 | W6: 19927216
A7: 27 Al [ He ] | B7: Conc. [ ppb ] | C7: very poor | D7: 81889429 | E7: 81648459 | F7: 75431903 | G7: 85352058 | H7: 82860802 | I7: 29535585 | J7: 75831816 | L7: 27 Al [ He ] | M7: Conc. [ ppb ] | O7: 81817304 | P7: 81724174 | Q7: 78119034 | R7: 77324025 | S7: 80912098 | T7: 77799993 | U7: 79032189 | V7: 77106058 | W7: 78299190
A8: 31 P | B8: Conc. [ ppb ] | D8: 563904.8 | E8: 570793.08 | F8: 1358429.6 | G8: 61302.151 | H8: 17069.647 | I8: 46286.887 | J8: 1320708.5 | L8: 31 P | M8: Conc. [ ppb ] | O8: 554838.52 | P8: 578962.95 | Q8: 1332990.1 | R8: 547579.09 | S8: 826.20461 | T8: 777.35863 | U8: 230801.53 | V8: 240646.8 | W8: 1348635.1
A9: 39 K [ He ] | B9: Conc. [ ppb ] | C9: very poor | D9: 5120722.7 | E9: 5272819.2 | F9: 43869256 | G9: 10205379 | H9: 21885515 | I9: 17883885 | J9: 43229312 | L9: 39 K [ He ] | M9: Conc. [ ppb ] | O9: 5187477.9 | P9: 5205312.5 | Q9: 44758392 | R9: 29600709 | S9: 16568607 | T9: 17539924 | U9: 21781281 | V9: 21341744 | W9: 44284788
A10: 43 Ca | B10: Conc. [ ppb ] | D10: 77413841 | E10: 77960812 | F10: 15139360 | G10: 1257242.9 | H10: 15649541 | I10: 2298750 | J10: 14851921 | L10: 43 Ca | M10: Conc. [ ppb ] | O10: 77664670 | P10: 77708048 | Q10: 15024817 | R10: 18022907 | S10: 15606782 | T10: 16809262 | U10: 22426340 | V10: 17797651 | W10: 15232975
A11: 45 Sc | B11: Conc. [ ppb ] | D11: 36003.31 | E11: 36144.013 | F11: 6812.4156 | G11: 10570.266 | H11: 12776.245 | I11: 3255.0789 | J11: 6643.942 | L11: 45 Sc | M11: Conc. [ ppb ] | O11: 36110.643 | P11: 36039.236 | Q11: 6718.2091 | R11: 10761.352 | S11: 9930.9331 | T11: 11278.352 | U11: 10637.267 | V11: 10256.653 | W11: 6783.7438
A12: 49 Ti | B12: Conc. [ ppb ] | D12: 6359462.2 | E12: 6349753.8 | F12: 3950224.3 | G12: 4299079.9 | H12: 3763307.2 | I12: 3613439.7 | J12: 3876075 | L12: 49 Ti | M12: Conc. [ ppb ] | O12: 6380053.6 | P12: 6330983.2 | Q12: 3910072.4 | R12: 3649870.3 | S12: 3970224.2 | T12: 3824660.6 | U12: 3533421.5 | V12: 3354909.1 | W12: 3951790.7
A13: 51 V | B13: Conc. [ ppb ] | D13: 260908.11 | E13: 262286.23 | F13: 50822.212 | G13: 83736.091 | H13: 75103.805 | I13: 24985.362 | J13: 50266.247 | L13: 51 V | M13: Conc. [ ppb ] | O13: 262179.96 | P13: 261055.15 | Q13: 50508.039 | R13: 75277.083 | S13: 73409.221 | T13: 81366.141 | U13: 77349.259 | V13: 65265.073 | W13: 50992.045
A14: 53 Cr | B14: Conc. [ ppb ] | D14: 92845.247 | E14: 92736.463 | F14: 20612.761 | G14: 46911.076 | H14: 44710.78 | I14: 13484.189 | J14: 20091.462 | L14: 53 Cr | M14: Conc. [ ppb ] | O14: 93134.562 | P14: 92471.729 | Q14: 20492.872 | R14: 35358.338 | S14: 33689.464 | T14: 39072.905 | U14: 64764.672 | V14: 39303.872 | W14: 20642.46
A15: 55 Mn | B15: Conc. [ ppb ] | D15: 1288560.1 | E15: 1298129.7 | F15: 319094.32 | G15: 94267.017 | H15: 301414.36 | I15: 220240.08 | J15: 315107.54 | L15: 55 Mn | M15: Conc. [ ppb ] | O15: 1297035.4 | P15: 1289912.1 | Q15: 317054.17 | R15: 497095.03 | S15: 282577.56 | T15: 343658.23 | U15: 401881.66 | V15: 341192.7 | W15: 319689.98
A16: 57 Fe | B16: Conc. [ ppb ] | D16: 75616814 | E16: 75878976 | F16: 34622863 | G16: 34052882 | H16: 32095266 | I16: 8620441.1 | J16: 34064127 | L16: 57 Fe | M16: Conc. [ ppb ] | O16: 75921080 | P16: 75586912 | Q16: 34187579 | R16: 31182225 | S16: 25951947 | T16: 30782342 | U16: 29392265 | V16: 26925778 | W16: 34560526
A17: 59 Co | B17: Conc. [ ppb ] | D17: 44388.613 | E17: 44663.498 | F17: 7377.6122 | G17: 6191.2951 | H17: 11097.319 | I17: 1604.2959 | J17: 7261.4268 | L17: 59 Co | M17: Conc. [ ppb ] | O17: 44601.884 | P17: 44455.476 | Q17: 7298.6359 | R17: 13252.464 | S17: 7363.7498 | T17: 10147.683 | U17: 14892.568 | V17: 10789.549 | W17: 7382.6476
A18: 60 Ni | B18: Conc. [ ppb ] | D18: 69965.402 | E18: 70020.237 | F18: 16273.052 | G18: 12744.779 | H18: 15816.472 | I18: 2728.7817 | J18: 16041.607 | L18: 60 Ni | M18: Conc. [ ppb ] | O18: 69876.84 | P18: 70100.493 | Q18: 15485.353 | R18: 19222.625 | S18: 13644.603 | T18: 16546.617 | U18: 19779.994 | V18: 15686.416 | W18: 16450.094
A19: 65 Cu | B19: Conc. [ ppb ] | D19: 103097.11 | E19: 102902.77 | F19: 45222.904 | G19: 3562.2379 | H19: 3754.6406 | I19: 2121.7639 | J19: 44641.353 | L19: 65 Cu | M19: Conc. [ ppb ] | O19: 103196.25 | P19: 102817.75 | Q19: 44811.94 | R19: 3939.3176 | S19: 3174.1164 | T19: 3705.2218 | U19: 5157.1284 | V19: 4319.8862 | W19: 45034.472
A20: 66 Zn | B20: Conc. [ ppb ] | D20: 76998.811 | E20: 77001.19 | F20: 118772.4 | G20: 20755.857 | H20: 37827.556 | I20: 9367.1206 | J20: 122572.18 | L20: 66 Zn | M20: Conc. [ ppb ] | O20: 75886.548 | P20: 78034.026 | Q20: 117395.16 | R20: 48869.067 | S20: 27410.678 | T20: 39335.285 | U20: 45651.846 | V20: 36409.852 | W20: 119784.8
A21: 71 Ga | B21: Conc. [ ppb ] | D21: 17408.444 | E21: 17438.811 | F21: 21473.738 | G21: 19411.607 | H21: 18721.166 | I21: 5598.4793 | J21: 21390.621 | L21: 71 Ga | M21: Conc. [ ppb ] | O21: 17402.664 | P21: 17443.078 | Q21: 21357.967 | R21: 16643.471 | S21: 16523.075 | T21: 17220.309 | U21: 17067.528 | V21: 16248.359 | W21: 21352.411
... A23: 85 Rb | B23: Conc. [ ppb ] | D23: 19775.17 | E23: 19831.795 | F23: 249009.64 | G23: 90796.871 | H23: 172551.39 | I23: 81732.561 | J23: 248584.49 | L23: 85 Rb | M23: Conc. [ ppb ] | O23: 19667.396 | P23: 19929.829 | Q23: 244406.11 | R23: 187650.15 | S23: 94585.689 | T23: 141475.41 | U23: 147722.81 | V23: 133060.66 | W23: 244198.39
A24: 86 Sr | B24: Conc. [ ppb ] | D24: 195053.41 | E24: 194603.01 | F24: 236268.28 | G24: 40092.278 | H24: 165858.56 | I24: 47126.98 | J24: 236874.69 | L24: 86 Sr | M24: Conc. [ ppb ] | N24: preferred isotope | O24: 194603.45 | P24: 195037.2 | Q24: 238009.71 | R24: 180101.1 | S24: 167171.25 | T24: 167640.6 | U24: 200938.98 | V24: 169468.39 | W24: 237120.24
A25: 88 Sr | B25: Conc. [ ppb ] | D25: 195388.56 | E25: 194267.46 | F25: 237979.71 | G25: 40427.726 | H25: 165989.34 | I25: 46972.419 | J25: 238977.57 | L25: 88 Sr | M25: Conc. [ ppb ] | O25: 194736.15 | P25: 194913.97 | Q25: 237104.56 | R25: 180716.24 | S25: 167560.28 | T25: 167326.57 | U25: 200457.84 | V25: 169261.09 | W25: 238439.17
A26: 89 Y | B26: Conc. [ ppb ] | D26: 20137.474 | E26: 20089.268 | F26: 25129.397 | G26: 23488.739 | H26: 31429.718 | I26: 12177.722 | J26: 25182.471 | L26: 89 Y | M26: Conc. [ ppb ] | O26: 20101.571 | P26: 20124.357 | Q26: 25254.947 | R26: 28531.623 | S26: 57427.441 | T26: 52614.246 | U26: 48332.013 | V26: 34688.446 | W26: 25346.028
A27: 90 Zr | B27: Conc. [ ppb ] | D27: 88589.543 | E27: 87142.239 | F27: 565221.73 | G27: 234530.61 | H27: 175038 | I27: 496494.64 | J27: 559529.27 | L27: 90 Zr | M27: Conc. [ ppb ] | N27: preferred isotope | O27: 86906.242 | P27: 88757.928 | Q27: 580345.65 | R27: 224282.34 | S27: 149437.2 | T27: 193794.93 | U27: 189196.85 | V27: 166456.28 | W27: 583776.56
A28: 91 Zr | B28: Conc. [ ppb ] | D28: 88421.463 | E28: 87310.521 | F28: 561826.13 | G28: 234687.42 | H28: 174768.65 | I28: 497173.48 | J28: 561745.83 | L28: 91 Zr | M28: Conc. [ ppb ] | O28: 87038.151 | P28: 88635.429 | Q28: 581446.3 | R28: 223214.59 | S28: 149129.29 | T28: 193732.83 | U28: 189004.47 | V28: 166021.65 | W28: 584840.92
A29: 93 Nb | B29: Conc. [ ppb ] | D29: 7304.5479 | E29: 7245.9597 | F29: 26566.299 | G29: 11074.586 | H29: 9616.4496 | I29: 10512.09 | J29: 26553.925 | L29: 93 Nb | M29: Conc. [ ppb ] | O29: 7328.2596 | P29: 7226.0632 | Q29: 26310.549 | R29: 9622.6139 | S29: 10204.163 | T29: 9653.7846 | U29: 8204.4596 | V29: 8309.9414 | W29: 26353.249
A30: 98 Mo | B30: Conc. [ ppb ] | D30: 419.64261 | E30: 427.05784 | F30: 2547.9852 | G30: 1833.0559 | H30: 634.1434 | I30: 1085.6206 | J30: 2529.7842 | L30: 98 Mo | M30: Conc. [ ppb ] | O30: 428.07839 | P30: 418.95502 | Q30: 2579.5193 | R30: 1072.7396 | S30: 1691.3074 | T30: 671.3898 | U30: 1095.8201 | V30: 2277.6294 | W30: 2592.2843
A31: 114 Cd | B31: Conc. [ ppb ] | D31: 77.402086 | E31: 76.597428 | F31: 89.113592 | G31: 7.8024224 | H31: 35.416467 | I31: 10.545783 | J31: 92.869644 | L31: 114 Cd | M31: Conc. [ ppb ] | O31: 75.782782 | P31: 78.13039 | Q31: 89.984227 | R31: 47.609896 | S31: 33.843966 | T31: 33.511589 | U31: 48.151398 | V31: 40.4329 | W31: 97.128062
A32: 115 In | B32: Conc. [ ppb ] | D32: 64.585155 | E32: 64.614863 | F32: 54.882723 | G32: 56.134894 | H32: 50.872288 | I32: 14.792636 | J32: 53.78419 | L32: 115 In | M32: Conc. [ ppb ] | O32: 64.78352 | P32: 64.429571 | Q32: 55.460871 | R32: 45.964703 | S32: 48.715331 | T32: 49.127897 | U32: 48.122015 | V32: 45.579794 | W32: 52.938296
A33: 120 Sn | B33: Conc. [ ppb ] | D33: 1930.8252 | E33: 1969.198 | F33: 5530.9022 | G33: 4459.9929 | H33: 5674.8751 | I33: 1717.697 | J33: 5552.0015 | L33: 120 Sn | M33: Conc. [ ppb ] | O33: 1939.49 | P33: 1959.7603 | Q33: 5645.0802 | R33: 5023.9288 | S33: 4944.5355 | T33: 5544.0833 | U33: 4935.9817 | V33: 4784.244 | W33: 5700.104
A34: 121 Sb | B34: Conc. [ ppb ] | D34: 700.05083 | E34: 717.95999 | F34: 312.00605 | G34: 248.72918 | H34: 125.33195 | I34: 160.96918 | J34: 312.96515 | L34: 121 Sb | M34: Conc. [ ppb ] | O34: 696.10148 | P34: 720.97843 | Q34: 311.42073 | R34: 131.00549 | S34: 166.0533 | T34: 138.51181 | U34: 111.80207 | V34: 117.33864 | W34: 318.3947
A35: 133 Cs | B35: Conc. [ ppb ] | D35: 887.60655 | E35: 888.73485 | F35: 1187.1788 | G35: 9395.6481 | H35: 16387.548 | I35: 3335.1175 | J35: 1195.1165 | L35: 133 Cs | M35: Conc. [ ppb ] | O35: 884.75318 | P35: 891.34378 | Q35: 1170.6113 | R35: 13998.127 | S35: 8057.5547 | T35: 13286.155 | U35: 11941.877 | V35: 11864.916 | W35: 1185.45
A36: 135 Ba | B36: Conc. [ ppb ] | D36: 170125.01 | E36: 169234.46 | F36: 1359905.8 | G36: 162560.44 | H36: 389110.61 | I36: 300146.71 | J36: 1357835.2 | L36: 135 Ba | M36: Conc. [ ppb ] | O36: 169321.59 | P36: 170012.84 | Q36: 1358255.2 | R36: 518704.34 | S36: 374365.48 | T36: 353602.6 | U36: 380990.53 | V36: 371024.36 | W36: 1367442.8
A37: 137 Ba | B37: Conc. [ ppb ] | D37: 170509.49 | E37: 168849.51 | F37: 1367035.2 | G37: 162557.57 | H37: 389915.96 | I37: 301111.88 | J37: 1372013.9 | L37: 137 Ba | M37: Conc. [ ppb ] | N37: preferred isotope | O37: 169409.37 | P37: 169931.32 | Q37: 1356668.2 | R37: 518473.41 | S37: 374826.93 | T37: 352945.42 | U37: 381543.94 | V37: 370857.16 | W37: 1367823.7
A38: 139 La | B38: Conc. [ ppb ] | D38: 10509.871 | E38: 10532.101 | F38: 186058.75 | G38: 37137.309 | H38: 42283.085 | I38: 13506.753 | J38: 185868.56 | L38: 139 La | M38: Conc. [ ppb ] | O38: 10466.787 | P38: 10571.306 | Q38: 185604.43 | R38: 14663.156 | S38: 81986.954 | T38: 72354.934 | U38: 64208.079 | V38: 45091.684 | W38: 189659.99
A39: 140 Ce | B39: Conc. [ ppb ] | D39: 23182.621 | E39: 23250.256 | F39: 450111.67 | G39: 73713.464 | H39: 87731.061 | I39: 26518.729 | J39: 449870.25 | L39: 140 Ce | M39: Conc. [ ppb ] | O39: 23067.06 | P39: 23355.123 | Q39: 443078.14 | R39: 63896.607 | S39: 146607.9 | T39: 131841.64 | U39: 129930.97 | V39: 170688.39 | W39: 451640.18
A40: 141 Pr | B40: Conc. [ ppb ] | D40: 3022.4427 | E40: 3028.417 | F40: 56572.023 | G40: 9134.465 | H40: 11738.746 | I40: 3015.2159 | J40: 56615.135 | L40: 141 Pr | M40: Conc. [ ppb ] | O40: 3014.4723 | P40: 3035.6023 | Q40: 56331.376 | R40: 4875.7207 | S40: 18278.717 | T40: 16186.816 | U40: 15210.93 | V40: 10882.138 | W40: 56474.152
A41: 146 Nd | B41: Conc. [ ppb ] | D41: 12917.294 | E41: 12904.744 | F41: 208825.6 | G41: 33240.921 | H41: 46417.996 | I41: 10545.595 | J41: 209060.22 | L41: 146 Nd | M41: Conc. [ ppb ] | O41: 12872.007 | P41: 12947.255 | Q41: 208608.93 | R41: 19547.866 | S41: 66394.372 | T41: 58109.52 | U41: 55405.819 | V41: 40343.876 | W41: 208818.62
...

Sheet Supplementary Table 5
A1: Supplementary Table 5. All BGCs (>10kbp) identified in the metagenomes using AntiSMASH
A2: Sample | B2: Contig | C2: BGC | D2: Length (kb) | E2: Document Name | F2: TonB_dep_Rec
A3: Intermediate | B3: RPR_I_A1_k141_72472 | C3: NRPS-like | D3: 24958 | E3: c332817_RPR_I_A.. | F3: 1
A4: Intermediate | B4: RPR_I_A2_k141_2430188 | C4: T3PKS | D4: 26823 | E4: c94911_RPR_I_A.. | F4: 1 | H4: 285814
A5: Intermediate | B5: RPR_I_B1_k141_1445868 | C5: T3PKS | D5: 70633 | E5: c286731_RPR_I_B.. | F5: 1
A6: Intermediate | B6: RPR_I_C1_k141_3167988 | C6: NRPS | D6: 43498 | E6: c124894_RPR_I_C.. | F6: 1
A7: Intermediate | B7: RPR_I_C2_k141_121008 | C7: T3PKS | D7: 41086 | E7: c212962_RPR_I_C.. | F7: 1
A8: Intermediate | B8: RPR_I_C2_k141_203410 | C8: T3PKS | D8: 37715 | E8: c147533_RPR_I_C.. | F8: 1
A9: Intermediate | B9: RPR_I_C2_k141_3565165 | C9: T3PKS | D9: 41101 | E9: c326031_RPR_I_C.. | F9: 1
A10: Soil | B10: RPR_S_A2_k141_5483102 | C10: NRPS | D10: 56530 | E10: c41369_RPR_S_A.. | F10: 1
A11: Soil | B11: RPR_S_B1_k141_4519125 | C11: T3PKS | D11: 26637 | E11: c283559_RPR_S_B.. | F11: 1
A12: Soil | B12: RPR_S_B1_k141_4926228 | C12: NRPS | D12: 37129 | E12: c46427_RPR_S_B.. | F12: 1
A13: Soil | B13: RPR_S_B1_k141_7830198 | C13: NRPS | D13: 62191 | E13: c90217_RPR_S_B.. | F13: 1
A14: Soil | B14: RPR_S_B2_k141_1388478 | C14: NRPS | D14: 12784 | E14: c115540_RPR_S_B.. | F14: 1
A15: Soil | B15: RPR_S_B2_k141_6121446 | C15: T1PKS | D15: 43697 | E15: c95096_RPR_S_B.. | F15: 1
A16: Soil | B16: RPR_S_B2_k141_6428280 | C16: NRPS-like | D16: 42532 | E16: c10383_RPR_S_B.. | F16: 1
... A24: Intermediate | B24: RPR_I_C2_k141_1830774 | C24: NRPS | D24: 51521 | E24: c230161_RPR_I_C.. | F24: 3
A25: Intermediate | B25: RPR_I_A1_k141_1004376 | C25: terpene | D25: 11978 | E25: c221338_RPR_I_A..
A26: Intermediate | B26: RPR_I_A1_k141_1005570 | C26: T1PKS | D26: 43474 | E26: c218926_RPR_I_A..
A27: Intermediate | B27: RPR_I_A1_k141_1026112 | C27: NRPS-like | D27: 43669 | E27: c23500_RPR_I_A..
A28: Intermediate | B28: RPR_I_A1_k141_1031980 | C28: lanthipeptide | D28: 17717 | E28: c43740_RPR_I_A..
A29: Intermediate | B29: RPR_I_A1_k141_1035034 | C29: terpene | D29: 20990 | E29: c77429_RPR_I_A..
A30: Intermediate | B30: RPR_I_A1_k141_1084014 | C30: T3PKS | D30: 22559 | E30: c327595_RPR_I_A..
A31: Intermediate | B31: RPR_I_A1_k141_1090920 | C31: arylpolyene | D31: 29460 | E31: c10854_RPR_I_A..
A32: Intermediate | B32: RPR_I_A1_k141_1125829 | C32: T3PKS | D32: 14830 | E32: c242947_RPR_I_A..
A33: Intermediate | B33: RPR_I_A1_k141_1152295 | C33: bacteriocin | D33: 10849 | E33: c53263_RPR_I_A..
A34: Intermediate | B34: RPR_I_A1_k141_1170476 | C34: betalactone | D34: 24032 | E34: c131075_RPR_I_A..
A35: Intermediate | B35: RPR_I_A1_k141_1186241 | C35: hglE-KS | D35: 38331 | E35: c251603_RPR_I_A..
A36: Intermediate | B36: RPR_I_A1_k141_120812 | C36: T3PKS | D36: 22343 | E36: c24264_RPR_I_A..
... A1902: Saprolite | B1902: RPR_SA_C2_k141_992982 | C1902: terpene | D1902: 11139 | E1902: c152442_RPR_SA_..

Sheet Supplementary Table 6
A1: Supplementary Table 6. all BGCs (>10kbp) from the dereplicated genome set
A2: Weathered zone | B2: Bin name | C2: Phylum | D2: BCG bearing contig | E2: Product | F2: Length
A3: Intermediate | B3: RPR_I_A1_23_sub | C3: Proteobacteria | D3: RPR_I_A1_k141_2621978 | E3: bacteriocin | F3: 11869
A4: Intermediate | B4: RPR_I_A1_23_sub | C4: Proteobacteria | D4: RPR_I_A1_k141_2050336 | E4: TfuA-related | F4: 15333
A5: Intermediate | B5: RPR_I_A1_23_sub | C5: Proteobacteria | D5: RPR_I_A1_k141_226522 | E5: terpene | F5: 15604
A6: Intermediate | B6: RPR_I_A1_23_sub | C6: Proteobacteria | D6: RPR_I_A1_k141_2442802 | E6: hserlactone | F6: 17339
A7: Intermediate | B7: RPR_I_A1_23_sub | C7: Proteobacteria | D7: RPR_I_A1_k141_130384 | E7: T3PKS | F7: 18358
A8: Intermediate | B8: RPR_I_A1_23_sub | C8: Proteobacteria | D8: RPR_I_A1_k141_1276697 | E8: terpene | F8: 20633
A9: Intermediate | B9: RPR_I_A1_23_sub | C9: Proteobacteria | D9: RPR_I_A1_k141_1456392 | E9: terpene | F9: 21212
A10: Intermediate | B10: RPR_I_A1_43 | C10: Proteobacteria | D10: RPR_I_A1_k141_1356077 | E10: terpene | F10: 13421
A11: Intermediate | B11: RPR_I_A1_43 | C11: Proteobacteria | D11: RPR_I_A1_k141_925599 | E11: indole | F11: 22013
A12: Intermediate | B12: RPR_I_A1_43 | C12: Proteobacteria | D12: RPR_I_A1_k141_925599 | E12: T3PKS | F12: 26823
A13: Intermediate | B13: RPR_I_A1_61 | C13: Proteobacteria | D13: RPR_I_A1_k141_747978 | E13: terpene | F13: 11160
A14: Intermediate | B14: RPR_I_A1_65 | C14: Actinobacteria | D14: RPR_I_A1_k141_1697781 | E14: terpene | F14: 15066
... A459: Saprolite | B459: RPR_SA_C2_Acidobacteria_56_36 | C459: Acidobacteria | D459: RPR_SA_C2_k141_4431402 | E459: NRPS-like | F459: 21685

Sheet Supplementary Table 7
A1: Supplementary Table 7. EDX results for minerals in figure 6
B3: Element | C3: Line Type | D3: Apparent Concentration | E3: k Ratio | F3: Wt% | G3: Wt% Sigma | H3: Atomic % | I3: Standard Label
A4: ei9 sp10 | B4: C | C4: K series | D4: 0.08 | E4: 0.00075 | F4: 5.68 | G4: 0.85 | H4: 15.39 | I4: C Vit
A5: ei9 sp10 | B5: O | C5: K series | D5: 1.84 | E5: 0.0062 | F5: 27.2 | G5: 1.33 | H5: 55.35 | I5: SiO2
A6: ei9 sp10 | B6: Si | C6: K series | D6: 0.05 | E6: 0.00037 | F6: 1.32 | G6: 0.26 | H6: 1.52 | I6: SiO2
A7: ei9 sp10 | B7: P | C7: K series | D7: 0.72 | E7: 0.00404 | F7: 13.87 | G7: 0.79 | H7: 14.58 | I7: GaP
A8: ei9 sp10 | B8: Ca | C8: K series | D8: 0.07 | E8: 0.00063 | F8: 1.83 | G8: 0.45 | H8: 1.48 | I8: Wollastonite
A9: ei9 sp10 | B9: La | C9: L series | D9: 0.43 | E9: 0.00384 | F9: 15.75 | G9: 2.31 | H9: 3.69 | I9: LaB6
A10: ei9 sp10 | B10: Ce | C10: L series | D10: 0.9 | E10: 0.00841 | F10: 34.37 | G10: 2.34 | H10: 7.99 | I10: CeO2
B11: Total: | F11: 100 | H11: 100
B14: Element | C14: Line Type | D14: Apparent Concentration | E14: k Ratio | F14: Wt% | G14: Wt% Sigma | H14: Atomic % | I14: Standard Label
A15: ei11 sp12 | B15: C | C15: K series | D15: 0.12 | E15: 0.00119 | F15: 7.53 | G15: 0.87 | H15: 17.97 | I15: C Vit
A16: ei11 sp12 | B16: O | C16: K series | D16: 2.61 | E16: 0.00879 | F16: 32.83 | G16: 1.59 | H16: 58.79 | I16: SiO2
A17: ei11 sp12 | B17: Si | C17: K series | D17: 0.05 | E17: 0.0004 | F17: 1.22 | G17: 0.23 | H17: 1.25 | I17: SiO2
A18: ei11 sp12 | B18: P | C18: K series | D18: 0.8 | E18: 0.00447 | F18: 13.22 | G18: 0.75 | H18: 12.23 | I18: GaP
A19: ei11 sp12 | B19: Ca | C19: K series | D19: 0.05 | E19: 0.00043 | F19: 1.1 | G19: 0.35 | H19: 0.79 | I19: Wollastonite
A20: ei11 sp12 | B20: La | C20: L series | D20: 0.41 | E20: 0.00365 | F20: 13.14 | G20: 1.92 | H20: 2.71 | I20: LaB6
A21: ei11 sp12 | B21: Ce | C21: L series | D21: 0.63 | E21: 0.0059 | F21: 21.14 | G21: 2.15 | H21: 4.32 | I21: CeO2
A22: ei11 sp12 | B22: Nd | C22: L series | D22: 0.27 | E22: 0.00271 | F22: 9.81 | G22: 2.62 | H22: 1.95 | I22: Nd (v)
B23: Total: | F23: 100 | H23: 100
B26: Element | C26: Line Type | D26: Apparent Concentration | E26: k Ratio | F26: Wt% | G26: Wt% Sigma | H26: Standard Label | I26: Factory Standard | J26: Standard Calibration Date
A27: ei29 sp47 | B27: O | C27: K series | D27: 0.13 | E27: 0.00045 | F27: 8.51 | G27: 0.5 | H27: SiO2 | I27: Yes
A28: ei29 sp47 | B28: Mg | C28: K series | D28: 0.01 | E28: 5e-05 | F28: 0.76 | G28: 0.15 | H28: MgO | I28: Yes
A29: ei29 sp47 | B29: Al | C29: K series | D29: 0.08 | E29: 0.0006 | F29: 8.25 | G29: 0.49 | H29: Al2O3 | I29: Yes
A30: ei29 sp47 | B30: Si | C30: K series | D30: 0.15 | E30: 0.00115 | F30: 14.33 | G30: 0.77 | H30: SiO2 | I30: Yes
A31: ei29 sp47 | B31: P | C31: K series | D31: 0.12 | E31: 0.00066 | F31: 8.27 | G31: 0.52 | H31: GaP | I31: Yes
A32: ei29 sp47 | B32: K | C32: K series | D32: 0.01 | E32: 0.00012 | F32: 1.27 | G32: 0.33 | H32: KBr | I32: Yes
A33: ei29 sp47 | B33: Ca | C33: K series | D33: 0.07 | E33: 0.00066 | F33: 6.67 | G33: 0.55 | H33: Wollastonite | I33: Yes
A34: ei29 sp47 | B34: Fe | C34: K series | D34: 0.11 | E34: 0.00107 | F34: 11.79 | G34: 1.79 | H34: Fe | I34: Yes
A35: ei29 sp47 | B35: La | C35: L series | D35: 0.13 | E35: 0.0012 | F35: 16.78 | G35: 1.99 | H35: LaB6 | I35: Yes
A36: ei29 sp47 | B36: Ce | C36: L series | D36: 0.06 | E36: 0.0006 | F36: 8.38 | G36: 2.21 | H36: CeO2 | I36: Yes
A37: ei29 sp47 | B37: Nd | C37: L series | D37: 0.11 | E37: 0.00107 | F37: 14.99 | G37: 2.62 | H37: Nd (v) | I37: Yes
B38: Total: | F38: 100
B40: Element | C40: Line Type | D40: Apparent Concentration | E40: k Ratio | F40: Wt% | G40: Wt% Sigma | H40: Standard Label | I40: Factory Standard | J40: Standard Calibration Date
A41: ei 33 sp 25 | B41: C | C41: K series | D41: 8.53 | E41: 0.08535 | F41: 20.88 | G41: 0.6 | H41: C Vit | I41: Yes
A42: ei 33 sp 25 | B42: O | C42: K series | D42: 60.21 | E42: 0.20262 | F42: 38.24 | G42: 0.39 | H42: SiO2 | I42: Yes
A43: ei 33 sp 25 | B43: Mg | C43: K series | D43: 1.21 | E43: 0.00802 | F43: 0.96 | G43: 0.06 | H43: MgO | I43: Yes
A44: ei 33 sp 25 | B44: Al | C44: K series | D44: 4.38 | E44: 0.03146 | F44: 3.12 | G44: 0.07 | H44: Al2O3 | I44: Yes
A45: ei 33 sp 25 | B45: Si | C45: K series | D45: 7.98 | E45: 0.0632 | F45: 5.23 | G45: 0.09 | H45: SiO2 | I45: Yes
A46: ei 33 sp 25 | B46: P | C46: K series | D46: 15.74 | E46: 0.08806 | F46: 6.86 | G46: 0.11 | H46: GaP | I46: Yes
...
