Workbook

Sheet Gastric1
A1: Table S3. Numbers of genotypes and single nucleotide variations detected on different chromosomes in various cancer samples.
A3: Table S3.1 Gastric1
A5: Chromosome | B5: Total captured sites | C5: MM | D5: mm | E5: Mm | F5: GOH | G5: GOH-M | H5: GOH-m | I5: LOH | J5: Mm->MM | K5: Mm->mm | L5: LOH / Total captured sites (×10-5)
A6: Chr1 | B6: =C6+D6+E6 -> 1499737 | C6: 1499417 | D6: 107 | E6: 213 | F6: 12 | G6: 10 | H6: 2 | I6: 51 | J6: 42 | K6: 9 | L6: =I6/B6*100000 -> 3.4005962
A7: Chr2 | B7: =C7+D7+E7 -> 1060900 | C7: 1060687 | D7: 80 | E7: 133 | F7: 7 | G7: 7 | H7: 0 | I7: 23 | J7: 18 | K7: 5 | L7: =I7/B7*100000 -> 2.1679706
A8: Chr3 | B8: =C8+D8+E8 -> 878751 | C8: 878580 | D8: 68 | E8: 103 | F8: 10 | G8: 9 | H8: 1 | I8: 28 | J8: 25 | K8: 3 | L8: =I8/B8*100000 -> 3.1863406
A9: Chr4 | B9: =C9+D9+E9 -> 690955 | C9: 690806 | D9: 59 | E9: 90 | F9: 3 | G9: 3 | H9: 0 | I9: 21 | J9: 17 | K9: 4 | L9: =I9/B9*100000 -> 3.0392717
A10: Chr5 | B10: =C10+D10+E10 -> 689300 | C10: 689154 | D10: 54 | E10: 92 | F10: 3 | G10: 3 | H10: 0 | I10: 20 | J10: 18 | K10: 2 | L10: =I10/B10*100000 -> 2.9014943
A11: Chr6 | B11: =C11+D11+E11 -> 786244 | C11: 786049 | D11: 72 | E11: 123 | F11: 8 | G11: 6 | H11: 2 | I11: 25 | J11: 20 | K11: 5 | L11: =I11/B11*100000 -> 3.1796745
A12: Chr7 | B12: =C12+D12+E12 -> 904662 | C12: 904479 | D12: 61 | E12: 122 | F12: 3 | G12: 2 | H12: 1 | I12: 35 | J12: 25 | K12: 10 | L12: =I12/B12*100000 -> 3.8688483
A13: Chr8 | B13: =C13+D13+E13 -> 547520 | C13: 547403 | D13: 44 | E13: 73 | F13: 3 | G13: 2 | H13: 1 | I13: 18 | J13: 16 | K13: 2 | L13: =I13/B13*100000 -> 3.2875511
A14: Chr9 | B14: =C14+D14+E14 -> 639274 | C14: 639142 | D14: 52 | E14: 80 | F14: 4 | G14: 4 | H14: 0 | I14: 18 | J14: 13 | K14: 5 | L14: =I14/B14*100000 -> 2.8156941
A15: Chr10 | B15: =C15+D15+E15 -> 755482 | C15: 755300 | D15: 67 | E15: 115 | F15: 11 | G15: 9 | H15: 2 | I15: 24 | J15: 22 | K15: 2 | L15: =I15/B15*100000 -> 3.1767799
A16: Chr11 | B16: =C16+D16+E16 -> 676588 | C16: 676435 | D16: 51 | E16: 102 | F16: 4 | G16: 4 | H16: 0 | I16: 21 | J16: 21 | K16: 0 | L16: =I16/B16*100000 -> 3.1038091
A17: Chr12 | B17: =C17+D17+E17 -> 841973 | C17: 841795 | D17: 78 | E17: 100 | F17: 6 | G17: 5 | H17: 1 | I17: 18 | J17: 13 | K17: 5 | L17: =I17/B17*100000 -> 2.1378358
... A27: Chr22 | B27: =C27+D27+E27 -> 462927 | C27: 462828 | D27: 30 | E27: 69 | F27: 3 | G27: 3 | H27: 0 | I27: 12 | J27: 10 | K27: 2 | L27: =I27/B27*100000 -> 2.5922014
A29: Chromosome | B29: Total captured sites | C29: M | D29: m
A30: ChrX | B30: =C30+D30+E30 -> 504973 | C30: 504950 | D30: 23
A31: ChrY | B31: =C31+D31+E31 -> 3005 | C31: 3005 | D31: 0

Sheet Gastric2
A3: Table S3.2 Gastric2
A5: Chromosome | B5: Total captured sites | C5: MM | D5: mm | E5: Mm | F5: GOH | G5: GOH-M | H5: GOH-m | I5: LOH | J5: Mm->MM | K5: Mm->mm | L5: LOH / Total captured sites (×10-5)
A6: Chr1 | B6: =C6+D6+E6 -> 2298658 | C6: 2297669 | D6: 406 | E6: 583 | F6: 11 | G6: 9 | H6: 2 | I6: 1 | J6: 1 | K6: 0 | L6: =I6/B6*100000 -> 0.043503644
A7: Chr2 | B7: =C7+D7+E7 -> 1674790 | C7: 1674020 | D7: 335 | E7: 435 | F7: 6 | G7: 4 | H7: 2 | I7: 1 | J7: 1 | K7: 0 | L7: =I7/B7*100000 -> 0.059708978
A8: Chr3 | B8: =C8+D8+E8 -> 1402817 | C8: 1402123 | D8: 337 | E8: 357 | F8: 7 | G8: 4 | H8: 3 | I8: 3 | J8: 3 | K8: 0 | L8: =I8/B8*100000 -> 0.21385541
A9: Chr4 | B9: =C9+D9+E9 -> 1114839 | C9: 1114213 | D9: 291 | E9: 335 | F9: 4 | G9: 4 | H9: 0 | I9: 1 | J9: 1 | K9: 0 | L9: =I9/B9*100000 -> 0.089699051
A10: Chr5 | B10: =C10+D10+E10 -> 1099327 | C10: 1098851 | D10: 192 | E10: 284 | F10: 11 | G10: 8 | H10: 3 | I10: 0 | J10: 0 | K10: 0 | L10: =I10/B10*100000 -> 0
A11: Chr6 | B11: =C11+D11+E11 -> 1246969 | C11: 1246292 | D11: 302 | E11: 375 | F11: 11 | G11: 9 | H11: 2 | I11: 1 | J11: 1 | K11: 0 | L11: =I11/B11*100000 -> 0.080194456
A12: Chr7 | B12: =C12+D12+E12 -> 1379238 | C12: 1378611 | D12: 244 | E12: 383 | F12: 5 | G12: 4 | H12: 1 | I12: 2 | J12: 0 | K12: 2 | L12: =I12/B12*100000 -> 0.14500761
A13: Chr8 | B13: =C13+D13+E13 -> 890981 | C13: 890511 | D13: 196 | E13: 274 | F13: 11 | G13: 7 | H13: 4 | I13: 0 | J13: 0 | K13: 0 | L13: =I13/B13*100000 -> 0
A14: Chr9 | B14: =C14+D14+E14 -> 1018034 | C14: 1017464 | D14: 274 | E14: 296 | F14: 10 | G14: 6 | H14: 4 | I14: 1 | J14: 1 | K14: 0 | L14: =I14/B14*100000 -> 0.098228546
A15: Chr10 | B15: =C15+D15+E15 -> 1172143 | C15: 1171534 | D15: 296 | E15: 313 | F15: 10 | G15: 9 | H15: 1 | I15: 1 | J15: 0 | K15: 1 | L15: =I15/B15*100000 -> 0.085313823
A16: Chr11 | B16: =C16+D16+E16 -> 1046464 | C16: 1045952 | D16: 249 | E16: 263 | F16: 8 | G16: 6 | H16: 2 | I16: 0 | J16: 0 | K16: 0 | L16: =I16/B16*100000 -> 0
A17: Chr12 | B17: =C17+D17+E17 -> 1276454 | C17: 1275830 | D17: 326 | E17: 298 | F17: 13 | G17: 10 | H17: 3 | I17: 1 | J17: 0 | K17: 1 | L17: =I17/B17*100000 -> 0.078342032
... A27: Chr22 | B27: =C27+D27+E27 -> 676800 | C27: 676474 | D27: 120 | E27: 206 | F27: 6 | G27: 6 | H27: 0 | I27: 1 | J27: 1 | K27: 0 | L27: =I27/B27*100000 -> 0.14775414
A29: Chromosome | B29: Total captured sites | C29: M | D29: m
A30: ChrX | B30: =C30+D30+E30 -> 500513 | C30: 500435 | D30: 78
A31: ChrY | B31: =C31+D31+E31 -> 36105 | C31: 36104 | D31: 1

Sheet Gastric3
A3: Table S3.3 Gastric3
A5: Chromosome | B5: Total captured sites | C5: MM | D5: mm | E5: Mm | F5: GOH | G5: GOH-M | H5: GOH-m | I5: LOH | J5: Mm->MM | K5: Mm->mm | L5: LOH / Total captured sites (×10-5)
A6: Chr1 | B6: =C6+D6+E6 -> 2463645 | C6: 2462860 | D6: 444 | E6: 341 | F6: 10 | G6: 9 | H6: =F6-G6 -> 1 | I6: 22 | J6: 15 | K6: =I6-J6 -> 7 | L6: =I6/B6*100000 -> 0.8929858
A7: Chr2 | B7: =C7+D7+E7 -> 1694520 | C7: 1693822 | D7: 305 | E7: 393 | F7: 2 | G7: 2 | H7: =F7-G7 -> 0 | I7: 4 | J7: 4 | K7: =I7-J7 -> 0 | L7: =I7/B7*100000 -> 0.23605505
A8: Chr3 | B8: =C8+D8+E8 -> 1537819 | C8: 1537278 | D8: 313 | E8: 228 | F8: 4 | G8: 4 | H8: =F8-G8 -> 0 | I8: 2 | J8: 1 | K8: =I8-J8 -> 1 | L8: =I8/B8*100000 -> 0.13005432
A9: Chr4 | B9: =C9+D9+E9 -> 972472 | C9: 971974 | D9: 243 | E9: 255 | F9: 5 | G9: 5 | H9: =F9-G9 -> 0 | I9: 1 | J9: 1 | K9: =I9-J9 -> 0 | L9: =I9/B9*100000 -> 0.10283072
A10: Chr5 | B10: =C10+D10+E10 -> 1112217 | C10: 1111753 | D10: 192 | E10: 272 | F10: 3 | G10: 2 | H10: =F10-G10 -> 1 | I10: 3 | J10: 3 | K10: =I10-J10 -> 0 | L10: =I10/B10*100000 -> 0.26973154
A11: Chr6 | B11: =C11+D11+E11 -> 1233090 | C11: 1232624 | D11: 288 | E11: 178 | F11: 2 | G11: 1 | H11: =F11-G11 -> 1 | I11: 12 | J11: 8 | K11: =I11-J11 -> 4 | L11: =I11/B11*100000 -> 0.97316498
A12: Chr7 | B12: =C12+D12+E12 -> 1481602 | C12: 1480981 | D12: 287 | E12: 334 | F12: 4 | G12: 3 | H12: =F12-G12 -> 1 | I12: 7 | J12: 5 | K12: =I12-J12 -> 2 | L12: =I12/B12*100000 -> 0.47246157
A13: Chr8 | B13: =C13+D13+E13 -> 854479 | C13: 854156 | D13: 197 | E13: 126 | F13: 4 | G13: 4 | H13: =F13-G13 -> 0 | I13: 0 | J13: 0 | K13: =I13-J13 -> 0 | L13: =I13/B13*100000 -> 0
A14: Chr9 | B14: =C14+D14+E14 -> 1057354 | C14: 1056772 | D14: 302 | E14: 280 | F14: 1 | G14: 1 | H14: =F14-G14 -> 0 | I14: 1 | J14: 1 | K14: =I14-J14 -> 0 | L14: =I14/B14*100000 -> 0.094575705
A15: Chr10 | B15: =C15+D15+E15 -> 1064076 | C15: 1063749 | D15: 243 | E15: 84 | F15: 1 | G15: 1 | H15: =F15-G15 -> 0 | I15: 5 | J15: 2 | K15: =I15-J15 -> 3 | L15: =I15/B15*100000 -> 0.46989125
A16: Chr11 | B16: =C16+D16+E16 -> 1094080 | C16: 1093720 | D16: 230 | E16: 130 | F16: 3 | G16: 3 | H16: =F16-G16 -> 0 | I16: 10 | J16: 6 | K16: =I16-J16 -> 4 | L16: =I16/B16*100000 -> 0.91400994
A17: Chr12 | B17: =C17+D17+E17 -> 1200002 | C17: 1199391 | D17: 253 | E17: 358 | F17: 3 | G17: 3 | H17: =F17-G17 -> 0 | I17: 2 | J17: 1 | K17: =I17-J17 -> 1 | L17: =I17/B17*100000 -> 0.16666639
... A27: Chr22 | B27: =C27+D27+E27 -> 642651 | C27: 642477 | D27: 118 | E27: 56 | F27: 3 | G27: 2 | H27: =F27-G27 -> 1 | I27: 4 | J27: 2 | K27: =I27-J27 -> 2 | L27: =I27/B27*100000 -> 0.62242181
A29: Chromosome | B29: Total captured sites | C29: M | D29: m
A30: ChrX | B30: =C30+D30+E30 -> 520873 | C30: 520787 | D30: 86
A31: ChrY | B31: =C31+D31+E31 -> 17688 | C31: 17686 | D31: 2

Sheet Gastric4
A3: Table S3.4 Gastric4
A5: Chromosome | B5: Total captured sites | C5: MM | D5: mm | E5: Mm | F5: GOH | G5: GOH-M | H5: GOH-m | I5: LOH | J5: Mm->MM | K5: Mm->mm | L5: LOH / Total captured sites (×10-5)
A6: Chr1 | B6: =C6+D6+E6 -> 1751169 | C6: 1750604 | D6: 223 | E6: 342 | F6: 9 | G6: 9 | H6: =SUM(F6-G6) -> 0 | I6: 1 | J6: 1 | K6: =I6-J6 -> 0 | L6: =I6/B6*100000 -> 0.057104711
A7: Chr2 | B7: =C7+D7+E7 -> 1105008 | C7: 1104703 | D7: 148 | E7: 157 | F7: 1 | G7: 1 | H7: =SUM(F7-G7) -> 0 | I7: 6 | J7: 5 | K7: =I7-J7 -> 1 | L7: =I7/B7*100000 -> 0.54298249
A8: Chr3 | B8: =C8+D8+E8 -> 947908 | C8: 947565 | D8: 144 | E8: 199 | F8: 4 | G8: 2 | H8: =SUM(F8-G8) -> 2 | I8: 2 | J8: 2 | K8: =I8-J8 -> 0 | L8: =I8/B8*100000 -> 0.21099094
A9: Chr4 | B9: =C9+D9+E9 -> 633043 | C9: 632872 | D9: 109 | E9: 62 | F9: 3 | G9: 3 | H9: =SUM(F9-G9) -> 0 | I9: 3 | J9: 2 | K9: =I9-J9 -> 1 | L9: =I9/B9*100000 -> 0.47390146
A10: Chr5 | B10: =C10+D10+E10 -> 711603 | C10: 711420 | D10: 94 | E10: 89 | F10: 2 | G10: 2 | H10: =SUM(F10-G10) -> 0 | I10: 8 | J10: 7 | K10: =I10-J10 -> 1 | L10: =I10/B10*100000 -> 1.1242224
A11: Chr6 | B11: =C11+D11+E11 -> 857805 | C11: 857452 | D11: 142 | E11: 211 | F11: 4 | G11: 3 | H11: =SUM(F11-G11) -> 1 | I11: 3 | J11: 1 | K11: =I11-J11 -> 2 | L11: =I11/B11*100000 -> 0.34972983
A12: Chr7 | B12: =C12+D12+E12 -> 1088329 | C12: 1087990 | D12: 117 | E12: 222 | F12: 1 | G12: 1 | H12: =SUM(F12-G12) -> 0 | I12: 5 | J12: 3 | K12: =I12-J12 -> 2 | L12: =I12/B12*100000 -> 0.4594199
A13: Chr8 | B13: =C13+D13+E13 -> 627277 | C13: 627069 | D13: 102 | E13: 106 | F13: 1 | G13: 0 | H13: =SUM(F13-G13) -> 1 | I13: 1 | J13: 1 | K13: =I13-J13 -> 0 | L13: =I13/B13*100000 -> 0.1594192
A14: Chr9 | B14: =C14+D14+E14 -> 677255 | C14: 677071 | D14: 86 | E14: 98 | F14: 1 | G14: 1 | H14: =SUM(F14-G14) -> 0 | I14: 3 | J14: 3 | K14: =I14-J14 -> 0 | L14: =I14/B14*100000 -> 0.44296461
A15: Chr10 | B15: =C15+D15+E15 -> 869649 | C15: 869283 | D15: 139 | E15: 227 | F15: 1 | G15: 1 | H15: =SUM(F15-G15) -> 0 | I15: 0 | J15: 0 | K15: =I15-J15 -> 0 | L15: =I15/B15*100000 -> 0
A16: Chr11 | B16: =C16+D16+E16 -> 784480 | C16: 784202 | D16: 104 | E16: 174 | F16: 2 | G16: 2 | H16: =SUM(F16-G16) -> 0 | I16: 1 | J16: 1 | K16: =I16-J16 -> 0 | L16: =I16/B16*100000 -> 0.12747298
A17: Chr12 | B17: =C17+D17+E17 -> 950308 | C17: 949996 | D17: 140 | E17: 172 | F17: 3 | G17: 2 | H17: =SUM(F17-G17) -> 1 | I17: 4 | J17: 3 | K17: =I17-J17 -> 1 | L17: =I17/B17*100000 -> 0.42091617
... A27: Chr22 | B27: =C27+D27+E27 -> 585843 | C27: 585710 | D27: 61 | E27: 72 | F27: 1 | G27: 1 | H27: =SUM(F27-G27) -> 0 | I27: 4 | J27: 4 | K27: =I27-J27 -> 0 | L27: =I27/B27*100000 -> 0.68277678
A29: Chromosome | B29: Total captured sites | C29: M | D29: m
A30: ChrX | B30: =C30+D30+E30 -> 356298 | C30: 356267 | D30: 31
A31: ChrY | B31: =C31+D31+E31 -> 19981 | C31: 19979 | D31: 2

Sheet Gastric5
A3: Table S3.5 Gastric5
A5: Chromosome | B5: Total captured sites | C5: MM | D5: mm | E5: Mm | F5: GOH | G5: GOH-M | H5: GOH-m | I5: LOH | J5: Mm->MM | K5: Mm->mm | L5: LOH / Total captured sites (×10-5)
A6: Chr1 | B6: =C6+D6+E6 -> 1556989 | C6: 1556644 | D6: 73 | E6: 272 | F6: 9 | G6: 8 | H6: =F6-G6 -> 1 | I6: 8 | J6: 6 | K6: =I6-J6 -> 2 | L6: =I6/B6*100000 -> 0.51381224
A7: Chr2 | B7: =C7+D7+E7 -> 968473 | C7: 968223 | D7: 63 | E7: 187 | F7: 7 | G7: 7 | H7: =F7-G7 -> 0 | I7: 6 | J7: 6 | K7: =I7-J7 -> 0 | L7: =I7/B7*100000 -> 0.61953198
A8: Chr3 | B8: =C8+D8+E8 -> 806490 | C8: 806289 | D8: 55 | E8: 146 | F8: 2 | G8: 2 | H8: =F8-G8 -> 0 | I8: 3 | J8: 3 | K8: =I8-J8 -> 0 | L8: =I8/B8*100000 -> 0.37198229
A9: Chr4 | B9: =C9+D9+E9 -> 544044 | C9: 543911 | D9: 32 | E9: 101 | F9: 6 | G9: 6 | H9: =F9-G9 -> 0 | I9: 7 | J9: 5 | K9: =I9-J9 -> 2 | L9: =I9/B9*100000 -> 1.2866606
A10: Chr5 | B10: =C10+D10+E10 -> 636112 | C10: 635934 | D10: 43 | E10: 135 | F10: 6 | G10: 6 | H10: =F10-G10 -> 0 | I10: 8 | J10: 8 | K10: =I10-J10 -> 0 | L10: =I10/B10*100000 -> 1.2576402
A11: Chr6 | B11: =C11+D11+E11 -> 734529 | C11: 734300 | D11: 58 | E11: 171 | F11: 4 | G11: 4 | H11: =F11-G11 -> 0 | I11: 4 | J11: 2 | K11: =I11-J11 -> 2 | L11: =I11/B11*100000 -> 0.54456665
A12: Chr7 | B12: =C12+D12+E12 -> 982940 | C12: 982713 | D12: 40 | E12: 187 | F12: 10 | G12: 8 | H12: =F12-G12 -> 2 | I12: 10 | J12: 9 | K12: =I12-J12 -> 1 | L12: =I12/B12*100000 -> 1.0173561
A13: Chr8 | B13: =C13+D13+E13 -> 544109 | C13: 543979 | D13: 25 | E13: 105 | F13: 5 | G13: 5 | H13: =F13-G13 -> 0 | I13: 2 | J13: 2 | K13: =I13-J13 -> 0 | L13: =I13/B13*100000 -> 0.36757341
A14: Chr9 | B14: =C14+D14+E14 -> 659270 | C14: 659087 | D14: 38 | E14: 145 | F14: 5 | G14: 5 | H14: =F14-G14 -> 0 | I14: 9 | J14: 8 | K14: =I14-J14 -> 1 | L14: =I14/B14*100000 -> 1.3651463
A15: Chr10 | B15: =C15+D15+E15 -> 745521 | C15: 745300 | D15: 65 | E15: 156 | F15: 4 | G15: 4 | H15: =F15-G15 -> 0 | I15: 1 | J15: 1 | K15: =I15-J15 -> 0 | L15: =I15/B15*100000 -> 0.13413438
A16: Chr11 | B16: =C16+D16+E16 -> 717542 | C16: 717375 | D16: 41 | E16: 126 | F16: 4 | G16: 4 | H16: =F16-G16 -> 0 | I16: 0 | J16: 0 | K16: =I16-J16 -> 0 | L16: =I16/B16*100000 -> 0
A17: Chr12 | B17: =C17+D17+E17 -> 855170 | C17: 854963 | D17: 62 | E17: 145 | F17: 10 | G17: 7 | H17: =F17-G17 -> 3 | I17: 3 | J17: 3 | K17: =I17-J17 -> 0 | L17: =I17/B17*100000 -> 0.35080744
... A27: Chr22 | B27: =C27+D27+E27 -> 593694 | C27: 593526 | D27: 21 | E27: 147 | F27: 6 | G27: 5 | H27: =F27-G27 -> 1 | I27: 3 | J27: 2 | K27: =I27-J27 -> 1 | L27: =I27/B27*100000 -> 0.50531082
A29: Chromosome | B29: Total captured sites | C29: M | D29: m
A30: ChrX | B30: =C30+D30+E30 -> 322632 | C30: 322621 | D30: 11
A31: ChrY | B31: =C31+D31+E31 -> 16566 | C31: 16564 | D31: 2

Sheet Glioma1
A3: Table S3.6 Glioma1
A5: Chromosome | B5: Total captured sites | C5: MM | D5: mm | E5: Mm | F5: GOH | G5: GOH-M | H5: GOH-m | I5: LOH | J5: Mm->MM | K5: Mm->mm | L5: LOH / Total captured sites (×10-5)
A6: Chr1 | B6: =C6+D6+E6 -> 1727647 | C6: 1727211 | D6: 197 | E6: 239 | F6: 7 | G6: 7 | H6: =F6-G6 -> 0 | I6: 26 | J6: 21 | K6: =I6-J6 -> 5 | L6: =I6/B6*100000 -> 1.5049371
A7: Chr2 | B7: =C7+D7+E7 -> 1238007 | C7: 1237547 | D7: 144 | E7: 316 | F7: 2 | G7: 1 | H7: =F7-G7 -> 1 | I7: 1 | J7: 0 | K7: =I7-J7 -> 1 | L7: =I7/B7*100000 -> 0.080774988
A8: Chr3 | B8: =C8+D8+E8 -> 1026528 | C8: 1026119 | D8: 136 | E8: 273 | F8: 1 | G8: 1 | H8: =F8-G8 -> 0 | I8: 0 | J8: 0 | K8: =I8-J8 -> 0 | L8: =I8/B8*100000 -> 0
A9: Chr4 | B9: =C9+D9+E9 -> 787549 | C9: 787229 | D9: 113 | E9: 207 | F9: 1 | G9: 1 | H9: =F9-G9 -> 0 | I9: 2 | J9: 1 | K9: =I9-J9 -> 1 | L9: =I9/B9*100000 -> 0.25395245
A10: Chr5 | B10: =C10+D10+E10 -> 818049 | C10: 817767 | D10: 90 | E10: 192 | F10: 2 | G10: 2 | H10: =F10-G10 -> 0 | I10: 1 | J10: 1 | K10: =I10-J10 -> 0 | L10: =I10/B10*100000 -> 0.12224207
A11: Chr6 | B11: =C11+D11+E11 -> 924151 | C11: 923754 | D11: 154 | E11: 243 | F11: 1 | G11: 1 | H11: =F11-G11 -> 0 | I11: 2 | J11: 2 | K11: =I11-J11 -> 0 | L11: =I11/B11*100000 -> 0.21641485
A12: Chr7 | B12: =C12+D12+E12 -> 1064354 | C12: 1063971 | D12: 115 | E12: 268 | F12: 4 | G12: 4 | H12: =F12-G12 -> 0 | I12: 0 | J12: 0 | K12: =I12-J12 -> 0 | L12: =I12/B12*100000 -> 0
A13: Chr8 | B13: =C13+D13+E13 -> 645308 | C13: 645051 | D13: 85 | E13: 172 | F13: 1 | G13: 1 | H13: =F13-G13 -> 0 | I13: 1 | J13: 1 | K13: =I13-J13 -> 0 | L13: =I13/B13*100000 -> 0.15496476
A14: Chr9 | B14: =C14+D14+E14 -> 583834 | C14: 583740 | D14: 60 | E14: 34 | F14: 2 | G14: 2 | H14: =F14-G14 -> 0 | I14: 21 | J14: 13 | K14: =I14-J14 -> 8 | L14: =I14/B14*100000 -> 3.5969128
A15: Chr10 | B15: =C15+D15+E15 -> 904720 | C15: 904346 | D15: 136 | E15: 238 | F15: 3 | G15: 3 | H15: =F15-G15 -> 0 | I15: 1 | J15: 1 | K15: =I15-J15 -> 0 | L15: =I15/B15*100000 -> 0.11053144
A16: Chr11 | B16: =C16+D16+E16 -> 803791 | C16: 803495 | D16: 97 | E16: 199 | F16: 1 | G16: 0 | H16: =F16-G16 -> 1 | I16: 1 | J16: 1 | K16: =I16-J16 -> 0 | L16: =I16/B16*100000 -> 0.12441045
A17: Chr12 | B17: =C17+D17+E17 -> 985997 | C17: 985601 | D17: 154 | E17: 242 | F17: 1 | G17: 1 | H17: =F17-G17 -> 0 | I17: 1 | J17: 0 | K17: =I17-J17 -> 1 | L17: =I17/B17*100000 -> 0.10142019
... A28: ChrX | B28: =C28+D28+E28 -> 641105 | C28: 641057 | D28: 48 | E28: 0 | F28: 0 | G28: 0 | H28: =F28-G28 -> 0 | I28: 0 | J28: 0 | K28: =I28-J28 -> 0 | L28: =I28/B28*100000 -> 0

Sheet Glioma2
A3: Table S3.7 Glioma2
A5: Chromosome | B5: Total captured sites | C5: MM | D5: mm | E5: Mm | F5: GOH | G5: GOH-M | H5: GOH-m | I5: LOH | J5: Mm->MM | K5: Mm->mm | L5: LOH / Total captured sites (×10-5)
A6: Chr1 | B6: =C6+D6+E6 -> 920346 | C6: 920000 | D6: 135 | E6: 211 | F6: 7 | G6: 6 | H6: =F6-G6 -> 1 | I6: 23 | J6: 18 | K6: =I6-J6 -> 5 | L6: =I6/B6*100000 -> 2.4990601
A7: Chr2 | B7: =C7+D7+E7 -> 610741 | C7: 610505 | D7: 103 | E7: 133 | F7: 1 | G7: 1 | H7: =F7-G7 -> 0 | I7: 11 | J7: 8 | K7: =I7-J7 -> 3 | L7: =I7/B7*100000 -> 1.8010908
A8: Chr3 | B8: =C8+D8+E8 -> 501210 | C8: 501006 | D8: 99 | E8: 105 | F8: 2 | G8: 2 | H8: =F8-G8 -> 0 | I8: 7 | J8: 5 | K8: =I8-J8 -> 2 | L8: =I8/B8*100000 -> 1.3966202
A9: Chr4 | B9: =C9+D9+E9 -> 322291 | C9: 322158 | D9: 49 | E9: 84 | F9: 2 | G9: 2 | H9: =F9-G9 -> 0 | I9: 12 | J9: 9 | K9: =I9-J9 -> 3 | L9: =I9/B9*100000 -> 3.7233432
A10: Chr5 | B10: =C10+D10+E10 -> 420844 | C10: 420683 | D10: 82 | E10: 79 | F10: 3 | G10: 2 | H10: =F10-G10 -> 1 | I10: 9 | J10: 7 | K10: =I10-J10 -> 2 | L10: =I10/B10*100000 -> 2.1385597
A11: Chr6 | B11: =C11+D11+E11 -> 442852 | C11: 442663 | D11: 84 | E11: 105 | F11: 2 | G11: 2 | H11: =F11-G11 -> 0 | I11: 9 | J11: 8 | K11: =I11-J11 -> 1 | L11: =I11/B11*100000 -> 2.0322817
A12: Chr7 | B12: =C12+D12+E12 -> 589920 | C12: 589683 | D12: 81 | E12: 156 | F12: 3 | G12: 3 | H12: =F12-G12 -> 0 | I12: 16 | J12: 11 | K12: =I12-J12 -> 5 | L12: =I12/B12*100000 -> 2.7122322
A13: Chr8 | B13: =C13+D13+E13 -> 306322 | C13: 306167 | D13: 66 | E13: 89 | F13: 3 | G13: 2 | H13: =F13-G13 -> 1 | I13: 11 | J13: 8 | K13: =I13-J13 -> 3 | L13: =I13/B13*100000 -> 3.5909925
A14: Chr9 | B14: =C14+D14+E14 -> 385488 | C14: 385336 | D14: 68 | E14: 84 | F14: 1 | G14: 1 | H14: =F14-G14 -> 0 | I14: 12 | J14: 6 | K14: =I14-J14 -> 6 | L14: =I14/B14*100000 -> 3.1129374
A15: Chr10 | B15: =C15+D15+E15 -> 421535 | C15: 421372 | D15: 63 | E15: 100 | F15: 3 | G15: 3 | H15: =F15-G15 -> 0 | I15: 11 | J15: 9 | K15: =I15-J15 -> 2 | L15: =I15/B15*100000 -> 2.6095105
A16: Chr11 | B16: =C16+D16+E16 -> 411370 | C16: 411215 | D16: 83 | E16: 72 | F16: 2 | G16: 1 | H16: =F16-G16 -> 1 | I16: 8 | J16: 6 | K16: =I16-J16 -> 2 | L16: =I16/B16*100000 -> 1.9447213
A17: Chr12 | B17: =C17+D17+E17 -> 538848 | C17: 538660 | D17: 88 | E17: 100 | F17: 1 | G17: 1 | H17: =F17-G17 -> 0 | I17: 10 | J17: 6 | K17: =I17-J17 -> 4 | L17: =I17/B17*100000 -> 1.8558109
... A27: Chr22 | B27: =C27+D27+E27 -> 327480 | C27: 327352 | D27: 55 | E27: 73 | F27: 0 | G27: 0 | H27: =F27-G27 -> 0 | I27: 2 | J27: 2 | K27: =I27-J27 -> 0 | L27: =I27/B27*100000 -> 0.61072432
A29: Chromosome | B29: Total captured sites | C29: M | D29: m
A30: ChrX | B30: =C30+D30+E30 -> 198138 | C30: 198114 | D30: 24
A31: ChrY | B31: =C31+D31+E31 -> 8631 | C31: 8629 | D31: 2

Sheet Glioma3
A3: Table S3.8 Glioma3
A5: Chromosome | B5: Total captured sites | C5: MM | D5: mm | E5: Mm | F5: GOH | G5: GOH-M | H5: GOH-m | I5: LOH | J5: Mm->MM | K5: Mm->mm | L5: LOH / Total captured sites (×10-5)
A6: Chr1 | B6: =C6+D6+E6 -> 1958821 | C6: 1958119 | D6: 347 | E6: 355 | F6: 69 | G6: 58 | H6: =F6-G6 -> 11 | I6: 84 | J6: 54 | K6: =I6-J6 -> 30 | L6: =I6/B6*100000 -> 4.2882938
A7: Chr2 | B7: =C7+D7+E7 -> 1353436 | C7: 1352895 | D7: 288 | E7: 253 | F7: 51 | G7: 39 | H7: =F7-G7 -> 12 | I7: 67 | J7: 46 | K7: =I7-J7 -> 21 | L7: =I7/B7*100000 -> 4.9503634
A8: Chr3 | B8: =C8+D8+E8 -> 1123918 | C8: 1123370 | D8: 256 | E8: 292 | F8: 25 | G8: 21 | H8: =F8-G8 -> 4 | I8: 47 | J8: 32 | K8: =I8-J8 -> 15 | L8: =I8/B8*100000 -> 4.1817997
A9: Chr4 | B9: =C9+D9+E9 -> 820407 | C9: 820039 | D9: 189 | E9: 179 | F9: 29 | G9: 21 | H9: =F9-G9 -> 8 | I9: 50 | J9: 38 | K9: =I9-J9 -> 12 | L9: =I9/B9*100000 -> 6.094536
A10: Chr5 | B10: =C10+D10+E10 -> 872528 | C10: 872135 | D10: 169 | E10: 224 | F10: 34 | G10: 26 | H10: =F10-G10 -> 8 | I10: 43 | J10: 29 | K10: =I10-J10 -> 14 | L10: =I10/B10*100000 -> 4.9282086
A11: Chr6 | B11: =C11+D11+E11 -> 991007 | C11: 990548 | D11: 224 | E11: 235 | F11: 40 | G11: 35 | H11: =F11-G11 -> 5 | I11: 66 | J11: 53 | K11: =I11-J11 -> 13 | L11: =I11/B11*100000 -> 6.6598924
A12: Chr7 | B12: =C12+D12+E12 -> 1230960 | C12: 1230461 | D12: 229 | E12: 270 | F12: 56 | G12: 48 | H12: =F12-G12 -> 8 | I12: 58 | J12: 46 | K12: =I12-J12 -> 12 | L12: =I12/B12*100000 -> 4.7117697
A13: Chr8 | B13: =C13+D13+E13 -> 722345 | C13: 722025 | D13: 168 | E13: 152 | F13: 27 | G13: 24 | H13: =F13-G13 -> 3 | I13: 31 | J13: 22 | K13: =I13-J13 -> 9 | L13: =I13/B13*100000 -> 4.2915781
A14: Chr9 | B14: =C14+D14+E14 -> 884451 | C14: 884048 | D14: 202 | E14: 201 | F14: 36 | G14: 33 | H14: =F14-G14 -> 3 | I14: 56 | J14: 41 | K14: =I14-J14 -> 15 | L14: =I14/B14*100000 -> 6.3316114
A15: Chr10 | B15: =C15+D15+E15 -> 972905 | C15: 972435 | D15: 257 | E15: 213 | F15: 56 | G15: 46 | H15: =F15-G15 -> 10 | I15: 43 | J15: 34 | K15: =I15-J15 -> 9 | L15: =I15/B15*100000 -> 4.4197532
A16: Chr11 | B16: =C16+D16+E16 -> 898362 | C16: 898009 | D16: 206 | E16: 147 | F16: 30 | G16: 24 | H16: =F16-G16 -> 6 | I16: 42 | J16: 30 | K16: =I16-J16 -> 12 | L16: =I16/B16*100000 -> 4.6751755
A17: Chr12 | B17: =C17+D17+E17 -> 1085367 | C17: 1084940 | D17: 202 | E17: 225 | F17: 43 | G17: 31 | H17: =F17-G17 -> 12 | I17: 41 | J17: 34 | K17: =I17-J17 -> 7 | L17: =I17/B17*100000 -> 3.7775241
... A27: Chr22 | B27: =C27+D27+E27 -> 671788 | C27: 671567 | D27: 86 | E27: 135 | F27: 44 | G27: 37 | H27: =F27-G27 -> 7 | I27: 33 | J27: 19 | K27: =I27-J27 -> 14 | L27: =I27/B27*100000 -> 4.912264
A29: Chromosome | B29: Total captured sites | C29: M | D29: m
A30: ChrX | B30: =C30+D30+E30 -> 426436 | C30: 426380 | D30: 56
A31: ChrY | B31: =C31+D31+E31 -> 28568 | C31: 28563 | D31: 5

Sheet Glioma4
A3: Table S3.9 Glioma4
A5: Chromosome | B5: Total captured sites | C5: MM | D5: mm | E5: Mm | F5: GOH | G5: GOH-M | H5: GOH-m | I5: LOH | J5: Mm->MM | K5: Mm->mm | L5: LOH / Total captured sites (×10-5)
A6: Chr1 | B6: =C6+D6+E6 -> 854423 | C6: 854033 | D6: 216 | E6: 174 | F6: 76 | G6: 76 | H6: =F6-G6 -> 0 | I6: 8 | J6: 3 | K6: =I6-J6 -> 5 | L6: =I6/B6*100000 -> 0.93630438
A7: Chr2 | B7: =C7+D7+E7 -> 551981 | C7: 551688 | D7: 136 | E7: 157 | F7: 32 | G7: 32 | H7: =F7-G7 -> 0 | I7: 1 | J7: 1 | K7: =I7-J7 -> 0 | L7: =I7/B7*100000 -> 0.18116566
A8: Chr3 | B8: =C8+D8+E8 -> 480541 | C8: 480334 | D8: 123 | E8: 84 | F8: 41 | G8: 39 | H8: =F8-G8 -> 2 | I8: 3 | J8: 1 | K8: =I8-J8 -> 2 | L8: =I8/B8*100000 -> 0.62429637
A9: Chr4 | B9: =C9+D9+E9 -> 319903 | C9: 319731 | D9: 79 | E9: 93 | F9: 18 | G9: 18 | H9: =F9-G9 -> 0 | I9: 6 | J9: 6 | K9: =I9-J9 -> 0 | L9: =I9/B9*100000 -> 1.8755685
A10: Chr5 | B10: =C10+D10+E10 -> 361844 | C10: 361678 | D10: 77 | E10: 89 | F10: 24 | G10: 24 | H10: =F10-G10 -> 0 | I10: 2 | J10: 1 | K10: =I10-J10 -> 1 | L10: =I10/B10*100000 -> 0.55272438
A11: Chr6 | B11: =C11+D11+E11 -> 391043 | C11: 390879 | D11: 93 | E11: 71 | F11: 20 | G11: 20 | H11: =F11-G11 -> 0 | I11: 1 | J11: 0 | K11: =I11-J11 -> 1 | L11: =I11/B11*100000 -> 0.25572635
A12: Chr7 | B12: =C12+D12+E12 -> 527615 | C12: 527384 | D12: 119 | E12: 112 | F12: 38 | G12: 38 | H12: =F12-G12 -> 0 | I12: 2 | J12: 2 | K12: =I12-J12 -> 0 | L12: =I12/B12*100000 -> 0.37906428
A13: Chr8 | B13: =C13+D13+E13 -> 270428 | C13: 270278 | D13: 69 | E13: 81 | F13: 9 | G13: 9 | H13: =F13-G13 -> 0 | I13: 2 | J13: 2 | K13: =I13-J13 -> 0 | L13: =I13/B13*100000 -> 0.73956839
A14: Chr9 | B14: =C14+D14+E14 -> 360201 | C14: 360024 | D14: 79 | E14: 98 | F14: 19 | G14: 19 | H14: =F14-G14 -> 0 | I14: 1 | J14: 0 | K14: =I14-J14 -> 1 | L14: =I14/B14*100000 -> 0.27762277
A15: Chr10 | B15: =C15+D15+E15 -> 401140 | C15: 400948 | D15: 103 | E15: 89 | F15: 26 | G15: 26 | H15: =F15-G15 -> 0 | I15: 2 | J15: 2 | K15: =I15-J15 -> 0 | L15: =I15/B15*100000 -> 0.49857905
A16: Chr11 | B16: =C16+D16+E16 -> 339127 | C16: 338983 | D16: 70 | E16: 74 | F16: 22 | G16: 22 | H16: =F16-G16 -> 0 | I16: 4 | J16: 4 | K16: =I16-J16 -> 0 | L16: =I16/B16*100000 -> 1.1794991
A17: Chr12 | B17: =C17+D17+E17 -> 460528 | C17: 460345 | D17: 91 | E17: 92 | F17: 41 | G17: 41 | H17: =F17-G17 -> 0 | I17: 5 | J17: 3 | K17: =I17-J17 -> 2 | L17: =I17/B17*100000 -> 1.0857103
... A28: ChrX | B28: =C28+D28+E28 -> 286048 | C28: 285976 | D28: 28 | E28: 44 | F28: 32 | G28: 32 | H28: =F28-G28 -> 0 | I28: 0 | J28: 0 | K28: =I28-J28 -> 0 | L28: =I28/B28*100000 -> 0

Sheet Glioma5
A3: Table S3.10 Glioma5
A5: Chromosome | B5: Total captured sites | C5: MM | D5: mm | E5: Mm | F5: GOH | G5: GOH-M | H5: GOH-m | I5: LOH | J5: Mm->MM | K5: Mm->mm | L5: LOH / Total captured sites (×10-5)
A6: Chr1 | B6: =C6+D6+E6 -> 976909 | C6: 976585 | D6: 142 | E6: 182 | F6: 68 | G6: 54 | H6: =F6-G6 -> 14 | I6: 53 | J6: 44 | K6: =I6-J6 -> 9 | L6: =I6/B6*100000 -> 5.425275
A7: Chr2 | B7: =C7+D7+E7 -> 671903 | C7: 671660 | D7: 118 | E7: 125 | F7: 41 | G7: 30 | H7: =F7-G7 -> 11 | I7: 25 | J7: 24 | K7: =I7-J7 -> 1 | L7: =I7/B7*100000 -> 3.7207752
A8: Chr3 | B8: =C8+D8+E8 -> 558532 | C8: 558350 | D8: 119 | E8: 63 | F8: 38 | G8: 22 | H8: =F8-G8 -> 16 | I8: 13 | J8: 9 | K8: =I8-J8 -> 4 | L8: =I8/B8*100000 -> 2.32753
A9: Chr4 | B9: =C9+D9+E9 -> 382098 | C9: 381947 | D9: 74 | E9: 77 | F9: 32 | G9: 25 | H9: =F9-G9 -> 7 | I9: 22 | J9: 20 | K9: =I9-J9 -> 2 | L9: =I9/B9*100000 -> 5.7576852
A10: Chr5 | B10: =C10+D10+E10 -> 453747 | C10: 453581 | D10: 83 | E10: 83 | F10: 28 | G10: 22 | H10: =F10-G10 -> 6 | I10: 24 | J10: 17 | K10: =I10-J10 -> 7 | L10: =I10/B10*100000 -> 5.2892912
A11: Chr6 | B11: =C11+D11+E11 -> 495571 | C11: 495382 | D11: 102 | E11: 87 | F11: 32 | G11: 22 | H11: =F11-G11 -> 10 | I11: 22 | J11: 20 | K11: =I11-J11 -> 2 | L11: =I11/B11*100000 -> 4.4393235
A12: Chr7 | B12: =C12+D12+E12 -> 621164 | C12: 620937 | D12: 106 | E12: 121 | F12: 44 | G12: 32 | H12: =F12-G12 -> 12 | I12: 32 | J12: 27 | K12: =I12-J12 -> 5 | L12: =I12/B12*100000 -> 5.1516186
A13: Chr8 | B13: =C13+D13+E13 -> 333925 | C13: 333786 | D13: 71 | E13: 68 | F13: 18 | G13: 12 | H13: =F13-G13 -> 6 | I13: 17 | J13: 10 | K13: =I13-J13 -> 7 | L13: =I13/B13*100000 -> 5.0909635
A14: Chr9 | B14: =C14+D14+E14 -> 409777 | C14: 409629 | D14: 75 | E14: 73 | F14: 34 | G14: 24 | H14: =F14-G14 -> 10 | I14: 24 | J14: 18 | K14: =I14-J14 -> 6 | L14: =I14/B14*100000 -> 5.8568441
A15: Chr10 | B15: =C15+D15+E15 -> 470253 | C15: 470068 | D15: 86 | E15: 99 | F15: 26 | G15: 18 | H15: =F15-G15 -> 8 | I15: 33 | J15: 30 | K15: =I15-J15 -> 3 | L15: =I15/B15*100000 -> 7.0174991
A16: Chr11 | B16: =C16+D16+E16 -> 436701 | C16: 436560 | D16: 84 | E16: 57 | F16: 30 | G16: 24 | H16: =F16-G16 -> 6 | I16: 22 | J16: 17 | K16: =I16-J16 -> 5 | L16: =I16/B16*100000 -> 5.0377718
A17: Chr12 | B17: =C17+D17+E17 -> 572330 | C17: 572151 | D17: 86 | E17: 93 | F17: 22 | G17: 17 | H17: =F17-G17 -> 5 | I17: 18 | J17: 15 | K17: =I17-J17 -> 3 | L17: =I17/B17*100000 -> 3.1450387
... A27: Chr22 | B27: =C27+D27+E27 -> 341687 | C27: 341558 | D27: 55 | E27: 74 | F27: 31 | G27: 25 | H27: =F27-G27 -> 6 | I27: 30 | J27: 26 | K27: =I27-J27 -> 4 | L27: =I27/B27*100000 -> 8.7799653
A29: Chromosome | B29: Total captured sites | C29: M | D29: m
A30: ChrX | B30: =C30+D30+E30 -> 213770 | C30: 213739 | D30: 31
A31: ChrY | B31: =C31+D31+E31 -> 8727 | C31: 8727 | D31: 0

Sheet Leukemia1
A3: Table S3.11 Leukemia1
A5: Chromosome | B5: Total captured sites | C5: MM | D5: mm | E5: Mm | F5: GOH | G5: GOH-M | H5: GOH-m | I5: LOH | J5: Mm->MM | K5: Mm->mm | L5: LOH / Total captured sites (×10-5)
A6: Chr1 | B6: =C6+D6+E6 -> 1407204 | C6: 1406679 | D6: 202 | E6: 323 | F6: 0 | G6: 0 | H6: =F6-G6 -> 0 | I6: 1 | J6: 1 | K6: =I6-J6 -> 0 | L6: =I6/B6*100000 -> 0.071062902
A7: Chr2 | B7: =C7+D7+E7 -> 1069469 | C7: 1069011 | D7: 199 | E7: 259 | F7: 2 | G7: 2 | H7: =F7-G7 -> 0 | I7: 1 | J7: 1 | K7: =I7-J7 -> 0 | L7: =I7/B7*100000 -> 0.093504347
A8: Chr3 | B8: =C8+D8+E8 -> 886224 | C8: 885839 | D8: 137 | E8: 248 | F8: 0 | G8: 0 | H8: =F8-G8 -> 0 | I8: 1 | J8: 1 | K8: =I8-J8 -> 0 | L8: =I8/B8*100000 -> 0.11283829
A9: Chr4 | B9: =C9+D9+E9 -> 735719 | C9: 735473 | D9: 161 | E9: 85 | F9: 3 | G9: 3 | H9: =F9-G9 -> 0 | I9: 1 | J9: 1 | K9: =I9-J9 -> 0 | L9: =I9/B9*100000 -> 0.13592146
A10: Chr5 | B10: =C10+D10+E10 -> 694633 | C10: 694397 | D10: 96 | E10: 140 | F10: 0 | G10: 0 | H10: =F10-G10 -> 0 | I10: 2 | J10: 1 | K10: =I10-J10 -> 1 | L10: =I10/B10*100000 -> 0.28792182
A11: Chr6 | B11: =C11+D11+E11 -> 766687 | C11: 766344 | D11: 158 | E11: 185 | F11: 0 | G11: 0 | H11: =F11-G11 -> 0 | I11: 0 | J11: 0 | K11: =I11-J11 -> 0 | L11: =I11/B11*100000 -> 0
A12: Chr7 | B12: =C12+D12+E12 -> 850413 | C12: 850048 | D12: 127 | E12: 238 | F12: 1 | G12: 1 | H12: =F12-G12 -> 0 | I12: 1 | J12: 1 | K12: =I12-J12 -> 0 | L12: =I12/B12*100000 -> 0.11758992
A13: Chr8 | B13: =C13+D13+E13 -> 551390 | C13: 551113 | D13: 131 | E13: 146 | F13: 0 | G13: 0 | H13: =F13-G13 -> 0 | I13: 0 | J13: 0 | K13: =I13-J13 -> 0 | L13: =I13/B13*100000 -> 0
A14: Chr9 | B14: =C14+D14+E14 -> 619730 | C14: 619462 | D14: 102 | E14: 166 | F14: 0 | G14: 0 | H14: =F14-G14 -> 0 | I14: 0 | J14: 0 | K14: =I14-J14 -> 0 | L14: =I14/B14*100000 -> 0
A15: Chr10 | B15: =C15+D15+E15 -> 725742 | C15: 725425 | D15: 131 | E15: 186 | F15: 2 | G15: 2 | H15: =F15-G15 -> 0 | I15: 0 | J15: 0 | K15: =I15-J15 -> 0 | L15: =I15/B15*100000 -> 0
A16: Chr11 | B16: =C16+D16+E16 -> 625859 | C16: 625633 | D16: 101 | E16: 125 | F16: 1 | G16: 1 | H16: =F16-G16 -> 0 | I16: 0 | J16: 0 | K16: =I16-J16 -> 0 | L16: =I16/B16*100000 -> 0
A17: Chr12 | B17: =C17+D17+E17 -> 770825 | C17: 770502 | D17: 139 | E17: 184 | F17: 0 | G17: 0 | H17: =F17-G17 -> 0 | I17: 0 | J17: 0 | K17: =I17-J17 -> 0 | L17: =I17/B17*100000 -> 0
... A28: ChrX | B28: =C28+D28+E28 -> 598764 | C28: 598569 | D28: 87 | E28: 108 | F28: 0 | G28: 0 | H28: =F28-G28 -> 0 | I28: 0 | J28: 0 | K28: =I28-J28 -> 0 | L28: =I28/B28*100000 -> 0

Sheet Leukemia2
A3: Table S3.12 Leukemia2
A5: Chromosome | B5: Total captured sites | C5: MM | D5: mm | E5: Mm | F5: GOH | G5: GOH-M | H5: GOH-m | I5: LOH | J5: Mm->MM | K5: Mm->mm | L5: LOH / Total captured sites (×10-5)
A6: Chr1 | B6: =C6+D6+E6 -> 1186417 | C6: 1185942 | D6: 186 | E6: 289 | F6: 1 | G6: 1 | H6: =F6-G6 -> 0 | I6: 1 | J6: 0 | K6: =I6-J6 -> 1 | L6: =I6/B6*100000 -> 0.084287396
A7: Chr2 | B7: =C7+D7+E7 -> 906489 | C7: 906092 | D7: 152 | E7: 245 | F7: 0 | G7: 0 | H7: =F7-G7 -> 0 | I7: 0 | J7: 0 | K7: =I7-J7 -> 0 | L7: =I7/B7*100000 -> 0
A8: Chr3 | B8: =C8+D8+E8 -> 729859 | C8: 729516 | D8: 126 | E8: 217 | F8: 2 | G8: 2 | H8: =F8-G8 -> 0 | I8: 0 | J8: 0 | K8: =I8-J8 -> 0 | L8: =I8/B8*100000 -> 0
A9: Chr4 | B9: =C9+D9+E9 -> 616834 | C9: 616527 | D9: 122 | E9: 185 | F9: 0 | G9: 0 | H9: =F9-G9 -> 0 | I9: 0 | J9: 0 | K9: =I9-J9 -> 0 | L9: =I9/B9*100000 -> 0
A10: Chr5 | B10: =C10+D10+E10 -> 574546 | C10: 574318 | D10: 88 | E10: 140 | F10: 0 | G10: 0 | H10: =F10-G10 -> 0 | I10: 0 | J10: 0 | K10: =I10-J10 -> 0 | L10: =I10/B10*100000 -> 0
A11: Chr6 | B11: =C11+D11+E11 -> 641555 | C11: 641250 | D11: 129 | E11: 176 | F11: 0 | G11: 0 | H11: =F11-G11 -> 0 | I11: 1 | J11: 1 | K11: =I11-J11 -> 0 | L11: =I11/B11*100000 -> 0.15587128
A12: Chr7 | B12: =C12+D12+E12 -> 716581 | C12: 716270 | D12: 134 | E12: 177 | F12: 0 | G12: 0 | H12: =F12-G12 -> 0 | I12: 0 | J12: 0 | K12: =I12-J12 -> 0 | L12: =I12/B12*100000 -> 0
A13: Chr8 | B13: =C13+D13+E13 -> 464347 | C13: 464110 | D13: 99 | E13: 138 | F13: 5 | G13: 5 | H13: =F13-G13 -> 0 | I13: 0 | J13: 0 | K13: =I13-J13 -> 0 | L13: =I13/B13*100000 -> 0
A14: Chr9 | B14: =C14+D14+E14 -> 530854 | C14: 530618 | D14: 101 | E14: 135 | F14: 0 | G14: 0 | H14: =F14-G14 -> 0 | I14: 0 | J14: 0 | K14: =I14-J14 -> 0 | L14: =I14/B14*100000 -> 0
A15: Chr10 | B15: =C15+D15+E15 -> 608576 | C15: 608265 | D15: 139 | E15: 172 | F15: 0 | G15: 0 | H15: =F15-G15 -> 0 | I15: 3 | J15: 3 | K15: =I15-J15 -> 0 | L15: =I15/B15*100000 -> 0.49295404
A16: Chr11 | B16: =C16+D16+E16 -> 548389 | C16: 548148 | D16: 107 | E16: 134 | F16: 0 | G16: 0 | H16: =F16-G16 -> 0 | I16: 0 | J16: 0 | K16: =I16-J16 -> 0 | L16: =I16/B16*100000 -> 0
A17: Chr12 | B17: =C17+D17+E17 -> 622246 | C17: 621975 | D17: 98 | E17: 173 | F17: 1 | G17: 1 | H17: =F17-G17 -> 0 | I17: 0 | J17: 0 | K17: =I17-J17 -> 0 | L17: =I17/B17*100000 -> 0
... A28: ChrX | B28: =C28+D28+E28 -> 510955 | C28: 510763 | D28: 95 | E28: 97 | F28: 1 | G28: 1 | H28: =F28-G28 -> 0 | I28: 0 | J28: 0 | K28: =I28-J28 -> 0 | L28: =I28/B28*100000 -> 0

Sheet Leukemia3
A3: Table S3.13 Leukemia3
A5: Chromosome | B5: Total captured sites | C5: MM | D5: mm | E5: Mm | F5: GOH | G5: GOH-M | H5: GOH-m | I5: LOH | J5: Mm->MM | K5: Mm->mm | L5: LOH / Total captured sites (×10-5)
A6: Chr1 | B6: =C6+D6+E6 -> 2045227 | C6: 2044369 | D6: 295 | E6: 563 | F6: 1 | G6: 1 | H6: =F6-G6 -> 0 | I6: 1 | J6: 1 | K6: =I6-J6 -> 0 | L6: =I6/B6*100000 -> 0.048894328
A7: Chr2 | B7: =C7+D7+E7 -> 1497454 | C7: 1496803 | D7: 270 | E7: 381 | F7: 1 | G7: 1 | H7: =F7-G7 -> 0 | I7: 0 | J7: 0 | K7: =I7-J7 -> 0 | L7: =I7/B7*100000 -> 0
A8: Chr3 | B8: =C8+D8+E8 -> 1278815 | C8: 1278211 | D8: 246 | E8: 358 | F8: 0 | G8: 0 | H8: =F8-G8 -> 0 | I8: 3 | J8: 3 | K8: =I8-J8 -> 0 | L8: =I8/B8*100000 -> 0.23459218
A9: Chr4 | B9: =C9+D9+E9 -> 999151 | C9: 998598 | D9: 244 | E9: 309 | F9: 2 | G9: 0 | H9: =F9-G9 -> 2 | I9: 0 | J9: 0 | K9: =I9-J9 -> 0 | L9: =I9/B9*100000 -> 0
A10: Chr5 | B10: =C10+D10+E10 -> 995172 | C10: 994731 | D10: 166 | E10: 275 | F10: 1 | G10: 1 | H10: =F10-G10 -> 0 | I10: 0 | J10: 0 | K10: =I10-J10 -> 0 | L10: =I10/B10*100000 -> 0
A11: Chr6 | B11: =C11+D11+E11 -> 1076368 | C11: 1075814 | D11: 219 | E11: 335 | F11: 1 | G11: 0 | H11: =F11-G11 -> 1 | I11: 2 | J11: 1 | K11: =I11-J11 -> 1 | L11: =I11/B11*100000 -> 0.18581006
A12: Chr7 | B12: =C12+D12+E12 -> 1235999 | C12: 1235472 | D12: 191 | E12: 336 | F12: 2 | G12: 2 | H12: =F12-G12 -> 0 | I12: 1 | J12: 1 | K12: =I12-J12 -> 0 | L12: =I12/B12*100000 -> 0.080906214
A13: Chr8 | B13: =C13+D13+E13 -> 779843 | C13: 779403 | D13: 159 | E13: 281 | F13: 0 | G13: 0 | H13: =F13-G13 -> 0 | I13: 1 | J13: 1 | K13: =I13-J13 -> 0 | L13: =I13/B13*100000 -> 0.12823094
A14: Chr9 | B14: =C14+D14+E14 -> 909561 | C14: 909117 | D14: 196 | E14: 248 | F14: 0 | G14: 0 | H14: =F14-G14 -> 0 | I14: 0 | J14: 0 | K14: =I14-J14 -> 0 | L14: =I14/B14*100000 -> 0
A15: Chr10 | B15: =C15+D15+E15 -> 1026566 | C15: 1026089 | D15: 197 | E15: 280 | F15: 1 | G15: 1 | H15: =F15-G15 -> 0 | I15: 2 | J15: 2 | K15: =I15-J15 -> 0 | L15: =I15/B15*100000 -> 0.1948243
A16: Chr11 | B16: =C16+D16+E16 -> 922080 | C16: 921658 | D16: 169 | E16: 253 | F16: 0 | G16: 0 | H16: =F16-G16 -> 0 | I16: 0 | J16: 0 | K16: =I16-J16 -> 0 | L16: =I16/B16*100000 -> 0
A17: Chr12 | B17: =C17+D17+E17 -> 1165567 | C17: 1165040 | D17: 239 | E17: 288 | F17: 2 | G17: 2 | H17: =F17-G17 -> 0 | I17: 1 | J17: 1 | K17: =I17-J17 -> 0 | L17: =I17/B17*100000 -> 0.085795154
... A27: Chr22 | B27: =C27+D27+E27 -> 587805 | C27: 587548 | D27: 85 | E27: 172 | F27: 1 | G27: 0 | H27: =F27-G27 -> 1 | I27: 0 | J27: 0 | K27: =I27-J27 -> 0 | L27: =I27/B27*100000 -> 0
A29: Chromosome | B29: Total captured sites | C29: M | D29: m
A30: ChrX | B30: =C30+D30+E30 -> 440427 | C30: 440372 | D30: 55
A31: ChrY | B31: =C31+D31+E31 -> 37967 | C31: 37965 | D31: 2

Sheet Leukemia4
A3: Table S3.14 Leukemia4
A5: Chromosome | B5: Total captured sites | C5: MM | D5: mm | E5: Mm | F5: GOH | G5: GOH-M | H5: GOH-m | I5: LOH | J5: Mm->MM | K5: Mm->mm | L5: LOH / Total captured sites (×10-5)
A6: Chr1 | B6: =C6+D6+E6 -> 1658241 | C6: 1657826 | D6: 108 | E6: 307 | F6: 4 | G6: 3 | H6: =F6-G6 -> 1 | I6: 2 | J6: 2 | K6: =I6-J6 -> 0 | L6: =I6/B6*100000 -> 0.12060973
A7: Chr2 | B7: =C7+D7+E7 -> 1100376 | C7: 1100074 | D7: 91 | E7: 211 | F7: 1 | G7: 0 | H7: =F7-G7 -> 1 | I7: 2 | J7: 1 | K7: =I7-J7 -> 1 | L7: =I7/B7*100000 -> 0.18175605
A8: Chr3 | B8: =C8+D8+E8 -> 932697 | C8: 932470 | D8: 84 | E8: 143 | F8: 0 | G8: 0 | H8: =F8-G8 -> 0 | I8: 1 | J8: 1 | K8: =I8-J8 -> 0 | L8: =I8/B8*100000 -> 0.10721596
A9: Chr4 | B9: =C9+D9+E9 -> 676205 | C9: 676059 | D9: 46 | E9: 100 | F9: 5 | G9: 4 | H9: =F9-G9 -> 1 | I9: 0 | J9: 0 | K9: =I9-J9 -> 0 | L9: =I9/B9*100000 -> 0
A10: Chr5 | B10: =C10+D10+E10 -> 734121 | C10: 733939 | D10: 55 | E10: 127 | F10: 0 | G10: 0 | H10: =F10-G10 -> 0 | I10: 0 | J10: 0 | K10: =I10-J10 -> 0 | L10: =I10/B10*100000 -> 0
A11: Chr6 | B11: =C11+D11+E11 -> 833377 | C11: 833123 | D11: 79 | E11: 175 | F11: 1 | G11: 1 | H11: =F11-G11 -> 0 | I11: 3 | J11: 3 | K11: =I11-J11 -> 0 | L11: =I11/B11*100000 -> 0.35998114
A12: Chr7 | B12: =C12+D12+E12 -> 1007845 | C12: 1007596 | D12: 64 | E12: 185 | F12: 2 | G12: 2 | H12: =F12-G12 -> 0 | I12: 1 | J12: 1 | K12: =I12-J12 -> 0 | L12: =I12/B12*100000 -> 0.099221606
A13: Chr8 | B13: =C13+D13+E13 -> 570299 | C13: 570132 | D13: 40 | E13: 127 | F13: 0 | G13: 0 | H13: =F13-G13 -> 0 | I13: 0 | J13: 0 | K13: =I13-J13 -> 0 | L13: =I13/B13*100000 -> 0
A14: Chr9 | B14: =C14+D14+E14 -> 698198 | C14: 698022 | D14: 52 | E14: 124 | F14: 0 | G14: 0 | H14: =F14-G14 -> 0 | I14: 2 | J14: 2 | K14: =I14-J14 -> 0 | L14: =I14/B14*100000 -> 0.28645169
A15: Chr10 | B15: =C15+D15+E15 -> 803521 | C15: 803314 | D15: 65 | E15: 142 | F15: 1 | G15: 1 | H15: =F15-G15 -> 0 | I15: 1 | J15: 1 | K15: =I15-J15 -> 0 | L15: =I15/B15*100000 -> 0.12445225
A16: Chr11 | B16: =C16+D16+E16 -> 744788 | C16: 744614 | D16: 49 | E16: 125 | F16: 0 | G16: 0 | H16: =F16-G16 -> 0 | I16: 2 | J16: 2 | K16: =I16-J16 -> 0 | L16: =I16/B16*100000 -> 0.26853279
A17: Chr12 | B17: =C17+D17+E17 -> 944960 | C17: 944726 | D17: 82 | E17: 152 | F17: 2 | G17: 2 | H17: =F17-G17 -> 0 | I17: 2 | J17: 1 | K17: =I17-J17 -> 1 | L17: =I17/B17*100000 -> 0.21164917
... A28: ChrX | B28: =C28+D28+E28 -> 529874 | C28: 529793 | D28: 29 | E28: 52 | F28: 0 | G28: 0 | H28: =F28-G28 -> 0 | I28: 4 | J28: 4 | K28: =I28-J28 -> 0 | L28: =I28/B28*100000 -> 0.75489645

Sheet Leukemia5
A3: Table S3.15 Leukemia5
A5: Chromosome | B5: Total captured sites | C5: MM | D5: mm | E5: Mm | F5: GOH | G5: GOH-M | H5: GOH-m | I5: LOH | J5: Mm->MM | K5: Mm->mm | L5: LOH / Total captured sites (×10-5)
A6: Chr1 | B6: =C6+D6+E6 -> 1945157 | C6: 1944691 | D6: 152 | E6: 314 | F6: 7 | G6: 7 | H6: =F6-G6 -> 0 | I6: 4 | J6: 2 | K6: =I6-J6 -> 2 | L6: =I6/B6*100000 -> 0.20563893
A7: Chr2 | B7: =C7+D7+E7 -> 1345911 | C7: 1345598 | D7: 105 | E7: 208 | F7: 4 | G7: 4 | H7: =F7-G7 -> 0 | I7: 4 | J7: 3 | K7: =I7-J7 -> 1 | L7: =I7/B7*100000 -> 0.29719647
A8: Chr3 | B8: =C8+D8+E8 -> 1118928 | C8: 1118679 | D8: 101 | E8: 148 | F8: 4 | G8: 3 | H8: =F8-G8 -> 1 | I8: 3 | J8: 3 | K8: =I8-J8 -> 0 | L8: =I8/B8*100000 -> 0.26811377
A9: Chr4 | B9: =C9+D9+E9 -> 856439 | C9: 856194 | D9: 84 | E9: 161 | F9: 2 | G9: 2 | H9: =F9-G9 -> 0 | I9: 2 | J9: 2 | K9: =I9-J9 -> 0 | L9: =I9/B9*100000 -> 0.2335251
A10: Chr5 | B10: =C10+D10+E10 -> 887038 | C10: 886833 | D10: 69 | E10: 136 | F10: 2 | G10: 2 | H10: =F10-G10 -> 0 | I10: 2 | J10: 2 | K10: =I10-J10 -> 0 | L10: =I10/B10*100000 -> 0.22546948
A11: Chr6 | B11: =C11+D11+E11 -> 1012884 | C11: 1012593 | D11: 106 | E11: 185 | F11: 2 | G11: 1 | H11: =F11-G11 -> 1 | I11: 2 | J11: 2 | K11: =I11-J11 -> 0 | L11: =I11/B11*100000 -> 0.19745598
A12: Chr7 | B12: =C12+D12+E12 -> 1186435 | C12: 1186102 | D12: 86 | E12: 247 | F12: 7 | G12: 7 | H12: =F12-G12 -> 0 | I12: 4 | J12: 4 | K12: =I12-J12 -> 0 | L12: =I12/B12*100000 -> 0.33714447
A13: Chr8 | B13: =C13+D13+E13 -> 701837 | C13: 701661 | D13: 57 | E13: 119 | F13: 1 | G13: 0 | H13: =F13-G13 -> 1 | I13: 1 | J13: 1 | K13: =I13-J13 -> 0 | L13: =I13/B13*100000 -> 0.14248323
A14: Chr9 | B14: =C14+D14+E14 -> 842274 | C14: 842039 | D14: 73 | E14: 162 | F14: 4 | G14: 2 | H14: =F14-G14 -> 2 | I14: 2 | J14: 2 | K14: =I14-J14 -> 0 | L14: =I14/B14*100000 -> 0.23745242
A15: Chr10 | B15: =C15+D15+E15 -> 966572 | C15: 966322 | D15: 105 | E15: 145 | F15: 1 | G15: 1 | H15: =F15-G15 -> 0 | I15: 0 | J15: 0 | K15: =I15-J15 -> 0 | L15: =I15/B15*100000 -> 0
A16: Chr11 | B16: =C16+D16+E16 -> 903596 | C16: 903389 | D16: 78 | E16: 129 | F16: 1 | G16: 1 | H16: =F16-G16 -> 0 | I16: 0 | J16: 0 | K16: =I16-J16 -> 0 | L16: =I16/B16*100000 -> 0
A17: Chr12 | B17: =C17+D17+E17 -> 1105615 | C17: 1105346 | D17: 109 | E17: 160 | F17: 1 | G17: 1 | H17: =F17-G17 -> 0 | I17: 5 | J17: 5 | K17: =I17-J17 -> 0 | L17: =I17/B17*100000 -> 0.45223699
... A27: Chr22 | B27: =C27+D27+E27 -> 657039 | C27: 656865 | D27: 38 | E27: 136 | F27: 7 | G27: 4 | H27: =F27-G27 -> 3 | I27: 0 | J27: 0 | K27: =I27-J27 -> 0 | L27: =I27/B27*100000 -> 0
A29: Chromosome | B29: Total captured sites | C29: M | D29: m
A30: ChrX | B30: =C30+D30+E30 -> 514288 | C30: 514263 | D30: 25
A31: ChrY | B31: =C31+D31+E31 -> 16368 | C31: 16364 | D31: 4

Sheet Liver1
A3: Table S3.16 Liver1
A5: Chromosome | B5: Total captured sites | C5: MM | D5: mm | E5: Mm | F5: GOH | G5: GOH-M | H5: GOH-m | I5: LOH | J5: Mm->MM | K5: Mm->mm | L5: LOH / Total captured sites (×10-5)
A6: Chr1 | B6: =C6+D6+E6 -> 1015768 | C6: 1015551 | D6: 83 | E6: 134 | F6: 73 | G6: 65 | H6: =F6-G6 -> 8 | I6: 38 | J6: 34 | K6: =I6-J6 -> 4 | L6: =I6/B6*100000 -> 3.7410117
A7: Chr2 | B7: =C7+D7+E7 -> 694819 | C7: 694688 | D7: 68 | E7: 63 | F7: 22 | G7: 15 | H7: =F7-G7 -> 7 | I7: 22 | J7: 15 | K7: =I7-J7 -> 7 | L7: =I7/B7*100000 -> 3.1662922
A8: Chr3 | B8: =C8+D8+E8 -> 590131 | C8: 590013 | D8: 53 | E8: 65 | F8: 32 | G8: 26 | H8: =F8-G8 -> 6 | I8: 15 | J8: 11 | K8: =I8-J8 -> 4 | L8: =I8/B8*100000 -> 2.5418085
A9: Chr4 | B9: =C9+D9+E9 -> 437647 | C9: 437561 | D9: 29 | E9: 57 | F9: 25 | G9: 24 | H9: =F9-G9 -> 1 | I9: 18 | J9: 18 | K9: =I9-J9 -> 0 | L9: =I9/B9*100000 -> 4.1129038
A10: Chr5 | B10: =C10+D10+E10 -> 457288 | C10: 457185 | D10: 36 | E10: 67 | F10: 34 | G10: 30 | H10: =F10-G10 -> 4 | I10: 23 | J10: 23 | K10: =I10-J10 -> 0 | L10: =I10/B10*100000 -> 5.0296531
A11: Chr6 | B11: =C11+D11+E11 -> 520416 | C11: 520291 | D11: 42 | E11: 83 | F11: 13 | G11: 9 | H11: =F11-G11 -> 4 | I11: 15 | J11: 10 | K11: =I11-J11 -> 5 | L11: =I11/B11*100000 -> 2.8823095
A12: Chr7 | B12: =C12+D12+E12 -> 603849 | C12: 603734 | D12: 40 | E12: 75 | F12: 22 | G12: 19 | H12: =F12-G12 -> 3 | I12: 18 | J12: 16 | K12: =I12-J12 -> 2 | L12: =I12/B12*100000 -> 2.9808777
A13: Chr8 | B13: =C13+D13+E13 -> 358698 | C13: 358614 | D13: 31 | E13: 53 | F13: 19 | G13: 16 | H13: =F13-G13 -> 3 | I13: 14 | J13: 10 | K13: =I13-J13 -> 4 | L13: =I13/B13*100000 -> 3.9030048
A14: Chr9 | B14: =C14+D14+E14 -> 427005 | C14: 426940 | D14: 30 | E14: 35 | F14: 22 | G14: 18 | H14: =F14-G14 -> 4 | I14: 10 | J14: 9 | K14: =I14-J14 -> 1 | L14: =I14/B14*100000 -> 2.341893
A15: Chr10 | B15: =C15+D15+E15 -> 513550 | C15: 513438 | D15: 52 | E15: 60 | F15: 23 | G15: 19 | H15: =F15-G15 -> 4 | I15: 18 | J15: 16 | K15: =I15-J15 -> 2 | L15: =I15/B15*100000 -> 3.5050141
A16: Chr11 | B16: =C16+D16+E16 -> 445199 | C16: 445123 | D16: 28 | E16: 48 | F16: 17 | G16: 15 | H16: =F16-G16 -> 2 | I16: 12 | J16: 11 | K16: =I16-J16 -> 1 | L16: =I16/B16*100000 -> 2.6954238
A17: Chr12 | B17: =C17+D17+E17 -> 578973 | C17: 578864 | D17: 41 | E17: 68 | F17: 17 | G17: 14 | H17: =F17-G17 -> 3 | I17: 18 | J17: 15 | K17: =I17-J17 -> 3 | L17: =I17/B17*100000 -> 3.1089533
... A28: ChrX | B28: =C28+D28+E28 -> 309443 | C28: 309418 | D28: 9 | E28: 16 | F28: 6 | G28: 6 | H28: =F28-G28 -> 0 | I28: 5 | J28: 5 | K28: =I28-J28 -> 0 | L28: =I28/B28*100000 -> 1.6158065

Sheet Liver2
A3: Table S3.17 Liver2
A5: Chromosome | B5: Total captured sites | C5: MM | D5: mm | E5: Mm | F5: GOH | G5: GOH-M | H5: GOH-m | I5: LOH | J5: Mm->MM | K5: Mm->mm | L5: LOH / Total captured sites (×10-5)
A6: Chr1 | B6: =C6+D6+E6 -> 1767801 | C6: 1767253 | D6: 190 | E6: 358 | F6: 15 | G6: 11 | H6: =F6-G6 -> 4 | I6: 38 | J6: 35 | K6: =I6-J6 -> 3 | L6: =I6/B6*100000 -> 2.1495632
A7: Chr2 | B7: =C7+D7+E7 -> 1146147 | C7: 1145687 | D7: 158 | E7: 302 | F7: 16 | G7: 12 | H7: =F7-G7 -> 4 | I7: 29 | J7: 27 | K7: =I7-J7 -> 2 | L7: =I7/B7*100000 -> 2.5302165
A8: Chr3 | B8: =C8+D8+E8 -> 1016716 | C8: 1016276 | D8: 151 | E8: 289 | F8: 7 | G8: 6 | H8: =F8-G8 -> 1 | I8: 26 | J8: 26 | K8: =I8-J8 -> 0 | L8: =I8/B8*100000 -> 2.557253
A9: Chr4 | B9: =C9+D9+E9 -> 679162 | C9: 678889 | D9: 120 | E9: 153 | F9: 2 | G9: 2 | H9: =F9-G9 -> 0 | I9: 16 | J9: 14 | K9: =I9-J9 -> 2 | L9: =I9/B9*100000 -> 2.3558444
A10: Chr5 | B10: =C10+D10+E10 -> 773395 | C10: 773104 | D10: 89 | E10: 202 | F10: 5 | G10: 5 | H10: =F10-G10 -> 0 | I10: 25 | J10: 22 | K10: =I10-J10 -> 3 | L10: =I10/B10*100000 -> 3.2325009
A11: Chr6 | B11: =C11+D11+E11 -> 907517 | C11: 907038 | D11: 150 | E11: 329 | F11: 2 | G11: 2 | H11: =F11-G11 -> 0 | I11: 17 | J11: 16 | K11: =I11-J11 -> 1 | L11: =I11/B11*100000 -> 1.8732431
A12: Chr7 | B12: =C12+D12+E12 -> 967662 | C12: 967293 | D12: 121 | E12: 248 | F12: 14 | G12: 13 | H12: =F12-G12 -> 1 | I12: 30 | J12: 25 | K12: =I12-J12 -> 5 | L12: =I12/B12*100000 -> 3.1002561
A13: Chr8 | B13: =C13+D13+E13 -> 671742 | C13: 671496 | D13: 107 | E13: 139 | F13: 8 | G13: 6 | H13: =F13-G13 -> 2 | I13: 20 | J13: 18 | K13: =I13-J13 -> 2 | L13: =I13/B13*100000 -> 2.9773336
A14: Chr9 | B14: =C14+D14+E14 -> 743425 | C14: 743133 | D14: 119 | E14: 173 | F14: 4 | G14: 3 | H14: =F14-G14 -> 1 | I14: 21 | J14: 21 | K14: =I14-J14 -> 0 | L14: =I14/B14*100000 -> 2.8247638
A15: Chr10 | B15: =C15+D15+E15 -> 805051 | C15: 804736 | D15: 129 | E15: 186 | F15: 4 | G15: 4 | H15: =F15-G15 -> 0 | I15: 31 | J15: 31 | K15: =I15-J15 -> 0 | L15: =I15/B15*100000 -> 3.8506877
A16: Chr11 | B16: =C16+D16+E16 -> 718771 | C16: 718549 | D16: 115 | E16: 107 | F16: 5 | G16: 4 | H16: =F16-G16 -> 1 | I16: 29 | J16: 26 | K16: =I16-J16 -> 3 | L16: =I16/B16*100000 -> 4.0346647
A17: Chr12 | B17: =C17+D17+E17 -> 914563 | C17: 914138 | D17: 123 | E17: 302 | F17: 9 | G17: 7 | H17: =F17-G17 -> 2 | I17: 36 | J17: 35 | K17: =I17-J17 -> 1 | L17: =I17/B17*100000 -> 3.9363062
... A27: Chr22 | B27: =C27+D27+E27 -> 523256 | C27: 523044 | D27: 45 | E27: 167 | F27: 7 | G27: 4 | H27: =F27-G27 -> 3 | I27: 14 | J27: 14 | K27: =I27-J27 -> 0 | L27: =I27/B27*100000 -> 2.6755546
A29: Chromosome | B29: Total captured sites | C29: M | D29: m
A30: ChrX | B30: =C30+D30+E30 -> 359977 | C30: 359940 | D30: 37
A31: ChrY | B31: =C31+D31+E31 -> 24447 | C31: 24445 | D31: 2

Sheet Liver3
A3: Table S3.18 Liver3
A5: Chromosome | B5: Total captured sites | C5: MM | D5: mm | E5: Mm | F5: GOH | G5: GOH-M | H5: GOH-m | I5: LOH | J5: Mm->MM | K5: Mm->mm | L5: LOH / Total captured sites (×10-5)
A6: Chr1 | B6: =C6+D6+E6 -> 1164849 | C6: 1164388 | D6: 178 | E6: 283 | F6: 10 | G6: 10 | H6: =F6-G6 -> 0 | I6: 12 | J6: 10 | K6: =I6-J6 -> 2 | L6: =I6/B6*100000 -> 1.0301764
A7: Chr2 | B7: =C7+D7+E7 -> 732193 | C7: 731867 | D7: 140 | E7: 186 | F7: 5 | G7: 4 | H7: =F7-G7 -> 1 | I7: 6 | J7: 6 | K7: =I7-J7 -> 0 | L7: =I7/B7*100000 -> 0.81945607
A8: Chr3 | B8: =C8+D8+E8 -> 612442 | C8: 612111 | D8: 145 | E8: 186 | F8: 3 | G8: 3 | H8: =F8-G8 -> 0 | I8: 9 | J8: 7 | K8: =I8-J8 -> 2 | L8: =I8/B8*100000 -> 1.4695269
A9: Chr4 | B9: =C9+D9+E9 -> 421682 | C9: 421480 | D9: 96 | E9: 106 | F9: 3 | G9: 2 | H9: =F9-G9 -> 1 | I9: 8 | J9: 7 | K9: =I9-J9 -> 1 | L9: =I9/B9*100000 -> 1.8971642
A10: Chr5 | B10: =C10+D10+E10 -> 553080 | C10: 552922 | D10: 102 | E10: 56 | F10: 8 | G10: 6 | H10: =F10-G10 -> 2 | I10: 5 | J10: 4 | K10: =I10-J10 -> 1 | L10: =I10/B10*100000 -> 0.90402835
A11: Chr6 | B11: =C11+D11+E11 -> 561601 | C11: 561322 | D11: 122 | E11: 157 | F11: 9 | G11: 8 | H11: =F11-G11 -> 1 | I11: 6 | J11: 4 | K11: =I11-J11 -> 2 | L11: =I11/B11*100000 -> 1.0683742
A12: Chr7 | B12: =C12+D12+E12 -> 689414 | C12: 689093 | D12: 127 | E12: 194 | F12: 4 | G12: 3 | H12: =F12-G12 -> 1 | I12: 14 | J12: 13 | K12: =I12-J12 -> 1 | L12: =I12/B12*100000 -> 2.0307101
A13: Chr8 | B13: =C13+D13+E13 -> 381112 | C13: 380973 | D13: 94 | E13: 45 | F13: 2 | G13: 1 | H13: =F13-G13 -> 1 | I13: 8 | J13: 6 | K13: =I13-J13 -> 2 | L13: =I13/B13*100000 -> 2.0991205
A14: Chr9 | B14: =C14+D14+E14 -> 489359 | C14: 489122 | D14: 97 | E14: 140 | F14: 4 | G14: 4 | H14: =F14-G14 -> 0 | I14: 4 | J14: 3 | K14: =I14-J14 -> 1 | L14: =I14/B14*100000 -> 0.81739582
A15: Chr10 | B15: =C15+D15+E15 -> 545136 | C15: 544845 | D15: 136 | E15: 155 | F15: 6 | G15: 3 | H15: =F15-G15 -> 3 | I15: 5 | J15: 4 | K15: =I15-J15 -> 1 | L15: =I15/B15*100000 -> 0.91720231
A16: Chr11 | B16: =C16+D16+E16 -> 499440 | C16: 499199 | D16: 109 | E16: 132 | F16: 7 | G16: 2 | H16: =F16-G16 -> 5 | I16: 5 | J16: 4 | K16: =I16-J16 -> 1 | L16: =I16/B16*100000 -> 1.0011213
A17: Chr12 | B17: =C17+D17+E17 -> 637604 | C17: 637318 | D17: 109 | E17: 177 | F17: 4 | G17: 3 | H17: =F17-G17 -> 1 | I17: 10 | J17: 9 | K17: =I17-J17 -> 1 | L17: =I17/B17*100000 -> 1.5683716
... A27: Chr22 | B27: =C27+D27+E27 -> 413909 | C27: 413729 | D27: 85 | E27: 95 | F27: 2 | G27: 2 | H27: =F27-G27 -> 0 | I27: 9 | J27: 6 | K27: =I27-J27 -> 3 | L27: =I27/B27*100000 -> 2.174391
A29: Chromosome | B29: Total captured sites | C29: M | D29: m
A30: ChrX | B30: =C30+D30+E30 -> 257338 | C30: 257298 | D30: 40
A31: ChrY | B31: =C31+D31+E31 -> 13488 | C31: 13488 | D31: 0

Sheet Liver4
A3: Table S3.19 Liver4
A5: Chromosome | B5: Total captured sites | C5: MM | D5: mm | E5: Mm | F5: GOH | G5: GOH-M | H5: GOH-m | I5: LOH | J5: Mm->MM | K5: Mm->mm | L5: LOH / Total captured sites (×10-5)
A6: Chr1 | B6: =C6+D6+E6 -> 788262 | C6: 788003 | D6: 98 | E6: 161 | F6: 4 | G6: 2 | H6: =F6-G6 -> 2 | I6: 22 | J6: 21 | K6: =I6-J6 -> 1 | L6: =I6/B6*100000 -> 2.7909502
A7: Chr2 | B7: =C7+D7+E7 -> 511362 | C7: 511152 | D7: 75 | E7: 135 | F7: 1 | G7: 1 | H7: =F7-G7 -> 0 | I7: 12 | J7: 10 | K7: =I7-J7 -> 2 | L7: =I7/B7*100000 -> 2.3466742
A8: Chr3 | B8: =C8+D8+E8 -> 457331 | C8: 457146 | D8: 80 | E8: 105 | F8: 5 | G8: 2 | H8: =F8-G8 -> 3 | I8: 15 | J8: 14 | K8: =I8-J8 -> 1 | L8: =I8/B8*100000 -> 3.2799001
A9: Chr4 | B9: =C9+D9+E9 -> 297131 | C9: 297044 | D9: 43 | E9: 44 | F9: 3 | G9: 2 | H9: =F9-G9 -> 1 | I9: 8 | J9: 6 | K9: =I9-J9 -> 2 | L9: =I9/B9*100000 -> 2.6924151
A10: Chr5 | B10: =C10+D10+E10 -> 345405 | C10: 345277 | D10: 57 | E10: 71 | F10: 2 | G10: 2 | H10: =F10-G10 -> 0 | I10: 4 | J10: 2 | K10: =I10-J10 -> 2 | L10: =I10/B10*100000 -> 1.1580608
A11: Chr6 | B11: =C11+D11+E11 -> 380064 | C11: 379901 | D11: 60 | E11: 103 | F11: 3 | G11: 3 | H11: =F11-G11 -> 0 | I11: 22 | J11: 16 | K11: =I11-J11 -> 6 | L11: =I11/B11*100000 -> 5.7884988
A12: Chr7 | B12: =C12+D12+E12 -> 458202 | C12: 458058 | D12: 54 | E12: 90 | F12: 1 | G12: 1 | H12: =F12-G12 -> 0 | I12: 13 | J12: 10 | K12: =I12-J12 -> 3 | L12: =I12/B12*100000 -> 2.8371766
A13: Chr8 | B13: =C13+D13+E13 -> 258804 | C13: 258694 | D13: 50 | E13: 60 | F13: 4 | G13: 3 | H13: =F13-G13 -> 1 | I13: 4 | J13: 3 | K13: =I13-J13 -> 1 | L13: =I13/B13*100000 -> 1.5455712
A14: Chr9 | B14: =C14+D14+E14 -> 308785 | C14: 308684 | D14: 46 | E14: 55 | F14: 6 | G14: 4 | H14: =F14-G14 -> 2 | I14: 6 | J14: 5 | K14: =I14-J14 -> 1 | L14: =I14/B14*100000 -> 1.9430996
A15: Chr10 | B15: =C15+D15+E15 -> 357136 | C15: 357012 | D15: 55 | E15: 69 | F15: 2 | G15: 2 | H15: =F15-G15 -> 0 | I15: 11 | J15: 7 | K15: =I15-J15 -> 4 | L15: =I15/B15*100000 -> 3.0800591
A16: Chr11 | B16: =C16+D16+E16 -> 316608 | C16: 316496 | D16: 41 | E16: 71 | F16: 2 | G16: 2 | H16: =F16-G16 -> 0 | I16: 11 | J16: 11 | K16: =I16-J16 -> 0 | L16: =I16/B16*100000 -> 3.4743279
A17: Chr12 | B17: =C17+D17+E17 -> 452642 | C17: 452481 | D17: 62 | E17: 99 | F17: 5 | G17: 4 | H17: =F17-G17 -> 1 | I17: 22 | J17: 16 | K17: =I17-J17 -> 6 | L17: =I17/B17*100000 -> 4.8603532
... A27: Chr22 | B27: =C27+D27+E27 -> 238229 | C27: 238154 | D27: 39 | E27: 36 | F27: 1 | G27: 1 | H27: =F27-G27 -> 0 | I27: 7 | J27: 7 | K27: =I27-J27 -> 0 | L27: =I27/B27*100000 -> 2.9383492
A29: Chromosome | B29: Total captured sites | C29: M | D29: m
A30: ChrX | B30: =C30+D30+E30 -> 161833 | C30: 161819 | D30: 14
A31: ChrY | B31: =C31+D31+E31 -> 8306 | C31: 8306 | D31: 0

Sheet Liver5
A3: Table S3.20 Liver5
A5: Chromosome | B5: Total captured sites | C5: MM | D5: mm | E5: Mm | F5: GOH | G5: GOH-M | H5: GOH-m | I5: LOH | J5: Mm->MM | K5: Mm->mm | L5: LOH / Total captured sites (×10-5)
A6: Chr1 | B6: =C6+D6+E6 -> 1080297 | C6: 1079856 | D6: 207 | E6: 234 | F6: 1 | G6: 0 | H6: =F6-G6 -> 1 | I6: 17 | J6: 11 | K6: =I6-J6 -> 6 | L6: =I6/B6*100000 -> 1.5736413
A7: Chr2 | B7: =C7+D7+E7 -> 729184 | C7: 728868 | D7: 162 | E7: 154 | F7: 2 | G7: 1 | H7: =F7-G7 -> 1 | I7: 8 | J7: 7 | K7: =I7-J7 -> 1 | L7: =I7/B7*100000 -> 1.0971168
A8: Chr3 | B8: =C8+D8+E8 -> 609521 | C8: 609318 | D8: 130 | E8: 73 | F8: 2 | G8: 2 | H8: =F8-G8 -> 0 | I8: 21 | J8: 12 | K8: =I8-J8 -> 9 | L8: =I8/B8*100000 -> 3.4453284
A9: Chr4 | B9: =C9+D9+E9 -> 381559 | C9: 381408 | D9: 75 | E9: 76 | F9: 3 | G9: 2 | H9: =F9-G9 -> 1 | I9: 20 | J9: 15 | K9: =I9-J9 -> 5 | L9: =I9/B9*100000 -> 5.2416533
A10: Chr5 | B10: =C10+D10+E10 -> 438920 | C10: 438753 | D10: 83 | E10: 84 | F10: 6 | G10: 5 | H10: =F10-G10 -> 1 | I10: 7 | J10: 7 | K10: =I10-J10 -> 0 | L10: =I10/B10*100000 -> 1.5948237
A11: Chr6 | B11: =C11+D11+E11 -> 513369 | C11: 513107 | D11: 142 | E11: 120 | F11: 2 | G11: 2 | H11: =F11-G11 -> 0 | I11: 1 | J11: 1 | K11: =I11-J11 -> 0 | L11: =I11/B11*100000 -> 0.19479166
A12: Chr7 | B12: =C12+D12+E12 -> 646251 | C12: 645906 | D12: 128 | E12: 217 | F12: 3 | G12: 3 | H12: =F12-G12 -> 0 | I12: 3 | J12: 3 | K12: =I12-J12 -> 0 | L12: =I12/B12*100000 -> 0.46421592
A13: Chr8 | B13: =C13+D13+E13 -> 348620 | C13: 348483 | D13: 74 | E13: 63 | F13: 0 | G13: 0 | H13: =F13-G13 -> 0 | I13: 10 | J13: 7 | K13: =I13-J13 -> 3 | L13: =I13/B13*100000 -> 2.8684528
A14: Chr9 | B14: =C14+D14+E14 -> 448510 | C14: 448293 | D14: 92 | E14: 125 | F14: 6 | G14: 6 | H14: =F14-G14 -> 0 | I14: 13 | J14: 10 | K14: =I14-J14 -> 3 | L14: =I14/B14*100000 -> 2.8984861
A15: Chr10 | B15: =C15+D15+E15 -> 509326 | C15: 509042 | D15: 135 | E15: 149 | F15: 0 | G15: 0 | H15: =F15-G15 -> 0 | I15: 9 | J15: 9 | K15: =I15-J15 -> 0 | L15: =I15/B15*100000 -> 1.7670411
A16: Chr11 | B16: =C16+D16+E16 -> 446554 | C16: 446352 | D16: 95 | E16: 107 | F16: 3 | G16: 3 | H16: =F16-G16 -> 0 | I16: 5 | J16: 4 | K16: =I16-J16 -> 1 | L16: =I16/B16*100000 -> 1.1196854
A17: Chr12 | B17: =C17+D17+E17 -> 593888 | C17: 593668 | D17: 98 | E17: 122 | F17: 3 | G17: 3 | H17: =F17-G17 -> 0 | I17: 2 | J17: 2 | K17: =I17-J17 -> 0 | L17: =I17/B17*100000 -> 0.33676383
... A27: Chr22 | B27: =C27+D27+E27 -> 375758 | C27: 375603 | D27: 74 | E27: 81 | F27: 4 | G27: 3 | H27: =F27-G27 -> 1 | I27: 4 | J27: 4 | K27: =I27-J27 -> 0 | L27: =I27/B27*100000 -> 1.0645149
A29: Chromosome | B29: Total captured sites | C29: M | D29: m
A30: ChrX | B30: =C30+D30+E30 -> 199254 | C30: 199227 | D30: 27
A31: ChrY | B31: =C31+D31+E31 -> 0 | C31: 0 | D31: 0

Sheet Lung1
A3: Table S3.21 Lung1
A5: Chromosome | B5: Total captured sites | C5: MM | D5: mm | E5: Mm | F5: GOH | G5: GOH-M | H5: GOH-m | I5: LOH | J5: Mm->MM | K5: Mm->mm | L5: LOH / Total captured sites (×10-5)
A6: Chr1 | B6: =C6+D6+E6 -> 1142012 | C6: 1141527 | D6: 192 | E6: 293 | F6: 3 | G6: 1 | H6: =F6-G6 -> 2 | I6: 19 | J6: 13 | K6: =I6-J6 -> 6 | L6: =I6/B6*100000 -> 1.6637303
A7: Chr2 | B7: =C7+D7+E7 -> 818885 | C7: 818474 | D7: 177 | E7: 234 | F7: 3 | G7: 2 | H7: =F7-G7 -> 1 | I7: 11 | J7: 9 | K7: =I7-J7 -> 2 | L7: =I7/B7*100000 -> 1.34329
A8: Chr3 | B8: =C8+D8+E8 -> 704012 | C8: 703675 | D8: 168 | E8: 169 | F8: 2 | G8: 0 | H8: =F8-G8 -> 2 | I8: 16 | J8: 12 | K8: =I8-J8 -> 4 | L8: =I8/B8*100000 -> 2.2726885
A9: Chr4 | B9: =C9+D9+E9 -> 482327 | C9: 482078 | D9: 104 | E9: 145 | F9: 5 | G9: 4 | H9: =F9-G9 -> 1 | I9: 10 | J9: 9 | K9: =I9-J9 -> 1 | L9: =I9/B9*100000 -> 2.0732822
A10: Chr5 | B10: =C10+D10+E10 -> 538061 | C10: 537814 | D10: 110 | E10: 137 | F10: 1 | G10: 1 | H10: =F10-G10 -> 0 | I10: 6 | J10: 5 | K10: =I10-J10 -> 1 | L10: =I10/B10*100000 -> 1.1151152
A11: Chr6 | B11: =C11+D11+E11 -> 564548 | C11: 564281 | D11: 103 | E11: 164 | F11: 3 | G11: 1 | H11: =F11-G11 -> 2 | I11: 5 | J11: 3 | K11: =I11-J11 -> 2 | L11: =I11/B11*100000 -> 0.88566428
A12: Chr7 | B12: =C12+D12+E12 -> 698684 | C12: 698319 | D12: 142 | E12: 223 | F12: 5 | G12: 2 | H12: =F12-G12 -> 3 | I12: 14 | J12: 9 | K12: =I12-J12 -> 5 | L12: =I12/B12*100000 -> 2.0037671
A13: Chr8 | B13: =C13+D13+E13 -> 425025 | C13: 424798 | D13: 97 | E13: 130 | F13: 1 | G13: 0 | H13: =F13-G13 -> 1 | I13: 4 | J13: 4 | K13: =I13-J13 -> 0 | L13: =I13/B13*100000 -> 0.94112111
A14: Chr9 | B14: =C14+D14+E14 -> 457033 | C14: 456794 | D14: 103 | E14: 136 | F14: 1 | G14: 1 | H14: =F14-G14 -> 0 | I14: 9 | J14: 9 | K14: =I14-J14 -> 0 | L14: =I14/B14*100000 -> 1.9692232
A15: Chr10 | B15: =C15+D15+E15 -> 597681 | C15: 597350 | D15: 154 | E15: 177 | F15: 2 | G15: 2 | H15: =F15-G15 -> 0 | I15: 6 | J15: 5 | K15: =I15-J15 -> 1 | L15: =I15/B15*100000 -> 1.00388
A16: Chr11 | B16: =C16+D16+E16 -> 492925 | C16: 492685 | D16: 104 | E16: 136 | F16: 3 | G16: 3 | H16: =F16-G16 -> 0 | I16: 12 | J16: 10 | K16: =I16-J16 -> 2 | L16: =I16/B16*100000 -> 2.4344474
A17: Chr12 | B17: =C17+D17+E17 -> 638447 | C17: 638147 | D17: 128 | E17: 172 | F17: 1 | G17: 1 | H17: =F17-G17 -> 0 | I17: 19 | J17: 16 | K17: =I17-J17 -> 3 | L17: =I17/B17*100000 -> 2.9759714
... A27: Chr22 | B27: =C27+D27+E27 -> 346170 | C27: 345998 | D27: 57 | E27: 115 | F27: 2 | G27: 0 | H27: =F27-G27 -> 2 | I27: 7 | J27: 3 | K27: =I27-J27 -> 4 | L27: =I27/B27*100000 -> 2.0221279
A29: Chromosome | B29: Total captured sites | C29: M | D29: m
A30: ChrX | B30: =C30+D30+E30 -> 207589 | C30: 207563 | D30: 26
A31: ChrY | B31: =C31+D31+E31 -> 12673 | C31: 12671 | D31: 2

Sheet Lung2
A3: Table S3.22 Lung2
A5: Chromosome | B5: Total captured sites | C5: MM | D5: mm | E5: Mm | F5: GOH | G5: GOH-M | H5: GOH-m | I5: LOH | J5: Mm->MM | K5: Mm->mm | L5: LOH / Total captured sites (×10-5)
A6: Chr1 | B6: =C6+D6+E6 -> 1200105 | C6: 1199661 | D6: 256 | E6: 188 | F6: 30 | G6: 24 | H6: =F6-G6 -> 6 | I6: 28 | J6: 27 | K6: =I6-J6 -> 1 | L6: =I6/B6*100000 -> 2.3331292
A7: Chr2 | B7: =C7+D7+E7 -> 956604 | C7: 956117 | D7: 246 | E7: 241 | F7: 23 | G7: 19 | H7: =F7-G7 -> 4 | I7: 14 | J7: 14 | K7: =I7-J7 -> 0 | L7: =I7/B7*100000 -> 1.4635105
A8: Chr3 | B8: =C8+D8+E8 -> 811080 | C8: 810739 | D8: 217 | E8: 124 | F8: 24 | G8: 23 | H8: =F8-G8 -> 1 | I8: 20 | J8: 18 | K8: =I8-J8 -> 2 | L8: =I8/B8*100000 -> 2.465848
A9: Chr4 | B9: =C9+D9+E9 -> 570345 | C9: 570119 | D9: 148 | E9: 78 | F9: 11 | G9: 10 | H9: =F9-G9 -> 1 | I9: 10 | J9: 8 | K9: =I9-J9 -> 2 | L9: =I9/B9*100000 -> 1.7533247
A10: Chr5 | B10: =C10+D10+E10 -> 575522 | C10: 575310 | D10: 116 | E10: 96 | F10: 18 | G10: 17 | H10: =F10-G10 -> 1 | I10: 10 | J10: 10 | K10: =I10-J10 -> 0 | L10: =I10/B10*100000 -> 1.737553
A11: Chr6 | B11: =C11+D11+E11 -> 660825 | C11: 660497 | D11: 177 | E11: 151 | F11: 11 | G11: 10 | H11: =F11-G11 -> 1 | I11: 12 | J11: 12 | K11: =I11-J11 -> 0 | L11: =I11/B11*100000 -> 1.8159119
A12: Chr7 | B12: =C12+D12+E12 -> 757893 | C12: 757559 | D12: 184 | E12: 150 | F12: 28 | G12: 27 | H12: =F12-G12 -> 1 | I12: 20 | J12: 18 | K12: =I12-J12 -> 2 | L12: =I12/B12*100000 -> 2.6388949
A13: Chr8 | B13: =C13+D13+E13 -> 529700 | C13: 529441 | D13: 162 | E13: 97 | F13: 14 | G13: 12 | H13: =F13-G13 -> 2 | I13: 12 | J13: 9 | K13: =I13-J13 -> 3 | L13: =I13/B13*100000 -> 2.2654333
A14: Chr9 | B14: =C14+D14+E14 -> 553051 | C14: 552817 | D14: 142 | E14: 92 | F14: 11 | G14: 11 | H14: =F14-G14 -> 0 | I14: 19 | J14: 17 | K14: =I14-J14 -> 2 | L14: =I14/B14*100000 -> 3.4354879
A15: Chr10 | B15: =C15+D15+E15 -> 576770 | C15: 576475 | D15: 158 | E15: 137 | F15: 20 | G15: 15 | H15: =F15-G15 -> 5 | I15: 11 | J15: 10 | K15: =I15-J15 -> 1 | L15: =I15/B15*100000 -> 1.9071727
A16: Chr11 | B16: =C16+D16+E16 -> 537543 | C16: 537306 | D16: 120 | E16: 117 | F16: 19 | G16: 15 | H16: =F16-G16 -> 4 | I16: 18 | J16: 16 | K16: =I16-J16 -> 2 | L16: =I16/B16*100000 -> 3.3485693
A17: Chr12 | B17: =C17+D17+E17 -> 683740 | C17: 683419 | D17: 161 | E17: 160 | F17: 18 | G17: 16 | H17: =F17-G17 -> 2 | I17: 11 | J17: 11 | K17: =I17-J17 -> 0 | L17: =I17/B17*100000 -> 1.6087987
... A27: Chr22 | B27: =C27+D27+E27 -> 350168 | C27: 350005 | D27: 66 | E27: 97 | F27: 8 | G27: 8 | H27: =F27-G27 -> 0 | I27: 10 | J27: 10 | K27: =I27-J27 -> 0 | L27: =I27/B27*100000 -> 2.8557721
A29: Chromosome | B29: Total captured sites | C29: M | D29: m
A30: ChrX | B30: =C30+D30+E30 -> 270239 | C30: 270183 | D30: 56
A31: ChrY | B31: =C31+D31+E31 -> 10137 | C31: 10136 | D31: 1

Sheet Lung3
A3: Table S3.23 Lung3
A5: Chromosome | B5: Total captured sites | C5: MM | D5: mm | E5: Mm | F5: GOH | G5: GOH-M | H5: GOH-m | I5: LOH | J5: Mm->MM | K5: Mm->mm | L5: LOH / Total captured sites (×10-5)
A6: Chr1 | B6: =C6+D6+E6 -> 1347929 | C6: 1347454 | D6: 188 | E6: 287 | F6: 25 | G6: 23 | H6: =F6-G6 -> 2 | I6: 11 | J6: 9 | K6: =I6-J6 -> 2 | L6: =I6/B6*100000 -> 0.81606672
A7: Chr2 | B7: =C7+D7+E7 -> 848992 | C7: 848696 | D7: 119 | E7: 177 | F7: 25 | G7: 16 | H7: =F7-G7 -> 9 | I7: 11 | J7: 11 | K7: =I7-J7 -> 0 | L7: =I7/B7*100000 -> 1.2956541
A8: Chr3 | B8: =C8+D8+E8 -> 652392 | C8: 652146 | D8: 101 | E8: 145 | F8: 23 | G8: 18 | H8: =F8-G8 -> 5 | I8: 7 | J8: 7 | K8: =I8-J8 -> 0 | L8: =I8/B8*100000 -> 1.0729745
A9: Chr4 | B9: =C9+D9+E9 -> 467168 | C9: 466993 | D9: 72 | E9: 103 | F9: 10 | G9: 8 | H9: =F9-G9 -> 2 | I9: 11 | J9: 10 | K9: =I9-J9 -> 1 | L9: =I9/B9*100000 -> 2.3546133
A10: Chr5 | B10: =C10+D10+E10 -> 549938 | C10: 549733 | D10: 82 | E10: 123 | F10: 7 | G10: 5 | H10: =F10-G10 -> 2 | I10: 14 | J10: 13 | K10: =I10-J10 -> 1 | L10: =I10/B10*100000 -> 2.5457415
A11: Chr6 | B11: =C11+D11+E11 -> 619390 | C11: 619150 | D11: 97 | E11: 143 | F11: 13 | G11: 9 | H11: =F11-G11 -> 4 | I11: 10 | J11: 10 | K11: =I11-J11 -> 0 | L11: =I11/B11*100000 -> 1.6144917
A12: Chr7 | B12: =C12+D12+E12 -> 866212 | C12: 865922 | D12: 114 | E12: 176 | F12: 22 | G12: 18 | H12: =F12-G12 -> 4 | I12: 15 | J12: 10 | K12: =I12-J12 -> 5 | L12: =I12/B12*100000 -> 1.7316777
A13: Chr8 | B13: =C13+D13+E13 -> 469081 | C13: 468893 | D13: 63 | E13: 125 | F13: 4 | G13: 3 | H13: =F13-G13 -> 1 | I13: 7 | J13: 5 | K13: =I13-J13 -> 2 | L13: =I13/B13*100000 -> 1.4922796
A14: Chr9 | B14: =C14+D14+E14 -> 592978 | C14: 592770 | D14: 76 | E14: 132 | F14: 10 | G14: 9 | H14: =F14-G14 -> 1 | I14: 5 | J14: 4 | K14: =I14-J14 -> 1 | L14: =I14/B14*100000 -> 0.8432016
A15: Chr10 | B15: =C15+D15+E15 -> 626224 | C15: 625960 | D15: 118 | E15: 146 | F15: 16 | G15: 16 | H15: =F15-G15 -> 0 | I15: 7 | J15: 7 | K15: =I15-J15 -> 0 | L15: =I15/B15*100000 -> 1.1178109
A16: Chr11 | B16: =C16+D16+E16 -> 618709 | C16: 618499 | D16: 92 | E16: 118 | F16: 8 | G16: 7 | H16: =F16-G16 -> 1 | I16: 12 | J16: 11 | K16: =I16-J16 -> 1 | L16: =I16/B16*100000 -> 1.9395225
A17: Chr12 | B17: =C17+D17+E17 -> 663923 | C17: 663689 | D17: 89 | E17: 145 | F17: 13 | G17: 10 | H17: =F17-G17 -> 3 | I17: 15 | J17: 13 | K17: =I17-J17 -> 2 | L17: =I17/B17*100000 -> 2.2592981
... A28: ChrX | B28: =C28+D28+E28 -> 310929 | C28: 310847 | D28: 40 | E28: 42 | F28: 10 | G28: 8 | H28: =F28-G28 -> 2 | I28: 6 | J28: 6 | K28: =I28-J28 -> 0 | L28: =I28/B28*100000 -> 1.929701

Sheet Lung4
A3: Table S3.24 Lung4
A5: Chromosome | B5: Total captured sites | C5: MM | D5: mm | E5: Mm | F5: GOH | G5: GOH-M | H5: GOH-m | I5: LOH | J5: Mm->MM | K5: Mm->mm | L5: LOH / Total captured sites (×10-5)
A6: Chr1 | B6: =C6+D6+E6 -> 1164079 | C6: 1163695 | D6: 133 | E6: 251 | F6: 41 | G6: 34 | H6: =F6-G6 -> 7 | I6: 11 | J6: 11 | K6: =I6-J6 -> 0 | L6: =I6/B6*100000 -> 0.94495305
A7: Chr2 | B7: =C7+D7+E7 -> 736676 | C7: 736388 | D7: 104 | E7: 184 | F7: 31 | G7: 24 | H7: =F7-G7 -> 7 | I7: 4 | J7: 3 | K7: =I7-J7 -> 1 | L7: =I7/B7*100000 -> 0.54297955
A8: Chr3 | B8: =C8+D8+E8 -> 590368 | C8: 590159 | D8: 86 | E8: 123 | F8: 18 | G8: 12 | H8: =F8-G8 -> 6 | I8: 6 | J8: 5 | K8: =I8-J8 -> 1 | L8: =I8/B8*100000 -> 1.0163152
A9: Chr4 | B9: =C9+D9+E9 -> 419340 | C9: 419177 | D9: 74 | E9: 89 | F9: 16 | G9: 12 | H9: =F9-G9 -> 4 | I9: 8 | J9: 7 | K9: =I9-J9 -> 1 | L9: =I9/B9*100000 -> 1.9077598
A10: Chr5 | B10: =C10+D10+E10 -> 476096 | C10: 475915 | D10: 73 | E10: 108 | F10: 19 | G10: 10 | H10: =F10-G10 -> 9 | I10: 7 | J10: 7 | K10: =I10-J10 -> 0 | L10: =I10/B10*100000 -> 1.4702917
A11: Chr6 | B11: =C11+D11+E11 -> 536636 | C11: 536410 | D11: 83 | E11: 143 | F11: 18 | G11: 16 | H11: =F11-G11 -> 2 | I11: 7 | J11: 6 | K11: =I11-J11 -> 1 | L11: =I11/B11*100000 -> 1.3044224
A12: Chr7 | B12: =C12+D12+E12 -> 736037 | C12: 735771 | D12: 85 | E12: 181 | F12: 33 | G12: 30 | H12: =F12-G12 -> 3 | I12: 6 | J12: 6 | K12: =I12-J12 -> 0 | L12: =I12/B12*100000 -> 0.81517641
A13: Chr8 | B13: =C13+D13+E13 -> 415271 | C13: 415101 | D13: 55 | E13: 115 | F13: 15 | G13: 9 | H13: =F13-G13 -> 6 | I13: 5 | J13: 5 | K13: =I13-J13 -> 0 | L13: =I13/B13*100000 -> 1.204033
A14: Chr9 | B14: =C14+D14+E14 -> 500309 | C14: 500131 | D14: 62 | E14: 116 | F14: 24 | G14: 17 | H14: =F14-G14 -> 7 | I14: 6 | J14: 5 | K14: =I14-J14 -> 1 | L14: =I14/B14*100000 -> 1.1992589
A15: Chr10 | B15: =C15+D15+E15 -> 541287 | C15: 541102 | D15: 76 | E15: 109 | F15: 25 | G15: 18 | H15: =F15-G15 -> 7 | I15: 4 | J15: 4 | K15: =I15-J15 -> 0 | L15: =I15/B15*100000 -> 0.73897951
A16: Chr11 | B16: =C16+D16+E16 -> 537118 | C16: 536931 | D16: 87 | E16: 100 | F16: 13 | G16: 7 | H16: =F16-G16 -> 6 | I16: 9 | J16: 7 | K16: =I16-J16 -> 2 | L16: =I16/B16*100000 -> 1.6756095
A17: Chr12 | B17: =C17+D17+E17 -> 607974 | C17: 607738 | D17: 77 | E17: 159 | F17: 24 | G17: 22 | H17: =F17-G17 -> 2 | I17: 15 | J17: 15 | K17: =I17-J17 -> 0 | L17: =I17/B17*100000 -> 2.4672108
... A27: Chr22 | B27: =C27+D27+E27 -> 489808 | C27: 489671 | D27: 45 | E27: 92 | F27: 15 | G27: 12 | H27: =F27-G27 -> 3 | I27: 6 | J27: 6 | K27: =I27-J27 -> 0 | L27: =I27/B27*100000 -> 1.2249698
A29: Chromosome | B29: Total captured sites | C29: M | D29: m
A30: ChrX | B30: =C30+D30+E30 -> 313657 | C30: 313627 | D30: 30
A31: ChrY | B31: =C31+D31+E31 -> 1315 | C31: 1314 | D31: 1

Sheet Lung5
A3: Table S3.25 Lung5
A5: Chromosome | B5: Total captured sites | C5: MM | D5: mm | E5: Mm | F5: GOH | G5: GOH-M | H5: GOH-m | I5: LOH | J5: Mm->MM | K5: Mm->mm | L5: LOH / Total captured sites (×10-5)
A6: Chr1 | B6: =C6+D6+E6 -> 1315828 | C6: 1315208 | D6: 256 | E6: 364 | F6: 147 | G6: 109 | H6: =F6-G6 -> 38 | I6: 177 | J6: 140 | K6: =I6-J6 -> 37 | L6: =I6/B6*100000 -> 13.451606
A7: Chr2 | B7: =C7+D7+E7 -> 884417 | C7: 883968 | D7: 175 | E7: 274 | F7: 113 | G7: 90 | H7: =F7-G7 -> 23 | I7: 120 | J7: 87 | K7: =I7-J7 -> 33 | L7: =I7/B7*100000 -> 13.56826
A8: Chr3 | B8: =C8+D8+E8 -> 682203 | C8: 681853 | D8: 154 | E8: 196 | F8: 80 | G8: 65 | H8: =F8-G8 -> 15 | I8: 92 | J8: 72 | K8: =I8-J8 -> 20 | L8: =I8/B8*100000 -> 13.485722
A9: Chr4 | B9: =C9+D9+E9 -> 523712 | C9: 523443 | D9: 138 | E9: 131 | F9: 108 | G9: 82 | H9: =F9-G9 -> 26 | I9: 67 | J9: 46 | K9: =I9-J9 -> 21 | L9: =I9/B9*100000 -> 12.793291
A10: Chr5 | B10: =C10+D10+E10 -> 578791 | C10: 578493 | D10: 130 | E10: 168 | F10: 73 | G10: 59 | H10: =F10-G10 -> 14 | I10: 79 | J10: 63 | K10: =I10-J10 -> 16 | L10: =I10/B10*100000 -> 13.649141
A11: Chr6 | B11: =C11+D11+E11 -> 670983 | C11: 670622 | D11: 144 | E11: 217 | F11: 93 | G11: 79 | H11: =F11-G11 -> 14 | I11: 97 | J11: 77 | K11: =I11-J11 -> 20 | L11: =I11/B11*100000 -> 14.456402
A12: Chr7 | B12: =C12+D12+E12 -> 856047 | C12: 855642 | D12: 171 | E12: 234 | F12: 119 | G12: 89 | H12: =F12-G12 -> 30 | I12: 128 | J12: 103 | K12: =I12-J12 -> 25 | L12: =I12/B12*100000 -> 14.95245
A13: Chr8 | B13: =C13+D13+E13 -> 500822 | C13: 500547 | D13: 116 | E13: 159 | F13: 84 | G13: 66 | H13: =F13-G13 -> 18 | I13: 79 | J13: 57 | K13: =I13-J13 -> 22 | L13: =I13/B13*100000 -> 15.774067
A14: Chr9 | B14: =C14+D14+E14 -> 602937 | C14: 602603 | D14: 115 | E14: 219 | F14: 80 | G14: 60 | H14: =F14-G14 -> 20 | I14: 112 | J14: 90 | K14: =I14-J14 -> 22 | L14: =I14/B14*100000 -> 18.575738
A15: Chr10 | B15: =C15+D15+E15 -> 667339 | C15: 666948 | D15: 183 | E15: 208 | F15: 97 | G15: 68 | H15: =F15-G15 -> 29 | I15: 117 | J15: 97 | K15: =I15-J15 -> 20 | L15: =I15/B15*100000 -> 17.532319
A16: Chr11 | B16: =C16+D16+E16 -> 622839 | C16: 622554 | D16: 124 | E16: 161 | F16: 75 | G16: 54 | H16: =F16-G16 -> 21 | I16: 72 | J16: 54 | K16: =I16-J16 -> 18 | L16: =I16/B16*100000 -> 11.55997
A17: Chr12 | B17: =C17+D17+E17 -> 699276 | C17: 698910 | D17: 151 | E17: 215 | F17: 103 | G17: 78 | H17: =F17-G17 -> 25 | I17: 96 | J17: 80 | K17: =I17-J17 -> 16 | L17: =I17/B17*100000 -> 13.728485
... A28: ChrX | B28: =C28+D28+E28 -> 287471 | C28: 287410 | D28: 39 | E28: 22 | F28: 26 | G28: 17 | H28: =F28-G28 -> 9 | I28: 2 | J28: 2 | K28: =I28-J28 -> 0 | L28: =I28/B28*100000 -> 0.69572235

Sheet LungBrain1
A3: Table S3.26 Lung-Brain 1
A5: Chromosome | B5: Total captured sites | C5: MM | D5: mm | E5: Mm | F5: GOH | G5: GOH-M | H5: GOH-m | I5: LOH | J5: Mm->MM | K5: Mm->mm | L5: LOH / Total captured sites (×10-5)
A6: Chr1 | B6: =C6+D6+E6 -> 2075660 | C6: 2074336 | D6: 532 | E6: 792 | F6: 21 | G6: 15 | H6: =F6-G6 -> 6 | I6: 18 | J6: 15 | K6: =I6-J6 -> 3 | L6: =I6/B6*100000 -> 0.86719405
A7: Chr2 | B7: =C7+D7+E7 -> 1336069 | C7: 1335226 | D7: 377 | E7: 466 | F7: 12 | G7: 11 | H7: =F7-G7 -> 1 | I7: 7 | J7: 6 | K7: =I7-J7 -> 1 | L7: =I7/B7*100000 -> 0.52392504
A8: Chr3 | B8: =C8+D8+E8 -> 1094305 | C8: 1093579 | D8: 310 | E8: 416 | F8: 13 | G8: 11 | H8: =F8-G8 -> 2 | I8: 2 | J8: 2 | K8: =I8-J8 -> 0 | L8: =I8/B8*100000 -> 0.1827644
A9: Chr4 | B9: =C9+D9+E9 -> 785331 | C9: 784747 | D9: 275 | E9: 309 | F9: 5 | G9: 4 | H9: =F9-G9 -> 1 | I9: 6 | J9: 5 | K9: =I9-J9 -> 1 | L9: =I9/B9*100000 -> 0.76400906
A10: Chr5 | B10: =C10+D10+E10 -> 940399 | C10: 939775 | D10: 230 | E10: 394 | F10: 11 | G10: 11 | H10: =F10-G10 -> 0 | I10: 13 | J10: 11 | K10: =I10-J10 -> 2 | L10: =I10/B10*100000 -> 1.3823919
A11: Chr6 | B11: =C11+D11+E11 -> 959078 | C11: 958382 | D11: 297 | E11: 399 | F11: 9 | G11: 7 | H11: =F11-G11 -> 2 | I11: 11 | J11: 9 | K11: =I11-J11 -> 2 | L11: =I11/B11*100000 -> 1.1469349
A12: Chr7 | B12: =C12+D12+E12 -> 1279279 | C12: 1278421 | D12: 334 | E12: 524 | F12: 14 | G12: 13 | H12: =F12-G12 -> 1 | I12: 11 | J12: 6 | K12: =I12-J12 -> 5 | L12: =I12/B12*100000 -> 0.85985934
A13: Chr8 | B13: =C13+D13+E13 -> 709162 | C13: 708702 | D13: 243 | E13: 217 | F13: 11 | G13: 7 | H13: =F13-G13 -> 4 | I13: 4 | J13: 3 | K13: =I13-J13 -> 1 | L13: =I13/B13*100000 -> 0.56404601
A14: Chr9 | B14: =C14+D14+E14 -> 911786 | C14: 911096 | D14: 275 | E14: 415 | F14: 13 | G14: 11 | H14: =F14-G14 -> 2 | I14: 5 | J14: 3 | K14: =I14-J14 -> 2 | L14: =I14/B14*100000 -> 0.54837429
A15: Chr10 | B15: =C15+D15+E15 -> 976991 | C15: 976231 | D15: 306 | E15: 454 | F15: 4 | G15: 3 | H15: =F15-G15 -> 1 | I15: 8 | J15: 8 | K15: =I15-J15 -> 0 | L15: =I15/B15*100000 -> 0.81884071
A16: Chr11 | B16: =C16+D16+E16 -> 876872 | C16: 876326 | D16: 232 | E16: 314 | F16: 8 | G16: 8 | H16: =F16-G16 -> 0 | I16: 9 | J16: 7 | K16: =I16-J16 -> 2 | L16: =I16/B16*100000 -> 1.0263756
A17: Chr12 | B17: =C17+D17+E17 -> 1146145 | C17: 1145374 | D17: 302 | E17: 469 | F17: 7 | G17: 5 | H17: =F17-G17 -> 2 | I17: 10 | J17: 9 | K17: =I17-J17 -> 1 | L17: =I17/B17*100000 -> 0.87248996
... A27: Chr22 | B27: =C27+D27+E27 -> 711810 | C27: 711365 | D27: 145 | E27: 300 | F27: 6 | G27: 5 | H27: =F27-G27 -> 1 | I27: 4 | J27: 3 | K27: =I27-J27 -> 1 | L27: =I27/B27*100000 -> 0.56194771
A29: Chromosome | B29: Total captured sites | C29: M | D29: m
A30: ChrX | B30: =C30+D30+E30 -> 392285 | C30: 392199 | D30: 86
A31: ChrY | B31: =C31+D31+E31 -> 15991 | C31: 15986 | D31: 5

Sheet LungBrain2
A3: Table S3.27 Lung-Brain 2
A5: Chromosome | B5: Total captured sites | C5: MM | D5: mm | E5: Mm | F5: GOH | G5: GOH-M | H5: GOH-m | I5: LOH | J5: Mm->MM | K5: Mm->mm | L5: LOH / Total captured sites (×10-5)
A6: Chr1 | B6: =C6+D6+E6 -> 2019293 | C6: 2018226 | D6: 428 | E6: 639 | F6: 23 | G6: 22 | H6: =F6-G6 -> 1 | I6: 24 | J6: 17 | K6: =I6-J6 -> 7 | L6: =I6/B6*100000 -> 1.1885348
A7: Chr2 | B7: =C7+D7+E7 -> 1260075 | C7: 1259444 | D7: 328 | E7: 303 | F7: 9 | G7: 7 | H7: =F7-G7 -> 2 | I7: 26 | J7: 19 | K7: =I7-J7 -> 7 | L7: =I7/B7*100000 -> 2.0633692
A8: Chr3 | B8: =C8+D8+E8 -> 1113701 | C8: 1113107 | D8: 289 | E8: 305 | F8: 10 | G8: 8 | H8: =F8-G8 -> 2 | I8: 31 | J8: 28 | K8: =I8-J8 -> 3 | L8: =I8/B8*100000 -> 2.7835119
A9: Chr4 | B9: =C9+D9+E9 -> 716562 | C9: 716123 | D9: 216 | E9: 223 | F9: 5 | G9: 3 | H9: =F9-G9 -> 2 | I9: 25 | J9: 16 | K9: =I9-J9 -> 9 | L9: =I9/B9*100000 -> 3.4888816
A10: Chr5 | B10: =C10+D10+E10 -> 772443 | C10: 772020 | D10: 210 | E10: 213 | F10: 7 | G10: 5 | H10: =F10-G10 -> 2 | I10: 36 | J10: 21 | K10: =I10-J10 -> 15 | L10: =I10/B10*100000 -> 4.6605381
A11: Chr6 | B11: =C11+D11+E11 -> 1077664 | C11: 1076835 | D11: 357 | E11: 472 | F11: 19 | G11: 17 | H11: =F11-G11 -> 2 | I11: 9 | J11: 8 | K11: =I11-J11 -> 1 | L11: =I11/B11*100000 -> 0.83513971
A12: Chr7 | B12: =C12+D12+E12 -> 1329764 | C12: 1329138 | D12: 297 | E12: 329 | F12: 11 | G12: 10 | H12: =F12-G12 -> 1 | I12: 15 | J12: 12 | K12: =I12-J12 -> 3 | L12: =I12/B12*100000 -> 1.1280197
A13: Chr8 | B13: =C13+D13+E13 -> 717108 | C13: 716698 | D13: 214 | E13: 196 | F13: 3 | G13: 3 | H13: =F13-G13 -> 0 | I13: 10 | J13: 6 | K13: =I13-J13 -> 4 | L13: =I13/B13*100000 -> 1.3944901
A14: Chr9 | B14: =C14+D14+E14 -> 940002 | C14: 939404 | D14: 252 | E14: 346 | F14: 10 | G14: 8 | H14: =F14-G14 -> 2 | I14: 11 | J14: 5 | K14: =I14-J14 -> 6 | L14: =I14/B14*100000 -> 1.1702103
A15: Chr10 | B15: =C15+D15+E15 -> 885014 | C15: 884442 | D15: 279 | E15: 293 | F15: 10 | G15: 10 | H15: =F15-G15 -> 0 | I15: 30 | J15: 21 | K15: =I15-J15 -> 9 | L15: =I15/B15*100000 -> 3.3897769
A16: Chr11 | B16: =C16+D16+E16 -> 974585 | C16: 973939 | D16: 263 | E16: 383 | F16: 8 | G16: 7 | H16: =F16-G16 -> 1 | I16: 7 | J16: 6 | K16: =I16-J16 -> 1 | L16: =I16/B16*100000 -> 0.71825444
A17: Chr12 | B17: =C17+D17+E17 -> 1207129 | C17: 1206312 | D17: 309 | E17: 508 | F17: 13 | G17: 11 | H17: =F17-G17 -> 2 | I17: 8 | J17: 6 | K17: =I17-J17 -> 2 | L17: =I17/B17*100000 -> 0.6627295
... A27: Chr22 | B27: =C27+D27+E27 -> 633196 | C27: 632945 | D27: 115 | E27: 136 | F27: 9 | G27: 9 | H27: =F27-G27 -> 0 | I27: 35 | J27: 21 | K27: =I27-J27 -> 14 | L27: =I27/B27*100000 -> 5.5275144
A29: Chromosome | B29: Total captured sites | C29: M | D29: m
A30: ChrX | B30: =C30+D30+E30 -> 454878 | C30: 454772 | D30: 106
A31: ChrY | B31: =C31+D31+E31 -> 5733 | C31: 5730 | D31: 3

Sheet LungBrain3
A3: Table S3.28 Lung-Brain 3
A5: Chromosome | B5: Total captured sites | C5: MM | D5: mm | E5: Mm | F5: GOH | G5: GOH-M | H5: GOH-m | I5: LOH | J5: Mm->MM | K5: Mm->mm | L5: LOH / Total captured sites (×10-5)
A6: Chr1 | B6: =C6+D6+E6 -> 1608601 | C6: 1607804 | D6: 280 | E6: 517 | F6: 9 | G6: 7 | H6: =F6-G6 -> 2 | I6: 4 | J6: 4 | K6: =I6-J6 -> 0 | L6: =I6/B6*100000 -> 0.24866328
A7: Chr2 | B7: =C7+D7+E7 -> 986075 | C7: 985560 | D7: 209 | E7: 306 | F7: 6 | G7: 5 | H7: =F7-G7 -> 1 | I7: 10 | J7: 9 | K7: =I7-J7 -> 1 | L7: =I7/B7*100000 -> 1.0141216
A8: Chr3 | B8: =C8+D8+E8 -> 852511 | C8: 852089 | D8: 173 | E8: 249 | F8: 6 | G8: 4 | H8: =F8-G8 -> 2 | I8: 2 | J8: 2 | K8: =I8-J8 -> 0 | L8: =I8/B8*100000 -> 0.23460108
A9: Chr4 | B9: =C9+D9+E9 -> 552332 | C9: 551991 | D9: 132 | E9: 209 | F9: 0 | G9: 0 | H9: =F9-G9 -> 0 | I9: 1 | J9: 1 | K9: =I9-J9 -> 0 | L9: =I9/B9*100000 -> 0.18105053
A10: Chr5 | B10: =C10+D10+E10 -> 687070 | C10: 686714 | D10: 128 | E10: 228 | F10: 7 | G10: 4 | H10: =F10-G10 -> 3 | I10: 1 | J10: 1 | K10: =I10-J10 -> 0 | L10: =I10/B10*100000 -> 0.14554558
A11: Chr6 | B11: =C11+D11+E11 -> 745197 | C11: 744756 | D11: 193 | E11: 248 | F11: 10 | G11: 8 | H11: =F11-G11 -> 2 | I11: 2 | J11: 2 | K11: =I11-J11 -> 0 | L11: =I11/B11*100000 -> 0.26838541
A12: Chr7 | B12: =C12+D12+E12 -> 1039369 | C12: 1038884 | D12: 160 | E12: 325 | F12: 8 | G12: 6 | H12: =F12-G12 -> 2 | I12: 3 | J12: 2 | K12: =I12-J12 -> 1 | L12: =I12/B12*100000 -> 0.28863666
A13: Chr8 | B13: =C13+D13+E13 -> 510217 | C13: 509938 | D13: 124 | E13: 155 | F13: 4 | G13: 2 | H13: =F13-G13 -> 2 | I13: 3 | J13: 3 | K13: =I13-J13 -> 0 | L13: =I13/B13*100000 -> 0.58798511
A14: Chr9 | B14: =C14+D14+E14 -> 681355 | C14: 680993 | D14: 133 | E14: 229 | F14: 6 | G14: 4 | H14: =F14-G14 -> 2 | I14: 4 | J14: 3 | K14: =I14-J14 -> 1 | L14: =I14/B14*100000 -> 0.58706548
A15: Chr10 | B15: =C15+D15+E15 -> 702852 | C15: 702434 | D15: 174 | E15: 244 | F15: 5 | G15: 4 | H15: =F15-G15 -> 1 | I15: 4 | J15: 4 | K15: =I15-J15 -> 0 | L15: =I15/B15*100000 -> 0.56910986
A16: Chr11 | B16: =C16+D16+E16 -> 705344 | C16: 704993 | D16: 146 | E16: 205 | F16: 7 | G16: 4 | H16: =F16-G16 -> 3 | I16: 5 | J16: 5 | K16: =I16-J16 -> 0 | L16: =I16/B16*100000 -> 0.70887397
A17: Chr12 | B17: =C17+D17+E17 -> 922096 | C17: 921616 | D17: 179 | E17: 301 | F17: 12 | G17: 8 | H17: =F17-G17 -> 4 | I17: 4 | J17: 3 | K17: =I17-J17 -> 1 | L17: =I17/B17*100000 -> 0.43379431
... A28: ChrX | B28: =C28+D28+E28 -> 477869 | C28: 477690 | D28: 65 | E28: 114 | F28: 1 | G28: 1 | H28: =F28-G28 -> 0 | I28: 1 | J28: 1 | K28: =I28-J28 -> 0 | L28: =I28/B28*100000 -> 0.20926237

Sheet LungBrain4
A3: Table S3.29 Lung-Brain 4
A5: Chromosome | B5: Total captured sites | C5: MM | D5: mm | E5: Mm | F5: GOH | G5: GOH-M | H5: GOH-m | I5: LOH | J5: Mm->MM | K5: Mm->mm | L5: LOH / Total captured sites (×10-5)
A6: Chr1 | B6: =C6+D6+E6 -> 2187814 | C6: 2186937 | D6: 358 | E6: 519 | F6: 29 | G6: 27 | H6: =F6-G6 -> 2 | I6: 31 | J6: 18 | K6: =I6-J6 -> 13 | L6: =I6/B6*100000 -> 1.4169395
A7: Chr2 | B7: =C7+D7+E7 -> 1465174 | C7: 1464368 | D7: 307 | E7: 499 | F7: 14 | G7: 8 | H7: =F7-G7 -> 6 | I7: 18 | J7: 15 | K7: =I7-J7 -> 3 | L7: =I7/B7*100000 -> 1.228523
A8: Chr3 | B8: =C8+D8+E8 -> 1168276 | C8: 1167695 | D8: 226 | E8: 355 | F8: 7 | G8: 5 | H8: =F8-G8 -> 2 | I8: 24 | J8: 16 | K8: =I8-J8 -> 8 | L8: =I8/B8*100000 -> 2.0543091
A9: Chr4 | B9: =C9+D9+E9 -> 887778 | C9: 887191 | D9: 224 | E9: 363 | F9: 10 | G9: 9 | H9: =F9-G9 -> 1 | I9: 6 | J9: 6 | K9: =I9-J9 -> 0 | L9: =I9/B9*100000 -> 0.67584464
A10: Chr5 | B10: =C10+D10+E10 -> 997255 | C10: 996657 | D10: 210 | E10: 388 | F10: 7 | G10: 6 | H10: =F10-G10 -> 1 | I10: 21 | J10: 17 | K10: =I10-J10 -> 4 | L10: =I10/B10*100000 -> 2.1057804
A11: Chr6 | B11: =C11+D11+E11 -> 1034312 | C11: 1033739 | D11: 256 | E11: 317 | F11: 8 | G11: 4 | H11: =F11-G11 -> 4 | I11: 24 | J11: 18 | K11: =I11-J11 -> 6 | L11: =I11/B11*100000 -> 2.320383
A12: Chr7 | B12: =C12+D12+E12 -> 1353118 | C12: 1352396 | D12: 233 | E12: 489 | F12: 14 | G12: 11 | H12: =F12-G12 -> 3 | I12: 15 | J12: 14 | K12: =I12-J12 -> 1 | L12: =I12/B12*100000 -> 1.1085508
A13: Chr8 | B13: =C13+D13+E13 -> 803774 | C13: 803322 | D13: 176 | E13: 276 | F13: 14 | G13: 11 | H13: =F13-G13 -> 3 | I13: 10 | J13: 4 | K13: =I13-J13 -> 6 | L13: =I13/B13*100000 -> 1.2441308
A14: Chr9 | B14: =C14+D14+E14 -> 920315 | C14: 919796 | D14: 172 | E14: 347 | F14: 12 | G14: 12 | H14: =F14-G14 -> 0 | I14: 12 | J14: 8 | K14: =I14-J14 -> 4 | L14: =I14/B14*100000 -> 1.3039014
A15: Chr10 | B15: =C15+D15+E15 -> 1067864 | C15: 1067240 | D15: 239 | E15: 385 | F15: 12 | G15: 11 | H15: =F15-G15 -> 1 | I15: 13 | J15: 8 | K15: =I15-J15 -> 5 | L15: =I15/B15*100000 -> 1.2173835
A16: Chr11 | B16: =C16+D16+E16 -> 983102 | C16: 982562 | D16: 214 | E16: 326 | F16: 12 | G16: 8 | H16: =F16-G16 -> 4 | I16: 10 | J16: 7 | K16: =I16-J16 -> 3 | L16: =I16/B16*100000 -> 1.0171885
A17: Chr12 | B17: =C17+D17+E17 -> 1228654 | C17: 1228012 | D17: 231 | E17: 411 | F17: 18 | G17: 15 | H17: =F17-G17 -> 3 | I17: 18 | J17: 12 | K17: =I17-J17 -> 6 | L17: =I17/B17*100000 -> 1.4650178
... A27: Chr22 | B27: =C27+D27+E27 -> 618096 | C27: 617879 | D27: 76 | E27: 141 | F27: 4 | G27: 1 | H27: =F27-G27 -> 3 | I27: 9 | J27: 7 | K27: =I27-J27 -> 2 | L27: =I27/B27*100000 -> 1.4560845
A29: Chromosome | B29: Total captured sites | C29: M | D29: m
A30: ChrX | B30: =C30+D30+E30 -> 426964 | C30: 426902 | D30: 62
A31: ChrY | B31: =C31+D31+E31 -> 25210 | C31: 25206 | D31: 4

Sheet LungBrain5
A3: Table S3.30 Lung-Brain 5
A5: Chromosome | B5: Total captured sites | C5: MM | D5: mm | E5: Mm | F5: GOH | G5: GOH-M | H5: GOH-m | I5: LOH | J5: Mm->MM | K5: Mm->mm | L5: LOH / Total captured sites (×10-5)
A6: Chr1 | B6: =C6+D6+E6 -> 2055723 | C6: 2054419 | D6: 475 | E6: 829 | F6: 7 | G6: 7 | H6: =F6-G6 -> 0 | I6: 4 | J6: 4 | K6: =I6-J6 -> 0 | L6: =I6/B6*100000 -> 0.19457874
A7: Chr2 | B7: =C7+D7+E7 -> 1291672 | C7: 1290848 | D7: 360 | E7: 464 | F7: 6 | G7: 5 | H7: =F7-G7 -> 1 | I7: 5 | J7: 3 | K7: =I7-J7 -> 2 | L7: =I7/B7*100000 -> 0.38709518
A8: Chr3 | B8: =C8+D8+E8 -> 1075263 | C8: 1074613 | D8: 291 | E8: 359 | F8: 4 | G8: 4 | H8: =F8-G8 -> 0 | I8: 4 | J8: 3 | K8: =I8-J8 -> 1 | L8: =I8/B8*100000 -> 0.37200201
A9: Chr4 | B9: =C9+D9+E9 -> 706580 | C9: 706081 | D9: 241 | E9: 258 | F9: 2 | G9: 1 | H9: =F9-G9 -> 1 | I9: 2 | J9: 2 | K9: =I9-J9 -> 0 | L9: =I9/B9*100000 -> 0.28305358
A10: Chr5 | B10: =C10+D10+E10 -> 832166 | C10: 831703 | D10: 222 | E10: 241 | F10: 2 | G10: 2 | H10: =F10-G10 -> 0 | I10: 4 | J10: 2 | K10: =I10-J10 -> 2 | L10: =I10/B10*100000 -> 0.48067333
A11: Chr6 | B11: =C11+D11+E11 -> 919471 | C11: 918788 | D11: 318 | E11: 365 | F11: 5 | G11: 5 | H11: =F11-G11 -> 0 | I11: 5 | J11: 3 | K11: =I11-J11 -> 2 | L11: =I11/B11*100000 -> 0.54379094
A12: Chr7 | B12: =C12+D12+E12 -> 1245298 | C12: 1244527 | D12: 325 | E12: 446 | F12: 6 | G12: 6 | H12: =F12-G12 -> 0 | I12: 4 | J12: 3 | K12: =I12-J12 -> 1 | L12: =I12/B12*100000 -> 0.32120826
A13: Chr8 | B13: =C13+D13+E13 -> 620863 | C13: 620376 | D13: 220 | E13: 267 | F13: 2 | G13: 2 | H13: =F13-G13 -> 0 | I13: 1 | J13: 0 | K13: =I13-J13 -> 1 | L13: =I13/B13*100000 -> 0.16106613
A14: Chr9 | B14: =C14+D14+E14 -> 842226 | C14: 841619 | D14: 263 | E14: 344 | F14: 8 | G14: 8 | H14: =F14-G14 -> 0 | I14: 1 | J14: 1 | K14: =I14-J14 -> 0 | L14: =I14/B14*100000 -> 0.11873298
A15: Chr10 | B15: =C15+D15+E15 -> 915315 | C15: 914639 | D15: 313 | E15: 363 | F15: 5 | G15: 5 | H15: =F15-G15 -> 0 | I15: 1 | J15: 1 | K15: =I15-J15 -> 0 | L15: =I15/B15*100000 -> 0.10925201
A16: Chr11 | B16: =C16+D16+E16 -> 881308 | C16: 880760 | D16: 247 | E16: 301 | F16: 4 | G16: 3 | H16: =F16-G16 -> 1 | I16: 2 | J16: 2 | K16: =I16-J16 -> 0 | L16: =I16/B16*100000 -> 0.22693542
A17: Chr12 | B17: =C17+D17+E17 -> 1168512 | C17: 1167728 | D17: 299 | E17: 485 | F17: 11 | G17: 10 | H17: =F17-G17 -> 1 | I17: 2 | J17: 1 | K17: =I17-J17 -> 1 | L17: =I17/B17*100000 -> 0.17115785
... A27: Chr22 | B27: =C27+D27+E27 -> 734628 | C27: 734145 | D27: 196 | E27: 287 | F27: 4 | G27: 4 | H27: =F27-G27 -> 0 | I27: 2 | J27: 2 | K27: =I27-J27 -> 0 | L27: =I27/B27*100000 -> 0.27224663
A29: Chromosome | B29: Total captured sites | C29: M | D29: m
A30: ChrX | B30: =C30+D30+E30 -> 371896 | C30: 371806 | D30: 90
A31: ChrY | B31: =C31+D31+E31 -> 15787 | C31: 15786 | D31: 1

Sheet Alu30
A3: Table S3.31 Total number of genotypes and SNVs in cancer samples analyzed by AluScana
A5: Chromosome | B5: Total captured sites | C5: MM | D5: mm | E5: Mm | F5: GOH | G5: GOH-M | H5: GOH-m | I5: LOH | J5: Mm->MM | K5: Mm->mm | L5: LOH / Total captured sites (×10-5)
A6: Chr1 | B6: =C6+D6+E6 -> 46184611 | C6: =Gastric2!C6+Gastric1!C6+Gastric3!C6+Gastric4!C6+Gastric5!C6+Glioma1!C6+Glioma2!C6+Glioma3!C6+Glioma4!C6+Glioma5!C6+Leukemia1!C6+Leukemia2!C6+Leukemia3!C6+Leukemia4!C6+Leukemia5!C6+Liver1!C6+Liver2!C6+Liver3!C6+Liver4!C6+Liver5!C6+Lung1!C6+Lung2!C6+Lung3!C6+Lung4!C6+Lung5!C6+LungBrain1!C6+LungBrain2!C6+LungBrain3!C6+LungBrain4!C6+LungBrain5!C6 -> 46166967 | D6: =Gastric2!D6+Gastric1!D6+Gastric3!D6+Gastric4!D6+Gastric5!D6+Glioma1!D6+Glioma2!D6+Glioma3!D6+Glioma4!D6+Glioma5!D6+Leukemia1!D6+Leukemia2!D6+Leukemia3!D6+Leukemia4!D6+Leukemia5!D6+Liver1!D6+Liver2!D6+Liver3!D6+Liver4!D6+Liver5!D6+Lung1!D6+Lung2!D6+Lung3!D6+Lung4!D6+Lung5!D6+LungBrain1!D6+LungBrain2!D6+LungBrain3!D6+LungBrain4!D6+LungBrain5!D6 -> 7087 | E6: =Gastric2!E6+Gastric1!E6+Gastric3!E6+Gastric4!E6+Gastric5!E6+Glioma1!E6+Glioma2!E6+Glioma3!E6+Glioma4!E6+Glioma5!E6+Leukemia1!E6+Leukemia2!E6+Leukemia3!E6+Leukemia4!E6+Leukemia5!E6+Liver1!E6+Liver2!E6+Liver3!E6+Liver4!E6+Liver5!E6+Lung1!E6+Lung2!E6+Lung3!E6+Lung4!E6+Lung5!E6+LungBrain1!E6+LungBrain2!E6+LungBrain3!E6+LungBrain4!E6+LungBrain5!E6 -> 10557 | F6: =Gastric2!F6+Gastric1!F6+Gastric3!F6+Gastric4!F6+Gastric5!F6+Glioma1!F6+Glioma2!F6+Glioma3!F6+Glioma4!F6+Glioma5!F6+Leukemia1!F6+Leukemia2!F6+Leukemia3!F6+Leukemia4!F6+Leukemia5!F6+Liver1!F6+Liver2!F6+Liver3!F6+Liver4!F6+Liver5!F6+Lung1!F6+Lung2!F6+Lung3!F6+Lung4!F6+Lung5!F6+LungBrain1!F6+LungBrain2!F6+LungBrain3!F6+LungBrain4!F6+LungBrain5!F6 -> 729 | G6: =Gastric2!G6+Gastric1!G6+Gastric3!G6+Gastric4!G6+Gastric5!G6+Glioma1!G6+Glioma2!G6+Glioma3!G6+Glioma4!G6+Glioma5!G6+Leukemia1!G6+Leukemia2!G6+Leukemia3!G6+Leukemia4!G6+Leukemia5!G6+Liver1!G6+Liver2!G6+Liver3!G6+Liver4!G6+Liver5!G6+Lung1!G6+Lung2!G6+Lung3!G6+Lung4!G6+Lung5!G6+LungBrain1!G6+LungBrain2!G6+LungBrain3!G6+LungBrain4!G6+LungBrain5!G6 -> 615 | H6: =Gastric2!H6+Gastric1!H6+Gastric3!H6+Gastric4!H6+Gastric5!H6+Glioma1!H6+Glioma2!H6+Glioma3!H6+Glioma4!H6+Glioma5!H6+Leukemia1!H6+Leukemia2!H6+Leukemia3!H6+Leukemia4!H6+Leukemia5!H6+Liver1!H6+Liver2!H6+Liver3!H6+Liver4!H6+Liver5!H6+Lung1!H6+Lung2!H6+Lung3!H6+Lung4!H6+Lung5!H6+LungBrain1!H6+LungBrain2!H6+LungBrain3!H6+LungBrain4!H6+LungBrain5!H6 -> 114 | I6: =Gastric2!I6+Gastric1!I6+Gastric3!I6+Gastric4!I6+Gastric5!I6+Glioma1!I6+Glioma2!I6+Glioma3!I6+Glioma4!I6+Glioma5!I6+Leukemia1!I6+Leukemia2!I6+Leukemia3!I6+Leukemia4!I6+Leukemia5!I6+Liver1!I6+Liver2!I6+Liver3!I6+Liver4!I6+Liver5!I6+Lung1!I6+Lung2!I6+Lung3!I6+Lung4!I6+Lung5!I6+LungBrain1!I6+LungBrain2!I6+LungBrain3!I6+LungBrain4!I6+LungBrain5!I6 -> 740 | J6: =Gastric2!J6+Gastric1!J6+Gastric3!J6+Gastric4!J6+Gastric5!J6+Glioma1!J6+Glioma2!J6+Glioma3!J6+Glioma4!J6+Glioma5!J6+Leukemia1!J6+Leukemia2!J6+Leukemia3!J6+Leukemia4!J6+Leukemia5!J6+Liver1!J6+Liver2!J6+Liver3!J6+Liver4!J6+Liver5!J6+Lung1!J6+Lung2!J6+Lung3!J6+Lung4!J6+Lung5!J6+LungBrain1!J6+LungBrain2!J6+LungBrain3!J6+LungBrain4!J6+LungBrain5!J6 -> 580 | K6: =Gastric2!K6+Gastric1!K6+Gastric3!K6+Gastric4!K6+Gastric5!K6+Glioma1!K6+Glioma2!K6+Glioma3!K6+Glioma4!K6+Glioma5!K6+Leukemia1!K6+Leukemia2!K6+Leukemia3!K6+Leukemia4!K6+Leukemia5!K6+Liver1!K6+Liver2!K6+Liver3!K6+Liver4!K6+Liver5!K6+Lung1!K6+Lung2!K6+Lung3!K6+Lung4!K6+Lung5!K6+LungBrain1!K6+LungBrain2!K6+LungBrain3!K6+LungBrain4!K6+LungBrain5!K6 -> 160 | L6: =I6/B6*100000 -> 1.6022653
A7: Chr2 | B7: =C7+D7+E7 -> 31247802 | C7: =Gastric2!C7+Gastric1!C7+Gastric3!C7+Gastric4!C7+Gastric5!C7+Glioma1!C7+Glioma2!C7+Glioma3!C7+Glioma4!C7+Glioma5!C7+Leukemia1!C7+Leukemia2!C7+Leukemia3!C7+Leukemia4!C7+Leukemia5!C7+Liver1!C7+Liver2!C7+Liver3!C7+Liver4!C7+Liver5!C7+Lung1!C7+Lung2!C7+Lung3!C7+Lung4!C7+Lung5!C7+LungBrain1!C7+LungBrain2!C7+LungBrain3!C7+LungBrain4!C7+LungBrain5!C7 -> 31234679 | D7: =Gastric2!D7+Gastric1!D7+Gastric3!D7+Gastric4!D7+Gastric5!D7+Glioma1!D7+Glioma2!D7+Glioma3!D7+Glioma4!D7+Glioma5!D7+Leukemia1!D7+Leukemia2!D7+Leukemia3!D7+Leukemia4!D7+Leukemia5!D7+Liver1!D7+Liver2!D7+Liver3!D7+Liver4!D7+Liver5!D7+Lung1!D7+Lung2!D7+Lung3!D7+Lung4!D7+Lung5!D7+LungBrain1!D7+LungBrain2!D7+LungBrain3!D7+LungBrain4!D7+LungBrain5!D7 -> 5542 | E7: =Gastric2!E7+Gastric1!E7+Gastric3!E7+Gastric4!E7+Gastric5!E7+Glioma1!E7+Glioma2!E7+Glioma3!E7+Glioma4!E7+Glioma5!E7+Leukemia1!E7+Leukemia2!E7+Leukemia3!E7+Leukemia4!E7+Leukemia5!E7+Liver1!E7+Liver2!E7+Liver3!E7+Liver4!E7+Liver5!E7+Lung1!E7+Lung2!E7+Lung3!E7+Lung4!E7+Lung5!E7+LungBrain1!E7+LungBrain2!E7+LungBrain3!E7+LungBrain4!E7+LungBrain5!E7 -> 7581 | F7: =Gastric2!F7+Gastric1!F7+Gastric3!F7+Gastric4!F7+Gastric5!F7+Glioma1!F7+Glioma2!F7+Glioma3!F7+Glioma4!F7+Glioma5!F7+Leukemia1!F7+Leukemia2!F7+Leukemia3!F7+Leukemia4!F7+Leukemia5!F7+Liver1!F7+Liver2!F7+Liver3!F7+Liver4!F7+Liver5!F7+Lung1!F7+Lung2!F7+Lung3!F7+Lung4!F7+Lung5!F7+LungBrain1!F7+LungBrain2!F7+LungBrain3!F7+LungBrain4!F7+LungBrain5!F7 -> 446 | G7: =Gastric2!G7+Gastric1!G7+Gastric3!G7+Gastric4!G7+Gastric5!G7+Glioma1!G7+Glioma2!G7+Glioma3!G7+Glioma4!G7+Glioma5!G7+Leukemia1!G7+Leukemia2!G7+Leukemia3!G7+Leukemia4!G7+Leukemia5!G7+Liver1!G7+Liver2!G7+Liver3!G7+Liver4!G7+Liver5!G7+Lung1!G7+Lung2!G7+Lung3!G7+Lung4!G7+Lung5!G7+LungBrain1!G7+LungBrain2!G7+LungBrain3!G7+LungBrain4!G7+LungBrain5!G7 -> 351 | H7: =Gastric2!H7+Gastric1!H7+Gastric3!H7+Gastric4!H7+Gastric5!H7+Glioma1!H7+Glioma2!H7+Glioma3!H7+Glioma4!H7+Glioma5!H7+Leukemia1!H7+Leukemia2!H7+Leukemia3!H7+Leukemia4!H7+Leukemia5!H7+Liver1!H7+Liver2!H7+Liver3!H7+Liver4!H7+Liver5!H7+Lung1!H7+Lung2!H7+Lung3!H7+Lung4!H7+Lung5!H7+LungBrain1!H7+LungBrain2!H7+LungBrain3!H7+LungBrain4!H7+LungBrain5!H7 -> 95 | I7: =Gastric2!I7+Gastric1!I7+Gastric3!I7+Gastric4!I7+Gastric5!I7+Glioma1!I7+Glioma2!I7+Glioma3!I7+Glioma4!I7+Glioma5!I7+Leukemia1!I7+Leukemia2!I7+Leukemia3!I7+Leukemia4!I7+Leukemia5!I7+Liver1!I7+Liver2!I7+Liver3!I7+Liver4!I7+Liver5!I7+Lung1!I7+Lung2!I7+Lung3!I7+Lung4!I7+Lung5!I7+LungBrain1!I7+LungBrain2!I7+LungBrain3!I7+LungBrain4!I7+LungBrain5!I7 -> 455 | J7: =Gastric2!J7+Gastric1!J7+Gastric3!J7+Gastric4!J7+Gastric5!J7+Glioma1!J7+Glioma2!J7+Glioma3!J7+Glioma4!J7+Glioma5!J7+Leukemia1!J7+Leukemia2!J7+Leukemia3!J7+Leukemia4!J7+Leukemia5!J7+Liver1!J7+Liver2!J7+Liver3!J7+Liver4!J7+Liver5!J7+Lung1!J7+Lung2!J7+Lung3!J7+Lung4!J7+Lung5!J7+LungBrain1!J7+LungBrain2!J7+LungBrain3!J7+LungBrain4!J7+LungBrain5!J7 -> 359 | K7: =Gastric2!K7+Gastric1!K7+Gastric3!K7+Gastric4!K7+Gastric5!K7+Glioma1!K7+Glioma2!K7+Glioma3!K7+Glioma4!K7+Glioma5!K7+Leukemia1!K7+Leukemia2!K7+Leukemia3!K7+Leukemia4!K7+Leukemia5!K7+Liver1!K7+Liver2!K7+Liver3!K7+Liver4!K7+Liver5!K7+Lung1!K7+Lung2!K7+Lung3!K7+Lung4!K7+Lung5!K7+LungBrain1!K7+LungBrain2!K7+LungBrain3!K7+LungBrain4!K7+LungBrain5!K7 -> 96 | L7: =I7/B7*100000 -> 1.4561024
A8: Chr3 | B8: =C8+D8+E8 -> 26241289 | C8: =Gastric2!C8+Gastric1!C8+Gastric3!C8+Gastric4!C8+Gastric5!C8+Glioma1!C8+Glioma2!C8+Glioma3!C8+Glioma4!C8+Glioma5!C8+Leukemia1!C8+Leukemia2!C8+Leukemia3!C8+Leukemia4!C8+Leukemia5!C8+Liver1!C8+Liver2!C8+Liver3!C8+Liver4!C8+Liver5!C8+Lung1!C8+Lung2!C8+Lung3!C8+Lung4!C8+Lung5!C8+LungBrain1!C8+LungBrain2!C8+LungBrain3!C8+LungBrain4!C8+LungBrain5!C8 -> 26230248 | D8: =Gastric2!D8+Gastric1!D8+Gastric3!D8+Gastric4!D8+Gastric5!D8+Glioma1!D8+Glioma2!D8+Glioma3!D8+Glioma4!D8+Glioma5!D8+Leukemia1!D8+Leukemia2!D8+Leukemia3!D8+Leukemia4!D8+Leukemia5!D8+Liver1!D8+Liver2!D8+Liver3!D8+Liver4!D8+Liver5!D8+Lung1!D8+Lung2!D8+Lung3!D8+Lung4!D8+Lung5!D8+LungBrain1!D8+LungBrain2!D8+LungBrain3!D8+LungBrain4!D8+LungBrain5!D8 -> 4918 | E8: =Gastric2!E8+Gastric1!E8+Gastric3!E8+Gastric4!E8+Gastric5!E8+Glioma1!E8+Glioma2!E8+Glioma3!E8+Glioma4!E8+Glioma5!E8+Leukemia1!E8+Leukemia2!E8+Leukemia3!E8+Leukemia4!E8+Leukemia5!E8+Liver1!E8+Liver2!E8+Liver3!E8+Liver4!E8+Liver5!E8+Lung1!E8+Lung2!E8+Lung3!E8+Lung4!E8+Lung5!E8+LungBrain1!E8+LungBrain2!E8+LungBrain3!E8+LungBrain4!E8+LungBrain5!E8 -> 6123 | F8: =Gastric2!F8+Gastric1!F8+Gastric3!F8+Gastric4!F8+Gastric5!F8+Glioma1!F8+Glioma2!F8+Glioma3!F8+Glioma4!F8+Glioma5!F8+Leukemia1!F8+Leukemia2!F8+Leukemia3!F8+Leukemia4!F8+Leukemia5!F8+Liver1!F8+Liver2!F8+Liver3!F8+Liver4!F8+Liver5!F8+Lung1!F8+Lung2!F8+Lung3!F8+Lung4!F8+Lung5!F8+LungBrain1!F8+LungBrain2!F8+LungBrain3!F8+LungBrain4!F8+LungBrain5!F8 -> 376 | G8: =Gastric2!G8+Gastric1!G8+Gastric3!G8+Gastric4!G8+Gastric5!G8+Glioma1!G8+Glioma2!G8+Glioma3!G8+Glioma4!G8+Glioma5!G8+Leukemia1!G8+Leukemia2!G8+Leukemia3!G8+Leukemia4!G8+Leukemia5!G8+Liver1!G8+Liver2!G8+Liver3!G8+Liver4!G8+Liver5!G8+Lung1!G8+Lung2!G8+Lung3!G8+Lung4!G8+Lung5!G8+LungBrain1!G8+LungBrain2!G8+LungBrain3!G8+LungBrain4!G8+LungBrain5!G8 -> 300 | H8: =Gastric2!H8+Gastric1!H8+Gastric3!H8+Gastric4!H8+Gastric5!H8+Glioma1!H8+Glioma2!H8+Glioma3!H8+Glioma4!H8+Glioma5!H8+Leukemia1!H8+Leukemia2!H8+Leukemia3!H8+Leukemia4!H8+Leukemia5!H8+Liver1!H8+Liver2!H8+Liver3!H8+Liver4!H8+Liver5!H8+Lung1!H8+Lung2!H8+Lung3!H8+Lung4!H8+Lung5!H8+LungBrain1!H8+LungBrain2!H8+LungBrain3!H8+LungBrain4!H8+LungBrain5!H8 -> 76 | I8: =Gastric2!I8+Gastric1!I8+Gastric3!I8+Gastric4!I8+Gastric5!I8+Glioma1!I8+Glioma2!I8+Glioma3!I8+Glioma4!I8+Glioma5!I8+Leukemia1!I8+Leukemia2!I8+Leukemia3!I8+Leukemia4!I8+Leukemia5!I8+Liver1!I8+Liver2!I8+Liver3!I8+Liver4!I8+Liver5!I8+Lung1!I8+Lung2!I8+Lung3!I8+Lung4!I8+Lung5!I8+LungBrain1!I8+LungBrain2!I8+LungBrain3!I8+LungBrain4!I8+LungBrain5!I8 -> 406 | J8: =Gastric2!J8+Gastric1!J8+Gastric3!J8+Gastric4!J8+Gastric5!J8+Glioma1!J8+Glioma2!J8+Glioma3!J8+Glioma4!J8+Glioma5!J8+Leukemia1!J8+Leukemia2!J8+Leukemia3!J8+Leukemia4!J8+Leukemia5!J8+Liver1!J8+Liver2!J8+Liver3!J8+Liver4!J8+Liver5!J8+Lung1!J8+Lung2!J8+Lung3!J8+Lung4!J8+Lung5!J8+LungBrain1!J8+LungBrain2!J8+LungBrain3!J8+LungBrain4!J8+LungBrain5!J8 -> 324 | K8: =Gastric2!K8+Gastric1!K8+Gastric3!K8+Gastric4!K8+Gastric5!K8+Glioma1!K8+Glioma2!K8+Glioma3!K8+Glioma4!K8+Glioma5!K8+Leukemia1!K8+Leukemia2!K8+Leukemia3!K8+Leukemia4!K8+Leukemia5!K8+Liver1!K8+Liver2!K8+Liver3!K8+Liver4!K8+Liver5!K8+Lung1!K8+Lung2!K8+Lung3!K8+Lung4!K8+Lung5!K8+LungBrain1!K8+LungBrain2!K8+LungBrain3!K8+LungBrain4!K8+LungBrain5!K8 -> 82 | L8: =I8/B8*100000 -> 1.5471801
A9: Chr4 | B9: =C9+D9+E9 -> 18800605 | C9: =Gastric2!C9+Gastric1!C9+Gastric3!C9+Gastric4!C9+Gastric5!C9+Glioma1!C9+Glioma2!C9+Glioma3!C9+Glioma4!C9+Glioma5!C9+Leukemia1!C9+Leukemia2!C9+Leukemia3!C9+Leukemia4!C9+Leukemia5!C9+Liver1!C9+Liver2!C9+Liver3!C9+Liver4!C9+Liver5!C9+Lung1!C9+Lung2!C9+Lung3!C9+Lung4!C9+Lung5!C9+LungBrain1!C9+LungBrain2!C9+LungBrain3!C9+LungBrain4!C9+LungBrain5!C9 -> 18792056 | D9: =Gastric2!D9+Gastric1!D9+Gastric3!D9+Gastric4!D9+Gastric5!D9+Glioma1!D9+Glioma2!D9+Glioma3!D9+Glioma4!D9+Glioma5!D9+Leukemia1!D9+Leukemia2!D9+Leukemia3!D9+Leukemia4!D9+Leukemia5!D9+Liver1!D9+Liver2!D9+Liver3!D9+Liver4!D9+Liver5!D9+Lung1!D9+Lung2!D9+Lung3!D9+Lung4!D9+Lung5!D9+LungBrain1!D9+LungBrain2!D9+LungBrain3!D9+LungBrain4!D9+LungBrain5!D9 -> 3882 | E9: =Gastric2!E9+Gastric1!E9+Gastric3!E9+Gastric4!E9+Gastric5!E9+Glioma1!E9+Glioma2!E9+Glioma3!E9+Glioma4!E9+Glioma5!E9+Leukemia1!E9+Leukemia2!E9+Leukemia3!E9+Leukemia4!E9+Leukemia5!E9+Liver1!E9+Liver2!E9+Liver3!E9+Liver4!E9+Liver5!E9+Lung1!E9+Lung2!E9+Lung3!E9+Lung4!E9+Lung5!E9+LungBrain1!E9+LungBrain2!E9+LungBrain3!E9+LungBrain4!E9+LungBrain5!E9 -> 4667 | F9: =Gastric2!F9+Gastric1!F9+Gastric3!F9+Gastric4!F9+Gastric5!F9+Glioma1!F9+Glioma2!F9+Glioma3!F9+Glioma4!F9+Glioma5!F9+Leukemia1!F9+Leukemia2!F9+Leukemia3!F9+Leukemia4!F9+Leukemia5!F9+Liver1!F9+Liver2!F9+Liver3!F9+Liver4!F9+Liver5!F9+Lung1!F9+Lung2!F9+Lung3!F9+Lung4!F9+Lung5!F9+LungBrain1!F9+LungBrain2!F9+LungBrain3!F9+LungBrain4!F9+LungBrain5!F9 -> 323 | G9: =Gastric2!G9+Gastric1!G9+Gastric3!G9+Gastric4!G9+Gastric5!G9+Glioma1!G9+Glioma2!G9+Glioma3!G9+Glioma4!G9+Glioma5!G9+Leukemia1!G9+Leukemia2!G9+Leukemia3!G9+Leukemia4!G9+Leukemia5!G9+Liver1!G9+Liver2!G9+Liver3!G9+Liver4!G9+Liver5!G9+Lung1!G9+Lung2!G9+Lung3!G9+Lung4!G9+Lung5!G9+LungBrain1!G9+LungBrain2!G9+LungBrain3!G9+LungBrain4!G9+LungBrain5!G9 -> 262 | H9: =Gastric2!H9+Gastric1!H9+Gastric3!H9+Gastric4!H9+Gastric5!H9+Glioma1!H9+Glioma2!H9+Glioma3!H9+Glioma4!H9+Glioma5!H9+Leukemia1!H9+Leukemia2!H9+Leukemia3!H9+Leukemia4!H9+Leukemia5!H9+Liver1!H9+Liver2!H9+Liver3!H9+Liver4!H9+Liver5!H9+Lung1!H9+Lung2!H9+Lung3!H9+Lung4!H9+Lung5!H9+LungBrain1!H9+LungBrain2!H9+LungBrain3!H9+LungBrain4!H9+LungBrain5!H9 -> 61 | I9: =Gastric2!I9+Gastric1!I9+Gastric3!I9+Gastric4!I9+Gastric5!I9+Glioma1!I9+Glioma2!I9+Glioma3!I9+Glioma4!I9+Glioma5!I9+Leukemia1!I9+Leukemia2!I9+Leukemia3!I9+Leukemia4!I9+Leukemia5!I9+Liver1!I9+Liver2!I9+Liver3!I9+Liver4!I9+Liver5!I9+Lung1!I9+Lung2!I9+Lung3!I9+Lung4!I9+Lung5!I9+LungBrain1!I9+LungBrain2!I9+LungBrain3!I9+LungBrain4!I9+LungBrain5!I9 -> 344 | J9: =Gastric2!J9+Gastric1!J9+Gastric3!J9+Gastric4!J9+Gastric5!J9+Glioma1!J9+Glioma2!J9+Glioma3!J9+Glioma4!J9+Glioma5!J9+Leukemia1!J9+Leukemia2!J9+Leukemia3!J9+Leukemia4!J9+Leukemia5!J9+Liver1!J9+Liver2!J9+Liver3!J9+Liver4!J9+Liver5!J9+Lung1!J9+Lung2!J9+Lung3!J9+Lung4!J9+Lung5!J9+LungBrain1!J9+LungBrain2!J9+LungBrain3!J9+LungBrain4!J9+LungBrain5!J9 -> 273 | K9: =Gastric2!K9+Gastric1!K9+Gastric3!K9+Gastric4!K9+Gastric5!K9+Glioma1!K9+Glioma2!K9+Glioma3!K9+Glioma4!K9+Glioma5!K9+Leukemia1!K9+Leukemia2!K9+Leukemia3!K9+Leukemia4!K9+Leukemia5!K9+Liver1!K9+Liver2!K9+Liver3!K9+Liver4!K9+Liver5!K9+Lung1!K9+Lung2!K9+Lung3!K9+Lung4!K9+Lung5!K9+LungBrain1!K9+LungBrain2!K9+LungBrain3!K9+LungBrain4!K9+LungBrain5!K9 -> 71 | L9: =I9/B9*100000 -> 1.8297284
A10: Chr5 | B10: =C10+D10+E10 -> 20576910 | C10: =Gastric2!C10+Gastric1!C10+Gastric3!C10+Gastric4!C10+Gastric5!C10+Glioma1!C10+Glioma2!C10+Glioma3!C10+Glioma4!C10+Glioma5!C10+Leukemia1!C10+Leukemia2!C10+Leukemia3!C10+Leukemia4!C10+Leukemia5!C10+Liver1!C10+Liver2!C10+Liver3!C10+Liver4!C10+Liver5!C10+Lung1!C10+Lung2!C10+Lung3!C10+Lung4!C10+Lung5!C10+LungBrain1!C10+LungBrain2!C10+LungBrain3!C10+LungBrain4!C10+LungBrain5!C10 -> 20568549 | D10: =Gastric2!D10+Gastric1!D10+Gastric3!D10+Gastric4!D10+Gastric5!D10+Glioma1!D10+Glioma2!D10+Glioma3!D10+Glioma4!D10+Glioma5!D10+Leukemia1!D10+Leukemia2!D10+Leukemia3!D10+Leukemia4!D10+Leukemia5!D10+Liver1!D10+Liver2!D10+Liver3!D10+Liver4!D10+Liver5!D10+Lung1!D10+Lung2!D10+Lung3!D10+Lung4!D10+Lung5!D10+LungBrain1!D10+LungBrain2!D10+LungBrain3!D10+LungBrain4!D10+LungBrain5!D10 -> 3428 | E10: =Gastric2!E10+Gastric1!E10+Gastric3!E10+Gastric4!E10+Gastric5!E10+Glioma1!E10+Glioma2!E10+Glioma3!E10+Glioma4!E10+Glioma5!E10+Leukemia1!E10+Leukemia2!E10+Leukemia3!E10+Leukemia4!E10+Leukemia5!E10+Liver1!E10+Liver2!E10+Liver3!E10+Liver4!E10+Liver5!E10+Lung1!E10+Lung2!E10+Lung3!E10+Lung4!E10+Lung5!E10+LungBrain1!E10+LungBrain2!E10+LungBrain3!E10+LungBrain4!E10+LungBrain5!E10 -> 4933 | F10: =Gastric2!F10+Gastric1!F10+Gastric3!F10+Gastric4!F10+Gastric5!F10+Glioma1!F10+Glioma2!F10+Glioma3!F10+Glioma4!F10+Glioma5!F10+Leukemia1!F10+Leukemia2!F10+Leukemia3!F10+Leukemia4!F10+Leukemia5!F10+Liver1!F10+Liver2!F10+Liver3!F10+Liver4!F10+Liver5!F10+Lung1!F10+Lung2!F10+Lung3!F10+Lung4!F10+Lung5!F10+LungBrain1!F10+LungBrain2!F10+LungBrain3!F10+LungBrain4!F10+LungBrain5!F10 -> 326 | G10: =Gastric2!G10+Gastric1!G10+Gastric3!G10+Gastric4!G10+Gastric5!G10+Glioma1!G10+Glioma2!G10+Glioma3!G10+Glioma4!G10+Glioma5!G10+Leukemia1!G10+Leukemia2!G10+Leukemia3!G10+Leukemia4!G10+Leukemia5!G10+Liver1!G10+Liver2!G10+Liver3!G10+Liver4!G10+Liver5!G10+Lung1!G10+Lung2!G10+Lung3!G10+Lung4!G10+Lung5!G10+LungBrain1!G10+LungBrain2!G10+LungBrain3!G10+LungBrain4!G10+LungBrain5!G10 -> 268 | H10: =Gastric2!H10+Gastric1!H10+Gastric3!H10+Gastric4!H10+Gastric5!H10+Glioma1!H10+Glioma2!H10+Glioma3!H10+Glioma4!H10+Glioma5!H10+Leukemia1!H10+Leukemia2!H10+Leukemia3!H10+Leukemia4!H10+Leukemia5!H10+Liver1!H10+Liver2!H10+Liver3!H10+Liver4!H10+Liver5!H10+Lung1!H10+Lung2!H10+Lung3!H10+Lung4!H10+Lung5!H10+LungBrain1!H10+LungBrain2!H10+LungBrain3!H10+LungBrain4!H10+LungBrain5!H10 -> 58 | I10: =Gastric2!I10+Gastric1!I10+Gastric3!I10+Gastric4!I10+Gastric5!I10+Glioma1!I10+Glioma2!I10+Glioma3!I10+Glioma4!I10+Glioma5!I10+Leukemia1!I10+Leukemia2!I10+Leukemia3!I10+Leukemia4!I10+Leukemia5!I10+Liver1!I10+Liver2!I10+Liver3!I10+Liver4!I10+Liver5!I10+Lung1!I10+Lung2!I10+Lung3!I10+Lung4!I10+Lung5!I10+LungBrain1!I10+LungBrain2!I10+LungBrain3!I10+LungBrain4!I10+LungBrain5!I10 -> 377 | J10: =Gastric2!J10+Gastric1!J10+Gastric3!J10+Gastric4!J10+Gastric5!J10+Glioma1!J10+Glioma2!J10+Glioma3!J10+Glioma4!J10+Glioma5!J10+Leukemia1!J10+Leukemia2!J10+Leukemia3!J10+Leukemia4!J10+Leukemia5!J10+Liver1!J10+Liver2!J10+Liver3!J10+Liver4!J10+Liver5!J10+Lung1!J10+Lung2!J10+Lung3!J10+Lung4!J10+Lung5!J10+LungBrain1!J10+LungBrain2!J10+LungBrain3!J10+LungBrain4!J10+LungBrain5!J10 -> 302 | K10: =Gastric2!K10+Gastric1!K10+Gastric3!K10+Gastric4!K10+Gastric5!K10+Glioma1!K10+Glioma2!K10+Glioma3!K10+Glioma4!K10+Glioma5!K10+Leukemia1!K10+Leukemia2!K10+Leukemia3!K10+Leukemia4!K10+Leukemia5!K10+Liver1!K10+Liver2!K10+Liver3!K10+Liver4!K10+Liver5!K10+Lung1!K10+Lung2!K10+Lung3!K10+Lung4!K10+Lung5!K10+LungBrain1!K10+LungBrain2!K10+LungBrain3!K10+LungBrain4!K10+LungBrain5!K10 -> 75 | L10: =I10/B10*100000 -> 1.8321507
A11: Chr6 | B11: =C11+D11+E11 -> 23105203 | C11: =Gastric2!C11+Gastric1!C11+Gastric3!C11+Gastric4!C11+Gastric5!C11+Glioma1!C11+Glioma2!C11+Glioma3!C11+Glioma4!C11+Glioma5!C11+Leukemia1!C11+Leukemia2!C11+Leukemia3!C11+Leukemia4!C11+Leukemia5!C11+Liver1!C11+Liver2!C11+Liver3!C11+Liver4!C11+Liver5!C11+Lung1!C11+Lung2!C11+Lung3!C11+Lung4!C11+Lung5!C11+LungBrain1!C11+LungBrain2!C11+LungBrain3!C11+LungBrain4!C11+LungBrain5!C11 -> 23094186 | D11: =Gastric2!D11+Gastric1!D11+Gastric3!D11+Gastric4!D11+Gastric5!D11+Glioma1!D11+Glioma2!D11+Glioma3!D11+Glioma4!D11+Glioma5!D11+Leukemia1!D11+Leukemia2!D11+Leukemia3!D11+Leukemia4!D11+Leukemia5!D11+Liver1!D11+Liver2!D11+Liver3!D11+Liver4!D11+Liver5!D11+Lung1!D11+Lung2!D11+Lung3!D11+Lung4!D11+Lung5!D11+LungBrain1!D11+LungBrain2!D11+LungBrain3!D11+LungBrain4!D11+LungBrain5!D11 -> 4751 | E11: =Gastric2!E11+Gastric1!E11+Gastric3!E11+Gastric4!E11+Gastric5!E11+Glioma1!E11+Glioma2!E11+Glioma3!E11+Glioma4!E11+Glioma5!E11+Leukemia1!E11+Leukemia2!E11+Leukemia3!E11+Leukemia4!E11+Leukemia5!E11+Liver1!E11+Liver2!E11+Liver3!E11+Liver4!E11+Liver5!E11+Lung1!E11+Lung2!E11+Lung3!E11+Lung4!E11+Lung5!E11+LungBrain1!E11+LungBrain2!E11+LungBrain3!E11+LungBrain4!E11+LungBrain5!E11 -> 6266 | F11: =Gastric2!F11+Gastric1!F11+Gastric3!F11+Gastric4!F11+Gastric5!F11+Glioma1!F11+Glioma2!F11+Glioma3!F11+Glioma4!F11+Glioma5!F11+Leukemia1!F11+Leukemia2!F11+Leukemia3!F11+Leukemia4!F11+Leukemia5!F11+Liver1!F11+Liver2!F11+Liver3!F11+Liver4!F11+Liver5!F11+Lung1!F11+Lung2!F11+Lung3!F11+Lung4!F11+Lung5!F11+LungBrain1!F11+LungBrain2!F11+LungBrain3!F11+LungBrain4!F11+LungBrain5!F11 -> 346 | G11: =Gastric2!G11+Gastric1!G11+Gastric3!G11+Gastric4!G11+Gastric5!G11+Glioma1!G11+Glioma2!G11+Glioma3!G11+Glioma4!G11+Glioma5!G11+Leukemia1!G11+Leukemia2!G11+Leukemia3!G11+Leukemia4!G11+Leukemia5!G11+Liver1!G11+Liver2!G11+Liver3!G11+Liver4!G11+Liver5!G11+Lung1!G11+Lung2!G11+Lung3!G11+Lung4!G11+Lung5!G11+LungBrain1!G11+LungBrain2!G11+LungBrain3!G11+LungBrain4!G11+LungBrain5!G11 -> 285 | H11: =Gastric2!H11+Gastric1!H11+Gastric3!H11+Gastric4!H11+Gastric5!H11+Glioma1!H11+Glioma2!H11+Glioma3!H11+Glioma4!H11+Glioma5!H11+Leukemia1!H11+Leukemia2!H11+Leukemia3!H11+Leukemia4!H11+Leukemia5!H11+Liver1!H11+Liver2!H11+Liver3!H11+Liver4!H11+Liver5!H11+Lung1!H11+Lung2!H11+Lung3!H11+Lung4!H11+Lung5!H11+LungBrain1!H11+LungBrain2!H11+LungBrain3!H11+LungBrain4!H11+LungBrain5!H11 -> 61 | I11: =Gastric2!I11+Gastric1!I11+Gastric3!I11+Gastric4!I11+Gastric5!I11+Glioma1!I11+Glioma2!I11+Glioma3!I11+Glioma4!I11+Glioma5!I11+Leukemia1!I11+Leukemia2!I11+Leukemia3!I11+Leukemia4!I11+Leukemia5!I11+Liver1!I11+Liver2!I11+Liver3!I11+Liver4!I11+Liver5!I11+Lung1!I11+Lung2!I11+Lung3!I11+Lung4!I11+Lung5!I11+LungBrain1!I11+LungBrain2!I11+LungBrain3!I11+LungBrain4!I11+LungBrain5!I11 -> 396 | J11: =Gastric2!J11+Gastric1!J11+Gastric3!J11+Gastric4!J11+Gastric5!J11+Glioma1!J11+Glioma2!J11+Glioma3!J11+Glioma4!J11+Glioma5!J11+Leukemia1!J11+Leukemia2!J11+Leukemia3!J11+Leukemia4!J11+Leukemia5!J11+Liver1!J11+Liver2!J11+Liver3!J11+Liver4!J11+Liver5!J11+Lung1!J11+Lung2!J11+Lung3!J11+Lung4!J11+Lung5!J11+LungBrain1!J11+LungBrain2!J11+LungBrain3!J11+LungBrain4!J11+LungBrain5!J11 -> 317 | K11: =Gastric2!K11+Gastric1!K11+Gastric3!K11+Gastric4!K11+Gastric5!K11+Glioma1!K11+Glioma2!K11+Glioma3!K11+Glioma4!K11+Glioma5!K11+Leukemia1!K11+Leukemia2!K11+Leukemia3!K11+Leukemia4!K11+Leukemia5!K11+Liver1!K11+Liver2!K11+Liver3!K11+Liver4!K11+Liver5!K11+Lung1!K11+Lung2!K11+Lung3!K11+Lung4!K11+Lung5!K11+LungBrain1!K11+LungBrain2!K11+LungBrain3!K11+LungBrain4!K11+LungBrain5!K11 -> 79 | L11: =I11/B11*100000 -> 1.7138997
A12: Chr7 | B12: =C12+D12+E12 -> 28395136 | C12: =Gastric2!C12+Gastric1!C12+Gastric3!C12+Gastric4!C12+Gastric5!C12+Glioma1!C12+Glioma2!C12+Glioma3!C12+Glioma4!C12+Glioma5!C12+Leukemia1!C12+Leukemia2!C12+Leukemia3!C12+Leukemia4!C12+Leukemia5!C12+Liver1!C12+Liver2!C12+Liver3!C12+Liver4!C12+Liver5!C12+Lung1!C12+Lung2!C12+Lung3!C12+Lung4!C12+Lung5!C12+LungBrain1!C12+LungBrain2!C12+LungBrain3!C12+LungBrain4!C12+LungBrain5!C12 -> 28383361 | D12: =Gastric2!D12+Gastric1!D12+Gastric3!D12+Gastric4!D12+Gastric5!D12+Glioma1!D12+Glioma2!D12+Glioma3!D12+Glioma4!D12+Glioma5!D12+Leukemia1!D12+Leukemia2!D12+Leukemia3!D12+Leukemia4!D12+Leukemia5!D12+Liver1!D12+Liver2!D12+Liver3!D12+Liver4!D12+Liver5!D12+Lung1!D12+Lung2!D12+Lung3!D12+Lung4!D12+Lung5!D12+LungBrain1!D12+LungBrain2!D12+LungBrain3!D12+LungBrain4!D12+LungBrain5!D12 -> 4516 | E12: =Gastric2!E12+Gastric1!E12+Gastric3!E12+Gastric4!E12+Gastric5!E12+Glioma1!E12+Glioma2!E12+Glioma3!E12+Glioma4!E12+Glioma5!E12+Leukemia1!E12+Leukemia2!E12+Leukemia3!E12+Leukemia4!E12+Leukemia5!E12+Liver1!E12+Liver2!E12+Liver3!E12+Liver4!E12+Liver5!E12+Lung1!E12+Lung2!E12+Lung3!E12+Lung4!E12+Lung5!E12+LungBrain1!E12+LungBrain2!E12+LungBrain3!E12+LungBrain4!E12+LungBrain5!E12 -> 7259 | F12: =Gastric2!F12+Gastric1!F12+Gastric3!F12+Gastric4!F12+Gastric5!F12+Glioma1!F12+Glioma2!F12+Glioma3!F12+Glioma4!F12+Glioma5!F12+Leukemia1!F12+Leukemia2!F12+Leukemia3!F12+Leukemia4!F12+Leukemia5!F12+Liver1!F12+Liver2!F12+Liver3!F12+Liver4!F12+Liver5!F12+Lung1!F12+Lung2!F12+Lung3!F12+Lung4!F12+Lung5!F12+LungBrain1!F12+LungBrain2!F12+LungBrain3!F12+LungBrain4!F12+LungBrain5!F12 -> 484 | G12: =Gastric2!G12+Gastric1!G12+Gastric3!G12+Gastric4!G12+Gastric5!G12+Glioma1!G12+Glioma2!G12+Glioma3!G12+Glioma4!G12+Glioma5!G12+Leukemia1!G12+Leukemia2!G12+Leukemia3!G12+Leukemia4!G12+Leukemia5!G12+Liver1!G12+Liver2!G12+Liver3!G12+Liver4!G12+Liver5!G12+Lung1!G12+Lung2!G12+Lung3!G12+Lung4!G12+Lung5!G12+LungBrain1!G12+LungBrain2!G12+LungBrain3!G12+LungBrain4!G12+LungBrain5!G12 -> 406 | H12: =Gastric2!H12+Gastric1!H12+Gastric3!H12+Gastric4!H12+Gastric5!H12+Glioma1!H12+Glioma2!H12+Glioma3!H12+Glioma4!H12+Glioma5!H12+Leukemia1!H12+Leukemia2!H12+Leukemia3!H12+Leukemia4!H12+Leukemia5!H12+Liver1!H12+Liver2!H12+Liver3!H12+Liver4!H12+Liver5!H12+Lung1!H12+Lung2!H12+Lung3!H12+Lung4!H12+Lung5!H12+LungBrain1!H12+LungBrain2!H12+LungBrain3!H12+LungBrain4!H12+LungBrain5!H12 -> 78 | I12: =Gastric2!I12+Gastric1!I12+Gastric3!I12+Gastric4!I12+Gastric5!I12+Glioma1!I12+Glioma2!I12+Glioma3!I12+Glioma4!I12+Glioma5!I12+Leukemia1!I12+Leukemia2!I12+Leukemia3!I12+Leukemia4!I12+Leukemia5!I12+Liver1!I12+Liver2!I12+Liver3!I12+Liver4!I12+Liver5!I12+Lung1!I12+Lung2!I12+Lung3!I12+Lung4!I12+Lung5!I12+LungBrain1!I12+LungBrain2!I12+LungBrain3!I12+LungBrain4!I12+LungBrain5!I12 -> 483 | J12: =Gastric2!J12+Gastric1!J12+Gastric3!J12+Gastric4!J12+Gastric5!J12+Glioma1!J12+Glioma2!J12+Glioma3!J12+Glioma4!J12+Glioma5!J12+Leukemia1!J12+Leukemia2!J12+Leukemia3!J12+Leukemia4!J12+Leukemia5!J12+Liver1!J12+Liver2!J12+Liver3!J12+Liver4!J12+Liver5!J12+Lung1!J12+Lung2!J12+Lung3!J12+Lung4!J12+Lung5!J12+LungBrain1!J12+LungBrain2!J12+LungBrain3!J12+LungBrain4!J12+LungBrain5!J12 -> 385 | K12: =Gastric2!K12+Gastric1!K12+Gastric3!K12+Gastric4!K12+Gastric5!K12+Glioma1!K12+Glioma2!K12+Glioma3!K12+Glioma4!K12+Glioma5!K12+Leukemia1!K12+Leukemia2!K12+Leukemia3!K12+Leukemia4!K12+Leukemia5!K12+Liver1!K12+Liver2!K12+Liver3!K12+Liver4!K12+Liver5!K12+Lung1!K12+Lung2!K12+Lung3!K12+Lung4!K12+Lung5!K12+LungBrain1!K12+LungBrain2!K12+LungBrain3!K12+LungBrain4!K12+LungBrain5!K12 -> 98 | L12: =I12/B12*100000 -> 1.7009956
A13: Chr8 | B13: =C13+D13+E13 -> 16530409 | C13: =Gastric2!C13+Gastric1!C13+Gastric3!C13+Gastric4!C13+Gastric5!C13+Glioma1!C13+Glioma2!C13+Glioma3!C13+Glioma4!C13+Glioma5!C13+Leukemia1!C13+Leukemia2!C13+Leukemia3!C13+Leukemia4!C13+Leukemia5!C13+Liver1!C13+Liver2!C13+Liver3!C13+Liver4!C13+Liver5!C13+Lung1!C13+Lung2!C13+Lung3!C13+Lung4!C13+Lung5!C13+LungBrain1!C13+LungBrain2!C13+LungBrain3!C13+LungBrain4!C13+LungBrain5!C13 -> 16522920 | D13: =Gastric2!D13+Gastric1!D13+Gastric3!D13+Gastric4!D13+Gastric5!D13+Glioma1!D13+Glioma2!D13+Glioma3!D13+Glioma4!D13+Glioma5!D13+Leukemia1!D13+Leukemia2!D13+Leukemia3!D13+Leukemia4!D13+Leukemia5!D13+Liver1!D13+Liver2!D13+Liver3!D13+Liver4!D13+Liver5!D13+Lung1!D13+Lung2!D13+Lung3!D13+Lung4!D13+Lung5!D13+LungBrain1!D13+LungBrain2!D13+LungBrain3!D13+LungBrain4!D13+LungBrain5!D13 -> 3335 | E13: =Gastric2!E13+Gastric1!E13+Gastric3!E13+Gastric4!E13+Gastric5!E13+Glioma1!E13+Glioma2!E13+Glioma3!E13+Glioma4!E13+Glioma5!E13+Leukemia1!E13+Leukemia2!E13+Leukemia3!E13+Leukemia4!E13+Leukemia5!E13+Liver1!E13+Liver2!E13+Liver3!E13+Liver4!E13+Liver5!E13+Lung1!E13+Lung2!E13+Lung3!E13+Lung4!E13+Lung5!E13+LungBrain1!E13+LungBrain2!E13+LungBrain3!E13+LungBrain4!E13+LungBrain5!E13 -> 4154 | F13: =Gastric2!F13+Gastric1!F13+Gastric3!F13+Gastric4!F13+Gastric5!F13+Glioma1!F13+Glioma2!F13+Glioma3!F13+Glioma4!F13+Glioma5!F13+Leukemia1!F13+Leukemia2!F13+Leukemia3!F13+Leukemia4!F13+Leukemia5!F13+Liver1!F13+Liver2!F13+Liver3!F13+Liver4!F13+Liver5!F13+Lung1!F13+Lung2!F13+Lung3!F13+Lung4!F13+Lung5!F13+LungBrain1!F13+LungBrain2!F13+LungBrain3!F13+LungBrain4!F13+LungBrain5!F13 -> 273 | G13: =Gastric2!G13+Gastric1!G13+Gastric3!G13+Gastric4!G13+Gastric5!G13+Glioma1!G13+Glioma2!G13+Glioma3!G13+Glioma4!G13+Glioma5!G13+Leukemia1!G13+Leukemia2!G13+Leukemia3!G13+Leukemia4!G13+Leukemia5!G13+Liver1!G13+Liver2!G13+Liver3!G13+Liver4!G13+Liver5!G13+Lung1!G13+Lung2!G13+Lung3!G13+Lung4!G13+Lung5!G13+LungBrain1!G13+LungBrain2!G13+LungBrain3!G13+LungBrain4!G13+LungBrain5!G13 -> 212 | H13: =Gastric2!H13+Gastric1!H13+Gastric3!H13+Gastric4!H13+Gastric5!H13+Glioma1!H13+Glioma2!H13+Glioma3!H13+Glioma4!H13+Glioma5!H13+Leukemia1!H13+Leukemia2!H13+Leukemia3!H13+Leukemia4!H13+Leukemia5!H13+Liver1!H13+Liver2!H13+Liver3!H13+Liver4!H13+Liver5!H13+Lung1!H13+Lung2!H13+Lung3!H13+Lung4!H13+Lung5!H13+LungBrain1!H13+LungBrain2!H13+LungBrain3!H13+LungBrain4!H13+LungBrain5!H13 -> 61 | I13: =Gastric2!I13+Gastric1!I13+Gastric3!I13+Gastric4!I13+Gastric5!I13+Glioma1!I13+Glioma2!I13+Glioma3!I13+Glioma4!I13+Glioma5!I13+Leukemia1!I13+Leukemia2!I13+Leukemia3!I13+Leukemia4!I13+Leukemia5!I13+Liver1!I13+Liver2!I13+Liver3!I13+Liver4!I13+Liver5!I13+Lung1!I13+Lung2!I13+Lung3!I13+Lung4!I13+Lung5!I13+LungBrain1!I13+LungBrain2!I13+LungBrain3!I13+LungBrain4!I13+LungBrain5!I13 -> 276 | J13: =Gastric2!J13+Gastric1!J13+Gastric3!J13+Gastric4!J13+Gastric5!J13+Glioma1!J13+Glioma2!J13+Glioma3!J13+Glioma4!J13+Glioma5!J13+Leukemia1!J13+Leukemia2!J13+Leukemia3!J13+Leukemia4!J13+Leukemia5!J13+Liver1!J13+Liver2!J13+Liver3!J13+Liver4!J13+Liver5!J13+Lung1!J13+Lung2!J13+Lung3!J13+Lung4!J13+Lung5!J13+LungBrain1!J13+LungBrain2!J13+LungBrain3!J13+LungBrain4!J13+LungBrain5!J13 -> 204 | K13: =Gastric2!K13+Gastric1!K13+Gastric3!K13+Gastric4!K13+Gastric5!K13+Glioma1!K13+Glioma2!K13+Glioma3!K13+Glioma4!K13+Glioma5!K13+Leukemia1!K13+Leukemia2!K13+Leukemia3!K13+Leukemia4!K13+Leukemia5!K13+Liver1!K13+Liver2!K13+Liver3!K13+Liver4!K13+Liver5!K13+Lung1!K13+Lung2!K13+Lung3!K13+Lung4!K13+Lung5!K13+LungBrain1!K13+LungBrain2!K13+LungBrain3!K13+LungBrain4!K13+LungBrain5!K13 -> 72 | L13: =I13/B13*100000 -> 1.6696502
A14: Chr9 | B14: =C14+D14+E14 -> 19694631 | C14: =Gastric2!C14+Gastric1!C14+Gastric3!C14+Gastric4!C14+Gastric5!C14+Glioma1!C14+Glioma2!C14+Glioma3!C14+Glioma4!C14+Glioma5!C14+Leukemia1!C14+Leukemia2!C14+Leukemia3!C14+Leukemia4!C14+Leukemia5!C14+Liver1!C14+Liver2!C14+Liver3!C14+Liver4!C14+Liver5!C14+Lung1!C14+Lung2!C14+Lung3!C14+Lung4!C14+Lung5!C14+LungBrain1!C14+LungBrain2!C14+LungBrain3!C14+LungBrain4!C14+LungBrain5!C14 -> 19685766 | D14: =Gastric2!D14+Gastric1!D14+Gastric3!D14+Gastric4!D14+Gastric5!D14+Glioma1!D14+Glioma2!D14+Glioma3!D14+Glioma4!D14+Glioma5!D14+Leukemia1!D14+Leukemia2!D14+Leukemia3!D14+Leukemia4!D14+Leukemia5!D14+Liver1!D14+Liver2!D14+Liver3!D14+Liver4!D14+Liver5!D14+Lung1!D14+Lung2!D14+Lung3!D14+Lung4!D14+Lung5!D14+LungBrain1!D14+LungBrain2!D14+LungBrain3!D14+LungBrain4!D14+LungBrain5!D14 -> 3737 | E14: =Gastric2!E14+Gastric1!E14+Gastric3!E14+Gastric4!E14+Gastric5!E14+Glioma1!E14+Glioma2!E14+Glioma3!E14+Glioma4!E14+Glioma5!E14+Leukemia1!E14+Leukemia2!E14+Leukemia3!E14+Leukemia4!E14+Leukemia5!E14+Liver1!E14+Liver2!E14+Liver3!E14+Liver4!E14+Liver5!E14+Lung1!E14+Lung2!E14+Lung3!E14+Lung4!E14+Lung5!E14+LungBrain1!E14+LungBrain2!E14+LungBrain3!E14+LungBrain4!E14+LungBrain5!E14 -> 5128 | F14: =Gastric2!F14+Gastric1!F14+Gastric3!F14+Gastric4!F14+Gastric5!F14+Glioma1!F14+Glioma2!F14+Glioma3!F14+Glioma4!F14+Glioma5!F14+Leukemia1!F14+Leukemia2!F14+Leukemia3!F14+Leukemia4!F14+Leukemia5!F14+Liver1!F14+Liver2!F14+Liver3!F14+Liver4!F14+Liver5!F14+Lung1!F14+Lung2!F14+Lung3!F14+Lung4!F14+Lung5!F14+LungBrain1!F14+LungBrain2!F14+LungBrain3!F14+LungBrain4!F14+LungBrain5!F14 -> 334 | G14: =Gastric2!G14+Gastric1!G14+Gastric3!G14+Gastric4!G14+Gastric5!G14+Glioma1!G14+Glioma2!G14+Glioma3!G14+Glioma4!G14+Glioma5!G14+Leukemia1!G14+Leukemia2!G14+Leukemia3!G14+Leukemia4!G14+Leukemia5!G14+Liver1!G14+Liver2!G14+Liver3!G14+Liver4!G14+Liver5!G14+Lung1!G14+Lung2!G14+Lung3!G14+Lung4!G14+Lung5!G14+LungBrain1!G14+LungBrain2!G14+LungBrain3!G14+LungBrain4!G14+LungBrain5!G14 -> 274 | H14: =Gastric2!H14+Gastric1!H14+Gastric3!H14+Gastric4!H14+Gastric5!H14+Glioma1!H14+Glioma2!H14+Glioma3!H14+Glioma4!H14+Glioma5!H14+Leukemia1!H14+Leukemia2!H14+Leukemia3!H14+Leukemia4!H14+Leukemia5!H14+Liver1!H14+Liver2!H14+Liver3!H14+Liver4!H14+Liver5!H14+Lung1!H14+Lung2!H14+Lung3!H14+Lung4!H14+Lung5!H14+LungBrain1!H14+LungBrain2!H14+LungBrain3!H14+LungBrain4!H14+LungBrain5!H14 -> 60 | I14: =Gastric2!I14+Gastric1!I14+Gastric3!I14+Gastric4!I14+Gastric5!I14+Glioma1!I14+Glioma2!I14+Glioma3!I14+Glioma4!I14+Glioma5!I14+Leukemia1!I14+Leukemia2!I14+Leukemia3!I14+Leukemia4!I14+Leukemia5!I14+Liver1!I14+Liver2!I14+Liver3!I14+Liver4!I14+Liver5!I14+Lung1!I14+Lung2!I14+Lung3!I14+Lung4!I14+Lung5!I14+LungBrain1!I14+LungBrain2!I14+LungBrain3!I14+LungBrain4!I14+LungBrain5!I14 -> 388 | J14: =Gastric2!J14+Gastric1!J14+Gastric3!J14+Gastric4!J14+Gastric5!J14+Glioma1!J14+Glioma2!J14+Glioma3!J14+Glioma4!J14+Glioma5!J14+Leukemia1!J14+Leukemia2!J14+Leukemia3!J14+Leukemia4!J14+Leukemia5!J14+Liver1!J14+Liver2!J14+Liver3!J14+Liver4!J14+Liver5!J14+Lung1!J14+Lung2!J14+Lung3!J14+Lung4!J14+Lung5!J14+LungBrain1!J14+LungBrain2!J14+LungBrain3!J14+LungBrain4!J14+LungBrain5!J14 -> 301 | K14: =Gastric2!K14+Gastric1!K14+Gastric3!K14+Gastric4!K14+Gastric5!K14+Glioma1!K14+Glioma2!K14+Glioma3!K14+Glioma4!K14+Glioma5!K14+Leukemia1!K14+Leukemia2!K14+Leukemia3!K14+Leukemia4!K14+Leukemia5!K14+Liver1!K14+Liver2!K14+Liver3!K14+Liver4!K14+Liver5!K14+Lung1!K14+Lung2!K14+Lung3!K14+Lung4!K14+Lung5!K14+LungBrain1!K14+LungBrain2!K14+LungBrain3!K14+LungBrain4!K14+LungBrain5!K14 -> 87 | L14: =I14/B14*100000 -> 1.9700801
A15: Chr10 | B15: =C15+D15+E15 -> 22195937 | C15: =Gastric2!C15+Gastric1!C15+Gastric3!C15+Gastric4!C15+Gastric5!C15+Glioma1!C15+Glioma2!C15+Glioma3!C15+Glioma4!C15+Glioma5!C15+Leukemia1!C15+Leukemia2!C15+Leukemia3!C15+Leukemia4!C15+Leukemia5!C15+Liver1!C15+Liver2!C15+Liver3!C15+Liver4!C15+Liver5!C15+Lung1!C15+Lung2!C15+Lung3!C15+Lung4!C15+Lung5!C15+LungBrain1!C15+LungBrain2!C15+LungBrain3!C15+LungBrain4!C15+LungBrain5!C15 -> 22185644 | D15: =Gastric2!D15+Gastric1!D15+Gastric3!D15+Gastric4!D15+Gastric5!D15+Glioma1!D15+Glioma2!D15+Glioma3!D15+Glioma4!D15+Glioma5!D15+Leukemia1!D15+Leukemia2!D15+Leukemia3!D15+Leukemia4!D15+Leukemia5!D15+Liver1!D15+Liver2!D15+Liver3!D15+Liver4!D15+Liver5!D15+Lung1!D15+Lung2!D15+Lung3!D15+Lung4!D15+Lung5!D15+LungBrain1!D15+LungBrain2!D15+LungBrain3!D15+LungBrain4!D15+LungBrain5!D15 -> 4599 | E15: =Gastric2!E15+Gastric1!E15+Gastric3!E15+Gastric4!E15+Gastric5!E15+Glioma1!E15+Glioma2!E15+Glioma3!E15+Glioma4!E15+Glioma5!E15+Leukemia1!E15+Leukemia2!E15+Leukemia3!E15+Leukemia4!E15+Leukemia5!E15+Liver1!E15+Liver2!E15+Liver3!E15+Liver4!E15+Liver5!E15+Lung1!E15+Lung2!E15+Lung3!E15+Lung4!E15+Lung5!E15+LungBrain1!E15+LungBrain2!E15+LungBrain3!E15+LungBrain4!E15+LungBrain5!E15 -> 5694 | F15: =Gastric2!F15+Gastric1!F15+Gastric3!F15+Gastric4!F15+Gastric5!F15+Glioma1!F15+Glioma2!F15+Glioma3!F15+Glioma4!F15+Glioma5!F15+Leukemia1!F15+Leukemia2!F15+Leukemia3!F15+Leukemia4!F15+Leukemia5!F15+Liver1!F15+Liver2!F15+Liver3!F15+Liver4!F15+Liver5!F15+Lung1!F15+Lung2!F15+Lung3!F15+Lung4!F15+Lung5!F15+LungBrain1!F15+LungBrain2!F15+LungBrain3!F15+LungBrain4!F15+LungBrain5!F15 -> 377 | G15: =Gastric2!G15+Gastric1!G15+Gastric3!G15+Gastric4!G15+Gastric5!G15+Glioma1!G15+Glioma2!G15+Glioma3!G15+Glioma4!G15+Glioma5!G15+Leukemia1!G15+Leukemia2!G15+Leukemia3!G15+Leukemia4!G15+Leukemia5!G15+Liver1!G15+Liver2!G15+Liver3!G15+Liver4!G15+Liver5!G15+Lung1!G15+Lung2!G15+Lung3!G15+Lung4!G15+Lung5!G15+LungBrain1!G15+LungBrain2!G15+LungBrain3!G15+LungBrain4!G15+LungBrain5!G15 -> 305 | H15: =Gastric2!H15+Gastric1!H15+Gastric3!H15+Gastric4!H15+Gastric5!H15+Glioma1!H15+Glioma2!H15+Glioma3!H15+Glioma4!H15+Glioma5!H15+Leukemia1!H15+Leukemia2!H15+Leukemia3!H15+Leukemia4!H15+Leukemia5!H15+Liver1!H15+Liver2!H15+Liver3!H15+Liver4!H15+Liver5!H15+Lung1!H15+Lung2!H15+Lung3!H15+Lung4!H15+Lung5!H15+LungBrain1!H15+LungBrain2!H15+LungBrain3!H15+LungBrain4!H15+LungBrain5!H15 -> 72 | I15: =Gastric2!I15+Gastric1!I15+Gastric3!I15+Gastric4!I15+Gastric5!I15+Glioma1!I15+Glioma2!I15+Glioma3!I15+Glioma4!I15+Glioma5!I15+Leukemia1!I15+Leukemia2!I15+Leukemia3!I15+Leukemia4!I15+Leukemia5!I15+Liver1!I15+Liver2!I15+Liver3!I15+Liver4!I15+Liver5!I15+Lung1!I15+Lung2!I15+Lung3!I15+Lung4!I15+Lung5!I15+LungBrain1!I15+LungBrain2!I15+LungBrain3!I15+LungBrain4!I15+LungBrain5!I15 -> 402 | J15: =Gastric2!J15+Gastric1!J15+Gastric3!J15+Gastric4!J15+Gastric5!J15+Glioma1!J15+Glioma2!J15+Glioma3!J15+Glioma4!J15+Glioma5!J15+Leukemia1!J15+Leukemia2!J15+Leukemia3!J15+Leukemia4!J15+Leukemia5!J15+Liver1!J15+Liver2!J15+Liver3!J15+Liver4!J15+Liver5!J15+Lung1!J15+Lung2!J15+Lung3!J15+Lung4!J15+Lung5!J15+LungBrain1!J15+LungBrain2!J15+LungBrain3!J15+LungBrain4!J15+LungBrain5!J15 -> 339 | K15: =Gastric2!K15+Gastric1!K15+Gastric3!K15+Gastric4!K15+Gastric5!K15+Glioma1!K15+Glioma2!K15+Glioma3!K15+Glioma4!K15+Glioma5!K15+Leukemia1!K15+Leukemia2!K15+Leukemia3!K15+Leukemia4!K15+Leukemia5!K15+Liver1!K15+Liver2!K15+Liver3!K15+Liver4!K15+Liver5!K15+Lung1!K15+Lung2!K15+Lung3!K15+Lung4!K15+Lung5!K15+LungBrain1!K15+LungBrain2!K15+LungBrain3!K15+LungBrain4!K15+LungBrain5!K15 -> 63 | L15: =I15/B15*100000 -> 1.8111423
A16: Chr11 | B16: =C16+D16+E16 -> 20610134 | C16: =Gastric2!C16+Gastric1!C16+Gastric3!C16+Gastric4!C16+Gastric5!C16+Glioma1!C16+Glioma2!C16+Glioma3!C16+Glioma4!C16+Glioma5!C16+Leukemia1!C16+Leukemia2!C16+Leukemia3!C16+Leukemia4!C16+Leukemia5!C16+Liver1!C16+Liver2!C16+Liver3!C16+Liver4!C16+Liver5!C16+Lung1!C16+Lung2!C16+Lung3!C16+Lung4!C16+Lung5!C16+LungBrain1!C16+LungBrain2!C16+LungBrain3!C16+LungBrain4!C16+LungBrain5!C16 -> 20601662 | D16: =Gastric2!D16+Gastric1!D16+Gastric3!D16+Gastric4!D16+Gastric5!D16+Glioma1!D16+Glioma2!D16+Glioma3!D16+Glioma4!D16+Glioma5!D16+Leukemia1!D16+Leukemia2!D16+Leukemia3!D16+Leukemia4!D16+Leukemia5!D16+Liver1!D16+Liver2!D16+Liver3!D16+Liver4!D16+Liver5!D16+Lung1!D16+Lung2!D16+Lung3!D16+Lung4!D16+Lung5!D16+LungBrain1!D16+LungBrain2!D16+LungBrain3!D16+LungBrain4!D16+LungBrain5!D16 -> 3736 | E16: =Gastric2!E16+Gastric1!E16+Gastric3!E16+Gastric4!E16+Gastric5!E16+Glioma1!E16+Glioma2!E16+Glioma3!E16+Glioma4!E16+Glioma5!E16+Leukemia1!E16+Leukemia2!E16+Leukemia3!E16+Leukemia4!E16+Leukemia5!E16+Liver1!E16+Liver2!E16+Liver3!E16+Liver4!E16+Liver5!E16+Lung1!E16+Lung2!E16+Lung3!E16+Lung4!E16+Lung5!E16+LungBrain1!E16+LungBrain2!E16+LungBrain3!E16+LungBrain4!E16+LungBrain5!E16 -> 4736 | F16: =Gastric2!F16+Gastric1!F16+Gastric3!F16+Gastric4!F16+Gastric5!F16+Glioma1!F16+Glioma2!F16+Glioma3!F16+Glioma4!F16+Glioma5!F16+Leukemia1!F16+Leukemia2!F16+Leukemia3!F16+Leukemia4!F16+Leukemia5!F16+Liver1!F16+Liver2!F16+Liver3!F16+Liver4!F16+Liver5!F16+Lung1!F16+Lung2!F16+Lung3!F16+Lung4!F16+Lung5!F16+LungBrain1!F16+LungBrain2!F16+LungBrain3!F16+LungBrain4!F16+LungBrain5!F16 -> 299 | G16: =Gastric2!G16+Gastric1!G16+Gastric3!G16+Gastric4!G16+Gastric5!G16+Glioma1!G16+Glioma2!G16+Glioma3!G16+Glioma4!G16+Glioma5!G16+Leukemia1!G16+Leukemia2!G16+Leukemia3!G16+Leukemia4!G16+Leukemia5!G16+Liver1!G16+Liver2!G16+Liver3!G16+Liver4!G16+Liver5!G16+Lung1!G16+Lung2!G16+Lung3!G16+Lung4!G16+Lung5!G16+LungBrain1!G16+LungBrain2!G16+LungBrain3!G16+LungBrain4!G16+LungBrain5!G16 -> 234 | H16: =Gastric2!H16+Gastric1!H16+Gastric3!H16+Gastric4!H16+Gastric5!H16+Glioma1!H16+Glioma2!H16+Glioma3!H16+Glioma4!H16+Glioma5!H16+Leukemia1!H16+Leukemia2!H16+Leukemia3!H16+Leukemia4!H16+Leukemia5!H16+Liver1!H16+Liver2!H16+Liver3!H16+Liver4!H16+Liver5!H16+Lung1!H16+Lung2!H16+Lung3!H16+Lung4!H16+Lung5!H16+LungBrain1!H16+LungBrain2!H16+LungBrain3!H16+LungBrain4!H16+LungBrain5!H16 -> 65 | I16: =Gastric2!I16+Gastric1!I16+Gastric3!I16+Gastric4!I16+Gastric5!I16+Glioma1!I16+Glioma2!I16+Glioma3!I16+Glioma4!I16+Glioma5!I16+Leukemia1!I16+Leukemia2!I16+Leukemia3!I16+Leukemia4!I16+Leukemia5!I16+Liver1!I16+Liver2!I16+Liver3!I16+Liver4!I16+Liver5!I16+Lung1!I16+Lung2!I16+Lung3!I16+Lung4!I16+Lung5!I16+LungBrain1!I16+LungBrain2!I16+LungBrain3!I16+LungBrain4!I16+LungBrain5!I16 -> 329 | J16: =Gastric2!J16+Gastric1!J16+Gastric3!J16+Gastric4!J16+Gastric5!J16+Glioma1!J16+Glioma2!J16+Glioma3!J16+Glioma4!J16+Glioma5!J16+Leukemia1!J16+Leukemia2!J16+Leukemia3!J16+Leukemia4!J16+Leukemia5!J16+Liver1!J16+Liver2!J16+Liver3!J16+Liver4!J16+Liver5!J16+Lung1!J16+Lung2!J16+Lung3!J16+Lung4!J16+Lung5!J16+LungBrain1!J16+LungBrain2!J16+LungBrain3!J16+LungBrain4!J16+LungBrain5!J16 -> 269 | K16: =Gastric2!K16+Gastric1!K16+Gastric3!K16+Gastric4!K16+Gastric5!K16+Glioma1!K16+Glioma2!K16+Glioma3!K16+Glioma4!K16+Glioma5!K16+Leukemia1!K16+Leukemia2!K16+Leukemia3!K16+Leukemia4!K16+Leukemia5!K16+Liver1!K16+Liver2!K16+Liver3!K16+Liver4!K16+Liver5!K16+Lung1!K16+Lung2!K16+Lung3!K16+Lung4!K16+Lung5!K16+LungBrain1!K16+LungBrain2!K16+LungBrain3!K16+LungBrain4!K16+LungBrain5!K16 -> 60 | L16: =I16/B16*100000 -> 1.5963021
A17: Chr12 | B17: =C17+D17+E17 -> 25519756 | C17: =Gastric2!C17+Gastric1!C17+Gastric3!C17+Gastric4!C17+Gastric5!C17+Glioma1!C17+Glioma2!C17+Glioma3!C17+Glioma4!C17+Glioma5!C17+Leukemia1!C17+Leukemia2!C17+Leukemia3!C17+Leukemia4!C17+Leukemia5!C17+Liver1!C17+Liver2!C17+Liver3!C17+Liver4!C17+Liver5!C17+Lung1!C17+Lung2!C17+Lung3!C17+Lung4!C17+Lung5!C17+LungBrain1!C17+LungBrain2!C17+LungBrain3!C17+LungBrain4!C17+LungBrain5!C17 -> 25508675 | D17: =Gastric2!D17+Gastric1!D17+Gastric3!D17+Gastric4!D17+Gastric5!D17+Glioma1!D17+Glioma2!D17+Glioma3!D17+Glioma4!D17+Glioma5!D17+Leukemia1!D17+Leukemia2!D17+Leukemia3!D17+Leukemia4!D17+Leukemia5!D17+Liver1!D17+Liver2!D17+Liver3!D17+Liver4!D17+Liver5!D17+Lung1!D17+Lung2!D17+Lung3!D17+Lung4!D17+Lung5!D17+LungBrain1!D17+LungBrain2!D17+LungBrain3!D17+LungBrain4!D17+LungBrain5!D17 -> 4506 | E17: =Gastric2!E17+Gastric1!E17+Gastric3!E17+Gastric4!E17+Gastric5!E17+Glioma1!E17+Glioma2!E17+Glioma3!E17+Glioma4!E17+Glioma5!E17+Leukemia1!E17+Leukemia2!E17+Leukemia3!E17+Leukemia4!E17+Leukemia5!E17+Liver1!E17+Liver2!E17+Liver3!E17+Liver4!E17+Liver5!E17+Lung1!E17+Lung2!E17+Lung3!E17+Lung4!E17+Lung5!E17+LungBrain1!E17+LungBrain2!E17+LungBrain3!E17+LungBrain4!E17+LungBrain5!E17 -> 6575 | F17: =Gastric2!F17+Gastric1!F17+Gastric3!F17+Gastric4!F17+Gastric5!F17+Glioma1!F17+Glioma2!F17+Glioma3!F17+Glioma4!F17+Glioma5!F17+Leukemia1!F17+Leukemia2!F17+Leukemia3!F17+Leukemia4!F17+Leukemia5!F17+Liver1!F17+Liver2!F17+Liver3!F17+Liver4!F17+Liver5!F17+Lung1!F17+Lung2!F17+Lung3!F17+Lung4!F17+Lung5!F17+LungBrain1!F17+LungBrain2!F17+LungBrain3!F17+LungBrain4!F17+LungBrain5!F17 -> 407 | G17: =Gastric2!G17+Gastric1!G17+Gastric3!G17+Gastric4!G17+Gastric5!G17+Glioma1!G17+Glioma2!G17+Glioma3!G17+Glioma4!G17+Glioma5!G17+Leukemia1!G17+Leukemia2!G17+Leukemia3!G17+Leukemia4!G17+Leukemia5!G17+Liver1!G17+Liver2!G17+Liver3!G17+Liver4!G17+Liver5!G17+Lung1!G17+Lung2!G17+Lung3!G17+Lung4!G17+Lung5!G17+LungBrain1!G17+LungBrain2!G17+LungBrain3!G17+LungBrain4!G17+LungBrain5!G17 -> 331 | H17: =Gastric2!H17+Gastric1!H17+Gastric3!H17+Gastric4!H17+Gastric5!H17+Glioma1!H17+Glioma2!H17+Glioma3!H17+Glioma4!H17+Glioma5!H17+Leukemia1!H17+Leukemia2!H17+Leukemia3!H17+Leukemia4!H17+Leukemia5!H17+Liver1!H17+Liver2!H17+Liver3!H17+Liver4!H17+Liver5!H17+Lung1!H17+Lung2!H17+Lung3!H17+Lung4!H17+Lung5!H17+LungBrain1!H17+LungBrain2!H17+LungBrain3!H17+LungBrain4!H17+LungBrain5!H17 -> 76 | I17: =Gastric2!I17+Gastric1!I17+Gastric3!I17+Gastric4!I17+Gastric5!I17+Glioma1!I17+Glioma2!I17+Glioma3!I17+Glioma4!I17+Glioma5!I17+Leukemia1!I17+Leukemia2!I17+Leukemia3!I17+Leukemia4!I17+Leukemia5!I17+Liver1!I17+Liver2!I17+Liver3!I17+Liver4!I17+Liver5!I17+Lung1!I17+Lung2!I17+Lung3!I17+Lung4!I17+Lung5!I17+LungBrain1!I17+LungBrain2!I17+LungBrain3!I17+LungBrain4!I17+LungBrain5!I17 -> 397 | J17: =Gastric2!J17+Gastric1!J17+Gastric3!J17+Gastric4!J17+Gastric5!J17+Glioma1!J17+Glioma2!J17+Glioma3!J17+Glioma4!J17+Glioma5!J17+Leukemia1!J17+Leukemia2!J17+Leukemia3!J17+Leukemia4!J17+Leukemia5!J17+Liver1!J17+Liver2!J17+Liver3!J17+Liver4!J17+Liver5!J17+Lung1!J17+Lung2!J17+Lung3!J17+Lung4!J17+Lung5!J17+LungBrain1!J17+LungBrain2!J17+LungBrain3!J17+LungBrain4!J17+LungBrain5!J17 -> 328 | K17: =Gastric2!K17+Gastric1!K17+Gastric3!K17+Gastric4!K17+Gastric5!K17+Glioma1!K17+Glioma2!K17+Glioma3!K17+Glioma4!K17+Glioma5!K17+Leukemia1!K17+Leukemia2!K17+Leukemia3!K17+Leukemia4!K17+Leukemia5!K17+Liver1!K17+Liver2!K17+Liver3!K17+Liver4!K17+Liver5!K17+Lung1!K17+Lung2!K17+Lung3!K17+Lung4!K17+Lung5!K17+LungBrain1!K17+LungBrain2!K17+LungBrain3!K17+LungBrain4!K17+LungBrain5!K17 -> 69 | L17: =I17/B17*100000 -> 1.5556575
... A27: Chr22 | B27: =C27+D27+E27 -> 15211007 | C27: =Gastric2!C27+Gastric1!C27+Gastric3!C27+Gastric4!C27+Gastric5!C27+Glioma1!C27+Glioma2!C27+Glioma3!C27+Glioma4!C27+Glioma5!C27+Leukemia1!C27+Leukemia2!C27+Leukemia3!C27+Leukemia4!C27+Leukemia5!C27+Liver1!C27+Liver2!C27+Liver3!C27+Liver4!C27+Liver5!C27+Lung1!C27+Lung2!C27+Lung3!C27+Lung4!C27+Lung5!C27+LungBrain1!C27+LungBrain2!C27+LungBrain3!C27+LungBrain4!C27+LungBrain5!C27 -> 15205108 | D27: =Gastric2!D27+Gastric1!D27+Gastric3!D27+Gastric4!D27+Gastric5!D27+Glioma1!D27+Glioma2!D27+Glioma3!D27+Glioma4!D27+Glioma5!D27+Leukemia1!D27+Leukemia2!D27+Leukemia3!D27+Leukemia4!D27+Leukemia5!D27+Liver1!D27+Liver2!D27+Liver3!D27+Liver4!D27+Liver5!D27+Lung1!D27+Lung2!D27+Lung3!D27+Lung4!D27+Lung5!D27+LungBrain1!D27+LungBrain2!D27+LungBrain3!D27+LungBrain4!D27+LungBrain5!D27 -> 2133 | E27: =Gastric2!E27+Gastric1!E27+Gastric3!E27+Gastric4!E27+Gastric5!E27+Glioma1!E27+Glioma2!E27+Glioma3!E27+Glioma4!E27+Glioma5!E27+Leukemia1!E27+Leukemia2!E27+Leukemia3!E27+Leukemia4!E27+Leukemia5!E27+Liver1!E27+Liver2!E27+Liver3!E27+Liver4!E27+Liver5!E27+Lung1!E27+Lung2!E27+Lung3!E27+Lung4!E27+Lung5!E27+LungBrain1!E27+LungBrain2!E27+LungBrain3!E27+LungBrain4!E27+LungBrain5!E27 -> 3766 | F27: =Gastric2!F27+Gastric1!F27+Gastric3!F27+Gastric4!F27+Gastric5!F27+Glioma1!F27+Glioma2!F27+Glioma3!F27+Glioma4!F27+Glioma5!F27+Leukemia1!F27+Leukemia2!F27+Leukemia3!F27+Leukemia4!F27+Leukemia5!F27+Liver1!F27+Liver2!F27+Liver3!F27+Liver4!F27+Liver5!F27+Lung1!F27+Lung2!F27+Lung3!F27+Lung4!F27+Lung5!F27+LungBrain1!F27+LungBrain2!F27+LungBrain3!F27+LungBrain4!F27+LungBrain5!F27 -> 284 | G27: =Gastric2!G27+Gastric1!G27+Gastric3!G27+Gastric4!G27+Gastric5!G27+Glioma1!G27+Glioma2!G27+Glioma3!G27+Glioma4!G27+Glioma5!G27+Leukemia1!G27+Leukemia2!G27+Leukemia3!G27+Leukemia4!G27+Leukemia5!G27+Liver1!G27+Liver2!G27+Liver3!G27+Liver4!G27+Liver5!G27+Lung1!G27+Lung2!G27+Lung3!G27+Lung4!G27+Lung5!G27+LungBrain1!G27+LungBrain2!G27+LungBrain3!G27+LungBrain4!G27+LungBrain5!G27 -> 226 | H27: =Gastric2!H27+Gastric1!H27+Gastric3!H27+Gastric4!H27+Gastric5!H27+Glioma1!H27+Glioma2!H27+Glioma3!H27+Glioma4!H27+Glioma5!H27+Leukemia1!H27+Leukemia2!H27+Leukemia3!H27+Leukemia4!H27+Leukemia5!H27+Liver1!H27+Liver2!H27+Liver3!H27+Liver4!H27+Liver5!H27+Lung1!H27+Lung2!H27+Lung3!H27+Lung4!H27+Lung5!H27+LungBrain1!H27+LungBrain2!H27+LungBrain3!H27+LungBrain4!H27+LungBrain5!H27 -> 58 | I27: =Gastric2!I27+Gastric1!I27+Gastric3!I27+Gastric4!I27+Gastric5!I27+Glioma1!I27+Glioma2!I27+Glioma3!I27+Glioma4!I27+Glioma5!I27+Leukemia1!I27+Leukemia2!I27+Leukemia3!I27+Leukemia4!I27+Leukemia5!I27+Liver1!I27+Liver2!I27+Liver3!I27+Liver4!I27+Liver5!I27+Lung1!I27+Lung2!I27+Lung3!I27+Lung4!I27+Lung5!I27+LungBrain1!I27+LungBrain2!I27+LungBrain3!I27+LungBrain4!I27+LungBrain5!I27 -> 311 | J27: =Gastric2!J27+Gastric1!J27+Gastric3!J27+Gastric4!J27+Gastric5!J27+Glioma1!J27+Glioma2!J27+Glioma3!J27+Glioma4!J27+Glioma5!J27+Leukemia1!J27+Leukemia2!J27+Leukemia3!J27+Leukemia4!J27+Leukemia5!J27+Liver1!J27+Liver2!J27+Liver3!J27+Liver4!J27+Liver5!J27+Lung1!J27+Lung2!J27+Lung3!J27+Lung4!J27+Lung5!J27+LungBrain1!J27+LungBrain2!J27+LungBrain3!J27+LungBrain4!J27+LungBrain5!J27 -> 253 | K27: =Gastric2!K27+Gastric1!K27+Gastric3!K27+Gastric4!K27+Gastric5!K27+Glioma1!K27+Glioma2!K27+Glioma3!K27+Glioma4!K27+Glioma5!K27+Leukemia1!K27+Leukemia2!K27+Leukemia3!K27+Leukemia4!K27+Leukemia5!K27+Liver1!K27+Liver2!K27+Liver3!K27+Liver4!K27+Liver5!K27+Lung1!K27+Lung2!K27+Lung3!K27+Lung4!K27+Lung5!K27+LungBrain1!K27+LungBrain2!K27+LungBrain3!K27+LungBrain4!K27+LungBrain5!K27 -> 58 | L27: =I27/B27*100000 -> 2.0445721
A28: ChrX | B28: =C28+D28+E28 -> 11366716 | C28: =Gastric2!C30+Gastric1!C30+Gastric3!C30+Gastric4!C30+Gastric5!C30+Glioma1!C28+Glioma2!C30+Glioma3!C30+Glioma4!C28+Glioma5!C30+Leukemia1!C28+Leukemia2!C28+Leukemia3!C30+Leukemia4!C28+Leukemia5!C30+Liver1!C28+Liver2!C30+Liver3!C30+Liver4!C30+Liver5!C30+Lung1!C30+Lung2!C30+Lung3!C28+Lung4!C30+Lung5!C28+LungBrain1!C30+LungBrain2!C30+LungBrain3!C28+LungBrain4!C30+LungBrain5!C30 -> 11364787 | D28: =Gastric2!D30+Gastric1!D30+Gastric3!D30+Gastric4!D30+Gastric5!D30+Glioma1!D28+Glioma2!D30+Glioma3!D30+Glioma4!D28+Glioma5!D30+Leukemia1!D28+Leukemia2!D28+Leukemia3!D30+Leukemia4!D28+Leukemia5!D30+Liver1!D28+Liver2!D30+Liver3!D30+Liver4!D30+Liver5!D30+Lung1!D30+Lung2!D30+Lung3!D28+Lung4!D30+Lung5!D28+LungBrain1!D30+LungBrain2!D30+LungBrain3!D28+LungBrain4!D30+LungBrain5!D30 -> 1434 | E28: =Gastric2!E30+Gastric1!E30+Gastric3!E30+Gastric4!E30+Gastric5!E30+Glioma1!E28+Glioma2!E30+Glioma3!E30+Glioma4!E28+Glioma5!E30+Leukemia1!E28+Leukemia2!E28+Leukemia3!E30+Leukemia4!E28+Leukemia5!E30+Liver1!E28+Liver2!E30+Liver3!E30+Liver4!E30+Liver5!E30+Lung1!E30+Lung2!E30+Lung3!E28+Lung4!E30+Lung5!E28+LungBrain1!E30+LungBrain2!E30+LungBrain3!E28+LungBrain4!E30+LungBrain5!E30 -> 495 | F28: =Gastric2!F30+Gastric1!F30+Gastric3!F30+Gastric4!F30+Gastric5!F30+Glioma1!F28+Glioma2!F30+Glioma3!F30+Glioma4!F28+Glioma5!F30+Leukemia1!F28+Leukemia2!F28+Leukemia3!F30+Leukemia4!F28+Leukemia5!F30+Liver1!F28+Liver2!F30+Liver3!F30+Liver4!F30+Liver5!F30+Lung1!F30+Lung2!F30+Lung3!F28+Lung4!F30+Lung5!F28+LungBrain1!F30+LungBrain2!F30+LungBrain3!F28+LungBrain4!F30+LungBrain5!F30 -> 76 | G28: =Gastric2!G30+Gastric1!G30+Gastric3!G30+Gastric4!G30+Gastric5!G30+Glioma1!G28+Glioma2!G30+Glioma3!G30+Glioma4!G28+Glioma5!G30+Leukemia1!G28+Leukemia2!G28+Leukemia3!G30+Leukemia4!G28+Leukemia5!G30+Liver1!G28+Liver2!G30+Liver3!G30+Liver4!G30+Liver5!G30+Lung1!G30+Lung2!G30+Lung3!G28+Lung4!G30+Lung5!G28+LungBrain1!G30+LungBrain2!G30+LungBrain3!G28+LungBrain4!G30+LungBrain5!G30 -> 65 | H28: =Gastric2!H30+Gastric1!H30+Gastric3!H30+Gastric4!H30+Gastric5!H30+Glioma1!H28+Glioma2!H30+Glioma3!H30+Glioma4!H28+Glioma5!H30+Leukemia1!H28+Leukemia2!H28+Leukemia3!H30+Leukemia4!H28+Leukemia5!H30+Liver1!H28+Liver2!H30+Liver3!H30+Liver4!H30+Liver5!H30+Lung1!H30+Lung2!H30+Lung3!H28+Lung4!H30+Lung5!H28+LungBrain1!H30+LungBrain2!H30+LungBrain3!H28+LungBrain4!H30+LungBrain5!H30 -> 11 | I28: =Gastric2!I30+Gastric1!I30+Gastric3!I30+Gastric4!I30+Gastric5!I30+Glioma1!I28+Glioma2!I30+Glioma3!I30+Glioma4!I28+Glioma5!I30+Leukemia1!I28+Leukemia2!I28+Leukemia3!I30+Leukemia4!I28+Leukemia5!I30+Liver1!I28+Liver2!I30+Liver3!I30+Liver4!I30+Liver5!I30+Lung1!I30+Lung2!I30+Lung3!I28+Lung4!I30+Lung5!I28+LungBrain1!I30+LungBrain2!I30+LungBrain3!I28+LungBrain4!I30+LungBrain5!I30 -> 18 | J28: =Gastric2!J30+Gastric1!J30+Gastric3!J30+Gastric4!J30+Gastric5!J30+Glioma1!J28+Glioma2!J30+Glioma3!J30+Glioma4!J28+Glioma5!J30+Leukemia1!J28+Leukemia2!J28+Leukemia3!J30+Leukemia4!J28+Leukemia5!J30+Liver1!J28+Liver2!J30+Liver3!J30+Liver4!J30+Liver5!J30+Lung1!J30+Lung2!J30+Lung3!J28+Lung4!J30+Lung5!J28+LungBrain1!J30+LungBrain2!J30+LungBrain3!J28+LungBrain4!J30+LungBrain5!J30 -> 18 | K28: =Gastric2!K30+Gastric1!K30+Gastric3!K30+Gastric4!K30+Gastric5!K30+Glioma1!K28+Glioma2!K30+Glioma3!K30+Glioma4!K28+Glioma5!K30+Leukemia1!K28+Leukemia2!K28+Leukemia3!K30+Leukemia4!K28+Leukemia5!K30+Liver1!K28+Liver2!K30+Liver3!K30+Liver4!K30+Liver5!K30+Lung1!K30+Lung2!K30+Lung3!K28+Lung4!K30+Lung5!K28+LungBrain1!K30+LungBrain2!K30+LungBrain3!K28+LungBrain4!K30+LungBrain5!K30 -> 0 | L28: =I28/B28*100000 -> 0.15835708
A30: a Figures for Chr 1-Chr 22 are drived from all 30 individual cancer samples, and figures for Chr X are derived form 9 female cancer samples, as given in Table 3.1-3.30.

Sheet Alu_Leukemia
A3: Table S3.32 Total number of genotypes and SNVs in leukemias analyzed by AluScana
A5: Chromosome | B5: Total captured sites | C5: MM | D5: mm | E5: Mm | F5: GOH | G5: GOH-M | H5: GOH-m | I5: LOH | J5: Mm->MM | K5: Mm->mm | L5: LOH / Total captured sites (×10-5)
A6: Chr1 | B6: 8242246 | C6: =Leukemia1!C6+Leukemia2!C6+Leukemia3!C6+Leukemia4!C6+Leukemia5!C6 -> 8239507 | D6: =Leukemia1!D6+Leukemia2!D6+Leukemia3!D6+Leukemia4!D6+Leukemia5!D6 -> 943 | E6: =Leukemia1!E6+Leukemia2!E6+Leukemia3!E6+Leukemia4!E6+Leukemia5!E6 -> 1796 | F6: =Leukemia1!F6+Leukemia2!F6+Leukemia3!F6+Leukemia4!F6+Leukemia5!F6 -> 13 | G6: =Leukemia1!G6+Leukemia2!G6+Leukemia3!G6+Leukemia4!G6+Leukemia5!G6 -> 12 | H6: =Leukemia1!H6+Leukemia2!H6+Leukemia3!H6+Leukemia4!H6+Leukemia5!H6 -> 1 | I6: =Leukemia1!I6+Leukemia2!I6+Leukemia3!I6+Leukemia4!I6+Leukemia5!I6 -> 9 | J6: =Leukemia1!J6+Leukemia2!J6+Leukemia3!J6+Leukemia4!J6+Leukemia5!J6 -> 6 | K6: =Leukemia1!K6+Leukemia2!K6+Leukemia3!K6+Leukemia4!K6+Leukemia5!K6 -> 3 | L6: =I6/B6*100000 -> 0.10919354
A7: Chr2 | B7: 5919699 | C7: =Leukemia1!C7+Leukemia2!C7+Leukemia3!C7+Leukemia4!C7+Leukemia5!C7 -> 5917578 | D7: =Leukemia1!D7+Leukemia2!D7+Leukemia3!D7+Leukemia4!D7+Leukemia5!D7 -> 817 | E7: =Leukemia1!E7+Leukemia2!E7+Leukemia3!E7+Leukemia4!E7+Leukemia5!E7 -> 1304 | F7: =Leukemia1!F7+Leukemia2!F7+Leukemia3!F7+Leukemia4!F7+Leukemia5!F7 -> 8 | G7: =Leukemia1!G7+Leukemia2!G7+Leukemia3!G7+Leukemia4!G7+Leukemia5!G7 -> 7 | H7: =Leukemia1!H7+Leukemia2!H7+Leukemia3!H7+Leukemia4!H7+Leukemia5!H7 -> 1 | I7: =Leukemia1!I7+Leukemia2!I7+Leukemia3!I7+Leukemia4!I7+Leukemia5!I7 -> 7 | J7: =Leukemia1!J7+Leukemia2!J7+Leukemia3!J7+Leukemia4!J7+Leukemia5!J7 -> 5 | K7: =Leukemia1!K7+Leukemia2!K7+Leukemia3!K7+Leukemia4!K7+Leukemia5!K7 -> 2 | L7: =I7/B7*100000 -> 0.11824926
A8: Chr3 | B8: 4946523 | C8: =Leukemia1!C8+Leukemia2!C8+Leukemia3!C8+Leukemia4!C8+Leukemia5!C8 -> 4944715 | D8: =Leukemia1!D8+Leukemia2!D8+Leukemia3!D8+Leukemia4!D8+Leukemia5!D8 -> 694 | E8: =Leukemia1!E8+Leukemia2!E8+Leukemia3!E8+Leukemia4!E8+Leukemia5!E8 -> 1114 | F8: =Leukemia1!F8+Leukemia2!F8+Leukemia3!F8+Leukemia4!F8+Leukemia5!F8 -> 6 | G8: =Leukemia1!G8+Leukemia2!G8+Leukemia3!G8+Leukemia4!G8+Leukemia5!G8 -> 5 | H8: =Leukemia1!H8+Leukemia2!H8+Leukemia3!H8+Leukemia4!H8+Leukemia5!H8 -> 1 | I8: =Leukemia1!I8+Leukemia2!I8+Leukemia3!I8+Leukemia4!I8+Leukemia5!I8 -> 8 | J8: =Leukemia1!J8+Leukemia2!J8+Leukemia3!J8+Leukemia4!J8+Leukemia5!J8 -> 8 | K8: =Leukemia1!K8+Leukemia2!K8+Leukemia3!K8+Leukemia4!K8+Leukemia5!K8 -> 0 | L8: =I8/B8*100000 -> 0.16172976
A9: Chr4 | B9: 3884348 | C9: =Leukemia1!C9+Leukemia2!C9+Leukemia3!C9+Leukemia4!C9+Leukemia5!C9 -> 3882851 | D9: =Leukemia1!D9+Leukemia2!D9+Leukemia3!D9+Leukemia4!D9+Leukemia5!D9 -> 657 | E9: =Leukemia1!E9+Leukemia2!E9+Leukemia3!E9+Leukemia4!E9+Leukemia5!E9 -> 840 | F9: =Leukemia1!F9+Leukemia2!F9+Leukemia3!F9+Leukemia4!F9+Leukemia5!F9 -> 12 | G9: =Leukemia1!G9+Leukemia2!G9+Leukemia3!G9+Leukemia4!G9+Leukemia5!G9 -> 9 | H9: =Leukemia1!H9+Leukemia2!H9+Leukemia3!H9+Leukemia4!H9+Leukemia5!H9 -> 3 | I9: =Leukemia1!I9+Leukemia2!I9+Leukemia3!I9+Leukemia4!I9+Leukemia5!I9 -> 3 | J9: =Leukemia1!J9+Leukemia2!J9+Leukemia3!J9+Leukemia4!J9+Leukemia5!J9 -> 3 | K9: =Leukemia1!K9+Leukemia2!K9+Leukemia3!K9+Leukemia4!K9+Leukemia5!K9 -> 0 | L9: =I9/B9*100000 -> 0.077233039
A10: Chr5 | B10: 3885510 | C10: =Leukemia1!C10+Leukemia2!C10+Leukemia3!C10+Leukemia4!C10+Leukemia5!C10 -> 3884218 | D10: =Leukemia1!D10+Leukemia2!D10+Leukemia3!D10+Leukemia4!D10+Leukemia5!D10 -> 474 | E10: =Leukemia1!E10+Leukemia2!E10+Leukemia3!E10+Leukemia4!E10+Leukemia5!E10 -> 818 | F10: =Leukemia1!F10+Leukemia2!F10+Leukemia3!F10+Leukemia4!F10+Leukemia5!F10 -> 3 | G10: =Leukemia1!G10+Leukemia2!G10+Leukemia3!G10+Leukemia4!G10+Leukemia5!G10 -> 3 | H10: =Leukemia1!H10+Leukemia2!H10+Leukemia3!H10+Leukemia4!H10+Leukemia5!H10 -> 0 | I10: =Leukemia1!I10+Leukemia2!I10+Leukemia3!I10+Leukemia4!I10+Leukemia5!I10 -> 4 | J10: =Leukemia1!J10+Leukemia2!J10+Leukemia3!J10+Leukemia4!J10+Leukemia5!J10 -> 3 | K10: =Leukemia1!K10+Leukemia2!K10+Leukemia3!K10+Leukemia4!K10+Leukemia5!K10 -> 1 | L10: =I10/B10*100000 -> 0.10294659
A11: Chr6 | B11: 4330871 | C11: =Leukemia1!C11+Leukemia2!C11+Leukemia3!C11+Leukemia4!C11+Leukemia5!C11 -> 4329124 | D11: =Leukemia1!D11+Leukemia2!D11+Leukemia3!D11+Leukemia4!D11+Leukemia5!D11 -> 691 | E11: =Leukemia1!E11+Leukemia2!E11+Leukemia3!E11+Leukemia4!E11+Leukemia5!E11 -> 1056 | F11: =Leukemia1!F11+Leukemia2!F11+Leukemia3!F11+Leukemia4!F11+Leukemia5!F11 -> 4 | G11: =Leukemia1!G11+Leukemia2!G11+Leukemia3!G11+Leukemia4!G11+Leukemia5!G11 -> 2 | H11: =Leukemia1!H11+Leukemia2!H11+Leukemia3!H11+Leukemia4!H11+Leukemia5!H11 -> 2 | I11: =Leukemia1!I11+Leukemia2!I11+Leukemia3!I11+Leukemia4!I11+Leukemia5!I11 -> 8 | J11: =Leukemia1!J11+Leukemia2!J11+Leukemia3!J11+Leukemia4!J11+Leukemia5!J11 -> 7 | K11: =Leukemia1!K11+Leukemia2!K11+Leukemia3!K11+Leukemia4!K11+Leukemia5!K11 -> 1 | L11: =I11/B11*100000 -> 0.18472035
A12: Chr7 | B12: 4997273 | C12: =Leukemia1!C12+Leukemia2!C12+Leukemia3!C12+Leukemia4!C12+Leukemia5!C12 -> 4995488 | D12: =Leukemia1!D12+Leukemia2!D12+Leukemia3!D12+Leukemia4!D12+Leukemia5!D12 -> 602 | E12: =Leukemia1!E12+Leukemia2!E12+Leukemia3!E12+Leukemia4!E12+Leukemia5!E12 -> 1183 | F12: =Leukemia1!F12+Leukemia2!F12+Leukemia3!F12+Leukemia4!F12+Leukemia5!F12 -> 12 | G12: =Leukemia1!G12+Leukemia2!G12+Leukemia3!G12+Leukemia4!G12+Leukemia5!G12 -> 12 | H12: =Leukemia1!H12+Leukemia2!H12+Leukemia3!H12+Leukemia4!H12+Leukemia5!H12 -> 0 | I12: =Leukemia1!I12+Leukemia2!I12+Leukemia3!I12+Leukemia4!I12+Leukemia5!I12 -> 7 | J12: =Leukemia1!J12+Leukemia2!J12+Leukemia3!J12+Leukemia4!J12+Leukemia5!J12 -> 7 | K12: =Leukemia1!K12+Leukemia2!K12+Leukemia3!K12+Leukemia4!K12+Leukemia5!K12 -> 0 | L12: =I12/B12*100000 -> 0.1400764
A13: Chr8 | B13: 3067716 | C13: =Leukemia1!C13+Leukemia2!C13+Leukemia3!C13+Leukemia4!C13+Leukemia5!C13 -> 3066419 | D13: =Leukemia1!D13+Leukemia2!D13+Leukemia3!D13+Leukemia4!D13+Leukemia5!D13 -> 486 | E13: =Leukemia1!E13+Leukemia2!E13+Leukemia3!E13+Leukemia4!E13+Leukemia5!E13 -> 811 | F13: =Leukemia1!F13+Leukemia2!F13+Leukemia3!F13+Leukemia4!F13+Leukemia5!F13 -> 6 | G13: =Leukemia1!G13+Leukemia2!G13+Leukemia3!G13+Leukemia4!G13+Leukemia5!G13 -> 5 | H13: =Leukemia1!H13+Leukemia2!H13+Leukemia3!H13+Leukemia4!H13+Leukemia5!H13 -> 1 | I13: =Leukemia1!I13+Leukemia2!I13+Leukemia3!I13+Leukemia4!I13+Leukemia5!I13 -> 2 | J13: =Leukemia1!J13+Leukemia2!J13+Leukemia3!J13+Leukemia4!J13+Leukemia5!J13 -> 2 | K13: =Leukemia1!K13+Leukemia2!K13+Leukemia3!K13+Leukemia4!K13+Leukemia5!K13 -> 0 | L13: =I13/B13*100000 -> 0.065195083
A14: Chr9 | B14: 3600617 | C14: =Leukemia1!C14+Leukemia2!C14+Leukemia3!C14+Leukemia4!C14+Leukemia5!C14 -> 3599258 | D14: =Leukemia1!D14+Leukemia2!D14+Leukemia3!D14+Leukemia4!D14+Leukemia5!D14 -> 524 | E14: =Leukemia1!E14+Leukemia2!E14+Leukemia3!E14+Leukemia4!E14+Leukemia5!E14 -> 835 | F14: =Leukemia1!F14+Leukemia2!F14+Leukemia3!F14+Leukemia4!F14+Leukemia5!F14 -> 4 | G14: =Leukemia1!G14+Leukemia2!G14+Leukemia3!G14+Leukemia4!G14+Leukemia5!G14 -> 2 | H14: =Leukemia1!H14+Leukemia2!H14+Leukemia3!H14+Leukemia4!H14+Leukemia5!H14 -> 2 | I14: =Leukemia1!I14+Leukemia2!I14+Leukemia3!I14+Leukemia4!I14+Leukemia5!I14 -> 4 | J14: =Leukemia1!J14+Leukemia2!J14+Leukemia3!J14+Leukemia4!J14+Leukemia5!J14 -> 4 | K14: =Leukemia1!K14+Leukemia2!K14+Leukemia3!K14+Leukemia4!K14+Leukemia5!K14 -> 0 | L14: =I14/B14*100000 -> 0.11109207
A15: Chr10 | B15: 4130977 | C15: =Leukemia1!C15+Leukemia2!C15+Leukemia3!C15+Leukemia4!C15+Leukemia5!C15 -> 4129415 | D15: =Leukemia1!D15+Leukemia2!D15+Leukemia3!D15+Leukemia4!D15+Leukemia5!D15 -> 637 | E15: =Leukemia1!E15+Leukemia2!E15+Leukemia3!E15+Leukemia4!E15+Leukemia5!E15 -> 925 | F15: =Leukemia1!F15+Leukemia2!F15+Leukemia3!F15+Leukemia4!F15+Leukemia5!F15 -> 5 | G15: =Leukemia1!G15+Leukemia2!G15+Leukemia3!G15+Leukemia4!G15+Leukemia5!G15 -> 5 | H15: =Leukemia1!H15+Leukemia2!H15+Leukemia3!H15+Leukemia4!H15+Leukemia5!H15 -> 0 | I15: =Leukemia1!I15+Leukemia2!I15+Leukemia3!I15+Leukemia4!I15+Leukemia5!I15 -> 6 | J15: =Leukemia1!J15+Leukemia2!J15+Leukemia3!J15+Leukemia4!J15+Leukemia5!J15 -> 6 | K15: =Leukemia1!K15+Leukemia2!K15+Leukemia3!K15+Leukemia4!K15+Leukemia5!K15 -> 0 | L15: =I15/B15*100000 -> 0.14524409
A16: Chr11 | B16: 3744712 | C16: =Leukemia1!C16+Leukemia2!C16+Leukemia3!C16+Leukemia4!C16+Leukemia5!C16 -> 3743442 | D16: =Leukemia1!D16+Leukemia2!D16+Leukemia3!D16+Leukemia4!D16+Leukemia5!D16 -> 504 | E16: =Leukemia1!E16+Leukemia2!E16+Leukemia3!E16+Leukemia4!E16+Leukemia5!E16 -> 766 | F16: =Leukemia1!F16+Leukemia2!F16+Leukemia3!F16+Leukemia4!F16+Leukemia5!F16 -> 2 | G16: =Leukemia1!G16+Leukemia2!G16+Leukemia3!G16+Leukemia4!G16+Leukemia5!G16 -> 2 | H16: =Leukemia1!H16+Leukemia2!H16+Leukemia3!H16+Leukemia4!H16+Leukemia5!H16 -> 0 | I16: =Leukemia1!I16+Leukemia2!I16+Leukemia3!I16+Leukemia4!I16+Leukemia5!I16 -> 2 | J16: =Leukemia1!J16+Leukemia2!J16+Leukemia3!J16+Leukemia4!J16+Leukemia5!J16 -> 2 | K16: =Leukemia1!K16+Leukemia2!K16+Leukemia3!K16+Leukemia4!K16+Leukemia5!K16 -> 0 | L16: =I16/B16*100000 -> 0.053408647
A17: Chr12 | B17: 4609213 | C17: =Leukemia1!C17+Leukemia2!C17+Leukemia3!C17+Leukemia4!C17+Leukemia5!C17 -> 4607589 | D17: =Leukemia1!D17+Leukemia2!D17+Leukemia3!D17+Leukemia4!D17+Leukemia5!D17 -> 667 | E17: =Leukemia1!E17+Leukemia2!E17+Leukemia3!E17+Leukemia4!E17+Leukemia5!E17 -> 957 | F17: =Leukemia1!F17+Leukemia2!F17+Leukemia3!F17+Leukemia4!F17+Leukemia5!F17 -> 6 | G17: =Leukemia1!G17+Leukemia2!G17+Leukemia3!G17+Leukemia4!G17+Leukemia5!G17 -> 6 | H17: =Leukemia1!H17+Leukemia2!H17+Leukemia3!H17+Leukemia4!H17+Leukemia5!H17 -> 0 | I17: =Leukemia1!I17+Leukemia2!I17+Leukemia3!I17+Leukemia4!I17+Leukemia5!I17 -> 8 | J17: =Leukemia1!J17+Leukemia2!J17+Leukemia3!J17+Leukemia4!J17+Leukemia5!J17 -> 7 | K17: =Leukemia1!K17+Leukemia2!K17+Leukemia3!K17+Leukemia4!K17+Leukemia5!K17 -> 1 | L17: =I17/B17*100000 -> 0.17356542
... A27: Chr22 | B27: 2545749 | C27: =Leukemia1!C27+Leukemia2!C27+Leukemia3!C27+Leukemia4!C27+Leukemia5!C27 -> 2544951 | D27: =Leukemia1!D27+Leukemia2!D27+Leukemia3!D27+Leukemia4!D27+Leukemia5!D27 -> 238 | E27: =Leukemia1!E27+Leukemia2!E27+Leukemia3!E27+Leukemia4!E27+Leukemia5!E27 -> 560 | F27: =Leukemia1!F27+Leukemia2!F27+Leukemia3!F27+Leukemia4!F27+Leukemia5!F27 -> 8 | G27: =Leukemia1!G27+Leukemia2!G27+Leukemia3!G27+Leukemia4!G27+Leukemia5!G27 -> 4 | H27: =Leukemia1!H27+Leukemia2!H27+Leukemia3!H27+Leukemia4!H27+Leukemia5!H27 -> 4 | I27: =Leukemia1!I27+Leukemia2!I27+Leukemia3!I27+Leukemia4!I27+Leukemia5!I27 -> 3 | J27: =Leukemia1!J27+Leukemia2!J27+Leukemia3!J27+Leukemia4!J27+Leukemia5!J27 -> 3 | K27: =Leukemia1!K27+Leukemia2!K27+Leukemia3!K27+Leukemia4!K27+Leukemia5!K27 -> 0 | L27: =I27/B27*100000 -> 0.11784351
A28: ChrX | B28: 2594308 | C28: =Leukemia1!C28+Leukemia2!C28+Leukemia3!C30+Leukemia4!C28+Leukemia5!C30 -> 2593760 | D28: =Leukemia1!D28+Leukemia2!D28+Leukemia3!D30+Leukemia4!D28+Leukemia5!D30 -> 291 | E28: =Leukemia1!E28+Leukemia2!E28+Leukemia3!E30+Leukemia4!E28+Leukemia5!E30 -> 257 | F28: =Leukemia1!F28+Leukemia2!F28+Leukemia3!F30+Leukemia4!F28+Leukemia5!F30 -> 1 | G28: =Leukemia1!G28+Leukemia2!G28+Leukemia3!G30+Leukemia4!G28+Leukemia5!G30 -> 1 | H28: =Leukemia1!H28+Leukemia2!H28+Leukemia3!H30+Leukemia4!H28+Leukemia5!H30 -> 0 | I28: =Leukemia1!I28+Leukemia2!I28+Leukemia3!I30+Leukemia4!I28+Leukemia5!I30 -> 4 | J28: =Leukemia1!J28+Leukemia2!J28+Leukemia3!J30+Leukemia4!J28+Leukemia5!J30 -> 4 | K28: =Leukemia1!K28+Leukemia2!K28+Leukemia3!K30+Leukemia4!K28+Leukemia5!K30 -> 0 | L28: =I28/B28*100000 -> 0.1541837
A30: a Figures for Chr 1-Chr 22 are drived from five leukemias, and figures for Chr X are derived form 3 female leukemias, as given in Table 3.11-3.15.

Sheet Alu_Solid
A3: Table S3.33 Total number of genotypes and SNVs in solid tumors analyzed by AluScana
A5: Chromosome | B5: Total captured sites | C5: MM | D5: mm | E5: Mm | F5: GOH | G5: GOH-M | H5: GOH-m | I5: LOH | J5: Mm->MM | K5: Mm->mm | L5: LOH / Total captured sites (×10-5)
A6: Chr1 | B6: =C6+D6+E6 -> 37942365 | C6: =Gastric2!C6+Gastric1!C6+Gastric3!C6+Gastric4!C6+Gastric5!C6+Glioma1!C6+Glioma2!C6+Glioma3!C6+Glioma4!C6+Glioma5!C6+Liver1!C6+Liver2!C6+Liver3!C6+Liver4!C6+Liver5!C6+Lung1!C6+Lung2!C6+Lung3!C6+Lung4!C6+Lung5!C6+LungBrain1!C6+LungBrain2!C6+LungBrain3!C6+LungBrain4!C6+LungBrain5!C6 -> 37927460 | D6: =Gastric2!D6+Gastric1!D6+Gastric3!D6+Gastric4!D6+Gastric5!D6+Glioma1!D6+Glioma2!D6+Glioma3!D6+Glioma4!D6+Glioma5!D6+Liver1!D6+Liver2!D6+Liver3!D6+Liver4!D6+Liver5!D6+Lung1!D6+Lung2!D6+Lung3!D6+Lung4!D6+Lung5!D6+LungBrain1!D6+LungBrain2!D6+LungBrain3!D6+LungBrain4!D6+LungBrain5!D6 -> 6144 | E6: =Gastric2!E6+Gastric1!E6+Gastric3!E6+Gastric4!E6+Gastric5!E6+Glioma1!E6+Glioma2!E6+Glioma3!E6+Glioma4!E6+Glioma5!E6+Liver1!E6+Liver2!E6+Liver3!E6+Liver4!E6+Liver5!E6+Lung1!E6+Lung2!E6+Lung3!E6+Lung4!E6+Lung5!E6+LungBrain1!E6+LungBrain2!E6+LungBrain3!E6+LungBrain4!E6+LungBrain5!E6 -> 8761 | F6: =Gastric2!F6+Gastric1!F6+Gastric3!F6+Gastric4!F6+Gastric5!F6+Glioma1!F6+Glioma2!F6+Glioma3!F6+Glioma4!F6+Glioma5!F6+Liver1!F6+Liver2!F6+Liver3!F6+Liver4!F6+Liver5!F6+Lung1!F6+Lung2!F6+Lung3!F6+Lung4!F6+Lung5!F6+LungBrain1!F6+LungBrain2!F6+LungBrain3!F6+LungBrain4!F6+LungBrain5!F6 -> 716 | G6: =Gastric2!G6+Gastric1!G6+Gastric3!G6+Gastric4!G6+Gastric5!G6+Glioma1!G6+Glioma2!G6+Glioma3!G6+Glioma4!G6+Glioma5!G6+Liver1!G6+Liver2!G6+Liver3!G6+Liver4!G6+Liver5!G6+Lung1!G6+Lung2!G6+Lung3!G6+Lung4!G6+Lung5!G6+LungBrain1!G6+LungBrain2!G6+LungBrain3!G6+LungBrain4!G6+LungBrain5!G6 -> 603 | H6: =Gastric2!H6+Gastric1!H6+Gastric3!H6+Gastric4!H6+Gastric5!H6+Glioma1!H6+Glioma2!H6+Glioma3!H6+Glioma4!H6+Glioma5!H6+Liver1!H6+Liver2!H6+Liver3!H6+Liver4!H6+Liver5!H6+Lung1!H6+Lung2!H6+Lung3!H6+Lung4!H6+Lung5!H6+LungBrain1!H6+LungBrain2!H6+LungBrain3!H6+LungBrain4!H6+LungBrain5!H6 -> 113 | I6: =Gastric2!I6+Gastric1!I6+Gastric3!I6+Gastric4!I6+Gastric5!I6+Glioma1!I6+Glioma2!I6+Glioma3!I6+Glioma4!I6+Glioma5!I6+Liver1!I6+Liver2!I6+Liver3!I6+Liver4!I6+Liver5!I6+Lung1!I6+Lung2!I6+Lung3!I6+Lung4!I6+Lung5!I6+LungBrain1!I6+LungBrain2!I6+LungBrain3!I6+LungBrain4!I6+LungBrain5!I6 -> 731 | J6: =Gastric2!J6+Gastric1!J6+Gastric3!J6+Gastric4!J6+Gastric5!J6+Glioma1!J6+Glioma2!J6+Glioma3!J6+Glioma4!J6+Glioma5!J6+Liver1!J6+Liver2!J6+Liver3!J6+Liver4!J6+Liver5!J6+Lung1!J6+Lung2!J6+Lung3!J6+Lung4!J6+Lung5!J6+LungBrain1!J6+LungBrain2!J6+LungBrain3!J6+LungBrain4!J6+LungBrain5!J6 -> 574 | K6: =Gastric2!K6+Gastric1!K6+Gastric3!K6+Gastric4!K6+Gastric5!K6+Glioma1!K6+Glioma2!K6+Glioma3!K6+Glioma4!K6+Glioma5!K6+Liver1!K6+Liver2!K6+Liver3!K6+Liver4!K6+Liver5!K6+Lung1!K6+Lung2!K6+Lung3!K6+Lung4!K6+Lung5!K6+LungBrain1!K6+LungBrain2!K6+LungBrain3!K6+LungBrain4!K6+LungBrain5!K6 -> 157 | L6: =I6/B6*100000 -> 1.9266063
A7: Chr2 | B7: =C7+D7+E7 -> 25328103 | C7: =Gastric2!C7+Gastric1!C7+Gastric3!C7+Gastric4!C7+Gastric5!C7+Glioma1!C7+Glioma2!C7+Glioma3!C7+Glioma4!C7+Glioma5!C7+Liver1!C7+Liver2!C7+Liver3!C7+Liver4!C7+Liver5!C7+Lung1!C7+Lung2!C7+Lung3!C7+Lung4!C7+Lung5!C7+LungBrain1!C7+LungBrain2!C7+LungBrain3!C7+LungBrain4!C7+LungBrain5!C7 -> 25317101 | D7: =Gastric2!D7+Gastric1!D7+Gastric3!D7+Gastric4!D7+Gastric5!D7+Glioma1!D7+Glioma2!D7+Glioma3!D7+Glioma4!D7+Glioma5!D7+Liver1!D7+Liver2!D7+Liver3!D7+Liver4!D7+Liver5!D7+Lung1!D7+Lung2!D7+Lung3!D7+Lung4!D7+Lung5!D7+LungBrain1!D7+LungBrain2!D7+LungBrain3!D7+LungBrain4!D7+LungBrain5!D7 -> 4725 | E7: =Gastric2!E7+Gastric1!E7+Gastric3!E7+Gastric4!E7+Gastric5!E7+Glioma1!E7+Glioma2!E7+Glioma3!E7+Glioma4!E7+Glioma5!E7+Liver1!E7+Liver2!E7+Liver3!E7+Liver4!E7+Liver5!E7+Lung1!E7+Lung2!E7+Lung3!E7+Lung4!E7+Lung5!E7+LungBrain1!E7+LungBrain2!E7+LungBrain3!E7+LungBrain4!E7+LungBrain5!E7 -> 6277 | F7: =Gastric2!F7+Gastric1!F7+Gastric3!F7+Gastric4!F7+Gastric5!F7+Glioma1!F7+Glioma2!F7+Glioma3!F7+Glioma4!F7+Glioma5!F7+Liver1!F7+Liver2!F7+Liver3!F7+Liver4!F7+Liver5!F7+Lung1!F7+Lung2!F7+Lung3!F7+Lung4!F7+Lung5!F7+LungBrain1!F7+LungBrain2!F7+LungBrain3!F7+LungBrain4!F7+LungBrain5!F7 -> 438 | G7: =Gastric2!G7+Gastric1!G7+Gastric3!G7+Gastric4!G7+Gastric5!G7+Glioma1!G7+Glioma2!G7+Glioma3!G7+Glioma4!G7+Glioma5!G7+Liver1!G7+Liver2!G7+Liver3!G7+Liver4!G7+Liver5!G7+Lung1!G7+Lung2!G7+Lung3!G7+Lung4!G7+Lung5!G7+LungBrain1!G7+LungBrain2!G7+LungBrain3!G7+LungBrain4!G7+LungBrain5!G7 -> 344 | H7: =Gastric2!H7+Gastric1!H7+Gastric3!H7+Gastric4!H7+Gastric5!H7+Glioma1!H7+Glioma2!H7+Glioma3!H7+Glioma4!H7+Glioma5!H7+Liver1!H7+Liver2!H7+Liver3!H7+Liver4!H7+Liver5!H7+Lung1!H7+Lung2!H7+Lung3!H7+Lung4!H7+Lung5!H7+LungBrain1!H7+LungBrain2!H7+LungBrain3!H7+LungBrain4!H7+LungBrain5!H7 -> 94 | I7: =Gastric2!I7+Gastric1!I7+Gastric3!I7+Gastric4!I7+Gastric5!I7+Glioma1!I7+Glioma2!I7+Glioma3!I7+Glioma4!I7+Glioma5!I7+Liver1!I7+Liver2!I7+Liver3!I7+Liver4!I7+Liver5!I7+Lung1!I7+Lung2!I7+Lung3!I7+Lung4!I7+Lung5!I7+LungBrain1!I7+LungBrain2!I7+LungBrain3!I7+LungBrain4!I7+LungBrain5!I7 -> 448 | J7: =Gastric2!J7+Gastric1!J7+Gastric3!J7+Gastric4!J7+Gastric5!J7+Glioma1!J7+Glioma2!J7+Glioma3!J7+Glioma4!J7+Glioma5!J7+Liver1!J7+Liver2!J7+Liver3!J7+Liver4!J7+Liver5!J7+Lung1!J7+Lung2!J7+Lung3!J7+Lung4!J7+Lung5!J7+LungBrain1!J7+LungBrain2!J7+LungBrain3!J7+LungBrain4!J7+LungBrain5!J7 -> 354 | K7: =Gastric2!K7+Gastric1!K7+Gastric3!K7+Gastric4!K7+Gastric5!K7+Glioma1!K7+Glioma2!K7+Glioma3!K7+Glioma4!K7+Glioma5!K7+Liver1!K7+Liver2!K7+Liver3!K7+Liver4!K7+Liver5!K7+Lung1!K7+Lung2!K7+Lung3!K7+Lung4!K7+Lung5!K7+LungBrain1!K7+LungBrain2!K7+LungBrain3!K7+LungBrain4!K7+LungBrain5!K7 -> 94 | L7: =I7/B7*100000 -> 1.7687862
A8: Chr3 | B8: =C8+D8+E8 -> 21294766 | C8: =Gastric2!C8+Gastric1!C8+Gastric3!C8+Gastric4!C8+Gastric5!C8+Glioma1!C8+Glioma2!C8+Glioma3!C8+Glioma4!C8+Glioma5!C8+Liver1!C8+Liver2!C8+Liver3!C8+Liver4!C8+Liver5!C8+Lung1!C8+Lung2!C8+Lung3!C8+Lung4!C8+Lung5!C8+LungBrain1!C8+LungBrain2!C8+LungBrain3!C8+LungBrain4!C8+LungBrain5!C8 -> 21285533 | D8: =Gastric2!D8+Gastric1!D8+Gastric3!D8+Gastric4!D8+Gastric5!D8+Glioma1!D8+Glioma2!D8+Glioma3!D8+Glioma4!D8+Glioma5!D8+Liver1!D8+Liver2!D8+Liver3!D8+Liver4!D8+Liver5!D8+Lung1!D8+Lung2!D8+Lung3!D8+Lung4!D8+Lung5!D8+LungBrain1!D8+LungBrain2!D8+LungBrain3!D8+LungBrain4!D8+LungBrain5!D8 -> 4224 | E8: =Gastric2!E8+Gastric1!E8+Gastric3!E8+Gastric4!E8+Gastric5!E8+Glioma1!E8+Glioma2!E8+Glioma3!E8+Glioma4!E8+Glioma5!E8+Liver1!E8+Liver2!E8+Liver3!E8+Liver4!E8+Liver5!E8+Lung1!E8+Lung2!E8+Lung3!E8+Lung4!E8+Lung5!E8+LungBrain1!E8+LungBrain2!E8+LungBrain3!E8+LungBrain4!E8+LungBrain5!E8 -> 5009 | F8: =Gastric2!F8+Gastric1!F8+Gastric3!F8+Gastric4!F8+Gastric5!F8+Glioma1!F8+Glioma2!F8+Glioma3!F8+Glioma4!F8+Glioma5!F8+Liver1!F8+Liver2!F8+Liver3!F8+Liver4!F8+Liver5!F8+Lung1!F8+Lung2!F8+Lung3!F8+Lung4!F8+Lung5!F8+LungBrain1!F8+LungBrain2!F8+LungBrain3!F8+LungBrain4!F8+LungBrain5!F8 -> 370 | G8: =Gastric2!G8+Gastric1!G8+Gastric3!G8+Gastric4!G8+Gastric5!G8+Glioma1!G8+Glioma2!G8+Glioma3!G8+Glioma4!G8+Glioma5!G8+Liver1!G8+Liver2!G8+Liver3!G8+Liver4!G8+Liver5!G8+Lung1!G8+Lung2!G8+Lung3!G8+Lung4!G8+Lung5!G8+LungBrain1!G8+LungBrain2!G8+LungBrain3!G8+LungBrain4!G8+LungBrain5!G8 -> 295 | H8: =Gastric2!H8+Gastric1!H8+Gastric3!H8+Gastric4!H8+Gastric5!H8+Glioma1!H8+Glioma2!H8+Glioma3!H8+Glioma4!H8+Glioma5!H8+Liver1!H8+Liver2!H8+Liver3!H8+Liver4!H8+Liver5!H8+Lung1!H8+Lung2!H8+Lung3!H8+Lung4!H8+Lung5!H8+LungBrain1!H8+LungBrain2!H8+LungBrain3!H8+LungBrain4!H8+LungBrain5!H8 -> 75 | I8: =Gastric2!I8+Gastric1!I8+Gastric3!I8+Gastric4!I8+Gastric5!I8+Glioma1!I8+Glioma2!I8+Glioma3!I8+Glioma4!I8+Glioma5!I8+Liver1!I8+Liver2!I8+Liver3!I8+Liver4!I8+Liver5!I8+Lung1!I8+Lung2!I8+Lung3!I8+Lung4!I8+Lung5!I8+LungBrain1!I8+LungBrain2!I8+LungBrain3!I8+LungBrain4!I8+LungBrain5!I8 -> 398 | J8: =Gastric2!J8+Gastric1!J8+Gastric3!J8+Gastric4!J8+Gastric5!J8+Glioma1!J8+Glioma2!J8+Glioma3!J8+Glioma4!J8+Glioma5!J8+Liver1!J8+Liver2!J8+Liver3!J8+Liver4!J8+Liver5!J8+Lung1!J8+Lung2!J8+Lung3!J8+Lung4!J8+Lung5!J8+LungBrain1!J8+LungBrain2!J8+LungBrain3!J8+LungBrain4!J8+LungBrain5!J8 -> 316 | K8: =Gastric2!K8+Gastric1!K8+Gastric3!K8+Gastric4!K8+Gastric5!K8+Glioma1!K8+Glioma2!K8+Glioma3!K8+Glioma4!K8+Glioma5!K8+Liver1!K8+Liver2!K8+Liver3!K8+Liver4!K8+Liver5!K8+Lung1!K8+Lung2!K8+Lung3!K8+Lung4!K8+Lung5!K8+LungBrain1!K8+LungBrain2!K8+LungBrain3!K8+LungBrain4!K8+LungBrain5!K8 -> 82 | L8: =I8/B8*100000 -> 1.8690039
A9: Chr4 | B9: =C9+D9+E9 -> 14916257 | C9: =Gastric2!C9+Gastric1!C9+Gastric3!C9+Gastric4!C9+Gastric5!C9+Glioma1!C9+Glioma2!C9+Glioma3!C9+Glioma4!C9+Glioma5!C9+Liver1!C9+Liver2!C9+Liver3!C9+Liver4!C9+Liver5!C9+Lung1!C9+Lung2!C9+Lung3!C9+Lung4!C9+Lung5!C9+LungBrain1!C9+LungBrain2!C9+LungBrain3!C9+LungBrain4!C9+LungBrain5!C9 -> 14909205 | D9: =Gastric2!D9+Gastric1!D9+Gastric3!D9+Gastric4!D9+Gastric5!D9+Glioma1!D9+Glioma2!D9+Glioma3!D9+Glioma4!D9+Glioma5!D9+Liver1!D9+Liver2!D9+Liver3!D9+Liver4!D9+Liver5!D9+Lung1!D9+Lung2!D9+Lung3!D9+Lung4!D9+Lung5!D9+LungBrain1!D9+LungBrain2!D9+LungBrain3!D9+LungBrain4!D9+LungBrain5!D9 -> 3225 | E9: =Gastric2!E9+Gastric1!E9+Gastric3!E9+Gastric4!E9+Gastric5!E9+Glioma1!E9+Glioma2!E9+Glioma3!E9+Glioma4!E9+Glioma5!E9+Liver1!E9+Liver2!E9+Liver3!E9+Liver4!E9+Liver5!E9+Lung1!E9+Lung2!E9+Lung3!E9+Lung4!E9+Lung5!E9+LungBrain1!E9+LungBrain2!E9+LungBrain3!E9+LungBrain4!E9+LungBrain5!E9 -> 3827 | F9: =Gastric2!F9+Gastric1!F9+Gastric3!F9+Gastric4!F9+Gastric5!F9+Glioma1!F9+Glioma2!F9+Glioma3!F9+Glioma4!F9+Glioma5!F9+Liver1!F9+Liver2!F9+Liver3!F9+Liver4!F9+Liver5!F9+Lung1!F9+Lung2!F9+Lung3!F9+Lung4!F9+Lung5!F9+LungBrain1!F9+LungBrain2!F9+LungBrain3!F9+LungBrain4!F9+LungBrain5!F9 -> 311 | G9: =Gastric2!G9+Gastric1!G9+Gastric3!G9+Gastric4!G9+Gastric5!G9+Glioma1!G9+Glioma2!G9+Glioma3!G9+Glioma4!G9+Glioma5!G9+Liver1!G9+Liver2!G9+Liver3!G9+Liver4!G9+Liver5!G9+Lung1!G9+Lung2!G9+Lung3!G9+Lung4!G9+Lung5!G9+LungBrain1!G9+LungBrain2!G9+LungBrain3!G9+LungBrain4!G9+LungBrain5!G9 -> 253 | H9: =Gastric2!H9+Gastric1!H9+Gastric3!H9+Gastric4!H9+Gastric5!H9+Glioma1!H9+Glioma2!H9+Glioma3!H9+Glioma4!H9+Glioma5!H9+Liver1!H9+Liver2!H9+Liver3!H9+Liver4!H9+Liver5!H9+Lung1!H9+Lung2!H9+Lung3!H9+Lung4!H9+Lung5!H9+LungBrain1!H9+LungBrain2!H9+LungBrain3!H9+LungBrain4!H9+LungBrain5!H9 -> 58 | I9: =Gastric2!I9+Gastric1!I9+Gastric3!I9+Gastric4!I9+Gastric5!I9+Glioma1!I9+Glioma2!I9+Glioma3!I9+Glioma4!I9+Glioma5!I9+Liver1!I9+Liver2!I9+Liver3!I9+Liver4!I9+Liver5!I9+Lung1!I9+Lung2!I9+Lung3!I9+Lung4!I9+Lung5!I9+LungBrain1!I9+LungBrain2!I9+LungBrain3!I9+LungBrain4!I9+LungBrain5!I9 -> 341 | J9: =Gastric2!J9+Gastric1!J9+Gastric3!J9+Gastric4!J9+Gastric5!J9+Glioma1!J9+Glioma2!J9+Glioma3!J9+Glioma4!J9+Glioma5!J9+Liver1!J9+Liver2!J9+Liver3!J9+Liver4!J9+Liver5!J9+Lung1!J9+Lung2!J9+Lung3!J9+Lung4!J9+Lung5!J9+LungBrain1!J9+LungBrain2!J9+LungBrain3!J9+LungBrain4!J9+LungBrain5!J9 -> 270 | K9: =Gastric2!K9+Gastric1!K9+Gastric3!K9+Gastric4!K9+Gastric5!K9+Glioma1!K9+Glioma2!K9+Glioma3!K9+Glioma4!K9+Glioma5!K9+Liver1!K9+Liver2!K9+Liver3!K9+Liver4!K9+Liver5!K9+Lung1!K9+Lung2!K9+Lung3!K9+Lung4!K9+Lung5!K9+LungBrain1!K9+LungBrain2!K9+LungBrain3!K9+LungBrain4!K9+LungBrain5!K9 -> 71 | L9: =I9/B9*100000 -> 2.2860963
A10: Chr5 | B10: =C10+D10+E10 -> 16691400 | C10: =Gastric2!C10+Gastric1!C10+Gastric3!C10+Gastric4!C10+Gastric5!C10+Glioma1!C10+Glioma2!C10+Glioma3!C10+Glioma4!C10+Glioma5!C10+Liver1!C10+Liver2!C10+Liver3!C10+Liver4!C10+Liver5!C10+Lung1!C10+Lung2!C10+Lung3!C10+Lung4!C10+Lung5!C10+LungBrain1!C10+LungBrain2!C10+LungBrain3!C10+LungBrain4!C10+LungBrain5!C10 -> 16684331 | D10: =Gastric2!D10+Gastric1!D10+Gastric3!D10+Gastric4!D10+Gastric5!D10+Glioma1!D10+Glioma2!D10+Glioma3!D10+Glioma4!D10+Glioma5!D10+Liver1!D10+Liver2!D10+Liver3!D10+Liver4!D10+Liver5!D10+Lung1!D10+Lung2!D10+Lung3!D10+Lung4!D10+Lung5!D10+LungBrain1!D10+LungBrain2!D10+LungBrain3!D10+LungBrain4!D10+LungBrain5!D10 -> 2954 | E10: =Gastric2!E10+Gastric1!E10+Gastric3!E10+Gastric4!E10+Gastric5!E10+Glioma1!E10+Glioma2!E10+Glioma3!E10+Glioma4!E10+Glioma5!E10+Liver1!E10+Liver2!E10+Liver3!E10+Liver4!E10+Liver5!E10+Lung1!E10+Lung2!E10+Lung3!E10+Lung4!E10+Lung5!E10+LungBrain1!E10+LungBrain2!E10+LungBrain3!E10+LungBrain4!E10+LungBrain5!E10 -> 4115 | F10: =Gastric2!F10+Gastric1!F10+Gastric3!F10+Gastric4!F10+Gastric5!F10+Glioma1!F10+Glioma2!F10+Glioma3!F10+Glioma4!F10+Glioma5!F10+Liver1!F10+Liver2!F10+Liver3!F10+Liver4!F10+Liver5!F10+Lung1!F10+Lung2!F10+Lung3!F10+Lung4!F10+Lung5!F10+LungBrain1!F10+LungBrain2!F10+LungBrain3!F10+LungBrain4!F10+LungBrain5!F10 -> 323 | G10: =Gastric2!G10+Gastric1!G10+Gastric3!G10+Gastric4!G10+Gastric5!G10+Glioma1!G10+Glioma2!G10+Glioma3!G10+Glioma4!G10+Glioma5!G10+Liver1!G10+Liver2!G10+Liver3!G10+Liver4!G10+Liver5!G10+Lung1!G10+Lung2!G10+Lung3!G10+Lung4!G10+Lung5!G10+LungBrain1!G10+LungBrain2!G10+LungBrain3!G10+LungBrain4!G10+LungBrain5!G10 -> 265 | H10: =Gastric2!H10+Gastric1!H10+Gastric3!H10+Gastric4!H10+Gastric5!H10+Glioma1!H10+Glioma2!H10+Glioma3!H10+Glioma4!H10+Glioma5!H10+Liver1!H10+Liver2!H10+Liver3!H10+Liver4!H10+Liver5!H10+Lung1!H10+Lung2!H10+Lung3!H10+Lung4!H10+Lung5!H10+LungBrain1!H10+LungBrain2!H10+LungBrain3!H10+LungBrain4!H10+LungBrain5!H10 -> 58 | I10: =Gastric2!I10+Gastric1!I10+Gastric3!I10+Gastric4!I10+Gastric5!I10+Glioma1!I10+Glioma2!I10+Glioma3!I10+Glioma4!I10+Glioma5!I10+Liver1!I10+Liver2!I10+Liver3!I10+Liver4!I10+Liver5!I10+Lung1!I10+Lung2!I10+Lung3!I10+Lung4!I10+Lung5!I10+LungBrain1!I10+LungBrain2!I10+LungBrain3!I10+LungBrain4!I10+LungBrain5!I10 -> 373 | J10: =Gastric2!J10+Gastric1!J10+Gastric3!J10+Gastric4!J10+Gastric5!J10+Glioma1!J10+Glioma2!J10+Glioma3!J10+Glioma4!J10+Glioma5!J10+Liver1!J10+Liver2!J10+Liver3!J10+Liver4!J10+Liver5!J10+Lung1!J10+Lung2!J10+Lung3!J10+Lung4!J10+Lung5!J10+LungBrain1!J10+LungBrain2!J10+LungBrain3!J10+LungBrain4!J10+LungBrain5!J10 -> 299 | K10: =Gastric2!K10+Gastric1!K10+Gastric3!K10+Gastric4!K10+Gastric5!K10+Glioma1!K10+Glioma2!K10+Glioma3!K10+Glioma4!K10+Glioma5!K10+Liver1!K10+Liver2!K10+Liver3!K10+Liver4!K10+Liver5!K10+Lung1!K10+Lung2!K10+Lung3!K10+Lung4!K10+Lung5!K10+LungBrain1!K10+LungBrain2!K10+LungBrain3!K10+LungBrain4!K10+LungBrain5!K10 -> 74 | L10: =I10/B10*100000 -> 2.2346837
A11: Chr6 | B11: =C11+D11+E11 -> 18774332 | C11: =Gastric2!C11+Gastric1!C11+Gastric3!C11+Gastric4!C11+Gastric5!C11+Glioma1!C11+Glioma2!C11+Glioma3!C11+Glioma4!C11+Glioma5!C11+Liver1!C11+Liver2!C11+Liver3!C11+Liver4!C11+Liver5!C11+Lung1!C11+Lung2!C11+Lung3!C11+Lung4!C11+Lung5!C11+LungBrain1!C11+LungBrain2!C11+LungBrain3!C11+LungBrain4!C11+LungBrain5!C11 -> 18765062 | D11: =Gastric2!D11+Gastric1!D11+Gastric3!D11+Gastric4!D11+Gastric5!D11+Glioma1!D11+Glioma2!D11+Glioma3!D11+Glioma4!D11+Glioma5!D11+Liver1!D11+Liver2!D11+Liver3!D11+Liver4!D11+Liver5!D11+Lung1!D11+Lung2!D11+Lung3!D11+Lung4!D11+Lung5!D11+LungBrain1!D11+LungBrain2!D11+LungBrain3!D11+LungBrain4!D11+LungBrain5!D11 -> 4060 | E11: =Gastric2!E11+Gastric1!E11+Gastric3!E11+Gastric4!E11+Gastric5!E11+Glioma1!E11+Glioma2!E11+Glioma3!E11+Glioma4!E11+Glioma5!E11+Liver1!E11+Liver2!E11+Liver3!E11+Liver4!E11+Liver5!E11+Lung1!E11+Lung2!E11+Lung3!E11+Lung4!E11+Lung5!E11+LungBrain1!E11+LungBrain2!E11+LungBrain3!E11+LungBrain4!E11+LungBrain5!E11 -> 5210 | F11: =Gastric2!F11+Gastric1!F11+Gastric3!F11+Gastric4!F11+Gastric5!F11+Glioma1!F11+Glioma2!F11+Glioma3!F11+Glioma4!F11+Glioma5!F11+Liver1!F11+Liver2!F11+Liver3!F11+Liver4!F11+Liver5!F11+Lung1!F11+Lung2!F11+Lung3!F11+Lung4!F11+Lung5!F11+LungBrain1!F11+LungBrain2!F11+LungBrain3!F11+LungBrain4!F11+LungBrain5!F11 -> 342 | G11: =Gastric2!G11+Gastric1!G11+Gastric3!G11+Gastric4!G11+Gastric5!G11+Glioma1!G11+Glioma2!G11+Glioma3!G11+Glioma4!G11+Glioma5!G11+Liver1!G11+Liver2!G11+Liver3!G11+Liver4!G11+Liver5!G11+Lung1!G11+Lung2!G11+Lung3!G11+Lung4!G11+Lung5!G11+LungBrain1!G11+LungBrain2!G11+LungBrain3!G11+LungBrain4!G11+LungBrain5!G11 -> 283 | H11: =Gastric2!H11+Gastric1!H11+Gastric3!H11+Gastric4!H11+Gastric5!H11+Glioma1!H11+Glioma2!H11+Glioma3!H11+Glioma4!H11+Glioma5!H11+Liver1!H11+Liver2!H11+Liver3!H11+Liver4!H11+Liver5!H11+Lung1!H11+Lung2!H11+Lung3!H11+Lung4!H11+Lung5!H11+LungBrain1!H11+LungBrain2!H11+LungBrain3!H11+LungBrain4!H11+LungBrain5!H11 -> 59 | I11: =Gastric2!I11+Gastric1!I11+Gastric3!I11+Gastric4!I11+Gastric5!I11+Glioma1!I11+Glioma2!I11+Glioma3!I11+Glioma4!I11+Glioma5!I11+Liver1!I11+Liver2!I11+Liver3!I11+Liver4!I11+Liver5!I11+Lung1!I11+Lung2!I11+Lung3!I11+Lung4!I11+Lung5!I11+LungBrain1!I11+LungBrain2!I11+LungBrain3!I11+LungBrain4!I11+LungBrain5!I11 -> 388 | J11: =Gastric2!J11+Gastric1!J11+Gastric3!J11+Gastric4!J11+Gastric5!J11+Glioma1!J11+Glioma2!J11+Glioma3!J11+Glioma4!J11+Glioma5!J11+Liver1!J11+Liver2!J11+Liver3!J11+Liver4!J11+Liver5!J11+Lung1!J11+Lung2!J11+Lung3!J11+Lung4!J11+Lung5!J11+LungBrain1!J11+LungBrain2!J11+LungBrain3!J11+LungBrain4!J11+LungBrain5!J11 -> 310 | K11: =Gastric2!K11+Gastric1!K11+Gastric3!K11+Gastric4!K11+Gastric5!K11+Glioma1!K11+Glioma2!K11+Glioma3!K11+Glioma4!K11+Glioma5!K11+Liver1!K11+Liver2!K11+Liver3!K11+Liver4!K11+Liver5!K11+Lung1!K11+Lung2!K11+Lung3!K11+Lung4!K11+Lung5!K11+LungBrain1!K11+LungBrain2!K11+LungBrain3!K11+LungBrain4!K11+LungBrain5!K11 -> 78 | L11: =I11/B11*100000 -> 2.0666514
A12: Chr7 | B12: =C12+D12+E12 -> 23397863 | C12: =Gastric2!C12+Gastric1!C12+Gastric3!C12+Gastric4!C12+Gastric5!C12+Glioma1!C12+Glioma2!C12+Glioma3!C12+Glioma4!C12+Glioma5!C12+Liver1!C12+Liver2!C12+Liver3!C12+Liver4!C12+Liver5!C12+Lung1!C12+Lung2!C12+Lung3!C12+Lung4!C12+Lung5!C12+LungBrain1!C12+LungBrain2!C12+LungBrain3!C12+LungBrain4!C12+LungBrain5!C12 -> 23387873 | D12: =Gastric2!D12+Gastric1!D12+Gastric3!D12+Gastric4!D12+Gastric5!D12+Glioma1!D12+Glioma2!D12+Glioma3!D12+Glioma4!D12+Glioma5!D12+Liver1!D12+Liver2!D12+Liver3!D12+Liver4!D12+Liver5!D12+Lung1!D12+Lung2!D12+Lung3!D12+Lung4!D12+Lung5!D12+LungBrain1!D12+LungBrain2!D12+LungBrain3!D12+LungBrain4!D12+LungBrain5!D12 -> 3914 | E12: =Gastric2!E12+Gastric1!E12+Gastric3!E12+Gastric4!E12+Gastric5!E12+Glioma1!E12+Glioma2!E12+Glioma3!E12+Glioma4!E12+Glioma5!E12+Liver1!E12+Liver2!E12+Liver3!E12+Liver4!E12+Liver5!E12+Lung1!E12+Lung2!E12+Lung3!E12+Lung4!E12+Lung5!E12+LungBrain1!E12+LungBrain2!E12+LungBrain3!E12+LungBrain4!E12+LungBrain5!E12 -> 6076 | F12: =Gastric2!F12+Gastric1!F12+Gastric3!F12+Gastric4!F12+Gastric5!F12+Glioma1!F12+Glioma2!F12+Glioma3!F12+Glioma4!F12+Glioma5!F12+Liver1!F12+Liver2!F12+Liver3!F12+Liver4!F12+Liver5!F12+Lung1!F12+Lung2!F12+Lung3!F12+Lung4!F12+Lung5!F12+LungBrain1!F12+LungBrain2!F12+LungBrain3!F12+LungBrain4!F12+LungBrain5!F12 -> 472 | G12: =Gastric2!G12+Gastric1!G12+Gastric3!G12+Gastric4!G12+Gastric5!G12+Glioma1!G12+Glioma2!G12+Glioma3!G12+Glioma4!G12+Glioma5!G12+Liver1!G12+Liver2!G12+Liver3!G12+Liver4!G12+Liver5!G12+Lung1!G12+Lung2!G12+Lung3!G12+Lung4!G12+Lung5!G12+LungBrain1!G12+LungBrain2!G12+LungBrain3!G12+LungBrain4!G12+LungBrain5!G12 -> 394 | H12: =Gastric2!H12+Gastric1!H12+Gastric3!H12+Gastric4!H12+Gastric5!H12+Glioma1!H12+Glioma2!H12+Glioma3!H12+Glioma4!H12+Glioma5!H12+Liver1!H12+Liver2!H12+Liver3!H12+Liver4!H12+Liver5!H12+Lung1!H12+Lung2!H12+Lung3!H12+Lung4!H12+Lung5!H12+LungBrain1!H12+LungBrain2!H12+LungBrain3!H12+LungBrain4!H12+LungBrain5!H12 -> 78 | I12: =Gastric2!I12+Gastric1!I12+Gastric3!I12+Gastric4!I12+Gastric5!I12+Glioma1!I12+Glioma2!I12+Glioma3!I12+Glioma4!I12+Glioma5!I12+Liver1!I12+Liver2!I12+Liver3!I12+Liver4!I12+Liver5!I12+Lung1!I12+Lung2!I12+Lung3!I12+Lung4!I12+Lung5!I12+LungBrain1!I12+LungBrain2!I12+LungBrain3!I12+LungBrain4!I12+LungBrain5!I12 -> 476 | J12: =Gastric2!J12+Gastric1!J12+Gastric3!J12+Gastric4!J12+Gastric5!J12+Glioma1!J12+Glioma2!J12+Glioma3!J12+Glioma4!J12+Glioma5!J12+Liver1!J12+Liver2!J12+Liver3!J12+Liver4!J12+Liver5!J12+Lung1!J12+Lung2!J12+Lung3!J12+Lung4!J12+Lung5!J12+LungBrain1!J12+LungBrain2!J12+LungBrain3!J12+LungBrain4!J12+LungBrain5!J12 -> 378 | K12: =Gastric2!K12+Gastric1!K12+Gastric3!K12+Gastric4!K12+Gastric5!K12+Glioma1!K12+Glioma2!K12+Glioma3!K12+Glioma4!K12+Glioma5!K12+Liver1!K12+Liver2!K12+Liver3!K12+Liver4!K12+Liver5!K12+Lung1!K12+Lung2!K12+Lung3!K12+Lung4!K12+Lung5!K12+LungBrain1!K12+LungBrain2!K12+LungBrain3!K12+LungBrain4!K12+LungBrain5!K12 -> 98 | L12: =I12/B12*100000 -> 2.0343738
A13: Chr8 | B13: =C13+D13+E13 -> 13462693 | C13: =Gastric2!C13+Gastric1!C13+Gastric3!C13+Gastric4!C13+Gastric5!C13+Glioma1!C13+Glioma2!C13+Glioma3!C13+Glioma4!C13+Glioma5!C13+Liver1!C13+Liver2!C13+Liver3!C13+Liver4!C13+Liver5!C13+Lung1!C13+Lung2!C13+Lung3!C13+Lung4!C13+Lung5!C13+LungBrain1!C13+LungBrain2!C13+LungBrain3!C13+LungBrain4!C13+LungBrain5!C13 -> 13456501 | D13: =Gastric2!D13+Gastric1!D13+Gastric3!D13+Gastric4!D13+Gastric5!D13+Glioma1!D13+Glioma2!D13+Glioma3!D13+Glioma4!D13+Glioma5!D13+Liver1!D13+Liver2!D13+Liver3!D13+Liver4!D13+Liver5!D13+Lung1!D13+Lung2!D13+Lung3!D13+Lung4!D13+Lung5!D13+LungBrain1!D13+LungBrain2!D13+LungBrain3!D13+LungBrain4!D13+LungBrain5!D13 -> 2849 | E13: =Gastric2!E13+Gastric1!E13+Gastric3!E13+Gastric4!E13+Gastric5!E13+Glioma1!E13+Glioma2!E13+Glioma3!E13+Glioma4!E13+Glioma5!E13+Liver1!E13+Liver2!E13+Liver3!E13+Liver4!E13+Liver5!E13+Lung1!E13+Lung2!E13+Lung3!E13+Lung4!E13+Lung5!E13+LungBrain1!E13+LungBrain2!E13+LungBrain3!E13+LungBrain4!E13+LungBrain5!E13 -> 3343 | F13: =Gastric2!F13+Gastric1!F13+Gastric3!F13+Gastric4!F13+Gastric5!F13+Glioma1!F13+Glioma2!F13+Glioma3!F13+Glioma4!F13+Glioma5!F13+Liver1!F13+Liver2!F13+Liver3!F13+Liver4!F13+Liver5!F13+Lung1!F13+Lung2!F13+Lung3!F13+Lung4!F13+Lung5!F13+LungBrain1!F13+LungBrain2!F13+LungBrain3!F13+LungBrain4!F13+LungBrain5!F13 -> 267 | G13: =Gastric2!G13+Gastric1!G13+Gastric3!G13+Gastric4!G13+Gastric5!G13+Glioma1!G13+Glioma2!G13+Glioma3!G13+Glioma4!G13+Glioma5!G13+Liver1!G13+Liver2!G13+Liver3!G13+Liver4!G13+Liver5!G13+Lung1!G13+Lung2!G13+Lung3!G13+Lung4!G13+Lung5!G13+LungBrain1!G13+LungBrain2!G13+LungBrain3!G13+LungBrain4!G13+LungBrain5!G13 -> 207 | H13: =Gastric2!H13+Gastric1!H13+Gastric3!H13+Gastric4!H13+Gastric5!H13+Glioma1!H13+Glioma2!H13+Glioma3!H13+Glioma4!H13+Glioma5!H13+Liver1!H13+Liver2!H13+Liver3!H13+Liver4!H13+Liver5!H13+Lung1!H13+Lung2!H13+Lung3!H13+Lung4!H13+Lung5!H13+LungBrain1!H13+LungBrain2!H13+LungBrain3!H13+LungBrain4!H13+LungBrain5!H13 -> 60 | I13: =Gastric2!I13+Gastric1!I13+Gastric3!I13+Gastric4!I13+Gastric5!I13+Glioma1!I13+Glioma2!I13+Glioma3!I13+Glioma4!I13+Glioma5!I13+Liver1!I13+Liver2!I13+Liver3!I13+Liver4!I13+Liver5!I13+Lung1!I13+Lung2!I13+Lung3!I13+Lung4!I13+Lung5!I13+LungBrain1!I13+LungBrain2!I13+LungBrain3!I13+LungBrain4!I13+LungBrain5!I13 -> 274 | J13: =Gastric2!J13+Gastric1!J13+Gastric3!J13+Gastric4!J13+Gastric5!J13+Glioma1!J13+Glioma2!J13+Glioma3!J13+Glioma4!J13+Glioma5!J13+Liver1!J13+Liver2!J13+Liver3!J13+Liver4!J13+Liver5!J13+Lung1!J13+Lung2!J13+Lung3!J13+Lung4!J13+Lung5!J13+LungBrain1!J13+LungBrain2!J13+LungBrain3!J13+LungBrain4!J13+LungBrain5!J13 -> 202 | K13: =Gastric2!K13+Gastric1!K13+Gastric3!K13+Gastric4!K13+Gastric5!K13+Glioma1!K13+Glioma2!K13+Glioma3!K13+Glioma4!K13+Glioma5!K13+Liver1!K13+Liver2!K13+Liver3!K13+Liver4!K13+Liver5!K13+Lung1!K13+Lung2!K13+Lung3!K13+Lung4!K13+Lung5!K13+LungBrain1!K13+LungBrain2!K13+LungBrain3!K13+LungBrain4!K13+LungBrain5!K13 -> 72 | L13: =I13/B13*100000 -> 2.035254
A14: Chr9 | B14: =C14+D14+E14 -> 16094014 | C14: =Gastric2!C14+Gastric1!C14+Gastric3!C14+Gastric4!C14+Gastric5!C14+Glioma1!C14+Glioma2!C14+Glioma3!C14+Glioma4!C14+Glioma5!C14+Liver1!C14+Liver2!C14+Liver3!C14+Liver4!C14+Liver5!C14+Lung1!C14+Lung2!C14+Lung3!C14+Lung4!C14+Lung5!C14+LungBrain1!C14+LungBrain2!C14+LungBrain3!C14+LungBrain4!C14+LungBrain5!C14 -> 16086508 | D14: =Gastric2!D14+Gastric1!D14+Gastric3!D14+Gastric4!D14+Gastric5!D14+Glioma1!D14+Glioma2!D14+Glioma3!D14+Glioma4!D14+Glioma5!D14+Liver1!D14+Liver2!D14+Liver3!D14+Liver4!D14+Liver5!D14+Lung1!D14+Lung2!D14+Lung3!D14+Lung4!D14+Lung5!D14+LungBrain1!D14+LungBrain2!D14+LungBrain3!D14+LungBrain4!D14+LungBrain5!D14 -> 3213 | E14: =Gastric2!E14+Gastric1!E14+Gastric3!E14+Gastric4!E14+Gastric5!E14+Glioma1!E14+Glioma2!E14+Glioma3!E14+Glioma4!E14+Glioma5!E14+Liver1!E14+Liver2!E14+Liver3!E14+Liver4!E14+Liver5!E14+Lung1!E14+Lung2!E14+Lung3!E14+Lung4!E14+Lung5!E14+LungBrain1!E14+LungBrain2!E14+LungBrain3!E14+LungBrain4!E14+LungBrain5!E14 -> 4293 | F14: =Gastric2!F14+Gastric1!F14+Gastric3!F14+Gastric4!F14+Gastric5!F14+Glioma1!F14+Glioma2!F14+Glioma3!F14+Glioma4!F14+Glioma5!F14+Liver1!F14+Liver2!F14+Liver3!F14+Liver4!F14+Liver5!F14+Lung1!F14+Lung2!F14+Lung3!F14+Lung4!F14+Lung5!F14+LungBrain1!F14+LungBrain2!F14+LungBrain3!F14+LungBrain4!F14+LungBrain5!F14 -> 330 | G14: =Gastric2!G14+Gastric1!G14+Gastric3!G14+Gastric4!G14+Gastric5!G14+Glioma1!G14+Glioma2!G14+Glioma3!G14+Glioma4!G14+Glioma5!G14+Liver1!G14+Liver2!G14+Liver3!G14+Liver4!G14+Liver5!G14+Lung1!G14+Lung2!G14+Lung3!G14+Lung4!G14+Lung5!G14+LungBrain1!G14+LungBrain2!G14+LungBrain3!G14+LungBrain4!G14+LungBrain5!G14 -> 272 | H14: =Gastric2!H14+Gastric1!H14+Gastric3!H14+Gastric4!H14+Gastric5!H14+Glioma1!H14+Glioma2!H14+Glioma3!H14+Glioma4!H14+Glioma5!H14+Liver1!H14+Liver2!H14+Liver3!H14+Liver4!H14+Liver5!H14+Lung1!H14+Lung2!H14+Lung3!H14+Lung4!H14+Lung5!H14+LungBrain1!H14+LungBrain2!H14+LungBrain3!H14+LungBrain4!H14+LungBrain5!H14 -> 58 | I14: =Gastric2!I14+Gastric1!I14+Gastric3!I14+Gastric4!I14+Gastric5!I14+Glioma1!I14+Glioma2!I14+Glioma3!I14+Glioma4!I14+Glioma5!I14+Liver1!I14+Liver2!I14+Liver3!I14+Liver4!I14+Liver5!I14+Lung1!I14+Lung2!I14+Lung3!I14+Lung4!I14+Lung5!I14+LungBrain1!I14+LungBrain2!I14+LungBrain3!I14+LungBrain4!I14+LungBrain5!I14 -> 384 | J14: =Gastric2!J14+Gastric1!J14+Gastric3!J14+Gastric4!J14+Gastric5!J14+Glioma1!J14+Glioma2!J14+Glioma3!J14+Glioma4!J14+Glioma5!J14+Liver1!J14+Liver2!J14+Liver3!J14+Liver4!J14+Liver5!J14+Lung1!J14+Lung2!J14+Lung3!J14+Lung4!J14+Lung5!J14+LungBrain1!J14+LungBrain2!J14+LungBrain3!J14+LungBrain4!J14+LungBrain5!J14 -> 297 | K14: =Gastric2!K14+Gastric1!K14+Gastric3!K14+Gastric4!K14+Gastric5!K14+Glioma1!K14+Glioma2!K14+Glioma3!K14+Glioma4!K14+Glioma5!K14+Liver1!K14+Liver2!K14+Liver3!K14+Liver4!K14+Liver5!K14+Lung1!K14+Lung2!K14+Lung3!K14+Lung4!K14+Lung5!K14+LungBrain1!K14+LungBrain2!K14+LungBrain3!K14+LungBrain4!K14+LungBrain5!K14 -> 87 | L14: =I14/B14*100000 -> 2.3859803
A15: Chr10 | B15: =C15+D15+E15 -> 18064960 | C15: =Gastric2!C15+Gastric1!C15+Gastric3!C15+Gastric4!C15+Gastric5!C15+Glioma1!C15+Glioma2!C15+Glioma3!C15+Glioma4!C15+Glioma5!C15+Liver1!C15+Liver2!C15+Liver3!C15+Liver4!C15+Liver5!C15+Lung1!C15+Lung2!C15+Lung3!C15+Lung4!C15+Lung5!C15+LungBrain1!C15+LungBrain2!C15+LungBrain3!C15+LungBrain4!C15+LungBrain5!C15 -> 18056229 | D15: =Gastric2!D15+Gastric1!D15+Gastric3!D15+Gastric4!D15+Gastric5!D15+Glioma1!D15+Glioma2!D15+Glioma3!D15+Glioma4!D15+Glioma5!D15+Liver1!D15+Liver2!D15+Liver3!D15+Liver4!D15+Liver5!D15+Lung1!D15+Lung2!D15+Lung3!D15+Lung4!D15+Lung5!D15+LungBrain1!D15+LungBrain2!D15+LungBrain3!D15+LungBrain4!D15+LungBrain5!D15 -> 3962 | E15: =Gastric2!E15+Gastric1!E15+Gastric3!E15+Gastric4!E15+Gastric5!E15+Glioma1!E15+Glioma2!E15+Glioma3!E15+Glioma4!E15+Glioma5!E15+Liver1!E15+Liver2!E15+Liver3!E15+Liver4!E15+Liver5!E15+Lung1!E15+Lung2!E15+Lung3!E15+Lung4!E15+Lung5!E15+LungBrain1!E15+LungBrain2!E15+LungBrain3!E15+LungBrain4!E15+LungBrain5!E15 -> 4769 | F15: =Gastric2!F15+Gastric1!F15+Gastric3!F15+Gastric4!F15+Gastric5!F15+Glioma1!F15+Glioma2!F15+Glioma3!F15+Glioma4!F15+Glioma5!F15+Liver1!F15+Liver2!F15+Liver3!F15+Liver4!F15+Liver5!F15+Lung1!F15+Lung2!F15+Lung3!F15+Lung4!F15+Lung5!F15+LungBrain1!F15+LungBrain2!F15+LungBrain3!F15+LungBrain4!F15+LungBrain5!F15 -> 372 | G15: =Gastric2!G15+Gastric1!G15+Gastric3!G15+Gastric4!G15+Gastric5!G15+Glioma1!G15+Glioma2!G15+Glioma3!G15+Glioma4!G15+Glioma5!G15+Liver1!G15+Liver2!G15+Liver3!G15+Liver4!G15+Liver5!G15+Lung1!G15+Lung2!G15+Lung3!G15+Lung4!G15+Lung5!G15+LungBrain1!G15+LungBrain2!G15+LungBrain3!G15+LungBrain4!G15+LungBrain5!G15 -> 300 | H15: =Gastric2!H15+Gastric1!H15+Gastric3!H15+Gastric4!H15+Gastric5!H15+Glioma1!H15+Glioma2!H15+Glioma3!H15+Glioma4!H15+Glioma5!H15+Liver1!H15+Liver2!H15+Liver3!H15+Liver4!H15+Liver5!H15+Lung1!H15+Lung2!H15+Lung3!H15+Lung4!H15+Lung5!H15+LungBrain1!H15+LungBrain2!H15+LungBrain3!H15+LungBrain4!H15+LungBrain5!H15 -> 72 | I15: =Gastric2!I15+Gastric1!I15+Gastric3!I15+Gastric4!I15+Gastric5!I15+Glioma1!I15+Glioma2!I15+Glioma3!I15+Glioma4!I15+Glioma5!I15+Liver1!I15+Liver2!I15+Liver3!I15+Liver4!I15+Liver5!I15+Lung1!I15+Lung2!I15+Lung3!I15+Lung4!I15+Lung5!I15+LungBrain1!I15+LungBrain2!I15+LungBrain3!I15+LungBrain4!I15+LungBrain5!I15 -> 396 | J15: =Gastric2!J15+Gastric1!J15+Gastric3!J15+Gastric4!J15+Gastric5!J15+Glioma1!J15+Glioma2!J15+Glioma3!J15+Glioma4!J15+Glioma5!J15+Liver1!J15+Liver2!J15+Liver3!J15+Liver4!J15+Liver5!J15+Lung1!J15+Lung2!J15+Lung3!J15+Lung4!J15+Lung5!J15+LungBrain1!J15+LungBrain2!J15+LungBrain3!J15+LungBrain4!J15+LungBrain5!J15 -> 333 | K15: =Gastric2!K15+Gastric1!K15+Gastric3!K15+Gastric4!K15+Gastric5!K15+Glioma1!K15+Glioma2!K15+Glioma3!K15+Glioma4!K15+Glioma5!K15+Liver1!K15+Liver2!K15+Liver3!K15+Liver4!K15+Liver5!K15+Lung1!K15+Lung2!K15+Lung3!K15+Lung4!K15+Lung5!K15+LungBrain1!K15+LungBrain2!K15+LungBrain3!K15+LungBrain4!K15+LungBrain5!K15 -> 63 | L15: =I15/B15*100000 -> 2.192089
A16: Chr11 | B16: =C16+D16+E16 -> 16865422 | C16: =Gastric2!C16+Gastric1!C16+Gastric3!C16+Gastric4!C16+Gastric5!C16+Glioma1!C16+Glioma2!C16+Glioma3!C16+Glioma4!C16+Glioma5!C16+Liver1!C16+Liver2!C16+Liver3!C16+Liver4!C16+Liver5!C16+Lung1!C16+Lung2!C16+Lung3!C16+Lung4!C16+Lung5!C16+LungBrain1!C16+LungBrain2!C16+LungBrain3!C16+LungBrain4!C16+LungBrain5!C16 -> 16858220 | D16: =Gastric2!D16+Gastric1!D16+Gastric3!D16+Gastric4!D16+Gastric5!D16+Glioma1!D16+Glioma2!D16+Glioma3!D16+Glioma4!D16+Glioma5!D16+Liver1!D16+Liver2!D16+Liver3!D16+Liver4!D16+Liver5!D16+Lung1!D16+Lung2!D16+Lung3!D16+Lung4!D16+Lung5!D16+LungBrain1!D16+LungBrain2!D16+LungBrain3!D16+LungBrain4!D16+LungBrain5!D16 -> 3232 | E16: =Gastric2!E16+Gastric1!E16+Gastric3!E16+Gastric4!E16+Gastric5!E16+Glioma1!E16+Glioma2!E16+Glioma3!E16+Glioma4!E16+Glioma5!E16+Liver1!E16+Liver2!E16+Liver3!E16+Liver4!E16+Liver5!E16+Lung1!E16+Lung2!E16+Lung3!E16+Lung4!E16+Lung5!E16+LungBrain1!E16+LungBrain2!E16+LungBrain3!E16+LungBrain4!E16+LungBrain5!E16 -> 3970 | F16: =Gastric2!F16+Gastric1!F16+Gastric3!F16+Gastric4!F16+Gastric5!F16+Glioma1!F16+Glioma2!F16+Glioma3!F16+Glioma4!F16+Glioma5!F16+Liver1!F16+Liver2!F16+Liver3!F16+Liver4!F16+Liver5!F16+Lung1!F16+Lung2!F16+Lung3!F16+Lung4!F16+Lung5!F16+LungBrain1!F16+LungBrain2!F16+LungBrain3!F16+LungBrain4!F16+LungBrain5!F16 -> 297 | G16: =Gastric2!G16+Gastric1!G16+Gastric3!G16+Gastric4!G16+Gastric5!G16+Glioma1!G16+Glioma2!G16+Glioma3!G16+Glioma4!G16+Glioma5!G16+Liver1!G16+Liver2!G16+Liver3!G16+Liver4!G16+Liver5!G16+Lung1!G16+Lung2!G16+Lung3!G16+Lung4!G16+Lung5!G16+LungBrain1!G16+LungBrain2!G16+LungBrain3!G16+LungBrain4!G16+LungBrain5!G16 -> 232 | H16: =Gastric2!H16+Gastric1!H16+Gastric3!H16+Gastric4!H16+Gastric5!H16+Glioma1!H16+Glioma2!H16+Glioma3!H16+Glioma4!H16+Glioma5!H16+Liver1!H16+Liver2!H16+Liver3!H16+Liver4!H16+Liver5!H16+Lung1!H16+Lung2!H16+Lung3!H16+Lung4!H16+Lung5!H16+LungBrain1!H16+LungBrain2!H16+LungBrain3!H16+LungBrain4!H16+LungBrain5!H16 -> 65 | I16: =Gastric2!I16+Gastric1!I16+Gastric3!I16+Gastric4!I16+Gastric5!I16+Glioma1!I16+Glioma2!I16+Glioma3!I16+Glioma4!I16+Glioma5!I16+Liver1!I16+Liver2!I16+Liver3!I16+Liver4!I16+Liver5!I16+Lung1!I16+Lung2!I16+Lung3!I16+Lung4!I16+Lung5!I16+LungBrain1!I16+LungBrain2!I16+LungBrain3!I16+LungBrain4!I16+LungBrain5!I16 -> 327 | J16: =Gastric2!J16+Gastric1!J16+Gastric3!J16+Gastric4!J16+Gastric5!J16+Glioma1!J16+Glioma2!J16+Glioma3!J16+Glioma4!J16+Glioma5!J16+Liver1!J16+Liver2!J16+Liver3!J16+Liver4!J16+Liver5!J16+Lung1!J16+Lung2!J16+Lung3!J16+Lung4!J16+Lung5!J16+LungBrain1!J16+LungBrain2!J16+LungBrain3!J16+LungBrain4!J16+LungBrain5!J16 -> 267 | K16: =Gastric2!K16+Gastric1!K16+Gastric3!K16+Gastric4!K16+Gastric5!K16+Glioma1!K16+Glioma2!K16+Glioma3!K16+Glioma4!K16+Glioma5!K16+Liver1!K16+Liver2!K16+Liver3!K16+Liver4!K16+Liver5!K16+Lung1!K16+Lung2!K16+Lung3!K16+Lung4!K16+Lung5!K16+LungBrain1!K16+LungBrain2!K16+LungBrain3!K16+LungBrain4!K16+LungBrain5!K16 -> 60 | L16: =I16/B16*100000 -> 1.9388783
A17: Chr12 | B17: =C17+D17+E17 -> 20910543 | C17: =Gastric2!C17+Gastric1!C17+Gastric3!C17+Gastric4!C17+Gastric5!C17+Glioma1!C17+Glioma2!C17+Glioma3!C17+Glioma4!C17+Glioma5!C17+Liver1!C17+Liver2!C17+Liver3!C17+Liver4!C17+Liver5!C17+Lung1!C17+Lung2!C17+Lung3!C17+Lung4!C17+Lung5!C17+LungBrain1!C17+LungBrain2!C17+LungBrain3!C17+LungBrain4!C17+LungBrain5!C17 -> 20901086 | D17: =Gastric2!D17+Gastric1!D17+Gastric3!D17+Gastric4!D17+Gastric5!D17+Glioma1!D17+Glioma2!D17+Glioma3!D17+Glioma4!D17+Glioma5!D17+Liver1!D17+Liver2!D17+Liver3!D17+Liver4!D17+Liver5!D17+Lung1!D17+Lung2!D17+Lung3!D17+Lung4!D17+Lung5!D17+LungBrain1!D17+LungBrain2!D17+LungBrain3!D17+LungBrain4!D17+LungBrain5!D17 -> 3839 | E17: =Gastric2!E17+Gastric1!E17+Gastric3!E17+Gastric4!E17+Gastric5!E17+Glioma1!E17+Glioma2!E17+Glioma3!E17+Glioma4!E17+Glioma5!E17+Liver1!E17+Liver2!E17+Liver3!E17+Liver4!E17+Liver5!E17+Lung1!E17+Lung2!E17+Lung3!E17+Lung4!E17+Lung5!E17+LungBrain1!E17+LungBrain2!E17+LungBrain3!E17+LungBrain4!E17+LungBrain5!E17 -> 5618 | F17: =Gastric2!F17+Gastric1!F17+Gastric3!F17+Gastric4!F17+Gastric5!F17+Glioma1!F17+Glioma2!F17+Glioma3!F17+Glioma4!F17+Glioma5!F17+Liver1!F17+Liver2!F17+Liver3!F17+Liver4!F17+Liver5!F17+Lung1!F17+Lung2!F17+Lung3!F17+Lung4!F17+Lung5!F17+LungBrain1!F17+LungBrain2!F17+LungBrain3!F17+LungBrain4!F17+LungBrain5!F17 -> 401 | G17: =Gastric2!G17+Gastric1!G17+Gastric3!G17+Gastric4!G17+Gastric5!G17+Glioma1!G17+Glioma2!G17+Glioma3!G17+Glioma4!G17+Glioma5!G17+Liver1!G17+Liver2!G17+Liver3!G17+Liver4!G17+Liver5!G17+Lung1!G17+Lung2!G17+Lung3!G17+Lung4!G17+Lung5!G17+LungBrain1!G17+LungBrain2!G17+LungBrain3!G17+LungBrain4!G17+LungBrain5!G17 -> 325 | H17: =Gastric2!H17+Gastric1!H17+Gastric3!H17+Gastric4!H17+Gastric5!H17+Glioma1!H17+Glioma2!H17+Glioma3!H17+Glioma4!H17+Glioma5!H17+Liver1!H17+Liver2!H17+Liver3!H17+Liver4!H17+Liver5!H17+Lung1!H17+Lung2!H17+Lung3!H17+Lung4!H17+Lung5!H17+LungBrain1!H17+LungBrain2!H17+LungBrain3!H17+LungBrain4!H17+LungBrain5!H17 -> 76 | I17: =Gastric2!I17+Gastric1!I17+Gastric3!I17+Gastric4!I17+Gastric5!I17+Glioma1!I17+Glioma2!I17+Glioma3!I17+Glioma4!I17+Glioma5!I17+Liver1!I17+Liver2!I17+Liver3!I17+Liver4!I17+Liver5!I17+Lung1!I17+Lung2!I17+Lung3!I17+Lung4!I17+Lung5!I17+LungBrain1!I17+LungBrain2!I17+LungBrain3!I17+LungBrain4!I17+LungBrain5!I17 -> 389 | J17: =Gastric2!J17+Gastric1!J17+Gastric3!J17+Gastric4!J17+Gastric5!J17+Glioma1!J17+Glioma2!J17+Glioma3!J17+Glioma4!J17+Glioma5!J17+Liver1!J17+Liver2!J17+Liver3!J17+Liver4!J17+Liver5!J17+Lung1!J17+Lung2!J17+Lung3!J17+Lung4!J17+Lung5!J17+LungBrain1!J17+LungBrain2!J17+LungBrain3!J17+LungBrain4!J17+LungBrain5!J17 -> 321 | K17: =Gastric2!K17+Gastric1!K17+Gastric3!K17+Gastric4!K17+Gastric5!K17+Glioma1!K17+Glioma2!K17+Glioma3!K17+Glioma4!K17+Glioma5!K17+Liver1!K17+Liver2!K17+Liver3!K17+Liver4!K17+Liver5!K17+Lung1!K17+Lung2!K17+Lung3!K17+Lung4!K17+Lung5!K17+LungBrain1!K17+LungBrain2!K17+LungBrain3!K17+LungBrain4!K17+LungBrain5!K17 -> 68 | L17: =I17/B17*100000 -> 1.8603056
... A27: Chr22 | B27: =C27+D27+E27 -> 12665258 | C27: =Gastric2!C27+Gastric1!C27+Gastric3!C27+Gastric4!C27+Gastric5!C27+Glioma1!C27+Glioma2!C27+Glioma3!C27+Glioma4!C27+Glioma5!C27+Liver1!C27+Liver2!C27+Liver3!C27+Liver4!C27+Liver5!C27+Lung1!C27+Lung2!C27+Lung3!C27+Lung4!C27+Lung5!C27+LungBrain1!C27+LungBrain2!C27+LungBrain3!C27+LungBrain4!C27+LungBrain5!C27 -> 12660157 | D27: =Gastric2!D27+Gastric1!D27+Gastric3!D27+Gastric4!D27+Gastric5!D27+Glioma1!D27+Glioma2!D27+Glioma3!D27+Glioma4!D27+Glioma5!D27+Liver1!D27+Liver2!D27+Liver3!D27+Liver4!D27+Liver5!D27+Lung1!D27+Lung2!D27+Lung3!D27+Lung4!D27+Lung5!D27+LungBrain1!D27+LungBrain2!D27+LungBrain3!D27+LungBrain4!D27+LungBrain5!D27 -> 1895 | E27: =Gastric2!E27+Gastric1!E27+Gastric3!E27+Gastric4!E27+Gastric5!E27+Glioma1!E27+Glioma2!E27+Glioma3!E27+Glioma4!E27+Glioma5!E27+Liver1!E27+Liver2!E27+Liver3!E27+Liver4!E27+Liver5!E27+Lung1!E27+Lung2!E27+Lung3!E27+Lung4!E27+Lung5!E27+LungBrain1!E27+LungBrain2!E27+LungBrain3!E27+LungBrain4!E27+LungBrain5!E27 -> 3206 | F27: =Gastric2!F27+Gastric1!F27+Gastric3!F27+Gastric4!F27+Gastric5!F27+Glioma1!F27+Glioma2!F27+Glioma3!F27+Glioma4!F27+Glioma5!F27+Liver1!F27+Liver2!F27+Liver3!F27+Liver4!F27+Liver5!F27+Lung1!F27+Lung2!F27+Lung3!F27+Lung4!F27+Lung5!F27+LungBrain1!F27+LungBrain2!F27+LungBrain3!F27+LungBrain4!F27+LungBrain5!F27 -> 276 | G27: =Gastric2!G27+Gastric1!G27+Gastric3!G27+Gastric4!G27+Gastric5!G27+Glioma1!G27+Glioma2!G27+Glioma3!G27+Glioma4!G27+Glioma5!G27+Liver1!G27+Liver2!G27+Liver3!G27+Liver4!G27+Liver5!G27+Lung1!G27+Lung2!G27+Lung3!G27+Lung4!G27+Lung5!G27+LungBrain1!G27+LungBrain2!G27+LungBrain3!G27+LungBrain4!G27+LungBrain5!G27 -> 222 | H27: =Gastric2!H27+Gastric1!H27+Gastric3!H27+Gastric4!H27+Gastric5!H27+Glioma1!H27+Glioma2!H27+Glioma3!H27+Glioma4!H27+Glioma5!H27+Liver1!H27+Liver2!H27+Liver3!H27+Liver4!H27+Liver5!H27+Lung1!H27+Lung2!H27+Lung3!H27+Lung4!H27+Lung5!H27+LungBrain1!H27+LungBrain2!H27+LungBrain3!H27+LungBrain4!H27+LungBrain5!H27 -> 54 | I27: =Gastric2!I27+Gastric1!I27+Gastric3!I27+Gastric4!I27+Gastric5!I27+Glioma1!I27+Glioma2!I27+Glioma3!I27+Glioma4!I27+Glioma5!I27+Liver1!I27+Liver2!I27+Liver3!I27+Liver4!I27+Liver5!I27+Lung1!I27+Lung2!I27+Lung3!I27+Lung4!I27+Lung5!I27+LungBrain1!I27+LungBrain2!I27+LungBrain3!I27+LungBrain4!I27+LungBrain5!I27 -> 308 | J27: =Gastric2!J27+Gastric1!J27+Gastric3!J27+Gastric4!J27+Gastric5!J27+Glioma1!J27+Glioma2!J27+Glioma3!J27+Glioma4!J27+Glioma5!J27+Liver1!J27+Liver2!J27+Liver3!J27+Liver4!J27+Liver5!J27+Lung1!J27+Lung2!J27+Lung3!J27+Lung4!J27+Lung5!J27+LungBrain1!J27+LungBrain2!J27+LungBrain3!J27+LungBrain4!J27+LungBrain5!J27 -> 250 | K27: =Gastric2!K27+Gastric1!K27+Gastric3!K27+Gastric4!K27+Gastric5!K27+Glioma1!K27+Glioma2!K27+Glioma3!K27+Glioma4!K27+Glioma5!K27+Liver1!K27+Liver2!K27+Liver3!K27+Liver4!K27+Liver5!K27+Lung1!K27+Lung2!K27+Lung3!K27+Lung4!K27+Lung5!K27+LungBrain1!K27+LungBrain2!K27+LungBrain3!K27+LungBrain4!K27+LungBrain5!K27 -> 58 | L27: =I27/B27*100000 -> 2.4318494
A28: ChrX | B28: =C28+D28+E28 -> 8772408 | C28: =Gastric2!C30+Gastric1!C30+Gastric3!C30+Gastric4!C30+Gastric5!C30+Glioma1!C28+Glioma2!C30+Glioma3!C30+Glioma4!C28+Glioma5!C30+Liver1!C28+Liver2!C30+Liver3!C30+Liver4!C30+Liver5!C30+Lung1!C30+Lung2!C30+Lung3!C28+Lung4!C30+Lung5!C28+LungBrain1!C30+LungBrain2!C30+LungBrain3!C28+LungBrain4!C30+LungBrain5!C30 -> 8771027 | D28: =Gastric2!D30+Gastric1!D30+Gastric3!D30+Gastric4!D30+Gastric5!D30+Glioma1!D28+Glioma2!D30+Glioma3!D30+Glioma4!D28+Glioma5!D30+Liver1!D28+Liver2!D30+Liver3!D30+Liver4!D30+Liver5!D30+Lung1!D30+Lung2!D30+Lung3!D28+Lung4!D30+Lung5!D28+LungBrain1!D30+LungBrain2!D30+LungBrain3!D28+LungBrain4!D30+LungBrain5!D30 -> 1143 | E28: =Gastric2!E30+Gastric1!E30+Gastric3!E30+Gastric4!E30+Gastric5!E30+Glioma1!E28+Glioma2!E30+Glioma3!E30+Glioma4!E28+Glioma5!E30+Liver1!E28+Liver2!E30+Liver3!E30+Liver4!E30+Liver5!E30+Lung1!E30+Lung2!E30+Lung3!E28+Lung4!E30+Lung5!E28+LungBrain1!E30+LungBrain2!E30+LungBrain3!E28+LungBrain4!E30+LungBrain5!E30 -> 238 | F28: =Gastric2!F30+Gastric1!F30+Gastric3!F30+Gastric4!F30+Gastric5!F30+Glioma1!F28+Glioma2!F30+Glioma3!F30+Glioma4!F28+Glioma5!F30+Liver1!F28+Liver2!F30+Liver3!F30+Liver4!F30+Liver5!F30+Lung1!F30+Lung2!F30+Lung3!F28+Lung4!F30+Lung5!F28+LungBrain1!F30+LungBrain2!F30+LungBrain3!F28+LungBrain4!F30+LungBrain5!F30 -> 75 | G28: =Gastric2!G30+Gastric1!G30+Gastric3!G30+Gastric4!G30+Gastric5!G30+Glioma1!G28+Glioma2!G30+Glioma3!G30+Glioma4!G28+Glioma5!G30+Liver1!G28+Liver2!G30+Liver3!G30+Liver4!G30+Liver5!G30+Lung1!G30+Lung2!G30+Lung3!G28+Lung4!G30+Lung5!G28+LungBrain1!G30+LungBrain2!G30+LungBrain3!G28+LungBrain4!G30+LungBrain5!G30 -> 64 | H28: =Gastric2!H30+Gastric1!H30+Gastric3!H30+Gastric4!H30+Gastric5!H30+Glioma1!H28+Glioma2!H30+Glioma3!H30+Glioma4!H28+Glioma5!H30+Liver1!H28+Liver2!H30+Liver3!H30+Liver4!H30+Liver5!H30+Lung1!H30+Lung2!H30+Lung3!H28+Lung4!H30+Lung5!H28+LungBrain1!H30+LungBrain2!H30+LungBrain3!H28+LungBrain4!H30+LungBrain5!H30 -> 11 | I28: =Gastric2!I30+Gastric1!I30+Gastric3!I30+Gastric4!I30+Gastric5!I30+Glioma1!I28+Glioma2!I30+Glioma3!I30+Glioma4!I28+Glioma5!I30+Liver1!I28+Liver2!I30+Liver3!I30+Liver4!I30+Liver5!I30+Lung1!I30+Lung2!I30+Lung3!I28+Lung4!I30+Lung5!I28+LungBrain1!I30+LungBrain2!I30+LungBrain3!I28+LungBrain4!I30+LungBrain5!I30 -> 14 | J28: =Gastric2!J30+Gastric1!J30+Gastric3!J30+Gastric4!J30+Gastric5!J30+Glioma1!J28+Glioma2!J30+Glioma3!J30+Glioma4!J28+Glioma5!J30+Liver1!J28+Liver2!J30+Liver3!J30+Liver4!J30+Liver5!J30+Lung1!J30+Lung2!J30+Lung3!J28+Lung4!J30+Lung5!J28+LungBrain1!J30+LungBrain2!J30+LungBrain3!J28+LungBrain4!J30+LungBrain5!J30 -> 14 | K28: =Gastric2!K30+Gastric1!K30+Gastric3!K30+Gastric4!K30+Gastric5!K30+Glioma1!K28+Glioma2!K30+Glioma3!K30+Glioma4!K28+Glioma5!K30+Liver1!K28+Liver2!K30+Liver3!K30+Liver4!K30+Liver5!K30+Lung1!K30+Lung2!K30+Lung3!K28+Lung4!K30+Lung5!K28+LungBrain1!K30+LungBrain2!K30+LungBrain3!K28+LungBrain4!K30+LungBrain5!K30 -> 0 | L28: =I28/B28*100000 -> 0.1595913
A30: a Figures for Chr 1-Chr 22 are drived from all 25 solid tumors, and figures for Chr X are derived form 6 female solid tumors, as given in Table 3.1-3.10 and 3.16-3.30.

Sheet LOHs and Alu
A3: Table S3.34 Relationship between LOHs and Alu elements
C5: Chromosome Properties | H5: LOH Analysisc
A6: Chr No. | C6: Chr Lengths (bp)a | D6: No. of Alub | E6: No. of Alu/ Mb | G6: LOH | H6: Mm | I6: LOH/ Mm residues (%)
A7: 1 | C7: 249250621 | D7: 76681 | E7: =D7/C7*1000000 -> 307.64617 | G7: 740 | H7: 10557 | I7: 7.01
A8: 2 | C8: 243199373 | D8: 64165 | E8: =D8/C8*1000000 -> 263.83703 | G8: 455 | H8: 7581 | I8: 6.002
A9: 3 | C9: 198022430 | D9: 50876 | E9: =D9/C9*1000000 -> 256.92039 | G9: 406 | H9: 6123 | I9: 6.631
A10: 4 | C10: 191154276 | D10: 42198 | E10: =D10/C10*1000000 -> 220.75363 | G10: 344 | H10: 4667 | I10: 7.371
A11: 5 | C11: 180915260 | D11: 44010 | E11: =D11/C11*1000000 -> 243.26306 | G11: 377 | H11: 4933 | I11: 7.642
A12: 6 | C12: 171115067 | D12: 44696 | E12: =D12/C12*1000000 -> 261.20435 | G12: 396 | H12: 6266 | I12: 6.32
A13: 7 | C13: 159138663 | D13: 52401 | E13: =D13/C13*1000000 -> 329.27888 | G13: 483 | H13: 7259 | I13: 6.654
A14: 8 | C14: 146364022 | D14: 37580 | E14: =D14/C14*1000000 -> 256.75709 | G14: 276 | H14: 4154 | I14: 6.644
A15: 9 | C15: 141213431 | D15: 37587 | E15: =D15/C15*1000000 -> 266.17157 | G15: 388 | H15: 5128 | I15: 7.566
A16: 10 | C16: 135534747 | D16: 42729 | E16: =D16/C16*1000000 -> 315.26233 | G16: 402 | H16: 5694 | I16: 7.06
A17: 11 | C17: 135006516 | D17: 36554 | E17: =D17/C17*1000000 -> 270.7573 | G17: 329 | H17: 4736 | I17: 6.947
A18: 12 | C18: 1.338519e+08 | D18: 44393 | E18: =D18/C18*1000000 -> 331.65761 | G18: 397 | H18: 6575 | I18: 6.038
... A28: 22 | C28: 51304566 | D28: 18029 | E28: =D28/C28*1000000 -> 351.41122 | G28: 311 | H28: 3766 | I28: 8.258
A29: X | C29: 155270560 | D29: 35923 | E29: =D29/C29*1000000 -> 231.35744 | G29: 18 | H29: 495 | I29: 3.64
A31: aData from Assembly Statistics for GRCh37 website in NCBI (http://www.ncbi.nlm.nih.gov/projects/genome/assembly/grc/human/data/);
A32: bData from UCSC (http://genome.ucsc.edu/cgi-bin/hgTables);
A33: cLOH = No. LOHs on indicated chromosome in 30 cancer samples; Mm = No. of Mm residues on indicated chromosome in 30 cancer sames.

Sheet Lung-to-Liver
A3: Table S3.35 Total number of genotypes and SNVs in Lung-to-Liver metastatic cancer analyzed by WGS
A5: Chromosome | B5: Total captured sites | C5: MM | D5: mm | E5: Mm | F5: GOH | G5: GOH-M | H5: GOH-m | I5: LOH | J5: Mm->MM | K5: Mm->mm | L5: LOH / Total captured sites (×10-5)
A6: Chr1 | B6: =C6+D6+E6 -> 89551621 | C6: 89406377 | D6: 75176 | E6: 70068 | F6: =G6+H6 -> 55 | G6: 46 | H6: 9 | I6: =J6+K6 -> 187 | J6: 175 | K6: 12 | L6: =I6/B6*100000 -> 0.20881811
A7: Chr2 | B7: =C7+D7+E7 -> 31407338 | C7: 31297100 | D7: 81777 | E7: 28461 | F7: =G7+H7 -> 63 | G7: 58 | H7: 5 | I7: =J7+K7 -> 225 | J7: 217 | K7: 8 | L7: =I7/B7*100000 -> 0.71639309
A8: Chr3 | B8: =C8+D8+E8 -> 44925200 | C8: 44804243 | D8: 68363 | E8: 52594 | F8: =G8+H8 -> 47 | G8: 43 | H8: 4 | I8: =J8+K8 -> 190 | J8: 184 | K8: 6 | L8: =I8/B8*100000 -> 0.42292522
A9: Chr4 | B9: =C9+D9+E9 -> 184063742 | C9: 183936295 | D9: 74381 | E9: 53066 | F9: =G9+H9 -> 63 | G9: 60 | H9: 3 | I9: =J9+K9 -> 155 | J9: 148 | K9: 7 | L9: =I9/B9*100000 -> 0.084209958
A10: Chr5 | B10: =C10+D10+E10 -> 172802248 | C10: 172693549 | D10: 48874 | E10: 59825 | F10: =G10+H10 -> 37 | G10: 28 | H10: 9 | I10: =J10+K10 -> 122 | J10: 113 | K10: 9 | L10: =I10/B10*100000 -> 0.070600933
A11: Chr6 | B11: =C11+D11+E11 -> 164275280 | C11: 164133629 | D11: 61530 | E11: 80121 | F11: =G11+H11 -> 52 | G11: 44 | H11: 8 | I11: =J11+K11 -> 148 | J11: 138 | K11: 10 | L11: =I11/B11*100000 -> 0.090092679
A12: Chr7 | B12: =C12+D12+E12 -> 37137924 | C12: 37002951 | D12: 51838 | E12: 83135 | F12: =G12+H12 -> 42 | G12: 42 | H12: 0 | I12: =J12+K12 -> 152 | J12: 148 | K12: 4 | L12: =I12/B12*100000 -> 0.40928513
A13: Chr8 | B13: =C13+D13+E13 -> 16847773 | C13: 16718474 | D13: 48976 | E13: 80323 | F13: =G13+H13 -> 26 | G13: 25 | H13: 1 | I13: =J13+K13 -> 129 | J13: 125 | K13: 4 | L13: =I13/B13*100000 -> 0.76567983
A14: Chr9 | B14: =C14+D14+E14 -> 2608612 | C14: 2445543 | D14: 39302 | E14: 123767 | F14: =G14+H14 -> 29 | G14: 26 | H14: 3 | I14: =J14+K14 -> 99 | J14: 93 | K14: 6 | L14: =I14/B14*100000 -> 3.7951217
A15: chr10 | B15: =C15+D15+E15 -> 59899764 | C15: 59762265 | D15: 44263 | E15: 93236 | F15: =G15+H15 -> 31 | G15: 25 | H15: 6 | I15: =J15+K15 -> 133 | J15: 131 | K15: 2 | L15: =I15/B15*100000 -> 0.2220376
A16: Chr11 | B16: =C16+D16+E16 -> 127798267 | C16: 127653604 | D16: 48081 | E16: 96582 | F16: =G16+H16 -> 39 | G16: 36 | H16: 3 | I16: =J16+K16 -> 104 | J16: 99 | K16: 5 | L16: =I16/B16*100000 -> 0.081378255
A17: Chr12 | B17: =C17+D17+E17 -> 5301276 | C17: 5141323 | D17: 44674 | E17: 115279 | F17: =G17+H17 -> 34 | G17: 31 | H17: 3 | I17: =J17+K17 -> 128 | J17: 120 | K17: 8 | L17: =I17/B17*100000 -> 2.414513
... A27: Chr22 | B27: =C27+D27+E27 -> 4753656 | C27: 4693999 | D27: 8992 | E27: 50665 | F27: =G27+H27 -> 45 | G27: 43 | H27: 2 | I27: =J27+K27 -> 37 | J27: 35 | K27: 2 | L27: =I27/B27*100000 -> 0.77834829

Sheet Liver
A3: Table S3.36 Total number of genotypes and SNVs in Primary Liver cancer analyzed by WGS
A5: Chromosome | B5: Total captured sites | C5: MM | D5: mm | E5: Mm | F5: GOH | G5: GOH-M | H5: GOH-m | I5: LOH | J5: Mm->MM | K5: Mm->mm | L5: LOH / Total captured sites (×10-5)
A6: Chr1 | B6: =C6+D6+E6 -> 207711790 | C6: 207489897 | D6: 96632 | E6: 125261 | F6: =G6+H6 -> 427 | G6: 425 | H6: 2 | I6: =J6+K6 -> 151 | J6: 135 | K6: 16 | L6: =I6/B6*100000 -> 0.072696884
A7: Chr2 | B7: =C7+D7+E7 -> 227366361 | C7: 227121831 | D7: 102678 | E7: 141852 | F7: =G7+H7 -> 374 | G7: 371 | H7: 3 | I7: =J7+K7 -> 119 | J7: 103 | K7: 16 | L7: =I7/B7*100000 -> 0.052338437
A8: Chr3 | B8: =C8+D8+E8 -> 187168669 | C8: 186962892 | D8: 87416 | E8: 118361 | F8: =G8+H8 -> 366 | G8: 366 | H8: 0 | I8: =J8+K8 -> 94 | J8: 87 | K8: 7 | L8: =I8/B8*100000 -> 0.050222081
A9: Chr4 | B9: =C9+D9+E9 -> 178602506 | C9: 178406557 | D9: 99556 | E9: 96393 | F9: =G9+H9 -> 329 | G9: 326 | H9: 3 | I9: =J9+K9 -> 116 | J9: 92 | K9: 24 | L9: =I9/B9*100000 -> 0.064948697
A10: Chr5 | B10: =C10+D10+E10 -> 169998817 | C10: 169818759 | D10: 71397 | E10: 108661 | F10: =G10+H10 -> 344 | G10: 342 | H10: 2 | I10: =J10+K10 -> 79 | J10: 76 | K10: 3 | L10: =I10/B10*100000 -> 0.046470912
A11: Chr6 | B11: =C11+D11+E11 -> 158937276 | C11: 158751896 | D11: 75460 | E11: 109920 | F11: =G11+H11 -> 308 | G11: 280 | H11: 28 | I11: =J11+K11 -> 104 | J11: 76 | K11: 28 | L11: =I11/B11*100000 -> 0.065434618
A12: Chr7 | B12: =C12+D12+E12 -> 143030138 | C12: 142868911 | D12: 66599 | E12: 94628 | F12: =G12+H12 -> 254 | G12: 254 | H12: 0 | I12: =J12+K12 -> 107 | J12: 97 | K12: 10 | L12: =I12/B12*100000 -> 0.074809408
A13: Chr8 | B13: =C13+D13+E13 -> 137742509 | C13: 137590043 | D13: 63480 | E13: 88986 | F13: =G13+H13 -> 279 | G13: 277 | H13: 2 | I13: =J13+K13 -> 57 | J13: 52 | K13: 5 | L13: =I13/B13*100000 -> 0.041381561
A14: Chr9 | B14: =C14+D14+E14 -> 106960538 | C14: 106833705 | D14: 50032 | E14: 76801 | F14: =G14+H14 -> 214 | G14: 211 | H14: 3 | I14: =J14+K14 -> 84 | J14: 78 | K14: 6 | L14: =I14/B14*100000 -> 0.078533636
A15: chr10 | B15: =C15+D15+E15 -> 120784176 | C15: 120645377 | D15: 63335 | E15: 75464 | F15: =G15+H15 -> 228 | G15: 223 | H15: 5 | I15: =J15+K15 -> 88 | J15: 80 | K15: 8 | L15: =I15/B15*100000 -> 0.072857226
A16: Chr11 | B16: =C16+D16+E16 -> 123114744 | C16: 122977274 | D16: 63806 | E16: 73664 | F16: =G16+H16 -> 260 | G16: 257 | H16: 3 | I16: =J16+K16 -> 84 | J16: 72 | K16: 12 | L16: =I16/B16*100000 -> 0.068229034
A17: Chr12 | B17: =C17+D17+E17 -> 123867455 | C17: 123725786 | D17: 62008 | E17: 79661 | F17: =G17+H17 -> 238 | G17: 237 | H17: 1 | I17: =J17+K17 -> 79 | J17: 74 | K17: 5 | L17: =I17/B17*100000 -> 0.06377785
... A27: Chr22 | B27: =C27+D27+E27 -> 30777283 | C27: 30740770 | D27: 14773 | E27: 21740 | F27: =G27+H27 -> 66 | G27: 66 | H27: 0 | I27: =J27+K27 -> 36 | J27: 33 | K27: 3 | L27: =I27/B27*100000 -> 0.11696939
