Workbook

Sheet Gastric1
A1: Table S3. Numbers of genotypes and single nucleotide variations detected on different chromosomes in various cancer samples.
A3: Table S3.1 Gastric1
A5: Chromosome | B5: Total captured sites | C5: MM | D5: mm | E5: Mm | F5: GOH | G5: GOH-M | H5: GOH-m | I5: LOH | J5: Mm->MM | K5: Mm->mm | L5: LOH / Total captured sites (×10-5)
A6: Chr1 | B6: =C6+D6+E6 -> 1499737 | C6: 1499417 | D6: 107 | E6: 213 | F6: 12 | G6: 10 | H6: 2 | I6: 51 | J6: 42 | K6: 9 | L6: =I6/B6*100000 -> 3.4005962
A7: Chr2 | B7: =C7+D7+E7 -> 1060900 | C7: 1060687 | D7: 80 | E7: 133 | F7: 7 | G7: 7 | H7: 0 | I7: 23 | J7: 18 | K7: 5 | L7: =I7/B7*100000 -> 2.1679706
A8: Chr3 | B8: =C8+D8+E8 -> 878751 | C8: 878580 | D8: 68 | E8: 103 | F8: 10 | G8: 9 | H8: 1 | I8: 28 | J8: 25 | K8: 3 | L8: =I8/B8*100000 -> 3.1863406
A9: Chr4 | B9: =C9+D9+E9 -> 690955 | C9: 690806 | D9: 59 | E9: 90 | F9: 3 | G9: 3 | H9: 0 | I9: 21 | J9: 17 | K9: 4 | L9: =I9/B9*100000 -> 3.0392717
A10: Chr5 | B10: =C10+D10+E10 -> 689300 | C10: 689154 | D10: 54 | E10: 92 | F10: 3 | G10: 3 | H10: 0 | I10: 20 | J10: 18 | K10: 2 | L10: =I10/B10*100000 -> 2.9014943
A11: Chr6 | B11: =C11+D11+E11 -> 786244 | C11: 786049 | D11: 72 | E11: 123 | F11: 8 | G11: 6 | H11: 2 | I11: 25 | J11: 20 | K11: 5 | L11: =I11/B11*100000 -> 3.1796745
A12: Chr7 | B12: =C12+D12+E12 -> 904662 | C12: 904479 | D12: 61 | E12: 122 | F12: 3 | G12: 2 | H12: 1 | I12: 35 | J12: 25 | K12: 10 | L12: =I12/B12*100000 -> 3.8688483
A13: Chr8 | B13: =C13+D13+E13 -> 547520 | C13: 547403 | D13: 44 | E13: 73 | F13: 3 | G13: 2 | H13: 1 | I13: 18 | J13: 16 | K13: 2 | L13: =I13/B13*100000 -> 3.2875511
A14: Chr9 | B14: =C14+D14+E14 -> 639274 | C14: 639142 | D14: 52 | E14: 80 | F14: 4 | G14: 4 | H14: 0 | I14: 18 | J14: 13 | K14: 5 | L14: =I14/B14*100000 -> 2.8156941
A15: Chr10 | B15: =C15+D15+E15 -> 755482 | C15: 755300 | D15: 67 | E15: 115 | F15: 11 | G15: 9 | H15: 2 | I15: 24 | J15: 22 | K15: 2 | L15: =I15/B15*100000 -> 3.1767799
A16: Chr11 | B16: =C16+D16+E16 -> 676588 | C16: 676435 | D16: 51 | E16: 102 | F16: 4 | G16: 4 | H16: 0 | I16: 21 | J16: 21 | K16: 0 | L16: =I16/B16*100000 -> 3.1038091
A17: Chr12 | B17: =C17+D17+E17 -> 841973 | C17: 841795 | D17: 78 | E17: 100 | F17: 6 | G17: 5 | H17: 1 | I17: 18 | J17: 13 | K17: 5 | L17: =I17/B17*100000 -> 2.1378358
... A27: Chr22 | B27: =C27+D27+E27 -> 462927 | C27: 462828 | D27: 30 | E27: 69 | F27: 3 | G27: 3 | H27: 0 | I27: 12 | J27: 10 | K27: 2 | L27: =I27/B27*100000 -> 2.5922014
A29: Chromosome | B29: Total captured sites | C29: M | D29: m
A30: ChrX | B30: =C30+D30+E30 -> 504973 | C30: 504950 | D30: 23
A31: ChrY | B31: =C31+D31+E31 -> 3005 | C31: 3005 | D31: 0

Sheet Gastric2
A3: Table S3.2 Gastric2
A5: Chromosome | B5: Total captured sites | C5: MM | D5: mm | E5: Mm | F5: GOH | G5: GOH-M | H5: GOH-m | I5: LOH | J5: Mm->MM | K5: Mm->mm | L5: LOH / Total captured sites (×10-5)
A6: Chr1 | B6: =C6+D6+E6 -> 2298658 | C6: 2297669 | D6: 406 | E6: 583 | F6: 11 | G6: 9 | H6: 2 | I6: 1 | J6: 1 | K6: 0 | L6: =I6/B6*100000 -> 0.043503644
A7: Chr2 | B7: =C7+D7+E7 -> 1674790 | C7: 1674020 | D7: 335 | E7: 435 | F7: 6 | G7: 4 | H7: 2 | I7: 1 | J7: 1 | K7: 0 | L7: =I7/B7*100000 -> 0.059708978
A8: Chr3 | B8: =C8+D8+E8 -> 1402817 | C8: 1402123 | D8: 337 | E8: 357 | F8: 7 | G8: 4 | H8: 3 | I8: 3 | J8: 3 | K8: 0 | L8: =I8/B8*100000 -> 0.21385541
A9: Chr4 | B9: =C9+D9+E9 -> 1114839 | C9: 1114213 | D9: 291 | E9: 335 | F9: 4 | G9: 4 | H9: 0 | I9: 1 | J9: 1 | K9: 0 | L9: =I9/B9*100000 -> 0.089699051
A10: Chr5 | B10: =C10+D10+E10 -> 1099327 | C10: 1098851 | D10: 192 | E10: 284 | F10: 11 | G10: 8 | H10: 3 | I10: 0 | J10: 0 | K10: 0 | L10: =I10/B10*100000 -> 0
A11: Chr6 | B11: =C11+D11+E11 -> 1246969 | C11: 1246292 | D11: 302 | E11: 375 | F11: 11 | G11: 9 | H11: 2 | I11: 1 | J11: 1 | K11: 0 | L11: =I11/B11*100000 -> 0.080194456
A12: Chr7 | B12: =C12+D12+E12 -> 1379238 | C12: 1378611 | D12: 244 | E12: 383 | F12: 5 | G12: 4 | H12: 1 | I12: 2 | J12: 0 | K12: 2 | L12: =I12/B12*100000 -> 0.14500761
A13: Chr8 | B13: =C13+D13+E13 -> 890981 | C13: 890511 | D13: 196 | E13: 274 | F13: 11 | G13: 7 | H13: 4 | I13: 0 | J13: 0 | K13: 0 | L13: =I13/B13*100000 -> 0
A14: Chr9 | B14: =C14+D14+E14 -> 1018034 | C14: 1017464 | D14: 274 | E14: 296 | F14: 10 | G14: 6 | H14: 4 | I14: 1 | J14: 1 | K14: 0 | L14: =I14/B14*100000 -> 0.098228546
A15: Chr10 | B15: =C15+D15+E15 -> 1172143 | C15: 1171534 | D15: 296 | E15: 313 | F15: 10 | G15: 9 | H15: 1 | I15: 1 | J15: 0 | K15: 1 | L15: =I15/B15*100000 -> 0.085313823
A16: Chr11 | B16: =C16+D16+E16 -> 1046464 | C16: 1045952 | D16: 249 | E16: 263 | F16: 8 | G16: 6 | H16: 2 | I16: 0 | J16: 0 | K16: 0 | L16: =I16/B16*100000 -> 0
A17: Chr12 | B17: =C17+D17+E17 -> 1276454 | C17: 1275830 | D17: 326 | E17: 298 | F17: 13 | G17: 10 | H17: 3 | I17: 1 | J17: 0 | K17: 1 | L17: =I17/B17*100000 -> 0.078342032
... A27: Chr22 | B27: =C27+D27+E27 -> 676800 | C27: 676474 | D27: 120 | E27: 206 | F27: 6 | G27: 6 | H27: 0 | I27: 1 | J27: 1 | K27: 0 | L27: =I27/B27*100000 -> 0.14775414
A29: Chromosome | B29: Total captured sites | C29: M | D29: m
A30: ChrX | B30: =C30+D30+E30 -> 500513 | C30: 500435 | D30: 78
A31: ChrY | B31: =C31+D31+E31 -> 36105 | C31: 36104 | D31: 1

Sheet Gastric3
A3: Table S3.3 Gastric3
A5: Chromosome | B5: Total captured sites | C5: MM | D5: mm | E5: Mm | F5: GOH | G5: GOH-M | H5: GOH-m | I5: LOH | J5: Mm->MM | K5: Mm->mm | L5: LOH / Total captured sites (×10-5)
A6: Chr1 | B6: =C6+D6+E6 -> 2463645 | C6: 2462860 | D6: 444 | E6: 341 | F6: 10 | G6: 9 | H6: =F6-G6 -> 1 | I6: 22 | J6: 15 | K6: =I6-J6 -> 7 | L6: =I6/B6*100000 -> 0.8929858
A7: Chr2 | B7: =C7+D7+E7 -> 1694520 | C7: 1693822 | D7: 305 | E7: 393 | F7: 2 | G7: 2 | H7: =F7-G7 -> 0 | I7: 4 | J7: 4 | K7: =I7-J7 -> 0 | L7: =I7/B7*100000 -> 0.23605505
A8: Chr3 | B8: =C8+D8+E8 -> 1537819 | C8: 1537278 | D8: 313 | E8: 228 | F8: 4 | G8: 4 | H8: =F8-G8 -> 0 | I8: 2 | J8: 1 | K8: =I8-J8 -> 1 | L8: =I8/B8*100000 -> 0.13005432
A9: Chr4 | B9: =C9+D9+E9 -> 972472 | C9: 971974 | D9: 243 | E9: 255 | F9: 5 | G9: 5 | H9: =F9-G9 -> 0 | I9: 1 | J9: 1 | K9: =I9-J9 -> 0 | L9: =I9/B9*100000 -> 0.10283072
A10: Chr5 | B10: =C10+D10+E10 -> 1112217 | C10: 1111753 | D10: 192 | E10: 272 | F10: 3 | G10: 2 | H10: =F10-G10 -> 1 | I10: 3 | J10: 3 | K10: =I10-J10 -> 0 | L10: =I10/B10*100000 -> 0.26973154
A11: Chr6 | B11: =C11+D11+E11 -> 1233090 | C11: 1232624 | D11: 288 | E11: 178 | F11: 2 | G11: 1 | H11: =F11-G11 -> 1 | I11: 12 | J11: 8 | K11: =I11-J11 -> 4 | L11: =I11/B11*100000 -> 0.97316498
A12: Chr7 | B12: =C12+D12+E12 -> 1481602 | C12: 1480981 | D12: 287 | E12: 334 | F12: 4 | G12: 3 | H12: =F12-G12 -> 1 | I12: 7 | J12: 5 | K12: =I12-J12 -> 2 | L12: =I12/B12*100000 -> 0.47246157
A13: Chr8 | B13: =C13+D13+E13 -> 854479 | C13: 854156 | D13: 197 | E13: 126 | F13: 4 | G13: 4 | H13: =F13-G13 -> 0 | I13: 0 | J13: 0 | K13: =I13-J13 -> 0 | L13: =I13/B13*100000 -> 0
A14: Chr9 | B14: =C14+D14+E14 -> 1057354 | C14: 1056772 | D14: 302 | E14: 280 | F14: 1 | G14: 1 | H14: =F14-G14 -> 0 | I14: 1 | J14: 1 | K14: =I14-J14 -> 0 | L14: =I14/B14*100000 -> 0.094575705
A15: Chr10 | B15: =C15+D15+E15 -> 1064076 | C15: 1063749 | D15: 243 | E15: 84 | F15: 1 | G15: 1 | H15: =F15-G15 -> 0 | I15: 5 | J15: 2 | K15: =I15-J15 -> 3 | L15: =I15/B15*100000 -> 0.46989125
A16: Chr11 | B16: =C16+D16+E16 -> 1094080 | C16: 1093720 | D16: 230 | E16: 130 | F16: 3 | G16: 3 | H16: =F16-G16 -> 0 | I16: 10 | J16: 6 | K16: =I16-J16 -> 4 | L16: =I16/B16*100000 -> 0.91400994
A17: Chr12 | B17: =C17+D17+E17 -> 1200002 | C17: 1199391 | D17: 253 | E17: 358 | F17: 3 | G17: 3 | H17: =F17-G17 -> 0 | I17: 2 | J17: 1 | K17: =I17-J17 -> 1 | L17: =I17/B17*100000 -> 0.16666639
... A27: Chr22 | B27: =C27+D27+E27 -> 642651 | C27: 642477 | D27: 118 | E27: 56 | F27: 3 | G27: 2 | H27: =F27-G27 -> 1 | I27: 4 | J27: 2 | K27: =I27-J27 -> 2 | L27: =I27/B27*100000 -> 0.62242181
A29: Chromosome | B29: Total captured sites | C29: M | D29: m
A30: ChrX | B30: =C30+D30+E30 -> 520873 | C30: 520787 | D30: 86
A31: ChrY | B31: =C31+D31+E31 -> 17688 | C31: 17686 | D31: 2

Sheet Gastric4
A3: Table S3.4 Gastric4
A5: Chromosome | B5: Total captured sites | C5: MM | D5: mm | E5: Mm | F5: GOH | G5: GOH-M | H5: GOH-m | I5: LOH | J5: Mm->MM | K5: Mm->mm | L5: LOH / Total captured sites (×10-5)
A6: Chr1 | B6: =C6+D6+E6 -> 1751169 | C6: 1750604 | D6: 223 | E6: 342 | F6: 9 | G6: 9 | H6: =SUM(F6-G6) -> 0 | I6: 1 | J6: 1 | K6: =I6-J6 -> 0 | L6: =I6/B6*100000 -> 0.057104711
A7: Chr2 | B7: =C7+D7+E7 -> 1105008 | C7: 1104703 | D7: 148 | E7: 157 | F7: 1 | G7: 1 | H7: =SUM(F7-G7) -> 0 | I7: 6 | J7: 5 | K7: =I7-J7 -> 1 | L7: =I7/B7*100000 -> 0.54298249
A8: Chr3 | B8: =C8+D8+E8 -> 947908 | C8: 947565 | D8: 144 | E8: 199 | F8: 4 | G8: 2 | H8: =SUM(F8-G8) -> 2 | I8: 2 | J8: 2 | K8: =I8-J8 -> 0 | L8: =I8/B8*100000 -> 0.21099094
A9: Chr4 | B9: =C9+D9+E9 -> 633043 | C9: 632872 | D9: 109 | E9: 62 | F9: 3 | G9: 3 | H9: =SUM(F9-G9) -> 0 | I9: 3 | J9: 2 | K9: =I9-J9 -> 1 | L9: =I9/B9*100000 -> 0.47390146
A10: Chr5 | B10: =C10+D10+E10 -> 711603 | C10: 711420 | D10: 94 | E10: 89 | F10: 2 | G10: 2 | H10: =SUM(F10-G10) -> 0 | I10: 8 | J10: 7 | K10: =I10-J10 -> 1 | L10: =I10/B10*100000 -> 1.1242224
A11: Chr6 | B11: =C11+D11+E11 -> 857805 | C11: 857452 | D11: 142 | E11: 211 | F11: 4 | G11: 3 | H11: =SUM(F11-G11) -> 1 | I11: 3 | J11: 1 | K11: =I11-J11 -> 2 | L11: =I11/B11*100000 -> 0.34972983
A12: Chr7 | B12: =C12+D12+E12 -> 1088329 | C12: 1087990 | D12: 117 | E12: 222 | F12: 1 | G12: 1 | H12: =SUM(F12-G12) -> 0 | I12: 5 | J12: 3 | K12: =I12-J12 -> 2 | L12: =I12/B12*100000 -> 0.4594199
A13: Chr8 | B13: =C13+D13+E13 -> 627277 | C13: 627069 | D13: 102 | E13: 106 | F13: 1 | G13: 0 | H13: =SUM(F13-G13) -> 1 | I13: 1 | J13: 1 | K13: =I13-J13 -> 0 | L13: =I13/B13*100000 -> 0.1594192
A14: Chr9 | B14: =C14+D14+E14 -> 677255 | C14: 677071 | D14: 86 | E14: 98 | F14: 1 | G14: 1 | H14: =SUM(F14-G14) -> 0 | I14: 3 | J14: 3 | K14: =I14-J14 -> 0 | L14: =I14/B14*100000 -> 0.44296461
A15: Chr10 | B15: =C15+D15+E15 -> 869649 | C15: 869283 | D15: 139 | E15: 227 | F15: 1 | G15: 1 | H15: =SUM(F15-G15) -> 0 | I15: 0 | J15: 0 | K15: =I15-J15 -> 0 | L15: =I15/B15*100000 -> 0
A16: Chr11 | B16: =C16+D16+E16 -> 784480 | C16: 784202 | D16: 104 | E16: 174 | F16: 2 | G16: 2 | H16: =SUM(F16-G16) -> 0 | I16: 1 | J16: 1 | K16: =I16-J16 -> 0 | L16: =I16/B16*100000 -> 0.12747298
A17: Chr12 | B17: =C17+D17+E17 -> 950308 | C17: 949996 | D17: 140 | E17: 172 | F17: 3 | G17: 2 | H17: =SUM(F17-G17) -> 1 | I17: 4 | J17: 3 | K17: =I17-J17 -> 1 | L17: =I17/B17*100000 -> 0.42091617
... A27: Chr22 | B27: =C27+D27+E27 -> 585843 | C27: 585710 | D27: 61 | E27: 72 | F27: 1 | G27: 1 | H27: =SUM(F27-G27) -> 0 | I27: 4 | J27: 4 | K27: =I27-J27 -> 0 | L27: =I27/B27*100000 -> 0.68277678
A29: Chromosome | B29: Total captured sites | C29: M | D29: m
A30: ChrX | B30: =C30+D30+E30 -> 356298 | C30: 356267 | D30: 31
A31: ChrY | B31: =C31+D31+E31 -> 19981 | C31: 19979 | D31: 2

Sheet Gastric5
A3: Table S3.5 Gastric5
A5: Chromosome | B5: Total captured sites | C5: MM | D5: mm | E5: Mm | F5: GOH | G5: GOH-M | H5: GOH-m | I5: LOH | J5: Mm->MM | K5: Mm->mm | L5: LOH / Total captured sites (×10-5)
A6: Chr1 | B6: =C6+D6+E6 -> 1556989 | C6: 1556644 | D6: 73 | E6: 272 | F6: 9 | G6: 8 | H6: =F6-G6 -> 1 | I6: 8 | J6: 6 | K6: =I6-J6 -> 2 | L6: =I6/B6*100000 -> 0.51381224
A7: Chr2 | B7: =C7+D7+E7 -> 968473 | C7: 968223 | D7: 63 | E7: 187 | F7: 7 | G7: 7 | H7: =F7-G7 -> 0 | I7: 6 | J7: 6 | K7: =I7-J7 -> 0 | L7: =I7/B7*100000 -> 0.61953198
A8: Chr3 | B8: =C8+D8+E8 -> 806490 | C8: 806289 | D8: 55 | E8: 146 | F8: 2 | G8: 2 | H8: =F8-G8 -> 0 | I8: 3 | J8: 3 | K8: =I8-J8 -> 0 | L8: =I8/B8*100000 -> 0.37198229
A9: Chr4 | B9: =C9+D9+E9 -> 544044 | C9: 543911 | D9: 32 | E9: 101 | F9: 6 | G9: 6 | H9: =F9-G9 -> 0 | I9: 7 | J9: 5 | K9: =I9-J9 -> 2 | L9: =I9/B9*100000 -> 1.2866606
A10: Chr5 | B10: =C10+D10+E10 -> 636112 | C10: 635934 | D10: 43 | E10: 135 | F10: 6 | G10: 6 | H10: =F10-G10 -> 0 | I10: 8 | J10: 8 | K10: =I10-J10 -> 0 | L10: =I10/B10*100000 -> 1.2576402
A11: Chr6 | B11: =C11+D11+E11 -> 734529 | C11: 734300 | D11: 58 | E11: 171 | F11: 4 | G11: 4 | H11: =F11-G11 -> 0 | I11: 4 | J11: 2 | K11: =I11-J11 -> 2 | L11: =I11/B11*100000 -> 0.54456665
A12: Chr7 | B12: =C12+D12+E12 -> 982940 | C12: 982713 | D12: 40 | E12: 187 | F12: 10 | G12: 8 | H12: =F12-G12 -> 2 | I12: 10 | J12: 9 | K12: =I12-J12 -> 1 | L12: =I12/B12*100000 -> 1.0173561
A13: Chr8 | B13: =C13+D13+E13 -> 544109 | C13: 543979 | D13: 25 | E13: 105 | F13: 5 | G13: 5 | H13: =F13-G13 -> 0 | I13: 2 | J13: 2 | K13: =I13-J13 -> 0 | L13: =I13/B13*100000 -> 0.36757341
A14: Chr9 | B14: =C14+D14+E14 -> 659270 | C14: 659087 | D14: 38 | E14: 145 | F14: 5 | G14: 5 | H14: =F14-G14 -> 0 | I14: 9 | J14: 8 | K14: =I14-J14 -> 1 | L14: =I14/B14*100000 -> 1.3651463
A15: Chr10 | B15: =C15+D15+E15 -> 745521 | C15: 745300 | D15: 65 | E15: 156 | F15: 4 | G15: 4 | H15: =F15-G15 -> 0 | I15: 1 | J15: 1 | K15: =I15-J15 -> 0 | L15: =I15/B15*100000 -> 0.13413438
A16: Chr11 | B16: =C16+D16+E16 -> 717542 | C16: 717375 | D16: 41 | E16: 126 | F16: 4 | G16: 4 | H16: =F16-G16 -> 0 | I16: 0 | J16: 0 | K16: =I16-J16 -> 0 | L16: =I16/B16*100000 -> 0
A17: Chr12 | B17: =C17+D17+E17 -> 855170 | C17: 854963 | D17: 62 | E17: 145 | F17: 10 | G17: 7 | H17: =F17-G17 -> 3 | I17: 3 | J17: 3 | K17: =I17-J17 -> 0 | L17: =I17/B17*100000 -> 0.35080744
... A27: Chr22 | B27: =C27+D27+E27 -> 593694 | C27: 593526 | D27: 21 | E27: 147 | F27: 6 | G27: 5 | H27: =F27-G27 -> 1 | I27: 3 | J27: 2 | K27: =I27-J27 -> 1 | L27: =I27/B27*100000 -> 0.50531082
A29: Chromosome | B29: Total captured sites | C29: M | D29: m
A30: ChrX | B30: =C30+D30+E30 -> 322632 | C30: 322621 | D30: 11
A31: ChrY | B31: =C31+D31+E31 -> 16566 | C31: 16564 | D31: 2

Sheet Glioma1
A3: Table S3.6 Glioma1
A5: Chromosome | B5: Total captured sites | C5: MM | D5: mm | E5: Mm | F5: GOH | G5: GOH-M | H5: GOH-m | I5: LOH | J5: Mm->MM | K5: Mm->mm | L5: LOH / Total captured sites (×10-5)
A6: Chr1 | B6: =C6+D6+E6 -> 1727647 | C6: 1727211 | D6: 197 | E6: 239 | F6: 7 | G6: 7 | H6: =F6-G6 -> 0 | I6: 26 | J6: 21 | K6: =I6-J6 -> 5 | L6: =I6/B6*100000 -> 1.5049371
A7: Chr2 | B7: =C7+D7+E7 -> 1238007 | C7: 1237547 | D7: 144 | E7: 316 | F7: 2 | G7: 1 | H7: =F7-G7 -> 1 | I7: 1 | J7: 0 | K7: =I7-J7 -> 1 | L7: =I7/B7*100000 -> 0.080774988
A8: Chr3 | B8: =C8+D8+E8 -> 1026528 | C8: 1026119 | D8: 136 | E8: 273 | F8: 1 | G8: 1 | H8: =F8-G8 -> 0 | I8: 0 | J8: 0 | K8: =I8-J8 -> 0 | L8: =I8/B8*100000 -> 0
A9: Chr4 | B9: =C9+D9+E9 -> 787549 | C9: 787229 | D9: 113 | E9: 207 | F9: 1 | G9: 1 | H9: =F9-G9 -> 0 | I9: 2 | J9: 1 | K9: =I9-J9 -> 1 | L9: =I9/B9*100000 -> 0.25395245
A10: Chr5 | B10: =C10+D10+E10 -> 818049 | C10: 817767 | D10: 90 | E10: 192 | F10: 2 | G10: 2 | H10: =F10-G10 -> 0 | I10: 1 | J10: 1 | K10: =I10-J10 -> 0 | L10: =I10/B10*100000 -> 0.12224207
A11: Chr6 | B11: =C11+D11+E11 -> 924151 | C11: 923754 | D11: 154 | E11: 243 | F11: 1 | G11: 1 | H11: =F11-G11 -> 0 | I11: 2 | J11: 2 | K11: =I11-J11 -> 0 | L11: =I11/B11*100000 -> 0.21641485
A12: Chr7 | B12: =C12+D12+E12 -> 1064354 | C12: 1063971 | D12: 115 | E12: 268 | F12: 4 | G12: 4 | H12: =F12-G12 -> 0 | I12: 0 | J12: 0 | K12: =I12-J12 -> 0 | L12: =I12/B12*100000 -> 0
A13: Chr8 | B13: =C13+D13+E13 -> 645308 | C13: 645051 | D13: 85 | E13: 172 | F13: 1 | G13: 1 | H13: =F13-G13 -> 0 | I13: 1 | J13: 1 | K13: =I13-J13 -> 0 | L13: =I13/B13*100000 -> 0.15496476
A14: Chr9 | B14: =C14+D14+E14 -> 583834 | C14: 583740 | D14: 60 | E14: 34 | F14: 2 | G14: 2 | H14: =F14-G14 -> 0 | I14: 21 | J14: 13 | K14: =I14-J14 -> 8 | L14: =I14/B14*100000 -> 3.5969128
A15: Chr10 | B15: =C15+D15+E15 -> 904720 | C15: 904346 | D15: 136 | E15: 238 | F15: 3 | G15: 3 | H15: =F15-G15 -> 0 | I15: 1 | J15: 1 | K15: =I15-J15 -> 0 | L15: =I15/B15*100000 -> 0.11053144
A16: Chr11 | B16: =C16+D16+E16 -> 803791 | C16: 803495 | D16: 97 | E16: 199 | F16: 1 | G16: 0 | H16: =F16-G16 -> 1 | I16: 1 | J16: 1 | K16: =I16-J16 -> 0 | L16: =I16/B16*100000 -> 0.12441045
A17: Chr12 | B17: =C17+D17+E17 -> 985997 | C17: 985601 | D17: 154 | E17: 242 | F17: 1 | G17: 1 | H17: =F17-G17 -> 0 | I17: 1 | J17: 0 | K17: =I17-J17 -> 1 | L17: =I17/B17*100000 -> 0.10142019
... A28: ChrX | B28: =C28+D28+E28 -> 641105 | C28: 641057 | D28: 48 | E28: 0 | F28: 0 | G28: 0 | H28: =F28-G28 -> 0 | I28: 0 | J28: 0 | K28: =I28-J28 -> 0 | L28: =I28/B28*100000 -> 0

Sheet Glioma2
A3: Table S3.7 Glioma2
A5: Chromosome | B5: Total captured sites | C5: MM | D5: mm | E5: Mm | F5: GOH | G5: GOH-M | H5: GOH-m | I5: LOH | J5: Mm->MM | K5: Mm->mm | L5: LOH / Total captured sites (×10-5)
A6: Chr1 | B6: =C6+D6+E6 -> 920346 | C6: 920000 | D6: 135 | E6: 211 | F6: 7 | G6: 6 | H6: =F6-G6 -> 1 | I6: 23 | J6: 18 | K6: =I6-J6 -> 5 | L6: =I6/B6*100000 -> 2.4990601
A7: Chr2 | B7: =C7+D7+E7 -> 610741 | C7: 610505 | D7: 103 | E7: 133 | F7: 1 | G7: 1 | H7: =F7-G7 -> 0 | I7: 11 | J7: 8 | K7: =I7-J7 -> 3 | L7: =I7/B7*100000 -> 1.8010908
A8: Chr3 | B8: =C8+D8+E8 -> 501210 | C8: 501006 | D8: 99 | E8: 105 | F8: 2 | G8: 2 | H8: =F8-G8 -> 0 | I8: 7 | J8: 5 | K8: =I8-J8 -> 2 | L8: =I8/B8*100000 -> 1.3966202
A9: Chr4 | B9: =C9+D9+E9 -> 322291 | C9: 322158 | D9: 49 | E9: 84 | F9: 2 | G9: 2 | H9: =F9-G9 -> 0 | I9: 12 | J9: 9 | K9: =I9-J9 -> 3 | L9: =I9/B9*100000 -> 3.7233432
A10: Chr5 | B10: =C10+D10+E10 -> 420844 | C10: 420683 | D10: 82 | E10: 79 | F10: 3 | G10: 2 | H10: =F10-G10 -> 1 | I10: 9 | J10: 7 | K10: =I10-J10 -> 2 | L10: =I10/B10*100000 -> 2.1385597
A11: Chr6 | B11: =C11+D11+E11 -> 442852 | C11: 442663 | D11: 84 | E11: 105 | F11: 2 | G11: 2 | H11: =F11-G11 -> 0 | I11: 9 | J11: 8 | K11: =I11-J11 -> 1 | L11: =I11/B11*100000 -> 2.0322817
A12: Chr7 | B12: =C12+D12+E12 -> 589920 | C12: 589683 | D12: 81 | E12: 156 | F12: 3 | G12: 3 | H12: =F12-G12 -> 0 | I12: 16 | J12: 11 | K12: =I12-J12 -> 5 | L12: =I12/B12*100000 -> 2.7122322
A13: Chr8 | B13: =C13+D13+E13 -> 306322 | C13: 306167 | D13: 66 | E13: 89 | F13: 3 | G13: 2 | H13: =F13-G13 -> 1 | I13: 11 | J13: 8 | K13: =I13-J13 -> 3 | L13: =I13/B13*100000 -> 3.5909925
A14: Chr9 | B14: =C14+D14+E14 -> 385488 | C14: 385336 | D14: 68 | E14: 84 | F14: 1 | G14: 1 | H14: =F14-G14 -> 0 | I14: 12 | J14: 6 | K14: =I14-J14 -> 6 | L14: =I14/B14*100000 -> 3.1129374
A15: Chr10 | B15: =C15+D15+E15 -> 421535 | C15: 421372 | D15: 63 | E15: 100 | F15: 3 | G15: 3 | H15: =F15-G15 -> 0 | I15: 11 | J15: 9 | K15: =I15-J15 -> 2 | L15: =I15/B15*100000 -> 2.6095105
A16: Chr11 | B16: =C16+D16+E16 -> 411370 | C16: 411215 | D16: 83 | E16: 72 | F16: 2 | G16: 1 | H16: =F16-G16 -> 1 | I16: 8 | J16: 6 | K16: =I16-J16 -> 2 | L16: =I16/B16*100000 -> 1.9447213
A17: Chr12 | B17: =C17+D17+E17 -> 538848 | C17: 538660 | D17: 88 | E17: 100 | F17: 1 | G17: 1 | H17: =F17-G17 -> 0 | I17: 10 | J17: 6 | K17: =I17-J17 -> 4 | L17: =I17/B17*100000 -> 1.8558109
... A27: Chr22 | B27: =C27+D27+E27 -> 327480 | C27: 327352 | D27: 55 | E27: 73 | F27: 0 | G27: 0 | H27: =F27-G27 -> 0 | I27: 2 | J27: 2 | K27: =I27-J27 -> 0 | L27: =I27/B27*100000 -> 0.61072432
A29: Chromosome | B29: Total captured sites | C29: M | D29: m
A30: ChrX | B30: =C30+D30+E30 -> 198138 | C30: 198114 | D30: 24
A31: ChrY | B31: =C31+D31+E31 -> 8631 | C31: 8629 | D31: 2

Sheet Glioma3
A3: Table S3.8 Glioma3
A5: Chromosome | B5: Total captured sites | C5: MM | D5: mm | E5: Mm | F5: GOH | G5: GOH-M | H5: GOH-m | I5: LOH | J5: Mm->MM | K5: Mm->mm | L5: LOH / Total captured sites (×10-5)
A6: Chr1 | B6: =C6+D6+E6 -> 1958821 | C6: 1958119 | D6: 347 | E6: 355 | F6: 69 | G6: 58 | H6: =F6-G6 -> 11 | I6: 84 | J6: 54 | K6: =I6-J6 -> 30 | L6: =I6/B6*100000 -> 4.2882938
A7: Chr2 | B7: =C7+D7+E7 -> 1353436 | C7: 1352895 | D7: 288 | E7: 253 | F7: 51 | G7: 39 | H7: =F7-G7 -> 12 | I7: 67 | J7: 46 | K7: =I7-J7 -> 21 | L7: =I7/B7*100000 -> 4.9503634
A8: Chr3 | B8: =C8+D8+E8 -> 1123918 | C8: 1123370 | D8: 256 | E8: 292 | F8: 25 | G8: 21 | H8: =F8-G8 -> 4 | I8: 47 | J8: 32 | K8: =I8-J8 -> 15 | L8: =I8/B8*100000 -> 4.1817997
A9: Chr4 | B9: =C9+D9+E9 -> 820407 | C9: 820039 | D9: 189 | E9: 179 | F9: 29 | G9: 21 | H9: =F9-G9 -> 8 | I9: 50 | J9: 38 | K9: =I9-J9 -> 12 | L9: =I9/B9*100000 -> 6.094536
A10: Chr5 | B10: =C10+D10+E10 -> 872528 | C10: 872135 | D10: 169 | E10: 224 | F10: 34 | G10: 26 | H10: =F10-G10 -> 8 | I10: 43 | J10: 29 | K10: =I10-J10 -> 14 | L10: =I10/B10*100000 -> 4.9282086
A11: Chr6 | B11: =C11+D11+E11 -> 991007 | C11: 990548 | D11: 224 | E11: 235 | F11: 40 | G11: 35 | H11: =F11-G11 -> 5 | I11: 66 | J11: 53 | K11: =I11-J11 -> 13 | L11: =I11/B11*100000 -> 6.6598924
A12: Chr7 | B12: =C12+D12+E12 -> 1230960 | C12: 1230461 | D12: 229 | E12: 270 | F12: 56 | G12: 48 | H12: =F12-G12 -> 8 | I12: 58 | J12: 46 | K12: =I12-J12 -> 12 | L12: =I12/B12*100000 -> 4.7117697
A13: Chr8 | B13: =C13+D13+E13 -> 722345 | C13: 722025 | D13: 168 | E13: 152 | F13: 27 | G13: 24 | H13: =F13-G13 -> 3 | I13: 31 | J13: 22 | K13: =I13-J13 -> 9 | L13: =I13/B13*100000 -> 4.2915781
A14: Chr9 | B14: =C14+D14+E14 -> 884451 | C14: 884048 | D14: 202 | E14: 201 | F14: 36 | G14: 33 | H14: =F14-G14 -> 3 | I14: 56 | J14: 41 | K14: =I14-J14 -> 15 | L14: =I14/B14*100000 -> 6.3316114
A15: Chr10 | B15: =C15+D15+E15 -> 972905 | C15: 972435 | D15: 257 | E15: 213 | F15: 56 | G15: 46 | H15: =F15-G15 -> 10 | I15: 43 | J15: 34 | K15: =I15-J15 -> 9 | L15: =I15/B15*100000 -> 4.4197532
A16: Chr11 | B16: =C16+D16+E16 -> 898362 | C16: 898009 | D16: 206 | E16: 147 | F16: 30 | G16: 24 | H16: =F16-G16 -> 6 | I16: 42 | J16: 30 | K16: =I16-J16 -> 12 | L16: =I16/B16*100000 -> 4.6751755
A17: Chr12 | B17: =C17+D17+E17 -> 1085367 | C17: 1084940 | D17: 202 | E17: 225 | F17: 43 | G17: 31 | H17: =F17-G17 -> 12 | I17: 41 | J17: 34 | K17: =I17-J17 -> 7 | L17: =I17/B17*100000 -> 3.7775241
... A27: Chr22 | B27: =C27+D27+E27 -> 671788 | C27: 671567 | D27: 86 | E27: 135 | F27: 44 | G27: 37 | H27: =F27-G27 -> 7 | I27: 33 | J27: 19 | K27: =I27-J27 -> 14 | L27: =I27/B27*100000 -> 4.912264
A29: Chromosome | B29: Total captured sites | C29: M | D29: m
A30: ChrX | B30: =C30+D30+E30 -> 426436 | C30: 426380 | D30: 56
A31: ChrY | B31: =C31+D31+E31 -> 28568 | C31: 28563 | D31: 5

Sheet Glioma4
A3: Table S3.9 Glioma4
A5: Chromosome | B5: Total captured sites | C5: MM | D5: mm | E5: Mm | F5: GOH | G5: GOH-M | H5: GOH-m | I5: LOH | J5: Mm->MM | K5: Mm->mm | L5: LOH / Total captured sites (×10-5)
A6: Chr1 | B6: =C6+D6+E6 -> 854423 | C6: 854033 | D6: 216 | E6: 174 | F6: 76 | G6: 76 | H6: =F6-G6 -> 0 | I6: 8 | J6: 3 | K6: =I6-J6 -> 5 | L6: =I6/B6*100000 -> 0.93630438
A7: Chr2 | B7: =C7+D7+E7 -> 551981 | C7: 551688 | D7: 136 | E7: 157 | F7: 32 | G7: 32 | H7: =F7-G7 -> 0 | I7: 1 | J7: 1 | K7: =I7-J7 -> 0 | L7: =I7/B7*100000 -> 0.18116566
A8: Chr3 | B8: =C8+D8+E8 -> 480541 | C8: 480334 | D8: 123 | E8: 84 | F8: 41 | G8: 39 | H8: =F8-G8 -> 2 | I8: 3 | J8: 1 | K8: =I8-J8 -> 2 | L8: =I8/B8*100000 -> 0.62429637
A9: Chr4 | B9: =C9+D9+E9 -> 319903 | C9: 319731 | D9: 79 | E9: 93 | F9: 18 | G9: 18 | H9: =F9-G9 -> 0 | I9: 6 | J9: 6 | K9: =I9-J9 -> 0 | L9: =I9/B9*100000 -> 1.8755685
A10: Chr5 | B10: =C10+D10+E10 -> 361844 | C10: 361678 | D10: 77 | E10: 89 | F10: 24 | G10: 24 | H10: =F10-G10 -> 0 | I10: 2 | J10: 1 | K10: =I10-J10 -> 1 | L10: =I10/B10*100000 -> 0.55272438
A11: Chr6 | B11: =C11+D11+E11 -> 391043 | C11: 390879 | D11: 93 | E11: 71 | F11: 20 | G11: 20 | H11: =F11-G11 -> 0 | I11: 1 | J11: 0 | K11: =I11-J11 -> 1 | L11: =I11/B11*100000 -> 0.25572635
A12: Chr7 | B12: =C12+D12+E12 -> 527615 | C12: 527384 | D12: 119 | E12: 112 | F12: 38 | G12: 38 | H12: =F12-G12 -> 0 | I12: 2 | J12: 2 | K12: =I12-J12 -> 0 | L12: =I12/B12*100000 -> 0.37906428
A13: Chr8 | B13: =C13+D13+E13 -> 270428 | C13: 270278 | D13: 69 | E13: 81 | F13: 9 | G13: 9 | H13: =F13-G13 -> 0 | I13: 2 | J13: 2 | K13: =I13-J13 -> 0 | L13: =I13/B13*100000 -> 0.73956839
A14: Chr9 | B14: =C14+D14+E14 -> 360201 | C14: 360024 | D14: 79 | E14: 98 | F14: 19 | G14: 19 | H14: =F14-G14 -> 0 | I14: 1 | J14: 0 | K14: =I14-J14 -> 1 | L14: =I14/B14*100000 -> 0.27762277
A15: Chr10 | B15: =C15+D15+E15 -> 401140 | C15: 400948 | D15: 103 | E15: 89 | F15: 26 | G15: 26 | H15: =F15-G15 -> 0 | I15: 2 | J15: 2 | K15: =I15-J15 -> 0 | L15: =I15/B15*100000 -> 0.49857905
A16: Chr11 | B16: =C16+D16+E16 -> 339127 | C16: 338983 | D16: 70 | E16: 74 | F16: 22 | G16: 22 | H16: =F16-G16 -> 0 | I16: 4 | J16: 4 | K16: =I16-J16 -> 0 | L16: =I16/B16*100000 -> 1.1794991
A17: Chr12 | B17: =C17+D17+E17 -> 460528 | C17: 460345 | D17: 91 | E17: 92 | F17: 41 | G17: 41 | H17: =F17-G17 -> 0 | I17: 5 | J17: 3 | K17: =I17-J17 -> 2 | L17: =I17/B17*100000 -> 1.0857103
... A28: ChrX | B28: =C28+D28+E28 -> 286048 | C28: 285976 | D28: 28 | E28: 44 | F28: 32 | G28: 32 | H28: =F28-G28 -> 0 | I28: 0 | J28: 0 | K28: =I28-J28 -> 0 | L28: =I28/B28*100000 -> 0

Sheet Glioma5
A3: Table S3.10 Glioma5
A5: Chromosome | B5: Total captured sites | C5: MM | D5: mm | E5: Mm | F5: GOH | G5: GOH-M | H5: GOH-m | I5: LOH | J5: Mm->MM | K5: Mm->mm | L5: LOH / Total captured sites (×10-5)
A6: Chr1 | B6: =C6+D6+E6 -> 976909 | C6: 976585 | D6: 142 | E6: 182 | F6: 68 | G6: 54 | H6: =F6-G6 -> 14 | I6: 53 | J6: 44 | K6: =I6-J6 -> 9 | L6: =I6/B6*100000 -> 5.425275
A7: Chr2 | B7: =C7+D7+E7 -> 671903 | C7: 671660 | D7: 118 | E7: 125 | F7: 41 | G7: 30 | H7: =F7-G7 -> 11 | I7: 25 | J7: 24 | K7: =I7-J7 -> 1 | L7: =I7/B7*100000 -> 3.7207752
A8: Chr3 | B8: =C8+D8+E8 -> 558532 | C8: 558350 | D8: 119 | E8: 63 | F8: 38 | G8: 22 | H8: =F8-G8 -> 16 | I8: 13 | J8: 9 | K8: =I8-J8 -> 4 | L8: =I8/B8*100000 -> 2.32753
A9: Chr4 | B9: =C9+D9+E9 -> 382098 | C9: 381947 | D9: 74 | E9: 77 | F9: 32 | G9: 25 | H9: =F9-G9 -> 7 | I9: 22 | J9: 20 | K9: =I9-J9 -> 2 | L9: =I9/B9*100000 -> 5.7576852
A10: Chr5 | B10: =C10+D10+E10 -> 453747 | C10: 453581 | D10: 83 | E10: 83 | F10: 28 | G10: 22 | H10: =F10-G10 -> 6 | I10: 24 | J10: 17 | K10: =I10-J10 -> 7 | L10: =I10/B10*100000 -> 5.2892912
A11: Chr6 | B11: =C11+D11+E11 -> 495571 | C11: 495382 | D11: 102 | E11: 87 | F11: 32 | G11: 22 | H11: =F11-G11 -> 10 | I11: 22 | J11: 20 | K11: =I11-J11 -> 2 | L11: =I11/B11*100000 -> 4.4393235
A12: Chr7 | B12: =C12+D12+E12 -> 621164 | C12: 620937 | D12: 106 | E12: 121 | F12: 44 | G12: 32 | H12: =F12-G12 -> 12 | I12: 32 | J12: 27 | K12: =I12-J12 -> 5 | L12: =I12/B12*100000 -> 5.1516186
A13: Chr8 | B13: =C13+D13+E13 -> 333925 | C13: 333786 | D13: 71 | E13: 68 | F13: 18 | G13: 12 | H13: =F13-G13 -> 6 | I13: 17 | J13: 10 | K13: =I13-J13 -> 7 | L13: =I13/B13*100000 -> 5.0909635
A14: Chr9 | B14: =C14+D14+E14 -> 409777 | C14: 409629 | D14: 75 | E14: 73 | F14: 34 | G14: 24 | H14: =F14-G14 -> 10 | I14: 24 | J14: 18 | K14: =I14-J14 -> 6 | L14: =I14/B14*100000 -> 5.8568441
A15: Chr10 | B15: =C15+D15+E15 -> 470253 | C15: 470068 | D15: 86 | E15: 99 | F15: 26 | G15: 18 | H15: =F15-G15 -> 8 | I15: 33 | J15: 30 | K15: =I15-J15 -> 3 | L15: =I15/B15*100000 -> 7.0174991
A16: Chr11 | B16: =C16+D16+E16 -> 436701 | C16: 436560 | D16: 84 | E16: 57 | F16: 30 | G16: 24 | H16: =F16-G16 -> 6 | I16: 22 | J16: 17 | K16: =I16-J16 -> 5 | L16: =I16/B16*100000 -> 5.0377718
A17: Chr12 | B17: =C17+D17+E17 -> 572330 | C17: 572151 | D17: 86 | E17: 93 | F17: 22 | G17: 17 | H17: =F17-G17 -> 5 | I17: 18 | J17: 15 | K17: =I17-J17 -> 3 | L17: =I17/B17*100000 -> 3.1450387
... A27: Chr22 | B27: =C27+D27+E27 -> 341687 | C27: 341558 | D27: 55 | E27: 74 | F27: 31 | G27: 25 | H27: =F27-G27 -> 6 | I27: 30 | J27: 26 | K27: =I27-J27 -> 4 | L27: =I27/B27*100000 -> 8.7799653
A29: Chromosome | B29: Total captured sites | C29: M | D29: m
A30: ChrX | B30: =C30+D30+E30 -> 213770 | C30: 213739 | D30: 31
A31: ChrY | B31: =C31+D31+E31 -> 8727 | C31: 8727 | D31: 0

Sheet Leukemia1
A3: Table S3.11 Leukemia1
A5: Chromosome | B5: Total captured sites | C5: MM | D5: mm | E5: Mm | F5: GOH | G5: GOH-M | H5: GOH-m | I5: LOH | J5: Mm->MM | K5: Mm->mm | L5: LOH / Total captured sites (×10-5)
A6: Chr1 | B6: =C6+D6+E6 -> 1407204 | C6: 1406679 | D6: 202 | E6: 323 | F6: 0 | G6: 0 | H6: =F6-G6 -> 0 | I6: 1 | J6: 1 | K6: =I6-J6 -> 0 | L6: =I6/B6*100000 -> 0.071062902
A7: Chr2 | B7: =C7+D7+E7 -> 1069469 | C7: 1069011 | D7: 199 | E7: 259 | F7: 2 | G7: 2 | H7: =F7-G7 -> 0 | I7: 1 | J7: 1 | K7: =I7-J7 -> 0 | L7: =I7/B7*100000 -> 0.093504347
A8: Chr3 | B8: =C8+D8+E8 -> 886224 | C8: 885839 | D8: 137 | E8: 248 | F8: 0 | G8: 0 | H8: =F8-G8 -> 0 | I8: 1 | J8: 1 | K8: =I8-J8 -> 0 | L8: =I8/B8*100000 -> 0.11283829
A9: Chr4 | B9: =C9+D9+E9 -> 735719 | C9: 735473 | D9: 161 | E9: 85 | F9: 3 | G9: 3 | H9: =F9-G9 -> 0 | I9: 1 | J9: 1 | K9: =I9-J9 -> 0 | L9: =I9/B9*100000 -> 0.13592146
A10: Chr5 | B10: =C10+D10+E10 -> 694633 | C10: 694397 | D10: 96 | E10: 140 | F10: 0 | G10: 0 | H10: =F10-G10 -> 0 | I10: 2 | J10: 1 | K10: =I10-J10 -> 1 | L10: =I10/B10*100000 -> 0.28792182
A11: Chr6 | B11: =C11+D11+E11 -> 766687 | C11: 766344 | D11: 158 | E11: 185 | F11: 0 | G11: 0 | H11: =F11-G11 -> 0 | I11: 0 | J11: 0 | K11: =I11-J11 -> 0 | L11: =I11/B11*100000 -> 0
A12: Chr7 | B12: =C12+D12+E12 -> 850413 | C12: 850048 | D12: 127 | E12: 238 | F12: 1 | G12: 1 | H12: =F12-G12 -> 0 | I12: 1 | J12: 1 | K12: =I12-J12 -> 0 | L12: =I12/B12*100000 -> 0.11758992
A13: Chr8 | B13: =C13+D13+E13 -> 551390 | C13: 551113 | D13: 131 | E13: 146 | F13: 0 | G13: 0 | H13: =F13-G13 -> 0 | I13: 0 | J13: 0 | K13: =I13-J13 -> 0 | L13: =I13/B13*100000 -> 0
A14: Chr9 | B14: =C14+D14+E14 -> 619730 | C14: 619462 | D14: 102 | E14: 166 | F14: 0 | G14: 0 | H14: =F14-G14 -> 0 | I14: 0 | J14: 0 | K14: =I14-J14 -> 0 | L14: =I14/B14*100000 -> 0
A15: Chr10 | B15: =C15+D15+E15 -> 725742 | C15: 725425 | D15: 131 | E15: 186 | F15: 2 | G15: 2 | H15: =F15-G15 -> 0 | I15: 0 | J15: 0 | K15: =I15-J15 -> 0 | L15: =I15/B15*100000 -> 0
A16: Chr11 | B16: =C16+D16+E16 -> 625859 | C16: 625633 | D16: 101 | E16: 125 | F16: 1 | G16: 1 | H16: =F16-G16 -> 0 | I16: 0 | J16: 0 | K16: =I16-J16 -> 0 | L16: =I16/B16*100000 -> 0
A17: Chr12 | B17: =C17+D17+E17 -> 770825 | C17: 770502 | D17: 139 | E17: 184 | F17: 0 | G17: 0 | H17: =F17-G17 -> 0 | I17: 0 | J17: 0 | K17: =I17-J17 -> 0 | L17: =I17/B17*100000 -> 0
... A28: ChrX | B28: =C28+D28+E28 -> 598764 | C28: 598569 | D28: 87 | E28: 108 | F28: 0 | G28: 0 | H28: =F28-G28 -> 0 | I28: 0 | J28: 0 | K28: =I28-J28 -> 0 | L28: =I28/B28*100000 -> 0

Sheet Leukemia2
A3: Table S3.12 Leukemia2
A5: Chromosome | B5: Total captured sites | C5: MM | D5: mm | E5: Mm | F5: GOH | G5: GOH-M | H5: GOH-m | I5: LOH | J5: Mm->MM | K5: Mm->mm | L5: LOH / Total captured sites (×10-5)
A6: Chr1 | B6: =C6+D6+E6 -> 1186417 | C6: 1185942 | D6: 186 | E6: 289 | F6: 1 | G6: 1 | H6: =F6-G6 -> 0 | I6: 1 | J6: 0 | K6: =I6-J6 -> 1 | L6: =I6/B6*100000 -> 0.084287396
A7: Chr2 | B7: =C7+D7+E7 -> 906489 | C7: 906092 | D7: 152 | E7: 245 | F7: 0 | G7: 0 | H7: =F7-G7 -> 0 | I7: 0 | J7: 0 | K7: =I7-J7 -> 0 | L7: =I7/B7*100000 -> 0
A8: Chr3 | B8: =C8+D8+E8 -> 729859 | C8: 729516 | D8: 126 | E8: 217 | F8: 2 | G8: 2 | H8: =F8-G8 -> 0 | I8: 0 | J8: 0 | K8: =I8-J8 -> 0 | L8: =I8/B8*100000 -> 0
A9: Chr4 | B9: =C9+D9+E9 -> 616834 | C9: 616527 | D9: 122 | E9: 185 | F9: 0 | G9: 0 | H9: =F9-G9 -> 0 | I9: 0 | J9: 0 | K9: =I9-J9 -> 0 | L9: =I9/B9*100000 -> 0
A10: Chr5 | B10: =C10+D10+E10 -> 574546 | C10: 574318 | D10: 88 | E10: 140 | F10: 0 | G10: 0 | H10: =F10-G10 -> 0 | I10: 0 | J10: 0 | K10: =I10-J10 -> 0 | L10: =I10/B10*100000 -> 0
A11: Chr6 | B11: =C11+D11+E11 -> 641555 | C11: 641250 | D11: 129 | E11: 176 | F11: 0 | G11: 0 | H11: =F11-G11 -> 0 | I11: 1 | J11: 1 | K11: =I11-J11 -> 0 | L11: =I11/B11*100000 -> 0.15587128
A12: Chr7 | B12: =C12+D12+E12 -> 716581 | C12: 716270 | D12: 134 | E12: 177 | F12: 0 | G12: 0 | H12: =F12-G12 -> 0 | I12: 0 | J12: 0 | K12: =I12-J12 -> 0 | L12: =I12/B12*100000 -> 0
A13: Chr8 | B13: =C13+D13+E13 -> 464347 | C13: 464110 | D13: 99 | E13: 138 | F13: 5 | G13: 5 | H13: =F13-G13 -> 0 | I13: 0 | J13: 0 | K13: =I13-J13 -> 0 | L13: =I13/B13*100000 -> 0
A14: Chr9 | B14: =C14+D14+E14 -> 530854 | C14: 530618 | D14: 101 | E14: 135 | F14: 0 | G14: 0 | H14: =F14-G14 -> 0 | I14: 0 | J14: 0 | K14: =I14-J14 -> 0 | L14: =I14/B14*100000 -> 0
A15: Chr10 | B15: =C15+D15+E15 -> 608576 | C15: 608265 | D15: 139 | E15: 172 | F15: 0 | G15: 0 | H15: =F15-G15 -> 0 | I15: 3 | J15: 3 | K15: =I15-J15 -> 0 | L15: =I15/B15*100000 -> 0.49295404
A16: Chr11 | B16: =C16+D16+E16 -> 548389 | C16: 548148 | D16: 107 | E16: 134 | F16: 0 | G16: 0 | H16: =F16-G16 -> 0 | I16: 0 | J16: 0 | K16: =I16-J16 -> 0 | L16: =I16/B16*100000 -> 0
A17: Chr12 | B17: =C17+D17+E17 -> 622246 | C17: 621975 | D17: 98 | E17: 173 | F17: 1 | G17: 1 | H17: =F17-G17 -> 0 | I17: 0 | J17: 0 | K17: =I17-J17 -> 0 | L17: =I17/B17*100000 -> 0
... A28: ChrX | B28: =C28+D28+E28 -> 510955 | C28: 510763 | D28: 95 | E28: 97 | F28: 1 | G28: 1 | H28: =F28-G28 -> 0 | I28: 0 | J28: 0 | K28: =I28-J28 -> 0 | L28: =I28/B28*100000 -> 0

Sheet Leukemia3
A3: Table S3.13 Leukemia3
A5: Chromosome | B5: Total captured sites | C5: MM | D5: mm | E5: Mm | F5: GOH | G5: GOH-M | H5: GOH-m | I5: LOH | J5: Mm->MM | K5: Mm->mm | L5: LOH / Total captured sites (×10-5)
A6: Chr1 | B6: =C6+D6+E6 -> 2045227 | C6: 2044369 | D6: 295 | E6: 563 | F6: 1 | G6: 1 | H6: =F6-G6 -> 0 | I6: 1 | J6: 1 | K6: =I6-J6 -> 0 | L6: =I6/B6*100000 -> 0.048894328
A7: Chr2 | B7: =C7+D7+E7 -> 1497454 | C7: 1496803 | D7: 270 | E7: 381 | F7: 1 | G7: 1 | H7: =F7-G7 -> 0 | I7: 0 | J7: 0 | K7: =I7-J7 -> 0 | L7: =I7/B7*100000 -> 0
A8: Chr3 | B8: =C8+D8+E8 -> 1278815 | C8: 1278211 | D8: 246 | E8: 358 | F8: 0 | G8: 0 | H8: =F8-G8 -> 0 | I8: 3 | J8: 3 | K8: =I8-J8 -> 0 | L8: =I8/B8*100000 -> 0.23459218
A9: Chr4 | B9: =C9+D9+E9 -> 999151 | C9: 998598 | D9: 244 | E9: 309 | F9: 2 | G9: 0 | H9: =F9-G9 -> 2 | I9: 0 | J9: 0 | K9: =I9-J9 -> 0 | L9: =I9/B9*100000 -> 0
A10: Chr5 | B10: =C10+D10+E10 -> 995172 | C10: 994731 | D10: 166 | E10: 275 | F10: 1 | G10: 1 | H10: =F10-G10 -> 0 | I10: 0 | J10: 0 | K10: =I10-J10 -> 0 | L10: =I10/B10*100000 -> 0
A11: Chr6 | B11: =C11+D11+E11 -> 1076368 | C11: 1075814 | D11: 219 | E11: 335 | F11: 1 | G11: 0 | H11: =F11-G11 -> 1 | I11: 2 | J11: 1 | K11: =I11-J11 -> 1 | L11: =I11/B11*100000 -> 0.18581006
A12: Chr7 | B12: =C12+D12+E12 -> 1235999 | C12: 1235472 | D12: 191 | E12: 336 | F12: 2 | G12: 2 | H12: =F12-G12 -> 0 | I12: 1 | J12: 1 | K12: =I12-J12 -> 0 | L12: =I12/B12*100000 -> 0.080906214
A13: Chr8 | B13: =C13+D13+E13 -> 779843 | C13: 779403 | D13: 159 | E13: 281 | F13: 0 | G13: 0 | H13: =F13-G13 -> 0 | I13: 1 | J13: 1 | K13: =I13-J13 -> 0 | L13: =I13/B13*100000 -> 0.12823094
A14: Chr9 | B14: =C14+D14+E14 -> 909561 | C14: 909117 | D14: 196 | E14: 248 | F14: 0 | G14: 0 | H14: =F14-G14 -> 0 | I14: 0 | J14: 0 | K14: =I14-J14 -> 0 | L14: =I14/B14*100000 -> 0
A15: Chr10 | B15: =C15+D15+E15 -> 1026566 | C15: 1026089 | D15: 197 | E15: 280 | F15: 1 | G15: 1 | H15: =F15-G15 -> 0 | I15: 2 | J15: 2 | K15: =I15-J15 -> 0 | L15: =I15/B15*100000 -> 0.1948243
A16: Chr11 | B16: =C16+D16+E16 -> 922080 | C16: 921658 | D16: 169 | E16: 253 | F16: 0 | G16: 0 | H16: =F16-G16 -> 0 | I16: 0 | J16: 0 | K16: =I16-J16 -> 0 | L16: =I16/B16*100000 -> 0
A17: Chr12 | B17: =C17+D17+E17 -> 1165567 | C17: 1165040 | D17: 239 | E17: 288 | F17: 2 | G17: 2 | H17: =F17-G17 -> 0 | I17: 1 | J17: 1 | K17: =I17-J17 -> 0 | L17: =I17/B17*100000 -> 0.085795154
... A27: Chr22 | B27: =C27+D27+E27 -> 587805 | C27: 587548 | D27: 85 | E27: 172 | F27: 1 | G27: 0 | H27: =F27-G27 -> 1 | I27: 0 | J27: 0 | K27: =I27-J27 -> 0 | L27: =I27/B27*100000 -> 0
A29: Chromosome | B29: Total captured sites | C29: M | D29: m
A30: ChrX | B30: =C30+D30+E30 -> 440427 | C30: 440372 | D30: 55
A31: ChrY | B31: =C31+D31+E31 -> 37967 | C31: 37965 | D31: 2

Sheet Leukemia4
A3: Table S3.14 Leukemia4
A5: Chromosome | B5: Total captured sites | C5: MM | D5: mm | E5: Mm | F5: GOH | G5: GOH-M | H5: GOH-m | I5: LOH | J5: Mm->MM | K5: Mm->mm | L5: LOH / Total captured sites (×10-5)
A6: Chr1 | B6: =C6+D6+E6 -> 1658241 | C6: 1657826 | D6: 108 | E6: 307 | F6: 4 | G6: 3 | H6: =F6-G6 -> 1 | I6: 2 | J6: 2 | K6: =I6-J6 -> 0 | L6: =I6/B6*100000 -> 0.12060973
A7: Chr2 | B7: =C7+D7+E7 -> 1100376 | C7: 1100074 | D7: 91 | E7: 211 | F7: 1 | G7: 0 | H7: =F7-G7 -> 1 | I7: 2 | J7: 1 | K7: =I7-J7 -> 1 | L7: =I7/B7*100000 -> 0.18175605
A8: Chr3 | B8: =C8+D8+E8 -> 932697 | C8: 932470 | D8: 84 | E8: 143 | F8: 0 | G8: 0 | H8: =F8-G8 -> 0 | I8: 1 | J8: 1 | K8: =I8-J8 -> 0 | L8: =I8/B8*100000 -> 0.10721596
A9: Chr4 | B9: =C9+D9+E9 -> 676205 | C9: 676059 | D9: 46 | E9: 100 | F9: 5 | G9: 4 | H9: =F9-G9 -> 1 | I9: 0 | J9: 0 | K9: =I9-J9 -> 0 | L9: =I9/B9*100000 -> 0
A10: Chr5 | B10: =C10+D10+E10 -> 734121 | C10: 733939 | D10: 55 | E10: 127 | F10: 0 | G10: 0 | H10: =F10-G10 -> 0 | I10: 0 | J10: 0 | K10: =I10-J10 -> 0 | L10: =I10/B10*100000 -> 0
A11: Chr6 | B11: =C11+D11+E11 -> 833377 | C11: 833123 | D11: 79 | E11: 175 | F11: 1 | G11: 1 | H11: =F11-G11 -> 0 | I11: 3 | J11: 3 | K11: =I11-J11 -> 0 | L11: =I11/B11*100000 -> 0.35998114
A12: Chr7 | B12: =C12+D12+E12 -> 1007845 | C12: 1007596 | D12: 64 | E12: 185 | F12: 2 | G12: 2 | H12: =F12-G12 -> 0 | I12: 1 | J12: 1 | K12: =I12-J12 -> 0 | L12: =I12/B12*100000 -> 0.099221606
A13: Chr8 | B13: =C13+D13+E13 -> 570299 | C13: 570132 | D13: 40 | E13: 127 | F13: 0 | G13: 0 | H13: =F13-G13 -> 0 | I13: 0 | J13: 0 | K13: =I13-J13 -> 0 | L13: =I13/B13*100000 -> 0
A14: Chr9 | B14: =C14+D14+E14 -> 698198 | C14: 698022 | D14: 52 | E14: 124 | F14: 0 | G14: 0 | H14: =F14-G14 -> 0 | I14: 2 | J14: 2 | K14: =I14-J14 -> 0 | L14: =I14/B14*100000 -> 0.28645169
A15: Chr10 | B15: =C15+D15+E15 -> 803521 | C15: 803314 | D15: 65 | E15: 142 | F15: 1 | G15: 1 | H15: =F15-G15 -> 0 | I15: 1 | J15: 1 | K15: =I15-J15 -> 0 | L15: =I15/B15*100000 -> 0.12445225
A16: Chr11 | B16: =C16+D16+E16 -> 744788 | C16: 744614 | D16: 49 | E16: 125 | F16: 0 | G16: 0 | H16: =F16-G16 -> 0 | I16: 2 | J16: 2 | K16: =I16-J16 -> 0 | L16: =I16/B16*100000 -> 0.26853279
A17: Chr12 | B17: =C17+D17+E17 -> 944960 | C17: 944726 | D17: 82 | E17: 152 | F17: 2 | G17: 2 | H17: =F17-G17 -> 0 | I17: 2 | J17: 1 | K17: =I17-J17 -> 1 | L17: =I17/B17*100000 -> 0.21164917
... A28: ChrX | B28: =C28+D28+E28 -> 529874 | C28: 529793 | D28: 29 | E28: 52 | F28: 0 | G28: 0 | H28: =F28-G28 -> 0 | I28: 4 | J28: 4 | K28: =I28-J28 -> 0 | L28: =I28/B28*100000 -> 0.75489645

Sheet Leukemia5
A3: Table S3.15 Leukemia5
A5: Chromosome | B5: Total captured sites | C5: MM | D5: mm | E5: Mm | F5: GOH | G5: GOH-M | H5: GOH-m | I5: LOH | J5: Mm->MM | K5: Mm->mm | L5: LOH / Total captured sites (×10-5)
A6: Chr1 | B6: =C6+D6+E6 -> 1945157 | C6: 1944691 | D6: 152 | E6: 314 | F6: 7 | G6: 7 | H6: =F6-G6 -> 0 | I6: 4 | J6: 2 | K6: =I6-J6 -> 2 | L6: =I6/B6*100000 -> 0.20563893
A7: Chr2 | B7: =C7+D7+E7 -> 1345911 | C7: 1345598 | D7: 105 | E7: 208 | F7: 4 | G7: 4 | H7: =F7-G7 -> 0 | I7: 4 | J7: 3 | K7: =I7-J7 -> 1 | L7: =I7/B7*100000 -> 0.29719647
A8: Chr3 | B8: =C8+D8+E8 -> 1118928 | C8: 1118679 | D8: 101 | E8: 148 | F8: 4 | G8: 3 | H8: =F8-G8 -> 1 | I8: 3 | J8: 3 | K8: =I8-J8 -> 0 | L8: =I8/B8*100000 -> 0.26811377
A9: Chr4 | B9: =C9+D9+E9 -> 856439 | C9: 856194 | D9: 84 | E9: 161 | F9: 2 | G9: 2 | H9: =F9-G9 -> 0 | I9: 2 | J9: 2 | K9: =I9-J9 -> 0 | L9: =I9/B9*100000 -> 0.2335251
A10: Chr5 | B10: =C10+D10+E10 -> 887038 | C10: 886833 | D10: 69 | E10: 136 | F10: 2 | G10: 2 | H10: =F10-G10 -> 0 | I10: 2 | J10: 2 | K10: =I10-J10 -> 0 | L10: =I10/B10*100000 -> 0.22546948
A11: Chr6 | B11: =C11+D11+E11 -> 1012884 | C11: 1012593 | D11: 106 | E11: 185 | F11: 2 | G11: 1 | H11: =F11-G11 -> 1 | I11: 2 | J11: 2 | K11: =I11-J11 -> 0 | L11: =I11/B11*100000 -> 0.19745598
A12: Chr7 | B12: =C12+D12+E12 -> 1186435 | C12: 1186102 | D12: 86 | E12: 247 | F12: 7 | G12: 7 | H12: =F12-G12 -> 0 | I12: 4 | J12: 4 | K12: =I12-J12 -> 0 | L12: =I12/B12*100000 -> 0.33714447
A13: Chr8 | B13: =C13+D13+E13 -> 701837 | C13: 701661 | D13: 57 | E13: 119 | F13: 1 | G13: 0 | H13: =F13-G13 -> 1 | I13: 1 | J13: 1 | K13: =I13-J13 -> 0 | L13: =I13/B13*100000 -> 0.14248323
A14: Chr9 | B14: =C14+D14+E14 -> 842274 | C14: 842039 | D14: 73 | E14: 162 | F14: 4 | G14: 2 | H14: =F14-G14 -> 2 | I14: 2 | J14: 2 | K14: =I14-J14 -> 0 | L14: =I14/B14*100000 -> 0.23745242
A15: Chr10 | B15: =C15+D15+E15 -> 966572 | C15: 966322 | D15: 105 | E15: 145 | F15: 1 | G15: 1 | H15: =F15-G15 -> 0 | I15: 0 | J15: 0 | K15: =I15-J15 -> 0 | L15: =I15/B15*100000 -> 0
A16: Chr11 | B16: =C16+D16+E16 -> 903596 | C16: 903389 | D16: 78 | E16: 129 | F16: 1 | G16: 1 | H16: =F16-G16 -> 0 | I16: 0 | J16: 0 | K16: =I16-J16 -> 0 | L16: =I16/B16*100000 -> 0
A17: Chr12 | B17: =C17+D17+E17 -> 1105615 | C17: 1105346 | D17: 109 | E17: 160 | F17: 1 | G17: 1 | H17: =F17-G17 -> 0 | I17: 5 | J17: 5 | K17: =I17-J17 -> 0 | L17: =I17/B17*100000 -> 0.45223699
... A27: Chr22 | B27: =C27+D27+E27 -> 657039 | C27: 656865 | D27: 38 | E27: 136 | F27: 7 | G27: 4 | H27: =F27-G27 -> 3 | I27: 0 | J27: 0 | K27: =I27-J27 -> 0 | L27: =I27/B27*100000 -> 0
A29: Chromosome | B29: Total captured sites | C29: M | D29: m
A30: ChrX | B30: =C30+D30+E30 -> 514288 | C30: 514263 | D30: 25
A31: ChrY | B31: =C31+D31+E31 -> 16368 | C31: 16364 | D31: 4

Sheet Liver1
A3: Table S3.16 Liver1
A5: Chromosome | B5: Total captured sites | C5: MM | D5: mm | E5: Mm | F5: GOH | G5: GOH-M | H5: GOH-m | I5: LOH | J5: Mm->MM | K5: Mm->mm | L5: LOH / Total captured sites (×10-5)
A6: Chr1 | B6: =C6+D6+E6 -> 1015768 | C6: 1015551 | D6: 83 | E6: 134 | F6: 73 | G6: 65 | H6: =F6-G6 -> 8 | I6: 38 | J6: 34 | K6: =I6-J6 -> 4 | L6: =I6/B6*100000 -> 3.7410117
A7: Chr2 | B7: =C7+D7+E7 -> 694819 | C7: 694688 | D7: 68 | E7: 63 | F7: 22 | G7: 15 | H7: =F7-G7 -> 7 | I7: 22 | J7: 15 | K7: =I7-J7 -> 7 | L7: =I7/B7*100000 -> 3.1662922
A8: Chr3 | B8: =C8+D8+E8 -> 590131 | C8: 590013 | D8: 53 | E8: 65 | F8: 32 | G8: 26 | H8: =F8-G8 -> 6 | I8: 15 | J8: 11 | K8: =I8-J8 -> 4 | L8: =I8/B8*100000 -> 2.5418085
A9: Chr4 | B9: =C9+D9+E9 -> 437647 | C9: 437561 | D9: 29 | E9: 57 | F9: 25 | G9: 24 | H9: =F9-G9 -> 1 | I9: 18 | J9: 18 | K9: =I9-J9 -> 0 | L9: =I9/B9*100000 -> 4.1129038
A10: Chr5 | B10: =C10+D10+E10 -> 457288 | C10: 457185 | D10: 36 | E10: 67 | F10: 34 | G10: 30 | H10: =F10-G10 -> 4 | I10: 23 | J10: 23 | K10: =I10-J10 -> 0 | L10: =I10/B10*100000 -> 5.0296531
A11: Chr6 | B11: =C11+D11+E11 -> 520416 | C11: 520291 | D11: 42 | E11: 83 | F11: 13 | G11: 9 | H11: =F11-G11 -> 4 | I11: 15 | J11: 10 | K11: =I11-J11 -> 5 | L11: =I11/B11*100000 -> 2.8823095
A12: Chr7 | B12: =C12+D12+E12 -> 603849 | C12: 603734 | D12: 40 | E12: 75 | F12: 22 | G12: 19 | H12: =F12-G12 -> 3 | I12: 18 | J12: 16 | K12: =I12-J12 -> 2 | L12: =I12/B12*100000 -> 2.9808777
A13: Chr8 | B13: =C13+D13+E13 -> 358698 | C13: 358614 | D13: 31 | E13: 53 | F13: 19 | G13: 16 | H13: =F13-G13 -> 3 | I13: 14 | J13: 10 | K13: =I13-J13 -> 4 | L13: =I13/B13*100000 -> 3.9030048
A14: Chr9 | B14: =C14+D14+E14 -> 427005 | C14: 426940 | D14: 30 | E14: 35 | F14: 22 | G14: 18 | H14: =F14-G14 -> 4 | I14: 10 | J14: 9 | K14: =I14-J14 -> 1 | L14: =I14/B14*100000 -> 2.341893
A15: Chr10 | B15: =C15+D15+E15 -> 513550 | C15: 513438 | D15: 52 | E15: 60 | F15: 23 | G15: 19 | H15: =F15-G15 -> 4 | I15: 18 | J15: 16 | K15: =I15-J15 -> 2 | L15: =I15/B15*100000 -> 3.5050141
A16: Chr11 | B16: =C16+D16+E16 -> 445199 | C16: 445123 | D16: 28 | E16: 48 | F16: 17 | G16: 15 | H16: =F16-G16 -> 2 | I16: 12 | J16: 11 | K16: =I16-J16 -> 1 | L16: =I16/B16*100000 -> 2.6954238
A17: Chr12 | B17: =C17+D17+E17 -> 578973 | C17: 578864 | D17: 41 | E17: 68 | F17: 17 | G17: 14 | H17: =F17-G17 -> 3 | I17: 18 | J17: 15 | K17: =I17-J17 -> 3 | L17: =I17/B17*100000 -> 3.1089533
... A28: ChrX | B28: =C28+D28+E28 -> 309443 | C28: 309418 | D28: 9 | E28: 16 | F28: 6 | G28: 6 | H28: =F28-G28 -> 0 | I28: 5 | J28: 5 | K28: =I28-J28 -> 0 | L28: =I28/B28*100000 -> 1.6158065

Sheet Liver2
A3: Table S3.17 Liver2
A5: Chromosome | B5: Total captured sites | C5: MM | D5: mm | E5: Mm | F5: GOH | G5: GOH-M | H5: GOH-m | I5: LOH | J5: Mm->MM | K5: Mm->mm | L5: LOH / Total captured sites (×10-5)
A6: Chr1 | B6: =C6+D6+E6 -> 1767801 | C6: 1767253 | D6: 190 | E6: 358 | F6: 15 | G6: 11 | H6: =F6-G6 -> 4 | I6: 38 | J6: 35 | K6: =I6-J6 -> 3 | L6: =I6/B6*100000 -> 2.1495632
A7: Chr2 | B7: =C7+D7+E7 -> 1146147 | C7: 1145687 | D7: 158 | E7: 302 | F7: 16 | G7: 12 | H7: =F7-G7 -> 4 | I7: 29 | J7: 27 | K7: =I7-J7 -> 2 | L7: =I7/B7*100000 -> 2.5302165
A8: Chr3 | B8: =C8+D8+E8 -> 1016716 | C8: 1016276 | D8: 151 | E8: 289 | F8: 7 | G8: 6 | H8: =F8-G8 -> 1 | I8: 26 | J8: 26 | K8: =I8-J8 -> 0 | L8: =I8/B8*100000 -> 2.557253
A9: Chr4 | B9: =C9+D9+E9 -> 679162 | C9: 678889 | D9: 120 | E9: 153 | F9: 2 | G9: 2 | H9: =F9-G9 -> 0 | I9: 16 | J9: 14 | K9: =I9-J9 -> 2 | L9: =I9/B9*100000 -> 2.3558444
A10: Chr5 | B10: =C10+D10+E10 -> 773395 | C10: 773104 | D10: 89 | E10: 202 | F10: 5 | G10: 5 | H10: =F10-G10 -> 0 | I10: 25 | J10: 22 | K10: =I10-J10 -> 3 | L10: =I10/B10*100000 -> 3.2325009
A11: Chr6 | B11: =C11+D11+E11 -> 907517 | C11: 907038 | D11: 150 | E11: 329 | F11: 2 | G11: 2 | H11: =F11-G11 -> 0 | I11: 17 | J11: 16 | K11: =I11-J11 -> 1 | L11: =I11/B11*100000 -> 1.8732431
A12: Chr7 | B12: =C12+D12+E12 -> 967662 | C12: 967293 | D12: 121 | E12: 248 | F12: 14 | G12: 13 | H12: =F12-G12 -> 1 | I12: 30 | J12: 25 | K12: =I12-J12 -> 5 | L12: =I12/B12*100000 -> 3.1002561
A13: Chr8 | B13: =C13+D13+E13 -> 671742 | C13: 671496 | D13: 107 | E13: 139 | F13: 8 | G13: 6 | H13: =F13-G13 -> 2 | I13: 20 | J13: 18 | K13: =I13-J13 -> 2 | L13: =I13/B13*100000 -> 2.9773336
A14: Chr9 | B14: =C14+D14+E14 -> 743425 | C14: 743133 | D14: 119 | E14: 173 | F14: 4 | G14: 3 | H14: =F14-G14 -> 1 | I14: 21 | J14: 21 | K14: =I14-J14 -> 0 | L14: =I14/B14*100000 -> 2.8247638
A15: Chr10 | B15: =C15+D15+E15 -> 805051 | C15: 804736 | D15: 129 | E15: 186 | F15: 4 | G15: 4 | H15: =F15-G15 -> 0 | I15: 31 | J15: 31 | K15: =I15-J15 -> 0 | L15: =I15/B15*100000 -> 3.8506877
A16: Chr11 | B16: =C16+D16+E16 -> 718771 | C16: 718549 | D16: 115 | E16: 107 | F16: 5 | G16: 4 | H16: =F16-G16 -> 1 | I16: 29 | J16: 26 | K16: =I16-J16 -> 3 | L16: =I16/B16*100000 -> 4.0346647
A17: Chr12 | B17: =C17+D17+E17 -> 914563 | C17: 914138 | D17: 123 | E17: 302 | F17: 9 | G17: 7 | H17: =F17-G17 -> 2 | I17: 36 | J17: 35 | K17: =I17-J17 -> 1 | L17: =I17/B17*100000 -> 3.9363062
... A27: Chr22 | B27: =C27+D27+E27 -> 523256 | C27: 523044 | D27: 45 | E27: 167 | F27: 7 | G27: 4 | H27: =F27-G27 -> 3 | I27: 14 | J27: 14 | K27: =I27-J27 -> 0 | L27: =I27/B27*100000 -> 2.6755546
A29: Chromosome | B29: Total captured sites | C29: M | D29: m
A30: ChrX | B30: =C30+D30+E30 -> 359977 | C30: 359940 | D30: 37
A31: ChrY | B31: =C31+D31+E31 -> 24447 | C31: 24445 | D31: 2

Sheet Liver3
A3: Table S3.18 Liver3
A5: Chromosome | B5: Total captured sites | C5: MM | D5: mm | E5: Mm | F5: GOH | G5: GOH-M | H5: GOH-m | I5: LOH | J5: Mm->MM | K5: Mm->mm | L5: LOH / Total captured sites (×10-5)
A6: Chr1 | B6: =C6+D6+E6 -> 1164849 | C6: 1164388 | D6: 178 | E6: 283 | F6: 10 | G6: 10 | H6: =F6-G6 -> 0 | I6: 12 | J6: 10 | K6: =I6-J6 -> 2 | L6: =I6/B6*100000 -> 1.0301764
A7: Chr2 | B7: =C7+D7+E7 -> 732193 | C7: 731867 | D7: 140 | E7: 186 | F7: 5 | G7: 4 | H7: =F7-G7 -> 1 | I7: 6 | J7: 6 | K7: =I7-J7 -> 0 | L7: =I7/B7*100000 -> 0.81945607
A8: Chr3 | B8: =C8+D8+E8 -> 612442 | C8: 612111 | D8: 145 | E8: 186 | F8: 3 | G8: 3 | H8: =F8-G8 -> 0 | I8: 9 | J8: 7 | K8: =I8-J8 -> 2 | L8: =I8/B8*100000 -> 1.4695269
A9: Chr4 | B9: =C9+D9+E9 -> 421682 | C9: 421480 | D9: 96 | E9: 106 | F9: 3 | G9: 2 | H9: =F9-G9 -> 1 | I9: 8 | J9: 7 | K9: =I9-J9 -> 1 | L9: =I9/B9*100000 -> 1.8971642
A10: Chr5 | B10: =C10+D10+E10 -> 553080 | C10: 552922 | D10: 102 | E10: 56 | F10: 8 | G10: 6 | H10: =F10-G10 -> 2 | I10: 5 | J10: 4 | K10: =I10-J10 -> 1 | L10: =I10/B10*100000 -> 0.90402835
A11: Chr6 | B11: =C11+D11+E11 -> 561601 | C11: 561322 | D11: 122 | E11: 157 | F11: 9 | G11: 8 | H11: =F11-G11 -> 1 | I11: 6 | J11: 4 | K11: =I11-J11 -> 2 | L11: =I11/B11*100000 -> 1.0683742
A12: Chr7 | B12: =C12+D12+E12 -> 689414 | C12: 689093 | D12: 127 | E12: 194 | F12: 4 | G12: 3 | H12: =F12-G12 -> 1 | I12: 14 | J12: 13 | K12: =I12-J12 -> 1 | L12: =I12/B12*100000 -> 2.0307101
A13: Chr8 | B13: =C13+D13+E13 -> 381112 | C13: 380973 | D13: 94 | E13: 45 | F13: 2 | G13: 1 | H13: =F13-G13 -> 1 | I13: 8 | J13: 6 | K13: =I13-J13 -> 2 | L13: =I13/B13*100000 -> 2.0991205
A14: Chr9 | B14: =C14+D14+E14 -> 489359 | C14: 489122 | D14: 97 | E14: 140 | F14: 4 | G14: 4 | H14: =F14-G14 -> 0 | I14: 4 | J14: 3 | K14: =I14-J14 -> 1 | L14: =I14/B14*100000 -> 0.81739582
A15: Chr10 | B15: =C15+D15+E15 -> 545136 | C15: 544845 | D15: 136 | E15: 155 | F15: 6 | G15: 3 | H15: =F15-G15 -> 3 | I15: 5 | J15: 4 | K15: =I15-J15 -> 1 | L15: =I15/B15*100000 -> 0.91720231
A16: Chr11 | B16: =C16+D16+E16 -> 499440 | C16: 499199 | D16: 109 | E16: 132 | F16: 7 | G16: 2 | H16: =F16-G16 -> 5 | I16: 5 | J16: 4 | K16: =I16-J16 -> 1 | L16: =I16/B16*100000 -> 1.0011213
A17: Chr12 | B17: =C17+D17+E17 -> 637604 | C17: 637318 | D17: 109 | E17: 177 | F17: 4 | G17: 3 | H17: =F17-G17 -> 1 | I17: 10 | J17: 9 | K17: =I17-J17 -> 1 | L17: =I17/B17*100000 -> 1.5683716
... A27: Chr22 | B27: =C27+D27+E27 -> 413909 | C27: 413729 | D27: 85 | E27: 95 | F27: 2 | G27: 2 | H27: =F27-G27 -> 0 | I27: 9 | J27: 6 | K27: =I27-J27 -> 3 | L27: =I27/B27*100000 -> 2.174391
A29: Chromosome | B29: Total captured sites | C29: M | D29: m
A30: ChrX | B30: =C30+D30+E30 -> 257338 | C30: 257298 | D30: 40
A31: ChrY | B31: =C31+D31+E31 -> 13488 | C31: 13488 | D31: 0

Sheet Liver4
A3: Table S3.19 Liver4
A5: Chromosome | B5: Total captured sites | C5: MM | D5: mm | E5: Mm | F5: GOH | G5: GOH-M | H5: GOH-m | I5: LOH | J5: Mm->MM | K5: Mm->mm | L5: LOH / Total captured sites (×10-5)
A6: Chr1 | B6: =C6+D6+E6 -> 788262 | C6: 788003 | D6: 98 | E6: 161 | F6: 4 | G6: 2 | H6: =F6-G6 -> 2 | I6: 22 | J6: 21 | K6: =I6-J6 -> 1 | L6: =I6/B6*100000 -> 2.7909502
A7: Chr2 | B7: =C7+D7+E7 -> 511362 | C7: 511152 | D7: 75 | E7: 135 | F7: 1 | G7: 1 | H7: =F7-G7 -> 0 | I7: 12 | J7: 10 | K7: =I7-J7 -> 2 | L7: =I7/B7*100000 -> 2.3466742
A8: Chr3 | B8: =C8+D8+E8 -> 457331 | C8: 457146 | D8: 80 | E8: 105 | F8: 5 | G8: 2 | H8: =F8-G8 -> 3 | I8: 15 | J8: 14 | K8: =I8-J8 -> 1 | L8: =I8/B8*100000 -> 3.2799001
A9: Chr4 | B9: =C9+D9+E9 -> 297131 | C9: 297044 | D9: 43 | E9: 44 | F9: 3 | G9: 2 | H9: =F9-G9 -> 1 | I9: 8 | J9: 6 | K9: =I9-J9 -> 2 | L9: =I9/B9*100000 -> 2.6924151
A10: Chr5 | B10: =C10+D10+E10 -> 345405 | C10: 345277 | D10: 57 | E10: 71 | F10: 2 | G10: 2 | H10: =F10-G10 -> 0 | I10: 4 | J10: 2 | K10: =I10-J10 -> 2 | L10: =I10/B10*100000 -> 1.1580608
A11: Chr6 | B11: =C11+D11+E11 -> 380064 | C11: 379901 | D11: 60 | E11: 103 | F11: 3 | G11: 3 | H11: =F11-G11 -> 0 | I11: 22 | J11: 16 | K11: =I11-J11 -> 6 | L11: =I11/B11*100000 -> 5.7884988
A12: Chr7 | B12: =C12+D12+E12 -> 458202 | C12: 458058 | D12: 54 | E12: 90 | F12: 1 | G12: 1 | H12: =F12-G12 -> 0 | I12: 13 | J12: 10 | K12: =I12-J12 -> 3 | L12: =I12/B12*100000 -> 2.8371766
A13: Chr8 | B13: =C13+D13+E13 -> 258804 | C13: 258694 | D13: 50 | E13: 60 | F13: 4 | G13: 3 | H13: =F13-G13 -> 1 | I13: 4 | J13: 3 | K13: =I13-J13 -> 1 | L13: =I13/B13*100000 -> 1.5455712
A14: Chr9 | B14: =C14+D14+E14 -> 308785 | C14: 308684 | D14: 46 | E14: 55 | F14: 6 | G14: 4 | H14: =F14-G14 -> 2 | I14: 6 | J14: 5 | K14: =I14-J14 -> 1 | L14: =I14/B14*100000 -> 1.9430996
A15: Chr10 | B15: =C15+D15+E15 -> 357136 | C15: 357012 | D15: 55 | E15: 69 | F15: 2 | G15: 2 | H15: =F15-G15 -> 0 | I15: 11 | J15: 7 | K15: =I15-J15 -> 4 | L15: =I15/B15*100000 -> 3.0800591
A16: Chr11 | B16: =C16+D16+E16 -> 316608 | C16: 316496 | D16: 41 | E16: 71 | F16: 2 | G16: 2 | H16: =F16-G16 -> 0 | I16: 11 | J16: 11 | K16: =I16-J16 -> 0 | L16: =I16/B16*100000 -> 3.4743279
A17: Chr12 | B17: =C17+D17+E17 -> 452642 | C17: 452481 | D17: 62 | E17: 99 | F17: 5 | G17: 4 | H17: =F17-G17 -> 1 | I17: 22 | J17: 16 | K17: =I17-J17 -> 6 | L17: =I17/B17*100000 -> 4.8603532
... A27: Chr22 | B27: =C27+D27+E27 -> 238229 | C27: 238154 | D27: 39 | E27: 36 | F27: 1 | G27: 1 | H27: =F27-G27 -> 0 | I27: 7 | J27: 7 | K27: =I27-J27 -> 0 | L27: =I27/B27*100000 -> 2.9383492
A29: Chromosome | B29: Total captured sites | C29: M | D29: m
A30: ChrX | B30: =C30+D30+E30 -> 161833 | C30: 161819 | D30: 14
A31: ChrY | B31: =C31+D31+E31 -> 8306 | C31: 8306 | D31: 0

Sheet Liver5
A3: Table S3.20 Liver5
A5: Chromosome | B5: Total captured sites | C5: MM | D5: mm | E5: Mm | F5: GOH | G5: GOH-M | H5: GOH-m | I5: LOH | J5: Mm->MM | K5: Mm->mm | L5: LOH / Total captured sites (×10-5)
A6: Chr1 | B6: =C6+D6+E6 -> 1080297 | C6: 1079856 | D6: 207 | E6: 234 | F6: 1 | G6: 0 | H6: =F6-G6 -> 1 | I6: 17 | J6: 11 | K6: =I6-J6 -> 6 | L6: =I6/B6*100000 -> 1.5736413
A7: Chr2 | B7: =C7+D7+E7 -> 729184 | C7: 728868 | D7: 162 | E7: 154 | F7: 2 | G7: 1 | H7: =F7-G7 -> 1 | I7: 8 | J7: 7 | K7: =I7-J7 -> 1 | L7: =I7/B7*100000 -> 1.0971168
A8: Chr3 | B8: =C8+D8+E8 -> 609521 | C8: 609318 | D8: 130 | E8: 73 | F8: 2 | G8: 2 | H8: =F8-G8 -> 0 | I8: 21 | J8: 12 | K8: =I8-J8 -> 9 | L8: =I8/B8*100000 -> 3.4453284
A9: Chr4 | B9: =C9+D9+E9 -> 381559 | C9: 381408 | D9: 75 | E9: 76 | F9: 3 | G9: 2 | H9: =F9-G9 -> 1 | I9: 20 | J9: 15 | K9: =I9-J9 -> 5 | L9: =I9/B9*100000 -> 5.2416533
A10: Chr5 | B10: =C10+D10+E10 -> 438920 | C10: 438753 | D10: 83 | E10: 84 | F10: 6 | G10: 5 | H10: =F10-G10 -> 1 | I10: 7 | J10: 7 | K10: =I10-J10 -> 0 | L10: =I10/B10*100000 -> 1.5948237
A11: Chr6 | B11: =C11+D11+E11 -> 513369 | C11: 513107 | D11: 142 | E11: 120 | F11: 2 | G11: 2 | H11: =F11-G11 -> 0 | I11: 1 | J11: 1 | K11: =I11-J11 -> 0 | L11: =I11/B11*100000 -> 0.19479166
A12: Chr7 | B12: =C12+D12+E12 -> 646251 | C12: 645906 | D12: 128 | E12: 217 | F12: 3 | G12: 3 | H12: =F12-G12 -> 0 | I12: 3 | J12: 3 | K12: =I12-J12 -> 0 | L12: =I12/B12*100000 -> 0.46421592
A13: Chr8 | B13: =C13+D13+E13 -> 348620 | C13: 348483 | D13: 74 | E13: 63 | F13: 0 | G13: 0 | H13: =F13-G13 -> 0 | I13: 10 | J13: 7 | K13: =I13-J13 -> 3 | L13: =I13/B13*100000 -> 2.8684528
A14: Chr9 | B14: =C14+D14+E14 -> 448510 | C14: 448293 | D14: 92 | E14: 125 | F14: 6 | G14: 6 | H14: =F14-G14 -> 0 | I14: 13 | J14: 10 | K14: =I14-J14 -> 3 | L14: =I14/B14*100000 -> 2.8984861
A15: Chr10 | B15: =C15+D15+E15 -> 509326 | C15: 509042 | D15: 135 | E15: 149 | F15: 0 | G15: 0 | H15: =F15-G15 -> 0 | I15: 9 | J15: 9 | K15: =I15-J15 -> 0 | L15: =I15/B15*100000 -> 1.7670411
A16: Chr11 | B16: =C16+D16+E16 -> 446554 | C16: 446352 | D16: 95 | E16: 107 | F16: 3 | G16: 3 | H16: =F16-G16 -> 0 | I16: 5 | J16: 4 | K16: =I16-J16 -> 1 | L16: =I16/B16*100000 -> 1.1196854
A17: Chr12 | B17: =C17+D17+E17 -> 593888 | C17: 593668 | D17: 98 | E17: 122 | F17: 3 | G17: 3 | H17: =F17-G17 -> 0 | I17: 2 | J17: 2 | K17: =I17-J17 -> 0 | L17: =I17/B17*100000 -> 0.33676383
... A27: Chr22 | B27: =C27+D27+E27 -> 375758 | C27: 375603 | D27: 74 | E27: 81 | F27: 4 | G27: 3 | H27: =F27-G27 -> 1 | I27: 4 | J27: 4 | K27: =I27-J27 -> 0 | L27: =I27/B27*100000 -> 1.0645149
A29: Chromosome | B29: Total captured sites | C29: M | D29: m
A30: ChrX | B30: =C30+D30+E30 -> 199254 | C30: 199227 | D30: 27
A31: ChrY | B31: =C31+D31+E31 -> 0 | C31: 0 | D31: 0

Sheet Lung1
A3: Table S3.21 Lung1
A5: Chromosome | B5: Total captured sites | C5: MM | D5: mm | E5: Mm | F5: GOH | G5: GOH-M | H5: GOH-m | I5: LOH | J5: Mm->MM | K5: Mm->mm | L5: LOH / Total captured sites (×10-5)
A6: Chr1 | B6: =C6+D6+E6 -> 1142012 | C6: 1141527 | D6: 192 | E6: 293 | F6: 3 | G6: 1 | H6: =F6-G6 -> 2 | I6: 19 | J6: 13 | K6: =I6-J6 -> 6 | L6: =I6/B6*100000 -> 1.6637303
A7: Chr2 | B7: =C7+D7+E7 -> 818885 | C7: 818474 | D7: 177 | E7: 234 | F7: 3 | G7: 2 | H7: =F7-G7 -> 1 | I7: 11 | J7: 9 | K7: =I7-J7 -> 2 | L7: =I7/B7*100000 -> 1.34329
A8: Chr3 | B8: =C8+D8+E8 -> 704012 | C8: 703675 | D8: 168 | E8: 169 | F8: 2 | G8: 0 | H8: =F8-G8 -> 2 | I8: 16 | J8: 12 | K8: =I8-J8 -> 4 | L8: =I8/B8*100000 -> 2.2726885
A9: Chr4 | B9: =C9+D9+E9 -> 482327 | C9: 482078 | D9: 104 | E9: 145 | F9: 5 | G9: 4 | H9: =F9-G9 -> 1 | I9: 10 | J9: 9 | K9: =I9-J9 -> 1 | L9: =I9/B9*100000 -> 2.0732822
A10: Chr5 | B10: =C10+D10+E10 -> 538061 | C10: 537814 | D10: 110 | E10: 137 | F10: 1 | G10: 1 | H10: =F10-G10 -> 0 | I10: 6 | J10: 5 | K10: =I10-J10 -> 1 | L10: =I10/B10*100000 -> 1.1151152
A11: Chr6 | B11: =C11+D11+E11 -> 564548 | C11: 564281 | D11: 103 | E11: 164 | F11: 3 | G11: 1 | H11: =F11-G11 -> 2 | I11: 5 | J11: 3 | K11: =I11-J11 -> 2 | L11: =I11/B11*100000 -> 0.88566428
A12: Chr7 | B12: =C12+D12+E12 -> 698684 | C12: 698319 | D12: 142 | E12: 223 | F12: 5 | G12: 2 | H12: =F12-G12 -> 3 | I12: 14 | J12: 9 | K12: =I12-J12 -> 5 | L12: =I12/B12*100000 -> 2.0037671
A13: Chr8 | B13: =C13+D13+E13 -> 425025 | C13: 424798 | D13: 97 | E13: 130 | F13: 1 | G13: 0 | H13: =F13-G13 -> 1 | I13: 4 | J13: 4 | K13: =I13-J13 -> 0 | L13: =I13/B13*100000 -> 0.94112111
A14: Chr9 | B14: =C14+D14+E14 -> 457033 | C14: 456794 | D14: 103 | E14: 136 | F14: 1 | G14: 1 | H14: =F14-G14 -> 0 | I14: 9 | J14: 9 | K14: =I14-J14 -> 0 | L14: =I14/B14*100000 -> 1.9692232
A15: Chr10 | B15: =C15+D15+E15 -> 597681 | C15: 597350 | D15: 154 | E15: 177 | F15: 2 | G15: 2 | H15: =F15-G15 -> 0 | I15: 6 | J15: 5 | K15: =I15-J15 -> 1 | L15: =I15/B15*100000 -> 1.00388
A16: Chr11 | B16: =C16+D16+E16 -> 492925 | C16: 492685 | D16: 104 | E16: 136 | F16: 3 | G16: 3 | H16: =F16-G16 -> 0 | I16: 12 | J16: 10 | K16: =I16-J16 -> 2 | L16: =I16/B16*100000 -> 2.4344474
A17: Chr12 | B17: =C17+D17+E17 -> 638447 | C17: 638147 | D17: 128 | E17: 172 | F17: 1 | G17: 1 | H17: =F17-G17 -> 0 | I17: 19 | J17: 16 | K17: =I17-J17 -> 3 | L17: =I17/B17*100000 -> 2.9759714
... A27: Chr22 | B27: =C27+D27+E27 -> 346170 | C27: 345998 | D27: 57 | E27: 115 | F27: 2 | G27: 0 | H27: =F27-G27 -> 2 | I27: 7 | J27: 3 | K27: =I27-J27 -> 4 | L27: =I27/B27*100000 -> 2.0221279
A29: Chromosome | B29: Total captured sites | C29: M | D29: m
A30: ChrX | B30: =C30+D30+E30 -> 207589 | C30: 207563 | D30: 26
A31: ChrY | B31: =C31+D31+E31 -> 12673 | C31: 12671 | D31: 2

Sheet Lung2
A3: Table S3.22 Lung2
A5: Chromosome | B5: Total captured sites | C5: MM | D5: mm | E5: Mm | F5: GOH | G5: GOH-M | H5: GOH-m | I5: LOH | J5: Mm->MM | K5: Mm->mm | L5: LOH / Total captured sites (×10-5)
A6: Chr1 | B6: =C6+D6+E6 -> 1200105 | C6: 1199661 | D6: 256 | E6: 188 | F6: 30 | G6: 24 | H6: =F6-G6 -> 6 | I6: 28 | J6: 27 | K6: =I6-J6 -> 1 | L6: =I6/B6*100000 -> 2.3331292
A7: Chr2 | B7: =C7+D7+E7 -> 956604 | C7: 956117 | D7: 246 | E7: 241 | F7: 23 | G7: 19 | H7: =F7-G7 -> 4 | I7: 14 | J7: 14 | K7: =I7-J7 -> 0 | L7: =I7/B7*100000 -> 1.4635105
A8: Chr3 | B8: =C8+D8+E8 -> 811080 | C8: 810739 | D8: 217 | E8: 124 | F8: 24 | G8: 23 | H8: =F8-G8 -> 1 | I8: 20 | J8: 18 | K8: =I8-J8 -> 2 | L8: =I8/B8*100000 -> 2.465848
A9: Chr4 | B9: =C9+D9+E9 -> 570345 | C9: 570119 | D9: 148 | E9: 78 | F9: 11 | G9: 10 | H9: =F9-G9 -> 1 | I9: 10 | J9: 8 | K9: =I9-J9 -> 2 | L9: =I9/B9*100000 -> 1.7533247
A10: Chr5 | B10: =C10+D10+E10 -> 575522 | C10: 575310 | D10: 116 | E10: 96 | F10: 18 | G10: 17 | H10: =F10-G10 -> 1 | I10: 10 | J10: 10 | K10: =I10-J10 -> 0 | L10: =I10/B10*100000 -> 1.737553
A11: Chr6 | B11: =C11+D11+E11 -> 660825 | C11: 660497 | D11: 177 | E11: 151 | F11: 11 | G11: 10 | H11: =F11-G11 -> 1 | I11: 12 | J11: 12 | K11: =I11-J11 -> 0 | L11: =I11/B11*100000 -> 1.8159119
A12: Chr7 | B12: =C12+D12+E12 -> 757893 | C12: 757559 | D12: 184 | E12: 150 | F12: 28 | G12: 27 | H12: =F12-G12 -> 1 | I12: 20 | J12: 18 | K12: =I12-J12 -> 2 | L12: =I12/B12*100000 -> 2.6388949
A13: Chr8 | B13: =C13+D13+E13 -> 529700 | C13: 529441 | D13: 162 | E13: 97 | F13: 14 | G13: 12 | H13: =F13-G13 -> 2 | I13: 12 | J13: 9 | K13: =I13-J13 -> 3 | L13: =I13/B13*100000 -> 2.2654333
A14: Chr9 | B14: =C14+D14+E14 -> 553051 | C14: 552817 | D14: 142 | E14: 92 | F14: 11 | G14: 11 | H14: =F14-G14 -> 0 | I14: 19 | J14: 17 | K14: =I14-J14 -> 2 | L14: =I14/B14*100000 -> 3.4354879
A15: Chr10 | B15: =C15+D15+E15 -> 576770 | C15: 576475 | D15: 158 | E15: 137 | F15: 20 | G15: 15 | H15: =F15-G15 -> 5 | I15: 11 | J15: 10 | K15: =I15-J15 -> 1 | L15: =I15/B15*100000 -> 1.9071727
A16: Chr11 | B16: =C16+D16+E16 -> 537543 | C16: 537306 | D16: 120 | E16: 117 | F16: 19 | G16: 15 | H16: =F16-G16 -> 4 | I16: 18 | J16: 16 | K16: =I16-J16 -> 2 | L16: =I16/B16*100000 -> 3.3485693
A17: Chr12 | B17: =C17+D17+E17 -> 683740 | C17: 683419 | D17: 161 | E17: 160 | F17: 18 | G17: 16 | H17: =F17-G17 -> 2 | I17: 11 | J17: 11 | K17: =I17-J17 -> 0 | L17: =I17/B17*100000 -> 1.6087987
... A27: Chr22 | B27: =C27+D27+E27 -> 350168 | C27: 350005 | D27: 66 | E27: 97 | F27: 8 | G27: 8 | H27: =F27-G27 -> 0 | I27: 10 | J27: 10 | K27: =I27-J27 -> 0 | L27: =I27/B27*100000 -> 2.8557721
