Workbook

Sheet Entomologist5_results
A1: NUM | B1: today | C1: Instructions | D1: ento_name | E1: data_entry_name | F1: trap_number | G1: date_empty | H1: number_nights | I1: female_ano | J1: male_ano | K1: female_cx | L1: male_cx | M1: female_aedes | N1: male_aedes | O1: female_mansonia | P1: male_mansonia | Q1: female_Sandlfy | R1: male_Sandfly | S1: OtherInsects | T1: Other insects Not Mosquitoes | U1: ants | V1: notes | W1: meta:instanceID | X1: FORM | Y1: female_other | Z1: female_destroyed | AA1: male_destroyed | AB1: damaged_all | AC1: male_other | AD1: TOTALMOSQ | AE1: DENS | AF1: TOTFEMMOS | AG1: DENSFEMMOS | AH1: TOTFSAND | AI1: DENSFSAND | AJ1: FORTNIGHT
A2: 1 | B2: 42111 | D2: SKO | E2: NA | F2: 3 | G2: 42107 | H2: 3 | I2: 6 | J2: 1 | K2: 2 | L2: 0 | M2: 0 | N2: 0 | O2: 0 | P2: 0 | Q2: NA | R2: NA | S2: NA | T2: 5 | W2: uuid:341eed22-c7d9-4436-ad8d-23948ddf7ba0 | X2: Entomologist3 | Y2: 2 | Z2: 0 | AA2: 0 | AB2: 5 | AC2: 0 | AD2: =SUM(I2:P2) -> 9 | AE2: =AD2/H2 -> 3 | AF2: =I2+K2+M2+O2 -> 8 | AG2: =AF2/H2 -> 2.6666667 | AH2: =Q2 -> NA | AI2: =AH2/H2 -> #VALUE! | AJ2: =LOOKUP(G2,FORTNIGHT!C$2:C$367,FORTNIGHT!D$2:D$367) -> 2
A3: 2 | B3: 42111 | D3: SKO | E3: NA | F3: 2 | G3: 42107 | H3: 3 | I3: 4 | J3: 1 | K3: 0 | L3: 0 | M3: 0 | N3: 0 | O3: 0 | P3: 0 | Q3: NA | R3: NA | S3: NA | T3: 12 | W3: uuid:3d4fdc46-e381-4acc-8dab-cff3a288119e | X3: Entomologist3 | Y3: 0 | Z3: 0 | AA3: 0 | AB3: 12 | AC3: 0 | AD3: =SUM(I3:P3) -> 5 | AE3: =AD3/H3 -> 1.6666667 | AF3: =I3+K3+M3+O3 -> 4 | AG3: =AF3/H3 -> 1.3333333 | AH3: =Q3 -> NA | AI3: =AH3/H3 -> #VALUE! | AJ3: =LOOKUP(G3,FORTNIGHT!C$2:C$367,FORTNIGHT!D$2:D$367) -> 2
A4: 3 | B4: 42111 | D4: SKO | E4: NA | F4: 1 | G4: 42107 | H4: 3 | I4: 65 | J4: 15 | K4: 10 | L4: 3 | M4: 0 | N4: 0 | O4: 0 | P4: 0 | Q4: NA | R4: NA | S4: NA | T4: 3 | W4: uuid:ac84ae8c-c46f-4ed7-a8c1-f15f82afc169 | X4: Entomologist3 | Y4: 10 | Z4: 0 | AA4: 0 | AB4: 3 | AC4: 3 | AD4: =SUM(I4:P4) -> 93 | AE4: =AD4/H4 -> 31 | AF4: =I4+K4+M4+O4 -> 75 | AG4: =AF4/H4 -> 25 | AH4: =Q4 -> NA | AI4: =AH4/H4 -> #VALUE! | AJ4: =LOOKUP(G4,FORTNIGHT!C$2:C$367,FORTNIGHT!D$2:D$367) -> 2
A5: 4 | B5: 42111 | D5: SKO | E5: NA | F5: 1 | G5: 42109 | H5: 2 | I5: 100 | J5: 3 | K5: 5 | L5: 0 | M5: 0 | N5: 0 | O5: 4 | P5: 0 | Q5: NA | R5: NA | S5: NA | T5: 21 | W5: uuid:2f06e001-1ed6-4719-a83a-96623fd09e19 | X5: Entomologist3 | Y5: 9 | Z5: 0 | AA5: 0 | AB5: 21 | AC5: 0 | AD5: =SUM(I5:P5) -> 112 | AE5: =AD5/H5 -> 56 | AF5: =I5+K5+M5+O5 -> 109 | AG5: =AF5/H5 -> 54.5 | AH5: =Q5 -> NA | AI5: =AH5/H5 -> #VALUE! | AJ5: =LOOKUP(G5,FORTNIGHT!C$2:C$367,FORTNIGHT!D$2:D$367) -> 2
A6: 5 | B6: 42111 | D6: SKO | E6: NA | F6: 2 | G6: 42109 | H6: 2 | I6: 14 | J6: 1 | K6: 1 | L6: 0 | M6: 0 | N6: 0 | O6: 0 | P6: 0 | Q6: NA | R6: NA | S6: NA | T6: 15 | W6: uuid:6556d52d-24d6-4547-bd27-81d31ea7ca58 | X6: Entomologist3 | Y6: 1 | Z6: 0 | AA6: 0 | AB6: 15 | AC6: 0 | AD6: =SUM(I6:P6) -> 16 | AE6: =AD6/H6 -> 8 | AF6: =I6+K6+M6+O6 -> 15 | AG6: =AF6/H6 -> 7.5 | AH6: =Q6 -> NA | AI6: =AH6/H6 -> #VALUE! | AJ6: =LOOKUP(G6,FORTNIGHT!C$2:C$367,FORTNIGHT!D$2:D$367) -> 2
A7: 6 | B7: 42111 | D7: SKO | E7: NA | F7: 3 | G7: 42109 | H7: 2 | I7: 51 | J7: 3 | K7: 2 | L7: 1 | M7: 0 | N7: 0 | O7: 0 | P7: 0 | Q7: NA | R7: NA | S7: NA | T7: 8 | W7: uuid:fae57f3b-ae92-43fe-812d-af8ed3226c68 | X7: Entomologist3 | Y7: 2 | Z7: 0 | AA7: 0 | AB7: 8 | AC7: 1 | AD7: =SUM(I7:P7) -> 57 | AE7: =AD7/H7 -> 28.5 | AF7: =I7+K7+M7+O7 -> 53 | AG7: =AF7/H7 -> 26.5 | AH7: =Q7 -> NA | AI7: =AH7/H7 -> #VALUE! | AJ7: =LOOKUP(G7,FORTNIGHT!C$2:C$367,FORTNIGHT!D$2:D$367) -> 2
A8: 7 | B8: 42111 | D8: SKO | E8: NA | F8: 3 | G8: 42111 | H8: 2 | I8: 22 | J8: 0 | K8: 0 | L8: 0 | M8: 0 | N8: 0 | O8: 0 | P8: 0 | Q8: NA | R8: NA | S8: NA | T8: 4 | W8: uuid:6e76a214-6abb-4f10-9acd-9fe23f2ce078 | X8: Entomologist3 | Y8: 0 | Z8: 0 | AA8: 0 | AB8: 4 | AC8: 0 | AD8: =SUM(I8:P8) -> 22 | AE8: =AD8/H8 -> 11 | AF8: =I8+K8+M8+O8 -> 22 | AG8: =AF8/H8 -> 11 | AH8: =Q8 -> NA | AI8: =AH8/H8 -> #VALUE! | AJ8: =LOOKUP(G8,FORTNIGHT!C$2:C$367,FORTNIGHT!D$2:D$367) -> 2
A9: 8 | B9: 42111 | D9: SKO | E9: NA | F9: 1 | G9: 42111 | H9: 2 | I9: 54 | J9: 0 | K9: 1 | L9: 0 | M9: 0 | N9: 0 | O9: 1 | P9: 0 | Q9: NA | R9: NA | S9: NA | T9: 26 | W9: uuid:855f623c-13c5-4d59-97e7-ceedd6933153 | X9: Entomologist3 | Y9: 2 | Z9: 0 | AA9: 0 | AB9: 26 | AC9: 0 | AD9: =SUM(I9:P9) -> 56 | AE9: =AD9/H9 -> 28 | AF9: =I9+K9+M9+O9 -> 56 | AG9: =AF9/H9 -> 28 | AH9: =Q9 -> NA | AI9: =AH9/H9 -> #VALUE! | AJ9: =LOOKUP(G9,FORTNIGHT!C$2:C$367,FORTNIGHT!D$2:D$367) -> 2
A10: 9 | B10: 42111 | D10: SKO | E10: NA | F10: 2 | G10: 42111 | H10: 2 | I10: 6 | J10: 0 | K10: 0 | L10: 0 | M10: 0 | N10: 0 | O10: 0 | P10: 0 | Q10: NA | R10: NA | S10: NA | T10: 12 | W10: uuid:ffd0fa96-2db4-45f9-92ad-4b0718d85ef4 | X10: Entomologist3 | Y10: 0 | Z10: 0 | AA10: 0 | AB10: 12 | AC10: 0 | AD10: =SUM(I10:P10) -> 6 | AE10: =AD10/H10 -> 3 | AF10: =I10+K10+M10+O10 -> 6 | AG10: =AF10/H10 -> 3 | AH10: =Q10 -> NA | AI10: =AH10/H10 -> #VALUE! | AJ10: =LOOKUP(G10,FORTNIGHT!C$2:C$367,FORTNIGHT!D$2:D$367) -> 2
A11: 10 | B11: 42114 | D11: SKO | E11: NA | F11: 1 | G11: 42114 | H11: 3 | I11: 125 | J11: 0 | K11: 1 | L11: 0 | M11: 0 | N11: 0 | O11: 0 | P11: 0 | Q11: NA | R11: NA | S11: NA | T11: 42 | W11: uuid:e5145bc8-ff19-4732-b4b1-1ee954f1b757 | X11: Entomologist3 | Y11: 1 | Z11: 0 | AA11: 0 | AB11: 42 | AC11: 0 | AD11: =SUM(I11:P11) -> 126 | AE11: =AD11/H11 -> 42 | AF11: =I11+K11+M11+O11 -> 126 | AG11: =AF11/H11 -> 42 | AH11: =Q11 -> NA | AI11: =AH11/H11 -> #VALUE! | AJ11: =LOOKUP(G11,FORTNIGHT!C$2:C$367,FORTNIGHT!D$2:D$367) -> 2
A12: 11 | B12: 42114 | D12: SKO | E12: NA | F12: 2 | G12: 42114 | H12: 3 | I12: 76 | J12: 1 | K12: 0 | L12: 0 | M12: 0 | N12: 0 | O12: 0 | P12: 0 | Q12: NA | R12: NA | S12: NA | T12: 35 | W12: uuid:1fbc6b15-78f8-4dad-a852-b59d3dcfbf0e | X12: Entomologist3 | Y12: 0 | Z12: 0 | AA12: 0 | AB12: 35 | AC12: 0 | AD12: =SUM(I12:P12) -> 77 | AE12: =AD12/H12 -> 25.666667 | AF12: =I12+K12+M12+O12 -> 76 | AG12: =AF12/H12 -> 25.333333 | AH12: =Q12 -> NA | AI12: =AH12/H12 -> #VALUE! | AJ12: =LOOKUP(G12,FORTNIGHT!C$2:C$367,FORTNIGHT!D$2:D$367) -> 2
A13: 12 | B13: 42114 | D13: SKO | E13: NA | F13: 3 | G13: 42114 | H13: 3 | I13: 62 | J13: 0 | K13: 2 | L13: 0 | M13: 0 | N13: 0 | O13: 1 | P13: 0 | Q13: NA | R13: NA | S13: NA | T13: 9 | W13: uuid:28abc991-5774-4d07-8c6b-d6a4720f8a12 | X13: Entomologist3 | Y13: 3 | Z13: 0 | AA13: 0 | AB13: 9 | AC13: 0 | AD13: =SUM(I13:P13) -> 65 | AE13: =AD13/H13 -> 21.666667 | AF13: =I13+K13+M13+O13 -> 65 | AG13: =AF13/H13 -> 21.666667 | AH13: =Q13 -> NA | AI13: =AH13/H13 -> #VALUE! | AJ13: =LOOKUP(G13,FORTNIGHT!C$2:C$367,FORTNIGHT!D$2:D$367) -> 2
... A19: 18 | B19: 42118 | D19: SKO | E19: NA | F19: 3 | G19: 42118 | H19: 2 | I19: 32 | J19: 0 | K19: 0 | L19: 0 | M19: 0 | N19: 0 | O19: 0 | P19: 0 | Q19: NA | R19: NA | S19: NA | T19: 9 | W19: uuid:cdc9bb1a-6301-4bda-8d26-1076de830608 | X19: Entomologist3 | Y19: 0 | Z19: 0 | AA19: 0 | AB19: 9 | AC19: 0 | AD19: =SUM(I19:P19) -> 32 | AE19: =AD19/H19 -> 16 | AF19: =I19+K19+M19+O19 -> 32 | AG19: =AF19/H19 -> 16 | AH19: =Q19 -> NA | AI19: =AH19/H19 -> #VALUE! | AJ19: =LOOKUP(G19,FORTNIGHT!C$2:C$367,FORTNIGHT!D$2:D$367) -> 2
A20: 19 | B20: 42122 | D20: SKO | E20: NA | F20: 3 | G20: 42121 | H20: 3 | I20: 8 | J20: 0 | K20: 0 | L20: 0 | M20: 0 | N20: 0 | O20: 0 | P20: 0 | Q20: NA | R20: NA | S20: NA | T20: 0 | V20: 0 for other bitting insects | W20: uuid:384e60db-d51d-4248-903d-87348f6ef06d | X20: Entomologist3 | Y20: 0 | Z20: 0 | AA20: 0 | AB20: 0 | AC20: 0 | AD20: =SUM(I20:P20) -> 8 | AE20: =AD20/H20 -> 2.6666667 | AF20: =I20+K20+M20+O20 -> 8 | AG20: =AF20/H20 -> 2.6666667 | AH20: =Q20 -> NA | AI20: =AH20/H20 -> #VALUE! | AJ20: =LOOKUP(G20,FORTNIGHT!C$2:C$367,FORTNIGHT!D$2:D$367) -> 3
A21: 20 | B21: 42122 | D21: SKO | E21: NA | F21: 2 | G21: 42121 | H21: 3 | I21: 40 | J21: 1 | K21: 1 | L21: 0 | M21: 0 | N21: 0 | O21: 1 | P21: 0 | Q21: NA | R21: NA | S21: NA | T21: 10 | V21: 10 for other biting insects | W21: uuid:d8d6ff34-4d17-44c2-93f2-023ff766f122 | X21: Entomologist3 | Y21: 2 | Z21: 0 | AA21: 0 | AB21: 0 | AC21: 0 | AD21: =SUM(I21:P21) -> 43 | AE21: =AD21/H21 -> 14.333333 | AF21: =I21+K21+M21+O21 -> 42 | AG21: =AF21/H21 -> 14 | AH21: =Q21 -> NA | AI21: =AH21/H21 -> #VALUE! | AJ21: =LOOKUP(G21,FORTNIGHT!C$2:C$367,FORTNIGHT!D$2:D$367) -> 3
A22: 21 | B22: 42122 | D22: SKO | E22: NA | F22: 1 | G22: 42121 | H22: 3 | I22: 8 | J22: 1 | K22: 0 | L22: 0 | M22: 0 | N22: 0 | O22: 1 | P22: 0 | Q22: NA | R22: NA | S22: NA | T22: 7 | V22: 7 for other biting insects | W22: uuid:fa59ab68-4815-4c26-8eb6-493a02a0db53 | X22: Entomologist3 | Y22: 1 | Z22: 0 | AA22: 0 | AB22: 0 | AC22: 0 | AD22: =SUM(I22:P22) -> 10 | AE22: =AD22/H22 -> 3.3333333 | AF22: =I22+K22+M22+O22 -> 9 | AG22: =AF22/H22 -> 3 | AH22: =Q22 -> NA | AI22: =AH22/H22 -> #VALUE! | AJ22: =LOOKUP(G22,FORTNIGHT!C$2:C$367,FORTNIGHT!D$2:D$367) -> 3
A23: 22 | B23: 42124 | D23: SKO | E23: NA | F23: 2 | G23: 42123 | H23: 2 | I23: 0 | J23: 0 | K23: 0 | L23: 0 | M23: 0 | N23: 0 | O23: 0 | P23: 0 | Q23: NA | R23: NA | S23: NA | T23: 0 | V23: They were no other biting insects | W23: uuid:42c37bbe-78b2-4f00-8227-6c25853467d2 | X23: Entomologist3 | Y23: 0 | Z23: 0 | AA23: 0 | AB23: 0 | AC23: 0 | AD23: =SUM(I23:P23) -> 0 | AE23: =AD23/H23 -> 0 | AF23: =I23+K23+M23+O23 -> 0 | AG23: =AF23/H23 -> 0 | AH23: =Q23 -> NA | AI23: =AH23/H23 -> #VALUE! | AJ23: =LOOKUP(G23,FORTNIGHT!C$2:C$367,FORTNIGHT!D$2:D$367) -> 3
A24: 23 | B24: 42124 | D24: SKO | E24: NA | F24: 3 | G24: 42123 | H24: 2 | I24: 18 | J24: 0 | K24: 0 | L24: 0 | M24: 0 | N24: 0 | O24: 0 | P24: 0 | Q24: NA | R24: NA | S24: NA | T24: 9 | V24: 9 other biting insects | W24: uuid:531a6f88-f20a-4344-bfea-ab15706ad27e | X24: Entomologist3 | Y24: 0 | Z24: 0 | AA24: 0 | AB24: 0 | AC24: 0 | AD24: =SUM(I24:P24) -> 18 | AE24: =AD24/H24 -> 9 | AF24: =I24+K24+M24+O24 -> 18 | AG24: =AF24/H24 -> 9 | AH24: =Q24 -> NA | AI24: =AH24/H24 -> #VALUE! | AJ24: =LOOKUP(G24,FORTNIGHT!C$2:C$367,FORTNIGHT!D$2:D$367) -> 3
A25: 24 | B25: 42124 | D25: SKO | E25: NA | F25: 1 | G25: 42123 | H25: 2 | I25: 27 | J25: 0 | K25: 1 | L25: 0 | M25: 0 | N25: 0 | O25: 2 | P25: 0 | Q25: NA | R25: NA | S25: NA | T25: 5 | V25: 5 other biting insects | W25: uuid:74f98d1a-797f-44fd-94ed-8a8ee906aa3e | X25: Entomologist3 | Y25: 3 | Z25: 0 | AA25: 0 | AB25: 0 | AC25: 0 | AD25: =SUM(I25:P25) -> 30 | AE25: =AD25/H25 -> 15 | AF25: =I25+K25+M25+O25 -> 30 | AG25: =AF25/H25 -> 15 | AH25: =Q25 -> NA | AI25: =AH25/H25 -> #VALUE! | AJ25: =LOOKUP(G25,FORTNIGHT!C$2:C$367,FORTNIGHT!D$2:D$367) -> 3
A26: 25 | B26: 42129 | D26: SKO | E26: NA | F26: 2 | G26: 42125 | H26: 2 | I26: 4 | J26: 0 | K26: 0 | L26: 0 | M26: 0 | N26: 0 | O26: 0 | P26: 0 | Q26: NA | R26: NA | S26: NA | T26: 0 | W26: uuid:7b481e20-7121-4ea1-9175-9e3155b78aa2 | X26: Entomologist3 | Y26: 0 | Z26: 0 | AA26: 0 | AB26: 0 | AC26: 0 | AD26: =SUM(I26:P26) -> 4 | AE26: =AD26/H26 -> 2 | AF26: =I26+K26+M26+O26 -> 4 | AG26: =AF26/H26 -> 2 | AH26: =Q26 -> NA | AI26: =AH26/H26 -> #VALUE! | AJ26: =LOOKUP(G26,FORTNIGHT!C$2:C$367,FORTNIGHT!D$2:D$367) -> 3
A27: 26 | B27: 42129 | D27: SKO | E27: NA | F27: 1 | G27: 42125 | H27: 2 | I27: 55 | J27: 0 | K27: 1 | L27: 0 | M27: 1 | N27: 0 | O27: 2 | P27: 0 | Q27: NA | R27: NA | S27: NA | T27: 7 | V27: 7 other insects not mosquitoes were identified | W27: uuid:d2832058-f9a9-419c-a79f-fce03effd055 | X27: Entomologist3 | Y27: 3 | Z27: 0 | AA27: 0 | AB27: 0 | AC27: 0 | AD27: =SUM(I27:P27) -> 59 | AE27: =AD27/H27 -> 29.5 | AF27: =I27+K27+M27+O27 -> 59 | AG27: =AF27/H27 -> 29.5 | AH27: =Q27 -> NA | AI27: =AH27/H27 -> #VALUE! | AJ27: =LOOKUP(G27,FORTNIGHT!C$2:C$367,FORTNIGHT!D$2:D$367) -> 3
A28: 27 | B28: 42129 | D28: SKO | E28: NA | F28: 3 | G28: 42125 | H28: 2 | I28: 13 | J28: 0 | K28: 0 | L28: 0 | M28: 0 | N28: 0 | O28: 0 | P28: 0 | Q28: NA | R28: NA | S28: NA | T28: 3 | V28: 3 other insects not mosquitoes were identified | W28: uuid:de8cf231-97d5-42f6-9312-7083bc6aaec6 | X28: Entomologist3 | Y28: 0 | Z28: 0 | AA28: 0 | AB28: 0 | AC28: 0 | AD28: =SUM(I28:P28) -> 13 | AE28: =AD28/H28 -> 6.5 | AF28: =I28+K28+M28+O28 -> 13 | AG28: =AF28/H28 -> 6.5 | AH28: =Q28 -> NA | AI28: =AH28/H28 -> #VALUE! | AJ28: =LOOKUP(G28,FORTNIGHT!C$2:C$367,FORTNIGHT!D$2:D$367) -> 3
A29: 28 | B29: 42129 | D29: SkO | E29: NA | F29: 1 | G29: 42128 | H29: 3 | I29: 28 | J29: 0 | K29: 0 | L29: 0 | M29: 1 | N29: 0 | O29: 8 | P29: 0 | Q29: NA | R29: NA | S29: NA | T29: 34 | V29: 34 other insects not mosquitoes were identified | W29: uuid:3619f44c-5571-4074-845e-60f48551e79c | X29: Entomologist3 | Y29: 8 | Z29: 0 | AA29: 0 | AB29: 0 | AC29: 0 | AD29: =SUM(I29:P29) -> 37 | AE29: =AD29/H29 -> 12.333333 | AF29: =I29+K29+M29+O29 -> 37 | AG29: =AF29/H29 -> 12.333333 | AH29: =Q29 -> NA | AI29: =AH29/H29 -> #VALUE! | AJ29: =LOOKUP(G29,FORTNIGHT!C$2:C$367,FORTNIGHT!D$2:D$367) -> 3
A30: 29 | B30: 42129 | D30: SKO | E30: NA | F30: 2 | G30: 42128 | H30: 3 | I30: 14 | J30: 0 | K30: 4 | L30: 0 | M30: 0 | N30: 0 | O30: 0 | P30: 0 | Q30: NA | R30: NA | S30: NA | T30: 3 | V30: 3 other insects not mosquitoes were identified. | W30: uuid:b28a8f93-396a-4d6f-9836-7e23e4bf45f5 | X30: Entomologist3 | Y30: 4 | Z30: 0 | AA30: 0 | AB30: 0 | AC30: 0 | AD30: =SUM(I30:P30) -> 18 | AE30: =AD30/H30 -> 6 | AF30: =I30+K30+M30+O30 -> 18 | AG30: =AF30/H30 -> 6 | AH30: =Q30 -> NA | AI30: =AH30/H30 -> #VALUE! | AJ30: =LOOKUP(G30,FORTNIGHT!C$2:C$367,FORTNIGHT!D$2:D$367) -> 3
A31: 30 | B31: 42129 | D31: SKO | E31: NA | F31: 3 | G31: 42128 | H31: 3 | I31: 5 | J31: 0 | K31: 0 | L31: 0 | M31: 0 | N31: 0 | O31: 1 | P31: 0 | Q31: NA | R31: NA | S31: NA | T31: 16 | V31: 16 other insects not mosquitoes were identified. | W31: uuid:e7bf0c28-439c-421f-b3fe-05ac5db6f4c3 | X31: Entomologist3 | Y31: 0 | Z31: 0 | AA31: 0 | AB31: 0 | AC31: 0 | AD31: =SUM(I31:P31) -> 6 | AE31: =AD31/H31 -> 2 | AF31: =I31+K31+M31+O31 -> 6 | AG31: =AF31/H31 -> 2 | AH31: =Q31 -> NA | AI31: =AH31/H31 -> #VALUE! | AJ31: =LOOKUP(G31,FORTNIGHT!C$2:C$367,FORTNIGHT!D$2:D$367) -> 3
A32: 31 | B32: 42132 | D32: SKO | E32: NA | F32: 2 | G32: 42130 | H32: 2 | I32: 1 | J32: 0 | M32: 0 | N32: 0 | Q32: NA | R32: NA | S32: NA | T32: 15 | V32: 15 other insects not mosquitoes were identified. | W32: uuid:4d52f62f-96ce-4048-832e-f95688efc23f | X32: Entomologist3 | Y32: 0 | Z32: 0 | AA32: 0 | AB32: 0 | AC32: 0 | AD32: =SUM(I32:P32) -> 1 | AE32: =AD32/H32 -> 0.5 | AF32: =I32+K32+M32+O32 -> 1 | AG32: =AF32/H32 -> 0.5 | AH32: =Q32 -> NA | AI32: =AH32/H32 -> #VALUE! | AJ32: =LOOKUP(G32,FORTNIGHT!C$2:C$367,FORTNIGHT!D$2:D$367) -> 3
A33: 32 | B33: 42132 | D33: SKO | E33: NA | F33: 1 | G33: 42130 | H33: 2 | I33: 11 | J33: 0 | M33: 0 | N33: 0 | Q33: NA | R33: NA | S33: NA | T33: 12 | V33: 12 other insects not mosquitoes were identified. | W33: uuid:c70587ae-309c-437a-9f8c-9e4d33e401e6 | X33: Entomologist3 | Y33: 2 | Z33: 0 | AA33: 0 | AB33: 0 | AC33: 0 | AD33: =SUM(I33:P33) -> 11 | AE33: =AD33/H33 -> 5.5 | AF33: =I33+K33+M33+O33 -> 11 | AG33: =AF33/H33 -> 5.5 | AH33: =Q33 -> NA | AI33: =AH33/H33 -> #VALUE! | AJ33: =LOOKUP(G33,FORTNIGHT!C$2:C$367,FORTNIGHT!D$2:D$367) -> 3
A34: 33 | B34: 42132 | D34: SKO | E34: NA | F34: 3 | G34: 42130 | H34: 2 | I34: 3 | J34: 0 | M34: 0 | N34: 0 | Q34: NA | R34: NA | S34: NA | T34: 1 | V34: 1 other insect not mosquito was identified. | W34: uuid:ec67a4e1-28b6-4552-8a62-606b3a5d866a | X34: Entomologist3 | Y34: 3 | Z34: 0 | AA34: 0 | AB34: 0 | AC34: 0 | AD34: =SUM(I34:P34) -> 3 | AE34: =AD34/H34 -> 1.5 | AF34: =I34+K34+M34+O34 -> 3 | AG34: =AF34/H34 -> 1.5 | AH34: =Q34 -> NA | AI34: =AH34/H34 -> #VALUE! | AJ34: =LOOKUP(G34,FORTNIGHT!C$2:C$367,FORTNIGHT!D$2:D$367) -> 3
A35: 1 | B35: 42135 | D35: SKO | E35: SAO | F35: 3 | G35: 42132 | H35: 2 | I35: 0 | J35: 0 | K35: 2 | L35: 0 | M35: 0 | N35: 0 | O35: 0 | P35: 0 | Q35: 0 | R35: 0 | S35: 3 | W35: uuid:3c5ef51d-a899-42a2-8783-862eeb242ca5 | X35: Entomologist5 | AD35: =SUM(I35:P35) -> 2 | AE35: =AD35/H35 -> 1 | AF35: =I35+K35+M35+O35 -> 2 | AG35: =AF35/H35 -> 1 | AH35: =Q35 -> 0 | AI35: =AH35/H35 -> 0 | AJ35: =LOOKUP(G35,FORTNIGHT!C$2:C$367,FORTNIGHT!D$2:D$367) -> 3
A36: 2 | B36: 42135 | D36: SKO | E36: SAO | F36: 2 | G36: 42132 | H36: 2 | I36: 0 | J36: 1 | K36: 0 | L36: 0 | M36: 0 | N36: 0 | O36: 0 | P36: 0 | Q36: 2 | R36: 0 | S36: 5 | W36: uuid:87bba3ce-3711-43ea-b95b-ba90a93edf8b | X36: Entomologist5 | AD36: =SUM(I36:P36) -> 1 | AE36: =AD36/H36 -> 0.5 | AF36: =I36+K36+M36+O36 -> 0 | AG36: =AF36/H36 -> 0 | AH36: =Q36 -> 2 | AI36: =AH36/H36 -> 1 | AJ36: =LOOKUP(G36,FORTNIGHT!C$2:C$367,FORTNIGHT!D$2:D$367) -> 3
A37: 3 | B37: 42135 | D37: SKO | E37: SAO | F37: 1 | G37: 42132 | H37: 2 | I37: 6 | J37: 0 | K37: 1 | L37: 0 | M37: 0 | N37: 0 | O37: 1 | P37: 0 | Q37: 9 | R37: 0 | S37: 7 | W37: uuid:0763a11e-9167-495e-95de-493ec0889bdc | X37: Entomologist5 | AD37: =SUM(I37:P37) -> 8 | AE37: =AD37/H37 -> 4 | AF37: =I37+K37+M37+O37 -> 8 | AG37: =AF37/H37 -> 4 | AH37: =Q37 -> 9 | AI37: =AH37/H37 -> 4.5 | AJ37: =LOOKUP(G37,FORTNIGHT!C$2:C$367,FORTNIGHT!D$2:D$367) -> 3
A38: 4 | B38: 42135 | D38: SKO | E38: SAO | F38: 2 | G38: 42135 | H38: 3 | I38: 1 | J38: 0 | K38: 1 | L38: 0 | M38: 0 | N38: 0 | O38: 0 | P38: 0 | Q38: 8 | R38: 0 | S38: 3 | W38: uuid:090f08b7-e93d-4c03-bb1f-30a3a5b85ddc | X38: Entomologist5 | AD38: =SUM(I38:P38) -> 2 | AE38: =AD38/H38 -> 0.66666667 | AF38: =I38+K38+M38+O38 -> 2 | AG38: =AF38/H38 -> 0.66666667 | AH38: =Q38 -> 8 | AI38: =AH38/H38 -> 2.6666667 | AJ38: =LOOKUP(G38,FORTNIGHT!C$2:C$367,FORTNIGHT!D$2:D$367) -> 4
A39: 5 | B39: 42135 | D39: SKO | E39: SAO | F39: 1 | G39: 42135 | H39: 3 | I39: 12 | J39: 0 | K39: 0 | L39: 0 | M39: 0 | N39: 0 | O39: 3 | P39: 0 | Q39: 24 | R39: 5 | S39: 5 | W39: uuid:910fea35-063b-43c8-aade-9a01f06a3302 | X39: Entomologist5 | AD39: =SUM(I39:P39) -> 15 | AE39: =AD39/H39 -> 5 | AF39: =I39+K39+M39+O39 -> 15 | AG39: =AF39/H39 -> 5 | AH39: =Q39 -> 24 | AI39: =AH39/H39 -> 8 | AJ39: =LOOKUP(G39,FORTNIGHT!C$2:C$367,FORTNIGHT!D$2:D$367) -> 4
A40: 6 | B40: 42135 | D40: SKO | E40: SAO | F40: 3 | G40: 42135 | H40: 3 | I40: 9 | J40: 0 | K40: 0 | L40: 0 | M40: 0 | N40: 0 | O40: 0 | P40: 0 | Q40: 2 | R40: 0 | S40: 6 | W40: uuid:c64e1b8c-0201-474b-8227-c79ccdb46f93 | X40: Entomologist5 | AD40: =SUM(I40:P40) -> 9 | AE40: =AD40/H40 -> 3 | AF40: =I40+K40+M40+O40 -> 9 | AG40: =AF40/H40 -> 3 | AH40: =Q40 -> 2 | AI40: =AH40/H40 -> 0.66666667 | AJ40: =LOOKUP(G40,FORTNIGHT!C$2:C$367,FORTNIGHT!D$2:D$367) -> 4
A41: 7 | B41: 42138 | D41: SKO | E41: SAO | F41: 3 | G41: 42137 | H41: 2 | I41: 1 | J41: 0 | K41: 0 | L41: 0 | M41: 0 | N41: 0 | O41: 2 | P41: 0 | Q41: 8 | R41: 0 | S41: 1 | W41: uuid:357984f1-788a-4385-810e-92ed80fa6f9a | X41: Entomologist5 | AD41: =SUM(I41:P41) -> 3 | AE41: =AD41/H41 -> 1.5 | AF41: =I41+K41+M41+O41 -> 3 | AG41: =AF41/H41 -> 1.5 | AH41: =Q41 -> 8 | AI41: =AH41/H41 -> 4 | AJ41: =LOOKUP(G41,FORTNIGHT!C$2:C$367,FORTNIGHT!D$2:D$367) -> 4
A42: 8 | B42: 42138 | D42: SKO | E42: SAO | F42: 2 | G42: 42137 | H42: 2 | I42: 1 | J42: 0 | K42: 0 | L42: 0 | M42: 0 | N42: 0 | O42: 0 | P42: 0 | Q42: 3 | R42: 0 | S42: 0 | W42: uuid:ec86e1dd-9a6c-4f0a-b41b-303e12191d1c | X42: Entomologist5 | AD42: =SUM(I42:P42) -> 1 | AE42: =AD42/H42 -> 0.5 | AF42: =I42+K42+M42+O42 -> 1 | AG42: =AF42/H42 -> 0.5 | AH42: =Q42 -> 3 | AI42: =AH42/H42 -> 1.5 | AJ42: =LOOKUP(G42,FORTNIGHT!C$2:C$367,FORTNIGHT!D$2:D$367) -> 4
A43: 9 | B43: 42138 | D43: SKO | E43: SAO | F43: 1 | G43: 42137 | H43: 2 | I43: 12 | J43: 0 | K43: 0 | L43: 0 | M43: 0 | N43: 0 | O43: 0 | P43: 0 | Q43: 17 | R43: 0 | S43: 3 | W43: uuid:3ed182eb-b846-487e-a423-e71bc5774ad9 | X43: Entomologist5 | AD43: =SUM(I43:P43) -> 12 | AE43: =AD43/H43 -> 6 | AF43: =I43+K43+M43+O43 -> 12 | AG43: =AF43/H43 -> 6 | AH43: =Q43 -> 17 | AI43: =AH43/H43 -> 8.5 | AJ43: =LOOKUP(G43,FORTNIGHT!C$2:C$367,FORTNIGHT!D$2:D$367) -> 4
A44: 10 | B44: 42142 | D44: SKO | E44: SAO | F44: 1 | G44: 42139 | H44: 2 | I44: 6 | J44: 0 | K44: 0 | L44: 0 | M44: 2 | N44: 0 | O44: 1 | P44: 0 | Q44: 5 | R44: 0 | S44: 8 | W44: uuid:e7fa8e18-2409-4ee9-8952-bc0aaf6d5f73 | X44: Entomologist5 | AD44: =SUM(I44:P44) -> 9 | AE44: =AD44/H44 -> 4.5 | AF44: =I44+K44+M44+O44 -> 9 | AG44: =AF44/H44 -> 4.5 | AH44: =Q44 -> 5 | AI44: =AH44/H44 -> 2.5 | AJ44: =LOOKUP(G44,FORTNIGHT!C$2:C$367,FORTNIGHT!D$2:D$367) -> 4
A45: 11 | B45: 42142 | D45: SKO | E45: SAO | F45: 2 | G45: 42139 | H45: 2 | I45: 12 | J45: 0 | K45: 1 | L45: 0 | M45: 0 | N45: 0 | O45: 2 | P45: 0 | Q45: 3 | R45: 0 | S45: 0 | W45: uuid:7a2990fe-a15f-4960-a32a-f427d9f9065b | X45: Entomologist5 | AD45: =SUM(I45:P45) -> 15 | AE45: =AD45/H45 -> 7.5 | AF45: =I45+K45+M45+O45 -> 15 | AG45: =AF45/H45 -> 7.5 | AH45: =Q45 -> 3 | AI45: =AH45/H45 -> 1.5 | AJ45: =LOOKUP(G45,FORTNIGHT!C$2:C$367,FORTNIGHT!D$2:D$367) -> 4
...

Sheet Plot
B2: Column Labels
B3: Average of DENSFEMMOS | E3: Average of DENSFSAND | H3: Total Average of DENSFEMMOS | I3: Total Average of DENSFSAND | L3: Column Labels
A4: Row Labels | B4: 1 | C4: 2 | D4: 3 | E4: 1 | F4: 2 | G4: 3 | L4: Average of DENSFEMMOS | O4: Average of DENSFSAND | R4: Total Average of DENSFEMMOS | S4: Total Average of DENSFSAND
A5: 42107 | B5: 25 | C5: 1.3333333 | D5: 2.6666667 | E5: #VALUE! | F5: #VALUE! | G5: #VALUE! | H5: 9.6666667 | I5: #VALUE! | K5: Row Labels | L5: T1FM | M5: T2FM | N5: T3FM | O5: T1FS | P5: T2FS | Q5: T3FS
A6: 42109 | B6: 54.5 | C6: 7.5 | D6: 26.5 | E6: #VALUE! | F6: #VALUE! | G6: #VALUE! | H6: 29.5 | I6: #VALUE! | J6: 42107 | K6: 42107 | L6: 25 | M6: 1.3333333 | N6: 2.6666667 | R6: 9.6666667
A7: 42111 | B7: 28 | C7: 3 | D7: 11 | E7: #VALUE! | F7: #VALUE! | G7: #VALUE! | H7: 14 | I7: #VALUE! | K7: 42109 | L7: 54.5 | M7: 7.5 | N7: 26.5 | R7: 29.5
A8: 42114 | B8: 42 | C8: 25.333333 | D8: 21.666667 | E8: #VALUE! | F8: #VALUE! | G8: #VALUE! | H8: 29.666667 | I8: #VALUE! | K8: 42111 | L8: 28 | M8: 3 | N8: 11 | R8: 14
A9: 42116 | B9: 24 | C9: 11 | D9: 11 | E9: #VALUE! | F9: #VALUE! | G9: #VALUE! | H9: 15.333333 | I9: #VALUE! | K9: 42114 | L9: 42 | M9: 25.333333 | N9: 21.666667 | R9: 29.666667
A10: 42118 | B10: 26 | C10: 4.5 | D10: 16 | E10: #VALUE! | F10: #VALUE! | G10: #VALUE! | H10: 15.5 | I10: #VALUE! | K10: 42116 | L10: 24 | M10: 11 | N10: 11 | R10: 15.333333
A11: 42121 | B11: 3 | C11: 14 | D11: 2.6666667 | E11: #VALUE! | F11: #VALUE! | G11: #VALUE! | H11: 6.5555556 | I11: #VALUE! | K11: 42118 | L11: 26 | M11: 4.5 | N11: 16 | R11: 15.5
A12: 42123 | B12: 15 | C12: 0 | D12: 9 | E12: #VALUE! | F12: #VALUE! | G12: #VALUE! | H12: 8 | I12: #VALUE! | K12: 42121 | L12: 3 | M12: 14 | N12: 2.6666667 | R12: 6.5555556
A13: 42125 | B13: 29.5 | C13: 2 | D13: 6.5 | E13: #VALUE! | F13: #VALUE! | G13: #VALUE! | H13: 12.666667 | I13: #VALUE! | K13: 42123 | L13: 15 | M13: 0 | N13: 9 | R13: 8
A14: 42128 | B14: 12.333333 | C14: 6 | D14: 2 | E14: #VALUE! | F14: #VALUE! | G14: #VALUE! | H14: 6.7777778 | I14: #VALUE! | K14: 42125 | L14: 29.5 | M14: 2 | N14: 6.5 | R14: 12.666667
A15: 42130 | B15: 5.5 | C15: 0.5 | D15: 1.5 | E15: #VALUE! | F15: #VALUE! | G15: #VALUE! | H15: 2.5 | I15: #VALUE! | K15: 42128 | L15: 12.333333 | M15: 6 | N15: 2 | R15: 6.7777778
A16: 42132 | B16: 4 | C16: 0 | D16: 1 | E16: 4.5 | F16: 1 | G16: 0 | H16: 1.6666667 | I16: 1.8333333 | K16: 42130 | L16: 5.5 | M16: 0.5 | N16: 1.5 | R16: 2.5
A17: 42135 | B17: 5 | C17: 0.66666667 | D17: 3 | E17: 8 | F17: 2.6666667 | G17: 0.66666667 | H17: 2.8888889 | I17: 3.7777778 | K17: 42132 | L17: 4 | M17: 0 | N17: 1 | O17: 4.5 | P17: 1 | Q17: 0 | R17: 1.6666667 | S17: 1.8333333
A18: 42137 | B18: 6 | C18: 0.5 | D18: 1.5 | E18: 8.5 | F18: 1.5 | G18: 4 | H18: 2.6666667 | I18: 4.6666667 | K18: 42135 | L18: 5 | M18: 0.66666667 | N18: 3 | O18: 8 | P18: 2.6666667 | Q18: 0.66666667 | R18: 2.8888889 | S18: 3.7777778
A19: 42139 | B19: 4.5 | C19: 7.5 | D19: 2 | E19: 2.5 | F19: 1.5 | G19: 3.5 | H19: 4.6666667 | I19: 2.5 | K19: 42137 | L19: 6 | M19: 0.5 | N19: 1.5 | O19: 8.5 | P19: 1.5 | Q19: 4 | R19: 2.6666667 | S19: 4.6666667
A20: 42142 | B20: 5.6666667 | C20: 4.6666667 | D20: 0.33333333 | E20: 4.6666667 | F20: 0 | G20: 0.33333333 | H20: 3.5555556 | I20: 1.6666667 | K20: 42139 | L20: 4.5 | M20: 7.5 | N20: 2 | O20: 2.5 | P20: 1.5 | Q20: 3.5 | R20: 4.6666667 | S20: 2.5
A21: 42144 | B21: 10 | C21: 1.5 | D21: 3 | E21: 9 | F21: 2 | G21: 4.5 | H21: 4.8333333 | I21: 5.1666667 | K21: 42142 | L21: 5.6666667 | M21: 4.6666667 | N21: 0.33333333 | O21: 4.6666667 | P21: 0 | Q21: 0.33333333 | R21: 3.5555556 | S21: 1.6666667
A22: 42146 | B22: 3.5 | C22: 1 | D22: 1 | E22: 8.5 | F22: 1.5 | G22: 0 | H22: 1.8333333 | I22: 3.3333333 | K22: 42144 | L22: 10 | M22: 1.5 | N22: 3 | O22: 9 | P22: 2 | Q22: 4.5 | R22: 4.8333333 | S22: 5.1666667
A23: 42149 | B23: 3.3333333 | C23: 3 | D23: 5.3333333 | E23: 7.3333333 | F23: 2.6666667 | G23: 1 | H23: 3.8888889 | I23: 3.6666667 | K23: 42146 | L23: 3.5 | M23: 1 | N23: 1 | O23: 8.5 | P23: 1.5 | Q23: 0 | R23: 1.8333333 | S23: 3.3333333
A24: 42151 | B24: 8.5 | C24: 1 | D24: 4.5 | E24: 5 | F24: 2.5 | G24: 1.5 | H24: 4.6666667 | I24: 3 | K24: 42149 | L24: 3.3333333 | M24: 3 | N24: 5.3333333 | O24: 7.3333333 | P24: 2.6666667 | Q24: 1 | R24: 3.8888889 | S24: 3.6666667
A25: 42153 | B25: 1 | C25: 0.5 | D25: 2 | E25: 4.5 | F25: 4 | G25: 5.5 | H25: 1.1666667 | I25: 4.6666667 | K25: 42151 | L25: 8.5 | M25: 1 | N25: 4.5 | O25: 5 | P25: 2.5 | Q25: 1.5 | R25: 4.6666667 | S25: 3
A26: 42156 | B26: 0.33333333 | C26: 1.3333333 | D26: 2.3333333 | E26: 2 | F26: 0 | G26: 0.33333333 | H26: 1.3333333 | I26: 0.77777778 | K26: 42153 | L26: 1 | M26: 0.5 | N26: 2 | O26: 4.5 | P26: 4 | Q26: 5.5 | R26: 1.1666667 | S26: 4.6666667
A27: 42158 | B27: 3.5 | C27: 0 | D27: 86 | E27: 12 | F27: 0.5 | G27: 2.5 | H27: 29.833333 | I27: 5 | K27: 42156 | L27: 0.33333333 | M27: 1.3333333 | N27: 2.3333333 | O27: 2 | P27: 0 | Q27: 0.33333333 | R27: 1.3333333 | S27: 0.77777778
A28: 42160 | B28: 9.5 | C28: 1 | D28: 6 | E28: 7 | F28: 2.5 | G28: 3 | H28: 5.5 | I28: 4.1666667 | K28: 42158 | L28: 3.5 | M28: 0 | N28: 86 | O28: 12 | P28: 0.5 | Q28: 2.5 | R28: 29.833333 | S28: 5
... A124: 42396 | B124: 0 | C124: 0 | D124: 0 | E124: 1 | F124: 0.5 | G124: 0 | H124: 0 | I124: 0.5 | K124: 42394 | L124: 0.6 | M124: 0 | N124: 0.8 | O124: 0.2 | P124: 0 | Q124: 1.2 | R124: 0.46666667 | S124: 0.46666667
A125: Grand Total | B125: 6.3629477 | C125: 3.8528926 | D125: 11.426446 | E125: #VALUE! | F125: #VALUE! | G125: #VALUE! | H125: 7.2140955 | I125: #VALUE! | J125: 42396 | K125: 42396 | L125: 0 | M125: 0 | N125: 0 | O125: 1 | P125: 0.5 | Q125: 0 | R125: 0 | S125: 0.5

Sheet FORTNIGHT
C1: DATE | D1: FORTNIGHT
C2: 00/01/1900 | D2: 1
B3: Su | C3: 42064 | D3: 1
B4: Mo | C4: =C3+1 -> 42065 | D4: 1
B5: Tu | C5: =C4+1 -> 42066 | D5: 1
B6: We | C6: =C5+1 -> 42067 | D6: 1
B7: Th | C7: =C6+1 -> 42068 | D7: 1
B8: Fr | C8: =C7+1 -> 42069 | D8: 1
B9: Sa | C9: =C8+1 -> 42070 | D9: 1
B10: =B3 -> Su | C10: =C9+1 -> 42071 | D10: 1
B11: =B4 -> Mo | C11: =C10+1 -> 42072 | D11: 1
B12: =B5 -> Tu | C12: =C11+1 -> 42073 | D12: 1
B13: =B6 -> We | C13: =C12+1 -> 42074 | D13: 1
B14: =B7 -> Th | C14: =C13+1 -> 42075 | D14: 1
B15: =B8 -> Fr | C15: =C14+1 -> 42076 | D15: 1
B16: =B9 -> Sa | C16: =C15+1 -> 42077 | D16: 1
B17: =B10 -> Su | C17: =C16+1 -> 42078 | D17: 1
B18: =B11 -> Mo | C18: =C17+1 -> 42079 | D18: 1
B19: =B12 -> Tu | C19: =C18+1 -> 42080 | D19: 1
B20: =B13 -> We | C20: =C19+1 -> 42081 | D20: 1
B21: =B14 -> Th | C21: =C20+1 -> 42082 | D21: 1
... B45: =B38 -> Su | C45: =C44+1 -> 42106 | D45: 1
B46: =B39 -> Mo | C46: =C45+1 -> 42107 | D46: 2 | E46: 1
B47: =B40 -> Tu | C47: =C46+1 -> 42108 | D47: 2 | E47: 1
B48: =B41 -> We | C48: =C47+1 -> 42109 | D48: 2 | E48: 1
B49: =B42 -> Th | C49: =C48+1 -> 42110 | D49: 2 | E49: 1
B50: =B43 -> Fr | C50: =C49+1 -> 42111 | D50: 2 | E50: 1
B51: =B44 -> Sa | C51: =C50+1 -> 42112 | D51: 2 | E51: 1
B52: =B45 -> Su | C52: =C51+1 -> 42113 | D52: 2 | E52: 1
B53: =B46 -> Mo | C53: =C52+1 -> 42114 | D53: 2 | E53: 1
B54: =B47 -> Tu | C54: =C53+1 -> 42115 | D54: 2 | E54: 1
B55: =B48 -> We | C55: =C54+1 -> 42116 | D55: 2 | E55: 1
B56: =B49 -> Th | C56: =C55+1 -> 42117 | D56: 2 | E56: 1
B57: =B50 -> Fr | C57: =C56+1 -> 42118 | D57: 2 | E57: 1
... B59: =B52 -> Su | C59: =C58+1 -> 42120 | D59: 2 | E59: 1
B60: =B53 -> Mo | C60: =C59+1 -> 42121 | D60: =D46+1 -> 3
B61: =B54 -> Tu | C61: =C60+1 -> 42122 | D61: =D47+1 -> 3
B62: =B55 -> We | C62: =C61+1 -> 42123 | D62: =D48+1 -> 3
B63: =B56 -> Th | C63: =C62+1 -> 42124 | D63: =D49+1 -> 3
B64: =B57 -> Fr | C64: =C63+1 -> 42125 | D64: =D50+1 -> 3
...
