Workbook

Sheet Entomologist5_results
A1: NUM | B1: today | C1: Instructions | D1: ento_name | E1: data_entry_name | F1: trap_number | G1: date_empty | H1: number_nights | I1: female_ano | J1: male_ano | K1: female_cx | L1: male_cx | M1: female_aedes | N1: male_aedes | O1: female_mansonia | P1: male_mansonia | Q1: female_Sandlfy | R1: male_Sandfly | S1: OtherInsects | T1: Other insects Not Mosquitoes | U1: ants | V1: notes | W1: meta:instanceID | X1: FORM | Y1: female_other | Z1: female_destroyed | AA1: male_destroyed | AB1: damaged_all | AC1: male_other | AD1: TOTALMOSQ | AE1: DENS | AF1: TOTFEMMOS | AG1: DENSFEMMOS | AH1: TOTFSAND | AI1: DENSFSAND | AJ1: FORTNIGHT
A2: 1 | B2: 42111 | D2: SKO | E2: NA | F2: 3 | G2: 42107 | H2: 3 | I2: 6 | J2: 1 | K2: 2 | L2: 0 | M2: 0 | N2: 0 | O2: 0 | P2: 0 | Q2: NA | R2: NA | S2: NA | T2: 5 | W2: uuid:341eed22-c7d9-4436-ad8d-23948ddf7ba0 | X2: Entomologist3 | Y2: 2 | Z2: 0 | AA2: 0 | AB2: 5 | AC2: 0 | AD2: =SUM(I2:P2) -> 9 | AE2: =AD2/H2 -> 3 | AF2: =I2+K2+M2+O2 -> 8 | AG2: =AF2/H2 -> 2.6666667 | AH2: =Q2 -> NA | AI2: =AH2/H2 -> #VALUE! | AJ2: =LOOKUP(G2,FORTNIGHT!C$2:C$367,FORTNIGHT!D$2:D$367) -> 2
A3: 2 | B3: 42111 | D3: SKO | E3: NA | F3: 2 | G3: 42107 | H3: 3 | I3: 4 | J3: 1 | K3: 0 | L3: 0 | M3: 0 | N3: 0 | O3: 0 | P3: 0 | Q3: NA | R3: NA | S3: NA | T3: 12 | W3: uuid:3d4fdc46-e381-4acc-8dab-cff3a288119e | X3: Entomologist3 | Y3: 0 | Z3: 0 | AA3: 0 | AB3: 12 | AC3: 0 | AD3: =SUM(I3:P3) -> 5 | AE3: =AD3/H3 -> 1.6666667 | AF3: =I3+K3+M3+O3 -> 4 | AG3: =AF3/H3 -> 1.3333333 | AH3: =Q3 -> NA | AI3: =AH3/H3 -> #VALUE! | AJ3: =LOOKUP(G3,FORTNIGHT!C$2:C$367,FORTNIGHT!D$2:D$367) -> 2
A4: 3 | B4: 42111 | D4: SKO | E4: NA | F4: 1 | G4: 42107 | H4: 3 | I4: 65 | J4: 15 | K4: 10 | L4: 3 | M4: 0 | N4: 0 | O4: 0 | P4: 0 | Q4: NA | R4: NA | S4: NA | T4: 3 | W4: uuid:ac84ae8c-c46f-4ed7-a8c1-f15f82afc169 | X4: Entomologist3 | Y4: 10 | Z4: 0 | AA4: 0 | AB4: 3 | AC4: 3 | AD4: =SUM(I4:P4) -> 93 | AE4: =AD4/H4 -> 31 | AF4: =I4+K4+M4+O4 -> 75 | AG4: =AF4/H4 -> 25 | AH4: =Q4 -> NA | AI4: =AH4/H4 -> #VALUE! | AJ4: =LOOKUP(G4,FORTNIGHT!C$2:C$367,FORTNIGHT!D$2:D$367) -> 2
A5: 4 | B5: 42111 | D5: SKO | E5: NA | F5: 1 | G5: 42109 | H5: 2 | I5: 100 | J5: 3 | K5: 5 | L5: 0 | M5: 0 | N5: 0 | O5: 4 | P5: 0 | Q5: NA | R5: NA | S5: NA | T5: 21 | W5: uuid:2f06e001-1ed6-4719-a83a-96623fd09e19 | X5: Entomologist3 | Y5: 9 | Z5: 0 | AA5: 0 | AB5: 21 | AC5: 0 | AD5: =SUM(I5:P5) -> 112 | AE5: =AD5/H5 -> 56 | AF5: =I5+K5+M5+O5 -> 109 | AG5: =AF5/H5 -> 54.5 | AH5: =Q5 -> NA | AI5: =AH5/H5 -> #VALUE! | AJ5: =LOOKUP(G5,FORTNIGHT!C$2:C$367,FORTNIGHT!D$2:D$367) -> 2
A6: 5 | B6: 42111 | D6: SKO | E6: NA | F6: 2 | G6: 42109 | H6: 2 | I6: 14 | J6: 1 | K6: 1 | L6: 0 | M6: 0 | N6: 0 | O6: 0 | P6: 0 | Q6: NA | R6: NA | S6: NA | T6: 15 | W6: uuid:6556d52d-24d6-4547-bd27-81d31ea7ca58 | X6: Entomologist3 | Y6: 1 | Z6: 0 | AA6: 0 | AB6: 15 | AC6: 0 | AD6: =SUM(I6:P6) -> 16 | AE6: =AD6/H6 -> 8 | AF6: =I6+K6+M6+O6 -> 15 | AG6: =AF6/H6 -> 7.5 | AH6: =Q6 -> NA | AI6: =AH6/H6 -> #VALUE! | AJ6: =LOOKUP(G6,FORTNIGHT!C$2:C$367,FORTNIGHT!D$2:D$367) -> 2
A7: 6 | B7: 42111 | D7: SKO | E7: NA | F7: 3 | G7: 42109 | H7: 2 | I7: 51 | J7: 3 | K7: 2 | L7: 1 | M7: 0 | N7: 0 | O7: 0 | P7: 0 | Q7: NA | R7: NA | S7: NA | T7: 8 | W7: uuid:fae57f3b-ae92-43fe-812d-af8ed3226c68 | X7: Entomologist3 | Y7: 2 | Z7: 0 | AA7: 0 | AB7: 8 | AC7: 1 | AD7: =SUM(I7:P7) -> 57 | AE7: =AD7/H7 -> 28.5 | AF7: =I7+K7+M7+O7 -> 53 | AG7: =AF7/H7 -> 26.5 | AH7: =Q7 -> NA | AI7: =AH7/H7 -> #VALUE! | AJ7: =LOOKUP(G7,FORTNIGHT!C$2:C$367,FORTNIGHT!D$2:D$367) -> 2
A8: 7 | B8: 42111 | D8: SKO | E8: NA | F8: 3 | G8: 42111 | H8: 2 | I8: 22 | J8: 0 | K8: 0 | L8: 0 | M8: 0 | N8: 0 | O8: 0 | P8: 0 | Q8: NA | R8: NA | S8: NA | T8: 4 | W8: uuid:6e76a214-6abb-4f10-9acd-9fe23f2ce078 | X8: Entomologist3 | Y8: 0 | Z8: 0 | AA8: 0 | AB8: 4 | AC8: 0 | AD8: =SUM(I8:P8) -> 22 | AE8: =AD8/H8 -> 11 | AF8: =I8+K8+M8+O8 -> 22 | AG8: =AF8/H8 -> 11 | AH8: =Q8 -> NA | AI8: =AH8/H8 -> #VALUE! | AJ8: =LOOKUP(G8,FORTNIGHT!C$2:C$367,FORTNIGHT!D$2:D$367) -> 2
A9: 8 | B9: 42111 | D9: SKO | E9: NA | F9: 1 | G9: 42111 | H9: 2 | I9: 54 | J9: 0 | K9: 1 | L9: 0 | M9: 0 | N9: 0 | O9: 1 | P9: 0 | Q9: NA | R9: NA | S9: NA | T9: 26 | W9: uuid:855f623c-13c5-4d59-97e7-ceedd6933153 | X9: Entomologist3 | Y9: 2 | Z9: 0 | AA9: 0 | AB9: 26 | AC9: 0 | AD9: =SUM(I9:P9) -> 56 | AE9: =AD9/H9 -> 28 | AF9: =I9+K9+M9+O9 -> 56 | AG9: =AF9/H9 -> 28 | AH9: =Q9 -> NA | AI9: =AH9/H9 -> #VALUE! | AJ9: =LOOKUP(G9,FORTNIGHT!C$2:C$367,FORTNIGHT!D$2:D$367) -> 2
A10: 9 | B10: 42111 | D10: SKO | E10: NA | F10: 2 | G10: 42111 | H10: 2 | I10: 6 | J10: 0 | K10: 0 | L10: 0 | M10: 0 | N10: 0 | O10: 0 | P10: 0 | Q10: NA | R10: NA | S10: NA | T10: 12 | W10: uuid:ffd0fa96-2db4-45f9-92ad-4b0718d85ef4 | X10: Entomologist3 | Y10: 0 | Z10: 0 | AA10: 0 | AB10: 12 | AC10: 0 | AD10: =SUM(I10:P10) -> 6 | AE10: =AD10/H10 -> 3 | AF10: =I10+K10+M10+O10 -> 6 | AG10: =AF10/H10 -> 3 | AH10: =Q10 -> NA | AI10: =AH10/H10 -> #VALUE! | AJ10: =LOOKUP(G10,FORTNIGHT!C$2:C$367,FORTNIGHT!D$2:D$367) -> 2
A11: 10 | B11: 42114 | D11: SKO | E11: NA | F11: 1 | G11: 42114 | H11: 3 | I11: 125 | J11: 0 | K11: 1 | L11: 0 | M11: 0 | N11: 0 | O11: 0 | P11: 0 | Q11: NA | R11: NA | S11: NA | T11: 42 | W11: uuid:e5145bc8-ff19-4732-b4b1-1ee954f1b757 | X11: Entomologist3 | Y11: 1 | Z11: 0 | AA11: 0 | AB11: 42 | AC11: 0 | AD11: =SUM(I11:P11) -> 126 | AE11: =AD11/H11 -> 42 | AF11: =I11+K11+M11+O11 -> 126 | AG11: =AF11/H11 -> 42 | AH11: =Q11 -> NA | AI11: =AH11/H11 -> #VALUE! | AJ11: =LOOKUP(G11,FORTNIGHT!C$2:C$367,FORTNIGHT!D$2:D$367) -> 2
A12: 11 | B12: 42114 | D12: SKO | E12: NA | F12: 2 | G12: 42114 | H12: 3 | I12: 76 | J12: 1 | K12: 0 | L12: 0 | M12: 0 | N12: 0 | O12: 0 | P12: 0 | Q12: NA | R12: NA | S12: NA | T12: 35 | W12: uuid:1fbc6b15-78f8-4dad-a852-b59d3dcfbf0e | X12: Entomologist3 | Y12: 0 | Z12: 0 | AA12: 0 | AB12: 35 | AC12: 0 | AD12: =SUM(I12:P12) -> 77 | AE12: =AD12/H12 -> 25.666667 | AF12: =I12+K12+M12+O12 -> 76 | AG12: =AF12/H12 -> 25.333333 | AH12: =Q12 -> NA | AI12: =AH12/H12 -> #VALUE! | AJ12: =LOOKUP(G12,FORTNIGHT!C$2:C$367,FORTNIGHT!D$2:D$367) -> 2
A13: 12 | B13: 42114 | D13: SKO | E13: NA | F13: 3 | G13: 42114 | H13: 3 | I13: 62 | J13: 0 | K13: 2 | L13: 0 | M13: 0 | N13: 0 | O13: 1 | P13: 0 | Q13: NA | R13: NA | S13: NA | T13: 9 | W13: uuid:28abc991-5774-4d07-8c6b-d6a4720f8a12 | X13: Entomologist3 | Y13: 3 | Z13: 0 | AA13: 0 | AB13: 9 | AC13: 0 | AD13: =SUM(I13:P13) -> 65 | AE13: =AD13/H13 -> 21.666667 | AF13: =I13+K13+M13+O13 -> 65 | AG13: =AF13/H13 -> 21.666667 | AH13: =Q13 -> NA | AI13: =AH13/H13 -> #VALUE! | AJ13: =LOOKUP(G13,FORTNIGHT!C$2:C$367,FORTNIGHT!D$2:D$367) -> 2
... A19: 18 | B19: 42118 | D19: SKO | E19: NA | F19: 3 | G19: 42118 | H19: 2 | I19: 32 | J19: 0 | K19: 0 | L19: 0 | M19: 0 | N19: 0 | O19: 0 | P19: 0 | Q19: NA | R19: NA | S19: NA | T19: 9 | W19: uuid:cdc9bb1a-6301-4bda-8d26-1076de830608 | X19: Entomologist3 | Y19: 0 | Z19: 0 | AA19: 0 | AB19: 9 | AC19: 0 | AD19: =SUM(I19:P19) -> 32 | AE19: =AD19/H19 -> 16 | AF19: =I19+K19+M19+O19 -> 32 | AG19: =AF19/H19 -> 16 | AH19: =Q19 -> NA | AI19: =AH19/H19 -> #VALUE! | AJ19: =LOOKUP(G19,FORTNIGHT!C$2:C$367,FORTNIGHT!D$2:D$367) -> 2
A20: 19 | B20: 42122 | D20: SKO | E20: NA | F20: 3 | G20: 42121 | H20: 3 | I20: 8 | J20: 0 | K20: 0 | L20: 0 | M20: 0 | N20: 0 | O20: 0 | P20: 0 | Q20: NA | R20: NA | S20: NA | T20: 0 | V20: 0 for other bitting insects | W20: uuid:384e60db-d51d-4248-903d-87348f6ef06d | X20: Entomologist3 | Y20: 0 | Z20: 0 | AA20: 0 | AB20: 0 | AC20: 0 | AD20: =SUM(I20:P20) -> 8 | AE20: =AD20/H20 -> 2.6666667 | AF20: =I20+K20+M20+O20 -> 8 | AG20: =AF20/H20 -> 2.6666667 | AH20: =Q20 -> NA | AI20: =AH20/H20 -> #VALUE! | AJ20: =LOOKUP(G20,FORTNIGHT!C$2:C$367,FORTNIGHT!D$2:D$367) -> 3
A21: 20 | B21: 42122 | D21: SKO | E21: NA | F21: 2 | G21: 42121 | H21: 3 | I21: 40 | J21: 1 | K21: 1 | L21: 0 | M21: 0 | N21: 0 | O21: 1 | P21: 0 | Q21: NA | R21: NA | S21: NA | T21: 10 | V21: 10 for other biting insects | W21: uuid:d8d6ff34-4d17-44c2-93f2-023ff766f122 | X21: Entomologist3 | Y21: 2 | Z21: 0 | AA21: 0 | AB21: 0 | AC21: 0 | AD21: =SUM(I21:P21) -> 43 | AE21: =AD21/H21 -> 14.333333 | AF21: =I21+K21+M21+O21 -> 42 | AG21: =AF21/H21 -> 14 | AH21: =Q21 -> NA | AI21: =AH21/H21 -> #VALUE! | AJ21: =LOOKUP(G21,FORTNIGHT!C$2:C$367,FORTNIGHT!D$2:D$367) -> 3
A22: 21 | B22: 42122 | D22: SKO | E22: NA | F22: 1 | G22: 42121 | H22: 3 | I22: 8 | J22: 1 | K22: 0 | L22: 0 | M22: 0 | N22: 0 | O22: 1 | P22: 0 | Q22: NA | R22: NA | S22: NA | T22: 7 | V22: 7 for other biting insects | W22: uuid:fa59ab68-4815-4c26-8eb6-493a02a0db53 | X22: Entomologist3 | Y22: 1 | Z22: 0 | AA22: 0 | AB22: 0 | AC22: 0 | AD22: =SUM(I22:P22) -> 10 | AE22: =AD22/H22 -> 3.3333333 | AF22: =I22+K22+M22+O22 -> 9 | AG22: =AF22/H22 -> 3 | AH22: =Q22 -> NA | AI22: =AH22/H22 -> #VALUE! | AJ22: =LOOKUP(G22,FORTNIGHT!C$2:C$367,FORTNIGHT!D$2:D$367) -> 3
A23: 22 | B23: 42124 | D23: SKO | E23: NA | F23: 2 | G23: 42123 | H23: 2 | I23: 0 | J23: 0 | K23: 0 | L23: 0 | M23: 0 | N23: 0 | O23: 0 | P23: 0 | Q23: NA | R23: NA | S23: NA | T23: 0 | V23: They were no other biting insects | W23: uuid:42c37bbe-78b2-4f00-8227-6c25853467d2 | X23: Entomologist3 | Y23: 0 | Z23: 0 | AA23: 0 | AB23: 0 | AC23: 0 | AD23: =SUM(I23:P23) -> 0 | AE23: =AD23/H23 -> 0 | AF23: =I23+K23+M23+O23 -> 0 | AG23: =AF23/H23 -> 0 | AH23: =Q23 -> NA | AI23: =AH23/H23 -> #VALUE! | AJ23: =LOOKUP(G23,FORTNIGHT!C$2:C$367,FORTNIGHT!D$2:D$367) -> 3
A24: 23 | B24: 42124 | D24: SKO | E24: NA | F24: 3 | G24: 42123 | H24: 2 | I24: 18 | J24: 0 | K24: 0 | L24: 0 | M24: 0 | N24: 0 | O24: 0 | P24: 0 | Q24: NA | R24: NA | S24: NA | T24: 9 | V24: 9 other biting insects | W24: uuid:531a6f88-f20a-4344-bfea-ab15706ad27e | X24: Entomologist3 | Y24: 0 | Z24: 0 | AA24: 0 | AB24: 0 | AC24: 0 | AD24: =SUM(I24:P24) -> 18 | AE24: =AD24/H24 -> 9 | AF24: =I24+K24+M24+O24 -> 18 | AG24: =AF24/H24 -> 9 | AH24: =Q24 -> NA | AI24: =AH24/H24 -> #VALUE! | AJ24: =LOOKUP(G24,FORTNIGHT!C$2:C$367,FORTNIGHT!D$2:D$367) -> 3
A25: 24 | B25: 42124 | D25: SKO | E25: NA | F25: 1 | G25: 42123 | H25: 2 | I25: 27 | J25: 0 | K25: 1 | L25: 0 | M25: 0 | N25: 0 | O25: 2 | P25: 0 | Q25: NA | R25: NA | S25: NA | T25: 5 | V25: 5 other biting insects | W25: uuid:74f98d1a-797f-44fd-94ed-8a8ee906aa3e | X25: Entomologist3 | Y25: 3 | Z25: 0 | AA25: 0 | AB25: 0 | AC25: 0 | AD25: =SUM(I25:P25) -> 30 | AE25: =AD25/H25 -> 15 | AF25: =I25+K25+M25+O25 -> 30 | AG25: =AF25/H25 -> 15 | AH25: =Q25 -> NA | AI25: =AH25/H25 -> #VALUE! | AJ25: =LOOKUP(G25,FORTNIGHT!C$2:C$367,FORTNIGHT!D$2:D$367) -> 3
A26: 25 | B26: 42129 | D26: SKO | E26: NA | F26: 2 | G26: 42125 | H26: 2 | I26: 4 | J26: 0 | K26: 0 | L26: 0 | M26: 0 | N26: 0 | O26: 0 | P26: 0 | Q26: NA | R26: NA | S26: NA | T26: 0 | W26: uuid:7b481e20-7121-4ea1-9175-9e3155b78aa2 | X26: Entomologist3 | Y26: 0 | Z26: 0 | AA26: 0 | AB26: 0 | AC26: 0 | AD26: =SUM(I26:P26) -> 4 | AE26: =AD26/H26 -> 2 | AF26: =I26+K26+M26+O26 -> 4 | AG26: =AF26/H26 -> 2 | AH26: =Q26 -> NA | AI26: =AH26/H26 -> #VALUE! | AJ26: =LOOKUP(G26,FORTNIGHT!C$2:C$367,FORTNIGHT!D$2:D$367) -> 3
A27: 26 | B27: 42129 | D27: SKO | E27: NA | F27: 1 | G27: 42125 | H27: 2 | I27: 55 | J27: 0 | K27: 1 | L27: 0 | M27: 1 | N27: 0 | O27: 2 | P27: 0 | Q27: NA | R27: NA | S27: NA | T27: 7 | V27: 7 other insects not mosquitoes were identified | W27: uuid:d2832058-f9a9-419c-a79f-fce03effd055 | X27: Entomologist3 | Y27: 3 | Z27: 0 | AA27: 0 | AB27: 0 | AC27: 0 | AD27: =SUM(I27:P27) -> 59 | AE27: =AD27/H27 -> 29.5 | AF27: =I27+K27+M27+O27 -> 59 | AG27: =AF27/H27 -> 29.5 | AH27: =Q27 -> NA | AI27: =AH27/H27 -> #VALUE! | AJ27: =LOOKUP(G27,FORTNIGHT!C$2:C$367,FORTNIGHT!D$2:D$367) -> 3
A28: 27 | B28: 42129 | D28: SKO | E28: NA | F28: 3 | G28: 42125 | H28: 2 | I28: 13 | J28: 0 | K28: 0 | L28: 0 | M28: 0 | N28: 0 | O28: 0 | P28: 0 | Q28: NA | R28: NA | S28: NA | T28: 3 | V28: 3 other insects not mosquitoes were identified | W28: uuid:de8cf231-97d5-42f6-9312-7083bc6aaec6 | X28: Entomologist3 | Y28: 0 | Z28: 0 | AA28: 0 | AB28: 0 | AC28: 0 | AD28: =SUM(I28:P28) -> 13 | AE28: =AD28/H28 -> 6.5 | AF28: =I28+K28+M28+O28 -> 13 | AG28: =AF28/H28 -> 6.5 | AH28: =Q28 -> NA | AI28: =AH28/H28 -> #VALUE! | AJ28: =LOOKUP(G28,FORTNIGHT!C$2:C$367,FORTNIGHT!D$2:D$367) -> 3
A29: 28 | B29: 42129 | D29: SkO | E29: NA | F29: 1 | G29: 42128 | H29: 3 | I29: 28 | J29: 0 | K29: 0 | L29: 0 | M29: 1 | N29: 0 | O29: 8 | P29: 0 | Q29: NA | R29: NA | S29: NA | T29: 34 | V29: 34 other insects not mosquitoes were identified | W29: uuid:3619f44c-5571-4074-845e-60f48551e79c | X29: Entomologist3 | Y29: 8 | Z29: 0 | AA29: 0 | AB29: 0 | AC29: 0 | AD29: =SUM(I29:P29) -> 37 | AE29: =AD29/H29 -> 12.333333 | AF29: =I29+K29+M29+O29 -> 37 | AG29: =AF29/H29 -> 12.333333 | AH29: =Q29 -> NA | AI29: =AH29/H29 -> #VALUE! | AJ29: =LOOKUP(G29,FORTNIGHT!C$2:C$367,FORTNIGHT!D$2:D$367) -> 3
A30: 29 | B30: 42129 | D30: SKO | E30: NA | F30: 2 | G30: 42128 | H30: 3 | I30: 14 | J30: 0 | K30: 4 | L30: 0 | M30: 0 | N30: 0 | O30: 0 | P30: 0 | Q30: NA | R30: NA | S30: NA | T30: 3 | V30: 3 other insects not mosquitoes were identified. | W30: uuid:b28a8f93-396a-4d6f-9836-7e23e4bf45f5 | X30: Entomologist3 | Y30: 4 | Z30: 0 | AA30: 0 | AB30: 0 | AC30: 0 | AD30: =SUM(I30:P30) -> 18 | AE30: =AD30/H30 -> 6 | AF30: =I30+K30+M30+O30 -> 18 | AG30: =AF30/H30 -> 6 | AH30: =Q30 -> NA | AI30: =AH30/H30 -> #VALUE! | AJ30: =LOOKUP(G30,FORTNIGHT!C$2:C$367,FORTNIGHT!D$2:D$367) -> 3
A31: 30 | B31: 42129 | D31: SKO | E31: NA | F31: 3 | G31: 42128 | H31: 3 | I31: 5 | J31: 0 | K31: 0 | L31: 0 | M31: 0 | N31: 0 | O31: 1 | P31: 0 | Q31: NA | R31: NA | S31: NA | T31: 16 | V31: 16 other insects not mosquitoes were identified. | W31: uuid:e7bf0c28-439c-421f-b3fe-05ac5db6f4c3 | X31: Entomologist3 | Y31: 0 | Z31: 0 | AA31: 0 | AB31: 0 | AC31: 0 | AD31: =SUM(I31:P31) -> 6 | AE31: =AD31/H31 -> 2 | AF31: =I31+K31+M31+O31 -> 6 | AG31: =AF31/H31 -> 2 | AH31: =Q31 -> NA | AI31: =AH31/H31 -> #VALUE! | AJ31: =LOOKUP(G31,FORTNIGHT!C$2:C$367,FORTNIGHT!D$2:D$367) -> 3
A32: 31 | B32: 42132 | D32: SKO | E32: NA | F32: 2 | G32: 42130 | H32: 2 | I32: 1 | J32: 0 | M32: 0 | N32: 0 | Q32: NA | R32: NA | S32: NA | T32: 15 | V32: 15 other insects not mosquitoes were identified. | W32: uuid:4d52f62f-96ce-4048-832e-f95688efc23f | X32: Entomologist3 | Y32: 0 | Z32: 0 | AA32: 0 | AB32: 0 | AC32: 0 | AD32: =SUM(I32:P32) -> 1 | AE32: =AD32/H32 -> 0.5 | AF32: =I32+K32+M32+O32 -> 1 | AG32: =AF32/H32 -> 0.5 | AH32: =Q32 -> NA | AI32: =AH32/H32 -> #VALUE! | AJ32: =LOOKUP(G32,FORTNIGHT!C$2:C$367,FORTNIGHT!D$2:D$367) -> 3
A33: 32 | B33: 42132 | D33: SKO | E33: NA | F33: 1 | G33: 42130 | H33: 2 | I33: 11 | J33: 0 | M33: 0 | N33: 0 | Q33: NA | R33: NA | S33: NA | T33: 12 | V33: 12 other insects not mosquitoes were identified. | W33: uuid:c70587ae-309c-437a-9f8c-9e4d33e401e6 | X33: Entomologist3 | Y33: 2 | Z33: 0 | AA33: 0 | AB33: 0 | AC33: 0 | AD33: =SUM(I33:P33) -> 11 | AE33: =AD33/H33 -> 5.5 | AF33: =I33+K33+M33+O33 -> 11 | AG33: =AF33/H33 -> 5.5 | AH33: =Q33 -> NA | AI33: =AH33/H33 -> #VALUE! | AJ33: =LOOKUP(G33,FORTNIGHT!C$2:C$367,FORTNIGHT!D$2:D$367) -> 3
A34: 33 | B34: 42132 | D34: SKO | E34: NA | F34: 3 | G34: 42130 | H34: 2 | I34: 3 | J34: 0 | M34: 0 | N34: 0 | Q34: NA | R34: NA | S34: NA | T34: 1 | V34: 1 other insect not mosquito was identified. | W34: uuid:ec67a4e1-28b6-4552-8a62-606b3a5d866a | X34: Entomologist3 | Y34: 3 | Z34: 0 | AA34: 0 | AB34: 0 | AC34: 0 | AD34: =SUM(I34:P34) -> 3 | AE34: =AD34/H34 -> 1.5 | AF34: =I34+K34+M34+O34 -> 3 | AG34: =AF34/H34 -> 1.5 | AH34: =Q34 -> NA | AI34: =AH34/H34 -> #VALUE! | AJ34: =LOOKUP(G34,FORTNIGHT!C$2:C$367,FORTNIGHT!D$2:D$367) -> 3
A35: 1 | B35: 42135 | D35: SKO | E35: SAO | F35: 3 | G35: 42132 | H35: 2 | I35: 0 | J35: 0 | K35: 2 | L35: 0 | M35: 0 | N35: 0 | O35: 0 | P35: 0 | Q35: 0 | R35: 0 | S35: 3 | W35: uuid:3c5ef51d-a899-42a2-8783-862eeb242ca5 | X35: Entomologist5 | AD35: =SUM(I35:P35) -> 2 | AE35: =AD35/H35 -> 1 | AF35: =I35+K35+M35+O35 -> 2 | AG35: =AF35/H35 -> 1 | AH35: =Q35 -> 0 | AI35: =AH35/H35 -> 0 | AJ35: =LOOKUP(G35,FORTNIGHT!C$2:C$367,FORTNIGHT!D$2:D$367) -> 3
A36: 2 | B36: 42135 | D36: SKO | E36: SAO | F36: 2 | G36: 42132 | H36: 2 | I36: 0 | J36: 1 | K36: 0 | L36: 0 | M36: 0 | N36: 0 | O36: 0 | P36: 0 | Q36: 2 | R36: 0 | S36: 5 | W36: uuid:87bba3ce-3711-43ea-b95b-ba90a93edf8b | X36: Entomologist5 | AD36: =SUM(I36:P36) -> 1 | AE36: =AD36/H36 -> 0.5 | AF36: =I36+K36+M36+O36 -> 0 | AG36: =AF36/H36 -> 0 | AH36: =Q36 -> 2 | AI36: =AH36/H36 -> 1 | AJ36: =LOOKUP(G36,FORTNIGHT!C$2:C$367,FORTNIGHT!D$2:D$367) -> 3
A37: 3 | B37: 42135 | D37: SKO | E37: SAO | F37: 1 | G37: 42132 | H37: 2 | I37: 6 | J37: 0 | K37: 1 | L37: 0 | M37: 0 | N37: 0 | O37: 1 | P37: 0 | Q37: 9 | R37: 0 | S37: 7 | W37: uuid:0763a11e-9167-495e-95de-493ec0889bdc | X37: Entomologist5 | AD37: =SUM(I37:P37) -> 8 | AE37: =AD37/H37 -> 4 | AF37: =I37+K37+M37+O37 -> 8 | AG37: =AF37/H37 -> 4 | AH37: =Q37 -> 9 | AI37: =AH37/H37 -> 4.5 | AJ37: =LOOKUP(G37,FORTNIGHT!C$2:C$367,FORTNIGHT!D$2:D$367) -> 3
A38: 4 | B38: 42135 | D38: SKO | E38: SAO | F38: 2 | G38: 42135 | H38: 3 | I38: 1 | J38: 0 | K38: 1 | L38: 0 | M38: 0 | N38: 0 | O38: 0 | P38: 0 | Q38: 8 | R38: 0 | S38: 3 | W38: uuid:090f08b7-e93d-4c03-bb1f-30a3a5b85ddc | X38: Entomologist5 | AD38: =SUM(I38:P38) -> 2 | AE38: =AD38/H38 -> 0.66666667 | AF38: =I38+K38+M38+O38 -> 2 | AG38: =AF38/H38 -> 0.66666667 | AH38: =Q38 -> 8 | AI38: =AH38/H38 -> 2.6666667 | AJ38: =LOOKUP(G38,FORTNIGHT!C$2:C$367,FORTNIGHT!D$2:D$367) -> 4
A39: 5 | B39: 42135 | D39: SKO | E39: SAO | F39: 1 | G39: 42135 | H39: 3 | I39: 12 | J39: 0 | K39: 0 | L39: 0 | M39: 0 | N39: 0 | O39: 3 | P39: 0 | Q39: 24 | R39: 5 | S39: 5 | W39: uuid:910fea35-063b-43c8-aade-9a01f06a3302 | X39: Entomologist5 | AD39: =SUM(I39:P39) -> 15 | AE39: =AD39/H39 -> 5 | AF39: =I39+K39+M39+O39 -> 15 | AG39: =AF39/H39 -> 5 | AH39: =Q39 -> 24 | AI39: =AH39/H39 -> 8 | AJ39: =LOOKUP(G39,FORTNIGHT!C$2:C$367,FORTNIGHT!D$2:D$367) -> 4
A40: 6 | B40: 42135 | D40: SKO | E40: SAO | F40: 3 | G40: 42135 | H40: 3 | I40: 9 | J40: 0 | K40: 0 | L40: 0 | M40: 0 | N40: 0 | O40: 0 | P40: 0 | Q40: 2 | R40: 0 | S40: 6 | W40: uuid:c64e1b8c-0201-474b-8227-c79ccdb46f93 | X40: Entomologist5 | AD40: =SUM(I40:P40) -> 9 | AE40: =AD40/H40 -> 3 | AF40: =I40+K40+M40+O40 -> 9 | AG40: =AF40/H40 -> 3 | AH40: =Q40 -> 2 | AI40: =AH40/H40 -> 0.66666667 | AJ40: =LOOKUP(G40,FORTNIGHT!C$2:C$367,FORTNIGHT!D$2:D$367) -> 4
A41: 7 | B41: 42138 | D41: SKO | E41: SAO | F41: 3 | G41: 42137 | H41: 2 | I41: 1 | J41: 0 | K41: 0 | L41: 0 | M41: 0 | N41: 0 | O41: 2 | P41: 0 | Q41: 8 | R41: 0 | S41: 1 | W41: uuid:357984f1-788a-4385-810e-92ed80fa6f9a | X41: Entomologist5 | AD41: =SUM(I41:P41) -> 3 | AE41: =AD41/H41 -> 1.5 | AF41: =I41+K41+M41+O41 -> 3 | AG41: =AF41/H41 -> 1.5 | AH41: =Q41 -> 8 | AI41: =AH41/H41 -> 4 | AJ41: =LOOKUP(G41,FORTNIGHT!C$2:C$367,FORTNIGHT!D$2:D$367) -> 4
A42: 8 | B42: 42138 | D42: SKO | E42: SAO | F42: 2 | G42: 42137 | H42: 2 | I42: 1 | J42: 0 | K42: 0 | L42: 0 | M42: 0 | N42: 0 | O42: 0 | P42: 0 | Q42: 3 | R42: 0 | S42: 0 | W42: uuid:ec86e1dd-9a6c-4f0a-b41b-303e12191d1c | X42: Entomologist5 | AD42: =SUM(I42:P42) -> 1 | AE42: =AD42/H42 -> 0.5 | AF42: =I42+K42+M42+O42 -> 1 | AG42: =AF42/H42 -> 0.5 | AH42: =Q42 -> 3 | AI42: =AH42/H42 -> 1.5 | AJ42: =LOOKUP(G42,FORTNIGHT!C$2:C$367,FORTNIGHT!D$2:D$367) -> 4
A43: 9 | B43: 42138 | D43: SKO | E43: SAO | F43: 1 | G43: 42137 | H43: 2 | I43: 12 | J43: 0 | K43: 0 | L43: 0 | M43: 0 | N43: 0 | O43: 0 | P43: 0 | Q43: 17 | R43: 0 | S43: 3 | W43: uuid:3ed182eb-b846-487e-a423-e71bc5774ad9 | X43: Entomologist5 | AD43: =SUM(I43:P43) -> 12 | AE43: =AD43/H43 -> 6 | AF43: =I43+K43+M43+O43 -> 12 | AG43: =AF43/H43 -> 6 | AH43: =Q43 -> 17 | AI43: =AH43/H43 -> 8.5 | AJ43: =LOOKUP(G43,FORTNIGHT!C$2:C$367,FORTNIGHT!D$2:D$367) -> 4
A44: 10 | B44: 42142 | D44: SKO | E44: SAO | F44: 1 | G44: 42139 | H44: 2 | I44: 6 | J44: 0 | K44: 0 | L44: 0 | M44: 2 | N44: 0 | O44: 1 | P44: 0 | Q44: 5 | R44: 0 | S44: 8 | W44: uuid:e7fa8e18-2409-4ee9-8952-bc0aaf6d5f73 | X44: Entomologist5 | AD44: =SUM(I44:P44) -> 9 | AE44: =AD44/H44 -> 4.5 | AF44: =I44+K44+M44+O44 -> 9 | AG44: =AF44/H44 -> 4.5 | AH44: =Q44 -> 5 | AI44: =AH44/H44 -> 2.5 | AJ44: =LOOKUP(G44,FORTNIGHT!C$2:C$367,FORTNIGHT!D$2:D$367) -> 4
A45: 11 | B45: 42142 | D45: SKO | E45: SAO | F45: 2 | G45: 42139 | H45: 2 | I45: 12 | J45: 0 | K45: 1 | L45: 0 | M45: 0 | N45: 0 | O45: 2 | P45: 0 | Q45: 3 | R45: 0 | S45: 0 | W45: uuid:7a2990fe-a15f-4960-a32a-f427d9f9065b | X45: Entomologist5 | AD45: =SUM(I45:P45) -> 15 | AE45: =AD45/H45 -> 7.5 | AF45: =I45+K45+M45+O45 -> 15 | AG45: =AF45/H45 -> 7.5 | AH45: =Q45 -> 3 | AI45: =AH45/H45 -> 1.5 | AJ45: =LOOKUP(G45,FORTNIGHT!C$2:C$367,FORTNIGHT!D$2:D$367) -> 4
A46: 12 | B46: 42142 | D46: SKO | E46: SAO | F46: 3 | G46: 42139 | H46: 2 | I46: 4 | J46: 0 | K46: 0 | L46: 0 | M46: 0 | N46: 0 | O46: 0 | P46: 0 | Q46: 7 | R46: 0 | S46: 3 | W46: uuid:870bb73b-ba1c-4c9f-832e-7c874db18bbd | X46: Entomologist5 | AD46: =SUM(I46:P46) -> 4 | AE46: =AD46/H46 -> 2 | AF46: =I46+K46+M46+O46 -> 4 | AG46: =AF46/H46 -> 2 | AH46: =Q46 -> 7 | AI46: =AH46/H46 -> 3.5 | AJ46: =LOOKUP(G46,FORTNIGHT!C$2:C$367,FORTNIGHT!D$2:D$367) -> 4
... A158: 124 | B158: 42235 | D158: SKO | E158: SAO | F158: 2 | G158: 42233 | H158: 3 | I158: 2 | J158: 0 | K158: 0 | L158: 0 | M158: 0 | N158: 0 | O158: 0 | P158: 0 | Q158: 8 | R158: 0 | S158: 3 | W158: uuid:1c352b3e-54e5-479d-b5b6-16b528115a6b | X158: Entomologist5 | AD158: =SUM(I158:P158) -> 2 | AE158: =AD158/H158 -> 0.66666667 | AF158: =I158+K158+M158+O158 -> 2 | AG158: =AF158/H158 -> 0.66666667 | AH158: =Q158 -> 8 | AI158: =AH158/H158 -> 2.6666667 | AJ158: =LOOKUP(G158,FORTNIGHT!C$2:C$367,FORTNIGHT!D$2:D$367) -> 11
A159: =A158+1 -> 125 | B159: 42235 | D159: SKO | E159: SAO | F159: 3 | G159: 42233 | H159: 3 | I159: 7 | J159: 0 | K159: 3 | L159: 0 | M159: 0 | N159: 0 | O159: 0 | P159: 0 | Q159: 1 | R159: 0 | S159: 0 | W159: uuid:97c9cc38-18ca-4f41-8fb5-13fba38f4012 | X159: Entomologist5 | AD159: =SUM(I159:P159) -> 10 | AE159: =AD159/H159 -> 3.3333333 | AF159: =I159+K159+M159+O159 -> 10 | AG159: =AF159/H159 -> 3.3333333 | AH159: =Q159 -> 1 | AI159: =AH159/H159 -> 0.33333333 | AJ159: =LOOKUP(G159,FORTNIGHT!C$2:C$367,FORTNIGHT!D$2:D$367) -> 11
A160: =A159+1 -> 126 | B160: 42235 | D160: SKO | E160: SAO | F160: 1 | G160: 42233 | H160: 3 | I160: 3 | J160: 0 | K160: 0 | L160: 0 | M160: 0 | N160: 0 | O160: 0 | P160: 0 | Q160: 5 | R160: 0 | S160: 4 | W160: uuid:bfb4e1da-c819-4d0d-b3cd-2bcd287e61b6 | X160: Entomologist5 | AD160: =SUM(I160:P160) -> 3 | AE160: =AD160/H160 -> 1 | AF160: =I160+K160+M160+O160 -> 3 | AG160: =AF160/H160 -> 1 | AH160: =Q160 -> 5 | AI160: =AH160/H160 -> 1.6666667 | AJ160: =LOOKUP(G160,FORTNIGHT!C$2:C$367,FORTNIGHT!D$2:D$367) -> 11
A161: =A160+1 -> 127 | B161: 42235 | D161: SKO | E161: SAO | F161: 1 | G161: 42235 | H161: 2 | I161: 4 | J161: 0 | K161: 0 | L161: 0 | M161: 0 | N161: 0 | O161: 0 | P161: 0 | Q161: 5 | R161: 0 | S161: 2 | W161: uuid:d7464ce9-9811-469c-ba6c-ccc074c93b88 | X161: Entomologist5 | AD161: =SUM(I161:P161) -> 4 | AE161: =AD161/H161 -> 2 | AF161: =I161+K161+M161+O161 -> 4 | AG161: =AF161/H161 -> 2 | AH161: =Q161 -> 5 | AI161: =AH161/H161 -> 2.5 | AJ161: =LOOKUP(G161,FORTNIGHT!C$2:C$367,FORTNIGHT!D$2:D$367) -> 11
A162: =A161+1 -> 128 | B162: 42235 | D162: SKO | E162: SKO | F162: 3 | G162: 42235 | H162: 2 | I162: 0 | J162: 0 | K162: 0 | L162: 0 | M162: 0 | N162: 0 | O162: 0 | P162: 0 | Q162: 1 | R162: 0 | S162: 0 | W162: uuid:e6cace41-8258-428f-95ee-92b50582f433 | X162: Entomologist5 | AD162: =SUM(I162:P162) -> 0 | AE162: =AD162/H162 -> 0 | AF162: =I162+K162+M162+O162 -> 0 | AG162: =AF162/H162 -> 0 | AH162: =Q162 -> 1 | AI162: =AH162/H162 -> 0.5 | AJ162: =LOOKUP(G162,FORTNIGHT!C$2:C$367,FORTNIGHT!D$2:D$367) -> 11
A163: =A162+1 -> 129 | B163: 42235 | D163: SKO | E163: SAO | F163: 2 | G163: 42235 | H163: 2 | I163: 0 | J163: 0 | K163: 1 | L163: 0 | M163: 0 | N163: 0 | O163: 0 | P163: 0 | Q163: 2 | R163: 0 | S163: 3 | W163: uuid:fb82c15c-8403-4b81-a9c1-6bdc784c325c | X163: Entomologist5 | AD163: =SUM(I163:P163) -> 1 | AE163: =AD163/H163 -> 0.5 | AF163: =I163+K163+M163+O163 -> 1 | AG163: =AF163/H163 -> 0.5 | AH163: =Q163 -> 2 | AI163: =AH163/H163 -> 1 | AJ163: =LOOKUP(G163,FORTNIGHT!C$2:C$367,FORTNIGHT!D$2:D$367) -> 11
A164: =A163+1 -> 130 | B164: 42242 | D164: SKO | E164: SAO | F164: 1 | G164: 42237 | H164: 2 | I164: 0 | J164: 1 | K164: 0 | L164: 0 | M164: 0 | N164: 0 | O164: 0 | P164: 0 | Q164: 6 | R164: 0 | S164: 5 | W164: uuid:3ecb1fea-6333-466d-b2ea-17b9135ef2f0 | X164: Entomologist5 | AD164: =SUM(I164:P164) -> 1 | AE164: =AD164/H164 -> 0.5 | AF164: =I164+K164+M164+O164 -> 0 | AG164: =AF164/H164 -> 0 | AH164: =Q164 -> 6 | AI164: =AH164/H164 -> 3 | AJ164: =LOOKUP(G164,FORTNIGHT!C$2:C$367,FORTNIGHT!D$2:D$367) -> 11
A165: =A164+1 -> 131 | B165: 42242 | D165: SKO | E165: SAO | F165: 2 | G165: 42237 | H165: 2 | I165: 0 | J165: 0 | K165: 0 | L165: 0 | M165: 0 | N165: 0 | O165: 0 | P165: 0 | Q165: 4 | R165: 0 | S165: 2 | W165: uuid:96a2e663-dcb1-4449-926c-45cbbb631ae6 | X165: Entomologist5 | AD165: =SUM(I165:P165) -> 0 | AE165: =AD165/H165 -> 0 | AF165: =I165+K165+M165+O165 -> 0 | AG165: =AF165/H165 -> 0 | AH165: =Q165 -> 4 | AI165: =AH165/H165 -> 2 | AJ165: =LOOKUP(G165,FORTNIGHT!C$2:C$367,FORTNIGHT!D$2:D$367) -> 11
A166: =A165+1 -> 132 | B166: 42242 | D166: SKO | E166: SAO | F166: 3 | G166: 42237 | H166: 2 | I166: 3 | J166: 0 | K166: 0 | L166: 0 | M166: 0 | N166: 0 | O166: 0 | P166: 0 | Q166: 6 | R166: 0 | S166: 5 | W166: uuid:3733c450-36f9-42cb-99dc-ed00aa674586 | X166: Entomologist5 | AD166: =SUM(I166:P166) -> 3 | AE166: =AD166/H166 -> 1.5 | AF166: =I166+K166+M166+O166 -> 3 | AG166: =AF166/H166 -> 1.5 | AH166: =Q166 -> 6 | AI166: =AH166/H166 -> 3 | AJ166: =LOOKUP(G166,FORTNIGHT!C$2:C$367,FORTNIGHT!D$2:D$367) -> 11
A167: =A166+1 -> 133 | B167: 42254 | D167: SKO | E167: SAO | F167: 1 | G167: 42241 | H167: 4 | I167: 4 | J167: 0 | K167: 1 | L167: 0 | M167: 0 | N167: 0 | O167: 0 | P167: 0 | Q167: 9 | R167: 0 | S167: 8 | U167: 0 | W167: uuid:eddd2f8c-a49b-4a37-8e93-e88469031a12 | X167: Entomologist6 | AD167: =SUM(I167:P167) -> 5 | AE167: =AD167/H167 -> 1.25 | AF167: =I167+K167+M167+O167 -> 5 | AG167: =AF167/H167 -> 1.25 | AH167: =Q167 -> 9 | AI167: =AH167/H167 -> 2.25 | AJ167: =LOOKUP(G167,FORTNIGHT!C$2:C$367,FORTNIGHT!D$2:D$367) -> 11
A168: =A167+1 -> 134 | B168: 42254 | D168: SKO | E168: SAO | F168: 1 | G168: 42242 | H168: 1 | I168: 0 | J168: 0 | K168: 0 | L168: 0 | M168: 0 | N168: 0 | O168: 0 | P168: 0 | Q168: 0 | R168: 0 | S168: 9 | U168: 0 | W168: uuid:9ffac319-7f91-475a-885b-fd79b1e67249 | X168: Entomologist6 | AD168: =SUM(I168:P168) -> 0 | AE168: =AD168/H168 -> 0 | AF168: =I168+K168+M168+O168 -> 0 | AG168: =AF168/H168 -> 0 | AH168: =Q168 -> 0 | AI168: =AH168/H168 -> 0 | AJ168: =LOOKUP(G168,FORTNIGHT!C$2:C$367,FORTNIGHT!D$2:D$367) -> 11
A169: =A168+1 -> 135 | B169: 42254 | D169: SKO | E169: SAO | F169: 3 | G169: 42241 | H169: 4 | I169: 0 | J169: 0 | K169: 0 | L169: 0 | M169: 0 | N169: 0 | O169: 0 | P169: 0 | Q169: 2 | R169: 8 | S169: 2 | U169: 0 | W169: uuid:daff6739-4228-4bdf-b56c-91f09392d0b0 | X169: Entomologist6 | AD169: =SUM(I169:P169) -> 0 | AE169: =AD169/H169 -> 0 | AF169: =I169+K169+M169+O169 -> 0 | AG169: =AF169/H169 -> 0 | AH169: =Q169 -> 2 | AI169: =AH169/H169 -> 0.5 | AJ169: =LOOKUP(G169,FORTNIGHT!C$2:C$367,FORTNIGHT!D$2:D$367) -> 11
A170: =A169+1 -> 136 | B170: 42254 | D170: SKO | E170: SAO | F170: 3 | G170: 42242 | H170: 1 | I170: 0 | J170: 0 | K170: 5 | L170: 0 | M170: 0 | N170: 0 | O170: 0 | P170: 0 | Q170: 0 | R170: 0 | S170: 4 | U170: 0 | W170: uuid:0754ca02-b354-4551-a3c7-24cf013b656a | X170: Entomologist6 | AD170: =SUM(I170:P170) -> 5 | AE170: =AD170/H170 -> 5 | AF170: =I170+K170+M170+O170 -> 5 | AG170: =AF170/H170 -> 5 | AH170: =Q170 -> 0 | AI170: =AH170/H170 -> 0 | AJ170: =LOOKUP(G170,FORTNIGHT!C$2:C$367,FORTNIGHT!D$2:D$367) -> 11
A171: =A170+1 -> 137 | B171: 42254 | D171: SKO | E171: SAO | F171: 2 | G171: 42242 | H171: 1 | I171: 0 | J171: 0 | K171: 1 | L171: 0 | M171: 0 | N171: 0 | O171: 1 | P171: 0 | Q171: 2 | R171: 0 | S171: 2 | U171: 0 | W171: uuid:68cf5fd4-9e7c-4bfe-84e2-b44a9a778c1d | X171: Entomologist6 | AD171: =SUM(I171:P171) -> 2 | AE171: =AD171/H171 -> 2 | AF171: =I171+K171+M171+O171 -> 2 | AG171: =AF171/H171 -> 2 | AH171: =Q171 -> 2 | AI171: =AH171/H171 -> 2 | AJ171: =LOOKUP(G171,FORTNIGHT!C$2:C$367,FORTNIGHT!D$2:D$367) -> 11
A172: =A171+1 -> 138 | B172: 42254 | D172: SKO | E172: SAO | F172: 1 | G172: 42247 | H172: 5 | I172: 2 | J172: 0 | K172: 0 | L172: 0 | M172: 0 | N172: 0 | O172: 0 | P172: 0 | Q172: 6 | R172: 0 | S172: 7 | U172: 0 | W172: uuid:3c555a63-abe2-420d-8698-e50c1c475c47 | X172: Entomologist6 | AD172: =SUM(I172:P172) -> 2 | AE172: =AD172/H172 -> 0.4 | AF172: =I172+K172+M172+O172 -> 2 | AG172: =AF172/H172 -> 0.4 | AH172: =Q172 -> 6 | AI172: =AH172/H172 -> 1.2 | AJ172: =LOOKUP(G172,FORTNIGHT!C$2:C$367,FORTNIGHT!D$2:D$367) -> 12
A173: =A172+1 -> 139 | B173: 42254 | D173: SKO | E173: SAO | F173: 2 | G173: 42247 | H173: 5 | I173: 1 | J173: 0 | K173: 0 | L173: 0 | M173: 0 | N173: 0 | O173: 0 | P173: 0 | Q173: 9 | R173: 0 | S173: 2 | U173: 0 | W173: uuid:4fc4d892-4b12-4d33-8d62-31bcdfb82b8b | X173: Entomologist6 | AD173: =SUM(I173:P173) -> 1 | AE173: =AD173/H173 -> 0.2 | AF173: =I173+K173+M173+O173 -> 1 | AG173: =AF173/H173 -> 0.2 | AH173: =Q173 -> 9 | AI173: =AH173/H173 -> 1.8 | AJ173: =LOOKUP(G173,FORTNIGHT!C$2:C$367,FORTNIGHT!D$2:D$367) -> 12
A174: =A173+1 -> 140 | B174: 42254 | D174: SKO | E174: SAO | F174: 1 | G174: 42249 | H174: 2 | I174: 0 | J174: 0 | K174: 0 | L174: 0 | M174: 0 | N174: 0 | O174: 0 | P174: 0 | Q174: 17 | R174: 0 | S174: 9 | U174: 0 | W174: uuid:029d8fd4-7d13-41b8-adfd-baa9c4b811a0 | X174: Entomologist6 | AD174: =SUM(I174:P174) -> 0 | AE174: =AD174/H174 -> 0 | AF174: =I174+K174+M174+O174 -> 0 | AG174: =AF174/H174 -> 0 | AH174: =Q174 -> 17 | AI174: =AH174/H174 -> 8.5 | AJ174: =LOOKUP(G174,FORTNIGHT!C$2:C$367,FORTNIGHT!D$2:D$367) -> 12
A175: =A174+1 -> 141 | B175: 42254 | D175: SKO | E175: SAO | F175: 3 | G175: 42247 | H175: 5 | I175: 2 | J175: 0 | K175: 2 | L175: 0 | M175: 0 | N175: 0 | O175: 0 | P175: 0 | Q175: 21 | R175: 0 | S175: 10 | U175: 0 | W175: uuid:a7cfac65-d5a3-4432-b8c5-abd740572d73 | X175: Entomologist6 | AD175: =SUM(I175:P175) -> 4 | AE175: =AD175/H175 -> 0.8 | AF175: =I175+K175+M175+O175 -> 4 | AG175: =AF175/H175 -> 0.8 | AH175: =Q175 -> 21 | AI175: =AH175/H175 -> 4.2 | AJ175: =LOOKUP(G175,FORTNIGHT!C$2:C$367,FORTNIGHT!D$2:D$367) -> 12
A176: =A175+1 -> 142 | B176: 42254 | D176: SKO | E176: SAO | F176: 2 | G176: 42249 | H176: 2 | I176: 0 | J176: 0 | K176: 0 | L176: 0 | M176: 0 | N176: 0 | O176: 0 | P176: 0 | Q176: 1 | R176: 0 | S176: 5 | U176: 0 | W176: uuid:6be3a34b-5ba6-4f85-ad4e-a43bdd8a44f7 | X176: Entomologist6 | AD176: =SUM(I176:P176) -> 0 | AE176: =AD176/H176 -> 0 | AF176: =I176+K176+M176+O176 -> 0 | AG176: =AF176/H176 -> 0 | AH176: =Q176 -> 1 | AI176: =AH176/H176 -> 0.5 | AJ176: =LOOKUP(G176,FORTNIGHT!C$2:C$367,FORTNIGHT!D$2:D$367) -> 12
A177: =A176+1 -> 143 | B177: 42254 | D177: SKO | E177: SAO | F177: 3 | G177: 42249 | H177: 2 | I177: 0 | J177: 0 | K177: 0 | L177: 0 | M177: 0 | N177: 0 | O177: 0 | P177: 0 | Q177: 2 | R177: 0 | S177: 0 | U177: 0 | W177: uuid:99bccd7f-e598-4c67-801a-0013bb82fcb6 | X177: Entomologist6 | AD177: =SUM(I177:P177) -> 0 | AE177: =AD177/H177 -> 0 | AF177: =I177+K177+M177+O177 -> 0 | AG177: =AF177/H177 -> 0 | AH177: =Q177 -> 2 | AI177: =AH177/H177 -> 1 | AJ177: =LOOKUP(G177,FORTNIGHT!C$2:C$367,FORTNIGHT!D$2:D$367) -> 12
A178: =A177+1 -> 144 | B178: 42254 | D178: SKO | E178: SAO | F178: 1 | G178: 42251 | H178: 2 | I178: 0 | J178: 0 | K178: 0 | L178: 0 | M178: 0 | N178: 0 | O178: 0 | P178: 0 | Q178: 4 | R178: 0 | S178: 26 | W178: uuid:39cb86ca-cd5e-4e03-9277-6abce05f1f74 | X178: Entomologist6 | AD178: =SUM(I178:P178) -> 0 | AE178: =AD178/H178 -> 0 | AF178: =I178+K178+M178+O178 -> 0 | AG178: =AF178/H178 -> 0 | AH178: =Q178 -> 4 | AI178: =AH178/H178 -> 2 | AJ178: =LOOKUP(G178,FORTNIGHT!C$2:C$367,FORTNIGHT!D$2:D$367) -> 12
A179: =A178+1 -> 145 | B179: 42254 | D179: SKO | E179: SAO | F179: 2 | G179: 42251 | H179: 2 | I179: 0 | J179: 0 | K179: 0 | L179: 0 | M179: 0 | N179: 0 | O179: 0 | P179: 0 | Q179: 1 | R179: 0 | S179: 6 | U179: 0 | W179: uuid:7e586f70-b1b1-4390-8a9d-5388e2377337 | X179: Entomologist6 | AD179: =SUM(I179:P179) -> 0 | AE179: =AD179/H179 -> 0 | AF179: =I179+K179+M179+O179 -> 0 | AG179: =AF179/H179 -> 0 | AH179: =Q179 -> 1 | AI179: =AH179/H179 -> 0.5 | AJ179: =LOOKUP(G179,FORTNIGHT!C$2:C$367,FORTNIGHT!D$2:D$367) -> 12
A180: =A179+1 -> 146 | B180: 42254 | D180: SKO | E180: SAO | F180: 3 | G180: 42251 | H180: 2 | I180: 0 | J180: 0 | K180: 0 | L180: 0 | M180: 0 | N180: 0 | O180: 0 | P180: 0 | Q180: 0 | R180: 0 | S180: 4 | U180: 0 | W180: uuid:c18954a8-9ced-4805-8ed3-c14d059c8679 | X180: Entomologist6 | AD180: =SUM(I180:P180) -> 0 | AE180: =AD180/H180 -> 0 | AF180: =I180+K180+M180+O180 -> 0 | AG180: =AF180/H180 -> 0 | AH180: =Q180 -> 0 | AI180: =AH180/H180 -> 0 | AJ180: =LOOKUP(G180,FORTNIGHT!C$2:C$367,FORTNIGHT!D$2:D$367) -> 12
A181: =A180+1 -> 147 | B181: 42254 | D181: SKO | E181: SAO | F181: 1 | G181: 42254 | H181: 3 | I181: 0 | J181: 0 | K181: 0 | L181: 0 | M181: 0 | N181: 0 | O181: 0 | P181: 0 | Q181: 4 | R181: 0 | S181: 23 | U181: 0 | W181: uuid:832e1770-ce7d-46c3-9024-9fcd455ea199 | X181: Entomologist6 | AD181: =SUM(I181:P181) -> 0 | AE181: =AD181/H181 -> 0 | AF181: =I181+K181+M181+O181 -> 0 | AG181: =AF181/H181 -> 0 | AH181: =Q181 -> 4 | AI181: =AH181/H181 -> 1.3333333 | AJ181: =LOOKUP(G181,FORTNIGHT!C$2:C$367,FORTNIGHT!D$2:D$367) -> 12
A182: =A181+1 -> 148 | B182: 42254 | D182: SKO | E182: SAO | F182: 2 | G182: 42254 | H182: 3 | I182: 0 | J182: 0 | K182: 3 | L182: 0 | M182: 0 | N182: 0 | O182: 0 | P182: 0 | Q182: 0 | R182: 0 | S182: 5 | U182: 0 | W182: uuid:27bf12f3-a01a-46ec-a72c-c850f9950a2b | X182: Entomologist6 | AD182: =SUM(I182:P182) -> 3 | AE182: =AD182/H182 -> 1 | AF182: =I182+K182+M182+O182 -> 3 | AG182: =AF182/H182 -> 1 | AH182: =Q182 -> 0 | AI182: =AH182/H182 -> 0 | AJ182: =LOOKUP(G182,FORTNIGHT!C$2:C$367,FORTNIGHT!D$2:D$367) -> 12
A183: =A182+1 -> 149 | B183: 42254 | D183: SKO | E183: SAO | F183: 3 | G183: 42254 | H183: 3 | I183: 0 | J183: 0 | K183: 0 | L183: 0 | M183: 0 | N183: 0 | O183: 0 | P183: 0 | Q183: 0 | R183: 0 | S183: 0 | U183: 0 | W183: uuid:67e26020-4585-4691-ae78-43a28c8c541b | X183: Entomologist6 | AD183: =SUM(I183:P183) -> 0 | AE183: =AD183/H183 -> 0 | AF183: =I183+K183+M183+O183 -> 0 | AG183: =AF183/H183 -> 0 | AH183: =Q183 -> 0 | AI183: =AH183/H183 -> 0 | AJ183: =LOOKUP(G183,FORTNIGHT!C$2:C$367,FORTNIGHT!D$2:D$367) -> 12
A184: =A183+1 -> 150 | B184: 42254 | D184: SKO | E184: SAO | F184: 2 | G184: 42241 | H184: 4 | I184: 0 | J184: 0 | K184: 0 | L184: 0 | M184: 0 | N184: 0 | O184: 0 | P184: 0 | Q184: 0 | R184: 0 | S184: 0 | U184: 0 | W184: uuid:de433430-d386-4400-8478-4f0739efe6a6 | X184: Entomologist6 | AD184: =SUM(I184:P184) -> 0 | AE184: =AD184/H184 -> 0 | AF184: =I184+K184+M184+O184 -> 0 | AG184: =AF184/H184 -> 0 | AH184: =Q184 -> 0 | AI184: =AH184/H184 -> 0 | AJ184: =LOOKUP(G184,FORTNIGHT!C$2:C$367,FORTNIGHT!D$2:D$367) -> 11
A185: =A184+1 -> 151 | B185: 42263 | D185: SKO | E185: SAO | F185: 1 | G185: 42256 | H185: 2 | I185: 0 | J185: 0 | K185: 0 | L185: 0 | M185: 0 | N185: 0 | O185: 0 | P185: 0 | Q185: 0 | R185: 0 | S185: 20 | U185: 0 | W185: uuid:0f09c87f-1129-45aa-8e15-9fbdee7904ca | X185: Entomologist6 | AD185: =SUM(I185:P185) -> 0 | AE185: =AD185/H185 -> 0 | AF185: =I185+K185+M185+O185 -> 0 | AG185: =AF185/H185 -> 0 | AH185: =Q185 -> 0 | AI185: =AH185/H185 -> 0 | AJ185: =LOOKUP(G185,FORTNIGHT!C$2:C$367,FORTNIGHT!D$2:D$367) -> 12
A186: =A185+1 -> 152 | B186: 42263 | D186: SKO | E186: SAO | F186: 3 | G186: 42256 | H186: 2 | I186: 0 | J186: 0 | K186: 0 | L186: 0 | M186: 0 | N186: 0 | O186: 0 | P186: 0 | Q186: 0 | R186: 0 | S186: 2 | U186: 0 | W186: uuid:1dd0a143-d455-4f6b-a141-9929cdfcd7e8 | X186: Entomologist6 | AD186: =SUM(I186:P186) -> 0 | AE186: =AD186/H186 -> 0 | AF186: =I186+K186+M186+O186 -> 0 | AG186: =AF186/H186 -> 0 | AH186: =Q186 -> 0 | AI186: =AH186/H186 -> 0 | AJ186: =LOOKUP(G186,FORTNIGHT!C$2:C$367,FORTNIGHT!D$2:D$367) -> 12
A187: =A186+1 -> 153 | B187: 42263 | D187: SKO | E187: SAO | F187: 2 | G187: 42256 | H187: 2 | I187: 0 | J187: 0 | K187: 0 | L187: 0 | M187: 0 | N187: 0 | O187: 0 | P187: 0 | Q187: 0 | R187: 0 | S187: 10 | U187: 0 | W187: uuid:91f0b938-bb32-42dd-952a-6af8f214b15d | X187: Entomologist6 | AD187: =SUM(I187:P187) -> 0 | AE187: =AD187/H187 -> 0 | AF187: =I187+K187+M187+O187 -> 0 | AG187: =AF187/H187 -> 0 | AH187: =Q187 -> 0 | AI187: =AH187/H187 -> 0 | AJ187: =LOOKUP(G187,FORTNIGHT!C$2:C$367,FORTNIGHT!D$2:D$367) -> 12
A188: =A187+1 -> 154 | B188: 42263 | D188: SKO | E188: SAO | F188: 1 | G188: 42258 | H188: 2 | I188: 0 | J188: 0 | K188: 0 | L188: 0 | M188: 0 | N188: 0 | O188: 0 | P188: 0 | Q188: 5 | R188: 0 | S188: 4 | U188: 0 | W188: uuid:a2066e11-56c6-48c0-a39f-53ba90bb79bc | X188: Entomologist6 | AD188: =SUM(I188:P188) -> 0 | AE188: =AD188/H188 -> 0 | AF188: =I188+K188+M188+O188 -> 0 | AG188: =AF188/H188 -> 0 | AH188: =Q188 -> 5 | AI188: =AH188/H188 -> 2.5 | AJ188: =LOOKUP(G188,FORTNIGHT!C$2:C$367,FORTNIGHT!D$2:D$367) -> 12
A189: =A188+1 -> 155 | B189: 42263 | D189: SKO | E189: SAO | F189: 3 | G189: 42258 | H189: 2 | I189: 0 | J189: 0 | K189: 0 | L189: 0 | M189: 0 | N189: 1 | O189: 0 | P189: 0 | Q189: 3 | R189: 0 | S189: 8 | U189: 0 | W189: uuid:12fac8c5-7247-4172-97cc-53365eb9b6c0 | X189: Entomologist6 | AD189: =SUM(I189:P189) -> 1 | AE189: =AD189/H189 -> 0.5 | AF189: =I189+K189+M189+O189 -> 0 | AG189: =AF189/H189 -> 0 | AH189: =Q189 -> 3 | AI189: =AH189/H189 -> 1.5 | AJ189: =LOOKUP(G189,FORTNIGHT!C$2:C$367,FORTNIGHT!D$2:D$367) -> 12
A190: =A189+1 -> 156 | B190: 42263 | D190: SKO | E190: SAO | F190: 2 | G190: 42258 | H190: 2 | I190: 0 | J190: 0 | K190: 0 | L190: 0 | M190: 0 | N190: 0 | O190: 0 | P190: 0 | Q190: 0 | R190: 0 | S190: 3 | U190: 0 | W190: uuid:315df7a5-886e-4dac-a7b8-a8b9b31bec17 | X190: Entomologist6 | AD190: =SUM(I190:P190) -> 0 | AE190: =AD190/H190 -> 0 | AF190: =I190+K190+M190+O190 -> 0 | AG190: =AF190/H190 -> 0 | AH190: =Q190 -> 0 | AI190: =AH190/H190 -> 0 | AJ190: =LOOKUP(G190,FORTNIGHT!C$2:C$367,FORTNIGHT!D$2:D$367) -> 12
... A346: =A345+1 -> 312 | B346: 42381 | D346: SKO | E346: SAO | F346: 3 | G346: 42361 | H346: 2 | I346: 10 | J346: 0 | K346: 0 | L346: 0 | M346: 0 | N346: 0 | O346: 0 | P346: 0 | Q346: 10 | R346: 0 | S346: 7 | U346: 0 | W346: uuid:e37c1152-f17c-425d-927c-777629c3454d | X346: Entomologist6 | AD346: =SUM(I346:P346) -> 10 | AE346: =AD346/H346 -> 5 | AF346: =I346+K346+M346+O346 -> 10 | AG346: =AF346/H346 -> 5 | AH346: =Q346 -> 10 | AI346: =AH346/H346 -> 5 | AJ346: =LOOKUP(G346,FORTNIGHT!C$2:C$367,FORTNIGHT!D$2:D$367) -> 20
A347: =A346+1 -> 313 | B347: 42397 | D347: Georgina Isabella Djameh | E347: OJTB | F347: 1 | G347: 42382 | H347: 2 | I347: 0 | J347: 0 | K347: 0 | L347: 0 | M347: 0 | N347: 0 | O347: 0 | P347: 0 | Q347: 3 | R347: 0 | S347: 9 | U347: 0 | X347: PaperForm | AD347: =SUM(I347:P347) -> 0 | AE347: =AD347/H347 -> 0 | AF347: =I347+K347+M347+O347 -> 0 | AG347: =AF347/H347 -> 0 | AH347: =Q347 -> 3 | AI347: =AH347/H347 -> 1.5 | AJ347: =LOOKUP(G347,FORTNIGHT!C$2:C$367,FORTNIGHT!D$2:D$367) -> 21
A348: =A347+1 -> 314 | B348: 42397 | D348: Georgina Isabella Djameh | E348: OJTB | F348: 2 | G348: 42382 | H348: 2 | I348: 0 | J348: 0 | K348: 0 | L348: 0 | M348: 0 | N348: 0 | O348: 0 | P348: 0 | Q348: 0 | R348: 0 | S348: 13 | U348: 0 | X348: PaperForm | AD348: =SUM(I348:P348) -> 0 | AE348: =AD348/H348 -> 0 | AF348: =I348+K348+M348+O348 -> 0 | AG348: =AF348/H348 -> 0 | AH348: =Q348 -> 0 | AI348: =AH348/H348 -> 0 | AJ348: =LOOKUP(G348,FORTNIGHT!C$2:C$367,FORTNIGHT!D$2:D$367) -> 21
A349: =A348+1 -> 315 | B349: 42397 | D349: Georgina Isabella Djameh | E349: OJTB | F349: 3 | G349: 42382 | H349: 2 | I349: 0 | J349: 0 | K349: 0 | L349: 0 | M349: 0 | N349: 0 | O349: 0 | P349: 0 | Q349: 0 | R349: 0 | S349: 6 | U349: 0 | X349: PaperForm | AD349: =SUM(I349:P349) -> 0 | AE349: =AD349/H349 -> 0 | AF349: =I349+K349+M349+O349 -> 0 | AG349: =AF349/H349 -> 0 | AH349: =Q349 -> 0 | AI349: =AH349/H349 -> 0 | AJ349: =LOOKUP(G349,FORTNIGHT!C$2:C$367,FORTNIGHT!D$2:D$367) -> 21
A350: =A349+1 -> 316 | B350: 42397 | D350: Georgina Isabella Djameh | E350: OJTB | F350: 1 | G350: 42384 | H350: 2 | I350: 0 | J350: 0 | K350: 0 | L350: 0 | M350: 0 | N350: 0 | O350: 0 | P350: 0 | Q350: 1 | R350: 0 | S350: 3 | U350: 0 | X350: PaperForm | AD350: =SUM(I350:P350) -> 0 | AE350: =AD350/H350 -> 0 | AF350: =I350+K350+M350+O350 -> 0 | AG350: =AF350/H350 -> 0 | AH350: =Q350 -> 1 | AI350: =AH350/H350 -> 0.5 | AJ350: =LOOKUP(G350,FORTNIGHT!C$2:C$367,FORTNIGHT!D$2:D$367) -> 21
A351: =A350+1 -> 317 | B351: 42397 | D351: Georgina Isabella Djameh | E351: OJTB | F351: 2 | G351: 42384 | H351: 2 | I351: 0 | J351: 0 | K351: 0 | L351: 0 | M351: 0 | N351: 0 | O351: 0 | P351: 0 | Q351: 0 | R351: 0 | S351: 0 | U351: 0 | X351: PaperForm | AD351: =SUM(I351:P351) -> 0 | AE351: =AD351/H351 -> 0 | AF351: =I351+K351+M351+O351 -> 0 | AG351: =AF351/H351 -> 0 | AH351: =Q351 -> 0 | AI351: =AH351/H351 -> 0 | AJ351: =LOOKUP(G351,FORTNIGHT!C$2:C$367,FORTNIGHT!D$2:D$367) -> 21
A352: =A351+1 -> 318 | B352: 42397 | D352: Georgina Isabella Djameh | E352: OJTB | F352: 3 | G352: 42384 | H352: 2 | I352: 0 | J352: 0 | K352: 0 | L352: 0 | M352: 0 | N352: 0 | O352: 0 | P352: 0 | Q352: 0 | R352: 0 | S352: 0 | U352: 0 | X352: PaperForm | AD352: =SUM(I352:P352) -> 0 | AE352: =AD352/H352 -> 0 | AF352: =I352+K352+M352+O352 -> 0 | AG352: =AF352/H352 -> 0 | AH352: =Q352 -> 0 | AI352: =AH352/H352 -> 0 | AJ352: =LOOKUP(G352,FORTNIGHT!C$2:C$367,FORTNIGHT!D$2:D$367) -> 21
A353: =A352+1 -> 319 | B353: 42397 | D353: Georgina Isabella Djameh | E353: OJTB | F353: 1 | G353: 42387 | H353: 3 | I353: 0 | J353: 0 | K353: 0 | L353: 0 | M353: 0 | N353: 0 | O353: 0 | P353: 0 | Q353: 2 | R353: 0 | S353: 8 | U353: 0 | X353: PaperForm | AD353: =SUM(I353:P353) -> 0 | AE353: =AD353/H353 -> 0 | AF353: =I353+K353+M353+O353 -> 0 | AG353: =AF353/H353 -> 0 | AH353: =Q353 -> 2 | AI353: =AH353/H353 -> 0.66666667 | AJ353: =LOOKUP(G353,FORTNIGHT!C$2:C$367,FORTNIGHT!D$2:D$367) -> 22
A354: =A353+1 -> 320 | B354: 42397 | D354: Georgina Isabella Djameh | E354: OJTB | F354: 2 | G354: 42387 | H354: 3 | I354: 0 | J354: 0 | K354: 0 | L354: 0 | M354: 0 | N354: 0 | O354: 0 | P354: 0 | Q354: 2 | R354: 0 | S354: 13 | U354: 0 | X354: PaperForm | AD354: =SUM(I354:P354) -> 0 | AE354: =AD354/H354 -> 0 | AF354: =I354+K354+M354+O354 -> 0 | AG354: =AF354/H354 -> 0 | AH354: =Q354 -> 2 | AI354: =AH354/H354 -> 0.66666667 | AJ354: =LOOKUP(G354,FORTNIGHT!C$2:C$367,FORTNIGHT!D$2:D$367) -> 22
A355: =A354+1 -> 321 | B355: 42397 | D355: Georgina Isabella Djameh | E355: OJTB | F355: 3 | G355: 42387 | H355: 3 | I355: 0 | J355: 0 | K355: 0 | L355: 0 | M355: 0 | N355: 0 | O355: 0 | P355: 0 | Q355: 0 | R355: 0 | S355: 0 | U355: 0 | X355: PaperForm | AD355: =SUM(I355:P355) -> 0 | AE355: =AD355/H355 -> 0 | AF355: =I355+K355+M355+O355 -> 0 | AG355: =AF355/H355 -> 0 | AH355: =Q355 -> 0 | AI355: =AH355/H355 -> 0 | AJ355: =LOOKUP(G355,FORTNIGHT!C$2:C$367,FORTNIGHT!D$2:D$367) -> 22
A356: =A355+1 -> 322 | B356: 42397 | D356: Georgina Isabella Djameh | E356: OJTB | F356: 1 | G356: 42389 | H356: 2 | I356: 0 | J356: 0 | K356: 0 | L356: 0 | M356: 0 | N356: 0 | O356: 0 | P356: 0 | Q356: 0 | R356: 0 | S356: 10 | U356: 0 | X356: PaperForm | AD356: =SUM(I356:P356) -> 0 | AE356: =AD356/H356 -> 0 | AF356: =I356+K356+M356+O356 -> 0 | AG356: =AF356/H356 -> 0 | AH356: =Q356 -> 0 | AI356: =AH356/H356 -> 0 | AJ356: =LOOKUP(G356,FORTNIGHT!C$2:C$367,FORTNIGHT!D$2:D$367) -> 22
A357: =A356+1 -> 323 | B357: 42397 | D357: Georgina Isabella Djameh | E357: OJTB | F357: 2 | G357: 42389 | H357: 2 | I357: 0 | J357: 0 | K357: 0 | L357: 0 | M357: 0 | N357: 0 | O357: 0 | P357: 0 | Q357: 2 | R357: 0 | S357: 0 | U357: 0 | X357: PaperForm | AD357: =SUM(I357:P357) -> 0 | AE357: =AD357/H357 -> 0 | AF357: =I357+K357+M357+O357 -> 0 | AG357: =AF357/H357 -> 0 | AH357: =Q357 -> 2 | AI357: =AH357/H357 -> 1 | AJ357: =LOOKUP(G357,FORTNIGHT!C$2:C$367,FORTNIGHT!D$2:D$367) -> 22
A358: =A357+1 -> 324 | B358: 42397 | D358: Georgina Isabella Djameh | E358: OJTB | F358: 3 | G358: 42389 | H358: 2 | I358: 0 | J358: 0 | K358: 1 | L358: 0 | M358: 0 | N358: 0 | O358: 0 | P358: 0 | Q358: 1 | R358: 0 | S358: 22 | U358: 0 | X358: PaperForm | AD358: =SUM(I358:P358) -> 1 | AE358: =AD358/H358 -> 0.5 | AF358: =I358+K358+M358+O358 -> 1 | AG358: =AF358/H358 -> 0.5 | AH358: =Q358 -> 1 | AI358: =AH358/H358 -> 0.5 | AJ358: =LOOKUP(G358,FORTNIGHT!C$2:C$367,FORTNIGHT!D$2:D$367) -> 22
... A364: =A363+1 -> 330 | B364: 42397 | D364: Georgina Isabella Djameh | E364: OJTB | F364: 3 | G364: 42396 | H364: 2 | I364: 0 | J364: 1 | K364: 0 | L364: 2 | M364: 0 | N364: 0 | O364: 0 | P364: 0 | Q364: 0 | R364: 0 | S364: 7 | U364: 0 | X364: PaperForm | AD364: =SUM(I364:P364) -> 3 | AE364: =AD364/H364 -> 1.5 | AF364: =I364+K364+M364+O364 -> 0 | AG364: =AF364/H364 -> 0 | AH364: =Q364 -> 0 | AI364: =AH364/H364 -> 0 | AJ364: =LOOKUP(G364,FORTNIGHT!C$2:C$367,FORTNIGHT!D$2:D$367) -> 22

Sheet Plot
B2: Column Labels
B3: Average of DENSFEMMOS | E3: Average of DENSFSAND | H3: Total Average of DENSFEMMOS | I3: Total Average of DENSFSAND | L3: Column Labels
A4: Row Labels | B4: 1 | C4: 2 | D4: 3 | E4: 1 | F4: 2 | G4: 3 | L4: Average of DENSFEMMOS | O4: Average of DENSFSAND | R4: Total Average of DENSFEMMOS | S4: Total Average of DENSFSAND
A5: 42107 | B5: 25 | C5: 1.3333333 | D5: 2.6666667 | E5: #VALUE! | F5: #VALUE! | G5: #VALUE! | H5: 9.6666667 | I5: #VALUE! | K5: Row Labels | L5: T1FM | M5: T2FM | N5: T3FM | O5: T1FS | P5: T2FS | Q5: T3FS
A6: 42109 | B6: 54.5 | C6: 7.5 | D6: 26.5 | E6: #VALUE! | F6: #VALUE! | G6: #VALUE! | H6: 29.5 | I6: #VALUE! | J6: 42107 | K6: 42107 | L6: 25 | M6: 1.3333333 | N6: 2.6666667 | R6: 9.6666667
A7: 42111 | B7: 28 | C7: 3 | D7: 11 | E7: #VALUE! | F7: #VALUE! | G7: #VALUE! | H7: 14 | I7: #VALUE! | K7: 42109 | L7: 54.5 | M7: 7.5 | N7: 26.5 | R7: 29.5
A8: 42114 | B8: 42 | C8: 25.333333 | D8: 21.666667 | E8: #VALUE! | F8: #VALUE! | G8: #VALUE! | H8: 29.666667 | I8: #VALUE! | K8: 42111 | L8: 28 | M8: 3 | N8: 11 | R8: 14
A9: 42116 | B9: 24 | C9: 11 | D9: 11 | E9: #VALUE! | F9: #VALUE! | G9: #VALUE! | H9: 15.333333 | I9: #VALUE! | K9: 42114 | L9: 42 | M9: 25.333333 | N9: 21.666667 | R9: 29.666667
A10: 42118 | B10: 26 | C10: 4.5 | D10: 16 | E10: #VALUE! | F10: #VALUE! | G10: #VALUE! | H10: 15.5 | I10: #VALUE! | K10: 42116 | L10: 24 | M10: 11 | N10: 11 | R10: 15.333333
A11: 42121 | B11: 3 | C11: 14 | D11: 2.6666667 | E11: #VALUE! | F11: #VALUE! | G11: #VALUE! | H11: 6.5555556 | I11: #VALUE! | K11: 42118 | L11: 26 | M11: 4.5 | N11: 16 | R11: 15.5
A12: 42123 | B12: 15 | C12: 0 | D12: 9 | E12: #VALUE! | F12: #VALUE! | G12: #VALUE! | H12: 8 | I12: #VALUE! | K12: 42121 | L12: 3 | M12: 14 | N12: 2.6666667 | R12: 6.5555556
A13: 42125 | B13: 29.5 | C13: 2 | D13: 6.5 | E13: #VALUE! | F13: #VALUE! | G13: #VALUE! | H13: 12.666667 | I13: #VALUE! | K13: 42123 | L13: 15 | M13: 0 | N13: 9 | R13: 8
A14: 42128 | B14: 12.333333 | C14: 6 | D14: 2 | E14: #VALUE! | F14: #VALUE! | G14: #VALUE! | H14: 6.7777778 | I14: #VALUE! | K14: 42125 | L14: 29.5 | M14: 2 | N14: 6.5 | R14: 12.666667
A15: 42130 | B15: 5.5 | C15: 0.5 | D15: 1.5 | E15: #VALUE! | F15: #VALUE! | G15: #VALUE! | H15: 2.5 | I15: #VALUE! | K15: 42128 | L15: 12.333333 | M15: 6 | N15: 2 | R15: 6.7777778
A16: 42132 | B16: 4 | C16: 0 | D16: 1 | E16: 4.5 | F16: 1 | G16: 0 | H16: 1.6666667 | I16: 1.8333333 | K16: 42130 | L16: 5.5 | M16: 0.5 | N16: 1.5 | R16: 2.5
A17: 42135 | B17: 5 | C17: 0.66666667 | D17: 3 | E17: 8 | F17: 2.6666667 | G17: 0.66666667 | H17: 2.8888889 | I17: 3.7777778 | K17: 42132 | L17: 4 | M17: 0 | N17: 1 | O17: 4.5 | P17: 1 | Q17: 0 | R17: 1.6666667 | S17: 1.8333333
A18: 42137 | B18: 6 | C18: 0.5 | D18: 1.5 | E18: 8.5 | F18: 1.5 | G18: 4 | H18: 2.6666667 | I18: 4.6666667 | K18: 42135 | L18: 5 | M18: 0.66666667 | N18: 3 | O18: 8 | P18: 2.6666667 | Q18: 0.66666667 | R18: 2.8888889 | S18: 3.7777778
A19: 42139 | B19: 4.5 | C19: 7.5 | D19: 2 | E19: 2.5 | F19: 1.5 | G19: 3.5 | H19: 4.6666667 | I19: 2.5 | K19: 42137 | L19: 6 | M19: 0.5 | N19: 1.5 | O19: 8.5 | P19: 1.5 | Q19: 4 | R19: 2.6666667 | S19: 4.6666667
A20: 42142 | B20: 5.6666667 | C20: 4.6666667 | D20: 0.33333333 | E20: 4.6666667 | F20: 0 | G20: 0.33333333 | H20: 3.5555556 | I20: 1.6666667 | K20: 42139 | L20: 4.5 | M20: 7.5 | N20: 2 | O20: 2.5 | P20: 1.5 | Q20: 3.5 | R20: 4.6666667 | S20: 2.5
A21: 42144 | B21: 10 | C21: 1.5 | D21: 3 | E21: 9 | F21: 2 | G21: 4.5 | H21: 4.8333333 | I21: 5.1666667 | K21: 42142 | L21: 5.6666667 | M21: 4.6666667 | N21: 0.33333333 | O21: 4.6666667 | P21: 0 | Q21: 0.33333333 | R21: 3.5555556 | S21: 1.6666667
A22: 42146 | B22: 3.5 | C22: 1 | D22: 1 | E22: 8.5 | F22: 1.5 | G22: 0 | H22: 1.8333333 | I22: 3.3333333 | K22: 42144 | L22: 10 | M22: 1.5 | N22: 3 | O22: 9 | P22: 2 | Q22: 4.5 | R22: 4.8333333 | S22: 5.1666667
A23: 42149 | B23: 3.3333333 | C23: 3 | D23: 5.3333333 | E23: 7.3333333 | F23: 2.6666667 | G23: 1 | H23: 3.8888889 | I23: 3.6666667 | K23: 42146 | L23: 3.5 | M23: 1 | N23: 1 | O23: 8.5 | P23: 1.5 | Q23: 0 | R23: 1.8333333 | S23: 3.3333333
A24: 42151 | B24: 8.5 | C24: 1 | D24: 4.5 | E24: 5 | F24: 2.5 | G24: 1.5 | H24: 4.6666667 | I24: 3 | K24: 42149 | L24: 3.3333333 | M24: 3 | N24: 5.3333333 | O24: 7.3333333 | P24: 2.6666667 | Q24: 1 | R24: 3.8888889 | S24: 3.6666667
A25: 42153 | B25: 1 | C25: 0.5 | D25: 2 | E25: 4.5 | F25: 4 | G25: 5.5 | H25: 1.1666667 | I25: 4.6666667 | K25: 42151 | L25: 8.5 | M25: 1 | N25: 4.5 | O25: 5 | P25: 2.5 | Q25: 1.5 | R25: 4.6666667 | S25: 3
A26: 42156 | B26: 0.33333333 | C26: 1.3333333 | D26: 2.3333333 | E26: 2 | F26: 0 | G26: 0.33333333 | H26: 1.3333333 | I26: 0.77777778 | K26: 42153 | L26: 1 | M26: 0.5 | N26: 2 | O26: 4.5 | P26: 4 | Q26: 5.5 | R26: 1.1666667 | S26: 4.6666667
A27: 42158 | B27: 3.5 | C27: 0 | D27: 86 | E27: 12 | F27: 0.5 | G27: 2.5 | H27: 29.833333 | I27: 5 | K27: 42156 | L27: 0.33333333 | M27: 1.3333333 | N27: 2.3333333 | O27: 2 | P27: 0 | Q27: 0.33333333 | R27: 1.3333333 | S27: 0.77777778
A28: 42160 | B28: 9.5 | C28: 1 | D28: 6 | E28: 7 | F28: 2.5 | G28: 3 | H28: 5.5 | I28: 4.1666667 | K28: 42158 | L28: 3.5 | M28: 0 | N28: 86 | O28: 12 | P28: 0.5 | Q28: 2.5 | R28: 29.833333 | S28: 5
... A124: 42396 | B124: 0 | C124: 0 | D124: 0 | E124: 1 | F124: 0.5 | G124: 0 | H124: 0 | I124: 0.5 | K124: 42394 | L124: 0.6 | M124: 0 | N124: 0.8 | O124: 0.2 | P124: 0 | Q124: 1.2 | R124: 0.46666667 | S124: 0.46666667
A125: Grand Total | B125: 6.3629477 | C125: 3.8528926 | D125: 11.426446 | E125: #VALUE! | F125: #VALUE! | G125: #VALUE! | H125: 7.2140955 | I125: #VALUE! | J125: 42396 | K125: 42396 | L125: 0 | M125: 0 | N125: 0 | O125: 1 | P125: 0.5 | Q125: 0 | R125: 0 | S125: 0.5

Sheet FORTNIGHT
C1: DATE | D1: FORTNIGHT
C2: 00/01/1900 | D2: 1
B3: Su | C3: 42064 | D3: 1
B4: Mo | C4: =C3+1 -> 42065 | D4: 1
B5: Tu | C5: =C4+1 -> 42066 | D5: 1
B6: We | C6: =C5+1 -> 42067 | D6: 1
B7: Th | C7: =C6+1 -> 42068 | D7: 1
B8: Fr | C8: =C7+1 -> 42069 | D8: 1
B9: Sa | C9: =C8+1 -> 42070 | D9: 1
B10: =B3 -> Su | C10: =C9+1 -> 42071 | D10: 1
B11: =B4 -> Mo | C11: =C10+1 -> 42072 | D11: 1
B12: =B5 -> Tu | C12: =C11+1 -> 42073 | D12: 1
B13: =B6 -> We | C13: =C12+1 -> 42074 | D13: 1
B14: =B7 -> Th | C14: =C13+1 -> 42075 | D14: 1
B15: =B8 -> Fr | C15: =C14+1 -> 42076 | D15: 1
B16: =B9 -> Sa | C16: =C15+1 -> 42077 | D16: 1
B17: =B10 -> Su | C17: =C16+1 -> 42078 | D17: 1
B18: =B11 -> Mo | C18: =C17+1 -> 42079 | D18: 1
B19: =B12 -> Tu | C19: =C18+1 -> 42080 | D19: 1
B20: =B13 -> We | C20: =C19+1 -> 42081 | D20: 1
B21: =B14 -> Th | C21: =C20+1 -> 42082 | D21: 1
... B45: =B38 -> Su | C45: =C44+1 -> 42106 | D45: 1
B46: =B39 -> Mo | C46: =C45+1 -> 42107 | D46: 2 | E46: 1
B47: =B40 -> Tu | C47: =C46+1 -> 42108 | D47: 2 | E47: 1
B48: =B41 -> We | C48: =C47+1 -> 42109 | D48: 2 | E48: 1
B49: =B42 -> Th | C49: =C48+1 -> 42110 | D49: 2 | E49: 1
B50: =B43 -> Fr | C50: =C49+1 -> 42111 | D50: 2 | E50: 1
B51: =B44 -> Sa | C51: =C50+1 -> 42112 | D51: 2 | E51: 1
B52: =B45 -> Su | C52: =C51+1 -> 42113 | D52: 2 | E52: 1
B53: =B46 -> Mo | C53: =C52+1 -> 42114 | D53: 2 | E53: 1
B54: =B47 -> Tu | C54: =C53+1 -> 42115 | D54: 2 | E54: 1
B55: =B48 -> We | C55: =C54+1 -> 42116 | D55: 2 | E55: 1
B56: =B49 -> Th | C56: =C55+1 -> 42117 | D56: 2 | E56: 1
B57: =B50 -> Fr | C57: =C56+1 -> 42118 | D57: 2 | E57: 1
... B59: =B52 -> Su | C59: =C58+1 -> 42120 | D59: 2 | E59: 1
B60: =B53 -> Mo | C60: =C59+1 -> 42121 | D60: =D46+1 -> 3
B61: =B54 -> Tu | C61: =C60+1 -> 42122 | D61: =D47+1 -> 3
B62: =B55 -> We | C62: =C61+1 -> 42123 | D62: =D48+1 -> 3
B63: =B56 -> Th | C63: =C62+1 -> 42124 | D63: =D49+1 -> 3
B64: =B57 -> Fr | C64: =C63+1 -> 42125 | D64: =D50+1 -> 3
B65: =B58 -> Sa | C65: =C64+1 -> 42126 | D65: =D51+1 -> 3
B66: =B59 -> Su | C66: =C65+1 -> 42127 | D66: =D52+1 -> 3
B67: =B60 -> Mo | C67: =C66+1 -> 42128 | D67: =D53+1 -> 3
B68: =B61 -> Tu | C68: =C67+1 -> 42129 | D68: =D54+1 -> 3
B69: =B62 -> We | C69: =C68+1 -> 42130 | D69: =D55+1 -> 3
B70: =B63 -> Th | C70: =C69+1 -> 42131 | D70: =D56+1 -> 3
B71: =B64 -> Fr | C71: =C70+1 -> 42132 | D71: =D57+1 -> 3
... B367: =B360 -> Su | C367: =C366+1 -> 42428 | D367: =D353+1 -> 24
