Workbook

Sheet Raw data
A1: Data obtained using ImageJ's "Measure RGB" plugin.
A2: Figure 2: Screening of sequences
A4: LDHP11
A5: Background 1 | C5: R | D5: 177552 | E5: 229.358 | F5: 3.935 | G5: 232 | H5: 230
C6: G | D6: 177552 | E6: 227.257 | F6: 6.524 | G6: 231 | H6: 230
C7: B | D7: 177552 | E7: 227.878 | F7: 3.808 | G7: 229 | H7: 228
A8: Background 2 | C8: R | D8: 177552 | E8: 229.355 | F8: 3.918 | G8: 232 | H8: 230
C9: G | D9: 177552 | E9: 227.307 | F9: 6.435 | G9: 231 | H9: 230
C10: B | D10: 177552 | E10: 227.938 | F10: 3.786 | G10: 228 | H10: 228
A11: Background 3 | C11: R | D11: 177552 | E11: 229.355 | F11: 3.918 | G11: 232 | H11: 230
C12: G | D12: 177552 | E12: 227.307 | F12: 6.435 | G12: 231 | H12: 230
C13: B | D13: 177552 | E13: 227.938 | F13: 3.786 | G13: 228 | H13: 228
A14: Zone 1_1 | C14: R | D14: 12756 | E14: 224.255 | F14: 6.914 | G14: 229 | H14: 227 | I14: =E5-E14 -> 5.103 | J14: =IF(I14>0,I14^2,I14^2*-1) -> 26.040609 | K14: =SQRT(SUM(J14:J16)) -> 9.7673016
C15: G | D15: 12756 | E15: 222.343 | F15: 6.643 | G15: 226 | H15: 225 | I15: =E6-E15 -> 4.914 | J15: =IF(I15>0,I15^2,I15^2*-1) -> 24.147396
C16: B | D16: 12756 | E16: 221.154 | F16: 4.815 | G16: 224 | H16: 222 | I16: =E7-E16 -> 6.724 | J16: =IF(I16>0,I16^2,I16^2*-1) -> 45.212176
A17: Zone 1_2 | C17: R | D17: 12756 | E17: 224.636 | F17: 5.953 | G17: 229 | H17: 227 | I17: =E8-E17 -> 4.719 | J17: =IF(I17>0,I17^2,I17^2*-1) -> 22.268961 | K17: =SQRT(SUM(J17:J19)) -> 9.2498606
C18: G | D18: 12756 | E18: 222.703 | F18: 5.733 | G18: 226 | H18: 225 | I18: =E9-E18 -> 4.604 | J18: =IF(I18>0,I18^2,I18^2*-1) -> 21.196816
C19: B | D19: 12756 | E19: 221.45 | F19: 3.933 | G19: 224 | H19: 222 | I19: =E10-E19 -> 6.488 | J19: =IF(I19>0,I19^2,I19^2*-1) -> 42.094144
A20: Zone 1_3 | C20: R | D20: 12756 | E20: 224.586 | F20: 6.983 | G20: 228 | H20: 227 | I20: =E11-E20 -> 4.769 | J20: =IF(I20>0,I20^2,I20^2*-1) -> 22.743361 | K20: =SQRT(SUM(J20:J22)) -> 10.051651
C21: G | D21: 12756 | E21: 224.647 | F21: 6.972 | G21: 227 | H21: 227 | I21: =E12-E21 -> 2.66 | J21: =IF(I21>0,I21^2,I21^2*-1) -> 7.0756
C22: B | D22: 12756 | E22: 219.499 | F22: 5.59 | G22: 222 | H22: 221 | I22: =E13-E22 -> 8.439 | J22: =IF(I22>0,I22^2,I22^2*-1) -> 71.216721
A23: Zone 2_1 | C23: R | D23: 12756 | E23: 222.76 | F23: 5.612 | G23: 227 | H23: 225 | I23: =E5-E23 -> 6.598 | J23: =IF(I23>0,I23^2,I23^2*-1) -> 43.533604 | K23: =SQRT(SUM(J23:J25)) -> 12.724564
C24: G | D24: 12756 | E24: 221.595 | F24: 5.947 | G24: 226 | H24: 224 | I24: =E6-E24 -> 5.662 | J24: =IF(I24>0,I24^2,I24^2*-1) -> 32.058244
C25: B | D25: 12756 | E25: 218.587 | F25: 3.703 | G25: 221 | H25: 220 | I25: =E7-E25 -> 9.291 | J25: =IF(I25>0,I25^2,I25^2*-1) -> 86.322681
A26: Zone 2_2 | C26: R | D26: 12756 | E26: 222.583 | F26: 6.089 | G26: 227 | H26: 225 | I26: =E8-E26 -> 6.772 | J26: =IF(I26>0,I26^2,I26^2*-1) -> 45.859984 | K26: =SQRT(SUM(J26:J28)) -> 13.115385
C27: G | D27: 12756 | E27: 221.421 | F27: 6.415 | G27: 226 | H27: 224 | I27: =E9-E27 -> 5.886 | J27: =IF(I27>0,I27^2,I27^2*-1) -> 34.644996
C28: B | D28: 12756 | E28: 218.372 | F28: 4.253 | G28: 221 | H28: 220 | I28: =E10-E28 -> 9.566 | J28: =IF(I28>0,I28^2,I28^2*-1) -> 91.508356
A29: Zone 2_3 | C29: R | D29: 12756 | E29: 219.49 | F29: 8.958 | G29: 226 | H29: 222 | I29: =E11-E29 -> 9.865 | J29: =IF(I29>0,I29^2,I29^2*-1) -> 97.318225 | K29: =SQRT(SUM(J29:J31)) -> 18.781935
C30: G | D30: 12756 | E30: 218.599 | F30: 9.378 | G30: 226 | H30: 221 | I30: =E12-E30 -> 8.708 | J30: =IF(I30>0,I30^2,I30^2*-1) -> 75.829264
C31: B | D31: 12756 | E31: 214.536 | F31: 7.158 | G31: 218 | H31: 217 | I31: =E13-E31 -> 13.402 | J31: =IF(I31>0,I31^2,I31^2*-1) -> 179.6136
A32: Zone 3_1 | C32: R | D32: 12756 | E32: 219.517 | F32: 8.421 | G32: 227 | H32: 222 | I32: =E5-E32 -> 9.841 | J32: =IF(I32>0,I32^2,I32^2*-1) -> 96.845281 | K32: =SQRT(SUM(J32:J34)) -> 18.72337
C33: G | D33: 12756 | E33: 218.661 | F33: 8.588 | G33: 224 | H33: 221 | I33: =E6-E33 -> 8.596 | J33: =IF(I33>0,I33^2,I33^2*-1) -> 73.891216
C34: B | D34: 12756 | E34: 214.468 | F34: 6.933 | G34: 219 | H34: 217 | I34: =E7-E34 -> 13.41 | J34: =IF(I34>0,I34^2,I34^2*-1) -> 179.8281
A35: Zone 3_2 | C35: R | D35: 12756 | E35: 219.517 | F35: 8.421 | G35: 227 | H35: 222 | I35: =E8-E35 -> 9.838 | J35: =IF(I35>0,I35^2,I35^2*-1) -> 96.786244 | K35: =SQRT(SUM(J35:J37)) -> 18.787774
C36: G | D36: 12756 | E36: 218.661 | F36: 8.588 | G36: 224 | H36: 221 | I36: =E9-E36 -> 8.646 | J36: =IF(I36>0,I36^2,I36^2*-1) -> 74.753316
C37: B | D37: 12756 | E37: 214.468 | F37: 6.933 | G37: 219 | H37: 217 | I37: =E10-E37 -> 13.47 | J37: =IF(I37>0,I37^2,I37^2*-1) -> 181.4409
A38: Zone 1_3 | C38: R | D38: 12756 | E38: 220.373 | F38: 8.471 | G38: 224 | H38: 223 | I38: =E11-E38 -> 8.982 | J38: =IF(I38>0,I38^2,I38^2*-1) -> 80.676324 | K38: =SQRT(SUM(J38:J40)) -> 16.944845
C39: G | D39: 12756 | E39: 220.793 | F39: 8.846 | G39: 228 | H39: 223 | I39: =E12-E39 -> 6.514 | J39: =IF(I39>0,I39^2,I39^2*-1) -> 42.432196
C40: B | D40: 12756 | E40: 215.131 | F40: 6.669 | G40: 219 | H40: 217 | I40: =E13-E40 -> 12.807 | J40: =IF(I40>0,I40^2,I40^2*-1) -> 164.01925
A41: pL1
A42: Background 1 | C42: R | D42: 100152 | E42: 220.243 | F42: 31.852 | G42: 235 | H42: 233
C43: G | D43: 100152 | E43: 230.751 | F43: 11.234 | G43: 234 | H43: 234
C44: B | D44: 100152 | E44: 230.514 | F44: 9.914 | G44: 232 | H44: 232
A45: Background 2 | C45: R | D45: 100152 | E45: 235.031 | F45: 1.566 | G45: 235 | H45: 235
C46: G | D46: 100152 | E46: 234.917 | F46: 1.612 | G46: 235 | H46: 235
C47: B | D47: 100152 | E47: 233.112 | F47: 1.683 | G47: 233 | H47: 233
A48: Background 3 | C48: R | D48: 100152 | E48: 235.031 | F48: 1.566 | G48: 235 | H48: 235
C49: G | D49: 100152 | E49: 234.917 | F49: 1.612 | G49: 235 | H49: 235
C50: B | D50: 100152 | E50: 233.112 | F50: 1.683 | G50: 233 | H50: 233
A51: Zone 1_1 | C51: R | D51: 13156 | E51: 221.773 | F51: 6.489 | G51: 226 | H51: 224 | I51: =E42-E51 -> -1.53 | J51: =IF(I51>0,I51^2,I51^2*-1) -> -2.3409 | K51: =SQRT(SUM(J51:J53)) -> 16.642096
C52: G | D52: 13156 | E52: 217.541 | F52: 6.306 | G52: 222 | H52: 219 | I52: =E43-E52 -> 13.21 | J52: =IF(I52>0,I52^2,I52^2*-1) -> 174.5041
C53: B | D53: 13156 | E53: 220.277 | F53: 4.807 | G53: 221 | H53: 221 | I53: =E44-E53 -> 10.237 | J53: =IF(I53>0,I53^2,I53^2*-1) -> 104.79617
A54: Zone 1_2 | C54: R | D54: 13156 | E54: 219.346 | F54: 10.718 | G54: 225 | H54: 224 | I54: =E45-E54 -> 15.685 | J54: =IF(I54>0,I54^2,I54^2*-1) -> 246.01923 | K54: =SQRT(SUM(J54:J56)) -> 32.558446
C55: G | D55: 13156 | E55: 210.345 | F55: 9.524 | G55: 215 | H55: 214 | I55: =E46-E55 -> 24.572 | J55: =IF(I55>0,I55^2,I55^2*-1) -> 603.78318
C56: B | D56: 13156 | E56: 218.612 | F56: 9.012 | G56: 222 | H56: 222 | I56: =E47-E56 -> 14.5 | J56: =IF(I56>0,I56^2,I56^2*-1) -> 210.25
A57: Zone 1_3 | C57: R | D57: 13156 | E57: 226.876 | F57: 6.307 | G57: 231 | H57: 230 | I57: =E48-E57 -> 8.155 | J57: =IF(I57>0,I57^2,I57^2*-1) -> 66.504025 | K57: =SQRT(SUM(J57:J59)) -> 17.809652
C58: G | D58: 13156 | E58: 223.281 | F58: 5.718 | G58: 226 | H58: 225 | I58: =E49-E58 -> 11.636 | J58: =IF(I58>0,I58^2,I58^2*-1) -> 135.3965
C59: B | D59: 13156 | E59: 222.375 | F59: 3.682 | G59: 224 | H59: 223 | I59: =E50-E59 -> 10.737 | J59: =IF(I59>0,I59^2,I59^2*-1) -> 115.28317
A60: Zone 2_1 | C60: R | D60: 13156 | E60: 227.226 | F60: 5.279 | G60: 231 | H60: 230 | I60: =E42-E60 -> -6.983 | J60: =IF(I60>0,I60^2,I60^2*-1) -> -48.762289 | K60: =SQRT(SUM(J60:J62)) -> 8.0692101
C61: G | D61: 13156 | E61: 223.597 | F61: 4.812 | G61: 226 | H61: 225 | I61: =E43-E61 -> 7.154 | J61: =IF(I61>0,I61^2,I61^2*-1) -> 51.179716
C62: B | D62: 13156 | E62: 222.596 | F62: 2.916 | G62: 224 | H62: 223 | I62: =E44-E62 -> 7.918 | J62: =IF(I62>0,I62^2,I62^2*-1) -> 62.694724
A63: Zone 2_2 | C63: R | D63: 13156 | E63: 225.663 | F63: 5.135 | G63: 229 | H63: 227 | I63: =E45-E63 -> 9.368 | J63: =IF(I63>0,I63^2,I63^2*-1) -> 87.759424 | K63: =SQRT(SUM(J63:J65)) -> 20.402969
C64: G | D64: 13156 | E64: 222.479 | F64: 5.007 | G64: 225 | H64: 224 | I64: =E46-E64 -> 12.438 | J64: =IF(I64>0,I64^2,I64^2*-1) -> 154.70384
C65: B | D65: 13156 | E65: 219.928 | F65: 2.947 | G65: 222 | H65: 221 | I65: =E47-E65 -> 13.184 | J65: =IF(I65>0,I65^2,I65^2*-1) -> 173.81786
A66: Zone 2_3 | C66: R | D66: 13156 | E66: 225.663 | F66: 5.135 | G66: 229 | H66: 227 | I66: =E48-E66 -> 9.368 | J66: =IF(I66>0,I66^2,I66^2*-1) -> 87.759424 | K66: =SQRT(SUM(J66:J68)) -> 20.402969
C67: G | D67: 13156 | E67: 222.479 | F67: 5.007 | G67: 225 | H67: 224 | I67: =E49-E67 -> 12.438 | J67: =IF(I67>0,I67^2,I67^2*-1) -> 154.70384
C68: B | D68: 13156 | E68: 219.928 | F68: 2.947 | G68: 222 | H68: 221 | I68: =E50-E68 -> 13.184 | J68: =IF(I68>0,I68^2,I68^2*-1) -> 173.81786
A69: Zone 3_1 | C69: R | D69: 13156 | E69: 218.767 | F69: 8.517 | G69: 223 | H69: 221 | I69: =E42-E69 -> 1.476 | J69: =IF(I69>0,I69^2,I69^2*-1) -> 2.178576 | K69: =SQRT(SUM(J69:J71)) -> 20.396658
C70: G | D70: 13156 | E70: 218.308 | F70: 8.448 | G70: 224 | H70: 221 | I70: =E43-E70 -> 12.443 | J70: =IF(I70>0,I70^2,I70^2*-1) -> 154.82825
C71: B | D71: 13156 | E71: 214.42 | F71: 6.678 | G71: 219 | H71: 217 | I71: =E44-E71 -> 16.094 | J71: =IF(I71>0,I71^2,I71^2*-1) -> 259.01684
A72: Zone 3_2 | C72: R | D72: 13156 | E72: 223.565 | F72: 6.361 | G72: 226 | H72: 226 | I72: =E45-E72 -> 11.466 | J72: =IF(I72>0,I72^2,I72^2*-1) -> 131.46916 | K72: =SQRT(SUM(J72:J74)) -> 23.232413
C73: G | D73: 13156 | E73: 219.004 | F73: 5.764 | G73: 222 | H73: 221 | I73: =E46-E73 -> 15.913 | J73: =IF(I73>0,I73^2,I73^2*-1) -> 253.22357
C74: B | D74: 13156 | E74: 220.66 | F74: 4.512 | G74: 222 | H74: 222 | I74: =E47-E74 -> 12.452 | J74: =IF(I74>0,I74^2,I74^2*-1) -> 155.0523
A75: Zone 1_3 | C75: R | D75: 13156 | E75: 223.565 | F75: 6.361 | G75: 226 | H75: 226 | I75: =E48-E75 -> 11.466 | J75: =IF(I75>0,I75^2,I75^2*-1) -> 131.46916 | K75: =SQRT(SUM(J75:J77)) -> 23.232413
C76: G | D76: 13156 | E76: 219.004 | F76: 5.764 | G76: 222 | H76: 221 | I76: =E49-E76 -> 15.913 | J76: =IF(I76>0,I76^2,I76^2*-1) -> 253.22357
C77: B | D77: 13156 | E77: 220.66 | F77: 4.512 | G77: 222 | H77: 222 | I77: =E50-E77 -> 12.452 | J77: =IF(I77>0,I77^2,I77^2*-1) -> 155.0523
A79: rLDH4
A80: Background 1 | C80: R | D80: 40352 | E80: 228.608 | F80: 3.151 | G80: 230 | H80: 229
C81: G | D81: 40352 | E81: 226.791 | F81: 4.845 | G81: 231 | H81: 228
C82: B | D82: 40352 | E82: 225.518 | F82: 3.743 | G82: 229 | H82: 226
A83: Background 2 | C83: R | D83: 40352 | E83: 228.467 | F83: 2.143 | G83: 230 | H83: 229
C84: G | D84: 40352 | E84: 227.156 | F84: 3.323 | G84: 230 | H84: 228
C85: B | D85: 40352 | E85: 227.955 | F85: 2.604 | G85: 230 | H85: 229
A86: Background 3 | C86: R | D86: 40352 | E86: 225.331 | F86: 8.241 | G86: 233 | H86: 227
C87: G | D87: 40352 | E87: 222.451 | F87: 10.147 | G87: 233 | H87: 223
C88: B | D88: 40352 | E88: 225.204 | F88: 7.38 | G88: 233 | H88: 226
A89: Zone 1_1 | C89: R | D89: 13676 | E89: 218.703 | F89: 6.755 | G89: 222 | H89: 221 | I89: =E80-E89 -> 9.905 | J89: =IF(I89>0,I89^2,I89^2*-1) -> 98.109025 | K89: =SQRT(SUM(J89:J91)) -> 20.841442
C90: G | D90: 13676 | E90: 216.532 | F90: 6.18 | G90: 222 | H90: 219 | I90: =E81-E90 -> 10.259 | J90: =IF(I90>0,I90^2,I90^2*-1) -> 105.24708
C91: B | D91: 13676 | E91: 210.319 | F91: 4.52 | G91: 212 | H91: 211 | I91: =E82-E91 -> 15.199 | J91: =IF(I91>0,I91^2,I91^2*-1) -> 231.0096
A92: Zone 1_2 | C92: R | D92: 13676 | E92: 218.703 | F92: 6.755 | G92: 222 | H92: 221 | I92: =E83-E92 -> 9.764 | J92: =IF(I92>0,I92^2,I92^2*-1) -> 95.335696 | K92: =SQRT(SUM(J92:J94)) -> 22.786697
C93: G | D93: 13676 | E93: 216.532 | F93: 6.18 | G93: 222 | H93: 219 | I93: =E84-E93 -> 10.624 | J93: =IF(I93>0,I93^2,I93^2*-1) -> 112.86938
C94: B | D94: 13676 | E94: 210.319 | F94: 4.52 | G94: 212 | H94: 211 | I94: =E85-E94 -> 17.636 | J94: =IF(I94>0,I94^2,I94^2*-1) -> 311.0285
A95: Zone 1_3 | C95: R | D95: 13676 | E95: 221.413 | F95: 6.899 | G95: 226 | H95: 223 | I95: =E86-E95 -> 3.918 | J95: =IF(I95>0,I95^2,I95^2*-1) -> 15.350724 | K95: =SQRT(SUM(J95:J97)) -> 11.336558
C96: G | D96: 13676 | E96: 219.597 | F96: 6.691 | G96: 222 | H96: 222 | I96: =E87-E96 -> 2.854 | J96: =IF(I96>0,I96^2,I96^2*-1) -> 8.145316
C97: B | D97: 13676 | E97: 214.956 | F97: 4.938 | G97: 217 | H97: 216 | I97: =E88-E97 -> 10.248 | J97: =IF(I97>0,I97^2,I97^2*-1) -> 105.0215
A98: Zone 2_1 | C98: R | D98: 13676 | E98: 219.668 | F98: 10.044 | G98: 225 | H98: 223 | I98: =E80-E98 -> 8.94 | J98: =IF(I98>0,I98^2,I98^2*-1) -> 79.9236 | K98: =SQRT(SUM(J98:J100)) -> 18.757375
C99: G | D99: 13676 | E99: 216.124 | F99: 10.538 | G99: 222 | H99: 220 | I99: =E81-E99 -> 10.667 | J99: =IF(I99>0,I99^2,I99^2*-1) -> 113.78489
C100: B | D100: 13676 | E100: 212.943 | F100: 7.984 | G100: 216 | H100: 215 | I100: =E82-E100 -> 12.575 | J100: =IF(I100>0,I100^2,I100^2*-1) -> 158.13062
A101: Zone 2_2 | C101: R | D101: 13676 | E101: 220.72 | F101: 9.939 | G101: 225 | H101: 224 | I101: =E83-E101 -> 7.747 | J101: =IF(I101>0,I101^2,I101^2*-1) -> 60.016009 | K101: =SQRT(SUM(J101:J103)) -> 16.208182
C102: G | D102: 13676 | E102: 219.783 | F102: 10.213 | G102: 224 | H102: 223 | I102: =E84-E102 -> 7.373 | J102: =IF(I102>0,I102^2,I102^2*-1) -> 54.361129
...

Sheet Fig 2 Screening of aptamers
A1: Screening of aptamers:
A2: Data Tables
C3: ∆I (Raw Data) | F3: ∆I Z1 | H3: ∆I Z2 | J3: ∆I Z3 | O3: Contrast
C4: Z1 | D4: Z2 | E4: Z3 | F4: Average | G4: STDERR | H4: Average | I4: STERR | J4: Average | K4: STERR | L4: x(Z1) | M4: x(Z2) | N4: x(Z3) | O4: Z1-Z2 | P4: Z3-Z2
A5: LDHp11 | B5: 1 | C5: ='Raw data'!K14 -> 9.7673016 | D5: ='Raw data'!K23 -> 12.724564 | E5: ='Raw data'!K32 -> 18.72337 | F5: =AVERAGE(C5:C7) -> 9.6896043 | G5: =STDEV(C5:C7)/SQRT(3) -> 0.23469448 | H5: =AVERAGE(D5:D7) -> 14.873962 | I5: =STDEV(D5:D7)/SQRT(3) -> 1.9572412 | J5: =AVERAGE(E5:E7) -> 18.151996 | K5: =STDEV(E5:E7)/SQRT(3) -> 0.60386206 | L5: =B5 -> 1 | M5: =L5+0.2 -> 1.2 | N5: =M5+0.2 -> 1.4 | O5: =C5-D5 -> -2.9572624 | P5: =E5-D5 -> 5.9988063
A6: LDHp11 | B6: 1 | C6: ='Raw data'!K17 -> 9.2498606 | D6: ='Raw data'!K26 -> 13.115385 | E6: ='Raw data'!K35 -> 18.787774 | L6: =B6 -> 1 | M6: =L6+0.2 -> 1.2 | N6: =M6+0.2 -> 1.4 | O6: =C6-D6 -> -3.8655249 | P6: =E6-D6 -> 5.6723887
A7: LDHp11 | B7: 1 | C7: ='Raw data'!K20 -> 10.051651 | D7: ='Raw data'!K29 -> 18.781935 | E7: ='Raw data'!K38 -> 16.944845 | L7: =B7 -> 1 | M7: =L7+0.2 -> 1.2 | N7: =M7+0.2 -> 1.4 | O7: =C7-D7 -> -8.7302846 | P7: =E7-D7 -> -1.8370904
A8: pL1 | B8: 2 | C8: ='Raw data'!K51 -> 16.642096 | D8: ='Raw data'!K60 -> 8.0692101 | E8: ='Raw data'!K69 -> 20.396658 | F8: =AVERAGE(C8:C10) -> 22.336731 | G8: =STDEV(C8:C10)/SQRT(3) -> 5.1219588 | H8: =AVERAGE(D8:D10) -> 16.291716 | I8: =STDEV(D8:D10)/SQRT(3) -> 4.1112528 | J8: =AVERAGE(E8:E10) -> 22.287162 | K8: =STDEV(E8:E10)/SQRT(3) -> 0.94525175 | L8: =B8 -> 2 | M8: =L8+0.2 -> 2.2 | N8: =M8+0.2 -> 2.4 | O8: =C8-D8 -> 8.5728862 | P8: =E8-D8 -> 12.327448
A9: pL1 | B9: 2 | C9: ='Raw data'!K54 -> 32.558446 | D9: ='Raw data'!K63 -> 20.402969 | E9: ='Raw data'!K72 -> 23.232413 | L9: =B9 -> 2 | M9: =L9+0.2 -> 2.2 | N9: =M9+0.2 -> 2.4 | O9: =C9-D9 -> 12.155478 | P9: =E9-D9 -> 2.8294448
A10: pL1 | B10: 2 | C10: ='Raw data'!K57 -> 17.809652 | D10: ='Raw data'!K66 -> 20.402969 | E10: ='Raw data'!K75 -> 23.232413 | L10: =B10 -> 2 | M10: =L10+0.2 -> 2.2 | N10: =M10+0.2 -> 2.4 | O10: =C10-D10 -> -2.5933169 | P10: =E10-D10 -> 2.8294448
A11: rLDH4 | B11: 3 | C11: ='Raw data'!K89 -> 20.841442 | D11: ='Raw data'!K98 -> 18.757375 | E11: ='Raw data'!K107 -> 23.526997 | F11: =AVERAGE(C11:C13) -> 18.321566 | G11: =STDEV(C11:C13)/SQRT(3) -> 3.5373604 | H11: =AVERAGE(D11:D13) -> 15.758233 | I11: =STDEV(D11:D13)/SQRT(3) -> 1.8749905 | J11: =AVERAGE(E11:E13) -> 20.984447 | K11: =STDEV(E11:E13)/SQRT(3) -> 3.3853897 | L11: =B11 -> 3 | M11: =L11+0.2 -> 3.2 | N11: =M11+0.2 -> 3.4 | O11: =C11-D11 -> 2.0840671 | P11: =E11-D11 -> 4.7696224
A12: rLDH4 | B12: 3 | C12: ='Raw data'!K92 -> 22.786697 | D12: ='Raw data'!K101 -> 16.208182 | E12: ='Raw data'!K110 -> 25.147708 | L12: =B12 -> 3 | M12: =L12+0.2 -> 3.2 | N12: =M12+0.2 -> 3.4 | O12: =C12-D12 -> 6.5785147 | P12: =E12-D12 -> 8.9395252
A13: rLDH4 | B13: 3 | C13: ='Raw data'!K95 -> 11.336558 | D13: ='Raw data'!K104 -> 12.309142 | E13: ='Raw data'!K113 -> 14.278638 | L13: =B13 -> 3 | M13: =L13+0.2 -> 3.2 | N13: =M13+0.2 -> 3.4 | O13: =C13-D13 -> -0.97258403 | P13: =E13-D13 -> 1.9694956
A14: 2008s | B14: 4 | C14: ='Raw data'!K127 -> 70.202277 | D14: ='Raw data'!K136 -> 8.9468758 | E14: ='Raw data'!K145 -> 24.248815 | F14: =AVERAGE(C14:C16) -> 70.632 | G14: =STDEV(C14:C16)/SQRT(3) -> 2.4569534 | H14: =AVERAGE(D14:D16) -> 21.368477 | I14: =STDEV(D14:D16)/SQRT(3) -> 6.2146778 | J14: =AVERAGE(E14:E16) -> 38.472334 | K14: =STDEV(E14:E16)/SQRT(3) -> 13.854091 | L14: =B14 -> 4 | M14: =L14+0.2 -> 4.2 | N14: =M14+0.2 -> 4.4 | O14: =C14-D14 -> 61.255401 | P14: =E14-D14 -> 15.30194
A15: 2008s | B15: 4 | C15: ='Raw data'!K130 -> 75.086126 | D15: ='Raw data'!K139 -> 27.959443 | E15: ='Raw data'!K148 -> 24.990984 | L15: =B15 -> 4 | M15: =L15+0.2 -> 4.2 | N15: =M15+0.2 -> 4.4 | O15: =C15-D15 -> 47.126683 | P15: =E15-D15 -> -2.9684588
A16: 2008s | B16: 4 | C16: ='Raw data'!K133 -> 66.607597 | D16: ='Raw data'!K142 -> 27.199112 | E16: ='Raw data'!K151 -> 66.177201 | L16: =B16 -> 4 | M16: =L16+0.2 -> 4.2 | N16: =M16+0.2 -> 4.4 | O16: =C16-D16 -> 39.408484 | P16: =E16-D16 -> 38.978089
A17: rLDH7 | B17: 5 | C17: ='Raw data'!K165 -> 117.02015 | D17: ='Raw data'!K174 -> 87.777259 | E17: ='Raw data'!K183 -> 128.34037 | F17: =AVERAGE(C17:C19) -> 85.390623 | G17: =STDEV(C17:C19)/SQRT(3) -> 19.958826 | H17: =AVERAGE(D17:D19) -> 43.290604 | I17: =STDEV(D17:D19)/SQRT(3) -> 22.865059 | J17: =AVERAGE(E17:E19) -> 69.721232 | K17: =STDEV(E17:E19)/SQRT(3) -> 35.174567 | L17: =B17 -> 5 | M17: =L17+0.2 -> 5.2 | N17: =M17+0.2 -> 5.4 | O17: =C17-D17 -> 29.242892 | P17: =E17-D17 -> 40.563108
A18: rLDH7 | B18: 5 | C18: ='Raw data'!K168 -> 90.664812 | D18: ='Raw data'!K177 -> 30.219838 | E18: ='Raw data'!K186 -> 74.09546 | L18: =B18 -> 5 | M18: =L18+0.2 -> 5.2 | N18: =M18+0.2 -> 5.4 | O18: =C18-D18 -> 60.444974 | P18: =E18-D18 -> 43.875622
A19: rLDH7 | B19: 5 | C19: ='Raw data'!K171 -> 48.486905 | D19: ='Raw data'!K180 -> 11.874714 | E19: ='Raw data'!K189 -> 6.727867 | L19: =B19 -> 5 | M19: =L19+0.2 -> 5.2 | N19: =M19+0.2 -> 5.4 | O19: =C19-D19 -> 36.612192 | P19: =E19-D19 -> -5.1468466
A21: Graphs
A38: Relevant statistical tests
A39: Figure B) | B39: Are Zone 1 colourimetric intensities larger than those of Zone 2? Two-sample, equal variance, t-tests
A40: LDHp11
A41: data: Temp[xi:xf, 3] and Temp[xi:xf, 4]
A42: t = -2.63, df = 4, p-value = 0.05819
A43: alternative hypothesis: true difference in means is not equal to 0
A44: 95 percent confidence interval:
A45: pL1
A46: data: Temp[xi:xf, 3] and Temp[xi:xf, 4]
A47: t = 0.92039, df = 4, p-value = 0.4095
A48: alternative hypothesis: true difference in means is not equal to 0
A49: rLDH4
A50: data: Temp[xi:xf, 3] and Temp[xi:xf, 4]
A51: t = 0.64026, df = 4, p-value = 0.5568
... A100: alternative hypothesis: true mean is not equal to 0

Sheet Fig 3 Sensitivity of rLDH7
A1: rLDH7-based sensors: PfLDH sensitivity
A2: Data Tables | C2: ∆I (Raw Data) | F2: ∆I Z1 | H2: ∆I Z2 | J2: ∆I Z3 | L2: Contrast
B3: [rPfLDH] | C3: Z1 | D3: Z2 | E3: Z3 | F3: Average | G3: STDERR | H3: Average | I3: STERR | J3: Average | K3: STERR | L3: Z1-Z2 | M3: Z3-Z2
A4: PfLDH | B4: 8.333 | C4: ='Raw data'!K206 -> 34.660768 | D4: ='Raw data'!K215 -> 16.827721 | E4: ='Raw data'!K224 -> 30.486153 | F4: =AVERAGE(C4:C6) -> 34.901693 | G4: =STDEV(C4:C6)/SQRT(3) -> 5.1683127 | H4: =AVERAGE(D4:D6) -> 22.293757 | I4: =STDEV(D4:D6)/SQRT(3) -> 4.1094384 | J4: =AVERAGE(E4:E6) -> 30.366081 | K4: =STDEV(E4:E6)/SQRT(3) -> 2.4113415 | L4: =C4-D4 -> 17.833047 | M4: =E4-D4 -> 13.658432
A5: PfLDH | B5: 8.333 | C5: ='Raw data'!K209 -> 43.971504 | D5: ='Raw data'!K218 -> 30.342251 | E5: ='Raw data'!K227 -> 34.481316 | L5: =C5-D5 -> 13.629252 | M5: =E5-D5 -> 4.1390648
A6: PfLDH | B6: 8.333 | C6: ='Raw data'!K212 -> 26.072807 | D6: ='Raw data'!K221 -> 19.711298 | E6: ='Raw data'!K230 -> 26.130774 | L6: =C6-D6 -> 6.3615086 | M6: =E6-D6 -> 6.4194754
A7: PfLDH | B7: =B4*2 -> 16.666 | C7: ='Raw data'!K243 -> 37.583548 | D7: ='Raw data'!K252 -> 28.453106 | E7: ='Raw data'!K261 -> 47.508849 | F7: =AVERAGE(C7:C9) -> 38.205712 | G7: =STDEV(C7:C9)/SQRT(3) -> 1.0449425 | H7: =AVERAGE(D7:D9) -> 21.69151 | I7: =STDEV(D7:D9)/SQRT(3) -> 3.3927784 | J7: =AVERAGE(E7:E9) -> 43.138229 | K7: =STDEV(E7:E9)/SQRT(3) -> 2.1920336 | L7: =C7-D7 -> 9.1304418 | M7: =E7-D7 -> 19.055743
A8: PfLDH | B8: =B5*2 -> 16.666 | C8: ='Raw data'!K246 -> 40.244625 | D8: ='Raw data'!K255 -> 18.804117 | E8: ='Raw data'!K264 -> 40.655778 | L8: =C8-D8 -> 21.440508 | M8: =E8-D8 -> 21.851661
A9: PfLDH | B9: =B6*2 -> 16.666 | C9: ='Raw data'!K249 -> 36.788964 | D9: ='Raw data'!K258 -> 17.817307 | E9: ='Raw data'!K267 -> 41.250059 | L9: =C9-D9 -> 18.971657 | M9: =E9-D9 -> 23.432752
A10: PfLDH | B10: =B7*2 -> 33.332 | C10: ='Raw data'!K280 -> 49.777465 | D10: ='Raw data'!K289 -> 29.647626 | E10: ='Raw data'!K298 -> 47.35688 | F10: =AVERAGE(C10:C12) -> 42.705735 | G10: =STDEV(C10:C12)/SQRT(3) -> 3.5445689 | H10: =AVERAGE(D10:D12) -> 32.084985 | I10: =STDEV(D10:D12)/SQRT(3) -> 1.7239638 | J10: =AVERAGE(E10:E12) -> 47.284055 | K10: =STDEV(E10:E12)/SQRT(3) -> 0.11604721 | L10: =C10-D10 -> 20.12984 | M10: =E10-D10 -> 17.709254
A11: PfLDH | B11: =B8*2 -> 33.332 | C11: ='Raw data'!K283 -> 38.739893 | D11: ='Raw data'!K292 -> 35.415681 | E11: ='Raw data'!K301 -> 47.438492 | L11: =C11-D11 -> 3.3242123 | M11: =E11-D11 -> 12.022811
A12: PfLDH | B12: =B9*2 -> 33.332 | C12: ='Raw data'!K286 -> 39.599846 | D12: ='Raw data'!K295 -> 31.191648 | E12: ='Raw data'!K304 -> 47.056794 | L12: =C12-D12 -> 8.4081983 | M12: =E12-D12 -> 15.865146
A13: PfLDH | B13: =B10*2 -> 66.664 | C13: ='Raw data'!K318 -> 46.222769 | D13: ='Raw data'!K327 -> 28.524099 | E13: ='Raw data'!K336 -> 61.992784 | F13: =AVERAGE(C13:C15) -> 46.4745 | G13: =STDEV(C13:C15)/SQRT(3) -> 0.18412039 | H13: =AVERAGE(D13:D15) -> 33.201133 | I13: =STDEV(D13:D15)/SQRT(3) -> 3.9137777 | J13: =AVERAGE(E13:E15) -> 56.265097 | K13: =STDEV(E13:E15)/SQRT(3) -> 3.0342399 | L13: =C13-D13 -> 17.69867 | M13: =E13-D13 -> 33.468685
A14: PfLDH | B14: =B11*2 -> 66.664 | C14: ='Raw data'!K321 -> 46.83312 | D14: ='Raw data'!K330 -> 40.975364 | E14: ='Raw data'!K339 -> 55.13764 | L14: =C14-D14 -> 5.8577556 | M14: =E14-D14 -> 14.162276
A15: PfLDH | B15: =B12*2 -> 66.664 | C15: ='Raw data'!K324 -> 46.36761 | D15: ='Raw data'!K333 -> 30.103937 | E15: ='Raw data'!K342 -> 51.664867 | L15: =C15-D15 -> 16.263674 | M15: =E15-D15 -> 21.56093
A16: PfLDH | B16: =B13*2 -> 133.328 | C16: ='Raw data'!K355 -> 61.821205 | D16: ='Raw data'!K364 -> 29.61763 | E16: ='Raw data'!K373 -> 47.1257 | F16: =AVERAGE(C16:C18) -> 55.732958 | G16: =STDEV(C16:C18)/SQRT(3) -> 4.8287114 | H16: =AVERAGE(D16:D18) -> 28.462479 | I16: =STDEV(D16:D18)/SQRT(3) -> 3.1856735 | J16: =AVERAGE(E16:E18) -> 48.63689 | K16: =STDEV(E16:E18)/SQRT(3) -> 7.3883549 | L16: =C16-D16 -> 32.203575 | M16: =E16-D16 -> 17.50807
A17: PfLDH | B17: =B14*2 -> 133.328 | C17: ='Raw data'!K358 -> 46.196586 | D17: ='Raw data'!K367 -> 22.4586 | E17: ='Raw data'!K376 -> 36.662575 | L17: =C17-D17 -> 23.737986 | M17: =E17-D17 -> 14.203975
A18: PfLDH | B18: =B15*2 -> 133.328 | C18: ='Raw data'!K361 -> 59.181084 | D18: ='Raw data'!K370 -> 33.311206 | E18: ='Raw data'!K379 -> 62.122394 | L18: =C18-D18 -> 25.869878 | M18: =E18-D18 -> 28.811188
A19: PfLDH | B19: =B16*2 -> 266.656 | C19: ='Raw data'!K392 -> 55.848581 | D19: ='Raw data'!K401 -> 29.462253 | E19: ='Raw data'!K410 -> 55.499012 | F19: =AVERAGE(C19:C21) -> 52.22718 | G19: =STDEV(C19:C21)/SQRT(3) -> 5.1041171 | H19: =AVERAGE(D19:D21) -> 29.733817 | I19: =STDEV(D19:D21)/SQRT(3) -> 1.7719155 | J19: =AVERAGE(E19:E21) -> 46.793285 | K19: =STDEV(E19:E21)/SQRT(3) -> 5.6543389 | L19: =C19-D19 -> 26.386328 | M19: =E19-D19 -> 26.036759
A20: PfLDH | B20: =B17*2 -> 266.656 | C20: ='Raw data'!K395 -> 58.682079 | D20: ='Raw data'!K404 -> 32.929623 | E20: ='Raw data'!K413 -> 48.691213 | L20: =C20-D20 -> 25.752456 | M20: =E20-D20 -> 15.76159
A21: PfLDH | B21: =B18*2 -> 266.656 | C21: ='Raw data'!K398 -> 42.150881 | D21: ='Raw data'!K407 -> 26.809575 | E21: ='Raw data'!K416 -> 36.189631 | L21: =C21-D21 -> 15.341306 | M21: =E21-D21 -> 9.3800554
A22: PfLDH | B22: =B19*2 -> 533.312 | C22: ='Raw data'!K429 -> 63.246887 | D22: ='Raw data'!K438 -> 26.079677 | E22: ='Raw data'!K447 -> 56.520492 | F22: =AVERAGE(C22:C24) -> 62.054059 | G22: =STDEV(C22:C24)/SQRT(3) -> 12.361979 | H22: =AVERAGE(D22:D24) -> 23.610771 | I22: =STDEV(D22:D24)/SQRT(3) -> 2.9662697 | J22: =AVERAGE(E22:E24) -> 55.693497 | K22: =STDEV(E22:E24)/SQRT(3) -> 1.1540831 | L22: =C22-D22 -> 37.16721 | M22: =E22-D22 -> 30.440814
A23: PfLDH | B23: =B20*2 -> 533.312 | C23: ='Raw data'!K432 -> 40.071002 | D23: ='Raw data'!K441 -> 27.048004 | E23: ='Raw data'!K450 -> 57.146222 | L23: =C23-D23 -> 13.022998 | M23: =E23-D23 -> 30.098218
A24: PfLDH | B24: =B21*2 -> 533.312 | C24: ='Raw data'!K435 -> 82.844287 | D24: ='Raw data'!K444 -> 17.704633 | E24: ='Raw data'!K453 -> 53.413778 | L24: =C24-D24 -> 65.139654 | M24: =E24-D24 -> 35.709145
A26: Graphs
A43: Relevant statistics
A44: Figure B)
A45: Zone 1:
A46: Formula: Z1 ~ (x * Bmax)/(Kd + x) + 22 | L46: Formula: Ty ~ ((Tx * Bmax)/(Kd + Tx) + 27) | N46: Parameters: | R46: Formula: y ~ (x * Bmax)/(x + Kd)
N47: Estimate Std. Error t value Pr(>|t|)
A48: Parameters: | L48: Parameters: | N48: Bmax 31.989 4.058 7.883 2.08e-07 *** | R48: Parameters:
A49: Estimate Std. Error t value Pr(>|t|) | L49: Estimate Std. Error t value Pr(>|t|) | N49: Kd 5.610 4.844 1.158 0.261 | R49: Estimate Std. Error t value Pr(>|t|)
A50: Bmax 37.419 4.183 8.946 3.07e-08 *** | L50: Bmax 84.058 4.708 17.86 2.48e-13 *** | N50: --- | R50: Bmax 54.806 7.085 7.736 2.75e-07 ***
A51: Kd 23.643 10.806 2.188 0.0414 * | L51: Kd 9.840 2.946 3.34 0.00344 ** | N51: Signif. codes: 0 ‘***’ 0.001 ‘**’ 0.01 ‘*’ 0.05 ‘.’ 0.1 ‘ ’ 1 | R51: Kd 17.958 10.226 1.756 0.0952 .
A52: --- | L52: --- | R52: ---
A53: Signif. codes: 0 ‘***’ 0.001 ‘**’ 0.01 ‘*’ 0.05 ‘.’ 0.1 ‘ ’ 1 | L53: Signif. codes: 0 ‘***’ 0.001 ‘**’ 0.01 ‘*’ 0.05 ‘.’ 0.1 ‘ ’ 1 | N53: Residual standard error: 12.16 on 19 degrees of freedom | R53: Signif. codes: 0 ‘***’ 0.001 ‘**’ 0.01 ‘*’ 0.05 ‘.’ 0.1 ‘ ’ 1
A55: Residual standard error: 9.283 on 19 degrees of freedom | L55: Residual standard error: 12.92 on 19 degrees of freedom | N55: Number of iterations to convergence: 9 | R55: Residual standard error: 17.01 on 19 degrees of freedom
N56: Achieved convergence tolerance: 2.948e-06
A57: Number of iterations to convergence: 11 | L57: Number of iterations to convergence: 4 | N57: Achieved convergence tolerance: 2.557e-06 | R57: Number of iterations to convergence: 12
A58: Achieved convergence tolerance: 5.592e-06 | L58: Achieved convergence tolerance: 9.043e-06 | R58: Achieved convergence tolerance: 3.471e-06
A60: Zone 2: | N60: Analysis of Variance Table
A61: Formula: Z2 ~ (x * Bmax)/(Kd + x) + 22
A63: Parameters:
A64: Estimate Std. Error t value Pr(>|t|)
A65: Bmax 7.209 2.409 2.992 0.00749 **
A66: Kd 13.457 21.596 0.623 0.54062
A67: ---
A68: Signif. codes: 0 ‘***’ 0.001 ‘**’ 0.01 ‘*’ 0.05 ‘.’ 0.1 ‘ ’ 1
A70: Residual standard error: 6.204 on 19 degrees of freedom
A72: Number of iterations to convergence: 11
A73: Achieved convergence tolerance: 7.626e-06
A75: Zone 3:
A76: Formula: Z3 ~ (x * Bmax)/(Kd + x) + 22
... A85: Residual standard error: 7.382 on 19 degrees of freedom
A87: Number of iterations to convergence: 12 | C87: Response: Z1 | L87: Analysis of Variance Table | N87: Response: dI
A88: Achieved convergence tolerance: 6.434e-06 | C88: Df Sum Sq Mean Sq F value Pr(>F) | D88: Response: Z3 | N88: Df Sum Sq Mean Sq F value Pr(>F) | R88: Response: y
C89: x 6 1797.1 299.51 2.2538 0.09867 . | D89: Df Sum Sq Mean Sq F value Pr(>F) | L89: Response: dI | N89: [PfLDH] 6 1621.5 270.24 2.2921 0.0943 . | R89: Df Sum Sq Mean Sq F value Pr(>F)
C90: Residuals 14 1860.5 132.89 | D90: x 6 990.80 165.133 4.2481 0.0121 * | L90: Df Sum Sq Mean Sq F value Pr(>F) | N90: Residuals 14 1650.6 117.90 | R90: x 6 4736.9 789.48 3.3568 0.029 *
C91: --- | D91: Residuals 14 544.21 38.872 | L91: [PfLDH] 6 5322.0 886.99 4.6213 0.008621 ** | N91: --- | R91: Residuals 14 3292.7 235.19
C92: Signif. codes: 0 ‘***’ 0.001 ‘**’ 0.01 ‘*’ 0.05 ‘.’ 0.1 ‘ ’ 1 | D92: --- | L92: Residuals 14 2687.1 191.94 | N92: Signif. codes: 0 ‘***’ 0.001 ‘**’ 0.01 ‘*’ 0.05 ‘.’ 0.1 ‘ ’ 1 | R92: ---
C93: --- | D93: Signif. codes: 0 ‘***’ 0.001 ‘**’ 0.01 ‘*’ 0.05 ‘.’ 0.1 ‘ ’ 1 | L93: --- | R93: Signif. codes: 0 ‘***’ 0.001 ‘**’ 0.01 ‘*’ 0.05 ‘.’ 0.1 ‘ ’ 1
C94: Signif. codes: 0 ‘***’ 0.001 ‘**’ 0.01 ‘*’ 0.05 ‘.’ 0.1 ‘ ’ 1 | D94: Signif. codes: 0 ‘***’ 0.001 ‘**’ 0.01 ‘*’ 0.05 ‘.’ 0.1 ‘ ’ 1 | L94: Signif. codes: 0 ‘***’ 0.001 ‘**’ 0.01 ‘*’ 0.05 ‘.’ 0.1 ‘ ’ 1
L95: Tukey multiple comparisons of means | R95: Tukey multiple comparisons of means
D96: 16.666-133.328 1.272308 -16.1101211 18.654737 0.9999711 | L96: 95% family-wise confidence level | R96: 95% family-wise confidence level
D97: 266.65600000000001-133.328 -3.114943 -20.4973718 14.267486 0.9952768 | L97: 16000-1000 27.757766 -10.86760 66.383129 0.2469724
D98: 33.332000000000001-133.328 -4.975341 -22.3577694 12.407088 0.9510644 | L98: 2000-1000 12.749806 -25.87556 51.375170 0.9091760 | R98: Fit: aov(formula = y ~ x, data = APTEC_sens_contrast)
D99: 533.31200000000001-133.328 11.908315 -5.4741140 29.290744 0.2917381 | L99: 4000-1000 14.380058 -24.24531 53.005421 0.8538796
D100: 66.664000000000001-133.328 2.889553 -14.4928762 20.271981 0.9968522 | L100: 500-1000 -8.645849 -47.27121 29.979514 0.9849552 | R100: $x
D101: B8.333-133.328 -12.102087 -29.4845158 5.280342 0.2762581 | L101: 8000-1000 9.030675 -29.59469 47.656039 0.9812955 | R101: diff lwr upr p adj
D102: 266.65600000000001-16.666 -4.387251 -21.7696796 12.995178 0.9728124 | L102: 250-1000 -24.722016 -63.34738 13.903347 0.3603938 | R102: 16.66-133.33000000000001 -9.483969 -52.240575 33.272636 0.9856298
D103: 33.332000000000001-16.666 -6.247648 -23.6300772 11.134781 0.8722394 | L103: 2000-16000 -15.007959 -53.63332 23.617404 0.8289601 | R103: 266.66000000000003-133.33000000000001 -7.892059 -50.648664 34.864546 0.9944682
D104: 533.31200000000001-16.666 10.636007 -6.7464218 28.018436 0.4080773 | L104: 4000-16000 -13.377708 -52.00307 25.247655 0.8895707 | R104: 33.33-133.33000000000001 -21.625070 -64.381675 21.131535 0.6109595
D105: 66.664000000000001-16.666 1.617245 -15.7651840 18.999674 0.9998824 | L105: 500-16000 -36.403615 -75.02898 2.221748 0.0707101 | R105: 533.30999999999995-133.33000000000001 23.081123 -19.675483 65.837728 0.5432492
D106: B8.333-16.666 -13.374395 -30.7568236 4.008034 0.1895276 | L106: 8000-16000 -18.727090 -57.35245 19.898273 0.6526661 | R106: 66.66-133.33000000000001 -11.107560 -53.864166 31.649045 0.9687904
D107: 33.332000000000001-266.65600000000001 -1.860398 -19.2428264 15.522031 0.9997354 | L107: 250-16000 -52.479782 -91.10515 -13.854419 0.0054271 | R107: 8.33-133.33000000000001 -26.764630 -69.521236 15.991975 0.3837843
D108: 533.31200000000001-266.65600000000001 15.023258 -2.3591711 32.405687 0.1118398 | L108: 4000-2000 1.630251 -36.99511 40.255615 0.9999989 | R108: 266.66000000000003-16.66 1.591910 -41.164695 44.348516 0.9999995
D109: 66.664000000000001-266.65600000000001 6.004496 -11.3779333 23.386924 0.8907260 | L109: 500-2000 -21.395656 -60.02102 17.229707 0.5156593 | R109: 33.33-16.66 -12.141101 -54.897706 30.615505 0.9527998
D110: B8.333-266.65600000000001 -8.987144 -26.3695728 8.395285 0.5884922 | L110: 8000-2000 -3.719131 -42.34449 34.906232 0.9998564 | R110: 533.30999999999995-16.66 32.565092 -10.191513 75.321697 0.1975534
D111: 533.31200000000001-33.332000000000001 16.883655 -0.4987735 34.266084 0.0594843 | L111: 250-2000 -37.471823 -76.09719 1.153540 0.0599054 | R111: 66.66-16.66 -1.623591 -44.380196 41.133014 0.9999994
... D116: B8.333-66.664000000000001 -14.991640 -32.3740684 2.390789 0.1130141 | L116: 250-500 -16.076167 -54.70153 22.549196 0.7826077 | R116: 8.33-266.66000000000003 -18.872571 -61.629176 23.884034 0.7368319
L117: 250-8000 -33.752692 -72.37805 4.872671 0.1058405 | R117: 533.30999999999995-33.33 44.706193 1.949587 87.462798 0.0378398
D118: For x = 8.33 nM | R118: 66.66-33.33 10.517509 -32.239096 53.274115 0.9759936
D119: One Sample t-test | L119: One Sample t-test | R119: 8.33-33.33 -5.139560 -47.896166 37.617045 0.9994851
R120: 66.66-533.30999999999995 -34.188683 -76.945288 8.567922 0.1609056
D121: data: Z1.t$Z1 | L121: data: Z3.t$Z3 | R121: 8.33-533.30999999999995 -49.845753 -92.602358 -7.089148 0.0179783
D122: t = 3.7628, df = 2, p-value = 0.06393 | L122: t = 2.8131, df = 2, p-value = 0.1066 | R122: 8.33-66.66 -15.657070 -58.413675 27.099535 0.8627439
D124: For x = 16.66 nM | E124: For x = 16.66 nM | R124: > library(readxl)
D125: One Sample t-test | E125: One Sample t-test | R125: > APTEC_sens_contrast <- read_excel("APTEC - sens contrast.xlsx")
R126: > View(APTEC_sens_contrast)
D127: data: Z1.t$Z1 | E127: data: Z3.t$Z3 | R127: > test <-aov (y ~ x, data=APTEC_sens_contrast)
D128: t = 4.392, df = 2, p-value = 0.04813 | E128: t = 16.76, df = 2, p-value = 0.003541 | R128: > TukeyHSD(test)
R129: Tukey multiple comparisons of means
R130: 95% family-wise confidence level
R132: Fit: aov(formula = y ~ x, data = APTEC_sens_contrast)
R134: $x
R135: diff lwr upr p adj
R136: 16.7-133.30000000000001 -9.483969 -52.240575 33.272636 0.9856298
R137: 266.7-133.30000000000001 -7.892059 -50.648664 34.864546 0.9944682
R138: 33.299999999999997-133.30000000000001 -21.625070 -64.381675 21.131535 0.6109595
R139: 533.29999999999995-133.30000000000001 23.081123 -19.675483 65.837728 0.5432492
...

Sheet Fig 4 Serum influence
A1: Serum influence
A2: Data Tables
C3: ∆I (Raw Data) | F3: ∆I Z1 | H3: ∆I Z2 | J3: ∆I Z3 | L3: Contrast
A4: % Serum | B4: x | C4: Z1 | D4: Z2 | E4: Z3 | F4: Average | G4: STDERR | H4: Average | I4: STERR | J4: Average | K4: STERR | L4: x(Z1) | M4: x(Z3) | N4: Z1-Z2 | O4: Z3-Z2
A5: 0.1 | B5: 1.2 | C5: ='Raw data'!K469 -> 74.344928 | D5: ='Raw data'!K478 -> 36.831276 | E5: ='Raw data'!K487 -> 101.75585 | F5: =AVERAGE(C5:C7) -> 60.583984 | G5: =STDEV(C5:C7)/SQRT(3) -> 10.663284 | H5: =AVERAGE(D5:D7) -> 26.779281 | I5: =STDEV(D5:D7)/SQRT(3) -> 5.4042481 | J5: =AVERAGE(E5:E7) -> 59.4067 | K5: =STDEV(E5:E7)/SQRT(3) -> 21.60732 | L5: 1.2 | M5: =L5+0.1 -> 1.3 | N5: =C5-D5 -> 37.513652 | O5: =E5-D5 -> 64.924577
A6: 0.1 | B6: 1.2 | C6: ='Raw data'!K472 -> 67.813587 | D6: ='Raw data'!K481 -> 25.193594 | E6: ='Raw data'!K490 -> 30.779556 | L6: 1.2 | M6: =L6+0.1 -> 1.3 | N6: =C6-D6 -> 42.619994 | O6: =E6-D6 -> 5.585962
A7: 0.1 | B7: 1.2 | C7: ='Raw data'!K475 -> 39.593437 | D7: ='Raw data'!K484 -> 18.312973 | E7: ='Raw data'!K493 -> 45.68469 | L7: 1.2 | M7: =L7+0.1 -> 1.3 | N7: =C7-D7 -> 21.280464 | O7: =E7-D7 -> 27.371717
A8: 1 | B8: 2.2 | C8: ='Raw data'!K507 -> 73.660654 | D8: ='Raw data'!K516 -> 25.13214 | E8: ='Raw data'!K525 -> 58.453457 | F8: =AVERAGE(C8:C10) -> 70.592711 | G8: =STDEV(C8:C10)/SQRT(3) -> 4.3722501 | H8: =AVERAGE(D8:D10) -> 24.41855 | I8: =STDEV(D8:D10)/SQRT(3) -> 0.35732193 | J8: =AVERAGE(E8:E10) -> 50.285466 | K8: =STDEV(E8:E10)/SQRT(3) -> 7.1016189 | L8: 2.2 | M8: =L8+0.1 -> 2.3 | N8: =C8-D8 -> 48.528514 | O8: =E8-D8 -> 33.321316
A9: 1 | B9: 2.2 | C9: ='Raw data'!K510 -> 61.96716 | D9: ='Raw data'!K519 -> 24.095352 | E9: ='Raw data'!K528 -> 36.138573 | L9: 2.2 | M9: =L9+0.1 -> 2.3 | N9: =C9-D9 -> 37.871807 | O9: =E9-D9 -> 12.04322
A10: 1 | B10: 2.2 | C10: ='Raw data'!K513 -> 76.15032 | D10: ='Raw data'!K522 -> 24.028158 | E10: ='Raw data'!K531 -> 56.26437 | L10: 2.2 | M10: =L10+0.1 -> 2.3 | N10: =C10-D10 -> 52.122161 | O10: =E10-D10 -> 32.236211
A11: 10 | B11: 3.2 | C11: ='Raw data'!K545 -> 32.619624 | D11: ='Raw data'!K554 -> 13.647326 | E11: ='Raw data'!K563 -> 26.470401 | F11: =AVERAGE(C11:C13) -> 38.806524 | G11: =STDEV(C11:C13)/SQRT(3) -> 3.2899176 | H11: =AVERAGE(D11:D13) -> 18.551123 | I11: =STDEV(D11:D13)/SQRT(3) -> 3.6343774 | J11: =AVERAGE(E11:E13) -> 27.397246 | K11: =STDEV(E11:E13)/SQRT(3) -> 4.0540594 | L11: 3.2 | M11: =L11+0.1 -> 3.3 | N11: =C11-D11 -> 18.972298 | O11: =E11-D11 -> 12.823075
A12: 10 | B12: 3.2 | C12: ='Raw data'!K548 -> 39.960291 | D12: ='Raw data'!K557 -> 16.356445 | E12: ='Raw data'!K566 -> 20.884859 | L12: 3.2 | M12: =L12+0.1 -> 3.3 | N12: =C12-D12 -> 23.603845 | O12: =E12-D12 -> 4.5284133
A13: 10 | B13: 3.2 | C13: ='Raw data'!K551 -> 43.839658 | D13: ='Raw data'!K560 -> 25.649599 | E13: ='Raw data'!K569 -> 34.836477 | L13: 3.2 | M13: =L13+0.1 -> 3.3 | N13: =C13-D13 -> 18.190059 | O13: =E13-D13 -> 9.1868782
A14: 100 | B14: 4.2 | C14: ='Raw data'!K583 -> 23.512282 | D14: ='Raw data'!K592 -> 17.585798 | E14: ='Raw data'!K601 -> 53.771575 | F14: =AVERAGE(C14:C16) -> 26.618787 | G14: =STDEV(C14:C16)/SQRT(3) -> 1.8768995 | H14: =AVERAGE(D14:D16) -> 18.95676 | I14: =STDEV(D14:D16)/SQRT(3) -> 1.4688656 | J14: =AVERAGE(E14:E16) -> 49.490803 | K14: =STDEV(E14:E16)/SQRT(3) -> 3.5933812 | L14: 4.2 | M14: =L14+0.1 -> 4.3 | N14: =C14-D14 -> 5.9264839 | O14: =E14-D14 -> 36.185776
A15: 100 | B15: 4.2 | C15: ='Raw data'!K586 -> 29.996998 | D15: ='Raw data'!K595 -> 21.892363 | E15: ='Raw data'!K604 -> 52.349758 | L15: 4.2 | M15: =L15+0.1 -> 4.3 | N15: =C15-D15 -> 8.1046358 | O15: =E15-D15 -> 30.457396
A16: 100 | B16: 4.2 | C16: ='Raw data'!K589 -> 26.347079 | D16: ='Raw data'!K598 -> 17.39212 | E16: ='Raw data'!K607 -> 42.351076 | L16: 4.2 | M16: =L16+0.1 -> 4.3 | N16: =C16-D16 -> 8.9549587 | O16: =E16-D16 -> 24.958956
A21: Graphs
A38: Relevant statistical tests
A39: Figure B) | B39: ANOVA analysis of the various zones
A40: Analysis of Variance Table
A42: Response: Zone 1 | G42: TukeyHSD(test)
A43: Df Sum Sq Mean Sq F value Pr(>F) | G43: Tukey multiple comparisons of means
A44: ...1 3 3615.5 1205.17 10.919 0.003354 ** | G44: 95% family-wise confidence level
A45: Residuals 8 883.0 110.38
G46: Fit: aov(formula = Zone 1 ~ x, data = APTEC_serum)
A47: Analysis of Variance Table
G48: $x
A49: Response: Zone 2 | G49: diff lwr upr p adj
A50: Df Sum Sq Mean Sq F value Pr(>F) | G50: 1-0.1 10.00873 -17.46145 37.478908 0.6622524
A51: ...1 3 149.17 49.722 1.4832 0.2909 | G51: 10-0.1 -21.77746 -49.24764 5.692721 0.1273555
A52: Residuals 8 268.20 33.525 | G52: Undiluted-0.1 -33.96520 -61.43538 -6.495016 0.0175842
G53: 10-1 -31.78619 -59.25637 -4.316006 0.0248308
G54: Undiluted-1 -43.97392 -71.44411 -16.503743 0.0039687
A55: Analysis of Variance Table | G55: Undiluted-10 -12.18774 -39.65792 15.282444 0.5217136
A57: Response: Zone 3
A58: Df Sum Sq Mean Sq F value Pr(>F)
A59: ...1 3 1664.1 554.69 1.3529 0.3245
A60: Residuals 8 3279.9 409.99
A63: Figure C)
A64: Comparing contrast dependence on serum content
A65: ANOVA
A66: Response: Contrast of Z1
A67: Df Sum Sq Mean Sq F value Pr(>F)
A68: ...1 3 2500.19 833.40 17.537 0.0007063 ***
A69: Residuals 8 380.18 47.52
A70: ---
... A93: Identifying if specific Zone 1 contrast samples have means > 0
A94: 0.001
A95: data: APTEC_serum[(i):(i + 2), 6]
A96: t = 5.2547, df = 2, p-value = 0.03436
A97: alternative hypothesis: true mean is not equal to 0
A98: 95 percent confidence interval:
A99: 6.124552 61.484854
A100: sample estimates:
A101: mean of x
A102: 33.8047
A104: 0.01
A105: data: APTEC_serum[(i):(i + 2), 6]
A106: t = 10.791, df = 2, p-value = 0.008478
A107: alternative hypothesis: true mean is not equal to 0
A108: 95 percent confidence interval:
A109: 27.76380 64.58452
A110: sample estimates:
A111: mean of x
A112: 46.17416
A114: 0.1
A115: data: APTEC_serum[(i):(i + 2), 6]
A116: t = 11.99, df = 2, p-value = 0.006884
A117: alternative hypothesis: true mean is not equal to 0
A118: 95 percent confidence interval:
A119: 12.98658 27.52422
A120: sample estimates:
A121: mean of x
A122: 20.2554
A123: 1
A124: data: APTEC_serum[(i):(i + 2), 6]
A125: t = 8.4962, df = 2, p-value = 0.01357
A126: alternative hypothesis: true mean is not equal to 0
A127: 95 percent confidence interval:
A128: 3.781804 11.542248
A129: sample estimates:
A130: mean of x
A131: 7.662026
A135: Comparing contrast dependence at Zone 3 on serum content
A136: Analysis of Variance Table
A138: Response: Temp$`Z3-Z2`
A139: Df Sum Sq Mean Sq F value Pr(>F)
A140: Temp$Serum 3 1048.1 349.37 1.2781 0.3459
A141: Residuals 8 2186.8 273.35

Sheet Fig 5 Blood lysate
A1: Red blood cell lysates
A2: Data Tables
C3: ∆I (Raw Data) | F3: ∆I Z1 | H3: ∆I Z2 | J3: ∆I Z3 | L3: Contrast
A4: % Blood | B4: x | C4: Z1 | D4: Z2 | E4: Z3 | F4: Average | G4: STDERR | H4: Average | I4: STERR | J4: Average | K4: STERR | L4: x(Z1) | M4: x(Z3) | N4: Z1-Z2 | O4: Z3-Z2
A5: 0.1 | B5: 1.2 | C5: ='Raw data'!K622 -> 83.675149 | D5: ='Raw data'!K631 -> 19.099111 | E5: ='Raw data'!K640 -> 40.282851 | F5: =AVERAGE(C5:C7) -> 76.44054 | G5: =STDEV(C5:C7)/SQRT(3) -> 4.8103569 | H5: =AVERAGE(D5:D7) -> 17.746301 | I5: =STDEV(D5:D7)/SQRT(3) -> 6.8125422 | J5: =AVERAGE(E5:E7) -> 45.162584 | K5: =STDEV(E5:E7)/SQRT(3) -> 5.1761815 | L5: 1.2 | M5: =L5+0.2 -> 1.4 | N5: =C5-D5 -> 64.576038 | O5: =E5-D5 -> 21.18374
A6: 0.1 | B6: 1.2 | C6: ='Raw data'!K625 -> 67.331066 | D6: ='Raw data'!K634 -> 5.3285318 | E6: ='Raw data'!K643 -> 39.695509 | L6: 1.2 | M6: =L6+0.2 -> 1.4 | N6: =C6-D6 -> 62.002534 | O6: =E6-D6 -> 34.366977
A7: 0.1 | B7: 1.2 | C7: ='Raw data'!K628 -> 78.315404 | D7: ='Raw data'!K637 -> 28.811259 | E7: ='Raw data'!K646 -> 55.509391 | L7: 1.2 | M7: =L7+0.2 -> 1.4 | N7: =C7-D7 -> 49.504145 | O7: =E7-D7 -> 26.698132
A8: 1 | B8: 2.2 | C8: ='Raw data'!K660 -> 62.333886 | D8: ='Raw data'!K669 -> 16.679687 | E8: ='Raw data'!K678 -> 45.070154 | F8: =AVERAGE(C8:C10) -> 59.495909 | G8: =STDEV(C8:C10)/SQRT(3) -> 9.6394018 | H8: =AVERAGE(D8:D10) -> 21.707838 | I8: =STDEV(D8:D10)/SQRT(3) -> 5.9387089 | J8: =AVERAGE(E8:E10) -> 50.241701 | K8: =STDEV(E8:E10)/SQRT(3) -> 18.713083 | L8: 2.2 | M8: =L8+0.2 -> 2.4 | N8: =C8-D8 -> 45.6542 | O8: =E8-D8 -> 28.390467
A9: 1 | B9: 2.2 | C9: ='Raw data'!K663 -> 41.562877 | D9: ='Raw data'!K672 -> 14.902951 | E9: ='Raw data'!K681 -> 20.726387 | L9: 2.2 | M9: =L9+0.2 -> 2.4 | N9: =C9-D9 -> 26.659926 | O9: =E9-D9 -> 5.8234363
A10: 1 | B10: 2.2 | C10: ='Raw data'!K666 -> 74.590963 | D10: ='Raw data'!K675 -> 33.540876 | E10: ='Raw data'!K684 -> 84.928561 | L10: 2.2 | M10: =L10+0.2 -> 2.4 | N10: =C10-D10 -> 41.050087 | O10: =E10-D10 -> 51.387685
A11: 10 | B11: 3.2 | C11: ='Raw data'!K698 -> 46.222561 | D11: ='Raw data'!K707 -> 30.450402 | E11: ='Raw data'!K716 -> 42.82931 | F11: =AVERAGE(C11:C13) -> 53.031386 | G11: =STDEV(C11:C13)/SQRT(3) -> 3.5991279 | H11: =AVERAGE(D11:D13) -> 17.120267 | I11: =STDEV(D11:D13)/SQRT(3) -> 7.1823487 | J11: =AVERAGE(E11:E13) -> 47.633952 | K11: =STDEV(E11:E13)/SQRT(3) -> 4.4962751 | L11: 3.2 | M11: =L11+0.2 -> 3.4 | N11: =C11-D11 -> 15.772158 | O11: =E11-D11 -> 12.378907
A12: 10 | B12: 3.2 | C12: ='Raw data'!K701 -> 54.413153 | D12: ='Raw data'!K710 -> 5.8195746 | E12: ='Raw data'!K719 -> 43.453261 | L12: 3.2 | M12: =L12+0.2 -> 3.4 | N12: =C12-D12 -> 48.593578 | O12: =E12-D12 -> 37.633687
A13: 10 | B13: 3.2 | C13: ='Raw data'!K704 -> 58.458443 | D13: ='Raw data'!K713 -> 15.090824 | E13: ='Raw data'!K722 -> 56.619283 | L13: 3.2 | M13: =L13+0.2 -> 3.4 | N13: =C13-D13 -> 43.367619 | O13: =E13-D13 -> 41.528459
A14: 100 | B14: 4.2 | C14: ='Raw data'!K736 -> 78.403408 | D14: ='Raw data'!K745 -> 37.229594 | E14: ='Raw data'!K754 -> 71.683076 | F14: =AVERAGE(C14:C16) -> 69.462707 | G14: =STDEV(C14:C16)/SQRT(3) -> 5.2875816 | H14: =AVERAGE(D14:D16) -> 29.596594 | I14: =STDEV(D14:D16)/SQRT(3) -> 3.8847257 | J14: =AVERAGE(E14:E16) -> 59.367999 | K14: =STDEV(E14:E16)/SQRT(3) -> 7.3498827 | L14: 4.2 | M14: =L14+0.2 -> 4.4 | N14: =C14-D14 -> 41.173813 | O14: =E14-D14 -> 34.453482
A15: 100 | B15: 4.2 | C15: ='Raw data'!K739 -> 60.101195 | D15: ='Raw data'!K748 -> 27.035589 | E15: ='Raw data'!K757 -> 46.259455 | L15: 4.2 | M15: =L15+0.2 -> 4.4 | N15: =C15-D15 -> 33.065606 | O15: =E15-D15 -> 19.223865
A16: 100 | B16: 4.2 | C16: ='Raw data'!K742 -> 69.883518 | D16: ='Raw data'!K751 -> 24.5246 | E16: ='Raw data'!K760 -> 60.161467 | L16: 4.2 | M16: =L16+0.2 -> 4.4 | N16: =C16-D16 -> 45.358918 | O16: =E16-D16 -> 35.636867
A21: Graphs
A38: Relevant statistical tests
A41: Figure C)
A42: Comparing contrast of Z1-Z2 values on blood lysate concentrations
A43: Response: Temp$`Z1-Z2`
A44: Df Sum Sq Mean Sq F value Pr(>F)
A45: Temp$Blood 3 1000.6 333.53 2.5994 0.1245
A46: Residuals 8 1026.5 128.31
A48: Comparing contrast of Z3-Z2 values on blood lysate concentrations
A49: Analysis of Variance Table
A51: Response: Temp$`Z3-Z2`
A52: Df Sum Sq Mean Sq F value Pr(>F)
... A54: Residuals 8 1794.22 224.277
