Workbook
Name DATA: #REF!
Name ROC: DXCHMLS20!$A$3:$AA$38
Name ROC: DXCRESMLP!$A$3:$P$119
Name ROC: #REF!
Name TABNAME: #REF!

Sheet NOTES
A1: TAB | B1: NOTES
A2: TABLE 6 | B2: Table 6 integrates key results from two models. The contents were entered by doing copy paste link from the relevant tab. Click in the cell to identify the source for the displayed results.
A3: DXCRESMLP | B3: This model uses the male person-level life course file for input. The denominator is based on residence, where ROC = 0 and Willits = 1. Rates are expressed as percentages. Results from columns D and E in this tab were linked to Columns D and E in Table 6.
A4: DXCHMLS20 | B4: This model uses the male life course summary file. The denominator is census-based person-years adjusted for the availability of Social Security Numbers. Rates are expressed per 10,000 person years. Results from this tab fill in Columns K through R in Table 6. If the frequency of residence (Willits, ROC) by Generation (1950, 1970) had less than 20 people in the numerator in any condition cell, the condition is not displayed in any table.

Sheet TABLE 6
D1: Rate (%) | K1: Relative Risk per Population
B2: Variable | D2: People | G2: Attributable Cases | K2: Within Generation | N2: Adj by Generation | Q2: Chi-sq P-Value
A3: Condition | B3: Name | D3: ROC | E3: Willits | G3: N | H3: LCL | I3: UCL | K3: 1950 | L3: 1970 | N3: Ratio | O3: LCL | P3: UCL | Q3: CMH | R3: BD
A4: DXLABEL | B4: DXNAME | C4: COL1 | D4: ENRATE | E4: EYRATE | F4: COL2 | G4: ARiskN | H4: ARiskNU | I4: ARiskNL | J4: COL3 | N4: _MHRRC1_ | O4: L_MHRRC1 | P4: U_MHRRC1 | R4: P_BDCHI
A5: Illness burden
A6: People (N) | D6: 10997 | E6: 2274 | K6: =DXCHMLS20!$F$8 -> 1.158163 | L6: =DXCHMLS20!$G$8 -> 1.2017313 | N6: =DXCHMLS20!M5 -> 1.1725351 | O6: =DXCHMLS20!N5 -> 1.12016 | P6: =DXCHMLS20!O5 -> 1.2273591 | Q6: =DXCHMLS20!$X$5 -> 8.8422724e-12 | R6: =DXCHMLS20!$AA$5 -> 0.46426483 | S6: =SUM(D6:E6) -> 13271 | U6: =E6/D6 -> 0.20678367
A7: Discharges (N) | D7: 29556 | E7: 6094 | K7: =DXCHMLS20!F14 -> 1.152854 | L7: =DXCHMLS20!G14 -> 1.1982727 | N7: =DXCHMLS20!M11 -> 1.1646735 | O7: =DXCHMLS20!N11 -> 1.1335501 | P7: =DXCHMLS20!O11 -> 1.1966514 | Q7: =DXCHMLS20!$X$11 -> 3.972412e-28 | R7: =DXCHMLS20!$AA$11 -> 0.295176 | S7: =SUM(D7:E7) -> 35650 | U7: =E7/D7 -> 0.20618487
A9: General health
A10: =DXCRESMLP!A10 -> Infectious/parasitic | B10: =DXCRESMLP!B10 -> DXCHA01 | C10: =DXCRESMLP!C10 -> 0 | D10: =DXCRESMLP!D10 -> 26.597918 | E10: =DXCRESMLP!E10 -> 28.498845 | G10: -71.296352 | H10: -13.007273 | I10: -129.58543 | K10: =DXCHMLS20!F68 -> 1.218795 | L10: =DXCHMLS20!G68 -> 1.3733224 | N10: =DXCHMLS20!M65 -> 1.2547746 | O10: =DXCHMLS20!N65 -> 1.1502377 | P10: =DXCHMLS20!O65 -> 1.3688121 | Q10: =DXCHMLS20!$X$65 -> 3.0265819e-07 | R10: =DXCHMLS20!$AA$65 -> 0.2480695
A11: =DXCRESMLP!A22 -> Endocr Nutri Metab Immun | B11: =DXCRESMLP!B22 -> DXCHA03 | C11: =DXCRESMLP!C22 -> 0 | D11: =DXCRESMLP!D22 -> 41.472906 | E11: =DXCRESMLP!E22 -> 43.002309 | G11: -27.456964 | H11: 42.609469 | I11: -97.523398 | K11: =DXCHMLS20!F140 -> 1.2122436 | L11: =DXCHMLS20!G140 -> 1.2200158 | N11: =DXCHMLS20!M137 -> 1.2138992 | O11: =DXCHMLS20!N137 -> 1.1313382 | P11: =DXCHMLS20!O137 -> 1.3024851 | Q11: =DXCHMLS20!$X$137 -> 6.745626e-08 | R11: =DXCHMLS20!$AA$137 -> 0.95558996
A12: =DXCRESMLP!A36 -> Mental disorders | B12: =DXCRESMLP!B36 -> DXCHA05 | C12: =DXCRESMLP!C36 -> 0 | D12: =DXCRESMLP!D36 -> 58.040665 | E12: =DXCRESMLP!E36 -> 58.568129 | G12: -560.05557 | H12: -485.7979 | I12: -634.31324 | K12: =DXCHMLS20!F224 -> 1.1755961 | L12: =DXCHMLS20!G224 -> 1.1990714 | N12: =DXCHMLS20!M221 -> 1.1828749 | O12: =DXCHMLS20!N221 -> 1.1138691 | P12: =DXCHMLS20!O221 -> 1.2561556 | Q12: =DXCHMLS20!$X$221 -> 4.3042844e-08 | R12: =DXCHMLS20!$AA$221 -> 0.77324137
A13: =DXCRESMLP!A41 -> Nervous system sense organs | B13: =DXCRESMLP!B41 -> DXCHA06 | C13: =DXCRESMLP!C41 -> 0 | D13: =DXCRESMLP!D41 -> 27.872361 | E13: =DXCRESMLP!E41 -> 32.378753 | G13: -36.613782 | H13: 24.381376 | I13: -97.608941 | K13: =DXCHMLS20!F254 -> 1.3168139 | L13: =DXCHMLS20!G254 -> 1.4991544 | N13: =DXCHMLS20!M251 -> 1.36055 | O13: =DXCHMLS20!N251 -> 1.2531846 | P13: =DXCHMLS20!O251 -> 1.4771138 | Q13: =DXCHMLS20!$X$251 -> 1.782842e-13 | R13: =DXCHMLS20!$AA$251 -> 0.18034376
A14: =DXCRESMLP!A46 -> Circulatory system | B14: =DXCRESMLP!B46 -> DXCHA07 | C14: =DXCRESMLP!C46 -> 0 | D14: =DXCRESMLP!D46 -> 39.283977 | E14: =DXCRESMLP!E46 -> 41.154734 | G14: -8.667518 | H14: 60.928482 | I14: -78.263518 | K14: =DXCHMLS20!F284 -> 1.1918391 | L14: =DXCHMLS20!G284 -> 1.4061212 | N14: =DXCHMLS20!M281 -> 1.2256442 | O14: =DXCHMLS20!N281 -> 1.1404345 | P14: =DXCHMLS20!O281 -> 1.3172204 | Q14: =DXCHMLS20!$X$281 -> 3.0334537e-08 | R14: =DXCHMLS20!$AA$281 -> 0.091190454
A15: =DXCRESMLP!A74 -> Respiratory system | B15: =DXCRESMLP!B74 -> DXCHA08 | C15: =DXCRESMLP!C74 -> 0 | D15: =DXCRESMLP!D74 -> 31.394104 | E15: =DXCRESMLP!E74 -> 33.810624 | G15: 18.480472 | H15: 79.976532 | I15: -43.015587 | K15: =DXCHMLS20!F452 -> 1.2335153 | L15: =DXCHMLS20!G452 -> 1.3486366 | N15: =DXCHMLS20!M449 -> 1.2613565 | O15: =DXCHMLS20!N449 -> 1.1645637 | P15: =DXCHMLS20!O449 -> 1.3661943 | Q15: =DXCHMLS20!$X$449 -> 1.1384131e-08 | R15: =DXCHMLS20!$AA$449 -> 0.34605627
A16: =DXCRESMLP!A89 -> Digestive system | B16: =DXCRESMLP!B89 -> DXCHA09 | C16: =DXCRESMLP!C89 -> 0 | D16: =DXCRESMLP!D89 -> 41.249149 | E16: =DXCRESMLP!E89 -> 44.665127 | G16: 100.93268 | H16: 169.72245 | I16: 32.142897 | K16: =DXCHMLS20!F542 -> 1.2356938 | L16: =DXCHMLS20!G542 -> 1.361242 | N16: =DXCHMLS20!M539 -> 1.268529 | O16: =DXCHMLS20!N539 -> 1.1834804 | P16: =DXCHMLS20!O539 -> 1.3596893 | Q16: =DXCHMLS20!$X$539 -> 1.7277147e-11 | R16: =DXCHMLS20!$AA$539 -> 0.22796668
A17: =DXCRESMLP!A114 -> Skin, subcutaneous tissue | B17: =DXCRESMLP!B114 -> DXCHA12 | C17: =DXCRESMLP!C114 -> 0 | D17: =DXCRESMLP!D114 -> 16.256445 | E17: =DXCRESMLP!E114 -> 19.168591 | G17: 47.711161 | H17: 94.58311 | I17: 0.83921296 | K17: =DXCHMLS20!F698 -> 1.3050066 | L17: =DXCHMLS20!G698 -> 1.5903012 | N17: =DXCHMLS20!M695 -> 1.3815558 | O17: =DXCHMLS20!N695 -> 1.2411112 | P17: =DXCHMLS20!O695 -> 1.5378933 | Q17: =DXCHMLS20!$X$695 -> 2.9917881e-09 | R17: =DXCHMLS20!$AA$695 -> 0.098609643
A18: =DXCRESMLP!A115 -> Musculoskel connective tissue | B18: =DXCRESMLP!B115 -> DXCHA13 | C18: =DXCRESMLP!C115 -> 0 | D18: =DXCRESMLP!D115 -> 34.205662 | E18: =DXCRESMLP!E115 -> 38.891455 | G18: 228.43931 | H18: 294.0416 | I18: 162.83702 | K18: =DXCHMLS20!F704 -> 1.297872 | L18: =DXCHMLS20!G704 -> 1.4485356 | N18: =DXCHMLS20!M701 -> 1.3313065 | O18: =DXCHMLS20!N701 -> 1.2354004 | P18: =DXCHMLS20!O701 -> 1.434658 | Q18: =DXCHMLS20!$X$701 -> 5.4743161e-14 | R18: =DXCHMLS20!$AA$701 -> 0.22868333
A19: =DXCRESMLP!A118 -> Congenital anomaly | B19: =DXCRESMLP!B118 -> DXCHA14 | C19: =DXCRESMLP!C118 -> 0 | D19: =DXCRESMLP!D118 -> 3.3369005 | E19: =DXCRESMLP!E118 -> 2.817552 | F19: =DXCRESMLP!F118 -> 0 | G19: =DXCRESMLP!G118 -> -11.243895 | H19: =DXCRESMLP!H118 -> 5.6155014 | ... J19: =DXCRESMLP!J118 -> 0 | K19: =DXCHMLS20!F722 -> 0.7547735 | L19: =DXCHMLS20!G722 -> 1.5079332 | N19: =DXCHMLS20!M719 -> 0.99012383 | O19: =DXCHMLS20!N719 -> 0.75420227 | P19: =DXCHMLS20!O719 -> 1.2998439 | Q19: =DXCHMLS20!$X$719 -> 0.94301912 | R19: =DXCHMLS20!$AA$719 -> 0.012790874 | BV19: =DXCRESMLP!BV118 -> 0 | BW19: =DXCRESMLP!BW118 -> 0 | BX19: =DXCRESMLP!BX118 -> 0 | BY19: =DXCRESMLP!BY118 -> 0 | BZ19: =DXCRESMLP!BZ118 -> 0 | CA19: =DXCRESMLP!CA118 -> 0 | CB19: =DXCRESMLP!CB118 -> 0 | CC19: =DXCRESMLP!CC118 -> 0 | ... XFD19: =DXCRESMLP!XFD118 -> 0
A21: Reproductive health
A22: =DXCRESMLP!A19 -> Neoplasm | B22: =DXCRESMLP!B19 -> DXCHA02 | C22: =DXCRESMLP!C19 -> 0 | D22: =DXCRESMLP!D19 -> 9.9328728 | E22: =DXCRESMLP!E19 -> 10.254042 | G22: 23.327969 | H22: 63.086091 | I22: -16.430153 | K22: =DXCHMLS20!F122 -> 1.1636269 | L22: =DXCHMLS20!G122 -> 1.4975337 | N22: =DXCHMLS20!M119 -> 1.2073545 | O22: =DXCHMLS20!N119 -> 1.0445094 | P22: =DXCHMLS20!O119 -> 1.3955881 | Q22: =DXCHMLS20!$X$119 -> 0.010699109 | R22: =DXCHMLS20!$AA$119 -> 0.21629087
A23: =DXCRESMLP!A112 -> Genitourinary system | B23: =DXCRESMLP!B112 -> DXCHA10 | C23: =DXCRESMLP!C112 -> 0 | D23: =DXCRESMLP!D112 -> 19.83656 | E23: =DXCRESMLP!E112 -> 21.662818 | G23: -20.652119 | H23: 30.780201 | I23: -72.084439 | K23: =DXCHMLS20!F680 -> 1.2238814 | L23: =DXCHMLS20!G680 -> 1.5070117 | N23: =DXCHMLS20!M677 -> 1.2782419 | O23: =DXCHMLS20!N677 -> 1.1565593 | P23: =DXCHMLS20!O677 -> 1.4127267 | Q23: =DXCHMLS20!$X$677 -> 1.4385699e-06 | R23: =DXCHMLS20!$AA$677 -> 0.093329449

Sheet DXCRESMLP
B1: Variable | D1: Admission (%) | G1: Attributable Cases | K1: CMH Statistics
A2: Condition | B2: Name | D2: ROC | E2: Willits | G2: N | H2: LCL | I2: UCL | K2: RR | L2: LCL | M2: UCL | O2: Chi-Sq | P2: P-Val
A3: DXLABEL | B3: DXNAME | C3: COL1 | D3: ENRATE | E3: EYRATE | F3: COL2 | G3: ARiskN | H3: ARiskNU | I3: ARiskNL | J3: COL3 | K3: _RROR_ | L3: L_RROR | M3: U_RROR | N3: COL4 | O3: _CMHCOR_ | P3: P_CMHCOR
A4: Access
A5: Public payor | B5: PAYPUBA | D5: 57.525051 | E5: 61.47806 | G5: 85.582644 | H5: 134.54911 | I5: 36.616176 | K5: 1.1783868 | L5: 1.0716115 | M5: 1.2958012 | O5: 11.487028 | P5: 0.00070083611
A6: Out-of-county | B6: OOCA | D6: 50.481564 | E6: 45.681293 | G6: -103.92587 | H6: -53.909316 | I6: -153.94242 | K6: 0.82494137 | L6: 0.75169436 | M6: 0.90532575 | O6: 16.482652 | P6: 4.9097254e-05
A7: Emergency room | B7: SRCERA | D7: 68.401595 | E7: 68.12933 | G7: -5.8945423 | H7: 40.844426 | I7: -52.633511 | K7: 0.9875108 | L7: 0.89398119 | M7: 1.0908256 | O7: 0.061279773 | P7: 0.80448452
A8: In-hospital death | B8: DISPNDA | D8: 3.9984434 | E8: 3.4642032 | G8: -11.5663 | H8: 7.0181508 | I8: -30.150751 | K8: 0.86159327 | L8: 0.67061638 | M8: 1.1069562 | O8: 1.3599163 | P8: 0.24355199
A10: Infectious/parasitic | B10: DXCHA01 | D10: 26.597918 | E10: 28.498845 | G10: 41.155073 | H10: 86.285705 | I10: -3.9755583 | K10: 1.0999551 | L10: 0.9922375 | M10: 1.2193665 | O10: 3.2838492 | P10: 0.069964659
A11: Septicemia | B11: DXCLA002 | D11: 6.9851153 | E11: 6.2817552 | G11: -15.227746 | H11: 9.3375556 | I11: -39.793047 | K11: 0.89255654 | L11: 0.73851385 | M11: 1.0787302 | O11: 1.384038 | P11: 0.23941453
A12: Other bacterial infect | B12: DXCLA003 | D12: 12.851445 | E12: 12.979215 | G12: 2.7662224 | H12: 36.46453 | I12: -30.932085 | K12: 1.0114249 | L12: 0.88104301 | M12: 1.1611016 | O12: 0.026026774 | P12: 0.87183495
A13: Mycoses | B13: DXCLA004 | D13: 3.5606577 | E13: 4.5727483 | G13: 21.911762 | H13: 42.480694 | I13: 1.3428293 | K13: 1.2978631 | L13: 1.034257 | M13: 1.6286559 | O13: 5.0921261 | P13: 0.024034709
A14: Hepatitis | B14: DXCLA006 | D14: 7.6077439 | E14: 8.5450346 | G14: 20.292344 | H14: 48.096985 | I14: -7.5122981 | K14: 1.1347135 | L14: 0.9598134 | M14: 1.3414844 | O14: 2.1919348 | P14: 0.13873495
A15: Viral infect | B15: DXCLA007 | D15: 2.1986575 | E15: 1.5704388 | G15: -13.600934 | H15: -0.70784355 | I15: -26.494024 | K15: 0.70971292 | L15: 0.49339669 | M15: 1.0208671 | O15: 3.4497871 | P15: 0.063259919
A16: Other infect | B16: DXCLA008 | D16: 3.5314719 | E16: 5.6351039 | G16: 45.543633 | H16: 67.947727 | I16: 23.139538 | K16: 1.6312531 | L16: 1.3215213 | M16: 2.0135785 | O16: 21.12695 | P16: 4.2984041e-06
A17: STI | B17: DXCLA009 | D17: 0.1070143 | E17: 0.23094688 | G17: 2.6831404 | H17: 7.2696726 | I17: -1.9033919 | K17: 2.1607744 | L17: 0.75000387 | M17: 6.2252293 | O17: 2.1388663 | P17: 0.14360799
... A117: Integumentary (PX) | B117: PXCHA15 | D117: 13.532445 | E117: 16.30485 | G117: 60.02257 | H117: 96.627964 | I117: 23.417176 | K117: 1.2447824 | L117: 1.0960321 | M117: 1.4137206 | O117: 11.40557 | P117: 0.00073224239
A118: Congenital anomaly | B118: DXCHA14 | D118: 3.3369005 | E118: 2.817552 | G118: -11.243895 | H118: 5.6155014 | I118: -28.103292 | K118: =DXCHMLS20!M89 -> 1.3131006 | L118: =DXCHMLS20!N89 -> 1.118956 | M118: =DXCHMLS20!O89 -> 1.5409303 | O118: 1.5354787 | P118: 0.21529205
A119: Injury | B119: INJDXA | D119: 64.587995 | E119: 67.852194 | G119: 70.66991 | H119: 117.73225 | I119: 23.607572 | K119: =DXCHMLS20!M95 -> 0.83691553 | L119: =DXCHMLS20!N95 -> 0.58366515 | M119: =DXCHMLS20!O95 -> 1.2000504 | O119: 8.3923604 | P119: 0.0037680129

Sheet DXCHMLS20
B1: Variable | F1: Per 10,000 | I1: Excess Cases | M1: Adj Rel Risk | R1: CMH Statistics | W1: CMH Chi-Sq | Z1: BD Chi-Sq
A2: Condition | B2: Name | D2: Area | F2: 1950 | G2: 1970 | I2: N | J2: LCL | K2: UCL | M2: Ratio | N2: LCL | O2: UCL | P2: Sig | R2: Ratio | S2: LCL | T2: UCL | U2: Sig | W2: Value | X2: P-Val | Z2: Value | AA2: P-Val
A3: DXLABEL | C3: _NAME_ | D3: AREA | E3: COL1 | F3: _1950 | G3: _1970 | H3: COL2 | I3: ARISKN | J3: ARISKNL | K3: ARISKNU | L3: COL3 | M3: _MHRRC1_ | N3: L_MHRRC1 | O3: U_MHRRC1 | P3: _MHRRC1SIG | Q3: COL4 | R3: _MHOR_ | S3: L_MHOR | T3: U_MHOR | U3: _MHORSIG | V3: COL5 | W3: _CMHCOR_ | X3: P_CMHCOR | Y3: COL6 | Z3: _BDCHI_ | AA3: P_BDCHI
A4: Person | B4: PERSON | C4: ENRATE | D4: ROC | F4: 259.42166 | G4: 213.20285
C5: EYRATE | D5: Willits | F5: 300.45256 | G5: 256.21254 | I5: 318.54326 | J5: 221.98903 | K5: 415.09749 | M5: 1.1725351 | N5: 1.12016 | O5: 1.2273591 | P5: 1 | R5: 1.1776123 | S5: 1.1235379 | T5: 1.2342892 | U5: 1 | W5: 46.569571 | X5: 8.8422724e-12 | Z5: 0.53559316 | AA5: 0.46426483
C6: XP2_FISH | D6: Exact P | F6: 4.5895859e-07 | G6: 7.6689695e-06
C7: ARiskN | D7: Attr Cases | F7: 195.8323 | G7: 122.71095
C8: _RRC1_ | D8: RR | F8: 1.158163 | G8: 1.2017313
A10: Discharges | B10: DISTOT | C10: ENRATE | D10: ROC | F10: 776.94198 | G10: 456.30153
C11: EYRATE | D11: Willits | F11: 895.70064 | G11: 546.77368 | I11: 824.93744 | J11: 670.54389 | K11: 979.33099 | M11: 1.1646735 | N11: 1.1335501 | O11: 1.1966514 | P11: 1 | R11: 1.1790882 | S11: 1.1449336 | T11: 1.2142617 | U11: 1 | W11: 120.92307 | X11: 3.972412e-28 | Z11: 1.0958621 | AA11: 0.295176
C12: XP2_FISH | D12: Exact P | F12: 3.3639775e-18 | G12: 7.1632314e-11
C13: ARiskN | D13: Attr Cases | F13: 566.81133 | G13: 258.12611
C14: _RRC1_ | D14: RR | F14: 1.152854 | G14: 1.1982727
A16: Days | B16: LOS | C16: ENRATE | D16: ROC | F16: 4095.4451 | G16: 2520.4871
C17: EYRATE | D17: Willits | F17: 4718.4043 | G17: 3209.4914 | I17: 4939.058 | J17: 4653.9994 | K17: 5224.1166 | M17: 1.1847683 | N17: 1.1738701 | O17: 1.1957676 | P17: 1 | R17: 1.3248383 | S17: 1.303912 | T17: 1.3461004 | U17: 1 | W17: 1206.6822 | X17: 2.1531154e-264 | Z17: 24.739182 | AA17: 6.563617e-07
C18: XP2_FISH | D18: Exact P | F18: 4.7173572e-141 | G18: 9.5722952e-127
C19: ARiskN | D19: Attr Cases | F19: 2973.2596 | G19: 1965.7983
C20: _RRC1_ | D20: RR | F20: 1.1521103 | G20: 1.2733616
A22: White non-Hispanic | B22: RACEDOF1 | C22: ENRATE | D22: ROC | F22: 213.53241 | G22: 160.40144
C23: EYRATE | D23: Willits | F23: 266.92927 | G23: 212.75104 | I23: 404.21115 | J23: 314.51668 | K23: 493.90561 | M23: 1.2737419 | N23: 1.2122388 | O23: 1.3383654 | P23: 1 | R23: 1.2807643 | S23: 1.2174378 | T23: 1.3473848 | U23: 1 | W23: 91.939008 | X23: 8.9389515e-22 | Z23: 1.1398272 | AA23: 0.28568885
C24: XP2_FISH | D24: Exact P | F24: 1.1050216e-12 | G24: 8.8242165e-10
C25: ARiskN | D25: Attr Cases | F25: 254.8525 | G25: 149.35865
C26: _RRC1_ | D26: RR | F26: 1.2500644 | G26: 1.3263662
A28: Hispanic all-race | B28: RACEDOF3 | C28: ENRATE | D28: ROC | F28: 31.147231 | G28: 36.511612
C29: EYRATE | D29: Willits | F29: 20.3235 | G29: 29.091164 | I29: -72.830785 | J29: -102.2164 | K29: -43.445166 | M29: 0.71200803 | N29: 0.60981561 | O29: 0.83132577 | P29: -1 | R29: 0.71131692 | S29: 0.60898312 | T29: 0.83084693 | U29: -1 | W29: 18.654617 | X29: 1.5666743e-05 | Z29: 1.5832192 | AA29: 0.2082976
C30: XP2_FISH | D30: Exact P | F30: 3.5000981e-05 | G30: 0.051447366
C31: ARiskN | D31: Attr Cases | F31: -51.659505 | G31: -21.17128
C32: _RRC1_ | D32: RR | F32: 0.6524978 | G32: 0.79676471
A34: Public payor (Any) | B34: PAYPUBA | C34: ENRATE | D34: ROC | F34: 144.73634 | G34: 130.06872
C35: EYRATE | D35: Willits | F35: 174.11163 | G35: 175.24798 | I35: 269.10332 | J35: 193.2988 | K35: 344.90784 | M35: 1.2534828 | N35: 1.181716 | O35: 1.3296081 | P35: 1 | R35: 1.2579849 | S35: 1.184764 | T35: 1.3357309 | U35: 1 | W35: 56.514563 | X35: 5.5783698e-14 | Z35: 3.2964374 | AA35: 0.069430314
C36: XP2_FISH | D36: Exact P | F36: 1.743205e-06 | G36: 5.064012e-09
C37: ARiskN | D37: Attr Cases | F37: 140.20237 | G37: 128.90094
C38: _RRC1_ | D38: RR | F38: 1.2029572 | G38: 1.3473492
A40: ER admission (Any) | B40: SRCERA | C40: ENRATE | D40: ROC | F40: 178.18938 | G40: 144.61095
C41: EYRATE | D41: Willits | F41: 198.41602 | G41: 185.06186 | I41: 211.94824 | J41: 131.86249 | K41: 292.03399 | M41: 1.1678791 | N41: 1.1047228 | O41: 1.2346459 | P41: 1 | R41: 1.1712012 | S41: 1.106676 | T41: 1.2394885 | U41: 1 | W41: 29.937768 | X41: 4.4613743e-08 | Z41: 5.4494553 | AA41: 0.019574429
C42: XP2_FISH | D42: Exact P | F42: 0.0025296553 | G42: 5.2583734e-07
C43: ARiskN | D43: Attr Cases | F43: 96.537736 | G43: 115.4105
C44: _RRC1_ | D44: RR | F44: 1.1135121 | G44: 1.2797223
A46: Out-of-county admission (Any) | B46: OOCA | C46: ENRATE | D46: ROC | F46: 135.96674 | G46: 99.361515
C47: EYRATE | D47: Willits | F47: 146.03587 | G47: 102.34482 | I47: 56.569624 | J47: -9.6452346 | K47: 122.78448 | M47: 1.0606505 | N47: 0.99136376 | O47: 1.1347797 | P47: 0 | R47: 1.0614664 | S47: 0.99123405 | T47: 1.1366749 | U47: 0 | W47: 2.917576 | X47: 0.087619395 | Z47: 0.31087988 | AA47: 0.57714076
...
