Workbook

Sheet Table S1
A1: Table S1.The detected pthogens by mNGS and conventional clinical methods.
A2: pathogen types | B2: species | C2: mNGS | E2: Conventional clinical methods
C3: Cases | D3: Contorls | E3: Cases | F3: Controls
A4: G- bacteria | B4: Escherichia coli | C4: 1 | D4: 3 | E4: 1 | F4: 1
B5: Acinetobacter baumann | C5: 2 | D5: 1 | E5: 0 | F5: 5
B6: Klebsiella pneumoniae | C6: 0 | D6: 6 | E6: 0 | F6: 0
B7: Proteus mirabilis | C7: 0 | D7: 3 | E7: 0 | F7: 0
B8: Pseudomonas maltophilia | C8: 0 | D8: 3 | E8: 0 | F8: 4
B9: Pseudomonas aeruginosa | C9: 1 | D9: 3 | E9: 0 | F9: 1
B10: Enterobacter cloacae | C10: 0 | D10: 1 | E10: 0 | F10: 0
B11: Bacteroides fragilis | C11: 0 | D11: 1 | E11: 0 | F11: 0
B12: Pseudomonas putida | C12: 0 | D12: 1 | E12: 0 | F12: 0
B13: Elizabeth meningitidis | C13: 0 | D13: 1 | E13: 0 | F13: 1
A14: G+ bacteria | B14: Staphylococcus epidermidis | C14: 1 | D14: 1 | E14: 0 | F14: 0
B15: Streptococcus minor | C15: 0 | D15: 2 | E15: 0 | F15: 0
B16: Staphylococcus hominis | C16: 0 | D16: 1 | E16: 0 | F16: 0
B17: Enterococcus faecalis | C17: 0 | D17: 2 | E17: 0 | F17: 0
B18: Enterococcus faecium | C18: 0 | D18: 4 | E18: 0 | F18: 1
B19: Streptococcus constellatus | C19: 0 | D19: 1 | E19: 0 | F19: 0
B20: Streptococcus pneumoniae | C20: 2 | D20: 2 | E20: 0 | F20: 0
B21: Staphylococcus aureus | C21: 0 | D21: 1 | E21: 0 | F21: 0
B22: Corynebacterium matruchotii | C22: 1 | D22: 0 | E22: 0 | F22: 0
A23: Viruses | B23: CMV | C23: 2 | D23: 9 | E23: 0 | F23: 0
B24: Human herpesvirus | C24: 0 | D24: 7 | E24: 0 | F24: 0
B25: EB | C25: 1 | D25: 3 | E25: 0 | F25: 0
B26: Adenovirus | C26: 0 | D26: 2 | E26: 0 | F26: 0
B27: B19 | C27: 3 | D27: 2 | E27: 0 | F27: 0
B28: Influenza B | C28: 0 | D28: 0 | E28: 2 | F28: 1
B29: Influenza A | C29: 0 | D29: 0 | E29: 0 | F29: 2
B30: TTV | C30: 1 | D30: 0 | E30: 0 | F30: 0
A31: Fungi | B31: Aspergillus fumigatus | C31: 1 | D31: 1 | E31: 1 | F31: 0
B32: Pneumocystis jiroveci | C32: 0 | D32: 2 | E32: 0 | F32: 0
B33: Candida tropicalis | C33: 0 | D33: 2 | E33: 0 | F33: 2
B34: Candida albicans | C34: 0 | D34: 2 | E34: 0 | F34: 2
B35: Aspergillus | C35: 0 | D35: 1 | E35: 0 | F35: 0
A36: Atypical pathogens | B36: Mycoplasma pneumoniae | C36: 0 | D36: 2 | E36: 1 | F36: 1
B37: Mycobacterium tuberculosis | C37: 0 | D37: 1 | E37: 0 | F37: 0
B38: Staphylococcus aureus | C38: 0 | D38: 1 | E38: 0 | F38: 0
B39: Nocardia farcinica | C39: 0 | D39: 1 | E39: 0 | F39: 0

Sheet Table S2
A1: Table S2.Diagnostic performance of mNGS, GMS staining,serum BDG and LDH in non-HIV-infected PJP patients
A2: Methods | B2: PJP group | C2: Non-PJP group | D2: Sensitivity | E2: Specificity | F2: PPV | G2: NPV | H2: likelihood ratio (LR) | I2: Jouden index
A4: mNGS
A5: + | B5: 17 | C5: 2 | D5: 1 | E5: 0.967 | F5: 0.895 | G5: 1 | H5: 30.3 | I5: 0.96
A6: - | B6: 0 | C6: 58 | D6: (77.1-100.0) | E6: (87.5-99.4) | F6: (65.5-98.2) | G6: (92.3-100.0)
A7: Serum BDG
A8: + | B8: 13 | C8: 13 | D8: 0.867 | E8: 0.567 | F8: 0.5 | G8: 0.895 | H8: 2 | I8: 0.43
A9: - | B9: 2 | C9: 17 | D9: (58.4-97.7) | E9: (37.7-74.0) | F9: (30.4-69.6) | G9: (65.5-98.2)
A10: GMS
A11: + | B11: 1 | C11: 0 | D11: 0.059 | E11: 1 | F11: 1 | G11: 0.111 | H11: / | I11: 0.06
A12: - | B12: 16 | C12: 2 | D12: (0.3-30.8) | E12: (19.8-100) | F12: (5.5-100) | G12: (1.9-36.1)
A13: LDH
A14: + | B14: 10 | C14: 16 | D14: 0.5556 | E14: 0.714 | F14: 0.3846 | G14: 0.8333 | H14: 1.94 | I14: 0.27
A15: - | B15: 8 | C15: 40 | D15: (31.4-77.6) | E15: (57.6-82.3) | F15: (20.9-59.3) | G15: (69.2-92.0)

Sheet Table S3
A1: Table S3.The number of pathogens of different types by mNGS and conventional clinical methods.
B2: The observation group | D2: The control group
B3: mNGS | C3: Conventional clinical methods | D3: mNGS | E3: Conventional clinical methods
A4: Total pathogens | B4: =SUM('Table S1'!C4:C39) -> 16 | C4: 5 | D4: 73 | E4: 21
A5: G+ bacteria | B5: =SUM('Table S1'!C14:C22) -> 4 | C5: =SUM('Table S1'!E14:E22) -> 0 | D5: =SUM('Table S1'!D14:D22) -> 14 | E5: =SUM('Table S1'!F14:F22) -> 1
A6: G- bacteria | B6: =SUM('Table S1'!C4:C13) -> 4 | C6: =SUM('Table S1'!E4:E13) -> 1 | D6: =SUM('Table S1'!D4:D13) -> 23 | E6: =SUM('Table S1'!F4:F13) -> 12
A7: Fungi | B7: =SUM('Table S1'!C31:C35) -> 1 | C7: =SUM('Table S1'!E31:E35) -> 1 | D7: =SUM('Table S1'!D31:D35) -> 8 | E7: =SUM('Table S1'!F31:F35) -> 4
A8: Viruses | B8: =SUM('Table S1'!C23:C30) -> 7 | C8: =SUM('Table S1'!E23:E30) -> 2 | D8: =SUM('Table S1'!D23:D30) -> 23 | E8: =SUM('Table S1'!F23:F30) -> 3
A9: Atypical pathogens | B9: =SUM('Table S1'!C36:C39) -> 0 | C9: =SUM('Table S1'!E36:E39) -> 1 | D9: =SUM('Table S1'!D36:D39) -> 5 | E9: =SUM('Table S1'!F36:F39) -> 1

Sheet Table S4
A1: Table S4. The content of pathogens detected by mNGS in the observation group.
A2: The content of pathogens | B2: The observation group (n=17)
A3: P. jirovecii | B3: 0.412
A4: P. jirovecii+viruses | B4: 0.29411765
A5: P. jirovecii+Bacteria | B5: 0.23529412
A6: P. jirovecii+multiple pathogens | B6: 0.058823529

Sheet Table S5
A1: Table S7. The qPCR and mNGS results of 17 cases in this study.
A2: Sample | B2: mNGS detection (unique reads number) | C2: Ct value
A3: ZSYP343 | B3: Pneumocystis jirovecii (712) | C3: 33.63
A4: ZSYP525 | B4: Pneumocystis jirovecii (27), B19 (121) | C4: 32.54
A5: ZSYP526 | B5: Pneumocystis jirovecii (284), Acinetobacter baumannii (527) | C5: 32.54
A6: ZSYP748 | B6: Pneumocystis jirovecii (7854) | C6: 31.13
A7: ZSYP704 | B7: Pneumocystis jirovecii (1104) | C7: 24.48
A8: ZSYP729 | B8: Pneumocystis jirovecii (367) | C8: 31.13
A9: ZSYP753 | B9: Pneumocystis jirovecii (5029) | C9: 34.03
A10: ZSYP659 | B10: Pneumocystis jirovecii (109593), CMV (42), Aspergillus fumigatus (833), EB(18) | C10: 27.75
A11: ZSYP920 | B11: Pneumocystis jirovecii (487) | C11: 35.39
A12: ZSYP804 | B12: Pneumocystis jirovecii (9550), TTV(60), Staphylococcus epidermidis (18) | C12: 31.8
A13: ZSYP025 | B13: Pneumocystis jirovecii (1435) | C13: 32.71
A14: ZSYP194 | B14: Pneumocystis jirovecii (79), Streptococcus pneumoniae (27), Escherichia coli (53) | C14: 32.15
... A22: Positive control | B22: NA | C22: 27
A23: Negative control | B23: NA | C23: >40
A24: The primers of qPCR are 5'-GAGCGGAGTGTCTGAGGATAC-3'and 5'-ACACCCTCTGCGGTCTATTG-3'.

Sheet Figure S1
A1: Figure S1 qPCR amplification curve and Ct value of P. jirovecii for mNGS validation in 5 cases
A21: Curve | B21: Sample ID | C21: Ct
B22: 0030886749 | C22: =VLOOKUP(B:B,[1]样本信息!$A:$H,8,FALSE) -> 31.128603
B23: 0030878246 | C23: =VLOOKUP(B:B,[1]样本信息!$A:$H,8,FALSE) -> 34.032604
B24: 0030869619 | C24: =VLOOKUP(B:B,[1]样本信息!$A:$H,8,FALSE) -> 27.752512
B25: 0030819439 | C25: =VLOOKUP(B:B,[1]样本信息!$A:$H,8,FALSE) -> 35.38979
B26: 0030806344 | C26: =VLOOKUP(B:B,[1]样本信息!$A:$H,8,FALSE) -> 31.801258
B27: NC | C27: ＞40
B28: PC | C28: 26.99
