Workbook

Sheet Sheet1
A1: Supplementary Material S1. LDL calculators for the 12 equations
A3: Yellow: Enter data
A4: Grey: Information used for Martin equation, automated (Do not directly enter data)
A5: Blue: Calculated value, automated (Do not directly enter data)
A10: Enter Total cholesterol (TC), Triglyceride (TG), and HDL-cholesterol (HDL): mg/dL | D10: Non-HDL cholesterol (TC – HDL, mg/dL) | E10: Information used for Martin equation | I10: Calculated LDL (mg/dL) - 12 equations | U10: Enter Directly measured LDL (if you want to compare, mg/dL) | V10: NCEP ATP III criteria for calculated LDL | AH10: NCEP ATP III criteria for directly measured LDL
A11: Total cholesterol (TC) | B11: Triglyceride (TG) | C11: HDL-cholesterol (HDL) | E11: Non-HDL group(for Martin Factor) | F11: TG group for Martin factor | G11: Non-HDLC&TG combination | H11: Martin Factor | I11: LDL_Friedwald | J11: LDL_DeLong | K11: LDL_Rao | L11: LDL_Hattori | M11: LDL_Anandaraja | N11: LDL_Ahmadi | O11: LDL_Puavilai | P11: LDL_Vujovic | Q11: LDL_Chen and Zhang | R11: LDL_deCordova | S11: LDL_Martin | T11: LDL_Choi | V11: NCEP_Friedwald | W11: NCEP_DeLong | X11: NCEP_Rao | Y11: NCEP_Hattori | Z11: NCEP_Anandaraja | AA11: NCEP_Ahmadi | AB11: NCEP_Puavilai | AC11: NCEP_Vujovic | AD11: NCEP_Chen and Zhang | AE11: NCEP_deCordova | AF11: NCEP_Martin | AG11: NCEP_Choi
A12: 157 | B12: 63 | C12: 69 | D12: =IF(OR((A12=""),(B12=""),(C12="")),"Enter data",A12-C12) -> 88 | E12: =IF(D12<100,"<100",IF(D12<130,"100-129",IF(D12<160,"130-159",IF(D12<190,"160-189",IF(D12<220,"190-219","220 or more"))))) -> <100 | F12: =IF(B12<50,"7-49",IF(B12<57,"50-56",IF(B12<62,"57-61",IF(B12<67,"62-66",IF(B12<72,"67-71",IF(B12<76,"72-75",IF(B12<80,"76-79",IF(B12<84,"80-83",IF(B12<88,"84-87",IF(B12<93,"88-92",IF(B12<97,"93-96",IF(B12<101,"97-100",IF(B12<106,"101-105",IF(B12<111,"106-110",IF(B12<116,"111-115",IF(B12<121,"116-120",IF(B12<127,"121-126",IF(B12<133,"127-132",IF(B12<139,"133-138",IF(B12<147,"139-146",IF(B12<155,"147-154",IF(B12<164,"155-163",IF(B12<174,"164-173",IF(B12<186,"174-185",IF(B12<202,"186-201",IF(B12<221,"202-220",IF(B12<248,"221-247",IF(B12<293,"248-292",IF(B12<400,"293-399","400-13975"))))))))))))))))))))))))))))) -> 62-66 | G12: =E12&F12 -> <10062-66 | H12: =VLOOKUP(G12,'Martin Factor'!C:D,2,FALSE) -> 4.5 | I12: =IF(OR((A12=""),(B12=""),(C12="")),"Enter data",(A12-C12-(B12/5))) -> 75.4 | J12: =IF(OR((A12=""),(B12=""),(C12="")),"Enter data",((A12-(C12+(0.16*B12))))) -> 77.92 | K12: =IF(OR((A12=""),(B12=""),(C12="")),"Enter data",((A12-C12-(B12*(0.203-(0.00011*B12)))))) -> 75.64759 | L12: =IF(OR((A12=""),(B12=""),(C12="")),"Enter data",((0.94*A12)-(0.94*C12)-(0.19*B12))) -> 70.75 | M12: =IF(OR((A12=""),(B12=""),(C12="")),"Enter data",((0.9*A12)-(0.9*(B12/5))-28)) -> 101.96 | N12: =IF(OR((A12=""),(B12=""),(C12="")),"Enter data",((A12/1.19)-(C12/1.1)+(B12/1.9)-38)) -> 64.363395 | O12: =IF(OR((A12=""),(B12=""),(C12="")),"Enter data",((A12-C12-B12/6))) -> 77.5 | P12: =IF(OR((A12=""),(B12=""),(C12="")),"Enter data",((A12-C12-(B12/6.58)))) -> 78.425532 | Q12: =IF(OR((A12=""),(B12=""),(C12="")),"Enter data",(((A12-C12)*0.9)-(B12*0.1))) -> 72.9 | R12: =IF(OR((A12=""),(B12=""),(C12="")),"Enter data",((0.7516*(A12-C12)))) -> 66.1408 | S12: =IF(OR((A12=""),(B12=""),(C12="")),"Enter data",((D12-(B12/H12)))) -> 74 | T12: =IF(OR((A12=""),(B12=""),(C12="")),"Enter data",((A12-(0.87*C12)-(0.13*(B12))))) -> 88.78 | V12: =IF(OR((A12=""),(B12=""),(C12="")),"Enter data",IF(I12<100,"Optimal",IF(I12<130,"Near optimal/Above optimal",IF(I12<160,"Borderline high",IF(I12<190,"High","Very High"))))) -> Optimal | W12: =IF(OR((A12=""),(B12=""),(C12="")),"Enter data",IF(J12<100,"Optimal",IF(J12<130,"Near optimal/Above optimal",IF(J12<160,"Borderline high",IF(J12<190,"High","Very High"))))) -> Optimal | X12: =IF(OR((A12=""),(B12=""),(C12="")),"Enter data",IF(K12<100,"Optimal",IF(K12<130,"Near optimal/Above optimal",IF(K12<160,"Borderline high",IF(K12<190,"High","Very High"))))) -> Optimal | Y12: =IF(OR((A12=""),(B12=""),(C12="")),"Enter data",IF(L12<100,"Optimal",IF(L12<130,"Near optimal/Above optimal",IF(L12<160,"Borderline high",IF(L12<190,"High","Very High"))))) -> Optimal | Z12: =IF(OR((A12=""),(B12=""),(C12="")),"Enter data",IF(M12<100,"Optimal",IF(M12<130,"Near optimal/Above optimal",IF(M12<160,"Borderline high",IF(M12<190,"High","Very High"))))) -> Near optimal/Above optimal | AA12: =IF(OR((A12=""),(B12=""),(C12="")),"Enter data",IF(N12<100,"Optimal",IF(N12<130,"Near optimal/Above optimal",IF(N12<160,"Borderline high",IF(N12<190,"High","Very High"))))) -> Optimal | AB12: =IF(OR((A12=""),(B12=""),(C12="")),"Enter data",IF(O12<100,"Optimal",IF(O12<130,"Near optimal/Above optimal",IF(O12<160,"Borderline high",IF(O12<190,"High","Very High"))))) -> Optimal | AC12: =IF(OR((A12=""),(B12=""),(C12="")),"Enter data",IF(P12<100,"Optimal",IF(P12<130,"Near optimal/Above optimal",IF(P12<160,"Borderline high",IF(P12<190,"High","Very High"))))) -> Optimal | AD12: =IF(OR((A12=""),(B12=""),(C12="")),"Enter data",IF(Q12<100,"Optimal",IF(Q12<130,"Near optimal/Above optimal",IF(Q12<160,"Borderline high",IF(Q12<190,"High","Very High"))))) -> Optimal | AE12: =IF(OR((A12=""),(B12=""),(C12="")),"Enter data",IF(R12<100,"Optimal",IF(R12<130,"Near optimal/Above optimal",IF(R12<160,"Borderline high",IF(R12<190,"High","Very High"))))) -> Optimal | AF12: =IF(OR((A12=""),(B12=""),(C12="")),"Enter data",IF(S12<100,"Optimal",IF(S12<130,"Near optimal/Above optimal",IF(S12<160,"Borderline high",IF(S12<190,"High","Very High"))))) -> Optimal | AG12: =IF(OR((A12=""),(B12=""),(C12="")),"Enter data",IF(T12<100,"Optimal",IF(T12<130,"Near optimal/Above optimal",IF(T12<160,"Borderline high",IF(T12<190,"High","Very High"))))) -> Optimal | AH12: =IF(ISBLANK(U12),"Enter data",IF(U12<0,"Check data",IF(U12=0,"Check data",IF(U12<100,"Optimal",IF(U12<130,"Near optimal/Above optimal",IF(U12<160,"Borderline high",IF(U12<190,"Hihg","Very High"))))))) -> Enter data
A13: 160 | B13: 77 | C13: 64 | D13: =IF(OR((A13=""),(B13=""),(C13="")),"Enter data",A13-C13) -> 96 | E13: =IF(D13<100,"<100",IF(D13<130,"100-129",IF(D13<160,"130-159",IF(D13<190,"160-189",IF(D13<220,"190-219","220 or more"))))) -> <100 | F13: =IF(B13<50,"7-49",IF(B13<57,"50-56",IF(B13<62,"57-61",IF(B13<67,"62-66",IF(B13<72,"67-71",IF(B13<76,"72-75",IF(B13<80,"76-79",IF(B13<84,"80-83",IF(B13<88,"84-87",IF(B13<93,"88-92",IF(B13<97,"93-96",IF(B13<101,"97-100",IF(B13<106,"101-105",IF(B13<111,"106-110",IF(B13<116,"111-115",IF(B13<121,"116-120",IF(B13<127,"121-126",IF(B13<133,"127-132",IF(B13<139,"133-138",IF(B13<147,"139-146",IF(B13<155,"147-154",IF(B13<164,"155-163",IF(B13<174,"164-173",IF(B13<186,"174-185",IF(B13<202,"186-201",IF(B13<221,"202-220",IF(B13<248,"221-247",IF(B13<293,"248-292",IF(B13<400,"293-399","400-13975"))))))))))))))))))))))))))))) -> 76-79 | G13: =E13&F13 -> <10076-79 | H13: =VLOOKUP(G13,'Martin Factor'!C:D,2,FALSE) -> 4.9 | I13: =IF(OR((A13=""),(B13=""),(C13="")),"Enter data",(A13-C13-(B13/5))) -> 80.6 | J13: =IF(OR((A13=""),(B13=""),(C13="")),"Enter data",((A13-(C13+(0.16*B13))))) -> 83.68 | K13: =IF(OR((A13=""),(B13=""),(C13="")),"Enter data",((A13-C13-(B13*(0.203-(0.00011*B13)))))) -> 81.02119 | L13: =IF(OR((A13=""),(B13=""),(C13="")),"Enter data",((0.94*A13)-(0.94*C13)-(0.19*B13))) -> 75.61 | M13: =IF(OR((A13=""),(B13=""),(C13="")),"Enter data",((0.9*A13)-(0.9*(B13/5))-28)) -> 102.14 | N13: =IF(OR((A13=""),(B13=""),(C13="")),"Enter data",((A13/1.19)-(C13/1.1)+(B13/1.9)-38)) -> 78.798279 | O13: =IF(OR((A13=""),(B13=""),(C13="")),"Enter data",((A13-C13-B13/6))) -> 83.166667 | P13: =IF(OR((A13=""),(B13=""),(C13="")),"Enter data",((A13-C13-(B13/6.58)))) -> 84.297872 | Q13: =IF(OR((A13=""),(B13=""),(C13="")),"Enter data",(((A13-C13)*0.9)-(B13*0.1))) -> 78.7 | R13: =IF(OR((A13=""),(B13=""),(C13="")),"Enter data",((0.7516*(A13-C13)))) -> 72.1536 | S13: =IF(OR((A13=""),(B13=""),(C13="")),"Enter data",((D13-(B13/H13)))) -> 80.285714 | T13: =IF(OR((A13=""),(B13=""),(C13="")),"Enter data",((A13-(0.87*C13)-(0.13*(B13))))) -> 94.31 | V13: =IF(OR((A13=""),(B13=""),(C13="")),"Enter data",IF(I13<100,"Optimal",IF(I13<130,"Near optimal/Above optimal",IF(I13<160,"Borderline high",IF(I13<190,"High","Very High"))))) -> Optimal | W13: =IF(OR((A13=""),(B13=""),(C13="")),"Enter data",IF(J13<100,"Optimal",IF(J13<130,"Near optimal/Above optimal",IF(J13<160,"Borderline high",IF(J13<190,"High","Very High"))))) -> Optimal | X13: =IF(OR((A13=""),(B13=""),(C13="")),"Enter data",IF(K13<100,"Optimal",IF(K13<130,"Near optimal/Above optimal",IF(K13<160,"Borderline high",IF(K13<190,"High","Very High"))))) -> Optimal | Y13: =IF(OR((A13=""),(B13=""),(C13="")),"Enter data",IF(L13<100,"Optimal",IF(L13<130,"Near optimal/Above optimal",IF(L13<160,"Borderline high",IF(L13<190,"High","Very High"))))) -> Optimal | Z13: =IF(OR((A13=""),(B13=""),(C13="")),"Enter data",IF(M13<100,"Optimal",IF(M13<130,"Near optimal/Above optimal",IF(M13<160,"Borderline high",IF(M13<190,"High","Very High"))))) -> Near optimal/Above optimal | AA13: =IF(OR((A13=""),(B13=""),(C13="")),"Enter data",IF(N13<100,"Optimal",IF(N13<130,"Near optimal/Above optimal",IF(N13<160,"Borderline high",IF(N13<190,"High","Very High"))))) -> Optimal | AB13: =IF(OR((A13=""),(B13=""),(C13="")),"Enter data",IF(O13<100,"Optimal",IF(O13<130,"Near optimal/Above optimal",IF(O13<160,"Borderline high",IF(O13<190,"High","Very High"))))) -> Optimal | AC13: =IF(OR((A13=""),(B13=""),(C13="")),"Enter data",IF(P13<100,"Optimal",IF(P13<130,"Near optimal/Above optimal",IF(P13<160,"Borderline high",IF(P13<190,"High","Very High"))))) -> Optimal | AD13: =IF(OR((A13=""),(B13=""),(C13="")),"Enter data",IF(Q13<100,"Optimal",IF(Q13<130,"Near optimal/Above optimal",IF(Q13<160,"Borderline high",IF(Q13<190,"High","Very High"))))) -> Optimal | AE13: =IF(OR((A13=""),(B13=""),(C13="")),"Enter data",IF(R13<100,"Optimal",IF(R13<130,"Near optimal/Above optimal",IF(R13<160,"Borderline high",IF(R13<190,"High","Very High"))))) -> Optimal | AF13: =IF(OR((A13=""),(B13=""),(C13="")),"Enter data",IF(S13<100,"Optimal",IF(S13<130,"Near optimal/Above optimal",IF(S13<160,"Borderline high",IF(S13<190,"High","Very High"))))) -> Optimal | AG13: =IF(OR((A13=""),(B13=""),(C13="")),"Enter data",IF(T13<100,"Optimal",IF(T13<130,"Near optimal/Above optimal",IF(T13<160,"Borderline high",IF(T13<190,"High","Very High"))))) -> Optimal | AH13: =IF(ISBLANK(U13),"Enter data",IF(U13<0,"Check data",IF(U13=0,"Check data",IF(U13<100,"Optimal",IF(U13<130,"Near optimal/Above optimal",IF(U13<160,"Borderline high",IF(U13<190,"Hihg","Very High"))))))) -> Enter data
A14: 142 | B14: 76 | C14: 58 | D14: =IF(OR((A14=""),(B14=""),(C14="")),"Enter data",A14-C14) -> 84 | E14: =IF(D14<100,"<100",IF(D14<130,"100-129",IF(D14<160,"130-159",IF(D14<190,"160-189",IF(D14<220,"190-219","220 or more"))))) -> <100 | F14: =IF(B14<50,"7-49",IF(B14<57,"50-56",IF(B14<62,"57-61",IF(B14<67,"62-66",IF(B14<72,"67-71",IF(B14<76,"72-75",IF(B14<80,"76-79",IF(B14<84,"80-83",IF(B14<88,"84-87",IF(B14<93,"88-92",IF(B14<97,"93-96",IF(B14<101,"97-100",IF(B14<106,"101-105",IF(B14<111,"106-110",IF(B14<116,"111-115",IF(B14<121,"116-120",IF(B14<127,"121-126",IF(B14<133,"127-132",IF(B14<139,"133-138",IF(B14<147,"139-146",IF(B14<155,"147-154",IF(B14<164,"155-163",IF(B14<174,"164-173",IF(B14<186,"174-185",IF(B14<202,"186-201",IF(B14<221,"202-220",IF(B14<248,"221-247",IF(B14<293,"248-292",IF(B14<400,"293-399","400-13975"))))))))))))))))))))))))))))) -> 76-79 | G14: =E14&F14 -> <10076-79 | H14: =VLOOKUP(G14,'Martin Factor'!C:D,2,FALSE) -> 4.9 | I14: =IF(OR((A14=""),(B14=""),(C14="")),"Enter data",(A14-C14-(B14/5))) -> 68.8 | J14: =IF(OR((A14=""),(B14=""),(C14="")),"Enter data",((A14-(C14+(0.16*B14))))) -> 71.84 | K14: =IF(OR((A14=""),(B14=""),(C14="")),"Enter data",((A14-C14-(B14*(0.203-(0.00011*B14)))))) -> 69.20736 | L14: =IF(OR((A14=""),(B14=""),(C14="")),"Enter data",((0.94*A14)-(0.94*C14)-(0.19*B14))) -> 64.52 | M14: =IF(OR((A14=""),(B14=""),(C14="")),"Enter data",((0.9*A14)-(0.9*(B14/5))-28)) -> 86.12 | N14: =IF(OR((A14=""),(B14=""),(C14="")),"Enter data",((A14/1.19)-(C14/1.1)+(B14/1.9)-38)) -> 68.600458 | O14: =IF(OR((A14=""),(B14=""),(C14="")),"Enter data",((A14-C14-B14/6))) -> 71.333333 | P14: =IF(OR((A14=""),(B14=""),(C14="")),"Enter data",((A14-C14-(B14/6.58)))) -> 72.449848 | Q14: =IF(OR((A14=""),(B14=""),(C14="")),"Enter data",(((A14-C14)*0.9)-(B14*0.1))) -> 68 | R14: =IF(OR((A14=""),(B14=""),(C14="")),"Enter data",((0.7516*(A14-C14)))) -> 63.1344 | S14: =IF(OR((A14=""),(B14=""),(C14="")),"Enter data",((D14-(B14/H14)))) -> 68.489796 | T14: =IF(OR((A14=""),(B14=""),(C14="")),"Enter data",((A14-(0.87*C14)-(0.13*(B14))))) -> 81.66 | V14: =IF(OR((A14=""),(B14=""),(C14="")),"Enter data",IF(I14<100,"Optimal",IF(I14<130,"Near optimal/Above optimal",IF(I14<160,"Borderline high",IF(I14<190,"High","Very High"))))) -> Optimal | W14: =IF(OR((A14=""),(B14=""),(C14="")),"Enter data",IF(J14<100,"Optimal",IF(J14<130,"Near optimal/Above optimal",IF(J14<160,"Borderline high",IF(J14<190,"High","Very High"))))) -> Optimal | X14: =IF(OR((A14=""),(B14=""),(C14="")),"Enter data",IF(K14<100,"Optimal",IF(K14<130,"Near optimal/Above optimal",IF(K14<160,"Borderline high",IF(K14<190,"High","Very High"))))) -> Optimal | Y14: =IF(OR((A14=""),(B14=""),(C14="")),"Enter data",IF(L14<100,"Optimal",IF(L14<130,"Near optimal/Above optimal",IF(L14<160,"Borderline high",IF(L14<190,"High","Very High"))))) -> Optimal | Z14: =IF(OR((A14=""),(B14=""),(C14="")),"Enter data",IF(M14<100,"Optimal",IF(M14<130,"Near optimal/Above optimal",IF(M14<160,"Borderline high",IF(M14<190,"High","Very High"))))) -> Optimal | AA14: =IF(OR((A14=""),(B14=""),(C14="")),"Enter data",IF(N14<100,"Optimal",IF(N14<130,"Near optimal/Above optimal",IF(N14<160,"Borderline high",IF(N14<190,"High","Very High"))))) -> Optimal | AB14: =IF(OR((A14=""),(B14=""),(C14="")),"Enter data",IF(O14<100,"Optimal",IF(O14<130,"Near optimal/Above optimal",IF(O14<160,"Borderline high",IF(O14<190,"High","Very High"))))) -> Optimal | AC14: =IF(OR((A14=""),(B14=""),(C14="")),"Enter data",IF(P14<100,"Optimal",IF(P14<130,"Near optimal/Above optimal",IF(P14<160,"Borderline high",IF(P14<190,"High","Very High"))))) -> Optimal | AD14: =IF(OR((A14=""),(B14=""),(C14="")),"Enter data",IF(Q14<100,"Optimal",IF(Q14<130,"Near optimal/Above optimal",IF(Q14<160,"Borderline high",IF(Q14<190,"High","Very High"))))) -> Optimal | AE14: =IF(OR((A14=""),(B14=""),(C14="")),"Enter data",IF(R14<100,"Optimal",IF(R14<130,"Near optimal/Above optimal",IF(R14<160,"Borderline high",IF(R14<190,"High","Very High"))))) -> Optimal | AF14: =IF(OR((A14=""),(B14=""),(C14="")),"Enter data",IF(S14<100,"Optimal",IF(S14<130,"Near optimal/Above optimal",IF(S14<160,"Borderline high",IF(S14<190,"High","Very High"))))) -> Optimal | AG14: =IF(OR((A14=""),(B14=""),(C14="")),"Enter data",IF(T14<100,"Optimal",IF(T14<130,"Near optimal/Above optimal",IF(T14<160,"Borderline high",IF(T14<190,"High","Very High"))))) -> Optimal | AH14: =IF(ISBLANK(U14),"Enter data",IF(U14<0,"Check data",IF(U14=0,"Check data",IF(U14<100,"Optimal",IF(U14<130,"Near optimal/Above optimal",IF(U14<160,"Borderline high",IF(U14<190,"Hihg","Very High"))))))) -> Enter data
A15: 162 | B15: 99 | C15: 45 | D15: =IF(OR((A15=""),(B15=""),(C15="")),"Enter data",A15-C15) -> 117 | E15: =IF(D15<100,"<100",IF(D15<130,"100-129",IF(D15<160,"130-159",IF(D15<190,"160-189",IF(D15<220,"190-219","220 or more"))))) -> 100-129 | F15: =IF(B15<50,"7-49",IF(B15<57,"50-56",IF(B15<62,"57-61",IF(B15<67,"62-66",IF(B15<72,"67-71",IF(B15<76,"72-75",IF(B15<80,"76-79",IF(B15<84,"80-83",IF(B15<88,"84-87",IF(B15<93,"88-92",IF(B15<97,"93-96",IF(B15<101,"97-100",IF(B15<106,"101-105",IF(B15<111,"106-110",IF(B15<116,"111-115",IF(B15<121,"116-120",IF(B15<127,"121-126",IF(B15<133,"127-132",IF(B15<139,"133-138",IF(B15<147,"139-146",IF(B15<155,"147-154",IF(B15<164,"155-163",IF(B15<174,"164-173",IF(B15<186,"174-185",IF(B15<202,"186-201",IF(B15<221,"202-220",IF(B15<248,"221-247",IF(B15<293,"248-292",IF(B15<400,"293-399","400-13975"))))))))))))))))))))))))))))) -> 97-100 | G15: =E15&F15 -> 100-12997-100 | H15: =VLOOKUP(G15,'Martin Factor'!C:D,2,FALSE) -> 5.1 | I15: =IF(OR((A15=""),(B15=""),(C15="")),"Enter data",(A15-C15-(B15/5))) -> 97.2 | J15: =IF(OR((A15=""),(B15=""),(C15="")),"Enter data",((A15-(C15+(0.16*B15))))) -> 101.16 | K15: =IF(OR((A15=""),(B15=""),(C15="")),"Enter data",((A15-C15-(B15*(0.203-(0.00011*B15)))))) -> 97.98111 | L15: =IF(OR((A15=""),(B15=""),(C15="")),"Enter data",((0.94*A15)-(0.94*C15)-(0.19*B15))) -> 91.17 | M15: =IF(OR((A15=""),(B15=""),(C15="")),"Enter data",((0.9*A15)-(0.9*(B15/5))-28)) -> 99.98 | N15: =IF(OR((A15=""),(B15=""),(C15="")),"Enter data",((A15/1.19)-(C15/1.1)+(B15/1.9)-38)) -> 109.33063 | O15: =IF(OR((A15=""),(B15=""),(C15="")),"Enter data",((A15-C15-B15/6))) -> 100.5 | P15: =IF(OR((A15=""),(B15=""),(C15="")),"Enter data",((A15-C15-(B15/6.58)))) -> 101.95441 | Q15: =IF(OR((A15=""),(B15=""),(C15="")),"Enter data",(((A15-C15)*0.9)-(B15*0.1))) -> 95.4 | R15: =IF(OR((A15=""),(B15=""),(C15="")),"Enter data",((0.7516*(A15-C15)))) -> 87.9372 | S15: =IF(OR((A15=""),(B15=""),(C15="")),"Enter data",((D15-(B15/H15)))) -> 97.588235 | T15: =IF(OR((A15=""),(B15=""),(C15="")),"Enter data",((A15-(0.87*C15)-(0.13*(B15))))) -> 109.98 | V15: =IF(OR((A15=""),(B15=""),(C15="")),"Enter data",IF(I15<100,"Optimal",IF(I15<130,"Near optimal/Above optimal",IF(I15<160,"Borderline high",IF(I15<190,"High","Very High"))))) -> Optimal | W15: =IF(OR((A15=""),(B15=""),(C15="")),"Enter data",IF(J15<100,"Optimal",IF(J15<130,"Near optimal/Above optimal",IF(J15<160,"Borderline high",IF(J15<190,"High","Very High"))))) -> Near optimal/Above optimal | X15: =IF(OR((A15=""),(B15=""),(C15="")),"Enter data",IF(K15<100,"Optimal",IF(K15<130,"Near optimal/Above optimal",IF(K15<160,"Borderline high",IF(K15<190,"High","Very High"))))) -> Optimal | Y15: =IF(OR((A15=""),(B15=""),(C15="")),"Enter data",IF(L15<100,"Optimal",IF(L15<130,"Near optimal/Above optimal",IF(L15<160,"Borderline high",IF(L15<190,"High","Very High"))))) -> Optimal | Z15: =IF(OR((A15=""),(B15=""),(C15="")),"Enter data",IF(M15<100,"Optimal",IF(M15<130,"Near optimal/Above optimal",IF(M15<160,"Borderline high",IF(M15<190,"High","Very High"))))) -> Optimal | AA15: =IF(OR((A15=""),(B15=""),(C15="")),"Enter data",IF(N15<100,"Optimal",IF(N15<130,"Near optimal/Above optimal",IF(N15<160,"Borderline high",IF(N15<190,"High","Very High"))))) -> Near optimal/Above optimal | AB15: =IF(OR((A15=""),(B15=""),(C15="")),"Enter data",IF(O15<100,"Optimal",IF(O15<130,"Near optimal/Above optimal",IF(O15<160,"Borderline high",IF(O15<190,"High","Very High"))))) -> Near optimal/Above optimal | AC15: =IF(OR((A15=""),(B15=""),(C15="")),"Enter data",IF(P15<100,"Optimal",IF(P15<130,"Near optimal/Above optimal",IF(P15<160,"Borderline high",IF(P15<190,"High","Very High"))))) -> Near optimal/Above optimal | AD15: =IF(OR((A15=""),(B15=""),(C15="")),"Enter data",IF(Q15<100,"Optimal",IF(Q15<130,"Near optimal/Above optimal",IF(Q15<160,"Borderline high",IF(Q15<190,"High","Very High"))))) -> Optimal | AE15: =IF(OR((A15=""),(B15=""),(C15="")),"Enter data",IF(R15<100,"Optimal",IF(R15<130,"Near optimal/Above optimal",IF(R15<160,"Borderline high",IF(R15<190,"High","Very High"))))) -> Optimal | AF15: =IF(OR((A15=""),(B15=""),(C15="")),"Enter data",IF(S15<100,"Optimal",IF(S15<130,"Near optimal/Above optimal",IF(S15<160,"Borderline high",IF(S15<190,"High","Very High"))))) -> Optimal | AG15: =IF(OR((A15=""),(B15=""),(C15="")),"Enter data",IF(T15<100,"Optimal",IF(T15<130,"Near optimal/Above optimal",IF(T15<160,"Borderline high",IF(T15<190,"High","Very High"))))) -> Near optimal/Above optimal | AH15: =IF(ISBLANK(U15),"Enter data",IF(U15<0,"Check data",IF(U15=0,"Check data",IF(U15<100,"Optimal",IF(U15<130,"Near optimal/Above optimal",IF(U15<160,"Borderline high",IF(U15<190,"Hihg","Very High"))))))) -> Enter data
A16: 157 | B16: 120 | C16: 20 | D16: =IF(OR((A16=""),(B16=""),(C16="")),"Enter data",A16-C16) -> 137 | E16: =IF(D16<100,"<100",IF(D16<130,"100-129",IF(D16<160,"130-159",IF(D16<190,"160-189",IF(D16<220,"190-219","220 or more"))))) -> 130-159 | F16: =IF(B16<50,"7-49",IF(B16<57,"50-56",IF(B16<62,"57-61",IF(B16<67,"62-66",IF(B16<72,"67-71",IF(B16<76,"72-75",IF(B16<80,"76-79",IF(B16<84,"80-83",IF(B16<88,"84-87",IF(B16<93,"88-92",IF(B16<97,"93-96",IF(B16<101,"97-100",IF(B16<106,"101-105",IF(B16<111,"106-110",IF(B16<116,"111-115",IF(B16<121,"116-120",IF(B16<127,"121-126",IF(B16<133,"127-132",IF(B16<139,"133-138",IF(B16<147,"139-146",IF(B16<155,"147-154",IF(B16<164,"155-163",IF(B16<174,"164-173",IF(B16<186,"174-185",IF(B16<202,"186-201",IF(B16<221,"202-220",IF(B16<248,"221-247",IF(B16<293,"248-292",IF(B16<400,"293-399","400-13975"))))))))))))))))))))))))))))) -> 116-120 | G16: =E16&F16 -> 130-159116-120 | H16: =VLOOKUP(G16,'Martin Factor'!C:D,2,FALSE) -> 5.2 | I16: =IF(OR((A16=""),(B16=""),(C16="")),"Enter data",(A16-C16-(B16/5))) -> 113 | J16: =IF(OR((A16=""),(B16=""),(C16="")),"Enter data",((A16-(C16+(0.16*B16))))) -> 117.8 | K16: =IF(OR((A16=""),(B16=""),(C16="")),"Enter data",((A16-C16-(B16*(0.203-(0.00011*B16)))))) -> 114.224 | L16: =IF(OR((A16=""),(B16=""),(C16="")),"Enter data",((0.94*A16)-(0.94*C16)-(0.19*B16))) -> 105.98 | M16: =IF(OR((A16=""),(B16=""),(C16="")),"Enter data",((0.9*A16)-(0.9*(B16/5))-28)) -> 91.7 | N16: =IF(OR((A16=""),(B16=""),(C16="")),"Enter data",((A16/1.19)-(C16/1.1)+(B16/1.9)-38)) -> 138.90885 | O16: =IF(OR((A16=""),(B16=""),(C16="")),"Enter data",((A16-C16-B16/6))) -> 117 | P16: =IF(OR((A16=""),(B16=""),(C16="")),"Enter data",((A16-C16-(B16/6.58)))) -> 118.76292 | Q16: =IF(OR((A16=""),(B16=""),(C16="")),"Enter data",(((A16-C16)*0.9)-(B16*0.1))) -> 111.3 | R16: =IF(OR((A16=""),(B16=""),(C16="")),"Enter data",((0.7516*(A16-C16)))) -> 102.9692 | S16: =IF(OR((A16=""),(B16=""),(C16="")),"Enter data",((D16-(B16/H16)))) -> 113.92308 | T16: =IF(OR((A16=""),(B16=""),(C16="")),"Enter data",((A16-(0.87*C16)-(0.13*(B16))))) -> 124 | V16: =IF(OR((A16=""),(B16=""),(C16="")),"Enter data",IF(I16<100,"Optimal",IF(I16<130,"Near optimal/Above optimal",IF(I16<160,"Borderline high",IF(I16<190,"High","Very High"))))) -> Near optimal/Above optimal | W16: =IF(OR((A16=""),(B16=""),(C16="")),"Enter data",IF(J16<100,"Optimal",IF(J16<130,"Near optimal/Above optimal",IF(J16<160,"Borderline high",IF(J16<190,"High","Very High"))))) -> Near optimal/Above optimal | X16: =IF(OR((A16=""),(B16=""),(C16="")),"Enter data",IF(K16<100,"Optimal",IF(K16<130,"Near optimal/Above optimal",IF(K16<160,"Borderline high",IF(K16<190,"High","Very High"))))) -> Near optimal/Above optimal | Y16: =IF(OR((A16=""),(B16=""),(C16="")),"Enter data",IF(L16<100,"Optimal",IF(L16<130,"Near optimal/Above optimal",IF(L16<160,"Borderline high",IF(L16<190,"High","Very High"))))) -> Near optimal/Above optimal | Z16: =IF(OR((A16=""),(B16=""),(C16="")),"Enter data",IF(M16<100,"Optimal",IF(M16<130,"Near optimal/Above optimal",IF(M16<160,"Borderline high",IF(M16<190,"High","Very High"))))) -> Optimal | AA16: =IF(OR((A16=""),(B16=""),(C16="")),"Enter data",IF(N16<100,"Optimal",IF(N16<130,"Near optimal/Above optimal",IF(N16<160,"Borderline high",IF(N16<190,"High","Very High"))))) -> Borderline high | AB16: =IF(OR((A16=""),(B16=""),(C16="")),"Enter data",IF(O16<100,"Optimal",IF(O16<130,"Near optimal/Above optimal",IF(O16<160,"Borderline high",IF(O16<190,"High","Very High"))))) -> Near optimal/Above optimal | AC16: =IF(OR((A16=""),(B16=""),(C16="")),"Enter data",IF(P16<100,"Optimal",IF(P16<130,"Near optimal/Above optimal",IF(P16<160,"Borderline high",IF(P16<190,"High","Very High"))))) -> Near optimal/Above optimal | AD16: =IF(OR((A16=""),(B16=""),(C16="")),"Enter data",IF(Q16<100,"Optimal",IF(Q16<130,"Near optimal/Above optimal",IF(Q16<160,"Borderline high",IF(Q16<190,"High","Very High"))))) -> Near optimal/Above optimal | AE16: =IF(OR((A16=""),(B16=""),(C16="")),"Enter data",IF(R16<100,"Optimal",IF(R16<130,"Near optimal/Above optimal",IF(R16<160,"Borderline high",IF(R16<190,"High","Very High"))))) -> Near optimal/Above optimal | AF16: =IF(OR((A16=""),(B16=""),(C16="")),"Enter data",IF(S16<100,"Optimal",IF(S16<130,"Near optimal/Above optimal",IF(S16<160,"Borderline high",IF(S16<190,"High","Very High"))))) -> Near optimal/Above optimal | AG16: =IF(OR((A16=""),(B16=""),(C16="")),"Enter data",IF(T16<100,"Optimal",IF(T16<130,"Near optimal/Above optimal",IF(T16<160,"Borderline high",IF(T16<190,"High","Very High"))))) -> Near optimal/Above optimal | AH16: =IF(ISBLANK(U16),"Enter data",IF(U16<0,"Check data",IF(U16=0,"Check data",IF(U16<100,"Optimal",IF(U16<130,"Near optimal/Above optimal",IF(U16<160,"Borderline high",IF(U16<190,"Hihg","Very High"))))))) -> Enter data
A17: 137 | B17: 170 | C17: 30 | D17: =IF(OR((A17=""),(B17=""),(C17="")),"Enter data",A17-C17) -> 107 | E17: =IF(D17<100,"<100",IF(D17<130,"100-129",IF(D17<160,"130-159",IF(D17<190,"160-189",IF(D17<220,"190-219","220 or more"))))) -> 100-129 | F17: =IF(B17<50,"7-49",IF(B17<57,"50-56",IF(B17<62,"57-61",IF(B17<67,"62-66",IF(B17<72,"67-71",IF(B17<76,"72-75",IF(B17<80,"76-79",IF(B17<84,"80-83",IF(B17<88,"84-87",IF(B17<93,"88-92",IF(B17<97,"93-96",IF(B17<101,"97-100",IF(B17<106,"101-105",IF(B17<111,"106-110",IF(B17<116,"111-115",IF(B17<121,"116-120",IF(B17<127,"121-126",IF(B17<133,"127-132",IF(B17<139,"133-138",IF(B17<147,"139-146",IF(B17<155,"147-154",IF(B17<164,"155-163",IF(B17<174,"164-173",IF(B17<186,"174-185",IF(B17<202,"186-201",IF(B17<221,"202-220",IF(B17<248,"221-247",IF(B17<293,"248-292",IF(B17<400,"293-399","400-13975"))))))))))))))))))))))))))))) -> 164-173 | G17: =E17&F17 -> 100-129164-173 | H17: =VLOOKUP(G17,'Martin Factor'!C:D,2,FALSE) -> 6.3 | I17: =IF(OR((A17=""),(B17=""),(C17="")),"Enter data",(A17-C17-(B17/5))) -> 73 | J17: =IF(OR((A17=""),(B17=""),(C17="")),"Enter data",((A17-(C17+(0.16*B17))))) -> 79.8 | K17: =IF(OR((A17=""),(B17=""),(C17="")),"Enter data",((A17-C17-(B17*(0.203-(0.00011*B17)))))) -> 75.669 | L17: =IF(OR((A17=""),(B17=""),(C17="")),"Enter data",((0.94*A17)-(0.94*C17)-(0.19*B17))) -> 68.28 | M17: =IF(OR((A17=""),(B17=""),(C17="")),"Enter data",((0.9*A17)-(0.9*(B17/5))-28)) -> 64.7 | N17: =IF(OR((A17=""),(B17=""),(C17="")),"Enter data",((A17/1.19)-(C17/1.1)+(B17/1.9)-38)) -> 139.32701 | O17: =IF(OR((A17=""),(B17=""),(C17="")),"Enter data",((A17-C17-B17/6))) -> 78.666667 | P17: =IF(OR((A17=""),(B17=""),(C17="")),"Enter data",((A17-C17-(B17/6.58)))) -> 81.164134 | Q17: =IF(OR((A17=""),(B17=""),(C17="")),"Enter data",(((A17-C17)*0.9)-(B17*0.1))) -> 79.3 | R17: =IF(OR((A17=""),(B17=""),(C17="")),"Enter data",((0.7516*(A17-C17)))) -> 80.4212 | S17: =IF(OR((A17=""),(B17=""),(C17="")),"Enter data",((D17-(B17/H17)))) -> 80.015873 | T17: =IF(OR((A17=""),(B17=""),(C17="")),"Enter data",((A17-(0.87*C17)-(0.13*(B17))))) -> 88.8 | V17: =IF(OR((A17=""),(B17=""),(C17="")),"Enter data",IF(I17<100,"Optimal",IF(I17<130,"Near optimal/Above optimal",IF(I17<160,"Borderline high",IF(I17<190,"High","Very High"))))) -> Optimal | W17: =IF(OR((A17=""),(B17=""),(C17="")),"Enter data",IF(J17<100,"Optimal",IF(J17<130,"Near optimal/Above optimal",IF(J17<160,"Borderline high",IF(J17<190,"High","Very High"))))) -> Optimal | X17: =IF(OR((A17=""),(B17=""),(C17="")),"Enter data",IF(K17<100,"Optimal",IF(K17<130,"Near optimal/Above optimal",IF(K17<160,"Borderline high",IF(K17<190,"High","Very High"))))) -> Optimal | Y17: =IF(OR((A17=""),(B17=""),(C17="")),"Enter data",IF(L17<100,"Optimal",IF(L17<130,"Near optimal/Above optimal",IF(L17<160,"Borderline high",IF(L17<190,"High","Very High"))))) -> Optimal | Z17: =IF(OR((A17=""),(B17=""),(C17="")),"Enter data",IF(M17<100,"Optimal",IF(M17<130,"Near optimal/Above optimal",IF(M17<160,"Borderline high",IF(M17<190,"High","Very High"))))) -> Optimal | AA17: =IF(OR((A17=""),(B17=""),(C17="")),"Enter data",IF(N17<100,"Optimal",IF(N17<130,"Near optimal/Above optimal",IF(N17<160,"Borderline high",IF(N17<190,"High","Very High"))))) -> Borderline high | AB17: =IF(OR((A17=""),(B17=""),(C17="")),"Enter data",IF(O17<100,"Optimal",IF(O17<130,"Near optimal/Above optimal",IF(O17<160,"Borderline high",IF(O17<190,"High","Very High"))))) -> Optimal | AC17: =IF(OR((A17=""),(B17=""),(C17="")),"Enter data",IF(P17<100,"Optimal",IF(P17<130,"Near optimal/Above optimal",IF(P17<160,"Borderline high",IF(P17<190,"High","Very High"))))) -> Optimal | AD17: =IF(OR((A17=""),(B17=""),(C17="")),"Enter data",IF(Q17<100,"Optimal",IF(Q17<130,"Near optimal/Above optimal",IF(Q17<160,"Borderline high",IF(Q17<190,"High","Very High"))))) -> Optimal | AE17: =IF(OR((A17=""),(B17=""),(C17="")),"Enter data",IF(R17<100,"Optimal",IF(R17<130,"Near optimal/Above optimal",IF(R17<160,"Borderline high",IF(R17<190,"High","Very High"))))) -> Optimal | AF17: =IF(OR((A17=""),(B17=""),(C17="")),"Enter data",IF(S17<100,"Optimal",IF(S17<130,"Near optimal/Above optimal",IF(S17<160,"Borderline high",IF(S17<190,"High","Very High"))))) -> Optimal | AG17: =IF(OR((A17=""),(B17=""),(C17="")),"Enter data",IF(T17<100,"Optimal",IF(T17<130,"Near optimal/Above optimal",IF(T17<160,"Borderline high",IF(T17<190,"High","Very High"))))) -> Optimal | AH17: =IF(ISBLANK(U17),"Enter data",IF(U17<0,"Check data",IF(U17=0,"Check data",IF(U17<100,"Optimal",IF(U17<130,"Near optimal/Above optimal",IF(U17<160,"Borderline high",IF(U17<190,"Hihg","Very High"))))))) -> Enter data
A18: 205 | B18: 160 | C18: 27 | D18: =IF(OR((A18=""),(B18=""),(C18="")),"Enter data",A18-C18) -> 178 | E18: =IF(D18<100,"<100",IF(D18<130,"100-129",IF(D18<160,"130-159",IF(D18<190,"160-189",IF(D18<220,"190-219","220 or more"))))) -> 160-189 | F18: =IF(B18<50,"7-49",IF(B18<57,"50-56",IF(B18<62,"57-61",IF(B18<67,"62-66",IF(B18<72,"67-71",IF(B18<76,"72-75",IF(B18<80,"76-79",IF(B18<84,"80-83",IF(B18<88,"84-87",IF(B18<93,"88-92",IF(B18<97,"93-96",IF(B18<101,"97-100",IF(B18<106,"101-105",IF(B18<111,"106-110",IF(B18<116,"111-115",IF(B18<121,"116-120",IF(B18<127,"121-126",IF(B18<133,"127-132",IF(B18<139,"133-138",IF(B18<147,"139-146",IF(B18<155,"147-154",IF(B18<164,"155-163",IF(B18<174,"164-173",IF(B18<186,"174-185",IF(B18<202,"186-201",IF(B18<221,"202-220",IF(B18<248,"221-247",IF(B18<293,"248-292",IF(B18<400,"293-399","400-13975"))))))))))))))))))))))))))))) -> 155-163 | G18: =E18&F18 -> 160-189155-163 | H18: =VLOOKUP(G18,'Martin Factor'!C:D,2,FALSE) -> 5.4 | I18: =IF(OR((A18=""),(B18=""),(C18="")),"Enter data",(A18-C18-(B18/5))) -> 146 | J18: =IF(OR((A18=""),(B18=""),(C18="")),"Enter data",((A18-(C18+(0.16*B18))))) -> 152.4 | K18: =IF(OR((A18=""),(B18=""),(C18="")),"Enter data",((A18-C18-(B18*(0.203-(0.00011*B18)))))) -> 148.336 | L18: =IF(OR((A18=""),(B18=""),(C18="")),"Enter data",((0.94*A18)-(0.94*C18)-(0.19*B18))) -> 136.92 | M18: =IF(OR((A18=""),(B18=""),(C18="")),"Enter data",((0.9*A18)-(0.9*(B18/5))-28)) -> 127.7 | N18: =IF(OR((A18=""),(B18=""),(C18="")),"Enter data",((A18/1.19)-(C18/1.1)+(B18/1.9)-38)) -> 193.93398 | O18: =IF(OR((A18=""),(B18=""),(C18="")),"Enter data",((A18-C18-B18/6))) -> 151.33333 | P18: =IF(OR((A18=""),(B18=""),(C18="")),"Enter data",((A18-C18-(B18/6.58)))) -> 153.68389 | Q18: =IF(OR((A18=""),(B18=""),(C18="")),"Enter data",(((A18-C18)*0.9)-(B18*0.1))) -> 144.2 | R18: =IF(OR((A18=""),(B18=""),(C18="")),"Enter data",((0.7516*(A18-C18)))) -> 133.7848 | S18: =IF(OR((A18=""),(B18=""),(C18="")),"Enter data",((D18-(B18/H18)))) -> 148.37037 | T18: =IF(OR((A18=""),(B18=""),(C18="")),"Enter data",((A18-(0.87*C18)-(0.13*(B18))))) -> 160.71 | V18: =IF(OR((A18=""),(B18=""),(C18="")),"Enter data",IF(I18<100,"Optimal",IF(I18<130,"Near optimal/Above optimal",IF(I18<160,"Borderline high",IF(I18<190,"High","Very High"))))) -> Borderline high | W18: =IF(OR((A18=""),(B18=""),(C18="")),"Enter data",IF(J18<100,"Optimal",IF(J18<130,"Near optimal/Above optimal",IF(J18<160,"Borderline high",IF(J18<190,"High","Very High"))))) -> Borderline high | X18: =IF(OR((A18=""),(B18=""),(C18="")),"Enter data",IF(K18<100,"Optimal",IF(K18<130,"Near optimal/Above optimal",IF(K18<160,"Borderline high",IF(K18<190,"High","Very High"))))) -> Borderline high | Y18: =IF(OR((A18=""),(B18=""),(C18="")),"Enter data",IF(L18<100,"Optimal",IF(L18<130,"Near optimal/Above optimal",IF(L18<160,"Borderline high",IF(L18<190,"High","Very High"))))) -> Borderline high | Z18: =IF(OR((A18=""),(B18=""),(C18="")),"Enter data",IF(M18<100,"Optimal",IF(M18<130,"Near optimal/Above optimal",IF(M18<160,"Borderline high",IF(M18<190,"High","Very High"))))) -> Near optimal/Above optimal | AA18: =IF(OR((A18=""),(B18=""),(C18="")),"Enter data",IF(N18<100,"Optimal",IF(N18<130,"Near optimal/Above optimal",IF(N18<160,"Borderline high",IF(N18<190,"High","Very High"))))) -> Very High | AB18: =IF(OR((A18=""),(B18=""),(C18="")),"Enter data",IF(O18<100,"Optimal",IF(O18<130,"Near optimal/Above optimal",IF(O18<160,"Borderline high",IF(O18<190,"High","Very High"))))) -> Borderline high | AC18: =IF(OR((A18=""),(B18=""),(C18="")),"Enter data",IF(P18<100,"Optimal",IF(P18<130,"Near optimal/Above optimal",IF(P18<160,"Borderline high",IF(P18<190,"High","Very High"))))) -> Borderline high | AD18: =IF(OR((A18=""),(B18=""),(C18="")),"Enter data",IF(Q18<100,"Optimal",IF(Q18<130,"Near optimal/Above optimal",IF(Q18<160,"Borderline high",IF(Q18<190,"High","Very High"))))) -> Borderline high | AE18: =IF(OR((A18=""),(B18=""),(C18="")),"Enter data",IF(R18<100,"Optimal",IF(R18<130,"Near optimal/Above optimal",IF(R18<160,"Borderline high",IF(R18<190,"High","Very High"))))) -> Borderline high | AF18: =IF(OR((A18=""),(B18=""),(C18="")),"Enter data",IF(S18<100,"Optimal",IF(S18<130,"Near optimal/Above optimal",IF(S18<160,"Borderline high",IF(S18<190,"High","Very High"))))) -> Borderline high | AG18: =IF(OR((A18=""),(B18=""),(C18="")),"Enter data",IF(T18<100,"Optimal",IF(T18<130,"Near optimal/Above optimal",IF(T18<160,"Borderline high",IF(T18<190,"High","Very High"))))) -> High | AH18: =IF(ISBLANK(U18),"Enter data",IF(U18<0,"Check data",IF(U18=0,"Check data",IF(U18<100,"Optimal",IF(U18<130,"Near optimal/Above optimal",IF(U18<160,"Borderline high",IF(U18<190,"Hihg","Very High"))))))) -> Enter data
A19: 173 | B19: 135 | C19: 43 | D19: =IF(OR((A19=""),(B19=""),(C19="")),"Enter data",A19-C19) -> 130 | E19: =IF(D19<100,"<100",IF(D19<130,"100-129",IF(D19<160,"130-159",IF(D19<190,"160-189",IF(D19<220,"190-219","220 or more"))))) -> 130-159 | F19: =IF(B19<50,"7-49",IF(B19<57,"50-56",IF(B19<62,"57-61",IF(B19<67,"62-66",IF(B19<72,"67-71",IF(B19<76,"72-75",IF(B19<80,"76-79",IF(B19<84,"80-83",IF(B19<88,"84-87",IF(B19<93,"88-92",IF(B19<97,"93-96",IF(B19<101,"97-100",IF(B19<106,"101-105",IF(B19<111,"106-110",IF(B19<116,"111-115",IF(B19<121,"116-120",IF(B19<127,"121-126",IF(B19<133,"127-132",IF(B19<139,"133-138",IF(B19<147,"139-146",IF(B19<155,"147-154",IF(B19<164,"155-163",IF(B19<174,"164-173",IF(B19<186,"174-185",IF(B19<202,"186-201",IF(B19<221,"202-220",IF(B19<248,"221-247",IF(B19<293,"248-292",IF(B19<400,"293-399","400-13975"))))))))))))))))))))))))))))) -> 133-138 | G19: =E19&F19 -> 130-159133-138 | H19: =VLOOKUP(G19,'Martin Factor'!C:D,2,FALSE) -> 5.4 | I19: =IF(OR((A19=""),(B19=""),(C19="")),"Enter data",(A19-C19-(B19/5))) -> 103 | J19: =IF(OR((A19=""),(B19=""),(C19="")),"Enter data",((A19-(C19+(0.16*B19))))) -> 108.4 | K19: =IF(OR((A19=""),(B19=""),(C19="")),"Enter data",((A19-C19-(B19*(0.203-(0.00011*B19)))))) -> 104.59975 | L19: =IF(OR((A19=""),(B19=""),(C19="")),"Enter data",((0.94*A19)-(0.94*C19)-(0.19*B19))) -> 96.55 | M19: =IF(OR((A19=""),(B19=""),(C19="")),"Enter data",((0.9*A19)-(0.9*(B19/5))-28)) -> 103.4 | N19: =IF(OR((A19=""),(B19=""),(C19="")),"Enter data",((A19/1.19)-(C19/1.1)+(B19/1.9)-38)) -> 139.33987 | O19: =IF(OR((A19=""),(B19=""),(C19="")),"Enter data",((A19-C19-B19/6))) -> 107.5 | P19: =IF(OR((A19=""),(B19=""),(C19="")),"Enter data",((A19-C19-(B19/6.58)))) -> 109.48328 | Q19: =IF(OR((A19=""),(B19=""),(C19="")),"Enter data",(((A19-C19)*0.9)-(B19*0.1))) -> 103.5 | R19: =IF(OR((A19=""),(B19=""),(C19="")),"Enter data",((0.7516*(A19-C19)))) -> 97.708 | S19: =IF(OR((A19=""),(B19=""),(C19="")),"Enter data",((D19-(B19/H19)))) -> 105 | T19: =IF(OR((A19=""),(B19=""),(C19="")),"Enter data",((A19-(0.87*C19)-(0.13*(B19))))) -> 118.04 | V19: =IF(OR((A19=""),(B19=""),(C19="")),"Enter data",IF(I19<100,"Optimal",IF(I19<130,"Near optimal/Above optimal",IF(I19<160,"Borderline high",IF(I19<190,"High","Very High"))))) -> Near optimal/Above optimal | W19: =IF(OR((A19=""),(B19=""),(C19="")),"Enter data",IF(J19<100,"Optimal",IF(J19<130,"Near optimal/Above optimal",IF(J19<160,"Borderline high",IF(J19<190,"High","Very High"))))) -> Near optimal/Above optimal | X19: =IF(OR((A19=""),(B19=""),(C19="")),"Enter data",IF(K19<100,"Optimal",IF(K19<130,"Near optimal/Above optimal",IF(K19<160,"Borderline high",IF(K19<190,"High","Very High"))))) -> Near optimal/Above optimal | Y19: =IF(OR((A19=""),(B19=""),(C19="")),"Enter data",IF(L19<100,"Optimal",IF(L19<130,"Near optimal/Above optimal",IF(L19<160,"Borderline high",IF(L19<190,"High","Very High"))))) -> Optimal | Z19: =IF(OR((A19=""),(B19=""),(C19="")),"Enter data",IF(M19<100,"Optimal",IF(M19<130,"Near optimal/Above optimal",IF(M19<160,"Borderline high",IF(M19<190,"High","Very High"))))) -> Near optimal/Above optimal | AA19: =IF(OR((A19=""),(B19=""),(C19="")),"Enter data",IF(N19<100,"Optimal",IF(N19<130,"Near optimal/Above optimal",IF(N19<160,"Borderline high",IF(N19<190,"High","Very High"))))) -> Borderline high | AB19: =IF(OR((A19=""),(B19=""),(C19="")),"Enter data",IF(O19<100,"Optimal",IF(O19<130,"Near optimal/Above optimal",IF(O19<160,"Borderline high",IF(O19<190,"High","Very High"))))) -> Near optimal/Above optimal | AC19: =IF(OR((A19=""),(B19=""),(C19="")),"Enter data",IF(P19<100,"Optimal",IF(P19<130,"Near optimal/Above optimal",IF(P19<160,"Borderline high",IF(P19<190,"High","Very High"))))) -> Near optimal/Above optimal | AD19: =IF(OR((A19=""),(B19=""),(C19="")),"Enter data",IF(Q19<100,"Optimal",IF(Q19<130,"Near optimal/Above optimal",IF(Q19<160,"Borderline high",IF(Q19<190,"High","Very High"))))) -> Near optimal/Above optimal | AE19: =IF(OR((A19=""),(B19=""),(C19="")),"Enter data",IF(R19<100,"Optimal",IF(R19<130,"Near optimal/Above optimal",IF(R19<160,"Borderline high",IF(R19<190,"High","Very High"))))) -> Optimal | AF19: =IF(OR((A19=""),(B19=""),(C19="")),"Enter data",IF(S19<100,"Optimal",IF(S19<130,"Near optimal/Above optimal",IF(S19<160,"Borderline high",IF(S19<190,"High","Very High"))))) -> Near optimal/Above optimal | AG19: =IF(OR((A19=""),(B19=""),(C19="")),"Enter data",IF(T19<100,"Optimal",IF(T19<130,"Near optimal/Above optimal",IF(T19<160,"Borderline high",IF(T19<190,"High","Very High"))))) -> Near optimal/Above optimal | AH19: =IF(ISBLANK(U19),"Enter data",IF(U19<0,"Check data",IF(U19=0,"Check data",IF(U19<100,"Optimal",IF(U19<130,"Near optimal/Above optimal",IF(U19<160,"Borderline high",IF(U19<190,"Hihg","Very High"))))))) -> Enter data
A20: 207 | B20: 117 | C20: 55 | D20: =IF(OR((A20=""),(B20=""),(C20="")),"Enter data",A20-C20) -> 152 | E20: =IF(D20<100,"<100",IF(D20<130,"100-129",IF(D20<160,"130-159",IF(D20<190,"160-189",IF(D20<220,"190-219","220 or more"))))) -> 130-159 | F20: =IF(B20<50,"7-49",IF(B20<57,"50-56",IF(B20<62,"57-61",IF(B20<67,"62-66",IF(B20<72,"67-71",IF(B20<76,"72-75",IF(B20<80,"76-79",IF(B20<84,"80-83",IF(B20<88,"84-87",IF(B20<93,"88-92",IF(B20<97,"93-96",IF(B20<101,"97-100",IF(B20<106,"101-105",IF(B20<111,"106-110",IF(B20<116,"111-115",IF(B20<121,"116-120",IF(B20<127,"121-126",IF(B20<133,"127-132",IF(B20<139,"133-138",IF(B20<147,"139-146",IF(B20<155,"147-154",IF(B20<164,"155-163",IF(B20<174,"164-173",IF(B20<186,"174-185",IF(B20<202,"186-201",IF(B20<221,"202-220",IF(B20<248,"221-247",IF(B20<293,"248-292",IF(B20<400,"293-399","400-13975"))))))))))))))))))))))))))))) -> 116-120 | G20: =E20&F20 -> 130-159116-120 | H20: =VLOOKUP(G20,'Martin Factor'!C:D,2,FALSE) -> 5.2 | I20: =IF(OR((A20=""),(B20=""),(C20="")),"Enter data",(A20-C20-(B20/5))) -> 128.6 | J20: =IF(OR((A20=""),(B20=""),(C20="")),"Enter data",((A20-(C20+(0.16*B20))))) -> 133.28 | K20: =IF(OR((A20=""),(B20=""),(C20="")),"Enter data",((A20-C20-(B20*(0.203-(0.00011*B20)))))) -> 129.75479 | L20: =IF(OR((A20=""),(B20=""),(C20="")),"Enter data",((0.94*A20)-(0.94*C20)-(0.19*B20))) -> 120.65 | M20: =IF(OR((A20=""),(B20=""),(C20="")),"Enter data",((0.9*A20)-(0.9*(B20/5))-28)) -> 137.24 | N20: =IF(OR((A20=""),(B20=""),(C20="")),"Enter data",((A20/1.19)-(C20/1.1)+(B20/1.9)-38)) -> 147.52853 | O20: =IF(OR((A20=""),(B20=""),(C20="")),"Enter data",((A20-C20-B20/6))) -> 132.5 | P20: =IF(OR((A20=""),(B20=""),(C20="")),"Enter data",((A20-C20-(B20/6.58)))) -> 134.21884 | Q20: =IF(OR((A20=""),(B20=""),(C20="")),"Enter data",(((A20-C20)*0.9)-(B20*0.1))) -> 125.1 | R20: =IF(OR((A20=""),(B20=""),(C20="")),"Enter data",((0.7516*(A20-C20)))) -> 114.2432 | S20: =IF(OR((A20=""),(B20=""),(C20="")),"Enter data",((D20-(B20/H20)))) -> 129.5 | T20: =IF(OR((A20=""),(B20=""),(C20="")),"Enter data",((A20-(0.87*C20)-(0.13*(B20))))) -> 143.94 | V20: =IF(OR((A20=""),(B20=""),(C20="")),"Enter data",IF(I20<100,"Optimal",IF(I20<130,"Near optimal/Above optimal",IF(I20<160,"Borderline high",IF(I20<190,"High","Very High"))))) -> Near optimal/Above optimal | W20: =IF(OR((A20=""),(B20=""),(C20="")),"Enter data",IF(J20<100,"Optimal",IF(J20<130,"Near optimal/Above optimal",IF(J20<160,"Borderline high",IF(J20<190,"High","Very High"))))) -> Borderline high | X20: =IF(OR((A20=""),(B20=""),(C20="")),"Enter data",IF(K20<100,"Optimal",IF(K20<130,"Near optimal/Above optimal",IF(K20<160,"Borderline high",IF(K20<190,"High","Very High"))))) -> Near optimal/Above optimal | Y20: =IF(OR((A20=""),(B20=""),(C20="")),"Enter data",IF(L20<100,"Optimal",IF(L20<130,"Near optimal/Above optimal",IF(L20<160,"Borderline high",IF(L20<190,"High","Very High"))))) -> Near optimal/Above optimal | Z20: =IF(OR((A20=""),(B20=""),(C20="")),"Enter data",IF(M20<100,"Optimal",IF(M20<130,"Near optimal/Above optimal",IF(M20<160,"Borderline high",IF(M20<190,"High","Very High"))))) -> Borderline high | AA20: =IF(OR((A20=""),(B20=""),(C20="")),"Enter data",IF(N20<100,"Optimal",IF(N20<130,"Near optimal/Above optimal",IF(N20<160,"Borderline high",IF(N20<190,"High","Very High"))))) -> Borderline high | AB20: =IF(OR((A20=""),(B20=""),(C20="")),"Enter data",IF(O20<100,"Optimal",IF(O20<130,"Near optimal/Above optimal",IF(O20<160,"Borderline high",IF(O20<190,"High","Very High"))))) -> Borderline high | AC20: =IF(OR((A20=""),(B20=""),(C20="")),"Enter data",IF(P20<100,"Optimal",IF(P20<130,"Near optimal/Above optimal",IF(P20<160,"Borderline high",IF(P20<190,"High","Very High"))))) -> Borderline high | AD20: =IF(OR((A20=""),(B20=""),(C20="")),"Enter data",IF(Q20<100,"Optimal",IF(Q20<130,"Near optimal/Above optimal",IF(Q20<160,"Borderline high",IF(Q20<190,"High","Very High"))))) -> Near optimal/Above optimal | AE20: =IF(OR((A20=""),(B20=""),(C20="")),"Enter data",IF(R20<100,"Optimal",IF(R20<130,"Near optimal/Above optimal",IF(R20<160,"Borderline high",IF(R20<190,"High","Very High"))))) -> Near optimal/Above optimal | AF20: =IF(OR((A20=""),(B20=""),(C20="")),"Enter data",IF(S20<100,"Optimal",IF(S20<130,"Near optimal/Above optimal",IF(S20<160,"Borderline high",IF(S20<190,"High","Very High"))))) -> Near optimal/Above optimal | AG20: =IF(OR((A20=""),(B20=""),(C20="")),"Enter data",IF(T20<100,"Optimal",IF(T20<130,"Near optimal/Above optimal",IF(T20<160,"Borderline high",IF(T20<190,"High","Very High"))))) -> Borderline high | AH20: =IF(ISBLANK(U20),"Enter data",IF(U20<0,"Check data",IF(U20=0,"Check data",IF(U20<100,"Optimal",IF(U20<130,"Near optimal/Above optimal",IF(U20<160,"Borderline high",IF(U20<190,"Hihg","Very High"))))))) -> Enter data

Sheet Martin Factor
A1: Non-HDLC group | B1: Triglyceride group | C1: Non-HDLC&Tgcombination | D1: Martin Factor
A2: <100 | B2: 101-105 | C2: <100101-105 | D2: 5.5
A3: 100-129 | B3: 101-105 | C3: 100-129101-105 | D3: 5.2
A4: 130-159 | B4: 101-105 | C4: 130-159101-105 | D4: 5
A5: 160-189 | B5: 101-105 | C5: 160-189101-105 | D5: 4.7
A6: 190-219 | B6: 101-105 | C6: 190-219101-105 | D6: 4.6
A7: 220 or more | B7: 101-105 | C7: 220 or more101-105 | D7: 4.5
A8: <100 | B8: 106-110 | C8: <100106-110 | D8: 5.6
A9: 100-129 | B9: 106-110 | C9: 100-129106-110 | D9: 5.3
A10: 130-159 | B10: 106-110 | C10: 130-159106-110 | D10: 5
A11: 160-189 | B11: 106-110 | C11: 160-189106-110 | D11: 4.8
A12: 190-219 | B12: 106-110 | C12: 190-219106-110 | D12: 4.6
A13: 220 or more | B13: 106-110 | C13: 220 or more106-110 | D13: 4.5
... A173: 190-219 | B173: 97-100 | C173: 190-21997-100 | D173: 4.5
