Workbook
Name Count_Missed_Items: [1]CHEERS_Checklist!$C$44:$AD$44
Name Count_Missed_Items: CHEERS_Checklist!$E$62:$AF$62
Name Count_NA: [1]CHEERS_Checklist!$C$47:$AD$47
Name Count_NA: CHEERS_Checklist!$E$65:$AF$65
Name COUNT_Y: [1]CHEERS_Checklist!$C$49:$AD$49
Name COUNT_Y: CHEERS_Checklist!$E$67:$AF$67

Sheet Manuscript Information
A1: Table S2
A2: CHEERS 2022 Checklist Results
A3: Title: | B3: Handling uncertainty in cost-effectiveness analyses in dental medicine: a systematic review with a focus on affordability and risk-aversion
A4: Journal: | B4: Cost Effectiveness and Resource Allocation
A5: Authors: | B5: *P Sendi (1,2)
B6: M Walterscheidt (1)
B7: M Bornstein (1)
A8: Affiliations: | B8: 1 Clinic for Oral Health & Medicine, Basel University Dental Center, Mattenstrasse 40, 4058 Basel, Switzerland
B9: 2 Division of Clinical Epidemiology, Basel University Hospital, Totengässlein 3, 4051 Basel, Switzerland
A10: *Corresponding Author: | B10: Pedram Sendi, MD, DDS, PhD
B11: Division of Clinical Epidemiology, Basel University Hospital, Totengässlein 3, 4051 Basel, Switzerland
B12: pedram.sendi@unibas.ch

Sheet CHEERS_Checklist
B1: CHEERS 2022 Checklist
E2: Section/Item
B3: First Author | C3: Year | D3: Reference | E3: 1. Economic Evaluation clearly stated in Title | F3: 2.Structured Abstract | G3: 3.Introduction Provides Context | H3: 4. Health economic analysis plan | I3: 5. Study Population described | J3: 6. Setting and Location | K3: 7. Comparators described | L3: 8 Study Perspective stated | M3: 9. Time Horizon | N3: 10. Discount Rate | O3: 11. Selection of Outcomes | P3: 12. Measurement of Outcomes | Q3: 13. Valuation of Outcomes | R3: 14. Measurement and valuation of resources and costs | S3: 15. Currency, price and conversion | T3: 16. Rationale and description of model | U3: 17. Analytics and assumptions | V3: 18. Characterizing heterogeneity | W3: 19. Characterizing distributional effects | X3: 20. Characterizing uncertainty | Y3: 21. Approach to engagement with patients and others affected by the study | Z3: 22. Study parameters | AA3: 23. Summary of main results | AB3: 24. Effect of uncertainty | AC3: 25. Effect of engangement of patients and others affected by the study | AD3: 26. Disucssion including study findings, limitations, generalizability and current knowledge | AE3: 27. Source of funding | AF3: 28. Conflicts of interest | AI3: Reporting Compliance
B4: Ahn et al. | C4: 2022 | D4: 46 | E4: Y | F4: Y | G4: Y | H4: N | I4: Y | J4: Y | K4: Y | L4: Y | M4: Y | N4: N | O4: Y | P4: Y | Q4: Y | R4: Y | S4: N | T4: NA | U4: Y | V4: Y | W4: N | X4: P | Y4: N | Z4: Y | AA4: Y | AB4: P | AC4: N | AD4: Y | AE4: Y | AF4: Y | AG4: =COUNTIF($E4:$AF4,"Y")+COUNTIF($E4:$AF4,"P")/2 -> 20 | AH4: =COUNTA($E4:$AF4)-COUNTIF($E4:$AF4,"NA") -> 27 | AI4: =$AG4/$AH4 -> 0.74074074 | AK4: 2017
B5: Anopa et al. | C5: 2023 | D5: 47 | E5: Y | F5: Y | G5: Y | H5: Y | I5: y | J5: y | K5: Y | L5: y | M5: y | N5: y | O5: y | P5: y | Q5: y | R5: Y | S5: Y | T5: NA | U5: Y | V5: N | W5: N | X5: y | Y5: N | Z5: Y | AA5: Y | AB5: Y | AC5: N | AD5: Y | AE5: Y | AF5: Y | AG5: =COUNTIF($E5:$AF5,"Y")+COUNTIF($E5:$AF5,"P")/2 -> 23 | AH5: =COUNTA($E5:$AF5)-COUNTIF($E5:$AF5,"NA") -> 27 | AI5: =$AG5/$AH5 -> 0.85185185 | AK5: 2014
B6: Björksved et al. | C6: 2021 | D6: 48 | E6: Y | F6: Y | G6: Y | H6: N | I6: Y | J6: Y | K6: Y | L6: Y | M6: Y | N6: y | O6: Y | P6: Y | Q6: N | R6: Y | S6: Y | T6: NA | U6: Y | V6: N | W6: N | X6: y | Y6: N | Z6: Y | AA6: Y | AB6: Y | AC6: N | AD6: Y | AE6: Y | AF6: Y | AG6: =COUNTIF($E6:$AF6,"Y")+COUNTIF($E6:$AF6,"P")/2 -> 21 | AH6: =COUNTA($E6:$AF6)-COUNTIF($E6:$AF6,"NA") -> 27 | AI6: =$AG6/$AH6 -> 0.77777778 | AK6: 2017
B7: Boachie et al. | C7: 2023 | D7: 49 | E7: Y | F7: Y | G7: Y | H7: N | I7: Y | J7: Y | K7: Y | L7: Y | M7: Y | N7: Y | O7: Y | P7: P | Q7: p | R7: Y | S7: Y | T7: Y | U7: P | V7: N | W7: N | X7: Y | Y7: N | Z7: Y | AA7: Y | AB7: Y | AC7: N | AD7: Y | AE7: Y | AF7: Y | AG7: =COUNTIF($E7:$AF7,"Y")+COUNTIF($E7:$AF7,"P")/2 -> 21.5 | AH7: =COUNTA($E7:$AF7)-COUNTIF($E7:$AF7,"NA") -> 28 | AI7: =$AG7/$AH7 -> 0.76785714 | AK7: 2011
B8: Martins et al. | C8: 2023 | D8: 50 | E8: Y | F8: Y | G8: Y | H8: N | I8: Y | J8: Y | K8: Y | L8: Y | M8: Y | N8: Y | O8: Y | P8: Y | Q8: Y | R8: Y | S8: Y | T8: Y | U8: Y | V8: N | W8: N | X8: Y | Y8: N | Z8: Y | AA8: Y | AB8: Y | AC8: N | AD8: Y | AE8: Y | AF8: Y | AG8: =COUNTIF($E8:$AF8,"Y")+COUNTIF($E8:$AF8,"P")/2 -> 23 | AH8: =COUNTA($E8:$AF8)-COUNTIF($E8:$AF8,"NA") -> 28 | AI8: =$AG8/$AH8 -> 0.82142857 | AK8: 2000
B9: Cronin et al. | C9: 2021 | D9: 51 | E9: Y | F9: Y | G9: y | H9: N | I9: Y | J9: Y | K9: Y | L9: Y | M9: Y | N9: Y | O9: Y | P9: Y | Q9: Y | R9: Y | S9: Y | T9: Y | U9: Y | V9: N | W9: N | X9: Y | Y9: N | Z9: Y | AA9: Y | AB9: Y | AC9: N | AD9: Y | AE9: Y | AF9: Y | AG9: =COUNTIF($E9:$AF9,"Y")+COUNTIF($E9:$AF9,"P")/2 -> 23 | AH9: =COUNTA($E9:$AF9)-COUNTIF($E9:$AF9,"NA") -> 28 | AI9: =$AG9/$AH9 -> 0.82142857 | AK9: 2000
B10: Davidson et al. | C10: 2022 | D10: 52 | E10: Y | F10: Y | G10: Y | H10: N | I10: Y | J10: Y | K10: Y | L10: Y | M10: Y | N10: Y | O10: Y | P10: Y | Q10: Y | R10: Y | S10: Y | T10: Y | U10: Y | V10: N | W10: N | X10: Y | Y10: N | Z10: Y | AA10: Y | AB10: Y | AC10: N | AD10: Y | AE10: Y | AF10: Y | AG10: =COUNTIF($E10:$AF10,"Y")+COUNTIF($E10:$AF10,"P")/2 -> 23 | AH10: =COUNTA($E10:$AF10)-COUNTIF($E10:$AF10,"NA") -> 28 | AI10: =$AG10/$AH10 -> 0.82142857 | AK10: 1999
B11: Da Costa Rosa et al. | C11: 2024 | D11: 53 | E11: Y | F11: Y | G11: Y | H11: P | I11: Y | J11: Y | K11: Y | L11: Y | M11: Y | N11: Y | O11: Y | P11: Y | Q11: Y | R11: Y | S11: Y | T11: Y | U11: Y | V11: N | W11: N | X11: Y | Y11: N | Z11: Y | AA11: Y | AB11: Y | AC11: N | AD11: Y | AE11: Y | AF11: Y | AG11: =COUNTIF($E11:$AF11,"Y")+COUNTIF($E11:$AF11,"P")/2 -> 23.5 | AH11: =COUNTA($E11:$AF11)-COUNTIF($E11:$AF11,"NA") -> 28 | AI11: =$AG11/$AH11 -> 0.83928571 | AK11: 2006
B12: Da Silva et al. | C12: 2025 | D12: 54 | E12: Y | F12: Y | G12: Y | H12: N | I12: Y | J12: Y | K12: Y | L12: Y | M12: Y | N12: Y | O12: Y | P12: Y | Q12: Y | R12: Y | S12: Y | T12: Y | U12: Y | V12: N | W12: N | X12: Y | Y12: N | Z12: Y | AA12: Y | AB12: Y | AC12: N | AD12: Y | AE12: Y | AF12: Y | AG12: =COUNTIF($E12:$AF12,"Y")+COUNTIF($E12:$AF12,"P")/2 -> 23 | AH12: =COUNTA($E12:$AF12)-COUNTIF($E12:$AF12,"NA") -> 28 | AI12: =$AG12/$AH12 -> 0.82142857 | AK12: 2016
B13: Effenberger et al. | C13: 2022 | D13: 55 | E13: Y | F13: Y | G13: Y | H13: P | I13: Y | J13: Y | K13: Y | L13: Y | M13: Y | N13: Y | O13: Y | P13: Y | Q13: P | R13: Y | S13: Y | T13: NA | U13: Y | V13: P | W13: N | X13: Y | Y13: N | Z13: Y | AA13: Y | AB13: Y | AC13: N | AD13: Y | AE13: Y | AF13: Y | AG13: =COUNTIF($E13:$AF13,"Y")+COUNTIF($E13:$AF13,"P")/2 -> 22.5 | AH13: =COUNTA($E13:$AF13)-COUNTIF($E13:$AF13,"NA") -> 27 | AI13: =$AG13/$AH13 -> 0.83333333
B14: Egli et al. | C14: 2022 | D14: 56 | E14: Y | F14: Y | G14: Y | H14: Y | I14: Y | J14: Y | K14: Y | L14: Y | M14: Y | N14: Y | O14: Y | P14: Y | Q14: Y | R14: Y | S14: Y | T14: Y | U14: Y | V14: P | W14: N | X14: Y | Y14: N | Z14: Y | AA14: Y | AB14: Y | AC14: N | AD14: Y | AE14: Y | AF14: Y | AG14: =COUNTIF($E14:$AF14,"Y")+COUNTIF($E14:$AF14,"P")/2 -> 24.5 | AH14: =COUNTA($E14:$AF14)-COUNTIF($E14:$AF14,"NA") -> 28 | AI14: =$AG14/$AH14 -> 0.875
B15: Fueki et al. | C15: 2021 | D15: 57 | E15: Y | F15: Y | G15: Y | H15: Y | I15: Y | J15: Y | K15: Y | L15: Y | M15: Y | N15: NA | O15: Y | P15: Y | Q15: Y | R15: Y | S15: Y | T15: NA | U15: Y | V15: Y | W15: N | X15: Y | Y15: N | Z15: Y | AA15: Y | AB15: Y | AC15: N | AD15: Y | AE15: Y | AF15: Y | AG15: =COUNTIF($E15:$AF15,"Y")+COUNTIF($E15:$AF15,"P")/2 -> 23 | AH15: =COUNTA($E15:$AF15)-COUNTIF($E15:$AF15,"NA") -> 26 | AI15: =$AG15/$AH15 -> 0.88461538
B16: Halasa-Rappel et al. | C16: 2021 | D16: 58 | E16: Y | F16: Y | G16: Y | H16: P | I16: Y | J16: Y | K16: Y | L16: Y | M16: Y | N16: Y | O16: Y | P16: Y | Q16: Y | R16: Y | S16: Y | T16: NA | U16: Y | V16: P | W16: N | X16: Y | Y16: N | Z16: Y | AA16: Y | AB16: Y | AC16: N | AD16: Y | AE16: Y | AF16: Y | AG16: =COUNTIF($E16:$AF16,"Y")+COUNTIF($E16:$AF16,"P")/2 -> 23 | AH16: =COUNTA($E16:$AF16)-COUNTIF($E16:$AF16,"NA") -> 27 | AI16: =$AG16/$AH16 -> 0.85185185
B17: Hansson ez al. | C17: 2024 | D17: 59 | E17: Y | F17: Y | G17: Y | H17: N | I17: Y | J17: Y | K17: Y | L17: Y | M17: Y | N17: NA | O17: Y | P17: Y | Q17: P | R17: Y | S17: Y | T17: NA | U17: Y | V17: Y | W17: N | X17: Y | Y17: N | Z17: Y | AA17: Y | AB17: Y | AC17: N | AD17: Y | AE17: Y | AF17: Y | AG17: =COUNTIF($E17:$AF17,"Y")+COUNTIF($E17:$AF17,"P")/2 -> 21.5 | AH17: =COUNTA($E17:$AF17)-COUNTIF($E17:$AF17,"NA") -> 26 | AI17: =$AG17/$AH17 -> 0.82692308
B18: Herdmann et al. | C18: 2022 | D18: 60 | E18: Y | F18: Y | G18: Y | H18: N | I18: P | J18: Y | K18: Y | L18: Y | M18: Y | N18: NA | O18: Y | P18: Y | Q18: Y | R18: Y | S18: Y | T18: Y | U18: Y | V18: N | W18: N | X18: Y | Y18: N | Z18: Y | AA18: Y | AB18: Y | AC18: N | AD18: Y | AE18: Y | AF18: Y | AG18: =COUNTIF($E18:$AF18,"Y")+COUNTIF($E18:$AF18,"P")/2 -> 21.5 | AH18: =COUNTA($E18:$AF18)-COUNTIF($E18:$AF18,"NA") -> 27 | AI18: =$AG18/$AH18 -> 0.7962963
B19: Janusz et al. | C19: 2023 | D19: 61 | E19: Y | F19: Y | G19: Y | H19: N | I19: Y | J19: Y | K19: Y | L19: Y | M19: Y | N19: Y | O19: Y | P19: Y | Q19: Y | R19: Y | S19: Y | T19: Y | U19: Y | V19: P | W19: P | X19: Y | Y19: N | Z19: Y | AA19: Y | AB19: Y | AC19: N | AD19: Y | AE19: Y | AF19: Y | AG19: =COUNTIF($E19:$AF19,"Y")+COUNTIF($E19:$AF19,"P")/2 -> 24 | AH19: =COUNTA($E19:$AF19)-COUNTIF($E19:$AF19,"NA") -> 28 | AI19: =$AG19/$AH19 -> 0.85714286
B20: Jevdjevic et al. | C20: 2021 | D20: 62 | E20: Y | F20: Y | G20: Y | H20: N | I20: Y | J20: Y | K20: Y | L20: Y | M20: Y | N20: Y | O20: Y | P20: Y | Q20: Y | R20: Y | S20: Y | T20: Y | U20: Y | V20: P | W20: P | X20: Y | Y20: N | Z20: Y | AA20: Y | AB20: Y | AC20: N | AD20: Y | AE20: Y | AF20: Y | AG20: =COUNTIF($E20:$AF20,"Y")+COUNTIF($E20:$AF20,"P")/2 -> 24 | AH20: =COUNTA($E20:$AF20)-COUNTIF($E20:$AF20,"NA") -> 28 | AI20: =$AG20/$AH20 -> 0.85714286
B21: Kachapila et al. | C21: 2021 | D21: 63 | E21: Y | F21: Y | G21: Y | H21: N | I21: Y | J21: Y | K21: Y | L21: Y | M21: Y | N21: NA | O21: Y | P21: Y | Q21: N | R21: Y | S21: Y | T21: Y | U21: Y | V21: P | W21: N | X21: Y | Y21: N | Z21: Y | AA21: Y | AB21: Y | AC21: N | AD21: Y | AE21: Y | AF21: Y | AG21: =COUNTIF($E21:$AF21,"Y")+COUNTIF($E21:$AF21,"P")/2 -> 21.5 | AH21: =COUNTA($E21:$AF21)-COUNTIF($E21:$AF21,"NA") -> 27 | AI21: =$AG21/$AH21 -> 0.7962963
B22: Kanzow et al. | C22: 2021 | D22: 64 | E22: Y | F22: Y | G22: Y | H22: N | I22: P | J22: Y | K22: Y | L22: Y | M22: Y | N22: Y | O22: Y | P22: Y | Q22: P | R22: Y | S22: P | T22: NA | U22: Y | V22: Y | W22: N | X22: P | Y22: N | Z22: P | AA22: Y | AB22: P | AC22: N | AD22: Y | AE22: Y | AF22: Y | AG22: =COUNTIF($E22:$AF22,"Y")+COUNTIF($E22:$AF22,"P")/2 -> 20 | AH22: =COUNTA($E22:$AF22)-COUNTIF($E22:$AF22,"NA") -> 27 | AI22: =$AG22/$AH22 -> 0.74074074
B23: Katzura et al. | C23: 2021 | D23: 65 | E23: Y | F23: P | G23: Y | H23: N | I23: P | J23: Y | K23: Y | L23: Y | M23: N | N23: N | O23: P | P23: N | Q23: Y | R23: P | S23: N | T23: N | U23: P | V23: N | W23: N | X23: N | Y23: N | Z23: P | AA23: P | AB23: N | AC23: N | AD23: P | AE23: Y | AF23: Y | AG23: =COUNTIF($E23:$AF23,"Y")+COUNTIF($E23:$AF23,"P")/2 -> 12 | AH23: =COUNTA($E23:$AF23)-COUNTIF($E23:$AF23,"NA") -> 28 | AI23: =$AG23/$AH23 -> 0.42857143
B24: Liu et al. | C24: 2021 | D24: 66 | E24: Y | F24: P | G24: Y | H24: N | I24: Y | J24: Y | K24: Y | L24: P | M24: Y | N24: NA | O24: Y | P24: Y | Q24: NA | R24: Y | S24: Y | T24: NA | U24: Y | V24: N | W24: N | X24: Y | Y24: N | Z24: Y | AA24: Y | AB24: Y | AC24: N | AD24: Y | AE24: Y | AF24: Y | AG24: =COUNTIF($E24:$AF24,"Y")+COUNTIF($E24:$AF24,"P")/2 -> 19 | AH24: =COUNTA($E24:$AF24)-COUNTIF($E24:$AF24,"NA") -> 25 | AI24: =$AG24/$AH24 -> 0.76
... B26: Losenicka et al. | C26: 2021 | D26: 68 | E26: Y | F26: Y | G26: Y | H26: N | I26: Y | J26: Y | K26: Y | L26: Y | M26: Y | N26: Y | O26: Y | P26: Y | Q26: Y | R26: Y | S26: Y | T26: Y | U26: Y | V26: N | W26: N | X26: Y | Y26: N | Z26: Y | AA26: Y | AB26: Y | AC26: Y | AD26: Y | AE26: Y | AF26: Y | AG26: =COUNTIF($E26:$AF26,"Y")+COUNTIF($E26:$AF26,"P")/2 -> 24 | AH26: =COUNTA($E26:$AF26)-COUNTIF($E26:$AF26,"NA") -> 28 | AI26: =$AG26/$AH26 -> 0.85714286
B27: Merchan et al. | C27: 2022 | D27: 69 | E27: Y | F27: Y | G27: Y | H27: N | I27: Y | J27: Y | K27: Y | L27: Y | M27: Y | N27: NA | O27: Y | P27: Y | Q27: N | R27: Y | S27: Y | T27: P | U27: Y | V27: NA | W27: NA | X27: P | Y27: Y | Z27: Y | AA27: Y | AB27: P | AC27: N | AD27: P | AE27: Y | AF27: Y | AG27: =COUNTIF($E27:$AF27,"Y")+COUNTIF($E27:$AF27,"P")/2 -> 20 | AH27: =COUNTA($E27:$AF27)-COUNTIF($E27:$AF27,"NA") -> 25 | AI27: =$AG27/$AH27 -> 0.8 | AK27: 2002
B28: Nantanee et al. | C28: 2023 | D28: 70 | E28: Y | F28: Y | G28: Y | H28: N | I28: Y | J28: Y | K28: Y | L28: Y | M28: P | N28: N | O28: Y | P28: Y | Q28: Y | R28: Y | S28: Y | T28: Y | U28: Y | V28: P | W28: N | X28: Y | Y28: N | Z28: Y | AA28: Y | AB28: Y | AC28: N | AD28: Y | AE28: Y | AF28: Y | AG28: =COUNTIF($E28:$AF28,"Y")+COUNTIF($E28:$AF28,"P")/2 -> 22 | AH28: =COUNTA($E28:$AF28)-COUNTIF($E28:$AF28,"NA") -> 28 | AI28: =$AG28/$AH28 -> 0.78571429 | AK28: 2010
B29: Naved et al. | C29: 2024 | D29: 71 | E29: Y | F29: Y | G29: Y | H29: N | I29: Y | J29: Y | K29: Y | L29: Y | M29: Y | N29: Y | O29: Y | P29: Y | Q29: P | R29: Y | S29: Y | T29: Y | U29: Y | V29: N | W29: N | X29: Y | Y29: N | Z29: Y | AA29: Y | AB29: Y | AC29: N | AD29: Y | AE29: Y | AF29: Y | AG29: =COUNTIF($E29:$AF29,"Y")+COUNTIF($E29:$AF29,"P")/2 -> 22.5 | AH29: =COUNTA($E29:$AF29)-COUNTIF($E29:$AF29,"NA") -> 28 | AI29: =$AG29/$AH29 -> 0.80357143 | AK29: 2015
B30: Naved et al. | C30: 2024 | D30: 72 | E30: Y | F30: Y | G30: Y | H30: N | I30: Y | J30: Y | K30: Y | L30: Y | M30: Y | N30: Y | O30: Y | P30: Y | Q30: P | R30: Y | S30: Y | T30: Y | U30: Y | V30: N | W30: N | X30: Y | Y30: N | Z30: Y | AA30: Y | AB30: Y | AC30: N | AD30: Y | AE30: Y | AF30: Y | AG30: =COUNTIF($E30:$AF30,"Y")+COUNTIF($E30:$AF30,"P")/2 -> 22.5 | AH30: =COUNTA($E30:$AF30)-COUNTIF($E30:$AF30,"NA") -> 28 | AI30: =$AG30/$AH30 -> 0.80357143 | AK30: 2015
B31: Naved et al. | C31: 2023 | D31: 73 | E31: Y | F31: Y | G31: Y | H31: N | I31: Y | J31: Y | K31: Y | L31: Y | M31: Y | N31: Y | O31: Y | P31: Y | Q31: P | R31: Y | S31: Y | T31: Y | U31: Y | V31: N | W31: N | X31: Y | Y31: N | Z31: Y | AA31: Y | AB31: Y | AC31: N | AD31: Y | AE31: Y | AF31: Y | AG31: =COUNTIF($E31:$AF31,"Y")+COUNTIF($E31:$AF31,"P")/2 -> 22.5 | AH31: =COUNTA($E31:$AF31)-COUNTIF($E31:$AF31,"NA") -> 28 | AI31: =$AG31/$AH31 -> 0.80357143 | AK31: 2017
B32: Nguyen et al. | C32: 2023 | D32: 74 | E32: Y | F32: Y | G32: Y | H32: N | I32: Y | J32: Y | K32: Y | L32: Y | M32: Y | N32: Y | O32: Y | P32: Y | Q32: Y | R32: Y | S32: Y | T32: Y | U32: Y | V32: P | W32: P | X32: Y | Y32: N | Z32: Y | AA32: Y | AB32: Y | AC32: N | AD32: Y | AE32: Y | AF32: Y | AG32: =COUNTIF($E32:$AF32,"Y")+COUNTIF($E32:$AF32,"P")/2 -> 24 | AH32: =COUNTA($E32:$AF32)-COUNTIF($E32:$AF32,"NA") -> 28 | AI32: =$AG32/$AH32 -> 0.85714286 | AK32: 2014
B33: Nogueira et al. | C33: 2023 | D33: 75 | E33: Y | F33: Y | G33: Y | H33: N | I33: Y | J33: Y | K33: Y | L33: Y | M33: Y | N33: NA | O33: Y | P33: Y | Q33: Y | R33: Y | S33: Y | T33: NA | U33: Y | V33: P | W33: Y | X33: P | Y33: N | Z33: Y | AA33: Y | AB33: P | AC33: N | AD33: Y | AE33: Y | AF33: Y | AG33: =COUNTIF($E33:$AF33,"Y")+COUNTIF($E33:$AF33,"P")/2 -> 21.5 | AH33: =COUNTA($E33:$AF33)-COUNTIF($E33:$AF33,"NA") -> 26 | AI33: =$AG33/$AH33 -> 0.82692308 | AK33: 2018
B34: Okubo et al. | C34: 2023 | D34: 76 | E34: Y | F34: Y | G34: Y | H34: N | I34: Y | J34: Y | K34: Y | L34: Y | M34: Y | N34: Y | O34: Y | P34: Y | Q34: Y | R34: Y | S34: Y | T34: Y | U34: Y | V34: N | W34: N | X34: Y | Y34: N | Z34: Y | AA34: Y | AB34: Y | AC34: N | AD34: Y | AE34: Y | AF34: Y | AG34: =COUNTIF($E34:$AF34,"Y")+COUNTIF($E34:$AF34,"P")/2 -> 23 | AH34: =COUNTA($E34:$AF34)-COUNTIF($E34:$AF34,"NA") -> 28 | AI34: =$AG34/$AH34 -> 0.82142857 | AK34: 2007
B35: Otake et al. | C35: 2022 | D35: 77 | E35: Y | F35: Y | G35: Y | H35: N | I35: Y | J35: Y | K35: Y | L35: Y | M35: P | N35: NA | O35: Y | P35: Y | Q35: Y | R35: Y | S35: Y | T35: NA | U35: Y | V35: N | W35: N | X35: P | Y35: N | Z35: Y | AA35: Y | AB35: P | AC35: N | AD35: Y | AE35: Y | AF35: Y | AG35: =COUNTIF($E35:$AF35,"Y")+COUNTIF($E35:$AF35,"P")/2 -> 19.5 | AH35: =COUNTA($E35:$AF35)-COUNTIF($E35:$AF35,"NA") -> 26 | AI35: =$AG35/$AH35 -> 0.75 | AK35: 2001
B36: Pires et al. | C36: 2021 | D36: 78 | E36: Y | F36: Y | G36: Y | H36: N | I36: Y | J36: Y | K36: Y | L36: Y | M36: Y | N36: Y | O36: Y | P36: Y | Q36: P | R36: Y | S36: Y | T36: NA | U36: Y | V36: P | W36: N | X36: Y | Y36: N | Z36: Y | AA36: Y | AB36: Y | AC36: N | AD36: Y | AE36: Y | AF36: Y | AG36: =COUNTIF($E36:$AF36,"Y")+COUNTIF($E36:$AF36,"P")/2 -> 22 | AH36: =COUNTA($E36:$AF36)-COUNTIF($E36:$AF36,"NA") -> 27 | AI36: =$AG36/$AH36 -> 0.81481481 | AK36: 2002
B37: Rodriguez et al. | C37: 2022 | D37: 79 | E37: Y | F37: Y | G37: Y | H37: N | I37: Y | J37: Y | K37: Y | L37: Y | M37: Y | N37: Y | O37: Y | P37: Y | Q37: NA | R37: Y | S37: Y | T37: NA | U37: Y | V37: P | W37: N | X37: Y | Y37: N | Z37: Y | AA37: Y | AB37: Y | AC37: N | AD37: Y | AE37: Y | AF37: Y | AG37: =COUNTIF($E37:$AF37,"Y")+COUNTIF($E37:$AF37,"P")/2 -> 21.5 | AH37: =COUNTA($E37:$AF37)-COUNTIF($E37:$AF37,"NA") -> 26 | AI37: =$AG37/$AH37 -> 0.82692308 | AK37: 2009
B38: Savolainen et al. | C38: 2023 | D38: 80 | E38: Y | F38: Y | G38: Y | H38: N | I38: Y | J38: Y | K38: Y | L38: Y | M38: Y | N38: NA | O38: Y | P38: Y | Q38: N | R38: Y | S38: Y | T38: Y | U38: Y | V38: N | W38: N | X38: Y | Y38: N | Z38: Y | AA38: Y | AB38: Y | AC38: N | AD38: Y | AE38: Y | AF38: Y | AG38: =COUNTIF($E38:$AF38,"Y")+COUNTIF($E38:$AF38,"P")/2 -> 21 | AH38: =COUNTA($E38:$AF38)-COUNTIF($E38:$AF38,"NA") -> 27 | AI38: =$AG38/$AH38 -> 0.77777778 | AK38: 2006
... B50: Tan et al. | C50: 2025 | D50: 92 | E50: Y | F50: Y | G50: Y | H50: N | I50: Y | J50: Y | K50: Y | L50: Y | M50: Y | N50: NA | O50: Y | P50: Y | Q50: Y | R50: Y | S50: Y | T50: Y | U50: Y | V50: Y | W50: N | X50: Y | Y50: N | Z50: Y | AA50: Y | AB50: Y | AC50: N | AD50: Y | AE50: Y | AF50: Y | AG50: =COUNTIF($E50:$AF50,"Y")+COUNTIF($E50:$AF50,"P")/2 -> 23 | AH50: =COUNTA($E50:$AF50)-COUNTIF($E50:$AF50,"NA") -> 27 | AI50: =$AG50/$AH50 -> 0.85185185 | AK50: 2020
B51: Tang et al. | C51: 2024 | D51: 93 | E51: Y | F51: Y | G51: Y | H51: N | I51: Y | J51: Y | K51: Y | L51: Y | M51: Y | N51: Y | O51: Y | P51: Y | Q51: Y | R51: Y | S51: Y | T51: Y | U51: Y | V51: N | W51: N | X51: Y | Y51: N | Z51: Y | AA51: Y | AB51: Y | AC51: N | AD51: Y | AE51: Y | AF51: Y | AG51: =COUNTIF($E51:$AF51,"Y")+COUNTIF($E51:$AF51,"P")/2 -> 23 | AH51: =COUNTA($E51:$AF51)-COUNTIF($E51:$AF51,"NA") -> 28 | AI51: =$AG51/$AH51 -> 0.82142857
B52: Tannous et al. | C52: 2021 | D52: 94 | E52: Y | F52: Y | G52: Y | H52: N | I52: Y | J52: Y | K52: Y | L52: Y | M52: Y | N52: Y | O52: Y | P52: Y | Q52: Y | R52: Y | S52: Y | T52: Y | U52: Y | V52: N | W52: N | X52: Y | Y52: P | Z52: Y | AA52: Y | AB52: Y | AC52: N | AD52: Y | AE52: Y | AF52: Y | AG52: =COUNTIF($E52:$AF52,"Y")+COUNTIF($E52:$AF52,"P")/2 -> 23.5 | AH52: =COUNTA($E52:$AF52)-COUNTIF($E52:$AF52,"NA") -> 28 | AI52: =$AG52/$AH52 -> 0.83928571
...
