Workbook
Name Acq_Time: OFFSET(#REF!,0,[0]!Column_Acq_Time-1,[0]!TableLength,1)
Name Can_Pep_FSFS: OFFSET(#REF!,0,0,[0]!TableLen,1)
Name Can_Seq_FSFS: OFFSET(#REF!,0,0,[0]!TableLen,1)
Name Column_Acq_Time: MAX(IF([0]!HeaderRange="Acq Time",COLUMN([0]!HeaderRange),0))
Name Column_Conf: MAX(IF([0]!HeaderRange="Conf",COLUMN([0]!HeaderRange),0))
Name Column_dMass: MAX(IF([0]!HeaderRange="dMass",COLUMN([0]!HeaderRange),0))
Name Column_GeneOntology: MIN(IF(ISNUMBER(SEARCH("Gene Ontology",'Protein Summary'!QuantHeaderRange)),COLUMN('Protein Summary'!QuantHeaderRange),""))
Name Column_Modifications: MAX(IF([0]!HeaderRange="Modifications",COLUMN([0]!HeaderRange),0))
Name Column_MS2Counts: MAX(IF([0]!HeaderRange="MS2Counts",COLUMN([0]!HeaderRange),0))
Name Column_Obs_MW: MAX(IF([0]!HeaderRange="Obs MW",COLUMN([0]!HeaderRange),0))
Name Column_Obs_mz: MAX(IF([0]!HeaderRange="Obs m/z",COLUMN([0]!HeaderRange),0))
Name Column_Pathway: MIN(IF(ISNUMBER(SEARCH("Pathway",'Protein Summary'!QuantHeaderRange)),COLUMN('Protein Summary'!QuantHeaderRange),""))
Name Column_PeptideIntensity: MAX(IF([0]!HeaderRange="Intensity (Peptide)",COLUMN([0]!HeaderRange),0))
Name Column_ProteinModifications: MAX(IF([0]!HeaderRange="ProteinModifications",COLUMN([0]!HeaderRange),0))
Name Column_Ratio1: IF([0]!NumActiveQuantChannels<1,0,MIN(IF(ISNUMBER(SEARCH("%Err",[0]!HeaderRange)),COLUMN([0]!HeaderRange),""))-1)
Name Column_Ratio2: IF([0]!NumActiveQuantChannels<2,0,MIN(IF(ISNUMBER(SEARCH("%Err",[0]!HeaderRange)),IF(COLUMN([0]!HeaderRange)-1>[0]!Column_Ratio1,COLUMN([0]!HeaderRange),"")))-1)
Name Column_Ratio3: IF([0]!NumActiveQuantChannels<3,0,MIN(IF(ISNUMBER(SEARCH("%Err",[0]!HeaderRange)),IF(COLUMN([0]!HeaderRange)-1>[0]!Column_Ratio2,COLUMN([0]!HeaderRange),"")))-1)
Name Column_Ratio4: IF([0]!NumActiveQuantChannels<4,0,MIN(IF(ISNUMBER(SEARCH("%Err",[0]!HeaderRange)),IF(COLUMN([0]!HeaderRange)-1>[0]!Column_Ratio3,COLUMN([0]!HeaderRange),"")))-1)
Name Column_Ratio5: IF([0]!NumActiveQuantChannels<5,0,MIN(IF(ISNUMBER(SEARCH("%Err",[0]!HeaderRange)),IF(COLUMN([0]!HeaderRange)-1>[0]!Column_Ratio4,COLUMN([0]!HeaderRange),"")))-1)
Name Column_Ratio6: IF([0]!NumActiveQuantChannels<6,0,MIN(IF(ISNUMBER(SEARCH("%Err",[0]!HeaderRange)),IF(COLUMN([0]!HeaderRange)-1>[0]!Column_Ratio5,COLUMN([0]!HeaderRange),"")))-1)
Name Column_Ratio7: IF([0]!NumActiveQuantChannels<7,0,MIN(IF(ISNUMBER(SEARCH("%Err",[0]!HeaderRange)),IF(COLUMN([0]!HeaderRange)-1>[0]!Column_Ratio6,COLUMN([0]!HeaderRange),"")))-1)
Name Column_Sc: MAX(IF([0]!HeaderRange="Sc",COLUMN([0]!HeaderRange),0))
Name Column_Sequence: MAX(IF([0]!HeaderRange="Sequence",COLUMN([0]!HeaderRange),0))
Name Column_Spectrum: MAX(IF([0]!HeaderRange="Spectrum",COLUMN([0]!HeaderRange),0))
Name Column_Theor_MW: MAX(IF([0]!HeaderRange="Theor MW",COLUMN([0]!HeaderRange),0))
Name Column_Theor_mz: MAX(IF([0]!HeaderRange="Theor m/z",COLUMN([0]!HeaderRange),0))
Name Column_Theor_z: MAX(IF([0]!HeaderRange="Theor z",COLUMN([0]!HeaderRange),0))
Name Column_Used: MAX(IF([0]!HeaderRange="Used",COLUMN([0]!HeaderRange),0))
Name Column1stRatio: IF([0]!NumActiveQuantChannels<1,0,MIN(IF(ISNUMBER(SEARCH("PVal",'Protein Summary'!QuantHeaderRange)),COLUMN('Protein Summary'!QuantHeaderRange),""))-1)
Name Correct: IF('Distinct Peptide Level Data'!PeptideFDR_Data_Present=1,OFFSET('Distinct Peptide Level Data'!qval,0,-4),0)
Name Correct: IF('Protein Level Data'!ProteinFDR_Data_Present=1,OFFSET('Protein Level Data'!qval,0,-4),0)
Name Correct: IF('Spectral Level Data'!SpectrumFDR_Data_Present=1,OFFSET('Spectral Level Data'!qval,0,-4),0)
Name CorrectedIntensity: IFERROR(OFFSET(#REF!,0,0,#REF!,1),#REF!)
Name CriticalY_forGlobalFDR: OFFSET('Protein FDR Summary'!Yield_FitGlobalFDR_atKeyValues,0,-3)
Name CriticalY_forLocalFDR: OFFSET('Protein FDR Summary'!Yield_LocalFDR_atKeyValues,0,-1)
Name Delta_mass: OFFSET(#REF!,0,0,[0]!TableLen,1)
Name Delta_mz: IF([0]!Table_Length>0,OFFSET(#REF!,0,0,[0]!Table_Length,1),0)
Name Delta_ppm: IF([0]!Table_Length>0,OFFSET(#REF!,0,0,[0]!Table_Length,1),0)
Name Delta_Sqrtmz: IF([0]!Table_Length>0,OFFSET(#REF!,0,0,[0]!Table_Length,1),0)
Name DeltaRT: IFERROR(OFFSET(#REF!,0,0,#REF!,1),0)
Name DeltaTime: IF(SUM(IF(ISNUMBER(#REF!),1,0))>0,OFFSET(#REF!,0,0,[0]!TableLen,1),#REF!)
Name ExRatio1: IFERROR(OFFSET(#REF!,0,0,#REF!,1),#REF!)
Name ExRatio2: IFERROR(OFFSET(#REF!,0,0,#REF!,1),#REF!)
Name ExRatio3: IFERROR(OFFSET(#REF!,0,0,#REF!,1),#REF!)
Name ExRatio4: IFERROR(OFFSET(#REF!,0,0,#REF!,1),#REF!)
Name ExRatio5: IFERROR(OFFSET(#REF!,0,0,#REF!,1),#REF!)
Name ExRatio6: IFERROR(OFFSET(#REF!,0,0,#REF!,1),#REF!)
Name ExRatio7: IFERROR(OFFSET(#REF!,0,0,#REF!,1),#REF!)
Name Fit_Confidence_Thresh: IF('Distinct Peptide Level Data'!PeptideFDR_Data_Present=1,OFFSET('Distinct Peptide Level Data'!Fit_GlobalFDR,0,-6),0)
Name Fit_Confidence_Thresh: IF('Protein Level Data'!ProteinFDR_Data_Present=1,OFFSET('Protein Level Data'!Fit_GlobalFDR,0,-6),0)
Name Fit_Confidence_Thresh: IF('Spectral Level Data'!SpectrumFDR_Data_Present=1,OFFSET('Spectral Level Data'!Fit_GlobalFDR,0,-6),0)
Name Fit_GlobalFDR: IF('Protein Level Data'!ProteinFDR_Data_Present=1,OFFSET('Protein Level Data'!$R$2,0,0,(SUM(IF('Protein Level Data'!$R$2:$R$65000<>"",IF('Protein Level Data'!$R$2:$R$65000<0.13,1,"")))),1),0)
Name Fit_GlobalFDR: IF('Spectral Level Data'!SpectrumFDR_Data_Present=1,OFFSET('Spectral Level Data'!$R$2,0,0,(SUM(IF('Spectral Level Data'!$R$2:$R$65000<>"",IF('Spectral Level Data'!$R$2:$R$65000<0.13,1,"")))),1),0)
Name Fit_LocalFDR: IF('Distinct Peptide Level Data'!PeptideFDR_Data_Present=1,OFFSET('Distinct Peptide Level Data'!Fit_GlobalFDR,0,1),0)
Name Fit_LocalFDR: IF('Protein Level Data'!ProteinFDR_Data_Present=1,OFFSET('Protein Level Data'!Fit_GlobalFDR,0,1),0)
Name Fit_LocalFDR: IF('Spectral Level Data'!SpectrumFDR_Data_Present=1,OFFSET('Spectral Level Data'!Fit_GlobalFDR,0,1),0)
Name Fit_Reversed: IF('Distinct Peptide Level Data'!PeptideFDR_Data_Present=1,OFFSET('Distinct Peptide Level Data'!Fit_GlobalFDR,0,-4),0)
Name Fit_Reversed: IF('Protein Level Data'!ProteinFDR_Data_Present=1,OFFSET('Protein Level Data'!Fit_GlobalFDR,0,-4),0)
Name Fit_Reversed: IF('Spectral Level Data'!SpectrumFDR_Data_Present=1,OFFSET('Spectral Level Data'!Fit_GlobalFDR,0,-4),0)
Name Fit_Total: IF('Distinct Peptide Level Data'!PeptideFDR_Data_Present=1,OFFSET('Distinct Peptide Level Data'!Fit_GlobalFDR,0,-1),0)

Sheet Metadata
A1: _RESULTS_version | B1: 5
A2: RESULTS_SEARCH_STAT_search_begin_time_clock | B2: 45007.596
A3: RESULTS_SEARCH_STAT_search_end_time_clock | B3: 45007.766
A4: RESULTS_SEARCH_STAT_search_time_duration | B4: 14625097
A5: RESULTS_SEARCH_STAT_stage_signal_processing_begin_time_clock | B5: 45007.596
A6: RESULTS_SEARCH_STAT_stage_signal_processing_end_time_clock | B6: 45007.757
A7: RESULTS_SEARCH_STAT_stage_signal_processing_time_duration | B7: 13851853
A8: RESULTS_SEARCH_STAT_stage_waiting_begin_time_clock | B8: 45007.757
A9: RESULTS_SEARCH_STAT_stage_waiting_end_time_clock | B9: 45007.757
A10: RESULTS_SEARCH_STAT_stage_waiting_time_duration | B10: 7404
A11: RESULTS_SEARCH_STAT_stage_searching_begin_time_clock | B11: 45007.757
A12: RESULTS_SEARCH_STAT_stage_searching_end_time_clock | B12: 45007.765
... A33: RESULTS_SEARCH_STAT_computer_memory | B33: 65182
A34: RESULTS_SEARCH_STAT_computer_name | B34: DESKTOP-4CRA9SP
A35: RESULTS_SEARCH_STAT_num_proteins | B35: 97914
A36: RESULTS_SEARCH_STAT_num_residues | B36: 55170046
A37: RESULTS_SEARCH_STAT_number_cores | B37: 16
A38: RESULTS_SEARCH_STAT_number_licensed_tasks | B38: 32
A39: RESULTS_SEARCH_STAT_number_processors | B39: 32
A40: RESULTS_SEARCH_STAT_os | B40: Windows 10 Enterprise 2016 LTSB (6.2.9200)
A41: RESULTS_SEARCH_1_time_cpu | B41: 55375
A42: RESULTS_SEARCH_1_time_duration | B42: 84871
A43: RESULTS_SEARCH_1_version | B43: 5.0.2.5174
A44: RESULTS_SEARCH_1_xml:id | B44: SEARCH:1:638150915185208226_0
A45: RESULTS_SEARCH_1_PARAMETERS_chemical_data_edited | B45: FALSE
A46: RESULTS_SEARCH_1_PARAMETERS_do_multiprecursor_search | B46: TRUE
A47: RESULTS_SEARCH_1_PARAMETERS_do_reverse_search | B47: TRUE
A48: RESULTS_SEARCH_1_PARAMETERS_max_quant_labels | B48: 35
A49: RESULTS_SEARCH_1_PARAMETERS_maxresults | B49: 15
A50: RESULTS_SEARCH_1_PARAMETERS_separate_searches | B50: FALSE
A51: RESULTS_SEARCH_1_PARAMETERS_MSTOLERANCE_type | B51: dalton
A52: RESULTS_SEARCH_1_PARAMETERS_MSTOLERANCE_value | B52: 0.05
A53: RESULTS_SEARCH_1_PARAMETERS_MSMSTOLERANCE_type | B53: dalton
A54: RESULTS_SEARCH_1_PARAMETERS_MSMSTOLERANCE_value | B54: 0.1
A55: RESULTS_SEARCH_1_PARAMETERS_MS_STANDARD_DEVIATION_type | B55: dalton
A56: RESULTS_SEARCH_1_PARAMETERS_MS_STANDARD_DEVIATION_value | B56: 0.0011
A57: RESULTS_SEARCH_1_PARAMETERS_MSMS_STANDARD_DEVIATION_type | B57: dalton
A58: RESULTS_SEARCH_1_PARAMETERS_MSMS_STANDARD_DEVIATION_value | B58: 0.01
A59: RESULTS_SEARCH_1_PARAMETERS_FASTA_filename | B59: C:\AB SCIEX\ProteinPilot Data\SearchDatabases\uniprot-homo+sapiens-filtered-reviewed_yes.fasta
A60: RESULTS_SEARCH_1_PARAMETERS_AUTO_CALIBRATION_ms | B60: TRUE
...

Sheet Metadata Calculations
B1: Subsearch | C1: Search string | D1: present | E1: {=IF(D1=1,OFFSET(Metadata!$B$1,MIN(IF(OFFSET(Metadata!$A$1,0,0,Metadata!Metadata_Table_Length,1)='Curated Metadata'!A1,ROW(OFFSET(Metadata!$A$1,0,0,Metadata!Metadata_Table_Length,1))-1,"")),0),"")} | F1: File index down | G1: Part number | H1: Spectra - 'original' | I1: Spectra 'count' - non-empty? | J1: max original Spectra for part | K1: Max non-empty spectra for part | L1: File Index for first only
B2: =IF(A9>0,1,"") -> 1 | C2: =IF(B2<>"",CONCATENATE("RESULTS_SEARCH_",B2,"_PARAMETERS_PEAKLIST_rawdatafilename"),"") -> RESULTS_SEARCH_1_PARAMETERS_PEAKLIST_rawdatafilename | D2: {=IFERROR(IF(B2<>"",IF(OR(EXACT(OFFSET(Metadata!$A$1,0,0,Metadata!Metadata_Table_Length,1),C2)),1,""),""),"")} | E2: {=IFERROR(IF(B2<>"",IF(D2=1,OFFSET(Metadata!$B$1,MIN(IF(OFFSET(Metadata!$A$1,0,0,Metadata!Metadata_Table_Length,1)=C2,ROW(OFFSET(Metadata!$A$1,0,0,Metadata!Metadata_Table_Length,1))-1,"")),0),OFFSET(Metadata!$B$1,MIN(IF(OFFSET(Metadata!$A$1,0,0,Metadata!Metadata_Table_Length,1)=SUBSTITUTE(C2,"rawdatafilename","originalfilename"),ROW(OFFSET(Metadata!$A$1,0,0,Metadata!Metadata_Table_Length,1))-1,"")),0)),""),"")} -> D:\Data 6600plus\23021_DDA\HG_HI_1.wiff | F2: 1 | G2: {=IF(B2<>"",OFFSET(Metadata!$B$1,MIN(IF(OFFSET(Metadata!$A$1,0,0,Metadata!Metadata_Table_Length,1)=SUBSTITUTE(C2,"rawdatafilename","partnumber"),ROW(OFFSET(Metadata!$A$1,0,0,Metadata!Metadata_Table_Length,1))-1,"")),0),"")} -> 1 | H2: {=IF(B2<>"",OFFSET(Metadata!$B$1,MIN(IF(OFFSET(Metadata!$A$1,0,0,Metadata!Metadata_Table_Length,1)=SUBSTITUTE(C2,"rawdatafilename","original_count"),ROW(OFFSET(Metadata!$A$1,0,0,Metadata!Metadata_Table_Length,1))-1,"")),0),"")} -> 3813 | I2: {=IF(B2<>"",OFFSET(Metadata!$B$1,MIN(IF(OFFSET(Metadata!$A$1,0,0,Metadata!Metadata_Table_Length,1)=SUBSTITUTE(C2,"rawdatafilename","count"),ROW(OFFSET(Metadata!$A$1,0,0,Metadata!Metadata_Table_Length,1))-1,"")),0),"")} -> 3813 | J2: {=IF(AND(G2<>"",G2<>G1),MAX(IF(G$2:G$2001=G2,H$2:H$2001,"")),"")} -> 3813 | K2: {=IF(AND(G2<>"",G2<>G1),MAX(IF(G$2:G$2001=G2,I$2:I$2001,"")),"")} -> 3813 | L2: =IF(F2<>"",IF(F2<>F1,F2,""),"") -> 1
B3: =IF(B2<>"",IF(B2+1<=$A$9,B2+1,""),"") -> 2 | C3: =IF(B3<>"",CONCATENATE("RESULTS_SEARCH_",B3,"_PARAMETERS_PEAKLIST_rawdatafilename"),"") -> RESULTS_SEARCH_2_PARAMETERS_PEAKLIST_rawdatafilename | D3: {=IFERROR(IF(B3<>"",IF(OR(EXACT(OFFSET(Metadata!$A$1,0,0,Metadata!Metadata_Table_Length,1),C3)),1,""),""),"")} | E3: {=IF(B3<>"",IF(D3=1,OFFSET(Metadata!$B$1,MIN(IF(OFFSET(Metadata!$A$1,0,0,Metadata!Metadata_Table_Length,1)=C3,ROW(OFFSET(Metadata!$A$1,0,0,Metadata!Metadata_Table_Length,1))-1,"")),0),OFFSET(Metadata!$B$1,MIN(IF(OFFSET(Metadata!$A$1,0,0,Metadata!Metadata_Table_Length,1)=SUBSTITUTE(C3,"rawdatafilename","originalfilename"),ROW(OFFSET(Metadata!$A$1,0,0,Metadata!Metadata_Table_Length,1))-1,"")),0)),"")} -> D:\Data 6600plus\23021_DDA\HG_HI_1.wiff | F3: =IF(F2<>"",IF(E3<>"",IF(E3<>E2,F2+1,F2),""),"") -> 1 | G3: {=IF(B3<>"",OFFSET(Metadata!$B$1,MIN(IF(OFFSET(Metadata!$A$1,0,0,Metadata!Metadata_Table_Length,1)=SUBSTITUTE(C3,"rawdatafilename","partnumber"),ROW(OFFSET(Metadata!$A$1,0,0,Metadata!Metadata_Table_Length,1))-1,"")),0),"")} -> 1 | H3: {=IF(B3<>"",OFFSET(Metadata!$B$1,MIN(IF(OFFSET(Metadata!$A$1,0,0,Metadata!Metadata_Table_Length,1)=SUBSTITUTE(C3,"rawdatafilename","original_count"),ROW(OFFSET(Metadata!$A$1,0,0,Metadata!Metadata_Table_Length,1))-1,"")),0),"")} -> 3813 | I3: {=IF(B3<>"",OFFSET(Metadata!$B$1,MIN(IF(OFFSET(Metadata!$A$1,0,0,Metadata!Metadata_Table_Length,1)=SUBSTITUTE(C3,"rawdatafilename","count"),ROW(OFFSET(Metadata!$A$1,0,0,Metadata!Metadata_Table_Length,1))-1,"")),0),"")} -> 3813 | J3: {=IF(AND(G3<>"",G3<>G2),MAX(IF(G$2:G$2001=G3,H$2:H$2001,"")),"")} | K3: {=IF(AND(G3<>"",G3<>G2),MAX(IF(G$2:G$2001=G3,I$2:I$2001,"")),"")} | L3: =IF(F3<>"",IF(F3<>F2,F3,""),"")
B4: =IF(B3<>"",IF(B3+1<=$A$9,B3+1,""),"") -> 3 | C4: =IF(B4<>"",CONCATENATE("RESULTS_SEARCH_",B4,"_PARAMETERS_PEAKLIST_rawdatafilename"),"") -> RESULTS_SEARCH_3_PARAMETERS_PEAKLIST_rawdatafilename | D4: {=IFERROR(IF(B4<>"",IF(OR(EXACT(OFFSET(Metadata!$A$1,0,0,Metadata!Metadata_Table_Length,1),C4)),1,""),""),"")} | E4: {=IF(B4<>"",IF(D4=1,OFFSET(Metadata!$B$1,MIN(IF(OFFSET(Metadata!$A$1,0,0,Metadata!Metadata_Table_Length,1)=C4,ROW(OFFSET(Metadata!$A$1,0,0,Metadata!Metadata_Table_Length,1))-1,"")),0),OFFSET(Metadata!$B$1,MIN(IF(OFFSET(Metadata!$A$1,0,0,Metadata!Metadata_Table_Length,1)=SUBSTITUTE(C4,"rawdatafilename","originalfilename"),ROW(OFFSET(Metadata!$A$1,0,0,Metadata!Metadata_Table_Length,1))-1,"")),0)),"")} -> D:\Data 6600plus\23021_DDA\HG_HI_2.wiff | F4: =IF(F3<>"",IF(E4<>"",IF(E4<>E3,F3+1,F3),""),"") -> 2 | G4: {=IF(B4<>"",OFFSET(Metadata!$B$1,MIN(IF(OFFSET(Metadata!$A$1,0,0,Metadata!Metadata_Table_Length,1)=SUBSTITUTE(C4,"rawdatafilename","partnumber"),ROW(OFFSET(Metadata!$A$1,0,0,Metadata!Metadata_Table_Length,1))-1,"")),0),"")} -> 2 | H4: {=IF(B4<>"",OFFSET(Metadata!$B$1,MIN(IF(OFFSET(Metadata!$A$1,0,0,Metadata!Metadata_Table_Length,1)=SUBSTITUTE(C4,"rawdatafilename","original_count"),ROW(OFFSET(Metadata!$A$1,0,0,Metadata!Metadata_Table_Length,1))-1,"")),0),"")} -> 2585 | I4: {=IF(B4<>"",OFFSET(Metadata!$B$1,MIN(IF(OFFSET(Metadata!$A$1,0,0,Metadata!Metadata_Table_Length,1)=SUBSTITUTE(C4,"rawdatafilename","count"),ROW(OFFSET(Metadata!$A$1,0,0,Metadata!Metadata_Table_Length,1))-1,"")),0),"")} -> 2585 | J4: {=IF(AND(G4<>"",G4<>G3),MAX(IF(G$2:G$2001=G4,H$2:H$2001,"")),"")} -> 2585 | K4: {=IF(AND(G4<>"",G4<>G3),MAX(IF(G$2:G$2001=G4,I$2:I$2001,"")),"")} -> 2585 | L4: =IF(F4<>"",IF(F4<>F3,F4,""),"") -> 2
A5: 1 if Rapid, 2 if Thor | B5: =IF(B4<>"",IF(B4+1<=$A$9,B4+1,""),"") -> 4 | C5: =IF(B5<>"",CONCATENATE("RESULTS_SEARCH_",B5,"_PARAMETERS_PEAKLIST_rawdatafilename"),"") -> RESULTS_SEARCH_4_PARAMETERS_PEAKLIST_rawdatafilename | D5: {=IFERROR(IF(B5<>"",IF(OR(EXACT(OFFSET(Metadata!$A$1,0,0,Metadata!Metadata_Table_Length,1),C5)),1,""),""),"")} | E5: {=IF(B5<>"",IF(D5=1,OFFSET(Metadata!$B$1,MIN(IF(OFFSET(Metadata!$A$1,0,0,Metadata!Metadata_Table_Length,1)=C5,ROW(OFFSET(Metadata!$A$1,0,0,Metadata!Metadata_Table_Length,1))-1,"")),0),OFFSET(Metadata!$B$1,MIN(IF(OFFSET(Metadata!$A$1,0,0,Metadata!Metadata_Table_Length,1)=SUBSTITUTE(C5,"rawdatafilename","originalfilename"),ROW(OFFSET(Metadata!$A$1,0,0,Metadata!Metadata_Table_Length,1))-1,"")),0)),"")} -> D:\Data 6600plus\23021_DDA\HG_HI_2.wiff | F5: =IF(F4<>"",IF(E5<>"",IF(E5<>E4,F4+1,F4),""),"") -> 2 | G5: {=IF(B5<>"",OFFSET(Metadata!$B$1,MIN(IF(OFFSET(Metadata!$A$1,0,0,Metadata!Metadata_Table_Length,1)=SUBSTITUTE(C5,"rawdatafilename","partnumber"),ROW(OFFSET(Metadata!$A$1,0,0,Metadata!Metadata_Table_Length,1))-1,"")),0),"")} -> 2 | H5: {=IF(B5<>"",OFFSET(Metadata!$B$1,MIN(IF(OFFSET(Metadata!$A$1,0,0,Metadata!Metadata_Table_Length,1)=SUBSTITUTE(C5,"rawdatafilename","original_count"),ROW(OFFSET(Metadata!$A$1,0,0,Metadata!Metadata_Table_Length,1))-1,"")),0),"")} -> 2585 | I5: {=IF(B5<>"",OFFSET(Metadata!$B$1,MIN(IF(OFFSET(Metadata!$A$1,0,0,Metadata!Metadata_Table_Length,1)=SUBSTITUTE(C5,"rawdatafilename","count"),ROW(OFFSET(Metadata!$A$1,0,0,Metadata!Metadata_Table_Length,1))-1,"")),0),"")} -> 2585 | J5: {=IF(AND(G5<>"",G5<>G4),MAX(IF(G$2:G$2001=G5,H$2:H$2001,"")),"")} | K5: {=IF(AND(G5<>"",G5<>G4),MAX(IF(G$2:G$2001=G5,I$2:I$2001,"")),"")} | L5: =IF(F5<>"",IF(F5<>F4,F5,""),"")
A6: {=IFERROR(IF(OFFSET(Metadata!$B$1,MIN(IF(OFFSET(Metadata!$A$1,0,0,Metadata!Metadata_Table_Length,1)="RESULTS_SEARCH_1_PARAMETERS_PARAGON_METHOD_SETTINGS_UI_SEARCH_EFFORT",ROW(OFFSET(Metadata!$A$1,0,0,Metadata!Metadata_Table_Length,1))-1,"")),0)="Rapid",1,2),"")} -> 2 | B6: =IF(B5<>"",IF(B5+1<=$A$9,B5+1,""),"") -> 5 | C6: =IF(B6<>"",CONCATENATE("RESULTS_SEARCH_",B6,"_PARAMETERS_PEAKLIST_rawdatafilename"),"") -> RESULTS_SEARCH_5_PARAMETERS_PEAKLIST_rawdatafilename | D6: {=IFERROR(IF(B6<>"",IF(OR(EXACT(OFFSET(Metadata!$A$1,0,0,Metadata!Metadata_Table_Length,1),C6)),1,""),""),"")} | E6: {=IF(B6<>"",IF(D6=1,OFFSET(Metadata!$B$1,MIN(IF(OFFSET(Metadata!$A$1,0,0,Metadata!Metadata_Table_Length,1)=C6,ROW(OFFSET(Metadata!$A$1,0,0,Metadata!Metadata_Table_Length,1))-1,"")),0),OFFSET(Metadata!$B$1,MIN(IF(OFFSET(Metadata!$A$1,0,0,Metadata!Metadata_Table_Length,1)=SUBSTITUTE(C6,"rawdatafilename","originalfilename"),ROW(OFFSET(Metadata!$A$1,0,0,Metadata!Metadata_Table_Length,1))-1,"")),0)),"")} -> D:\Data 6600plus\23021_DDA\HG_HI_2.wiff | F6: =IF(F5<>"",IF(E6<>"",IF(E6<>E5,F5+1,F5),""),"") -> 2 | G6: {=IF(B6<>"",OFFSET(Metadata!$B$1,MIN(IF(OFFSET(Metadata!$A$1,0,0,Metadata!Metadata_Table_Length,1)=SUBSTITUTE(C6,"rawdatafilename","partnumber"),ROW(OFFSET(Metadata!$A$1,0,0,Metadata!Metadata_Table_Length,1))-1,"")),0),"")} -> 3 | H6: {=IF(B6<>"",OFFSET(Metadata!$B$1,MIN(IF(OFFSET(Metadata!$A$1,0,0,Metadata!Metadata_Table_Length,1)=SUBSTITUTE(C6,"rawdatafilename","original_count"),ROW(OFFSET(Metadata!$A$1,0,0,Metadata!Metadata_Table_Length,1))-1,"")),0),"")} -> 2584 | I6: {=IF(B6<>"",OFFSET(Metadata!$B$1,MIN(IF(OFFSET(Metadata!$A$1,0,0,Metadata!Metadata_Table_Length,1)=SUBSTITUTE(C6,"rawdatafilename","count"),ROW(OFFSET(Metadata!$A$1,0,0,Metadata!Metadata_Table_Length,1))-1,"")),0),"")} -> 2584 | J6: {=IF(AND(G6<>"",G6<>G5),MAX(IF(G$2:G$2001=G6,H$2:H$2001,"")),"")} -> 2584 | K6: {=IF(AND(G6<>"",G6<>G5),MAX(IF(G$2:G$2001=G6,I$2:I$2001,"")),"")} -> 2584 | L6: =IF(F6<>"",IF(F6<>F5,F6,""),"")
B7: =IF(B6<>"",IF(B6+1<=$A$9,B6+1,""),"") -> 6 | C7: =IF(B7<>"",CONCATENATE("RESULTS_SEARCH_",B7,"_PARAMETERS_PEAKLIST_rawdatafilename"),"") -> RESULTS_SEARCH_6_PARAMETERS_PEAKLIST_rawdatafilename | D7: {=IFERROR(IF(B7<>"",IF(OR(EXACT(OFFSET(Metadata!$A$1,0,0,Metadata!Metadata_Table_Length,1),C7)),1,""),""),"")} | E7: {=IF(B7<>"",IF(D7=1,OFFSET(Metadata!$B$1,MIN(IF(OFFSET(Metadata!$A$1,0,0,Metadata!Metadata_Table_Length,1)=C7,ROW(OFFSET(Metadata!$A$1,0,0,Metadata!Metadata_Table_Length,1))-1,"")),0),OFFSET(Metadata!$B$1,MIN(IF(OFFSET(Metadata!$A$1,0,0,Metadata!Metadata_Table_Length,1)=SUBSTITUTE(C7,"rawdatafilename","originalfilename"),ROW(OFFSET(Metadata!$A$1,0,0,Metadata!Metadata_Table_Length,1))-1,"")),0)),"")} -> D:\Data 6600plus\23021_DDA\HG_HI_2.wiff | F7: =IF(F6<>"",IF(E7<>"",IF(E7<>E6,F6+1,F6),""),"") -> 2 | G7: {=IF(B7<>"",OFFSET(Metadata!$B$1,MIN(IF(OFFSET(Metadata!$A$1,0,0,Metadata!Metadata_Table_Length,1)=SUBSTITUTE(C7,"rawdatafilename","partnumber"),ROW(OFFSET(Metadata!$A$1,0,0,Metadata!Metadata_Table_Length,1))-1,"")),0),"")} -> 3 | H7: {=IF(B7<>"",OFFSET(Metadata!$B$1,MIN(IF(OFFSET(Metadata!$A$1,0,0,Metadata!Metadata_Table_Length,1)=SUBSTITUTE(C7,"rawdatafilename","original_count"),ROW(OFFSET(Metadata!$A$1,0,0,Metadata!Metadata_Table_Length,1))-1,"")),0),"")} -> 2584 | I7: {=IF(B7<>"",OFFSET(Metadata!$B$1,MIN(IF(OFFSET(Metadata!$A$1,0,0,Metadata!Metadata_Table_Length,1)=SUBSTITUTE(C7,"rawdatafilename","count"),ROW(OFFSET(Metadata!$A$1,0,0,Metadata!Metadata_Table_Length,1))-1,"")),0),"")} -> 2584 | J7: {=IF(AND(G7<>"",G7<>G6),MAX(IF(G$2:G$2001=G7,H$2:H$2001,"")),"")} | K7: {=IF(AND(G7<>"",G7<>G6),MAX(IF(G$2:G$2001=G7,I$2:I$2001,"")),"")} | L7: =IF(F7<>"",IF(F7<>F6,F7,""),"")
A8: # Segments | B8: =IF(B7<>"",IF(B7+1<=$A$9,B7+1,""),"") -> 7 | C8: =IF(B8<>"",CONCATENATE("RESULTS_SEARCH_",B8,"_PARAMETERS_PEAKLIST_rawdatafilename"),"") -> RESULTS_SEARCH_7_PARAMETERS_PEAKLIST_rawdatafilename | D8: {=IFERROR(IF(B8<>"",IF(OR(EXACT(OFFSET(Metadata!$A$1,0,0,Metadata!Metadata_Table_Length,1),C8)),1,""),""),"")} | E8: {=IF(B8<>"",IF(D8=1,OFFSET(Metadata!$B$1,MIN(IF(OFFSET(Metadata!$A$1,0,0,Metadata!Metadata_Table_Length,1)=C8,ROW(OFFSET(Metadata!$A$1,0,0,Metadata!Metadata_Table_Length,1))-1,"")),0),OFFSET(Metadata!$B$1,MIN(IF(OFFSET(Metadata!$A$1,0,0,Metadata!Metadata_Table_Length,1)=SUBSTITUTE(C8,"rawdatafilename","originalfilename"),ROW(OFFSET(Metadata!$A$1,0,0,Metadata!Metadata_Table_Length,1))-1,"")),0)),"")} -> D:\Data 6600plus\23021_DDA\HG_HI_3.wiff | F8: =IF(F7<>"",IF(E8<>"",IF(E8<>E7,F7+1,F7),""),"") -> 3 | G8: {=IF(B8<>"",OFFSET(Metadata!$B$1,MIN(IF(OFFSET(Metadata!$A$1,0,0,Metadata!Metadata_Table_Length,1)=SUBSTITUTE(C8,"rawdatafilename","partnumber"),ROW(OFFSET(Metadata!$A$1,0,0,Metadata!Metadata_Table_Length,1))-1,"")),0),"")} -> 4 | H8: {=IF(B8<>"",OFFSET(Metadata!$B$1,MIN(IF(OFFSET(Metadata!$A$1,0,0,Metadata!Metadata_Table_Length,1)=SUBSTITUTE(C8,"rawdatafilename","original_count"),ROW(OFFSET(Metadata!$A$1,0,0,Metadata!Metadata_Table_Length,1))-1,"")),0),"")} -> 2370 | I8: {=IF(B8<>"",OFFSET(Metadata!$B$1,MIN(IF(OFFSET(Metadata!$A$1,0,0,Metadata!Metadata_Table_Length,1)=SUBSTITUTE(C8,"rawdatafilename","count"),ROW(OFFSET(Metadata!$A$1,0,0,Metadata!Metadata_Table_Length,1))-1,"")),0),"")} -> 2370 | J8: {=IF(AND(G8<>"",G8<>G7),MAX(IF(G$2:G$2001=G8,H$2:H$2001,"")),"")} -> 2370 | K8: {=IF(AND(G8<>"",G8<>G7),MAX(IF(G$2:G$2001=G8,I$2:I$2001,"")),"")} -> 2370 | L8: =IF(F8<>"",IF(F8<>F7,F8,""),"") -> 3
A9: {=IFERROR(A6*MAX(IF(ISNUMBER(SEARCH("PARAMETERS_PEAKLIST_partnumber",OFFSET(Metadata!$A$1,0,0,Metadata!Metadata_Table_Length,1))),OFFSET(Metadata!$B$1,0,0,Metadata!Metadata_Table_Length,1),"")),0)} -> 14 | B9: =IF(B8<>"",IF(B8+1<=$A$9,B8+1,""),"") -> 8 | C9: =IF(B9<>"",CONCATENATE("RESULTS_SEARCH_",B9,"_PARAMETERS_PEAKLIST_rawdatafilename"),"") -> RESULTS_SEARCH_8_PARAMETERS_PEAKLIST_rawdatafilename | D9: {=IFERROR(IF(B9<>"",IF(OR(EXACT(OFFSET(Metadata!$A$1,0,0,Metadata!Metadata_Table_Length,1),C9)),1,""),""),"")} | E9: {=IF(B9<>"",IF(D9=1,OFFSET(Metadata!$B$1,MIN(IF(OFFSET(Metadata!$A$1,0,0,Metadata!Metadata_Table_Length,1)=C9,ROW(OFFSET(Metadata!$A$1,0,0,Metadata!Metadata_Table_Length,1))-1,"")),0),OFFSET(Metadata!$B$1,MIN(IF(OFFSET(Metadata!$A$1,0,0,Metadata!Metadata_Table_Length,1)=SUBSTITUTE(C9,"rawdatafilename","originalfilename"),ROW(OFFSET(Metadata!$A$1,0,0,Metadata!Metadata_Table_Length,1))-1,"")),0)),"")} -> D:\Data 6600plus\23021_DDA\HG_HI_3.wiff | F9: =IF(F8<>"",IF(E9<>"",IF(E9<>E8,F8+1,F8),""),"") -> 3 | G9: {=IF(B9<>"",OFFSET(Metadata!$B$1,MIN(IF(OFFSET(Metadata!$A$1,0,0,Metadata!Metadata_Table_Length,1)=SUBSTITUTE(C9,"rawdatafilename","partnumber"),ROW(OFFSET(Metadata!$A$1,0,0,Metadata!Metadata_Table_Length,1))-1,"")),0),"")} -> 4 | H9: {=IF(B9<>"",OFFSET(Metadata!$B$1,MIN(IF(OFFSET(Metadata!$A$1,0,0,Metadata!Metadata_Table_Length,1)=SUBSTITUTE(C9,"rawdatafilename","original_count"),ROW(OFFSET(Metadata!$A$1,0,0,Metadata!Metadata_Table_Length,1))-1,"")),0),"")} -> 2370 | I9: {=IF(B9<>"",OFFSET(Metadata!$B$1,MIN(IF(OFFSET(Metadata!$A$1,0,0,Metadata!Metadata_Table_Length,1)=SUBSTITUTE(C9,"rawdatafilename","count"),ROW(OFFSET(Metadata!$A$1,0,0,Metadata!Metadata_Table_Length,1))-1,"")),0),"")} -> 2370 | J9: {=IF(AND(G9<>"",G9<>G8),MAX(IF(G$2:G$2001=G9,H$2:H$2001,"")),"")} | K9: {=IF(AND(G9<>"",G9<>G8),MAX(IF(G$2:G$2001=G9,I$2:I$2001,"")),"")} | L9: =IF(F9<>"",IF(F9<>F8,F9,""),"")
A10: (max is 1000 segments) | B10: =IF(B9<>"",IF(B9+1<=$A$9,B9+1,""),"") -> 9 | C10: =IF(B10<>"",CONCATENATE("RESULTS_SEARCH_",B10,"_PARAMETERS_PEAKLIST_rawdatafilename"),"") -> RESULTS_SEARCH_9_PARAMETERS_PEAKLIST_rawdatafilename | D10: {=IFERROR(IF(B10<>"",IF(OR(EXACT(OFFSET(Metadata!$A$1,0,0,Metadata!Metadata_Table_Length,1),C10)),1,""),""),"")} | E10: {=IF(B10<>"",IF(D10=1,OFFSET(Metadata!$B$1,MIN(IF(OFFSET(Metadata!$A$1,0,0,Metadata!Metadata_Table_Length,1)=C10,ROW(OFFSET(Metadata!$A$1,0,0,Metadata!Metadata_Table_Length,1))-1,"")),0),OFFSET(Metadata!$B$1,MIN(IF(OFFSET(Metadata!$A$1,0,0,Metadata!Metadata_Table_Length,1)=SUBSTITUTE(C10,"rawdatafilename","originalfilename"),ROW(OFFSET(Metadata!$A$1,0,0,Metadata!Metadata_Table_Length,1))-1,"")),0)),"")} -> D:\Data 6600plus\23021_DDA\HG_HI_3.wiff | F10: =IF(F9<>"",IF(E10<>"",IF(E10<>E9,F9+1,F9),""),"") -> 3 | G10: {=IF(B10<>"",OFFSET(Metadata!$B$1,MIN(IF(OFFSET(Metadata!$A$1,0,0,Metadata!Metadata_Table_Length,1)=SUBSTITUTE(C10,"rawdatafilename","partnumber"),ROW(OFFSET(Metadata!$A$1,0,0,Metadata!Metadata_Table_Length,1))-1,"")),0),"")} -> 5 | H10: {=IF(B10<>"",OFFSET(Metadata!$B$1,MIN(IF(OFFSET(Metadata!$A$1,0,0,Metadata!Metadata_Table_Length,1)=SUBSTITUTE(C10,"rawdatafilename","original_count"),ROW(OFFSET(Metadata!$A$1,0,0,Metadata!Metadata_Table_Length,1))-1,"")),0),"")} -> 2369 | I10: {=IF(B10<>"",OFFSET(Metadata!$B$1,MIN(IF(OFFSET(Metadata!$A$1,0,0,Metadata!Metadata_Table_Length,1)=SUBSTITUTE(C10,"rawdatafilename","count"),ROW(OFFSET(Metadata!$A$1,0,0,Metadata!Metadata_Table_Length,1))-1,"")),0),"")} -> 2369 | J10: {=IF(AND(G10<>"",G10<>G9),MAX(IF(G$2:G$2001=G10,H$2:H$2001,"")),"")} -> 2369 | K10: {=IF(AND(G10<>"",G10<>G9),MAX(IF(G$2:G$2001=G10,I$2:I$2001,"")),"")} -> 2369 | L10: =IF(F10<>"",IF(F10<>F9,F10,""),"")
B11: =IF(B10<>"",IF(B10+1<=$A$9,B10+1,""),"") -> 10 | C11: =IF(B11<>"",CONCATENATE("RESULTS_SEARCH_",B11,"_PARAMETERS_PEAKLIST_rawdatafilename"),"") -> RESULTS_SEARCH_10_PARAMETERS_PEAKLIST_rawdatafilename | D11: {=IFERROR(IF(B11<>"",IF(OR(EXACT(OFFSET(Metadata!$A$1,0,0,Metadata!Metadata_Table_Length,1),C11)),1,""),""),"")} | E11: {=IF(B11<>"",IF(D11=1,OFFSET(Metadata!$B$1,MIN(IF(OFFSET(Metadata!$A$1,0,0,Metadata!Metadata_Table_Length,1)=C11,ROW(OFFSET(Metadata!$A$1,0,0,Metadata!Metadata_Table_Length,1))-1,"")),0),OFFSET(Metadata!$B$1,MIN(IF(OFFSET(Metadata!$A$1,0,0,Metadata!Metadata_Table_Length,1)=SUBSTITUTE(C11,"rawdatafilename","originalfilename"),ROW(OFFSET(Metadata!$A$1,0,0,Metadata!Metadata_Table_Length,1))-1,"")),0)),"")} -> D:\Data 6600plus\23021_DDA\HG_HI_3.wiff | F11: =IF(F10<>"",IF(E11<>"",IF(E11<>E10,F10+1,F10),""),"") -> 3 | G11: {=IF(B11<>"",OFFSET(Metadata!$B$1,MIN(IF(OFFSET(Metadata!$A$1,0,0,Metadata!Metadata_Table_Length,1)=SUBSTITUTE(C11,"rawdatafilename","partnumber"),ROW(OFFSET(Metadata!$A$1,0,0,Metadata!Metadata_Table_Length,1))-1,"")),0),"")} -> 5 | H11: {=IF(B11<>"",OFFSET(Metadata!$B$1,MIN(IF(OFFSET(Metadata!$A$1,0,0,Metadata!Metadata_Table_Length,1)=SUBSTITUTE(C11,"rawdatafilename","original_count"),ROW(OFFSET(Metadata!$A$1,0,0,Metadata!Metadata_Table_Length,1))-1,"")),0),"")} -> 2369 | I11: {=IF(B11<>"",OFFSET(Metadata!$B$1,MIN(IF(OFFSET(Metadata!$A$1,0,0,Metadata!Metadata_Table_Length,1)=SUBSTITUTE(C11,"rawdatafilename","count"),ROW(OFFSET(Metadata!$A$1,0,0,Metadata!Metadata_Table_Length,1))-1,"")),0),"")} -> 2369 | J11: {=IF(AND(G11<>"",G11<>G10),MAX(IF(G$2:G$2001=G11,H$2:H$2001,"")),"")} | K11: {=IF(AND(G11<>"",G11<>G10),MAX(IF(G$2:G$2001=G11,I$2:I$2001,"")),"")} | L11: =IF(F11<>"",IF(F11<>F10,F11,""),"")
B12: =IF(B11<>"",IF(B11+1<=$A$9,B11+1,""),"") -> 11 | C12: =IF(B12<>"",CONCATENATE("RESULTS_SEARCH_",B12,"_PARAMETERS_PEAKLIST_rawdatafilename"),"") -> RESULTS_SEARCH_11_PARAMETERS_PEAKLIST_rawdatafilename | D12: {=IFERROR(IF(B12<>"",IF(OR(EXACT(OFFSET(Metadata!$A$1,0,0,Metadata!Metadata_Table_Length,1),C12)),1,""),""),"")} | E12: {=IF(B12<>"",IF(D12=1,OFFSET(Metadata!$B$1,MIN(IF(OFFSET(Metadata!$A$1,0,0,Metadata!Metadata_Table_Length,1)=C12,ROW(OFFSET(Metadata!$A$1,0,0,Metadata!Metadata_Table_Length,1))-1,"")),0),OFFSET(Metadata!$B$1,MIN(IF(OFFSET(Metadata!$A$1,0,0,Metadata!Metadata_Table_Length,1)=SUBSTITUTE(C12,"rawdatafilename","originalfilename"),ROW(OFFSET(Metadata!$A$1,0,0,Metadata!Metadata_Table_Length,1))-1,"")),0)),"")} -> D:\Data 6600plus\23021_DDA\HG_HI_4.wiff | F12: =IF(F11<>"",IF(E12<>"",IF(E12<>E11,F11+1,F11),""),"") -> 4 | G12: {=IF(B12<>"",OFFSET(Metadata!$B$1,MIN(IF(OFFSET(Metadata!$A$1,0,0,Metadata!Metadata_Table_Length,1)=SUBSTITUTE(C12,"rawdatafilename","partnumber"),ROW(OFFSET(Metadata!$A$1,0,0,Metadata!Metadata_Table_Length,1))-1,"")),0),"")} -> 6 | H12: {=IF(B12<>"",OFFSET(Metadata!$B$1,MIN(IF(OFFSET(Metadata!$A$1,0,0,Metadata!Metadata_Table_Length,1)=SUBSTITUTE(C12,"rawdatafilename","original_count"),ROW(OFFSET(Metadata!$A$1,0,0,Metadata!Metadata_Table_Length,1))-1,"")),0),"")} -> 2619 | I12: {=IF(B12<>"",OFFSET(Metadata!$B$1,MIN(IF(OFFSET(Metadata!$A$1,0,0,Metadata!Metadata_Table_Length,1)=SUBSTITUTE(C12,"rawdatafilename","count"),ROW(OFFSET(Metadata!$A$1,0,0,Metadata!Metadata_Table_Length,1))-1,"")),0),"")} -> 2619 | J12: {=IF(AND(G12<>"",G12<>G11),MAX(IF(G$2:G$2001=G12,H$2:H$2001,"")),"")} -> 2619 | K12: {=IF(AND(G12<>"",G12<>G11),MAX(IF(G$2:G$2001=G12,I$2:I$2001,"")),"")} -> 2619 | L12: =IF(F12<>"",IF(F12<>F11,F12,""),"") -> 4
B13: =IF(B12<>"",IF(B12+1<=$A$9,B12+1,""),"") -> 12 | C13: =IF(B13<>"",CONCATENATE("RESULTS_SEARCH_",B13,"_PARAMETERS_PEAKLIST_rawdatafilename"),"") -> RESULTS_SEARCH_12_PARAMETERS_PEAKLIST_rawdatafilename | D13: {=IFERROR(IF(B13<>"",IF(OR(EXACT(OFFSET(Metadata!$A$1,0,0,Metadata!Metadata_Table_Length,1),C13)),1,""),""),"")} | E13: {=IF(B13<>"",IF(D13=1,OFFSET(Metadata!$B$1,MIN(IF(OFFSET(Metadata!$A$1,0,0,Metadata!Metadata_Table_Length,1)=C13,ROW(OFFSET(Metadata!$A$1,0,0,Metadata!Metadata_Table_Length,1))-1,"")),0),OFFSET(Metadata!$B$1,MIN(IF(OFFSET(Metadata!$A$1,0,0,Metadata!Metadata_Table_Length,1)=SUBSTITUTE(C13,"rawdatafilename","originalfilename"),ROW(OFFSET(Metadata!$A$1,0,0,Metadata!Metadata_Table_Length,1))-1,"")),0)),"")} -> D:\Data 6600plus\23021_DDA\HG_HI_4.wiff | F13: =IF(F12<>"",IF(E13<>"",IF(E13<>E12,F12+1,F12),""),"") -> 4 | G13: {=IF(B13<>"",OFFSET(Metadata!$B$1,MIN(IF(OFFSET(Metadata!$A$1,0,0,Metadata!Metadata_Table_Length,1)=SUBSTITUTE(C13,"rawdatafilename","partnumber"),ROW(OFFSET(Metadata!$A$1,0,0,Metadata!Metadata_Table_Length,1))-1,"")),0),"")} -> 6 | H13: {=IF(B13<>"",OFFSET(Metadata!$B$1,MIN(IF(OFFSET(Metadata!$A$1,0,0,Metadata!Metadata_Table_Length,1)=SUBSTITUTE(C13,"rawdatafilename","original_count"),ROW(OFFSET(Metadata!$A$1,0,0,Metadata!Metadata_Table_Length,1))-1,"")),0),"")} -> 2619 | I13: {=IF(B13<>"",OFFSET(Metadata!$B$1,MIN(IF(OFFSET(Metadata!$A$1,0,0,Metadata!Metadata_Table_Length,1)=SUBSTITUTE(C13,"rawdatafilename","count"),ROW(OFFSET(Metadata!$A$1,0,0,Metadata!Metadata_Table_Length,1))-1,"")),0),"")} -> 2619 | J13: {=IF(AND(G13<>"",G13<>G12),MAX(IF(G$2:G$2001=G13,H$2:H$2001,"")),"")} | K13: {=IF(AND(G13<>"",G13<>G12),MAX(IF(G$2:G$2001=G13,I$2:I$2001,"")),"")} | L13: =IF(F13<>"",IF(F13<>F12,F13,""),"")
B14: =IF(B13<>"",IF(B13+1<=$A$9,B13+1,""),"") -> 13 | C14: =IF(B14<>"",CONCATENATE("RESULTS_SEARCH_",B14,"_PARAMETERS_PEAKLIST_rawdatafilename"),"") -> RESULTS_SEARCH_13_PARAMETERS_PEAKLIST_rawdatafilename | D14: {=IFERROR(IF(B14<>"",IF(OR(EXACT(OFFSET(Metadata!$A$1,0,0,Metadata!Metadata_Table_Length,1),C14)),1,""),""),"")} | E14: {=IF(B14<>"",IF(D14=1,OFFSET(Metadata!$B$1,MIN(IF(OFFSET(Metadata!$A$1,0,0,Metadata!Metadata_Table_Length,1)=C14,ROW(OFFSET(Metadata!$A$1,0,0,Metadata!Metadata_Table_Length,1))-1,"")),0),OFFSET(Metadata!$B$1,MIN(IF(OFFSET(Metadata!$A$1,0,0,Metadata!Metadata_Table_Length,1)=SUBSTITUTE(C14,"rawdatafilename","originalfilename"),ROW(OFFSET(Metadata!$A$1,0,0,Metadata!Metadata_Table_Length,1))-1,"")),0)),"")} -> D:\Data 6600plus\23021_DDA\HG_HI_4.wiff | F14: =IF(F13<>"",IF(E14<>"",IF(E14<>E13,F13+1,F13),""),"") -> 4 | G14: {=IF(B14<>"",OFFSET(Metadata!$B$1,MIN(IF(OFFSET(Metadata!$A$1,0,0,Metadata!Metadata_Table_Length,1)=SUBSTITUTE(C14,"rawdatafilename","partnumber"),ROW(OFFSET(Metadata!$A$1,0,0,Metadata!Metadata_Table_Length,1))-1,"")),0),"")} -> 7 | H14: {=IF(B14<>"",OFFSET(Metadata!$B$1,MIN(IF(OFFSET(Metadata!$A$1,0,0,Metadata!Metadata_Table_Length,1)=SUBSTITUTE(C14,"rawdatafilename","original_count"),ROW(OFFSET(Metadata!$A$1,0,0,Metadata!Metadata_Table_Length,1))-1,"")),0),"")} -> 2619 | I14: {=IF(B14<>"",OFFSET(Metadata!$B$1,MIN(IF(OFFSET(Metadata!$A$1,0,0,Metadata!Metadata_Table_Length,1)=SUBSTITUTE(C14,"rawdatafilename","count"),ROW(OFFSET(Metadata!$A$1,0,0,Metadata!Metadata_Table_Length,1))-1,"")),0),"")} -> 2619 | J14: {=IF(AND(G14<>"",G14<>G13),MAX(IF(G$2:G$2001=G14,H$2:H$2001,"")),"")} -> 2619 | K14: {=IF(AND(G14<>"",G14<>G13),MAX(IF(G$2:G$2001=G14,I$2:I$2001,"")),"")} -> 2619 | L14: =IF(F14<>"",IF(F14<>F13,F14,""),"")
B15: =IF(B14<>"",IF(B14+1<=$A$9,B14+1,""),"") -> 14 | C15: =IF(B15<>"",CONCATENATE("RESULTS_SEARCH_",B15,"_PARAMETERS_PEAKLIST_rawdatafilename"),"") -> RESULTS_SEARCH_14_PARAMETERS_PEAKLIST_rawdatafilename | D15: {=IFERROR(IF(B15<>"",IF(OR(EXACT(OFFSET(Metadata!$A$1,0,0,Metadata!Metadata_Table_Length,1),C15)),1,""),""),"")} | E15: {=IF(B15<>"",IF(D15=1,OFFSET(Metadata!$B$1,MIN(IF(OFFSET(Metadata!$A$1,0,0,Metadata!Metadata_Table_Length,1)=C15,ROW(OFFSET(Metadata!$A$1,0,0,Metadata!Metadata_Table_Length,1))-1,"")),0),OFFSET(Metadata!$B$1,MIN(IF(OFFSET(Metadata!$A$1,0,0,Metadata!Metadata_Table_Length,1)=SUBSTITUTE(C15,"rawdatafilename","originalfilename"),ROW(OFFSET(Metadata!$A$1,0,0,Metadata!Metadata_Table_Length,1))-1,"")),0)),"")} -> D:\Data 6600plus\23021_DDA\HG_HI_4.wiff | F15: =IF(F14<>"",IF(E15<>"",IF(E15<>E14,F14+1,F14),""),"") -> 4 | G15: {=IF(B15<>"",OFFSET(Metadata!$B$1,MIN(IF(OFFSET(Metadata!$A$1,0,0,Metadata!Metadata_Table_Length,1)=SUBSTITUTE(C15,"rawdatafilename","partnumber"),ROW(OFFSET(Metadata!$A$1,0,0,Metadata!Metadata_Table_Length,1))-1,"")),0),"")} -> 7 | H15: {=IF(B15<>"",OFFSET(Metadata!$B$1,MIN(IF(OFFSET(Metadata!$A$1,0,0,Metadata!Metadata_Table_Length,1)=SUBSTITUTE(C15,"rawdatafilename","original_count"),ROW(OFFSET(Metadata!$A$1,0,0,Metadata!Metadata_Table_Length,1))-1,"")),0),"")} -> 2619 | I15: {=IF(B15<>"",OFFSET(Metadata!$B$1,MIN(IF(OFFSET(Metadata!$A$1,0,0,Metadata!Metadata_Table_Length,1)=SUBSTITUTE(C15,"rawdatafilename","count"),ROW(OFFSET(Metadata!$A$1,0,0,Metadata!Metadata_Table_Length,1))-1,"")),0),"")} -> 2619 | J15: {=IF(AND(G15<>"",G15<>G14),MAX(IF(G$2:G$2001=G15,H$2:H$2001,"")),"")} | K15: {=IF(AND(G15<>"",G15<>G14),MAX(IF(G$2:G$2001=G15,I$2:I$2001,"")),"")} | L15: =IF(F15<>"",IF(F15<>F14,F15,""),"")
B16: =IF(B15<>"",IF(B15+1<=$A$9,B15+1,""),"") | C16: =IF(B16<>"",CONCATENATE("RESULTS_SEARCH_",B16,"_PARAMETERS_PEAKLIST_rawdatafilename"),"") | D16: {=IFERROR(IF(B16<>"",IF(OR(EXACT(OFFSET(Metadata!$A$1,0,0,Metadata!Metadata_Table_Length,1),C16)),1,""),""),"")} | E16: {=IF(B16<>"",IF(D16=1,OFFSET(Metadata!$B$1,MIN(IF(OFFSET(Metadata!$A$1,0,0,Metadata!Metadata_Table_Length,1)=C16,ROW(OFFSET(Metadata!$A$1,0,0,Metadata!Metadata_Table_Length,1))-1,"")),0),OFFSET(Metadata!$B$1,MIN(IF(OFFSET(Metadata!$A$1,0,0,Metadata!Metadata_Table_Length,1)=SUBSTITUTE(C16,"rawdatafilename","originalfilename"),ROW(OFFSET(Metadata!$A$1,0,0,Metadata!Metadata_Table_Length,1))-1,"")),0)),"")} | F16: =IF(F15<>"",IF(E16<>"",IF(E16<>E15,F15+1,F15),""),"") | G16: {=IF(B16<>"",OFFSET(Metadata!$B$1,MIN(IF(OFFSET(Metadata!$A$1,0,0,Metadata!Metadata_Table_Length,1)=SUBSTITUTE(C16,"rawdatafilename","partnumber"),ROW(OFFSET(Metadata!$A$1,0,0,Metadata!Metadata_Table_Length,1))-1,"")),0),"")} | H16: {=IF(B16<>"",OFFSET(Metadata!$B$1,MIN(IF(OFFSET(Metadata!$A$1,0,0,Metadata!Metadata_Table_Length,1)=SUBSTITUTE(C16,"rawdatafilename","original_count"),ROW(OFFSET(Metadata!$A$1,0,0,Metadata!Metadata_Table_Length,1))-1,"")),0),"")} | I16: {=IF(B16<>"",OFFSET(Metadata!$B$1,MIN(IF(OFFSET(Metadata!$A$1,0,0,Metadata!Metadata_Table_Length,1)=SUBSTITUTE(C16,"rawdatafilename","count"),ROW(OFFSET(Metadata!$A$1,0,0,Metadata!Metadata_Table_Length,1))-1,"")),0),"")} | J16: {=IF(AND(G16<>"",G16<>G15),MAX(IF(G$2:G$2001=G16,H$2:H$2001,"")),"")} | K16: {=IF(AND(G16<>"",G16<>G15),MAX(IF(G$2:G$2001=G16,I$2:I$2001,"")),"")} | L16: =IF(F16<>"",IF(F16<>F15,F16,""),"")
B17: =IF(B16<>"",IF(B16+1<=$A$9,B16+1,""),"") | C17: =IF(B17<>"",CONCATENATE("RESULTS_SEARCH_",B17,"_PARAMETERS_PEAKLIST_rawdatafilename"),"") | D17: {=IFERROR(IF(B17<>"",IF(OR(EXACT(OFFSET(Metadata!$A$1,0,0,Metadata!Metadata_Table_Length,1),C17)),1,""),""),"")} | E17: {=IF(B17<>"",IF(D17=1,OFFSET(Metadata!$B$1,MIN(IF(OFFSET(Metadata!$A$1,0,0,Metadata!Metadata_Table_Length,1)=C17,ROW(OFFSET(Metadata!$A$1,0,0,Metadata!Metadata_Table_Length,1))-1,"")),0),OFFSET(Metadata!$B$1,MIN(IF(OFFSET(Metadata!$A$1,0,0,Metadata!Metadata_Table_Length,1)=SUBSTITUTE(C17,"rawdatafilename","originalfilename"),ROW(OFFSET(Metadata!$A$1,0,0,Metadata!Metadata_Table_Length,1))-1,"")),0)),"")} | F17: =IF(F16<>"",IF(E17<>"",IF(E17<>E16,F16+1,F16),""),"") | G17: {=IF(B17<>"",OFFSET(Metadata!$B$1,MIN(IF(OFFSET(Metadata!$A$1,0,0,Metadata!Metadata_Table_Length,1)=SUBSTITUTE(C17,"rawdatafilename","partnumber"),ROW(OFFSET(Metadata!$A$1,0,0,Metadata!Metadata_Table_Length,1))-1,"")),0),"")} | H17: {=IF(B17<>"",OFFSET(Metadata!$B$1,MIN(IF(OFFSET(Metadata!$A$1,0,0,Metadata!Metadata_Table_Length,1)=SUBSTITUTE(C17,"rawdatafilename","original_count"),ROW(OFFSET(Metadata!$A$1,0,0,Metadata!Metadata_Table_Length,1))-1,"")),0),"")} | I17: {=IF(B17<>"",OFFSET(Metadata!$B$1,MIN(IF(OFFSET(Metadata!$A$1,0,0,Metadata!Metadata_Table_Length,1)=SUBSTITUTE(C17,"rawdatafilename","count"),ROW(OFFSET(Metadata!$A$1,0,0,Metadata!Metadata_Table_Length,1))-1,"")),0),"")} | J17: {=IF(AND(G17<>"",G17<>G16),MAX(IF(G$2:G$2001=G17,H$2:H$2001,"")),"")} | K17: {=IF(AND(G17<>"",G17<>G16),MAX(IF(G$2:G$2001=G17,I$2:I$2001,"")),"")} | L17: =IF(F17<>"",IF(F17<>F16,F17,""),"")
B18: =IF(B17<>"",IF(B17+1<=$A$9,B17+1,""),"") | C18: =IF(B18<>"",CONCATENATE("RESULTS_SEARCH_",B18,"_PARAMETERS_PEAKLIST_rawdatafilename"),"") | D18: {=IFERROR(IF(B18<>"",IF(OR(EXACT(OFFSET(Metadata!$A$1,0,0,Metadata!Metadata_Table_Length,1),C18)),1,""),""),"")} | E18: {=IF(B18<>"",IF(D18=1,OFFSET(Metadata!$B$1,MIN(IF(OFFSET(Metadata!$A$1,0,0,Metadata!Metadata_Table_Length,1)=C18,ROW(OFFSET(Metadata!$A$1,0,0,Metadata!Metadata_Table_Length,1))-1,"")),0),OFFSET(Metadata!$B$1,MIN(IF(OFFSET(Metadata!$A$1,0,0,Metadata!Metadata_Table_Length,1)=SUBSTITUTE(C18,"rawdatafilename","originalfilename"),ROW(OFFSET(Metadata!$A$1,0,0,Metadata!Metadata_Table_Length,1))-1,"")),0)),"")} | F18: =IF(F17<>"",IF(E18<>"",IF(E18<>E17,F17+1,F17),""),"") | G18: {=IF(B18<>"",OFFSET(Metadata!$B$1,MIN(IF(OFFSET(Metadata!$A$1,0,0,Metadata!Metadata_Table_Length,1)=SUBSTITUTE(C18,"rawdatafilename","partnumber"),ROW(OFFSET(Metadata!$A$1,0,0,Metadata!Metadata_Table_Length,1))-1,"")),0),"")} | H18: {=IF(B18<>"",OFFSET(Metadata!$B$1,MIN(IF(OFFSET(Metadata!$A$1,0,0,Metadata!Metadata_Table_Length,1)=SUBSTITUTE(C18,"rawdatafilename","original_count"),ROW(OFFSET(Metadata!$A$1,0,0,Metadata!Metadata_Table_Length,1))-1,"")),0),"")} | I18: {=IF(B18<>"",OFFSET(Metadata!$B$1,MIN(IF(OFFSET(Metadata!$A$1,0,0,Metadata!Metadata_Table_Length,1)=SUBSTITUTE(C18,"rawdatafilename","count"),ROW(OFFSET(Metadata!$A$1,0,0,Metadata!Metadata_Table_Length,1))-1,"")),0),"")} | J18: {=IF(AND(G18<>"",G18<>G17),MAX(IF(G$2:G$2001=G18,H$2:H$2001,"")),"")} | K18: {=IF(AND(G18<>"",G18<>G17),MAX(IF(G$2:G$2001=G18,I$2:I$2001,"")),"")} | L18: =IF(F18<>"",IF(F18<>F17,F18,""),"")
B19: =IF(B18<>"",IF(B18+1<=$A$9,B18+1,""),"") | C19: =IF(B19<>"",CONCATENATE("RESULTS_SEARCH_",B19,"_PARAMETERS_PEAKLIST_rawdatafilename"),"") | D19: {=IFERROR(IF(B19<>"",IF(OR(EXACT(OFFSET(Metadata!$A$1,0,0,Metadata!Metadata_Table_Length,1),C19)),1,""),""),"")} | E19: {=IF(B19<>"",IF(D19=1,OFFSET(Metadata!$B$1,MIN(IF(OFFSET(Metadata!$A$1,0,0,Metadata!Metadata_Table_Length,1)=C19,ROW(OFFSET(Metadata!$A$1,0,0,Metadata!Metadata_Table_Length,1))-1,"")),0),OFFSET(Metadata!$B$1,MIN(IF(OFFSET(Metadata!$A$1,0,0,Metadata!Metadata_Table_Length,1)=SUBSTITUTE(C19,"rawdatafilename","originalfilename"),ROW(OFFSET(Metadata!$A$1,0,0,Metadata!Metadata_Table_Length,1))-1,"")),0)),"")} | F19: =IF(F18<>"",IF(E19<>"",IF(E19<>E18,F18+1,F18),""),"") | G19: {=IF(B19<>"",OFFSET(Metadata!$B$1,MIN(IF(OFFSET(Metadata!$A$1,0,0,Metadata!Metadata_Table_Length,1)=SUBSTITUTE(C19,"rawdatafilename","partnumber"),ROW(OFFSET(Metadata!$A$1,0,0,Metadata!Metadata_Table_Length,1))-1,"")),0),"")} | H19: {=IF(B19<>"",OFFSET(Metadata!$B$1,MIN(IF(OFFSET(Metadata!$A$1,0,0,Metadata!Metadata_Table_Length,1)=SUBSTITUTE(C19,"rawdatafilename","original_count"),ROW(OFFSET(Metadata!$A$1,0,0,Metadata!Metadata_Table_Length,1))-1,"")),0),"")} | I19: {=IF(B19<>"",OFFSET(Metadata!$B$1,MIN(IF(OFFSET(Metadata!$A$1,0,0,Metadata!Metadata_Table_Length,1)=SUBSTITUTE(C19,"rawdatafilename","count"),ROW(OFFSET(Metadata!$A$1,0,0,Metadata!Metadata_Table_Length,1))-1,"")),0),"")} | J19: {=IF(AND(G19<>"",G19<>G18),MAX(IF(G$2:G$2001=G19,H$2:H$2001,"")),"")} | K19: {=IF(AND(G19<>"",G19<>G18),MAX(IF(G$2:G$2001=G19,I$2:I$2001,"")),"")} | L19: =IF(F19<>"",IF(F19<>F18,F19,""),"")
B20: =IF(B19<>"",IF(B19+1<=$A$9,B19+1,""),"") | C20: =IF(B20<>"",CONCATENATE("RESULTS_SEARCH_",B20,"_PARAMETERS_PEAKLIST_rawdatafilename"),"") | D20: {=IFERROR(IF(B20<>"",IF(OR(EXACT(OFFSET(Metadata!$A$1,0,0,Metadata!Metadata_Table_Length,1),C20)),1,""),""),"")} | E20: {=IF(B20<>"",IF(D20=1,OFFSET(Metadata!$B$1,MIN(IF(OFFSET(Metadata!$A$1,0,0,Metadata!Metadata_Table_Length,1)=C20,ROW(OFFSET(Metadata!$A$1,0,0,Metadata!Metadata_Table_Length,1))-1,"")),0),OFFSET(Metadata!$B$1,MIN(IF(OFFSET(Metadata!$A$1,0,0,Metadata!Metadata_Table_Length,1)=SUBSTITUTE(C20,"rawdatafilename","originalfilename"),ROW(OFFSET(Metadata!$A$1,0,0,Metadata!Metadata_Table_Length,1))-1,"")),0)),"")} | F20: =IF(F19<>"",IF(E20<>"",IF(E20<>E19,F19+1,F19),""),"") | G20: {=IF(B20<>"",OFFSET(Metadata!$B$1,MIN(IF(OFFSET(Metadata!$A$1,0,0,Metadata!Metadata_Table_Length,1)=SUBSTITUTE(C20,"rawdatafilename","partnumber"),ROW(OFFSET(Metadata!$A$1,0,0,Metadata!Metadata_Table_Length,1))-1,"")),0),"")} | H20: {=IF(B20<>"",OFFSET(Metadata!$B$1,MIN(IF(OFFSET(Metadata!$A$1,0,0,Metadata!Metadata_Table_Length,1)=SUBSTITUTE(C20,"rawdatafilename","original_count"),ROW(OFFSET(Metadata!$A$1,0,0,Metadata!Metadata_Table_Length,1))-1,"")),0),"")} | I20: {=IF(B20<>"",OFFSET(Metadata!$B$1,MIN(IF(OFFSET(Metadata!$A$1,0,0,Metadata!Metadata_Table_Length,1)=SUBSTITUTE(C20,"rawdatafilename","count"),ROW(OFFSET(Metadata!$A$1,0,0,Metadata!Metadata_Table_Length,1))-1,"")),0),"")} | J20: {=IF(AND(G20<>"",G20<>G19),MAX(IF(G$2:G$2001=G20,H$2:H$2001,"")),"")} | K20: {=IF(AND(G20<>"",G20<>G19),MAX(IF(G$2:G$2001=G20,I$2:I$2001,"")),"")} | L20: =IF(F20<>"",IF(F20<>F19,F20,""),"")
B21: =IF(B20<>"",IF(B20+1<=$A$9,B20+1,""),"") | C21: =IF(B21<>"",CONCATENATE("RESULTS_SEARCH_",B21,"_PARAMETERS_PEAKLIST_rawdatafilename"),"") | D21: {=IFERROR(IF(B21<>"",IF(OR(EXACT(OFFSET(Metadata!$A$1,0,0,Metadata!Metadata_Table_Length,1),C21)),1,""),""),"")} | E21: {=IF(B21<>"",IF(D21=1,OFFSET(Metadata!$B$1,MIN(IF(OFFSET(Metadata!$A$1,0,0,Metadata!Metadata_Table_Length,1)=C21,ROW(OFFSET(Metadata!$A$1,0,0,Metadata!Metadata_Table_Length,1))-1,"")),0),OFFSET(Metadata!$B$1,MIN(IF(OFFSET(Metadata!$A$1,0,0,Metadata!Metadata_Table_Length,1)=SUBSTITUTE(C21,"rawdatafilename","originalfilename"),ROW(OFFSET(Metadata!$A$1,0,0,Metadata!Metadata_Table_Length,1))-1,"")),0)),"")} | F21: =IF(F20<>"",IF(E21<>"",IF(E21<>E20,F20+1,F20),""),"") | G21: {=IF(B21<>"",OFFSET(Metadata!$B$1,MIN(IF(OFFSET(Metadata!$A$1,0,0,Metadata!Metadata_Table_Length,1)=SUBSTITUTE(C21,"rawdatafilename","partnumber"),ROW(OFFSET(Metadata!$A$1,0,0,Metadata!Metadata_Table_Length,1))-1,"")),0),"")} | H21: {=IF(B21<>"",OFFSET(Metadata!$B$1,MIN(IF(OFFSET(Metadata!$A$1,0,0,Metadata!Metadata_Table_Length,1)=SUBSTITUTE(C21,"rawdatafilename","original_count"),ROW(OFFSET(Metadata!$A$1,0,0,Metadata!Metadata_Table_Length,1))-1,"")),0),"")} | I21: {=IF(B21<>"",OFFSET(Metadata!$B$1,MIN(IF(OFFSET(Metadata!$A$1,0,0,Metadata!Metadata_Table_Length,1)=SUBSTITUTE(C21,"rawdatafilename","count"),ROW(OFFSET(Metadata!$A$1,0,0,Metadata!Metadata_Table_Length,1))-1,"")),0),"")} | J21: {=IF(AND(G21<>"",G21<>G20),MAX(IF(G$2:G$2001=G21,H$2:H$2001,"")),"")} | K21: {=IF(AND(G21<>"",G21<>G20),MAX(IF(G$2:G$2001=G21,I$2:I$2001,"")),"")} | L21: =IF(F21<>"",IF(F21<>F20,F21,""),"")
B22: =IF(B21<>"",IF(B21+1<=$A$9,B21+1,""),"") | C22: =IF(B22<>"",CONCATENATE("RESULTS_SEARCH_",B22,"_PARAMETERS_PEAKLIST_rawdatafilename"),"") | D22: {=IFERROR(IF(B22<>"",IF(OR(EXACT(OFFSET(Metadata!$A$1,0,0,Metadata!Metadata_Table_Length,1),C22)),1,""),""),"")} | E22: {=IF(B22<>"",IF(D22=1,OFFSET(Metadata!$B$1,MIN(IF(OFFSET(Metadata!$A$1,0,0,Metadata!Metadata_Table_Length,1)=C22,ROW(OFFSET(Metadata!$A$1,0,0,Metadata!Metadata_Table_Length,1))-1,"")),0),OFFSET(Metadata!$B$1,MIN(IF(OFFSET(Metadata!$A$1,0,0,Metadata!Metadata_Table_Length,1)=SUBSTITUTE(C22,"rawdatafilename","originalfilename"),ROW(OFFSET(Metadata!$A$1,0,0,Metadata!Metadata_Table_Length,1))-1,"")),0)),"")} | F22: =IF(F21<>"",IF(E22<>"",IF(E22<>E21,F21+1,F21),""),"") | G22: {=IF(B22<>"",OFFSET(Metadata!$B$1,MIN(IF(OFFSET(Metadata!$A$1,0,0,Metadata!Metadata_Table_Length,1)=SUBSTITUTE(C22,"rawdatafilename","partnumber"),ROW(OFFSET(Metadata!$A$1,0,0,Metadata!Metadata_Table_Length,1))-1,"")),0),"")} | H22: {=IF(B22<>"",OFFSET(Metadata!$B$1,MIN(IF(OFFSET(Metadata!$A$1,0,0,Metadata!Metadata_Table_Length,1)=SUBSTITUTE(C22,"rawdatafilename","original_count"),ROW(OFFSET(Metadata!$A$1,0,0,Metadata!Metadata_Table_Length,1))-1,"")),0),"")} | I22: {=IF(B22<>"",OFFSET(Metadata!$B$1,MIN(IF(OFFSET(Metadata!$A$1,0,0,Metadata!Metadata_Table_Length,1)=SUBSTITUTE(C22,"rawdatafilename","count"),ROW(OFFSET(Metadata!$A$1,0,0,Metadata!Metadata_Table_Length,1))-1,"")),0),"")} | J22: {=IF(AND(G22<>"",G22<>G21),MAX(IF(G$2:G$2001=G22,H$2:H$2001,"")),"")} | K22: {=IF(AND(G22<>"",G22<>G21),MAX(IF(G$2:G$2001=G22,I$2:I$2001,"")),"")} | L22: =IF(F22<>"",IF(F22<>F21,F22,""),"")
... B2001: =IF(B2000<>"",IF(B2000+1<=$A$9,B2000+1,""),"") | C2001: =IF(B2001<>"",CONCATENATE("RESULTS_SEARCH_",B2001,"_PARAMETERS_PEAKLIST_rawdatafilename"),"") | D2001: {=IFERROR(IF(B2001<>"",IF(OR(EXACT(OFFSET(Metadata!$A$1,0,0,Metadata!Metadata_Table_Length,1),C2001)),1,""),""),"")} | E2001: {=IF(B2001<>"",IF(D2001=1,OFFSET(Metadata!$B$1,MIN(IF(OFFSET(Metadata!$A$1,0,0,Metadata!Metadata_Table_Length,1)=C2001,ROW(OFFSET(Metadata!$A$1,0,0,Metadata!Metadata_Table_Length,1))-1,"")),0),OFFSET(Metadata!$B$1,MIN(IF(OFFSET(Metadata!$A$1,0,0,Metadata!Metadata_Table_Length,1)=SUBSTITUTE(C2001,"rawdatafilename","originalfilename"),ROW(OFFSET(Metadata!$A$1,0,0,Metadata!Metadata_Table_Length,1))-1,"")),0)),"")} | F2001: =IF(F2000<>"",IF(E2001<>"",IF(E2001<>E2000,F2000+1,F2000),""),"") | G2001: {=IF(B2001<>"",OFFSET(Metadata!$B$1,MIN(IF(OFFSET(Metadata!$A$1,0,0,Metadata!Metadata_Table_Length,1)=SUBSTITUTE(C2001,"rawdatafilename","partnumber"),ROW(OFFSET(Metadata!$A$1,0,0,Metadata!Metadata_Table_Length,1))-1,"")),0),"")} | H2001: {=IF(B2001<>"",OFFSET(Metadata!$B$1,MIN(IF(OFFSET(Metadata!$A$1,0,0,Metadata!Metadata_Table_Length,1)=SUBSTITUTE(C2001,"rawdatafilename","original_count"),ROW(OFFSET(Metadata!$A$1,0,0,Metadata!Metadata_Table_Length,1))-1,"")),0),"")} | I2001: {=IF(B2001<>"",OFFSET(Metadata!$B$1,MIN(IF(OFFSET(Metadata!$A$1,0,0,Metadata!Metadata_Table_Length,1)=SUBSTITUTE(C2001,"rawdatafilename","count"),ROW(OFFSET(Metadata!$A$1,0,0,Metadata!Metadata_Table_Length,1))-1,"")),0),"")} | J2001: {=IF(AND(G2001<>"",G2001<>G2000),MAX(IF(G$2:G$2001=G2001,H$2:H$2001,"")),"")} | K2001: {=IF(AND(G2001<>"",G2001<>G2000),MAX(IF(G$2:G$2001=G2001,I$2:I$2001,"")),"")} | L2001: =IF(F2001<>"",IF(F2001<>F2000,F2001,""),"")

Sheet Curated Metadata
A1: Group file metadata term | B1: Metadata Description (of raw extracted item) | C1: Use Partial Match | D1: Term in Stream | E1: Derived (Calculated) | F1: Value | G1: Validation check/comments | H1: Conversion type, if done | I1: Conversion factor | K1: Metadata Category | L1: Metadata Description of Final Metadata Item (converted manually, if applicable) | M1: Value
B4: Group filename | D4: {=IFERROR(IF(A4<>"",IF(C4<>1,IF(OR(EXACT(OFFSET(Metadata!$A$1,0,0,Metadata!Metadata_Table_Length,1),A4)),1,""),IF(SUM(IF(ISNUMBER(SEARCH('Curated Metadata'!A4,OFFSET(Metadata!$A$1,0,0,Metadata!Metadata_Table_Length,1))),OFFSET(Metadata!$B$1,0,0,Metadata!Metadata_Table_Length,1),""))>0,1,"")),""),"")} | E4: 1 | F4: {=IF(D4=1,OFFSET(Metadata!$B$1,MIN(IF(OFFSET(Metadata!$A$1,0,0,Metadata!Metadata_Table_Length,1)='Curated Metadata'!A4,ROW(OFFSET(Metadata!$A$1,0,0,Metadata!Metadata_Table_Length,1))-1,"")),0),"")} | K4: Attributes - General | L4: =B4 -> Group filename | M4: =IF(M5<>"",SUBSTITUTE(SUBSTITUTE(MID(CELL("filename",$A$1),FIND("[",CELL("filename",$A$1))+1,FIND("]",CELL("filename",$A$1))-FIND("[",CELL("filename",$A$1))-1),".xlsx",".group"),"__FDR",""),"") -> SUPPL TABLE 4 DDA HG_HI.group
A5: RESULTS_SEARCH_1_PARAMETERS_PARAGON_METHOD_SETTINGS_UI_START_TIME | B5: Start date | D5: {=IFERROR(IF(A5<>"",IF(C5<>1,IF(OR(EXACT(OFFSET(Metadata!$A$1,0,0,Metadata!Metadata_Table_Length,1),A5)),1,""),IF(SUM(IF(ISNUMBER(SEARCH('Curated Metadata'!A5,OFFSET(Metadata!$A$1,0,0,Metadata!Metadata_Table_Length,1))),OFFSET(Metadata!$B$1,0,0,Metadata!Metadata_Table_Length,1),""))>0,1,"")),""),"")} -> 1 | F5: {=IF(D5=1,OFFSET(Metadata!$B$1,MIN(IF(OFFSET(Metadata!$A$1,0,0,Metadata!Metadata_Table_Length,1)='Curated Metadata'!A5,ROW(OFFSET(Metadata!$A$1,0,0,Metadata!Metadata_Table_Length,1))-1,"")),0),"")} -> 45007.596 | K5: Attributes - General | L5: =B5 -> Start date | M5: =IFERROR(IF(OR(B5<>L5,I5<>""),F5*I5,F5),"") -> 45007.596
A6: RESULTS_SEARCH_STAT_search_begin_time_clock | B6: Start time | D6: {=IFERROR(IF(A6<>"",IF(C6<>1,IF(OR(EXACT(OFFSET(Metadata!$A$1,0,0,Metadata!Metadata_Table_Length,1),A6)),1,""),IF(SUM(IF(ISNUMBER(SEARCH('Curated Metadata'!A6,OFFSET(Metadata!$A$1,0,0,Metadata!Metadata_Table_Length,1))),OFFSET(Metadata!$B$1,0,0,Metadata!Metadata_Table_Length,1),""))>0,1,"")),""),"")} -> 1 | F6: {=IF(D6=1,OFFSET(Metadata!$B$1,MIN(IF(OFFSET(Metadata!$A$1,0,0,Metadata!Metadata_Table_Length,1)='Curated Metadata'!A6,ROW(OFFSET(Metadata!$A$1,0,0,Metadata!Metadata_Table_Length,1))-1,"")),0),"")} -> 45007.596 | K6: Attributes - General | L6: =B6 -> Start time | M6: =IFERROR(IF(OR(B6<>L6,I6<>""),F6*I6,F6),"") -> 45007.596
A7: RESULTS_SEARCH_1_PARAMETERS_PARAGON_METHOD_SETTINGS_UI_USER_NAME | B7: User name | D7: {=IFERROR(IF(A7<>"",IF(C7<>1,IF(OR(EXACT(OFFSET(Metadata!$A$1,0,0,Metadata!Metadata_Table_Length,1),A7)),1,""),IF(SUM(IF(ISNUMBER(SEARCH('Curated Metadata'!A7,OFFSET(Metadata!$A$1,0,0,Metadata!Metadata_Table_Length,1))),OFFSET(Metadata!$B$1,0,0,Metadata!Metadata_Table_Length,1),""))>0,1,"")),""),"")} -> 1 | F7: {=IF(D7=1,OFFSET(Metadata!$B$1,MIN(IF(OFFSET(Metadata!$A$1,0,0,Metadata!Metadata_Table_Length,1)='Curated Metadata'!A7,ROW(OFFSET(Metadata!$A$1,0,0,Metadata!Metadata_Table_Length,1))-1,"")),0),"")} -> DESKTOP-4CRA9SP\ProteinPilot_2 | K7: Attributes - General | L7: =B7 -> User name | M7: =IFERROR(IF(OR(B7<>L7,I7<>""),F7*I7,F7),"") -> DESKTOP-4CRA9SP\ProteinPilot_2
A8: RESULTS_SEARCH_1_xml:id | B8: Internal search identifier number | D8: {=IFERROR(IF(A8<>"",IF(C8<>1,IF(OR(EXACT(OFFSET(Metadata!$A$1,0,0,Metadata!Metadata_Table_Length,1),A8)),1,""),IF(SUM(IF(ISNUMBER(SEARCH('Curated Metadata'!A8,OFFSET(Metadata!$A$1,0,0,Metadata!Metadata_Table_Length,1))),OFFSET(Metadata!$B$1,0,0,Metadata!Metadata_Table_Length,1),""))>0,1,"")),""),"")} -> 1 | E8: 1 | F8: =IFERROR(SUBSTITUTE(SUBSTITUTE(OFFSET(Metadata!$B$1,MIN(IF(OFFSET(Metadata!$A$1,0,0,Metadata!Metadata_Table_Length,1)='Curated Metadata'!A8,ROW(OFFSET(Metadata!$A$1,0,0,Metadata!Metadata_Table_Length,1))-1,"")),0),"SEARCH:1:",""),"_0",""),"") | K8: Attributes - General | L8: =B8 -> Internal search identifier number | M8: =IFERROR(IF(OR(B8<>L8,I8<>""),F8*I8,F8),"")
A11: PARAMETERS_PEAKLIST_original_count | E11: 1 | K11: Attributes - Input data | L11: Number of spectra in search | M11: =IFERROR(IF(SUM('Metadata Calculations'!J2:J2001)>0,SUM('Metadata Calculations'!J2:J2001),""),"") -> 18959
A12: PARAMETERS_PEAKLIST_count | E12: 1 | K12: Attributes - Input data | L12: Number of non-empty spectra in search | M12: =IFERROR(IF(SUM('Metadata Calculations'!K2:K2001)>0,SUM('Metadata Calculations'!K2:K2001),""),"") -> 18959
A13: PARAMETERS_PEAKLIST_filenumber | B13: Number of input files | C13: 1 | D13: {=IFERROR(IF(A13<>"",IF(C13<>1,IF(OR(EXACT(OFFSET(Metadata!$A$1,0,0,Metadata!Metadata_Table_Length,1),A13)),1,""),IF(SUM(IF(ISNUMBER(SEARCH('Curated Metadata'!A13,OFFSET(Metadata!$A$1,0,0,Metadata!Metadata_Table_Length,1))),OFFSET(Metadata!$B$1,0,0,Metadata!Metadata_Table_Length,1),""))>0,1,"")),""),"")} -> 1 | E13: 1 | F13: {=IFERROR(MAX(IF(ISNUMBER(SEARCH('Curated Metadata'!A13,OFFSET(Metadata!$A$1,0,0,Metadata!Metadata_Table_Length,1))),OFFSET(Metadata!$B$1,0,0,Metadata!Metadata_Table_Length,1),"")),"")} -> 4 | K13: Attributes - Input data | L13: =B13 -> Number of input files | M13: =IFERROR(IF(OR(B13<>L13,I13<>""),F13*I13,F13),"") -> 4
D14: {=IFERROR(IF(A14<>"",IF(C14<>1,IF(OR(EXACT(OFFSET(Metadata!$A$1,0,0,Metadata!Metadata_Table_Length,1),A14)),1,""),IF(SUM(IF(ISNUMBER(SEARCH('Curated Metadata'!A14,OFFSET(Metadata!$A$1,0,0,Metadata!Metadata_Table_Length,1))),OFFSET(Metadata!$B$1,0,0,Metadata!Metadata_Table_Length,1),""))>0,1,"")),""),"")}
D15: {=IFERROR(IF(A15<>"",IF(C15<>1,IF(OR(EXACT(OFFSET(Metadata!$A$1,0,0,Metadata!Metadata_Table_Length,1),A15)),1,""),IF(SUM(IF(ISNUMBER(SEARCH('Curated Metadata'!A15,OFFSET(Metadata!$A$1,0,0,Metadata!Metadata_Table_Length,1))),OFFSET(Metadata!$B$1,0,0,Metadata!Metadata_Table_Length,1),""))>0,1,"")),""),"")}
A16: RESULTS_SEARCH_1_PARAMETERS_PARAGON_METHOD_SETTINGS_UI_SAMPLE_TYPE | B16: Sample Type | D16: {=IFERROR(IF(A16<>"",IF(C16<>1,IF(OR(EXACT(OFFSET(Metadata!$A$1,0,0,Metadata!Metadata_Table_Length,1),A16)),1,""),IF(SUM(IF(ISNUMBER(SEARCH('Curated Metadata'!A16,OFFSET(Metadata!$A$1,0,0,Metadata!Metadata_Table_Length,1))),OFFSET(Metadata!$B$1,0,0,Metadata!Metadata_Table_Length,1),""))>0,1,"")),""),"")} -> 1 | F16: {=IF(D16=1,OFFSET(Metadata!$B$1,MIN(IF(OFFSET(Metadata!$A$1,0,0,Metadata!Metadata_Table_Length,1)='Curated Metadata'!A16,ROW(OFFSET(Metadata!$A$1,0,0,Metadata!Metadata_Table_Length,1))-1,"")),0),"")} -> Identification | K16: Parameters - User settings | L16: =B16 -> Sample Type | M16: =IFERROR(IF(OR(B16<>L16,I16<>""),F16*I16,F16),"") -> Identification
A17: RESULTS_SEARCH_1_PARAMETERS_PARAGON_METHOD_SETTINGS_UI_CYS_ALKYLATION | B17: Cysteine Alkylation | D17: {=IFERROR(IF(A17<>"",IF(C17<>1,IF(OR(EXACT(OFFSET(Metadata!$A$1,0,0,Metadata!Metadata_Table_Length,1),A17)),1,""),IF(SUM(IF(ISNUMBER(SEARCH('Curated Metadata'!A17,OFFSET(Metadata!$A$1,0,0,Metadata!Metadata_Table_Length,1))),OFFSET(Metadata!$B$1,0,0,Metadata!Metadata_Table_Length,1),""))>0,1,"")),""),"")} -> 1 | F17: {=IF(D17=1,OFFSET(Metadata!$B$1,MIN(IF(OFFSET(Metadata!$A$1,0,0,Metadata!Metadata_Table_Length,1)='Curated Metadata'!A17,ROW(OFFSET(Metadata!$A$1,0,0,Metadata!Metadata_Table_Length,1))-1,"")),0),"")} -> Iodoacetamide | K17: Parameters - User settings | L17: =B17 -> Cysteine Alkylation | M17: =IFERROR(IF(OR(B17<>L17,I17<>""),F17*I17,F17),"") -> Iodoacetamide
A18: RESULTS_SEARCH_1_PARAMETERS_PARAGON_METHOD_SETTINGS_UI_DIGESTION | B18: Digestion | D18: {=IFERROR(IF(A18<>"",IF(C18<>1,IF(OR(EXACT(OFFSET(Metadata!$A$1,0,0,Metadata!Metadata_Table_Length,1),A18)),1,""),IF(SUM(IF(ISNUMBER(SEARCH('Curated Metadata'!A18,OFFSET(Metadata!$A$1,0,0,Metadata!Metadata_Table_Length,1))),OFFSET(Metadata!$B$1,0,0,Metadata!Metadata_Table_Length,1),""))>0,1,"")),""),"")} -> 1 | F18: {=IF(D18=1,OFFSET(Metadata!$B$1,MIN(IF(OFFSET(Metadata!$A$1,0,0,Metadata!Metadata_Table_Length,1)='Curated Metadata'!A18,ROW(OFFSET(Metadata!$A$1,0,0,Metadata!Metadata_Table_Length,1))-1,"")),0),"")} -> Trypsin | K18: Parameters - User settings | L18: =B18 -> Digestion | M18: =IFERROR(IF(OR(B18<>L18,I18<>""),F18*I18,F18),"") -> Trypsin
A19: RESULTS_SEARCH_1_PARAMETERS_PARAGON_METHOD_SETTINGS_UI_SPECIAL_FACTOR | B19: Special Factors | D19: {=IFERROR(IF(A19<>"",IF(C19<>1,IF(OR(EXACT(OFFSET(Metadata!$A$1,0,0,Metadata!Metadata_Table_Length,1),A19)),1,""),IF(SUM(IF(ISNUMBER(SEARCH('Curated Metadata'!A19,OFFSET(Metadata!$A$1,0,0,Metadata!Metadata_Table_Length,1))),OFFSET(Metadata!$B$1,0,0,Metadata!Metadata_Table_Length,1),""))>0,1,"")),""),"")} -> 1 | F19: {=IF(D19=1,OFFSET(Metadata!$B$1,MIN(IF(OFFSET(Metadata!$A$1,0,0,Metadata!Metadata_Table_Length,1)='Curated Metadata'!A19,ROW(OFFSET(Metadata!$A$1,0,0,Metadata!Metadata_Table_Length,1))-1,"")),0),"")} -> Gel-based ID | K19: Parameters - User settings | L19: Special Factors | M19: =IFERROR(IF(OR(B19<>L19,I19<>""),F19*I19,F19),"") -> Gel-based ID
A20: RESULTS_SEARCH_1_PARAMETERS_PARAGON_METHOD_SETTINGS_UI_INSTRUMENT | B20: Instrument | D20: {=IFERROR(IF(A20<>"",IF(C20<>1,IF(OR(EXACT(OFFSET(Metadata!$A$1,0,0,Metadata!Metadata_Table_Length,1),A20)),1,""),IF(SUM(IF(ISNUMBER(SEARCH('Curated Metadata'!A20,OFFSET(Metadata!$A$1,0,0,Metadata!Metadata_Table_Length,1))),OFFSET(Metadata!$B$1,0,0,Metadata!Metadata_Table_Length,1),""))>0,1,"")),""),"")} -> 1 | F20: {=IF(D20=1,OFFSET(Metadata!$B$1,MIN(IF(OFFSET(Metadata!$A$1,0,0,Metadata!Metadata_Table_Length,1)='Curated Metadata'!A20,ROW(OFFSET(Metadata!$A$1,0,0,Metadata!Metadata_Table_Length,1))-1,"")),0),"")} -> TripleTOF 6600 | K20: Parameters - User settings | L20: =B20 -> Instrument | M20: =IFERROR(IF(OR(B20<>L20,I20<>""),F20*I20,F20),"") -> TripleTOF 6600
A21: RESULTS_SEARCH_1_PARAMETERS_PARAGON_METHOD_SETTINGS_UI_SPECIES | B21: Species | D21: {=IFERROR(IF(A21<>"",IF(C21<>1,IF(OR(EXACT(OFFSET(Metadata!$A$1,0,0,Metadata!Metadata_Table_Length,1),A21)),1,""),IF(SUM(IF(ISNUMBER(SEARCH('Curated Metadata'!A21,OFFSET(Metadata!$A$1,0,0,Metadata!Metadata_Table_Length,1))),OFFSET(Metadata!$B$1,0,0,Metadata!Metadata_Table_Length,1),""))>0,1,"")),""),"")} | F21: {=IF(D21=1,OFFSET(Metadata!$B$1,MIN(IF(OFFSET(Metadata!$A$1,0,0,Metadata!Metadata_Table_Length,1)='Curated Metadata'!A21,ROW(OFFSET(Metadata!$A$1,0,0,Metadata!Metadata_Table_Length,1))-1,"")),0),"")} | K21: Parameters - User settings | L21: =B21 -> Species | M21: =IFERROR(IF(OR(B21<>L21,I21<>""),F21*I21,F21),"")
A22: RESULTS_SEARCH_1_PARAMETERS_PARAGON_METHOD_SETTINGS_UI_SEARCH_EFFORT | B22: Search Effort | D22: {=IFERROR(IF(A22<>"",IF(C22<>1,IF(OR(EXACT(OFFSET(Metadata!$A$1,0,0,Metadata!Metadata_Table_Length,1),A22)),1,""),IF(SUM(IF(ISNUMBER(SEARCH('Curated Metadata'!A22,OFFSET(Metadata!$A$1,0,0,Metadata!Metadata_Table_Length,1))),OFFSET(Metadata!$B$1,0,0,Metadata!Metadata_Table_Length,1),""))>0,1,"")),""),"")} -> 1 | F22: {=IF(D22=1,OFFSET(Metadata!$B$1,MIN(IF(OFFSET(Metadata!$A$1,0,0,Metadata!Metadata_Table_Length,1)='Curated Metadata'!A22,ROW(OFFSET(Metadata!$A$1,0,0,Metadata!Metadata_Table_Length,1))-1,"")),0),"")} -> Thorough | K22: Parameters - User settings | L22: =B22 -> Search Effort | M22: =IFERROR(IF(OR(B22<>L22,I22<>""),F22*I22,F22),"") -> Thorough
A23: RESULTS_SEARCH_1_PARAMETERS_PARAGON_METHOD_SETTINGS_UI_ID_FOCUS | B23: ID Focus | D23: {=IFERROR(IF(A23<>"",IF(C23<>1,IF(OR(EXACT(OFFSET(Metadata!$A$1,0,0,Metadata!Metadata_Table_Length,1),A23)),1,""),IF(SUM(IF(ISNUMBER(SEARCH('Curated Metadata'!A23,OFFSET(Metadata!$A$1,0,0,Metadata!Metadata_Table_Length,1))),OFFSET(Metadata!$B$1,0,0,Metadata!Metadata_Table_Length,1),""))>0,1,"")),""),"")} -> 1 | F23: {=IF(D23=1,OFFSET(Metadata!$B$1,MIN(IF(OFFSET(Metadata!$A$1,0,0,Metadata!Metadata_Table_Length,1)='Curated Metadata'!A23,ROW(OFFSET(Metadata!$A$1,0,0,Metadata!Metadata_Table_Length,1))-1,"")),0),"")} -> Biological modifications | K23: Parameters - User settings | L23: =B23 -> ID Focus | M23: =IF(F23<>"",SUBSTITUTE(F23,";","; "),"") -> Biological modifications
