Workbook
Name Acq_Time: OFFSET(#REF!,0,[0]!Column_Acq_Time-1,[0]!TableLength,1)
Name Can_Pep_FSFS: OFFSET(#REF!,0,0,[0]!TableLen,1)
Name Can_Seq_FSFS: OFFSET(#REF!,0,0,[0]!TableLen,1)
Name Column_Acq_Time: MAX(IF([0]!HeaderRange="Acq Time",COLUMN([0]!HeaderRange),0))
Name Column_Conf: MAX(IF([0]!HeaderRange="Conf",COLUMN([0]!HeaderRange),0))
Name Column_dMass: MAX(IF([0]!HeaderRange="dMass",COLUMN([0]!HeaderRange),0))
Name Column_GeneOntology: MIN(IF(ISNUMBER(SEARCH("Gene Ontology",'Protein Summary'!QuantHeaderRange)),COLUMN('Protein Summary'!QuantHeaderRange),""))
Name Column_Modifications: MAX(IF([0]!HeaderRange="Modifications",COLUMN([0]!HeaderRange),0))
Name Column_MS2Counts: MAX(IF([0]!HeaderRange="MS2Counts",COLUMN([0]!HeaderRange),0))
Name Column_Obs_MW: MAX(IF([0]!HeaderRange="Obs MW",COLUMN([0]!HeaderRange),0))
Name Column_Obs_mz: MAX(IF([0]!HeaderRange="Obs m/z",COLUMN([0]!HeaderRange),0))
Name Column_Pathway: MIN(IF(ISNUMBER(SEARCH("Pathway",'Protein Summary'!QuantHeaderRange)),COLUMN('Protein Summary'!QuantHeaderRange),""))
Name Column_PeptideIntensity: MAX(IF([0]!HeaderRange="Intensity (Peptide)",COLUMN([0]!HeaderRange),0))
Name Column_ProteinModifications: MAX(IF([0]!HeaderRange="ProteinModifications",COLUMN([0]!HeaderRange),0))
Name Column_Ratio1: IF([0]!NumActiveQuantChannels<1,0,MIN(IF(ISNUMBER(SEARCH("%Err",[0]!HeaderRange)),COLUMN([0]!HeaderRange),""))-1)
Name Column_Ratio2: IF([0]!NumActiveQuantChannels<2,0,MIN(IF(ISNUMBER(SEARCH("%Err",[0]!HeaderRange)),IF(COLUMN([0]!HeaderRange)-1>[0]!Column_Ratio1,COLUMN([0]!HeaderRange),"")))-1)
Name Column_Ratio3: IF([0]!NumActiveQuantChannels<3,0,MIN(IF(ISNUMBER(SEARCH("%Err",[0]!HeaderRange)),IF(COLUMN([0]!HeaderRange)-1>[0]!Column_Ratio2,COLUMN([0]!HeaderRange),"")))-1)
Name Column_Ratio4: IF([0]!NumActiveQuantChannels<4,0,MIN(IF(ISNUMBER(SEARCH("%Err",[0]!HeaderRange)),IF(COLUMN([0]!HeaderRange)-1>[0]!Column_Ratio3,COLUMN([0]!HeaderRange),"")))-1)
Name Column_Ratio5: IF([0]!NumActiveQuantChannels<5,0,MIN(IF(ISNUMBER(SEARCH("%Err",[0]!HeaderRange)),IF(COLUMN([0]!HeaderRange)-1>[0]!Column_Ratio4,COLUMN([0]!HeaderRange),"")))-1)
Name Column_Ratio6: IF([0]!NumActiveQuantChannels<6,0,MIN(IF(ISNUMBER(SEARCH("%Err",[0]!HeaderRange)),IF(COLUMN([0]!HeaderRange)-1>[0]!Column_Ratio5,COLUMN([0]!HeaderRange),"")))-1)
Name Column_Ratio7: IF([0]!NumActiveQuantChannels<7,0,MIN(IF(ISNUMBER(SEARCH("%Err",[0]!HeaderRange)),IF(COLUMN([0]!HeaderRange)-1>[0]!Column_Ratio6,COLUMN([0]!HeaderRange),"")))-1)
Name Column_Sc: MAX(IF([0]!HeaderRange="Sc",COLUMN([0]!HeaderRange),0))
Name Column_Sequence: MAX(IF([0]!HeaderRange="Sequence",COLUMN([0]!HeaderRange),0))
Name Column_Spectrum: MAX(IF([0]!HeaderRange="Spectrum",COLUMN([0]!HeaderRange),0))
Name Column_Theor_MW: MAX(IF([0]!HeaderRange="Theor MW",COLUMN([0]!HeaderRange),0))
Name Column_Theor_mz: MAX(IF([0]!HeaderRange="Theor m/z",COLUMN([0]!HeaderRange),0))
Name Column_Theor_z: MAX(IF([0]!HeaderRange="Theor z",COLUMN([0]!HeaderRange),0))
Name Column_Used: MAX(IF([0]!HeaderRange="Used",COLUMN([0]!HeaderRange),0))
Name Column1stRatio: IF([0]!NumActiveQuantChannels<1,0,MIN(IF(ISNUMBER(SEARCH("PVal",'Protein Summary'!QuantHeaderRange)),COLUMN('Protein Summary'!QuantHeaderRange),""))-1)
Name Correct: IF('Distinct Peptide Level Data'!PeptideFDR_Data_Present=1,OFFSET('Distinct Peptide Level Data'!qval,0,-4),0)
Name Correct: IF('Protein Level Data'!ProteinFDR_Data_Present=1,OFFSET('Protein Level Data'!qval,0,-4),0)
Name Correct: IF('Spectral Level Data'!SpectrumFDR_Data_Present=1,OFFSET('Spectral Level Data'!qval,0,-4),0)
Name CorrectedIntensity: IFERROR(OFFSET(#REF!,0,0,#REF!,1),#REF!)
Name CriticalY_forGlobalFDR: OFFSET('Protein FDR Summary'!Yield_FitGlobalFDR_atKeyValues,0,-3)
Name CriticalY_forLocalFDR: OFFSET('Protein FDR Summary'!Yield_LocalFDR_atKeyValues,0,-1)
Name Delta_mass: OFFSET(#REF!,0,0,[0]!TableLen,1)
Name Delta_mz: IF([0]!Table_Length>0,OFFSET(#REF!,0,0,[0]!Table_Length,1),0)
Name Delta_ppm: IF([0]!Table_Length>0,OFFSET(#REF!,0,0,[0]!Table_Length,1),0)
Name Delta_Sqrtmz: IF([0]!Table_Length>0,OFFSET(#REF!,0,0,[0]!Table_Length,1),0)
Name DeltaRT: IFERROR(OFFSET(#REF!,0,0,#REF!,1),0)
Name DeltaTime: IF(SUM(IF(ISNUMBER(#REF!),1,0))>0,OFFSET(#REF!,0,0,[0]!TableLen,1),#REF!)
Name ExRatio1: IFERROR(OFFSET(#REF!,0,0,#REF!,1),#REF!)
Name ExRatio2: IFERROR(OFFSET(#REF!,0,0,#REF!,1),#REF!)
Name ExRatio3: IFERROR(OFFSET(#REF!,0,0,#REF!,1),#REF!)
Name ExRatio4: IFERROR(OFFSET(#REF!,0,0,#REF!,1),#REF!)
Name ExRatio5: IFERROR(OFFSET(#REF!,0,0,#REF!,1),#REF!)
Name ExRatio6: IFERROR(OFFSET(#REF!,0,0,#REF!,1),#REF!)
Name ExRatio7: IFERROR(OFFSET(#REF!,0,0,#REF!,1),#REF!)
Name Fit_Confidence_Thresh: IF('Distinct Peptide Level Data'!PeptideFDR_Data_Present=1,OFFSET('Distinct Peptide Level Data'!Fit_GlobalFDR,0,-6),0)
Name Fit_Confidence_Thresh: IF('Protein Level Data'!ProteinFDR_Data_Present=1,OFFSET('Protein Level Data'!Fit_GlobalFDR,0,-6),0)
Name Fit_Confidence_Thresh: IF('Spectral Level Data'!SpectrumFDR_Data_Present=1,OFFSET('Spectral Level Data'!Fit_GlobalFDR,0,-6),0)
Name Fit_GlobalFDR: IF('Protein Level Data'!ProteinFDR_Data_Present=1,OFFSET('Protein Level Data'!$R$2,0,0,(SUM(IF('Protein Level Data'!$R$2:$R$65000<>"",IF('Protein Level Data'!$R$2:$R$65000<0.13,1,"")))),1),0)
Name Fit_GlobalFDR: IF('Spectral Level Data'!SpectrumFDR_Data_Present=1,OFFSET('Spectral Level Data'!$R$2,0,0,(SUM(IF('Spectral Level Data'!$R$2:$R$65000<>"",IF('Spectral Level Data'!$R$2:$R$65000<0.13,1,"")))),1),0)
Name Fit_LocalFDR: IF('Distinct Peptide Level Data'!PeptideFDR_Data_Present=1,OFFSET('Distinct Peptide Level Data'!Fit_GlobalFDR,0,1),0)
Name Fit_LocalFDR: IF('Protein Level Data'!ProteinFDR_Data_Present=1,OFFSET('Protein Level Data'!Fit_GlobalFDR,0,1),0)
Name Fit_LocalFDR: IF('Spectral Level Data'!SpectrumFDR_Data_Present=1,OFFSET('Spectral Level Data'!Fit_GlobalFDR,0,1),0)
Name Fit_Reversed: IF('Distinct Peptide Level Data'!PeptideFDR_Data_Present=1,OFFSET('Distinct Peptide Level Data'!Fit_GlobalFDR,0,-4),0)
Name Fit_Reversed: IF('Protein Level Data'!ProteinFDR_Data_Present=1,OFFSET('Protein Level Data'!Fit_GlobalFDR,0,-4),0)
Name Fit_Reversed: IF('Spectral Level Data'!SpectrumFDR_Data_Present=1,OFFSET('Spectral Level Data'!Fit_GlobalFDR,0,-4),0)
Name Fit_Total: IF('Distinct Peptide Level Data'!PeptideFDR_Data_Present=1,OFFSET('Distinct Peptide Level Data'!Fit_GlobalFDR,0,-1),0)

Sheet Metadata
A1: _RESULTS_version | B1: 5
A2: RESULTS_SEARCH_STAT_search_begin_time_clock | B2: 45007.596
A3: RESULTS_SEARCH_STAT_search_end_time_clock | B3: 45007.766
A4: RESULTS_SEARCH_STAT_search_time_duration | B4: 14625097
A5: RESULTS_SEARCH_STAT_stage_signal_processing_begin_time_clock | B5: 45007.596
A6: RESULTS_SEARCH_STAT_stage_signal_processing_end_time_clock | B6: 45007.757
A7: RESULTS_SEARCH_STAT_stage_signal_processing_time_duration | B7: 13851853
A8: RESULTS_SEARCH_STAT_stage_waiting_begin_time_clock | B8: 45007.757
A9: RESULTS_SEARCH_STAT_stage_waiting_end_time_clock | B9: 45007.757
A10: RESULTS_SEARCH_STAT_stage_waiting_time_duration | B10: 7404
A11: RESULTS_SEARCH_STAT_stage_searching_begin_time_clock | B11: 45007.757
A12: RESULTS_SEARCH_STAT_stage_searching_end_time_clock | B12: 45007.765
... A33: RESULTS_SEARCH_STAT_computer_memory | B33: 65182
A34: RESULTS_SEARCH_STAT_computer_name | B34: DESKTOP-4CRA9SP
A35: RESULTS_SEARCH_STAT_num_proteins | B35: 97914
A36: RESULTS_SEARCH_STAT_num_residues | B36: 55170046
A37: RESULTS_SEARCH_STAT_number_cores | B37: 16
A38: RESULTS_SEARCH_STAT_number_licensed_tasks | B38: 32
A39: RESULTS_SEARCH_STAT_number_processors | B39: 32
A40: RESULTS_SEARCH_STAT_os | B40: Windows 10 Enterprise 2016 LTSB (6.2.9200)
A41: RESULTS_SEARCH_1_time_cpu | B41: 55375
A42: RESULTS_SEARCH_1_time_duration | B42: 84871
A43: RESULTS_SEARCH_1_version | B43: 5.0.2.5174
A44: RESULTS_SEARCH_1_xml:id | B44: SEARCH:1:638150915185208226_0
A45: RESULTS_SEARCH_1_PARAMETERS_chemical_data_edited | B45: FALSE
A46: RESULTS_SEARCH_1_PARAMETERS_do_multiprecursor_search | B46: TRUE
A47: RESULTS_SEARCH_1_PARAMETERS_do_reverse_search | B47: TRUE
A48: RESULTS_SEARCH_1_PARAMETERS_max_quant_labels | B48: 35
A49: RESULTS_SEARCH_1_PARAMETERS_maxresults | B49: 15
A50: RESULTS_SEARCH_1_PARAMETERS_separate_searches | B50: FALSE
A51: RESULTS_SEARCH_1_PARAMETERS_MSTOLERANCE_type | B51: dalton
A52: RESULTS_SEARCH_1_PARAMETERS_MSTOLERANCE_value | B52: 0.05
A53: RESULTS_SEARCH_1_PARAMETERS_MSMSTOLERANCE_type | B53: dalton
A54: RESULTS_SEARCH_1_PARAMETERS_MSMSTOLERANCE_value | B54: 0.1
A55: RESULTS_SEARCH_1_PARAMETERS_MS_STANDARD_DEVIATION_type | B55: dalton
A56: RESULTS_SEARCH_1_PARAMETERS_MS_STANDARD_DEVIATION_value | B56: 0.0011
A57: RESULTS_SEARCH_1_PARAMETERS_MSMS_STANDARD_DEVIATION_type | B57: dalton
A58: RESULTS_SEARCH_1_PARAMETERS_MSMS_STANDARD_DEVIATION_value | B58: 0.01
A59: RESULTS_SEARCH_1_PARAMETERS_FASTA_filename | B59: C:\AB SCIEX\ProteinPilot Data\SearchDatabases\uniprot-homo+sapiens-filtered-reviewed_yes.fasta
A60: RESULTS_SEARCH_1_PARAMETERS_AUTO_CALIBRATION_ms | B60: TRUE
A61: RESULTS_SEARCH_1_PARAMETERS_AUTO_CALIBRATION_msexport | B61: FALSE
A62: RESULTS_SEARCH_1_PARAMETERS_AUTO_CALIBRATION_msms | B62: TRUE
A63: RESULTS_SEARCH_1_PARAMETERS_AUTO_CALIBRATION_msmstolsdratio | B63: 2.75
A64: RESULTS_SEARCH_1_PARAMETERS_AUTO_CALIBRATION_mstolsdratio | B64: 7
A65: RESULTS_SEARCH_1_PARAMETERS_AUTO_CALIBRATION_squareroot | B65: TRUE
A66: RESULTS_SEARCH_1_PARAMETERS_AUTO_CALIBRATION_type | B66: dalton
A67: RESULTS_SEARCH_1_PARAMETERS_AUTO_CALIBRATION_MCP_d_s_s_f | B67: 0.06666667
A68: RESULTS_SEARCH_1_PARAMETERS_AUTO_CALIBRATION_MCP_d_s_w_f | B68: 3
A69: RESULTS_SEARCH_1_PARAMETERS_AUTO_CALIBRATION_MCP_m_f_r_mbc | B69: 200
A70: RESULTS_SEARCH_1_PARAMETERS_AUTO_CALIBRATION_MCP_m_m_c | B70: 10
A71: RESULTS_SEARCH_1_PARAMETERS_AUTO_CALIBRATION_MCP_m_m_f_s | B71: 0.25
A72: RESULTS_SEARCH_1_PARAMETERS_AUTO_CALIBRATION_MCP_m_m_p_f | B72: 0.33
A73: RESULTS_SEARCH_1_PARAMETERS_AUTO_CALIBRATION_MCP_m_m_p_rms_f | B73: 1
A74: RESULTS_SEARCH_1_PARAMETERS_AUTO_CALIBRATION_MCP_m_p_t_f | B74: 1
A75: RESULTS_SEARCH_1_PARAMETERS_AUTO_CALIBRATION_MCP_m_r_h_n_b | B75: 15
A76: RESULTS_SEARCH_1_PARAMETERS_AUTO_CALIBRATION_MCP_m_z_n_s | B76: 99
A77: RESULTS_SEARCH_1_PARAMETERS_AUTO_CALIBRATION_MCP_m_z_s_mn_f_r | B77: 0.06666667
A78: RESULTS_SEARCH_1_PARAMETERS_AUTO_CALIBRATION_MCP_m_z_s_mx_f_r | B78: 0.1
... A86: RESULTS_SEARCH_1_PARAMETERS_MS_AUTO_CALIBRATION_OUT_sample | B86: 1
A87: RESULTS_SEARCH_1_PARAMETERS_MS_AUTO_CALIBRATION_OUT_squareroot | B87: TRUE
A88: RESULTS_SEARCH_1_PARAMETERS_MSMS_AUTO_CALIBRATION_OUT_avres | B88: -8.152406e-08
A89: RESULTS_SEARCH_1_PARAMETERS_MSMS_AUTO_CALIBRATION_OUT_c0 | B89: -2.706263e-07
A90: RESULTS_SEARCH_1_PARAMETERS_MSMS_AUTO_CALIBRATION_OUT_c1minus1 | B90: -4.802912e-06
A91: RESULTS_SEARCH_1_PARAMETERS_MSMS_AUTO_CALIBRATION_OUT_c2 | B91: 0
A92: RESULTS_SEARCH_1_PARAMETERS_MSMS_AUTO_CALIBRATION_OUT_file | B92: 1
A93: RESULTS_SEARCH_1_PARAMETERS_MSMS_AUTO_CALIBRATION_OUT_partnumber | B93: 1
A94: RESULTS_SEARCH_1_PARAMETERS_MSMS_AUTO_CALIBRATION_OUT_polyorder | B94: 1
A95: RESULTS_SEARCH_1_PARAMETERS_MSMS_AUTO_CALIBRATION_OUT_sample | B95: 1
A96: RESULTS_SEARCH_1_PARAMETERS_MSMS_AUTO_CALIBRATION_OUT_squareroot | B96: TRUE
A97: RESULTS_SEARCH_1_PARAMETERS_MAX_PRECURSORS_FRAGLET | B97: 5
A98: RESULTS_SEARCH_1_PARAMETERS_MAX_PRECURSORS_TAGLET | B98: 1
A99: RESULTS_SEARCH_1_PARAMETERS_PRECURSORS_DR_FRAGLET | B99: 10
A100: RESULTS_SEARCH_1_PARAMETERS_PRECURSORS_DR_TAGLET | B100: 3
A101: RESULTS_SEARCH_1_PARAMETERS_DEFAULT_CHARGE_STATE_1_charge | B101: 2
A102: RESULTS_SEARCH_1_PARAMETERS_DEFAULT_CHARGE_STATE_1_probability | B102: 1
A103: RESULTS_SEARCH_1_PARAMETERS_DEFAULT_CHARGE_STATE_2_charge | B103: 3
A104: RESULTS_SEARCH_1_PARAMETERS_DEFAULT_CHARGE_STATE_2_probability | B104: 1
A105: RESULTS_SEARCH_1_PARAMETERS_DEFAULT_CHARGE_STATE_3_charge | B105: 4
A106: RESULTS_SEARCH_1_PARAMETERS_DEFAULT_CHARGE_STATE_3_probability | B106: 1
A107: RESULTS_SEARCH_1_PARAMETERS_VERSION | B107: 5.0.2.0, 5346
A108: RESULTS_SEARCH_1_PARAMETERS_PARAGON_VERSION | B108: 5.0.2.0, 5174
A109: RESULTS_SEARCH_1_PARAMETERS_APPLICATION | B109: ProteinPilot(tm) Software
A110: RESULTS_SEARCH_1_PARAMETERS_PROGROUP_alternativedispositionmaximumfoldprobabilitydrop | B110: 100
A111: RESULTS_SEARCH_1_PARAMETERS_PROGROUP_alternativedispositionmaximumfoldscoredrop | B111: 2
A112: RESULTS_SEARCH_1_PARAMETERS_PROGROUP_autodiscordantpeptidethreshold | B112: 0.3
A113: RESULTS_SEARCH_1_PARAMETERS_PROGROUP_bayesconfidencecalclulation | B113: TRUE
A114: RESULTS_SEARCH_1_PARAMETERS_PROGROUP_calibrateconfidence | B114: TRUE
A115: RESULTS_SEARCH_1_PARAMETERS_PROGROUP_compresspeptides | B115: FALSE
A116: RESULTS_SEARCH_1_PARAMETERS_PROGROUP_confidencepercentthresholdforexcludingothersfromquant | B116: 15
A117: RESULTS_SEARCH_1_PARAMETERS_PROGROUP_confidencepercentthresholdforincludingselfinquant | B117: 15
A118: RESULTS_SEARCH_1_PARAMETERS_PROGROUP_donotstoremspeaklists | B118: FALSE
A119: RESULTS_SEARCH_1_PARAMETERS_PROGROUP_fasta | B119: C:\AB SCIEX\ProteinPilot Data\SearchDatabases\uniprot-homo+sapiens-filtered-reviewed_yes.fasta
A120: RESULTS_SEARCH_1_PARAMETERS_PROGROUP_featuregroupminpepconf | B120: 0.66
A121: RESULTS_SEARCH_1_PARAMETERS_PROGROUP_featuregroupminups | B121: 0.47
A122: RESULTS_SEARCH_1_PARAMETERS_PROGROUP_focusingintersection | B122: 4
A123: RESULTS_SEARCH_1_PARAMETERS_PROGROUP_focusingminimummatchconfidence | B123: 0.1
A124: RESULTS_SEARCH_1_PARAMETERS_PROGROUP_focusingminunusedprotscore | B124: 0.1
A125: RESULTS_SEARCH_1_PARAMETERS_PROGROUP_focusingsubsetcutoff | B125: 6
A126: RESULTS_SEARCH_1_PARAMETERS_PROGROUP_intersection | B126: 1.3
A127: RESULTS_SEARCH_1_PARAMETERS_PROGROUP_minimummatchconfidencecutoff | B127: 0.001
...

Sheet Metadata Calculations
B1: Subsearch | C1: Search string | D1: present | E1: {=IF(D1=1,OFFSET(Metadata!$B$1,MIN(IF(OFFSET(Metadata!$A$1,0,0,Metadata!Metadata_Table_Length,1)='Curated Metadata'!A1,ROW(OFFSET(Metadata!$A$1,0,0,Metadata!Metadata_Table_Length,1))-1,"")),0),"")} | F1: File index down | G1: Part number | H1: Spectra - 'original' | I1: Spectra 'count' - non-empty? | J1: max original Spectra for part | K1: Max non-empty spectra for part | L1: File Index for first only
B2: =IF(A9>0,1,"") -> 1 | C2: =IF(B2<>"",CONCATENATE("RESULTS_SEARCH_",B2,"_PARAMETERS_PEAKLIST_rawdatafilename"),"") -> RESULTS_SEARCH_1_PARAMETERS_PEAKLIST_rawdatafilename | D2: {=IFERROR(IF(B2<>"",IF(OR(EXACT(OFFSET(Metadata!$A$1,0,0,Metadata!Metadata_Table_Length,1),C2)),1,""),""),"")} | E2: {=IFERROR(IF(B2<>"",IF(D2=1,OFFSET(Metadata!$B$1,MIN(IF(OFFSET(Metadata!$A$1,0,0,Metadata!Metadata_Table_Length,1)=C2,ROW(OFFSET(Metadata!$A$1,0,0,Metadata!Metadata_Table_Length,1))-1,"")),0),OFFSET(Metadata!$B$1,MIN(IF(OFFSET(Metadata!$A$1,0,0,Metadata!Metadata_Table_Length,1)=SUBSTITUTE(C2,"rawdatafilename","originalfilename"),ROW(OFFSET(Metadata!$A$1,0,0,Metadata!Metadata_Table_Length,1))-1,"")),0)),""),"")} -> D:\Data 6600plus\23021_DDA\HG_HI_1.wiff | F2: 1 | G2: {=IF(B2<>"",OFFSET(Metadata!$B$1,MIN(IF(OFFSET(Metadata!$A$1,0,0,Metadata!Metadata_Table_Length,1)=SUBSTITUTE(C2,"rawdatafilename","partnumber"),ROW(OFFSET(Metadata!$A$1,0,0,Metadata!Metadata_Table_Length,1))-1,"")),0),"")} -> 1 | H2: {=IF(B2<>"",OFFSET(Metadata!$B$1,MIN(IF(OFFSET(Metadata!$A$1,0,0,Metadata!Metadata_Table_Length,1)=SUBSTITUTE(C2,"rawdatafilename","original_count"),ROW(OFFSET(Metadata!$A$1,0,0,Metadata!Metadata_Table_Length,1))-1,"")),0),"")} -> 3813 | I2: {=IF(B2<>"",OFFSET(Metadata!$B$1,MIN(IF(OFFSET(Metadata!$A$1,0,0,Metadata!Metadata_Table_Length,1)=SUBSTITUTE(C2,"rawdatafilename","count"),ROW(OFFSET(Metadata!$A$1,0,0,Metadata!Metadata_Table_Length,1))-1,"")),0),"")} -> 3813 | J2: {=IF(AND(G2<>"",G2<>G1),MAX(IF(G$2:G$2001=G2,H$2:H$2001,"")),"")} -> 3813 | K2: {=IF(AND(G2<>"",G2<>G1),MAX(IF(G$2:G$2001=G2,I$2:I$2001,"")),"")} -> 3813 | L2: =IF(F2<>"",IF(F2<>F1,F2,""),"") -> 1
B3: =IF(B2<>"",IF(B2+1<=$A$9,B2+1,""),"") -> 2 | C3: =IF(B3<>"",CONCATENATE("RESULTS_SEARCH_",B3,"_PARAMETERS_PEAKLIST_rawdatafilename"),"") -> RESULTS_SEARCH_2_PARAMETERS_PEAKLIST_rawdatafilename | D3: {=IFERROR(IF(B3<>"",IF(OR(EXACT(OFFSET(Metadata!$A$1,0,0,Metadata!Metadata_Table_Length,1),C3)),1,""),""),"")} | E3: {=IF(B3<>"",IF(D3=1,OFFSET(Metadata!$B$1,MIN(IF(OFFSET(Metadata!$A$1,0,0,Metadata!Metadata_Table_Length,1)=C3,ROW(OFFSET(Metadata!$A$1,0,0,Metadata!Metadata_Table_Length,1))-1,"")),0),OFFSET(Metadata!$B$1,MIN(IF(OFFSET(Metadata!$A$1,0,0,Metadata!Metadata_Table_Length,1)=SUBSTITUTE(C3,"rawdatafilename","originalfilename"),ROW(OFFSET(Metadata!$A$1,0,0,Metadata!Metadata_Table_Length,1))-1,"")),0)),"")} -> D:\Data 6600plus\23021_DDA\HG_HI_1.wiff | F3: =IF(F2<>"",IF(E3<>"",IF(E3<>E2,F2+1,F2),""),"") -> 1 | G3: {=IF(B3<>"",OFFSET(Metadata!$B$1,MIN(IF(OFFSET(Metadata!$A$1,0,0,Metadata!Metadata_Table_Length,1)=SUBSTITUTE(C3,"rawdatafilename","partnumber"),ROW(OFFSET(Metadata!$A$1,0,0,Metadata!Metadata_Table_Length,1))-1,"")),0),"")} -> 1 | H3: {=IF(B3<>"",OFFSET(Metadata!$B$1,MIN(IF(OFFSET(Metadata!$A$1,0,0,Metadata!Metadata_Table_Length,1)=SUBSTITUTE(C3,"rawdatafilename","original_count"),ROW(OFFSET(Metadata!$A$1,0,0,Metadata!Metadata_Table_Length,1))-1,"")),0),"")} -> 3813 | I3: {=IF(B3<>"",OFFSET(Metadata!$B$1,MIN(IF(OFFSET(Metadata!$A$1,0,0,Metadata!Metadata_Table_Length,1)=SUBSTITUTE(C3,"rawdatafilename","count"),ROW(OFFSET(Metadata!$A$1,0,0,Metadata!Metadata_Table_Length,1))-1,"")),0),"")} -> 3813 | J3: {=IF(AND(G3<>"",G3<>G2),MAX(IF(G$2:G$2001=G3,H$2:H$2001,"")),"")} | K3: {=IF(AND(G3<>"",G3<>G2),MAX(IF(G$2:G$2001=G3,I$2:I$2001,"")),"")} | L3: =IF(F3<>"",IF(F3<>F2,F3,""),"")
B4: =IF(B3<>"",IF(B3+1<=$A$9,B3+1,""),"") -> 3 | C4: =IF(B4<>"",CONCATENATE("RESULTS_SEARCH_",B4,"_PARAMETERS_PEAKLIST_rawdatafilename"),"") -> RESULTS_SEARCH_3_PARAMETERS_PEAKLIST_rawdatafilename | D4: {=IFERROR(IF(B4<>"",IF(OR(EXACT(OFFSET(Metadata!$A$1,0,0,Metadata!Metadata_Table_Length,1),C4)),1,""),""),"")} | E4: {=IF(B4<>"",IF(D4=1,OFFSET(Metadata!$B$1,MIN(IF(OFFSET(Metadata!$A$1,0,0,Metadata!Metadata_Table_Length,1)=C4,ROW(OFFSET(Metadata!$A$1,0,0,Metadata!Metadata_Table_Length,1))-1,"")),0),OFFSET(Metadata!$B$1,MIN(IF(OFFSET(Metadata!$A$1,0,0,Metadata!Metadata_Table_Length,1)=SUBSTITUTE(C4,"rawdatafilename","originalfilename"),ROW(OFFSET(Metadata!$A$1,0,0,Metadata!Metadata_Table_Length,1))-1,"")),0)),"")} -> D:\Data 6600plus\23021_DDA\HG_HI_2.wiff | F4: =IF(F3<>"",IF(E4<>"",IF(E4<>E3,F3+1,F3),""),"") -> 2 | G4: {=IF(B4<>"",OFFSET(Metadata!$B$1,MIN(IF(OFFSET(Metadata!$A$1,0,0,Metadata!Metadata_Table_Length,1)=SUBSTITUTE(C4,"rawdatafilename","partnumber"),ROW(OFFSET(Metadata!$A$1,0,0,Metadata!Metadata_Table_Length,1))-1,"")),0),"")} -> 2 | H4: {=IF(B4<>"",OFFSET(Metadata!$B$1,MIN(IF(OFFSET(Metadata!$A$1,0,0,Metadata!Metadata_Table_Length,1)=SUBSTITUTE(C4,"rawdatafilename","original_count"),ROW(OFFSET(Metadata!$A$1,0,0,Metadata!Metadata_Table_Length,1))-1,"")),0),"")} -> 2585 | I4: {=IF(B4<>"",OFFSET(Metadata!$B$1,MIN(IF(OFFSET(Metadata!$A$1,0,0,Metadata!Metadata_Table_Length,1)=SUBSTITUTE(C4,"rawdatafilename","count"),ROW(OFFSET(Metadata!$A$1,0,0,Metadata!Metadata_Table_Length,1))-1,"")),0),"")} -> 2585 | J4: {=IF(AND(G4<>"",G4<>G3),MAX(IF(G$2:G$2001=G4,H$2:H$2001,"")),"")} -> 2585 | K4: {=IF(AND(G4<>"",G4<>G3),MAX(IF(G$2:G$2001=G4,I$2:I$2001,"")),"")} -> 2585 | L4: =IF(F4<>"",IF(F4<>F3,F4,""),"") -> 2
A5: 1 if Rapid, 2 if Thor | B5: =IF(B4<>"",IF(B4+1<=$A$9,B4+1,""),"") -> 4 | C5: =IF(B5<>"",CONCATENATE("RESULTS_SEARCH_",B5,"_PARAMETERS_PEAKLIST_rawdatafilename"),"") -> RESULTS_SEARCH_4_PARAMETERS_PEAKLIST_rawdatafilename | D5: {=IFERROR(IF(B5<>"",IF(OR(EXACT(OFFSET(Metadata!$A$1,0,0,Metadata!Metadata_Table_Length,1),C5)),1,""),""),"")} | E5: {=IF(B5<>"",IF(D5=1,OFFSET(Metadata!$B$1,MIN(IF(OFFSET(Metadata!$A$1,0,0,Metadata!Metadata_Table_Length,1)=C5,ROW(OFFSET(Metadata!$A$1,0,0,Metadata!Metadata_Table_Length,1))-1,"")),0),OFFSET(Metadata!$B$1,MIN(IF(OFFSET(Metadata!$A$1,0,0,Metadata!Metadata_Table_Length,1)=SUBSTITUTE(C5,"rawdatafilename","originalfilename"),ROW(OFFSET(Metadata!$A$1,0,0,Metadata!Metadata_Table_Length,1))-1,"")),0)),"")} -> D:\Data 6600plus\23021_DDA\HG_HI_2.wiff | F5: =IF(F4<>"",IF(E5<>"",IF(E5<>E4,F4+1,F4),""),"") -> 2 | G5: {=IF(B5<>"",OFFSET(Metadata!$B$1,MIN(IF(OFFSET(Metadata!$A$1,0,0,Metadata!Metadata_Table_Length,1)=SUBSTITUTE(C5,"rawdatafilename","partnumber"),ROW(OFFSET(Metadata!$A$1,0,0,Metadata!Metadata_Table_Length,1))-1,"")),0),"")} -> 2 | H5: {=IF(B5<>"",OFFSET(Metadata!$B$1,MIN(IF(OFFSET(Metadata!$A$1,0,0,Metadata!Metadata_Table_Length,1)=SUBSTITUTE(C5,"rawdatafilename","original_count"),ROW(OFFSET(Metadata!$A$1,0,0,Metadata!Metadata_Table_Length,1))-1,"")),0),"")} -> 2585 | I5: {=IF(B5<>"",OFFSET(Metadata!$B$1,MIN(IF(OFFSET(Metadata!$A$1,0,0,Metadata!Metadata_Table_Length,1)=SUBSTITUTE(C5,"rawdatafilename","count"),ROW(OFFSET(Metadata!$A$1,0,0,Metadata!Metadata_Table_Length,1))-1,"")),0),"")} -> 2585 | J5: {=IF(AND(G5<>"",G5<>G4),MAX(IF(G$2:G$2001=G5,H$2:H$2001,"")),"")} | K5: {=IF(AND(G5<>"",G5<>G4),MAX(IF(G$2:G$2001=G5,I$2:I$2001,"")),"")} | L5: =IF(F5<>"",IF(F5<>F4,F5,""),"")
A6: {=IFERROR(IF(OFFSET(Metadata!$B$1,MIN(IF(OFFSET(Metadata!$A$1,0,0,Metadata!Metadata_Table_Length,1)="RESULTS_SEARCH_1_PARAMETERS_PARAGON_METHOD_SETTINGS_UI_SEARCH_EFFORT",ROW(OFFSET(Metadata!$A$1,0,0,Metadata!Metadata_Table_Length,1))-1,"")),0)="Rapid",1,2),"")} -> 2 | B6: =IF(B5<>"",IF(B5+1<=$A$9,B5+1,""),"") -> 5 | C6: =IF(B6<>"",CONCATENATE("RESULTS_SEARCH_",B6,"_PARAMETERS_PEAKLIST_rawdatafilename"),"") -> RESULTS_SEARCH_5_PARAMETERS_PEAKLIST_rawdatafilename | D6: {=IFERROR(IF(B6<>"",IF(OR(EXACT(OFFSET(Metadata!$A$1,0,0,Metadata!Metadata_Table_Length,1),C6)),1,""),""),"")} | E6: {=IF(B6<>"",IF(D6=1,OFFSET(Metadata!$B$1,MIN(IF(OFFSET(Metadata!$A$1,0,0,Metadata!Metadata_Table_Length,1)=C6,ROW(OFFSET(Metadata!$A$1,0,0,Metadata!Metadata_Table_Length,1))-1,"")),0),OFFSET(Metadata!$B$1,MIN(IF(OFFSET(Metadata!$A$1,0,0,Metadata!Metadata_Table_Length,1)=SUBSTITUTE(C6,"rawdatafilename","originalfilename"),ROW(OFFSET(Metadata!$A$1,0,0,Metadata!Metadata_Table_Length,1))-1,"")),0)),"")} -> D:\Data 6600plus\23021_DDA\HG_HI_2.wiff | F6: =IF(F5<>"",IF(E6<>"",IF(E6<>E5,F5+1,F5),""),"") -> 2 | G6: {=IF(B6<>"",OFFSET(Metadata!$B$1,MIN(IF(OFFSET(Metadata!$A$1,0,0,Metadata!Metadata_Table_Length,1)=SUBSTITUTE(C6,"rawdatafilename","partnumber"),ROW(OFFSET(Metadata!$A$1,0,0,Metadata!Metadata_Table_Length,1))-1,"")),0),"")} -> 3 | H6: {=IF(B6<>"",OFFSET(Metadata!$B$1,MIN(IF(OFFSET(Metadata!$A$1,0,0,Metadata!Metadata_Table_Length,1)=SUBSTITUTE(C6,"rawdatafilename","original_count"),ROW(OFFSET(Metadata!$A$1,0,0,Metadata!Metadata_Table_Length,1))-1,"")),0),"")} -> 2584 | I6: {=IF(B6<>"",OFFSET(Metadata!$B$1,MIN(IF(OFFSET(Metadata!$A$1,0,0,Metadata!Metadata_Table_Length,1)=SUBSTITUTE(C6,"rawdatafilename","count"),ROW(OFFSET(Metadata!$A$1,0,0,Metadata!Metadata_Table_Length,1))-1,"")),0),"")} -> 2584 | J6: {=IF(AND(G6<>"",G6<>G5),MAX(IF(G$2:G$2001=G6,H$2:H$2001,"")),"")} -> 2584 | K6: {=IF(AND(G6<>"",G6<>G5),MAX(IF(G$2:G$2001=G6,I$2:I$2001,"")),"")} -> 2584 | L6: =IF(F6<>"",IF(F6<>F5,F6,""),"")
B7: =IF(B6<>"",IF(B6+1<=$A$9,B6+1,""),"") -> 6 | C7: =IF(B7<>"",CONCATENATE("RESULTS_SEARCH_",B7,"_PARAMETERS_PEAKLIST_rawdatafilename"),"") -> RESULTS_SEARCH_6_PARAMETERS_PEAKLIST_rawdatafilename | D7: {=IFERROR(IF(B7<>"",IF(OR(EXACT(OFFSET(Metadata!$A$1,0,0,Metadata!Metadata_Table_Length,1),C7)),1,""),""),"")} | E7: {=IF(B7<>"",IF(D7=1,OFFSET(Metadata!$B$1,MIN(IF(OFFSET(Metadata!$A$1,0,0,Metadata!Metadata_Table_Length,1)=C7,ROW(OFFSET(Metadata!$A$1,0,0,Metadata!Metadata_Table_Length,1))-1,"")),0),OFFSET(Metadata!$B$1,MIN(IF(OFFSET(Metadata!$A$1,0,0,Metadata!Metadata_Table_Length,1)=SUBSTITUTE(C7,"rawdatafilename","originalfilename"),ROW(OFFSET(Metadata!$A$1,0,0,Metadata!Metadata_Table_Length,1))-1,"")),0)),"")} -> D:\Data 6600plus\23021_DDA\HG_HI_2.wiff | F7: =IF(F6<>"",IF(E7<>"",IF(E7<>E6,F6+1,F6),""),"") -> 2 | G7: {=IF(B7<>"",OFFSET(Metadata!$B$1,MIN(IF(OFFSET(Metadata!$A$1,0,0,Metadata!Metadata_Table_Length,1)=SUBSTITUTE(C7,"rawdatafilename","partnumber"),ROW(OFFSET(Metadata!$A$1,0,0,Metadata!Metadata_Table_Length,1))-1,"")),0),"")} -> 3 | H7: {=IF(B7<>"",OFFSET(Metadata!$B$1,MIN(IF(OFFSET(Metadata!$A$1,0,0,Metadata!Metadata_Table_Length,1)=SUBSTITUTE(C7,"rawdatafilename","original_count"),ROW(OFFSET(Metadata!$A$1,0,0,Metadata!Metadata_Table_Length,1))-1,"")),0),"")} -> 2584 | I7: {=IF(B7<>"",OFFSET(Metadata!$B$1,MIN(IF(OFFSET(Metadata!$A$1,0,0,Metadata!Metadata_Table_Length,1)=SUBSTITUTE(C7,"rawdatafilename","count"),ROW(OFFSET(Metadata!$A$1,0,0,Metadata!Metadata_Table_Length,1))-1,"")),0),"")} -> 2584 | J7: {=IF(AND(G7<>"",G7<>G6),MAX(IF(G$2:G$2001=G7,H$2:H$2001,"")),"")} | K7: {=IF(AND(G7<>"",G7<>G6),MAX(IF(G$2:G$2001=G7,I$2:I$2001,"")),"")} | L7: =IF(F7<>"",IF(F7<>F6,F7,""),"")
A8: # Segments | B8: =IF(B7<>"",IF(B7+1<=$A$9,B7+1,""),"") -> 7 | C8: =IF(B8<>"",CONCATENATE("RESULTS_SEARCH_",B8,"_PARAMETERS_PEAKLIST_rawdatafilename"),"") -> RESULTS_SEARCH_7_PARAMETERS_PEAKLIST_rawdatafilename | D8: {=IFERROR(IF(B8<>"",IF(OR(EXACT(OFFSET(Metadata!$A$1,0,0,Metadata!Metadata_Table_Length,1),C8)),1,""),""),"")} | E8: {=IF(B8<>"",IF(D8=1,OFFSET(Metadata!$B$1,MIN(IF(OFFSET(Metadata!$A$1,0,0,Metadata!Metadata_Table_Length,1)=C8,ROW(OFFSET(Metadata!$A$1,0,0,Metadata!Metadata_Table_Length,1))-1,"")),0),OFFSET(Metadata!$B$1,MIN(IF(OFFSET(Metadata!$A$1,0,0,Metadata!Metadata_Table_Length,1)=SUBSTITUTE(C8,"rawdatafilename","originalfilename"),ROW(OFFSET(Metadata!$A$1,0,0,Metadata!Metadata_Table_Length,1))-1,"")),0)),"")} -> D:\Data 6600plus\23021_DDA\HG_HI_3.wiff | F8: =IF(F7<>"",IF(E8<>"",IF(E8<>E7,F7+1,F7),""),"") -> 3 | G8: {=IF(B8<>"",OFFSET(Metadata!$B$1,MIN(IF(OFFSET(Metadata!$A$1,0,0,Metadata!Metadata_Table_Length,1)=SUBSTITUTE(C8,"rawdatafilename","partnumber"),ROW(OFFSET(Metadata!$A$1,0,0,Metadata!Metadata_Table_Length,1))-1,"")),0),"")} -> 4 | H8: {=IF(B8<>"",OFFSET(Metadata!$B$1,MIN(IF(OFFSET(Metadata!$A$1,0,0,Metadata!Metadata_Table_Length,1)=SUBSTITUTE(C8,"rawdatafilename","original_count"),ROW(OFFSET(Metadata!$A$1,0,0,Metadata!Metadata_Table_Length,1))-1,"")),0),"")} -> 2370 | I8: {=IF(B8<>"",OFFSET(Metadata!$B$1,MIN(IF(OFFSET(Metadata!$A$1,0,0,Metadata!Metadata_Table_Length,1)=SUBSTITUTE(C8,"rawdatafilename","count"),ROW(OFFSET(Metadata!$A$1,0,0,Metadata!Metadata_Table_Length,1))-1,"")),0),"")} -> 2370 | J8: {=IF(AND(G8<>"",G8<>G7),MAX(IF(G$2:G$2001=G8,H$2:H$2001,"")),"")} -> 2370 | K8: {=IF(AND(G8<>"",G8<>G7),MAX(IF(G$2:G$2001=G8,I$2:I$2001,"")),"")} -> 2370 | L8: =IF(F8<>"",IF(F8<>F7,F8,""),"") -> 3
A9: {=IFERROR(A6*MAX(IF(ISNUMBER(SEARCH("PARAMETERS_PEAKLIST_partnumber",OFFSET(Metadata!$A$1,0,0,Metadata!Metadata_Table_Length,1))),OFFSET(Metadata!$B$1,0,0,Metadata!Metadata_Table_Length,1),"")),0)} -> 14 | B9: =IF(B8<>"",IF(B8+1<=$A$9,B8+1,""),"") -> 8 | C9: =IF(B9<>"",CONCATENATE("RESULTS_SEARCH_",B9,"_PARAMETERS_PEAKLIST_rawdatafilename"),"") -> RESULTS_SEARCH_8_PARAMETERS_PEAKLIST_rawdatafilename | D9: {=IFERROR(IF(B9<>"",IF(OR(EXACT(OFFSET(Metadata!$A$1,0,0,Metadata!Metadata_Table_Length,1),C9)),1,""),""),"")} | E9: {=IF(B9<>"",IF(D9=1,OFFSET(Metadata!$B$1,MIN(IF(OFFSET(Metadata!$A$1,0,0,Metadata!Metadata_Table_Length,1)=C9,ROW(OFFSET(Metadata!$A$1,0,0,Metadata!Metadata_Table_Length,1))-1,"")),0),OFFSET(Metadata!$B$1,MIN(IF(OFFSET(Metadata!$A$1,0,0,Metadata!Metadata_Table_Length,1)=SUBSTITUTE(C9,"rawdatafilename","originalfilename"),ROW(OFFSET(Metadata!$A$1,0,0,Metadata!Metadata_Table_Length,1))-1,"")),0)),"")} -> D:\Data 6600plus\23021_DDA\HG_HI_3.wiff | F9: =IF(F8<>"",IF(E9<>"",IF(E9<>E8,F8+1,F8),""),"") -> 3 | G9: {=IF(B9<>"",OFFSET(Metadata!$B$1,MIN(IF(OFFSET(Metadata!$A$1,0,0,Metadata!Metadata_Table_Length,1)=SUBSTITUTE(C9,"rawdatafilename","partnumber"),ROW(OFFSET(Metadata!$A$1,0,0,Metadata!Metadata_Table_Length,1))-1,"")),0),"")} -> 4 | H9: {=IF(B9<>"",OFFSET(Metadata!$B$1,MIN(IF(OFFSET(Metadata!$A$1,0,0,Metadata!Metadata_Table_Length,1)=SUBSTITUTE(C9,"rawdatafilename","original_count"),ROW(OFFSET(Metadata!$A$1,0,0,Metadata!Metadata_Table_Length,1))-1,"")),0),"")} -> 2370 | I9: {=IF(B9<>"",OFFSET(Metadata!$B$1,MIN(IF(OFFSET(Metadata!$A$1,0,0,Metadata!Metadata_Table_Length,1)=SUBSTITUTE(C9,"rawdatafilename","count"),ROW(OFFSET(Metadata!$A$1,0,0,Metadata!Metadata_Table_Length,1))-1,"")),0),"")} -> 2370 | J9: {=IF(AND(G9<>"",G9<>G8),MAX(IF(G$2:G$2001=G9,H$2:H$2001,"")),"")} | K9: {=IF(AND(G9<>"",G9<>G8),MAX(IF(G$2:G$2001=G9,I$2:I$2001,"")),"")} | L9: =IF(F9<>"",IF(F9<>F8,F9,""),"")
A10: (max is 1000 segments) | B10: =IF(B9<>"",IF(B9+1<=$A$9,B9+1,""),"") -> 9 | C10: =IF(B10<>"",CONCATENATE("RESULTS_SEARCH_",B10,"_PARAMETERS_PEAKLIST_rawdatafilename"),"") -> RESULTS_SEARCH_9_PARAMETERS_PEAKLIST_rawdatafilename | D10: {=IFERROR(IF(B10<>"",IF(OR(EXACT(OFFSET(Metadata!$A$1,0,0,Metadata!Metadata_Table_Length,1),C10)),1,""),""),"")} | E10: {=IF(B10<>"",IF(D10=1,OFFSET(Metadata!$B$1,MIN(IF(OFFSET(Metadata!$A$1,0,0,Metadata!Metadata_Table_Length,1)=C10,ROW(OFFSET(Metadata!$A$1,0,0,Metadata!Metadata_Table_Length,1))-1,"")),0),OFFSET(Metadata!$B$1,MIN(IF(OFFSET(Metadata!$A$1,0,0,Metadata!Metadata_Table_Length,1)=SUBSTITUTE(C10,"rawdatafilename","originalfilename"),ROW(OFFSET(Metadata!$A$1,0,0,Metadata!Metadata_Table_Length,1))-1,"")),0)),"")} -> D:\Data 6600plus\23021_DDA\HG_HI_3.wiff | F10: =IF(F9<>"",IF(E10<>"",IF(E10<>E9,F9+1,F9),""),"") -> 3 | G10: {=IF(B10<>"",OFFSET(Metadata!$B$1,MIN(IF(OFFSET(Metadata!$A$1,0,0,Metadata!Metadata_Table_Length,1)=SUBSTITUTE(C10,"rawdatafilename","partnumber"),ROW(OFFSET(Metadata!$A$1,0,0,Metadata!Metadata_Table_Length,1))-1,"")),0),"")} -> 5 | H10: {=IF(B10<>"",OFFSET(Metadata!$B$1,MIN(IF(OFFSET(Metadata!$A$1,0,0,Metadata!Metadata_Table_Length,1)=SUBSTITUTE(C10,"rawdatafilename","original_count"),ROW(OFFSET(Metadata!$A$1,0,0,Metadata!Metadata_Table_Length,1))-1,"")),0),"")} -> 2369 | I10: {=IF(B10<>"",OFFSET(Metadata!$B$1,MIN(IF(OFFSET(Metadata!$A$1,0,0,Metadata!Metadata_Table_Length,1)=SUBSTITUTE(C10,"rawdatafilename","count"),ROW(OFFSET(Metadata!$A$1,0,0,Metadata!Metadata_Table_Length,1))-1,"")),0),"")} -> 2369 | J10: {=IF(AND(G10<>"",G10<>G9),MAX(IF(G$2:G$2001=G10,H$2:H$2001,"")),"")} -> 2369 | K10: {=IF(AND(G10<>"",G10<>G9),MAX(IF(G$2:G$2001=G10,I$2:I$2001,"")),"")} -> 2369 | L10: =IF(F10<>"",IF(F10<>F9,F10,""),"")
B11: =IF(B10<>"",IF(B10+1<=$A$9,B10+1,""),"") -> 10 | C11: =IF(B11<>"",CONCATENATE("RESULTS_SEARCH_",B11,"_PARAMETERS_PEAKLIST_rawdatafilename"),"") -> RESULTS_SEARCH_10_PARAMETERS_PEAKLIST_rawdatafilename | D11: {=IFERROR(IF(B11<>"",IF(OR(EXACT(OFFSET(Metadata!$A$1,0,0,Metadata!Metadata_Table_Length,1),C11)),1,""),""),"")} | E11: {=IF(B11<>"",IF(D11=1,OFFSET(Metadata!$B$1,MIN(IF(OFFSET(Metadata!$A$1,0,0,Metadata!Metadata_Table_Length,1)=C11,ROW(OFFSET(Metadata!$A$1,0,0,Metadata!Metadata_Table_Length,1))-1,"")),0),OFFSET(Metadata!$B$1,MIN(IF(OFFSET(Metadata!$A$1,0,0,Metadata!Metadata_Table_Length,1)=SUBSTITUTE(C11,"rawdatafilename","originalfilename"),ROW(OFFSET(Metadata!$A$1,0,0,Metadata!Metadata_Table_Length,1))-1,"")),0)),"")} -> D:\Data 6600plus\23021_DDA\HG_HI_3.wiff | F11: =IF(F10<>"",IF(E11<>"",IF(E11<>E10,F10+1,F10),""),"") -> 3 | G11: {=IF(B11<>"",OFFSET(Metadata!$B$1,MIN(IF(OFFSET(Metadata!$A$1,0,0,Metadata!Metadata_Table_Length,1)=SUBSTITUTE(C11,"rawdatafilename","partnumber"),ROW(OFFSET(Metadata!$A$1,0,0,Metadata!Metadata_Table_Length,1))-1,"")),0),"")} -> 5 | H11: {=IF(B11<>"",OFFSET(Metadata!$B$1,MIN(IF(OFFSET(Metadata!$A$1,0,0,Metadata!Metadata_Table_Length,1)=SUBSTITUTE(C11,"rawdatafilename","original_count"),ROW(OFFSET(Metadata!$A$1,0,0,Metadata!Metadata_Table_Length,1))-1,"")),0),"")} -> 2369 | I11: {=IF(B11<>"",OFFSET(Metadata!$B$1,MIN(IF(OFFSET(Metadata!$A$1,0,0,Metadata!Metadata_Table_Length,1)=SUBSTITUTE(C11,"rawdatafilename","count"),ROW(OFFSET(Metadata!$A$1,0,0,Metadata!Metadata_Table_Length,1))-1,"")),0),"")} -> 2369 | J11: {=IF(AND(G11<>"",G11<>G10),MAX(IF(G$2:G$2001=G11,H$2:H$2001,"")),"")} | K11: {=IF(AND(G11<>"",G11<>G10),MAX(IF(G$2:G$2001=G11,I$2:I$2001,"")),"")} | L11: =IF(F11<>"",IF(F11<>F10,F11,""),"")
B12: =IF(B11<>"",IF(B11+1<=$A$9,B11+1,""),"") -> 11 | C12: =IF(B12<>"",CONCATENATE("RESULTS_SEARCH_",B12,"_PARAMETERS_PEAKLIST_rawdatafilename"),"") -> RESULTS_SEARCH_11_PARAMETERS_PEAKLIST_rawdatafilename | D12: {=IFERROR(IF(B12<>"",IF(OR(EXACT(OFFSET(Metadata!$A$1,0,0,Metadata!Metadata_Table_Length,1),C12)),1,""),""),"")} | E12: {=IF(B12<>"",IF(D12=1,OFFSET(Metadata!$B$1,MIN(IF(OFFSET(Metadata!$A$1,0,0,Metadata!Metadata_Table_Length,1)=C12,ROW(OFFSET(Metadata!$A$1,0,0,Metadata!Metadata_Table_Length,1))-1,"")),0),OFFSET(Metadata!$B$1,MIN(IF(OFFSET(Metadata!$A$1,0,0,Metadata!Metadata_Table_Length,1)=SUBSTITUTE(C12,"rawdatafilename","originalfilename"),ROW(OFFSET(Metadata!$A$1,0,0,Metadata!Metadata_Table_Length,1))-1,"")),0)),"")} -> D:\Data 6600plus\23021_DDA\HG_HI_4.wiff | F12: =IF(F11<>"",IF(E12<>"",IF(E12<>E11,F11+1,F11),""),"") -> 4 | G12: {=IF(B12<>"",OFFSET(Metadata!$B$1,MIN(IF(OFFSET(Metadata!$A$1,0,0,Metadata!Metadata_Table_Length,1)=SUBSTITUTE(C12,"rawdatafilename","partnumber"),ROW(OFFSET(Metadata!$A$1,0,0,Metadata!Metadata_Table_Length,1))-1,"")),0),"")} -> 6 | H12: {=IF(B12<>"",OFFSET(Metadata!$B$1,MIN(IF(OFFSET(Metadata!$A$1,0,0,Metadata!Metadata_Table_Length,1)=SUBSTITUTE(C12,"rawdatafilename","original_count"),ROW(OFFSET(Metadata!$A$1,0,0,Metadata!Metadata_Table_Length,1))-1,"")),0),"")} -> 2619 | I12: {=IF(B12<>"",OFFSET(Metadata!$B$1,MIN(IF(OFFSET(Metadata!$A$1,0,0,Metadata!Metadata_Table_Length,1)=SUBSTITUTE(C12,"rawdatafilename","count"),ROW(OFFSET(Metadata!$A$1,0,0,Metadata!Metadata_Table_Length,1))-1,"")),0),"")} -> 2619 | J12: {=IF(AND(G12<>"",G12<>G11),MAX(IF(G$2:G$2001=G12,H$2:H$2001,"")),"")} -> 2619 | K12: {=IF(AND(G12<>"",G12<>G11),MAX(IF(G$2:G$2001=G12,I$2:I$2001,"")),"")} -> 2619 | L12: =IF(F12<>"",IF(F12<>F11,F12,""),"") -> 4
B13: =IF(B12<>"",IF(B12+1<=$A$9,B12+1,""),"") -> 12 | C13: =IF(B13<>"",CONCATENATE("RESULTS_SEARCH_",B13,"_PARAMETERS_PEAKLIST_rawdatafilename"),"") -> RESULTS_SEARCH_12_PARAMETERS_PEAKLIST_rawdatafilename | D13: {=IFERROR(IF(B13<>"",IF(OR(EXACT(OFFSET(Metadata!$A$1,0,0,Metadata!Metadata_Table_Length,1),C13)),1,""),""),"")} | E13: {=IF(B13<>"",IF(D13=1,OFFSET(Metadata!$B$1,MIN(IF(OFFSET(Metadata!$A$1,0,0,Metadata!Metadata_Table_Length,1)=C13,ROW(OFFSET(Metadata!$A$1,0,0,Metadata!Metadata_Table_Length,1))-1,"")),0),OFFSET(Metadata!$B$1,MIN(IF(OFFSET(Metadata!$A$1,0,0,Metadata!Metadata_Table_Length,1)=SUBSTITUTE(C13,"rawdatafilename","originalfilename"),ROW(OFFSET(Metadata!$A$1,0,0,Metadata!Metadata_Table_Length,1))-1,"")),0)),"")} -> D:\Data 6600plus\23021_DDA\HG_HI_4.wiff | F13: =IF(F12<>"",IF(E13<>"",IF(E13<>E12,F12+1,F12),""),"") -> 4 | G13: {=IF(B13<>"",OFFSET(Metadata!$B$1,MIN(IF(OFFSET(Metadata!$A$1,0,0,Metadata!Metadata_Table_Length,1)=SUBSTITUTE(C13,"rawdatafilename","partnumber"),ROW(OFFSET(Metadata!$A$1,0,0,Metadata!Metadata_Table_Length,1))-1,"")),0),"")} -> 6 | H13: {=IF(B13<>"",OFFSET(Metadata!$B$1,MIN(IF(OFFSET(Metadata!$A$1,0,0,Metadata!Metadata_Table_Length,1)=SUBSTITUTE(C13,"rawdatafilename","original_count"),ROW(OFFSET(Metadata!$A$1,0,0,Metadata!Metadata_Table_Length,1))-1,"")),0),"")} -> 2619 | I13: {=IF(B13<>"",OFFSET(Metadata!$B$1,MIN(IF(OFFSET(Metadata!$A$1,0,0,Metadata!Metadata_Table_Length,1)=SUBSTITUTE(C13,"rawdatafilename","count"),ROW(OFFSET(Metadata!$A$1,0,0,Metadata!Metadata_Table_Length,1))-1,"")),0),"")} -> 2619 | J13: {=IF(AND(G13<>"",G13<>G12),MAX(IF(G$2:G$2001=G13,H$2:H$2001,"")),"")} | K13: {=IF(AND(G13<>"",G13<>G12),MAX(IF(G$2:G$2001=G13,I$2:I$2001,"")),"")} | L13: =IF(F13<>"",IF(F13<>F12,F13,""),"")
B14: =IF(B13<>"",IF(B13+1<=$A$9,B13+1,""),"") -> 13 | C14: =IF(B14<>"",CONCATENATE("RESULTS_SEARCH_",B14,"_PARAMETERS_PEAKLIST_rawdatafilename"),"") -> RESULTS_SEARCH_13_PARAMETERS_PEAKLIST_rawdatafilename | D14: {=IFERROR(IF(B14<>"",IF(OR(EXACT(OFFSET(Metadata!$A$1,0,0,Metadata!Metadata_Table_Length,1),C14)),1,""),""),"")} | E14: {=IF(B14<>"",IF(D14=1,OFFSET(Metadata!$B$1,MIN(IF(OFFSET(Metadata!$A$1,0,0,Metadata!Metadata_Table_Length,1)=C14,ROW(OFFSET(Metadata!$A$1,0,0,Metadata!Metadata_Table_Length,1))-1,"")),0),OFFSET(Metadata!$B$1,MIN(IF(OFFSET(Metadata!$A$1,0,0,Metadata!Metadata_Table_Length,1)=SUBSTITUTE(C14,"rawdatafilename","originalfilename"),ROW(OFFSET(Metadata!$A$1,0,0,Metadata!Metadata_Table_Length,1))-1,"")),0)),"")} -> D:\Data 6600plus\23021_DDA\HG_HI_4.wiff | F14: =IF(F13<>"",IF(E14<>"",IF(E14<>E13,F13+1,F13),""),"") -> 4 | G14: {=IF(B14<>"",OFFSET(Metadata!$B$1,MIN(IF(OFFSET(Metadata!$A$1,0,0,Metadata!Metadata_Table_Length,1)=SUBSTITUTE(C14,"rawdatafilename","partnumber"),ROW(OFFSET(Metadata!$A$1,0,0,Metadata!Metadata_Table_Length,1))-1,"")),0),"")} -> 7 | H14: {=IF(B14<>"",OFFSET(Metadata!$B$1,MIN(IF(OFFSET(Metadata!$A$1,0,0,Metadata!Metadata_Table_Length,1)=SUBSTITUTE(C14,"rawdatafilename","original_count"),ROW(OFFSET(Metadata!$A$1,0,0,Metadata!Metadata_Table_Length,1))-1,"")),0),"")} -> 2619 | I14: {=IF(B14<>"",OFFSET(Metadata!$B$1,MIN(IF(OFFSET(Metadata!$A$1,0,0,Metadata!Metadata_Table_Length,1)=SUBSTITUTE(C14,"rawdatafilename","count"),ROW(OFFSET(Metadata!$A$1,0,0,Metadata!Metadata_Table_Length,1))-1,"")),0),"")} -> 2619 | J14: {=IF(AND(G14<>"",G14<>G13),MAX(IF(G$2:G$2001=G14,H$2:H$2001,"")),"")} -> 2619 | K14: {=IF(AND(G14<>"",G14<>G13),MAX(IF(G$2:G$2001=G14,I$2:I$2001,"")),"")} -> 2619 | L14: =IF(F14<>"",IF(F14<>F13,F14,""),"")
B15: =IF(B14<>"",IF(B14+1<=$A$9,B14+1,""),"") -> 14 | C15: =IF(B15<>"",CONCATENATE("RESULTS_SEARCH_",B15,"_PARAMETERS_PEAKLIST_rawdatafilename"),"") -> RESULTS_SEARCH_14_PARAMETERS_PEAKLIST_rawdatafilename | D15: {=IFERROR(IF(B15<>"",IF(OR(EXACT(OFFSET(Metadata!$A$1,0,0,Metadata!Metadata_Table_Length,1),C15)),1,""),""),"")} | E15: {=IF(B15<>"",IF(D15=1,OFFSET(Metadata!$B$1,MIN(IF(OFFSET(Metadata!$A$1,0,0,Metadata!Metadata_Table_Length,1)=C15,ROW(OFFSET(Metadata!$A$1,0,0,Metadata!Metadata_Table_Length,1))-1,"")),0),OFFSET(Metadata!$B$1,MIN(IF(OFFSET(Metadata!$A$1,0,0,Metadata!Metadata_Table_Length,1)=SUBSTITUTE(C15,"rawdatafilename","originalfilename"),ROW(OFFSET(Metadata!$A$1,0,0,Metadata!Metadata_Table_Length,1))-1,"")),0)),"")} -> D:\Data 6600plus\23021_DDA\HG_HI_4.wiff | F15: =IF(F14<>"",IF(E15<>"",IF(E15<>E14,F14+1,F14),""),"") -> 4 | G15: {=IF(B15<>"",OFFSET(Metadata!$B$1,MIN(IF(OFFSET(Metadata!$A$1,0,0,Metadata!Metadata_Table_Length,1)=SUBSTITUTE(C15,"rawdatafilename","partnumber"),ROW(OFFSET(Metadata!$A$1,0,0,Metadata!Metadata_Table_Length,1))-1,"")),0),"")} -> 7 | H15: {=IF(B15<>"",OFFSET(Metadata!$B$1,MIN(IF(OFFSET(Metadata!$A$1,0,0,Metadata!Metadata_Table_Length,1)=SUBSTITUTE(C15,"rawdatafilename","original_count"),ROW(OFFSET(Metadata!$A$1,0,0,Metadata!Metadata_Table_Length,1))-1,"")),0),"")} -> 2619 | I15: {=IF(B15<>"",OFFSET(Metadata!$B$1,MIN(IF(OFFSET(Metadata!$A$1,0,0,Metadata!Metadata_Table_Length,1)=SUBSTITUTE(C15,"rawdatafilename","count"),ROW(OFFSET(Metadata!$A$1,0,0,Metadata!Metadata_Table_Length,1))-1,"")),0),"")} -> 2619 | J15: {=IF(AND(G15<>"",G15<>G14),MAX(IF(G$2:G$2001=G15,H$2:H$2001,"")),"")} | K15: {=IF(AND(G15<>"",G15<>G14),MAX(IF(G$2:G$2001=G15,I$2:I$2001,"")),"")} | L15: =IF(F15<>"",IF(F15<>F14,F15,""),"")
B16: =IF(B15<>"",IF(B15+1<=$A$9,B15+1,""),"") | C16: =IF(B16<>"",CONCATENATE("RESULTS_SEARCH_",B16,"_PARAMETERS_PEAKLIST_rawdatafilename"),"") | D16: {=IFERROR(IF(B16<>"",IF(OR(EXACT(OFFSET(Metadata!$A$1,0,0,Metadata!Metadata_Table_Length,1),C16)),1,""),""),"")} | E16: {=IF(B16<>"",IF(D16=1,OFFSET(Metadata!$B$1,MIN(IF(OFFSET(Metadata!$A$1,0,0,Metadata!Metadata_Table_Length,1)=C16,ROW(OFFSET(Metadata!$A$1,0,0,Metadata!Metadata_Table_Length,1))-1,"")),0),OFFSET(Metadata!$B$1,MIN(IF(OFFSET(Metadata!$A$1,0,0,Metadata!Metadata_Table_Length,1)=SUBSTITUTE(C16,"rawdatafilename","originalfilename"),ROW(OFFSET(Metadata!$A$1,0,0,Metadata!Metadata_Table_Length,1))-1,"")),0)),"")} | F16: =IF(F15<>"",IF(E16<>"",IF(E16<>E15,F15+1,F15),""),"") | G16: {=IF(B16<>"",OFFSET(Metadata!$B$1,MIN(IF(OFFSET(Metadata!$A$1,0,0,Metadata!Metadata_Table_Length,1)=SUBSTITUTE(C16,"rawdatafilename","partnumber"),ROW(OFFSET(Metadata!$A$1,0,0,Metadata!Metadata_Table_Length,1))-1,"")),0),"")} | H16: {=IF(B16<>"",OFFSET(Metadata!$B$1,MIN(IF(OFFSET(Metadata!$A$1,0,0,Metadata!Metadata_Table_Length,1)=SUBSTITUTE(C16,"rawdatafilename","original_count"),ROW(OFFSET(Metadata!$A$1,0,0,Metadata!Metadata_Table_Length,1))-1,"")),0),"")} | I16: {=IF(B16<>"",OFFSET(Metadata!$B$1,MIN(IF(OFFSET(Metadata!$A$1,0,0,Metadata!Metadata_Table_Length,1)=SUBSTITUTE(C16,"rawdatafilename","count"),ROW(OFFSET(Metadata!$A$1,0,0,Metadata!Metadata_Table_Length,1))-1,"")),0),"")} | J16: {=IF(AND(G16<>"",G16<>G15),MAX(IF(G$2:G$2001=G16,H$2:H$2001,"")),"")} | K16: {=IF(AND(G16<>"",G16<>G15),MAX(IF(G$2:G$2001=G16,I$2:I$2001,"")),"")} | L16: =IF(F16<>"",IF(F16<>F15,F16,""),"")
B17: =IF(B16<>"",IF(B16+1<=$A$9,B16+1,""),"") | C17: =IF(B17<>"",CONCATENATE("RESULTS_SEARCH_",B17,"_PARAMETERS_PEAKLIST_rawdatafilename"),"") | D17: {=IFERROR(IF(B17<>"",IF(OR(EXACT(OFFSET(Metadata!$A$1,0,0,Metadata!Metadata_Table_Length,1),C17)),1,""),""),"")} | E17: {=IF(B17<>"",IF(D17=1,OFFSET(Metadata!$B$1,MIN(IF(OFFSET(Metadata!$A$1,0,0,Metadata!Metadata_Table_Length,1)=C17,ROW(OFFSET(Metadata!$A$1,0,0,Metadata!Metadata_Table_Length,1))-1,"")),0),OFFSET(Metadata!$B$1,MIN(IF(OFFSET(Metadata!$A$1,0,0,Metadata!Metadata_Table_Length,1)=SUBSTITUTE(C17,"rawdatafilename","originalfilename"),ROW(OFFSET(Metadata!$A$1,0,0,Metadata!Metadata_Table_Length,1))-1,"")),0)),"")} | F17: =IF(F16<>"",IF(E17<>"",IF(E17<>E16,F16+1,F16),""),"") | G17: {=IF(B17<>"",OFFSET(Metadata!$B$1,MIN(IF(OFFSET(Metadata!$A$1,0,0,Metadata!Metadata_Table_Length,1)=SUBSTITUTE(C17,"rawdatafilename","partnumber"),ROW(OFFSET(Metadata!$A$1,0,0,Metadata!Metadata_Table_Length,1))-1,"")),0),"")} | H17: {=IF(B17<>"",OFFSET(Metadata!$B$1,MIN(IF(OFFSET(Metadata!$A$1,0,0,Metadata!Metadata_Table_Length,1)=SUBSTITUTE(C17,"rawdatafilename","original_count"),ROW(OFFSET(Metadata!$A$1,0,0,Metadata!Metadata_Table_Length,1))-1,"")),0),"")} | I17: {=IF(B17<>"",OFFSET(Metadata!$B$1,MIN(IF(OFFSET(Metadata!$A$1,0,0,Metadata!Metadata_Table_Length,1)=SUBSTITUTE(C17,"rawdatafilename","count"),ROW(OFFSET(Metadata!$A$1,0,0,Metadata!Metadata_Table_Length,1))-1,"")),0),"")} | J17: {=IF(AND(G17<>"",G17<>G16),MAX(IF(G$2:G$2001=G17,H$2:H$2001,"")),"")} | K17: {=IF(AND(G17<>"",G17<>G16),MAX(IF(G$2:G$2001=G17,I$2:I$2001,"")),"")} | L17: =IF(F17<>"",IF(F17<>F16,F17,""),"")
B18: =IF(B17<>"",IF(B17+1<=$A$9,B17+1,""),"") | C18: =IF(B18<>"",CONCATENATE("RESULTS_SEARCH_",B18,"_PARAMETERS_PEAKLIST_rawdatafilename"),"") | D18: {=IFERROR(IF(B18<>"",IF(OR(EXACT(OFFSET(Metadata!$A$1,0,0,Metadata!Metadata_Table_Length,1),C18)),1,""),""),"")} | E18: {=IF(B18<>"",IF(D18=1,OFFSET(Metadata!$B$1,MIN(IF(OFFSET(Metadata!$A$1,0,0,Metadata!Metadata_Table_Length,1)=C18,ROW(OFFSET(Metadata!$A$1,0,0,Metadata!Metadata_Table_Length,1))-1,"")),0),OFFSET(Metadata!$B$1,MIN(IF(OFFSET(Metadata!$A$1,0,0,Metadata!Metadata_Table_Length,1)=SUBSTITUTE(C18,"rawdatafilename","originalfilename"),ROW(OFFSET(Metadata!$A$1,0,0,Metadata!Metadata_Table_Length,1))-1,"")),0)),"")} | F18: =IF(F17<>"",IF(E18<>"",IF(E18<>E17,F17+1,F17),""),"") | G18: {=IF(B18<>"",OFFSET(Metadata!$B$1,MIN(IF(OFFSET(Metadata!$A$1,0,0,Metadata!Metadata_Table_Length,1)=SUBSTITUTE(C18,"rawdatafilename","partnumber"),ROW(OFFSET(Metadata!$A$1,0,0,Metadata!Metadata_Table_Length,1))-1,"")),0),"")} | H18: {=IF(B18<>"",OFFSET(Metadata!$B$1,MIN(IF(OFFSET(Metadata!$A$1,0,0,Metadata!Metadata_Table_Length,1)=SUBSTITUTE(C18,"rawdatafilename","original_count"),ROW(OFFSET(Metadata!$A$1,0,0,Metadata!Metadata_Table_Length,1))-1,"")),0),"")} | I18: {=IF(B18<>"",OFFSET(Metadata!$B$1,MIN(IF(OFFSET(Metadata!$A$1,0,0,Metadata!Metadata_Table_Length,1)=SUBSTITUTE(C18,"rawdatafilename","count"),ROW(OFFSET(Metadata!$A$1,0,0,Metadata!Metadata_Table_Length,1))-1,"")),0),"")} | J18: {=IF(AND(G18<>"",G18<>G17),MAX(IF(G$2:G$2001=G18,H$2:H$2001,"")),"")} | K18: {=IF(AND(G18<>"",G18<>G17),MAX(IF(G$2:G$2001=G18,I$2:I$2001,"")),"")} | L18: =IF(F18<>"",IF(F18<>F17,F18,""),"")
B19: =IF(B18<>"",IF(B18+1<=$A$9,B18+1,""),"") | C19: =IF(B19<>"",CONCATENATE("RESULTS_SEARCH_",B19,"_PARAMETERS_PEAKLIST_rawdatafilename"),"") | D19: {=IFERROR(IF(B19<>"",IF(OR(EXACT(OFFSET(Metadata!$A$1,0,0,Metadata!Metadata_Table_Length,1),C19)),1,""),""),"")} | E19: {=IF(B19<>"",IF(D19=1,OFFSET(Metadata!$B$1,MIN(IF(OFFSET(Metadata!$A$1,0,0,Metadata!Metadata_Table_Length,1)=C19,ROW(OFFSET(Metadata!$A$1,0,0,Metadata!Metadata_Table_Length,1))-1,"")),0),OFFSET(Metadata!$B$1,MIN(IF(OFFSET(Metadata!$A$1,0,0,Metadata!Metadata_Table_Length,1)=SUBSTITUTE(C19,"rawdatafilename","originalfilename"),ROW(OFFSET(Metadata!$A$1,0,0,Metadata!Metadata_Table_Length,1))-1,"")),0)),"")} | F19: =IF(F18<>"",IF(E19<>"",IF(E19<>E18,F18+1,F18),""),"") | G19: {=IF(B19<>"",OFFSET(Metadata!$B$1,MIN(IF(OFFSET(Metadata!$A$1,0,0,Metadata!Metadata_Table_Length,1)=SUBSTITUTE(C19,"rawdatafilename","partnumber"),ROW(OFFSET(Metadata!$A$1,0,0,Metadata!Metadata_Table_Length,1))-1,"")),0),"")} | H19: {=IF(B19<>"",OFFSET(Metadata!$B$1,MIN(IF(OFFSET(Metadata!$A$1,0,0,Metadata!Metadata_Table_Length,1)=SUBSTITUTE(C19,"rawdatafilename","original_count"),ROW(OFFSET(Metadata!$A$1,0,0,Metadata!Metadata_Table_Length,1))-1,"")),0),"")} | I19: {=IF(B19<>"",OFFSET(Metadata!$B$1,MIN(IF(OFFSET(Metadata!$A$1,0,0,Metadata!Metadata_Table_Length,1)=SUBSTITUTE(C19,"rawdatafilename","count"),ROW(OFFSET(Metadata!$A$1,0,0,Metadata!Metadata_Table_Length,1))-1,"")),0),"")} | J19: {=IF(AND(G19<>"",G19<>G18),MAX(IF(G$2:G$2001=G19,H$2:H$2001,"")),"")} | K19: {=IF(AND(G19<>"",G19<>G18),MAX(IF(G$2:G$2001=G19,I$2:I$2001,"")),"")} | L19: =IF(F19<>"",IF(F19<>F18,F19,""),"")
B20: =IF(B19<>"",IF(B19+1<=$A$9,B19+1,""),"") | C20: =IF(B20<>"",CONCATENATE("RESULTS_SEARCH_",B20,"_PARAMETERS_PEAKLIST_rawdatafilename"),"") | D20: {=IFERROR(IF(B20<>"",IF(OR(EXACT(OFFSET(Metadata!$A$1,0,0,Metadata!Metadata_Table_Length,1),C20)),1,""),""),"")} | E20: {=IF(B20<>"",IF(D20=1,OFFSET(Metadata!$B$1,MIN(IF(OFFSET(Metadata!$A$1,0,0,Metadata!Metadata_Table_Length,1)=C20,ROW(OFFSET(Metadata!$A$1,0,0,Metadata!Metadata_Table_Length,1))-1,"")),0),OFFSET(Metadata!$B$1,MIN(IF(OFFSET(Metadata!$A$1,0,0,Metadata!Metadata_Table_Length,1)=SUBSTITUTE(C20,"rawdatafilename","originalfilename"),ROW(OFFSET(Metadata!$A$1,0,0,Metadata!Metadata_Table_Length,1))-1,"")),0)),"")} | F20: =IF(F19<>"",IF(E20<>"",IF(E20<>E19,F19+1,F19),""),"") | G20: {=IF(B20<>"",OFFSET(Metadata!$B$1,MIN(IF(OFFSET(Metadata!$A$1,0,0,Metadata!Metadata_Table_Length,1)=SUBSTITUTE(C20,"rawdatafilename","partnumber"),ROW(OFFSET(Metadata!$A$1,0,0,Metadata!Metadata_Table_Length,1))-1,"")),0),"")} | H20: {=IF(B20<>"",OFFSET(Metadata!$B$1,MIN(IF(OFFSET(Metadata!$A$1,0,0,Metadata!Metadata_Table_Length,1)=SUBSTITUTE(C20,"rawdatafilename","original_count"),ROW(OFFSET(Metadata!$A$1,0,0,Metadata!Metadata_Table_Length,1))-1,"")),0),"")} | I20: {=IF(B20<>"",OFFSET(Metadata!$B$1,MIN(IF(OFFSET(Metadata!$A$1,0,0,Metadata!Metadata_Table_Length,1)=SUBSTITUTE(C20,"rawdatafilename","count"),ROW(OFFSET(Metadata!$A$1,0,0,Metadata!Metadata_Table_Length,1))-1,"")),0),"")} | J20: {=IF(AND(G20<>"",G20<>G19),MAX(IF(G$2:G$2001=G20,H$2:H$2001,"")),"")} | K20: {=IF(AND(G20<>"",G20<>G19),MAX(IF(G$2:G$2001=G20,I$2:I$2001,"")),"")} | L20: =IF(F20<>"",IF(F20<>F19,F20,""),"")
B21: =IF(B20<>"",IF(B20+1<=$A$9,B20+1,""),"") | C21: =IF(B21<>"",CONCATENATE("RESULTS_SEARCH_",B21,"_PARAMETERS_PEAKLIST_rawdatafilename"),"") | D21: {=IFERROR(IF(B21<>"",IF(OR(EXACT(OFFSET(Metadata!$A$1,0,0,Metadata!Metadata_Table_Length,1),C21)),1,""),""),"")} | E21: {=IF(B21<>"",IF(D21=1,OFFSET(Metadata!$B$1,MIN(IF(OFFSET(Metadata!$A$1,0,0,Metadata!Metadata_Table_Length,1)=C21,ROW(OFFSET(Metadata!$A$1,0,0,Metadata!Metadata_Table_Length,1))-1,"")),0),OFFSET(Metadata!$B$1,MIN(IF(OFFSET(Metadata!$A$1,0,0,Metadata!Metadata_Table_Length,1)=SUBSTITUTE(C21,"rawdatafilename","originalfilename"),ROW(OFFSET(Metadata!$A$1,0,0,Metadata!Metadata_Table_Length,1))-1,"")),0)),"")} | F21: =IF(F20<>"",IF(E21<>"",IF(E21<>E20,F20+1,F20),""),"") | G21: {=IF(B21<>"",OFFSET(Metadata!$B$1,MIN(IF(OFFSET(Metadata!$A$1,0,0,Metadata!Metadata_Table_Length,1)=SUBSTITUTE(C21,"rawdatafilename","partnumber"),ROW(OFFSET(Metadata!$A$1,0,0,Metadata!Metadata_Table_Length,1))-1,"")),0),"")} | H21: {=IF(B21<>"",OFFSET(Metadata!$B$1,MIN(IF(OFFSET(Metadata!$A$1,0,0,Metadata!Metadata_Table_Length,1)=SUBSTITUTE(C21,"rawdatafilename","original_count"),ROW(OFFSET(Metadata!$A$1,0,0,Metadata!Metadata_Table_Length,1))-1,"")),0),"")} | I21: {=IF(B21<>"",OFFSET(Metadata!$B$1,MIN(IF(OFFSET(Metadata!$A$1,0,0,Metadata!Metadata_Table_Length,1)=SUBSTITUTE(C21,"rawdatafilename","count"),ROW(OFFSET(Metadata!$A$1,0,0,Metadata!Metadata_Table_Length,1))-1,"")),0),"")} | J21: {=IF(AND(G21<>"",G21<>G20),MAX(IF(G$2:G$2001=G21,H$2:H$2001,"")),"")} | K21: {=IF(AND(G21<>"",G21<>G20),MAX(IF(G$2:G$2001=G21,I$2:I$2001,"")),"")} | L21: =IF(F21<>"",IF(F21<>F20,F21,""),"")
B22: =IF(B21<>"",IF(B21+1<=$A$9,B21+1,""),"") | C22: =IF(B22<>"",CONCATENATE("RESULTS_SEARCH_",B22,"_PARAMETERS_PEAKLIST_rawdatafilename"),"") | D22: {=IFERROR(IF(B22<>"",IF(OR(EXACT(OFFSET(Metadata!$A$1,0,0,Metadata!Metadata_Table_Length,1),C22)),1,""),""),"")} | E22: {=IF(B22<>"",IF(D22=1,OFFSET(Metadata!$B$1,MIN(IF(OFFSET(Metadata!$A$1,0,0,Metadata!Metadata_Table_Length,1)=C22,ROW(OFFSET(Metadata!$A$1,0,0,Metadata!Metadata_Table_Length,1))-1,"")),0),OFFSET(Metadata!$B$1,MIN(IF(OFFSET(Metadata!$A$1,0,0,Metadata!Metadata_Table_Length,1)=SUBSTITUTE(C22,"rawdatafilename","originalfilename"),ROW(OFFSET(Metadata!$A$1,0,0,Metadata!Metadata_Table_Length,1))-1,"")),0)),"")} | F22: =IF(F21<>"",IF(E22<>"",IF(E22<>E21,F21+1,F21),""),"") | G22: {=IF(B22<>"",OFFSET(Metadata!$B$1,MIN(IF(OFFSET(Metadata!$A$1,0,0,Metadata!Metadata_Table_Length,1)=SUBSTITUTE(C22,"rawdatafilename","partnumber"),ROW(OFFSET(Metadata!$A$1,0,0,Metadata!Metadata_Table_Length,1))-1,"")),0),"")} | H22: {=IF(B22<>"",OFFSET(Metadata!$B$1,MIN(IF(OFFSET(Metadata!$A$1,0,0,Metadata!Metadata_Table_Length,1)=SUBSTITUTE(C22,"rawdatafilename","original_count"),ROW(OFFSET(Metadata!$A$1,0,0,Metadata!Metadata_Table_Length,1))-1,"")),0),"")} | I22: {=IF(B22<>"",OFFSET(Metadata!$B$1,MIN(IF(OFFSET(Metadata!$A$1,0,0,Metadata!Metadata_Table_Length,1)=SUBSTITUTE(C22,"rawdatafilename","count"),ROW(OFFSET(Metadata!$A$1,0,0,Metadata!Metadata_Table_Length,1))-1,"")),0),"")} | J22: {=IF(AND(G22<>"",G22<>G21),MAX(IF(G$2:G$2001=G22,H$2:H$2001,"")),"")} | K22: {=IF(AND(G22<>"",G22<>G21),MAX(IF(G$2:G$2001=G22,I$2:I$2001,"")),"")} | L22: =IF(F22<>"",IF(F22<>F21,F22,""),"")
... B2001: =IF(B2000<>"",IF(B2000+1<=$A$9,B2000+1,""),"") | C2001: =IF(B2001<>"",CONCATENATE("RESULTS_SEARCH_",B2001,"_PARAMETERS_PEAKLIST_rawdatafilename"),"") | D2001: {=IFERROR(IF(B2001<>"",IF(OR(EXACT(OFFSET(Metadata!$A$1,0,0,Metadata!Metadata_Table_Length,1),C2001)),1,""),""),"")} | E2001: {=IF(B2001<>"",IF(D2001=1,OFFSET(Metadata!$B$1,MIN(IF(OFFSET(Metadata!$A$1,0,0,Metadata!Metadata_Table_Length,1)=C2001,ROW(OFFSET(Metadata!$A$1,0,0,Metadata!Metadata_Table_Length,1))-1,"")),0),OFFSET(Metadata!$B$1,MIN(IF(OFFSET(Metadata!$A$1,0,0,Metadata!Metadata_Table_Length,1)=SUBSTITUTE(C2001,"rawdatafilename","originalfilename"),ROW(OFFSET(Metadata!$A$1,0,0,Metadata!Metadata_Table_Length,1))-1,"")),0)),"")} | F2001: =IF(F2000<>"",IF(E2001<>"",IF(E2001<>E2000,F2000+1,F2000),""),"") | G2001: {=IF(B2001<>"",OFFSET(Metadata!$B$1,MIN(IF(OFFSET(Metadata!$A$1,0,0,Metadata!Metadata_Table_Length,1)=SUBSTITUTE(C2001,"rawdatafilename","partnumber"),ROW(OFFSET(Metadata!$A$1,0,0,Metadata!Metadata_Table_Length,1))-1,"")),0),"")} | H2001: {=IF(B2001<>"",OFFSET(Metadata!$B$1,MIN(IF(OFFSET(Metadata!$A$1,0,0,Metadata!Metadata_Table_Length,1)=SUBSTITUTE(C2001,"rawdatafilename","original_count"),ROW(OFFSET(Metadata!$A$1,0,0,Metadata!Metadata_Table_Length,1))-1,"")),0),"")} | I2001: {=IF(B2001<>"",OFFSET(Metadata!$B$1,MIN(IF(OFFSET(Metadata!$A$1,0,0,Metadata!Metadata_Table_Length,1)=SUBSTITUTE(C2001,"rawdatafilename","count"),ROW(OFFSET(Metadata!$A$1,0,0,Metadata!Metadata_Table_Length,1))-1,"")),0),"")} | J2001: {=IF(AND(G2001<>"",G2001<>G2000),MAX(IF(G$2:G$2001=G2001,H$2:H$2001,"")),"")} | K2001: {=IF(AND(G2001<>"",G2001<>G2000),MAX(IF(G$2:G$2001=G2001,I$2:I$2001,"")),"")} | L2001: =IF(F2001<>"",IF(F2001<>F2000,F2001,""),"")

Sheet Curated Metadata
A1: Group file metadata term | B1: Metadata Description (of raw extracted item) | C1: Use Partial Match | D1: Term in Stream | E1: Derived (Calculated) | F1: Value | G1: Validation check/comments | H1: Conversion type, if done | I1: Conversion factor | K1: Metadata Category | L1: Metadata Description of Final Metadata Item (converted manually, if applicable) | M1: Value
B4: Group filename | D4: {=IFERROR(IF(A4<>"",IF(C4<>1,IF(OR(EXACT(OFFSET(Metadata!$A$1,0,0,Metadata!Metadata_Table_Length,1),A4)),1,""),IF(SUM(IF(ISNUMBER(SEARCH('Curated Metadata'!A4,OFFSET(Metadata!$A$1,0,0,Metadata!Metadata_Table_Length,1))),OFFSET(Metadata!$B$1,0,0,Metadata!Metadata_Table_Length,1),""))>0,1,"")),""),"")} | E4: 1 | F4: {=IF(D4=1,OFFSET(Metadata!$B$1,MIN(IF(OFFSET(Metadata!$A$1,0,0,Metadata!Metadata_Table_Length,1)='Curated Metadata'!A4,ROW(OFFSET(Metadata!$A$1,0,0,Metadata!Metadata_Table_Length,1))-1,"")),0),"")} | K4: Attributes - General | L4: =B4 -> Group filename | M4: =IF(M5<>"",SUBSTITUTE(SUBSTITUTE(MID(CELL("filename",$A$1),FIND("[",CELL("filename",$A$1))+1,FIND("]",CELL("filename",$A$1))-FIND("[",CELL("filename",$A$1))-1),".xlsx",".group"),"__FDR",""),"") -> SUPPL TABLE 4 DDA HG_HI.group
A5: RESULTS_SEARCH_1_PARAMETERS_PARAGON_METHOD_SETTINGS_UI_START_TIME | B5: Start date | D5: {=IFERROR(IF(A5<>"",IF(C5<>1,IF(OR(EXACT(OFFSET(Metadata!$A$1,0,0,Metadata!Metadata_Table_Length,1),A5)),1,""),IF(SUM(IF(ISNUMBER(SEARCH('Curated Metadata'!A5,OFFSET(Metadata!$A$1,0,0,Metadata!Metadata_Table_Length,1))),OFFSET(Metadata!$B$1,0,0,Metadata!Metadata_Table_Length,1),""))>0,1,"")),""),"")} -> 1 | F5: {=IF(D5=1,OFFSET(Metadata!$B$1,MIN(IF(OFFSET(Metadata!$A$1,0,0,Metadata!Metadata_Table_Length,1)='Curated Metadata'!A5,ROW(OFFSET(Metadata!$A$1,0,0,Metadata!Metadata_Table_Length,1))-1,"")),0),"")} -> 45007.596 | K5: Attributes - General | L5: =B5 -> Start date | M5: =IFERROR(IF(OR(B5<>L5,I5<>""),F5*I5,F5),"") -> 45007.596
A6: RESULTS_SEARCH_STAT_search_begin_time_clock | B6: Start time | D6: {=IFERROR(IF(A6<>"",IF(C6<>1,IF(OR(EXACT(OFFSET(Metadata!$A$1,0,0,Metadata!Metadata_Table_Length,1),A6)),1,""),IF(SUM(IF(ISNUMBER(SEARCH('Curated Metadata'!A6,OFFSET(Metadata!$A$1,0,0,Metadata!Metadata_Table_Length,1))),OFFSET(Metadata!$B$1,0,0,Metadata!Metadata_Table_Length,1),""))>0,1,"")),""),"")} -> 1 | F6: {=IF(D6=1,OFFSET(Metadata!$B$1,MIN(IF(OFFSET(Metadata!$A$1,0,0,Metadata!Metadata_Table_Length,1)='Curated Metadata'!A6,ROW(OFFSET(Metadata!$A$1,0,0,Metadata!Metadata_Table_Length,1))-1,"")),0),"")} -> 45007.596 | K6: Attributes - General | L6: =B6 -> Start time | M6: =IFERROR(IF(OR(B6<>L6,I6<>""),F6*I6,F6),"") -> 45007.596
A7: RESULTS_SEARCH_1_PARAMETERS_PARAGON_METHOD_SETTINGS_UI_USER_NAME | B7: User name | D7: {=IFERROR(IF(A7<>"",IF(C7<>1,IF(OR(EXACT(OFFSET(Metadata!$A$1,0,0,Metadata!Metadata_Table_Length,1),A7)),1,""),IF(SUM(IF(ISNUMBER(SEARCH('Curated Metadata'!A7,OFFSET(Metadata!$A$1,0,0,Metadata!Metadata_Table_Length,1))),OFFSET(Metadata!$B$1,0,0,Metadata!Metadata_Table_Length,1),""))>0,1,"")),""),"")} -> 1 | F7: {=IF(D7=1,OFFSET(Metadata!$B$1,MIN(IF(OFFSET(Metadata!$A$1,0,0,Metadata!Metadata_Table_Length,1)='Curated Metadata'!A7,ROW(OFFSET(Metadata!$A$1,0,0,Metadata!Metadata_Table_Length,1))-1,"")),0),"")} -> DESKTOP-4CRA9SP\ProteinPilot_2 | K7: Attributes - General | L7: =B7 -> User name | M7: =IFERROR(IF(OR(B7<>L7,I7<>""),F7*I7,F7),"") -> DESKTOP-4CRA9SP\ProteinPilot_2
A8: RESULTS_SEARCH_1_xml:id | B8: Internal search identifier number | D8: {=IFERROR(IF(A8<>"",IF(C8<>1,IF(OR(EXACT(OFFSET(Metadata!$A$1,0,0,Metadata!Metadata_Table_Length,1),A8)),1,""),IF(SUM(IF(ISNUMBER(SEARCH('Curated Metadata'!A8,OFFSET(Metadata!$A$1,0,0,Metadata!Metadata_Table_Length,1))),OFFSET(Metadata!$B$1,0,0,Metadata!Metadata_Table_Length,1),""))>0,1,"")),""),"")} -> 1 | E8: 1 | F8: =IFERROR(SUBSTITUTE(SUBSTITUTE(OFFSET(Metadata!$B$1,MIN(IF(OFFSET(Metadata!$A$1,0,0,Metadata!Metadata_Table_Length,1)='Curated Metadata'!A8,ROW(OFFSET(Metadata!$A$1,0,0,Metadata!Metadata_Table_Length,1))-1,"")),0),"SEARCH:1:",""),"_0",""),"") | K8: Attributes - General | L8: =B8 -> Internal search identifier number | M8: =IFERROR(IF(OR(B8<>L8,I8<>""),F8*I8,F8),"")
A11: PARAMETERS_PEAKLIST_original_count | E11: 1 | K11: Attributes - Input data | L11: Number of spectra in search | M11: =IFERROR(IF(SUM('Metadata Calculations'!J2:J2001)>0,SUM('Metadata Calculations'!J2:J2001),""),"") -> 18959
A12: PARAMETERS_PEAKLIST_count | E12: 1 | K12: Attributes - Input data | L12: Number of non-empty spectra in search | M12: =IFERROR(IF(SUM('Metadata Calculations'!K2:K2001)>0,SUM('Metadata Calculations'!K2:K2001),""),"") -> 18959
A13: PARAMETERS_PEAKLIST_filenumber | B13: Number of input files | C13: 1 | D13: {=IFERROR(IF(A13<>"",IF(C13<>1,IF(OR(EXACT(OFFSET(Metadata!$A$1,0,0,Metadata!Metadata_Table_Length,1),A13)),1,""),IF(SUM(IF(ISNUMBER(SEARCH('Curated Metadata'!A13,OFFSET(Metadata!$A$1,0,0,Metadata!Metadata_Table_Length,1))),OFFSET(Metadata!$B$1,0,0,Metadata!Metadata_Table_Length,1),""))>0,1,"")),""),"")} -> 1 | E13: 1 | F13: {=IFERROR(MAX(IF(ISNUMBER(SEARCH('Curated Metadata'!A13,OFFSET(Metadata!$A$1,0,0,Metadata!Metadata_Table_Length,1))),OFFSET(Metadata!$B$1,0,0,Metadata!Metadata_Table_Length,1),"")),"")} -> 4 | K13: Attributes - Input data | L13: =B13 -> Number of input files | M13: =IFERROR(IF(OR(B13<>L13,I13<>""),F13*I13,F13),"") -> 4
D14: {=IFERROR(IF(A14<>"",IF(C14<>1,IF(OR(EXACT(OFFSET(Metadata!$A$1,0,0,Metadata!Metadata_Table_Length,1),A14)),1,""),IF(SUM(IF(ISNUMBER(SEARCH('Curated Metadata'!A14,OFFSET(Metadata!$A$1,0,0,Metadata!Metadata_Table_Length,1))),OFFSET(Metadata!$B$1,0,0,Metadata!Metadata_Table_Length,1),""))>0,1,"")),""),"")}
D15: {=IFERROR(IF(A15<>"",IF(C15<>1,IF(OR(EXACT(OFFSET(Metadata!$A$1,0,0,Metadata!Metadata_Table_Length,1),A15)),1,""),IF(SUM(IF(ISNUMBER(SEARCH('Curated Metadata'!A15,OFFSET(Metadata!$A$1,0,0,Metadata!Metadata_Table_Length,1))),OFFSET(Metadata!$B$1,0,0,Metadata!Metadata_Table_Length,1),""))>0,1,"")),""),"")}
A16: RESULTS_SEARCH_1_PARAMETERS_PARAGON_METHOD_SETTINGS_UI_SAMPLE_TYPE | B16: Sample Type | D16: {=IFERROR(IF(A16<>"",IF(C16<>1,IF(OR(EXACT(OFFSET(Metadata!$A$1,0,0,Metadata!Metadata_Table_Length,1),A16)),1,""),IF(SUM(IF(ISNUMBER(SEARCH('Curated Metadata'!A16,OFFSET(Metadata!$A$1,0,0,Metadata!Metadata_Table_Length,1))),OFFSET(Metadata!$B$1,0,0,Metadata!Metadata_Table_Length,1),""))>0,1,"")),""),"")} -> 1 | F16: {=IF(D16=1,OFFSET(Metadata!$B$1,MIN(IF(OFFSET(Metadata!$A$1,0,0,Metadata!Metadata_Table_Length,1)='Curated Metadata'!A16,ROW(OFFSET(Metadata!$A$1,0,0,Metadata!Metadata_Table_Length,1))-1,"")),0),"")} -> Identification | K16: Parameters - User settings | L16: =B16 -> Sample Type | M16: =IFERROR(IF(OR(B16<>L16,I16<>""),F16*I16,F16),"") -> Identification
A17: RESULTS_SEARCH_1_PARAMETERS_PARAGON_METHOD_SETTINGS_UI_CYS_ALKYLATION | B17: Cysteine Alkylation | D17: {=IFERROR(IF(A17<>"",IF(C17<>1,IF(OR(EXACT(OFFSET(Metadata!$A$1,0,0,Metadata!Metadata_Table_Length,1),A17)),1,""),IF(SUM(IF(ISNUMBER(SEARCH('Curated Metadata'!A17,OFFSET(Metadata!$A$1,0,0,Metadata!Metadata_Table_Length,1))),OFFSET(Metadata!$B$1,0,0,Metadata!Metadata_Table_Length,1),""))>0,1,"")),""),"")} -> 1 | F17: {=IF(D17=1,OFFSET(Metadata!$B$1,MIN(IF(OFFSET(Metadata!$A$1,0,0,Metadata!Metadata_Table_Length,1)='Curated Metadata'!A17,ROW(OFFSET(Metadata!$A$1,0,0,Metadata!Metadata_Table_Length,1))-1,"")),0),"")} -> Iodoacetamide | K17: Parameters - User settings | L17: =B17 -> Cysteine Alkylation | M17: =IFERROR(IF(OR(B17<>L17,I17<>""),F17*I17,F17),"") -> Iodoacetamide
A18: RESULTS_SEARCH_1_PARAMETERS_PARAGON_METHOD_SETTINGS_UI_DIGESTION | B18: Digestion | D18: {=IFERROR(IF(A18<>"",IF(C18<>1,IF(OR(EXACT(OFFSET(Metadata!$A$1,0,0,Metadata!Metadata_Table_Length,1),A18)),1,""),IF(SUM(IF(ISNUMBER(SEARCH('Curated Metadata'!A18,OFFSET(Metadata!$A$1,0,0,Metadata!Metadata_Table_Length,1))),OFFSET(Metadata!$B$1,0,0,Metadata!Metadata_Table_Length,1),""))>0,1,"")),""),"")} -> 1 | F18: {=IF(D18=1,OFFSET(Metadata!$B$1,MIN(IF(OFFSET(Metadata!$A$1,0,0,Metadata!Metadata_Table_Length,1)='Curated Metadata'!A18,ROW(OFFSET(Metadata!$A$1,0,0,Metadata!Metadata_Table_Length,1))-1,"")),0),"")} -> Trypsin | K18: Parameters - User settings | L18: =B18 -> Digestion | M18: =IFERROR(IF(OR(B18<>L18,I18<>""),F18*I18,F18),"") -> Trypsin
A19: RESULTS_SEARCH_1_PARAMETERS_PARAGON_METHOD_SETTINGS_UI_SPECIAL_FACTOR | B19: Special Factors | D19: {=IFERROR(IF(A19<>"",IF(C19<>1,IF(OR(EXACT(OFFSET(Metadata!$A$1,0,0,Metadata!Metadata_Table_Length,1),A19)),1,""),IF(SUM(IF(ISNUMBER(SEARCH('Curated Metadata'!A19,OFFSET(Metadata!$A$1,0,0,Metadata!Metadata_Table_Length,1))),OFFSET(Metadata!$B$1,0,0,Metadata!Metadata_Table_Length,1),""))>0,1,"")),""),"")} -> 1 | F19: {=IF(D19=1,OFFSET(Metadata!$B$1,MIN(IF(OFFSET(Metadata!$A$1,0,0,Metadata!Metadata_Table_Length,1)='Curated Metadata'!A19,ROW(OFFSET(Metadata!$A$1,0,0,Metadata!Metadata_Table_Length,1))-1,"")),0),"")} -> Gel-based ID | K19: Parameters - User settings | L19: Special Factors | M19: =IFERROR(IF(OR(B19<>L19,I19<>""),F19*I19,F19),"") -> Gel-based ID
A20: RESULTS_SEARCH_1_PARAMETERS_PARAGON_METHOD_SETTINGS_UI_INSTRUMENT | B20: Instrument | D20: {=IFERROR(IF(A20<>"",IF(C20<>1,IF(OR(EXACT(OFFSET(Metadata!$A$1,0,0,Metadata!Metadata_Table_Length,1),A20)),1,""),IF(SUM(IF(ISNUMBER(SEARCH('Curated Metadata'!A20,OFFSET(Metadata!$A$1,0,0,Metadata!Metadata_Table_Length,1))),OFFSET(Metadata!$B$1,0,0,Metadata!Metadata_Table_Length,1),""))>0,1,"")),""),"")} -> 1 | F20: {=IF(D20=1,OFFSET(Metadata!$B$1,MIN(IF(OFFSET(Metadata!$A$1,0,0,Metadata!Metadata_Table_Length,1)='Curated Metadata'!A20,ROW(OFFSET(Metadata!$A$1,0,0,Metadata!Metadata_Table_Length,1))-1,"")),0),"")} -> TripleTOF 6600 | K20: Parameters - User settings | L20: =B20 -> Instrument | M20: =IFERROR(IF(OR(B20<>L20,I20<>""),F20*I20,F20),"") -> TripleTOF 6600
A21: RESULTS_SEARCH_1_PARAMETERS_PARAGON_METHOD_SETTINGS_UI_SPECIES | B21: Species | D21: {=IFERROR(IF(A21<>"",IF(C21<>1,IF(OR(EXACT(OFFSET(Metadata!$A$1,0,0,Metadata!Metadata_Table_Length,1),A21)),1,""),IF(SUM(IF(ISNUMBER(SEARCH('Curated Metadata'!A21,OFFSET(Metadata!$A$1,0,0,Metadata!Metadata_Table_Length,1))),OFFSET(Metadata!$B$1,0,0,Metadata!Metadata_Table_Length,1),""))>0,1,"")),""),"")} | F21: {=IF(D21=1,OFFSET(Metadata!$B$1,MIN(IF(OFFSET(Metadata!$A$1,0,0,Metadata!Metadata_Table_Length,1)='Curated Metadata'!A21,ROW(OFFSET(Metadata!$A$1,0,0,Metadata!Metadata_Table_Length,1))-1,"")),0),"")} | K21: Parameters - User settings | L21: =B21 -> Species | M21: =IFERROR(IF(OR(B21<>L21,I21<>""),F21*I21,F21),"")
A22: RESULTS_SEARCH_1_PARAMETERS_PARAGON_METHOD_SETTINGS_UI_SEARCH_EFFORT | B22: Search Effort | D22: {=IFERROR(IF(A22<>"",IF(C22<>1,IF(OR(EXACT(OFFSET(Metadata!$A$1,0,0,Metadata!Metadata_Table_Length,1),A22)),1,""),IF(SUM(IF(ISNUMBER(SEARCH('Curated Metadata'!A22,OFFSET(Metadata!$A$1,0,0,Metadata!Metadata_Table_Length,1))),OFFSET(Metadata!$B$1,0,0,Metadata!Metadata_Table_Length,1),""))>0,1,"")),""),"")} -> 1 | F22: {=IF(D22=1,OFFSET(Metadata!$B$1,MIN(IF(OFFSET(Metadata!$A$1,0,0,Metadata!Metadata_Table_Length,1)='Curated Metadata'!A22,ROW(OFFSET(Metadata!$A$1,0,0,Metadata!Metadata_Table_Length,1))-1,"")),0),"")} -> Thorough | K22: Parameters - User settings | L22: =B22 -> Search Effort | M22: =IFERROR(IF(OR(B22<>L22,I22<>""),F22*I22,F22),"") -> Thorough
A23: RESULTS_SEARCH_1_PARAMETERS_PARAGON_METHOD_SETTINGS_UI_ID_FOCUS | B23: ID Focus | D23: {=IFERROR(IF(A23<>"",IF(C23<>1,IF(OR(EXACT(OFFSET(Metadata!$A$1,0,0,Metadata!Metadata_Table_Length,1),A23)),1,""),IF(SUM(IF(ISNUMBER(SEARCH('Curated Metadata'!A23,OFFSET(Metadata!$A$1,0,0,Metadata!Metadata_Table_Length,1))),OFFSET(Metadata!$B$1,0,0,Metadata!Metadata_Table_Length,1),""))>0,1,"")),""),"")} -> 1 | F23: {=IF(D23=1,OFFSET(Metadata!$B$1,MIN(IF(OFFSET(Metadata!$A$1,0,0,Metadata!Metadata_Table_Length,1)='Curated Metadata'!A23,ROW(OFFSET(Metadata!$A$1,0,0,Metadata!Metadata_Table_Length,1))-1,"")),0),"")} -> Biological modifications | K23: Parameters - User settings | L23: =B23 -> ID Focus | M23: =IF(F23<>"",SUBSTITUTE(F23,";","; "),"") -> Biological modifications
A24: RESULTS_SEARCH_1_PARAMETERS_PARAGON_METHOD_SETTINGS_UI_MIN_UNUSED_PROTSCORE | B24: Minimum Unused ProtScore | D24: {=IFERROR(IF(A24<>"",IF(C24<>1,IF(OR(EXACT(OFFSET(Metadata!$A$1,0,0,Metadata!Metadata_Table_Length,1),A24)),1,""),IF(SUM(IF(ISNUMBER(SEARCH('Curated Metadata'!A24,OFFSET(Metadata!$A$1,0,0,Metadata!Metadata_Table_Length,1))),OFFSET(Metadata!$B$1,0,0,Metadata!Metadata_Table_Length,1),""))>0,1,"")),""),"")} -> 1 | F24: {=IF(D24=1,OFFSET(Metadata!$B$1,MIN(IF(OFFSET(Metadata!$A$1,0,0,Metadata!Metadata_Table_Length,1)='Curated Metadata'!A24,ROW(OFFSET(Metadata!$A$1,0,0,Metadata!Metadata_Table_Length,1))-1,"")),0),"")} -> 0.0458 | K24: Parameters - User settings | L24: =B24 -> Minimum Unused ProtScore | M24: =IFERROR(IF(OR(B24<>L24,I24<>""),F24*I24,F24),"") -> 0.0458
A25: RESULTS_SEARCH_1_PARAMETERS_PARAGON_METHOD_SETTINGS_UI_PSPEP | B25: FDR Analysis | D25: {=IFERROR(IF(A25<>"",IF(C25<>1,IF(OR(EXACT(OFFSET(Metadata!$A$1,0,0,Metadata!Metadata_Table_Length,1),A25)),1,""),IF(SUM(IF(ISNUMBER(SEARCH('Curated Metadata'!A25,OFFSET(Metadata!$A$1,0,0,Metadata!Metadata_Table_Length,1))),OFFSET(Metadata!$B$1,0,0,Metadata!Metadata_Table_Length,1),""))>0,1,"")),""),"")} -> 1 | F25: {=IF(D25=1,OFFSET(Metadata!$B$1,MIN(IF(OFFSET(Metadata!$A$1,0,0,Metadata!Metadata_Table_Length,1)='Curated Metadata'!A25,ROW(OFFSET(Metadata!$A$1,0,0,Metadata!Metadata_Table_Length,1))-1,"")),0),"")} -> TRUE | H25: Logical to English | K25: Parameters - User settings | L25: =B25 -> FDR Analysis | M25: =IF(F25<>"",IF(F25=TRUE,"Yes","No"),"") -> Yes
B26: Quantitation | D26: {=IFERROR(IF(A26<>"",IF(C26<>1,IF(OR(EXACT(OFFSET(Metadata!$A$1,0,0,Metadata!Metadata_Table_Length,1),A26)),1,""),IF(SUM(IF(ISNUMBER(SEARCH('Curated Metadata'!A26,OFFSET(Metadata!$A$1,0,0,Metadata!Metadata_Table_Length,1))),OFFSET(Metadata!$B$1,0,0,Metadata!Metadata_Table_Length,1),""))>0,1,"")),""),"")} | H26: Logical to English | K26: Parameters - User settings | L26: =B26 -> Quantitation | M26: =IF(F26<>"",IF(F26=TRUE,"Yes","No"),"")
A27: RESULTS_SEARCH_1_PARAMETERS_QUANT_TYPE_background_correction | B27: Background Correction | D27: {=IFERROR(IF(A27<>"",IF(C27<>1,IF(OR(EXACT(OFFSET(Metadata!$A$1,0,0,Metadata!Metadata_Table_Length,1),A27)),1,""),IF(SUM(IF(ISNUMBER(SEARCH('Curated Metadata'!A27,OFFSET(Metadata!$A$1,0,0,Metadata!Metadata_Table_Length,1))),OFFSET(Metadata!$B$1,0,0,Metadata!Metadata_Table_Length,1),""))>0,1,"")),""),"")} -> 1 | F27: {=IF(D27=1,OFFSET(Metadata!$B$1,MIN(IF(OFFSET(Metadata!$A$1,0,0,Metadata!Metadata_Table_Length,1)='Curated Metadata'!A27,ROW(OFFSET(Metadata!$A$1,0,0,Metadata!Metadata_Table_Length,1))-1,"")),0),"")} -> FALSE | H27: Logical to English | K27: Parameters - User settings | L27: =B27 -> Background Correction | M27: =IF(F27<>"",IF(F27=TRUE,"Yes","No"),"") -> No
A28: RESULTS_SEARCH_1_PARAMETERS_QUANT_TYPE_bias_correction | B28: Bias Correction | D28: {=IFERROR(IF(A28<>"",IF(C28<>1,IF(OR(EXACT(OFFSET(Metadata!$A$1,0,0,Metadata!Metadata_Table_Length,1),A28)),1,""),IF(SUM(IF(ISNUMBER(SEARCH('Curated Metadata'!A28,OFFSET(Metadata!$A$1,0,0,Metadata!Metadata_Table_Length,1))),OFFSET(Metadata!$B$1,0,0,Metadata!Metadata_Table_Length,1),""))>0,1,"")),""),"")} -> 1 | F28: {=IF(D28=1,OFFSET(Metadata!$B$1,MIN(IF(OFFSET(Metadata!$A$1,0,0,Metadata!Metadata_Table_Length,1)='Curated Metadata'!A28,ROW(OFFSET(Metadata!$A$1,0,0,Metadata!Metadata_Table_Length,1))-1,"")),0),"")} -> TRUE | H28: Logical to English | K28: Parameters - User settings | L28: =B28 -> Bias Correction | M28: =IF(F28<>"",IF(F28=TRUE,"Yes","No"),"") -> Yes
B29: Channel to use as denominator in ratios | D29: {=IFERROR(IF(A29<>"",IF(C29<>1,IF(OR(EXACT(OFFSET(Metadata!$A$1,0,0,Metadata!Metadata_Table_Length,1),A29)),1,""),IF(SUM(IF(ISNUMBER(SEARCH('Curated Metadata'!A29,OFFSET(Metadata!$A$1,0,0,Metadata!Metadata_Table_Length,1))),OFFSET(Metadata!$B$1,0,0,Metadata!Metadata_Table_Length,1),""))>0,1,"")),""),"")} | K29: Parameters - User settings | L29: =B29 -> Channel to use as denominator in ratios | M29: =""
A30: RESULTS_SEARCH_1_PARAMETERS_chemical_data_edited | B30: Modified Data Dictionary or Parameter Translation | D30: {=IFERROR(IF(A30<>"",IF(C30<>1,IF(OR(EXACT(OFFSET(Metadata!$A$1,0,0,Metadata!Metadata_Table_Length,1),A30)),1,""),IF(SUM(IF(ISNUMBER(SEARCH('Curated Metadata'!A30,OFFSET(Metadata!$A$1,0,0,Metadata!Metadata_Table_Length,1))),OFFSET(Metadata!$B$1,0,0,Metadata!Metadata_Table_Length,1),""))>0,1,"")),""),"")} -> 1 | F30: {=IF(D30=1,OFFSET(Metadata!$B$1,MIN(IF(OFFSET(Metadata!$A$1,0,0,Metadata!Metadata_Table_Length,1)='Curated Metadata'!A30,ROW(OFFSET(Metadata!$A$1,0,0,Metadata!Metadata_Table_Length,1))-1,"")),0),"")} -> FALSE | H30: Logical to English | K30: Parameters - User settings | L30: =B30 -> Modified Data Dictionary or Parameter Translation | M30: =IF(F30<>"",IF(F30=TRUE,"Yes","No"),"") -> No
D31: {=IFERROR(IF(A31<>"",IF(C31<>1,IF(OR(EXACT(OFFSET(Metadata!$A$1,0,0,Metadata!Metadata_Table_Length,1),A31)),1,""),IF(SUM(IF(ISNUMBER(SEARCH('Curated Metadata'!A31,OFFSET(Metadata!$A$1,0,0,Metadata!Metadata_Table_Length,1))),OFFSET(Metadata!$B$1,0,0,Metadata!Metadata_Table_Length,1),""))>0,1,"")),""),"")}
D32: {=IFERROR(IF(A32<>"",IF(C32<>1,IF(OR(EXACT(OFFSET(Metadata!$A$1,0,0,Metadata!Metadata_Table_Length,1),A32)),1,""),IF(SUM(IF(ISNUMBER(SEARCH('Curated Metadata'!A32,OFFSET(Metadata!$A$1,0,0,Metadata!Metadata_Table_Length,1))),OFFSET(Metadata!$B$1,0,0,Metadata!Metadata_Table_Length,1),""))>0,1,"")),""),"")}
A33: RESULTS_SEARCH_1_PARAMETERS_FASTA_filename | B33: Database filename | D33: {=IFERROR(IF(A33<>"",IF(C33<>1,IF(OR(EXACT(OFFSET(Metadata!$A$1,0,0,Metadata!Metadata_Table_Length,1),A33)),1,""),IF(SUM(IF(ISNUMBER(SEARCH('Curated Metadata'!A33,OFFSET(Metadata!$A$1,0,0,Metadata!Metadata_Table_Length,1))),OFFSET(Metadata!$B$1,0,0,Metadata!Metadata_Table_Length,1),""))>0,1,"")),""),"")} -> 1 | F33: {=IF(D33=1,OFFSET(Metadata!$B$1,MIN(IF(OFFSET(Metadata!$A$1,0,0,Metadata!Metadata_Table_Length,1)='Curated Metadata'!A33,ROW(OFFSET(Metadata!$A$1,0,0,Metadata!Metadata_Table_Length,1))-1,"")),0),"")} -> C:\AB SCIEX\ProteinPilot Data\SearchDatabases\uniprot-homo+sapiens-filtered-reviewed_yes.fasta | K33: Attributes - Search database | L33: =B33 -> Database filename | M33: =IFERROR(IF(OR(B33<>L33,I33<>""),F33*I33,F33),"") -> C:\AB SCIEX\ProteinPilot Data\SearchDatabases\uniprot-homo+sapiens-filtered-reviewed_yes.fasta
D34: {=IFERROR(IF(A34<>"",IF(C34<>1,IF(OR(EXACT(OFFSET(Metadata!$A$1,0,0,Metadata!Metadata_Table_Length,1),A34)),1,""),IF(SUM(IF(ISNUMBER(SEARCH('Curated Metadata'!A34,OFFSET(Metadata!$A$1,0,0,Metadata!Metadata_Table_Length,1))),OFFSET(Metadata!$B$1,0,0,Metadata!Metadata_Table_Length,1),""))>0,1,"")),""),"")} | E34: 1 | K34: Attributes - Search database | L34: Number of Proteins in Database | M34: =IF(M25="Yes",M35/2,M35) -> 48957
A35: RESULTS_SEARCH_STAT_num_proteins | B35: Number of proteins searched | D35: {=IFERROR(IF(A35<>"",IF(C35<>1,IF(OR(EXACT(OFFSET(Metadata!$A$1,0,0,Metadata!Metadata_Table_Length,1),A35)),1,""),IF(SUM(IF(ISNUMBER(SEARCH('Curated Metadata'!A35,OFFSET(Metadata!$A$1,0,0,Metadata!Metadata_Table_Length,1))),OFFSET(Metadata!$B$1,0,0,Metadata!Metadata_Table_Length,1),""))>0,1,"")),""),"")} -> 1 | F35: {=IF(D35=1,OFFSET(Metadata!$B$1,MIN(IF(OFFSET(Metadata!$A$1,0,0,Metadata!Metadata_Table_Length,1)='Curated Metadata'!A35,ROW(OFFSET(Metadata!$A$1,0,0,Metadata!Metadata_Table_Length,1))-1,"")),0),"")} -> 97914 | K35: Attributes - Search database | L35: =B35 -> Number of proteins searched | M35: =IFERROR(IF(OR(B35<>L35,I35<>""),F35*I35,F35),"") -> 97914
D36: {=IFERROR(IF(A36<>"",IF(C36<>1,IF(OR(EXACT(OFFSET(Metadata!$A$1,0,0,Metadata!Metadata_Table_Length,1),A36)),1,""),IF(SUM(IF(ISNUMBER(SEARCH('Curated Metadata'!A36,OFFSET(Metadata!$A$1,0,0,Metadata!Metadata_Table_Length,1))),OFFSET(Metadata!$B$1,0,0,Metadata!Metadata_Table_Length,1),""))>0,1,"")),""),"")} | E36: 1 | K36: Attributes - Search database | L36: Number of Residues in Database | M36: =IF(M25="Yes",M37/2,M37) -> 27585023
A37: RESULTS_SEARCH_STAT_num_residues | B37: Number of residues searched | D37: {=IFERROR(IF(A37<>"",IF(C37<>1,IF(OR(EXACT(OFFSET(Metadata!$A$1,0,0,Metadata!Metadata_Table_Length,1),A37)),1,""),IF(SUM(IF(ISNUMBER(SEARCH('Curated Metadata'!A37,OFFSET(Metadata!$A$1,0,0,Metadata!Metadata_Table_Length,1))),OFFSET(Metadata!$B$1,0,0,Metadata!Metadata_Table_Length,1),""))>0,1,"")),""),"")} -> 1 | F37: {=IF(D37=1,OFFSET(Metadata!$B$1,MIN(IF(OFFSET(Metadata!$A$1,0,0,Metadata!Metadata_Table_Length,1)='Curated Metadata'!A37,ROW(OFFSET(Metadata!$A$1,0,0,Metadata!Metadata_Table_Length,1))-1,"")),0),"")} -> 55170046 | K37: Attributes - Search database | L37: =B37 -> Number of residues searched | M37: =IFERROR(IF(OR(B37<>L37,I37<>""),F37*I37,F37),"") -> 55170046
D38: {=IFERROR(IF(A38<>"",IF(C38<>1,IF(OR(EXACT(OFFSET(Metadata!$A$1,0,0,Metadata!Metadata_Table_Length,1),A38)),1,""),IF(SUM(IF(ISNUMBER(SEARCH('Curated Metadata'!A38,OFFSET(Metadata!$A$1,0,0,Metadata!Metadata_Table_Length,1))),OFFSET(Metadata!$B$1,0,0,Metadata!Metadata_Table_Length,1),""))>0,1,"")),""),"")}
D39: {=IFERROR(IF(A39<>"",IF(C39<>1,IF(OR(EXACT(OFFSET(Metadata!$A$1,0,0,Metadata!Metadata_Table_Length,1),A39)),1,""),IF(SUM(IF(ISNUMBER(SEARCH('Curated Metadata'!A39,OFFSET(Metadata!$A$1,0,0,Metadata!Metadata_Table_Length,1))),OFFSET(Metadata!$B$1,0,0,Metadata!Metadata_Table_Length,1),""))>0,1,"")),""),"")}
A40: RESULTS_SEARCH_STAT_computer_memory | B40: RAM (MB) | D40: {=IFERROR(IF(A40<>"",IF(C40<>1,IF(OR(EXACT(OFFSET(Metadata!$A$1,0,0,Metadata!Metadata_Table_Length,1),A40)),1,""),IF(SUM(IF(ISNUMBER(SEARCH('Curated Metadata'!A40,OFFSET(Metadata!$A$1,0,0,Metadata!Metadata_Table_Length,1))),OFFSET(Metadata!$B$1,0,0,Metadata!Metadata_Table_Length,1),""))>0,1,"")),""),"")} -> 1 | F40: {=IF(D40=1,OFFSET(Metadata!$B$1,MIN(IF(OFFSET(Metadata!$A$1,0,0,Metadata!Metadata_Table_Length,1)='Curated Metadata'!A40,ROW(OFFSET(Metadata!$A$1,0,0,Metadata!Metadata_Table_Length,1))-1,"")),0),"")} -> 65182 | K40: Attributes - Hardware | L40: =B40 -> RAM (MB) | M40: =IFERROR(IF(OR(B40<>L40,I40<>""),F40*I40,F40),"") -> 65182
A41: RESULTS_SEARCH_STAT_computer_name | B41: Computer name | D41: {=IFERROR(IF(A41<>"",IF(C41<>1,IF(OR(EXACT(OFFSET(Metadata!$A$1,0,0,Metadata!Metadata_Table_Length,1),A41)),1,""),IF(SUM(IF(ISNUMBER(SEARCH('Curated Metadata'!A41,OFFSET(Metadata!$A$1,0,0,Metadata!Metadata_Table_Length,1))),OFFSET(Metadata!$B$1,0,0,Metadata!Metadata_Table_Length,1),""))>0,1,"")),""),"")} -> 1 | F41: {=IF(D41=1,OFFSET(Metadata!$B$1,MIN(IF(OFFSET(Metadata!$A$1,0,0,Metadata!Metadata_Table_Length,1)='Curated Metadata'!A41,ROW(OFFSET(Metadata!$A$1,0,0,Metadata!Metadata_Table_Length,1))-1,"")),0),"")} -> DESKTOP-4CRA9SP | K41: Attributes - Hardware | L41: =B41 -> Computer name | M41: =IFERROR(IF(OR(B41<>L41,I41<>""),F41*I41,F41),"") -> DESKTOP-4CRA9SP
A42: RESULTS_SEARCH_STAT_number_cores | B42: Number of cores in computer | D42: {=IFERROR(IF(A42<>"",IF(C42<>1,IF(OR(EXACT(OFFSET(Metadata!$A$1,0,0,Metadata!Metadata_Table_Length,1),A42)),1,""),IF(SUM(IF(ISNUMBER(SEARCH('Curated Metadata'!A42,OFFSET(Metadata!$A$1,0,0,Metadata!Metadata_Table_Length,1))),OFFSET(Metadata!$B$1,0,0,Metadata!Metadata_Table_Length,1),""))>0,1,"")),""),"")} -> 1 | F42: {=IF(D42=1,OFFSET(Metadata!$B$1,MIN(IF(OFFSET(Metadata!$A$1,0,0,Metadata!Metadata_Table_Length,1)='Curated Metadata'!A42,ROW(OFFSET(Metadata!$A$1,0,0,Metadata!Metadata_Table_Length,1))-1,"")),0),"")} -> 16 | K42: Attributes - Hardware | L42: =B42 -> Number of cores in computer | M42: =IFERROR(IF(OR(B42<>L42,I42<>""),F42*I42,F42),"") -> 16
A43: RESULTS_SEARCH_STAT_number_processors | B43: Number of threads (double cores if hyperthreading on) | D43: {=IFERROR(IF(A43<>"",IF(C43<>1,IF(OR(EXACT(OFFSET(Metadata!$A$1,0,0,Metadata!Metadata_Table_Length,1),A43)),1,""),IF(SUM(IF(ISNUMBER(SEARCH('Curated Metadata'!A43,OFFSET(Metadata!$A$1,0,0,Metadata!Metadata_Table_Length,1))),OFFSET(Metadata!$B$1,0,0,Metadata!Metadata_Table_Length,1),""))>0,1,"")),""),"")} -> 1 | F43: {=IF(D43=1,OFFSET(Metadata!$B$1,MIN(IF(OFFSET(Metadata!$A$1,0,0,Metadata!Metadata_Table_Length,1)='Curated Metadata'!A43,ROW(OFFSET(Metadata!$A$1,0,0,Metadata!Metadata_Table_Length,1))-1,"")),0),"")} -> 32 | K43: Attributes - Hardware | L43: =B43 -> Number of threads (double cores if hyperthreading on) | M43: =IFERROR(IF(OR(B43<>L43,I43<>""),F43*I43,F43),"") -> 32
D44: {=IFERROR(IF(A44<>"",IF(C44<>1,IF(OR(EXACT(OFFSET(Metadata!$A$1,0,0,Metadata!Metadata_Table_Length,1),A44)),1,""),IF(SUM(IF(ISNUMBER(SEARCH('Curated Metadata'!A44,OFFSET(Metadata!$A$1,0,0,Metadata!Metadata_Table_Length,1))),OFFSET(Metadata!$B$1,0,0,Metadata!Metadata_Table_Length,1),""))>0,1,"")),""),"")}
D45: {=IFERROR(IF(A45<>"",IF(C45<>1,IF(OR(EXACT(OFFSET(Metadata!$A$1,0,0,Metadata!Metadata_Table_Length,1),A45)),1,""),IF(SUM(IF(ISNUMBER(SEARCH('Curated Metadata'!A45,OFFSET(Metadata!$A$1,0,0,Metadata!Metadata_Table_Length,1))),OFFSET(Metadata!$B$1,0,0,Metadata!Metadata_Table_Length,1),""))>0,1,"")),""),"")}
A46: RESULTS_SEARCH_STAT_number_licensed_tasks | B46: Number of cores licensed to use | D46: {=IFERROR(IF(A46<>"",IF(C46<>1,IF(OR(EXACT(OFFSET(Metadata!$A$1,0,0,Metadata!Metadata_Table_Length,1),A46)),1,""),IF(SUM(IF(ISNUMBER(SEARCH('Curated Metadata'!A46,OFFSET(Metadata!$A$1,0,0,Metadata!Metadata_Table_Length,1))),OFFSET(Metadata!$B$1,0,0,Metadata!Metadata_Table_Length,1),""))>0,1,"")),""),"")} -> 1 | F46: {=IF(D46=1,OFFSET(Metadata!$B$1,MIN(IF(OFFSET(Metadata!$A$1,0,0,Metadata!Metadata_Table_Length,1)='Curated Metadata'!A46,ROW(OFFSET(Metadata!$A$1,0,0,Metadata!Metadata_Table_Length,1))-1,"")),0),"")} -> 32 | K46: Attributes - Software environment | L46: =B46 -> Number of cores licensed to use | M46: =IFERROR(IF(OR(B46<>L46,I46<>""),F46*I46,F46),"") -> 32
A47: RESULTS_SEARCH_STAT_os | B47: Operating system | D47: {=IFERROR(IF(A47<>"",IF(C47<>1,IF(OR(EXACT(OFFSET(Metadata!$A$1,0,0,Metadata!Metadata_Table_Length,1),A47)),1,""),IF(SUM(IF(ISNUMBER(SEARCH('Curated Metadata'!A47,OFFSET(Metadata!$A$1,0,0,Metadata!Metadata_Table_Length,1))),OFFSET(Metadata!$B$1,0,0,Metadata!Metadata_Table_Length,1),""))>0,1,"")),""),"")} -> 1 | F47: {=IF(D47=1,OFFSET(Metadata!$B$1,MIN(IF(OFFSET(Metadata!$A$1,0,0,Metadata!Metadata_Table_Length,1)='Curated Metadata'!A47,ROW(OFFSET(Metadata!$A$1,0,0,Metadata!Metadata_Table_Length,1))-1,"")),0),"")} -> Windows 10 Enterprise 2016 LTSB (6.2.9200) | K47: Attributes - Software environment | L47: =B47 -> Operating system | M47: =IFERROR(IF(OR(B47<>L47,I47<>""),F47*I47,F47),"") -> Windows 10 Enterprise 2016 LTSB (6.2.9200)
A48: RESULTS_SEARCH_1_PARAMETERS_VERSION | B48: ProteinPilot Software Version | D48: {=IFERROR(IF(A48<>"",IF(C48<>1,IF(OR(EXACT(OFFSET(Metadata!$A$1,0,0,Metadata!Metadata_Table_Length,1),A48)),1,""),IF(SUM(IF(ISNUMBER(SEARCH('Curated Metadata'!A48,OFFSET(Metadata!$A$1,0,0,Metadata!Metadata_Table_Length,1))),OFFSET(Metadata!$B$1,0,0,Metadata!Metadata_Table_Length,1),""))>0,1,"")),""),"")} -> 1 | F48: {=IF(D48=1,OFFSET(Metadata!$B$1,MIN(IF(OFFSET(Metadata!$A$1,0,0,Metadata!Metadata_Table_Length,1)='Curated Metadata'!A48,ROW(OFFSET(Metadata!$A$1,0,0,Metadata!Metadata_Table_Length,1))-1,"")),0),"")} -> 5.0.2.0, 5346 | K48: Attributes - Software environment | L48: =B48 -> ProteinPilot Software Version | M48: =IFERROR(IF(OR(B48<>L48,I48<>""),F48*I48,F48),"") -> 5.0.2.0, 5346
A49: RESULTS_SEARCH_1_PARAMETERS_PARAGON_VERSION | B49: Paragon Algorithm Version | D49: {=IFERROR(IF(A49<>"",IF(C49<>1,IF(OR(EXACT(OFFSET(Metadata!$A$1,0,0,Metadata!Metadata_Table_Length,1),A49)),1,""),IF(SUM(IF(ISNUMBER(SEARCH('Curated Metadata'!A49,OFFSET(Metadata!$A$1,0,0,Metadata!Metadata_Table_Length,1))),OFFSET(Metadata!$B$1,0,0,Metadata!Metadata_Table_Length,1),""))>0,1,"")),""),"")} -> 1 | F49: {=IF(D49=1,OFFSET(Metadata!$B$1,MIN(IF(OFFSET(Metadata!$A$1,0,0,Metadata!Metadata_Table_Length,1)='Curated Metadata'!A49,ROW(OFFSET(Metadata!$A$1,0,0,Metadata!Metadata_Table_Length,1))-1,"")),0),"")} -> 5.0.2.0, 5174 | K49: Attributes - Software environment | L49: =B49 -> Paragon Algorithm Version | M49: =IFERROR(IF(OR(B49<>L49,I49<>""),F49*I49,F49),"") -> 5.0.2.0, 5174
A50: RESULTS_SEARCH_1_PARAMETERS_APPLICATION | B50: Application name | D50: {=IFERROR(IF(A50<>"",IF(C50<>1,IF(OR(EXACT(OFFSET(Metadata!$A$1,0,0,Metadata!Metadata_Table_Length,1),A50)),1,""),IF(SUM(IF(ISNUMBER(SEARCH('Curated Metadata'!A50,OFFSET(Metadata!$A$1,0,0,Metadata!Metadata_Table_Length,1))),OFFSET(Metadata!$B$1,0,0,Metadata!Metadata_Table_Length,1),""))>0,1,"")),""),"")} -> 1 | F50: {=IF(D50=1,OFFSET(Metadata!$B$1,MIN(IF(OFFSET(Metadata!$A$1,0,0,Metadata!Metadata_Table_Length,1)='Curated Metadata'!A50,ROW(OFFSET(Metadata!$A$1,0,0,Metadata!Metadata_Table_Length,1))-1,"")),0),"")} -> ProteinPilot(tm) Software | K50: Attributes - Software environment | L50: =B50 -> Application name | M50: =IFERROR(IF(OR(B50<>L50,I50<>""),F50*I50,F50),"") -> ProteinPilot(tm) Software
D51: {=IFERROR(IF(A51<>"",IF(C51<>1,IF(OR(EXACT(OFFSET(Metadata!$A$1,0,0,Metadata!Metadata_Table_Length,1),A51)),1,""),IF(SUM(IF(ISNUMBER(SEARCH('Curated Metadata'!A51,OFFSET(Metadata!$A$1,0,0,Metadata!Metadata_Table_Length,1))),OFFSET(Metadata!$B$1,0,0,Metadata!Metadata_Table_Length,1),""))>0,1,"")),""),"")}
D52: {=IFERROR(IF(A52<>"",IF(C52<>1,IF(OR(EXACT(OFFSET(Metadata!$A$1,0,0,Metadata!Metadata_Table_Length,1),A52)),1,""),IF(SUM(IF(ISNUMBER(SEARCH('Curated Metadata'!A52,OFFSET(Metadata!$A$1,0,0,Metadata!Metadata_Table_Length,1))),OFFSET(Metadata!$B$1,0,0,Metadata!Metadata_Table_Length,1),""))>0,1,"")),""),"")}
A53: RESULTS_GROUPRESULTSUMMARY_1_confidence | B53: Confidence of first row in summary statistics ID statistics | D53: {=IFERROR(IF(A53<>"",IF(C53<>1,IF(OR(EXACT(OFFSET(Metadata!$A$1,0,0,Metadata!Metadata_Table_Length,1),A53)),1,""),IF(SUM(IF(ISNUMBER(SEARCH('Curated Metadata'!A53,OFFSET(Metadata!$A$1,0,0,Metadata!Metadata_Table_Length,1))),OFFSET(Metadata!$B$1,0,0,Metadata!Metadata_Table_Length,1),""))>0,1,"")),""),"")} -> 1 | F53: {=IF(D53=1,OFFSET(Metadata!$B$1,MIN(IF(OFFSET(Metadata!$A$1,0,0,Metadata!Metadata_Table_Length,1)='Curated Metadata'!A53,ROW(OFFSET(Metadata!$A$1,0,0,Metadata!Metadata_Table_Length,1))-1,"")),0),"")} -> 0.99 | H53: Fraction to % | I53: 100 | K53: Statistics - Protein Summary Table | L53: Percent Confidence of first row in Summary Statistics ID Statistics | M53: =IFERROR(IF(OR(B53<>L53,I53<>""),F53*I53,F53),"") -> 99
A54: RESULTS_GROUPRESULTSUMMARY_1_distinctpeptides | B54: Distinct peptides associated with 99% confidence proteins | D54: {=IFERROR(IF(A54<>"",IF(C54<>1,IF(OR(EXACT(OFFSET(Metadata!$A$1,0,0,Metadata!Metadata_Table_Length,1),A54)),1,""),IF(SUM(IF(ISNUMBER(SEARCH('Curated Metadata'!A54,OFFSET(Metadata!$A$1,0,0,Metadata!Metadata_Table_Length,1))),OFFSET(Metadata!$B$1,0,0,Metadata!Metadata_Table_Length,1),""))>0,1,"")),""),"")} -> 1 | F54: {=IF(D54=1,OFFSET(Metadata!$B$1,MIN(IF(OFFSET(Metadata!$A$1,0,0,Metadata!Metadata_Table_Length,1)='Curated Metadata'!A54,ROW(OFFSET(Metadata!$A$1,0,0,Metadata!Metadata_Table_Length,1))-1,"")),0),"")} -> 1760 | K54: Statistics - Protein Summary Table | L54: =B54 -> Distinct peptides associated with 99% confidence proteins | M54: =IFERROR(IF(OR(B54<>L54,I54<>""),F54*I54,F54),"") -> 1760
A55: RESULTS_GROUPRESULTSUMMARY_1_proteinsbeforegroupping | B55: Proteins before grouping (99% confidence) | D55: {=IFERROR(IF(A55<>"",IF(C55<>1,IF(OR(EXACT(OFFSET(Metadata!$A$1,0,0,Metadata!Metadata_Table_Length,1),A55)),1,""),IF(SUM(IF(ISNUMBER(SEARCH('Curated Metadata'!A55,OFFSET(Metadata!$A$1,0,0,Metadata!Metadata_Table_Length,1))),OFFSET(Metadata!$B$1,0,0,Metadata!Metadata_Table_Length,1),""))>0,1,"")),""),"")} -> 1 | F55: {=IF(D55=1,OFFSET(Metadata!$B$1,MIN(IF(OFFSET(Metadata!$A$1,0,0,Metadata!Metadata_Table_Length,1)='Curated Metadata'!A55,ROW(OFFSET(Metadata!$A$1,0,0,Metadata!Metadata_Table_Length,1))-1,"")),0),"")} -> 427 | K55: Statistics - Protein Summary Table | L55: =B55 -> Proteins before grouping (99% confidence) | M55: =IFERROR(IF(OR(B55<>L55,I55<>""),F55*I55,F55),"") -> 427
A56: RESULTS_GROUPRESULTSUMMARY_1_proteinsidentified | B56: Proteins detected (99% confidence) | D56: {=IFERROR(IF(A56<>"",IF(C56<>1,IF(OR(EXACT(OFFSET(Metadata!$A$1,0,0,Metadata!Metadata_Table_Length,1),A56)),1,""),IF(SUM(IF(ISNUMBER(SEARCH('Curated Metadata'!A56,OFFSET(Metadata!$A$1,0,0,Metadata!Metadata_Table_Length,1))),OFFSET(Metadata!$B$1,0,0,Metadata!Metadata_Table_Length,1),""))>0,1,"")),""),"")} -> 1 | F56: {=IF(D56=1,OFFSET(Metadata!$B$1,MIN(IF(OFFSET(Metadata!$A$1,0,0,Metadata!Metadata_Table_Length,1)='Curated Metadata'!A56,ROW(OFFSET(Metadata!$A$1,0,0,Metadata!Metadata_Table_Length,1))-1,"")),0),"")} -> 150 | K56: Statistics - Protein Summary Table | L56: =B56 -> Proteins detected (99% confidence) | M56: =IFERROR(IF(OR(B56<>L56,I56<>""),F56*I56,F56),"") -> 150
A57: RESULTS_GROUPRESULTSUMMARY_1_spectraidentified | B57: Spectra associated with 99% confidence proteins | D57: {=IFERROR(IF(A57<>"",IF(C57<>1,IF(OR(EXACT(OFFSET(Metadata!$A$1,0,0,Metadata!Metadata_Table_Length,1),A57)),1,""),IF(SUM(IF(ISNUMBER(SEARCH('Curated Metadata'!A57,OFFSET(Metadata!$A$1,0,0,Metadata!Metadata_Table_Length,1))),OFFSET(Metadata!$B$1,0,0,Metadata!Metadata_Table_Length,1),""))>0,1,"")),""),"")} -> 1 | F57: {=IF(D57=1,OFFSET(Metadata!$B$1,MIN(IF(OFFSET(Metadata!$A$1,0,0,Metadata!Metadata_Table_Length,1)='Curated Metadata'!A57,ROW(OFFSET(Metadata!$A$1,0,0,Metadata!Metadata_Table_Length,1))-1,"")),0),"")} -> 6083 | K57: Statistics - Protein Summary Table | L57: =B57 -> Spectra associated with 99% confidence proteins | M57: =IFERROR(IF(OR(B57<>L57,I57<>""),F57*I57,F57),"") -> 6083
A58: RESULTS_GROUPRESULTSUMMARY_2_confidence | B58: Confidence of second row in Summary Statistics ID statistics | D58: {=IFERROR(IF(A58<>"",IF(C58<>1,IF(OR(EXACT(OFFSET(Metadata!$A$1,0,0,Metadata!Metadata_Table_Length,1),A58)),1,""),IF(SUM(IF(ISNUMBER(SEARCH('Curated Metadata'!A58,OFFSET(Metadata!$A$1,0,0,Metadata!Metadata_Table_Length,1))),OFFSET(Metadata!$B$1,0,0,Metadata!Metadata_Table_Length,1),""))>0,1,"")),""),"")} -> 1 | F58: {=IF(D58=1,OFFSET(Metadata!$B$1,MIN(IF(OFFSET(Metadata!$A$1,0,0,Metadata!Metadata_Table_Length,1)='Curated Metadata'!A58,ROW(OFFSET(Metadata!$A$1,0,0,Metadata!Metadata_Table_Length,1))-1,"")),0),"")} -> 0.95 | H58: Fraction to % | I58: 100 | K58: Statistics - Protein Summary Table | L58: Percent Confidence of first row in Summary Statistics ID Statistics | M58: =IFERROR(IF(OR(B58<>L58,I58<>""),F58*I58,F58),"") -> 95
A59: RESULTS_GROUPRESULTSUMMARY_2_distinctpeptides | B59: Distinct peptides associated with 95% confidence proteins | D59: {=IFERROR(IF(A59<>"",IF(C59<>1,IF(OR(EXACT(OFFSET(Metadata!$A$1,0,0,Metadata!Metadata_Table_Length,1),A59)),1,""),IF(SUM(IF(ISNUMBER(SEARCH('Curated Metadata'!A59,OFFSET(Metadata!$A$1,0,0,Metadata!Metadata_Table_Length,1))),OFFSET(Metadata!$B$1,0,0,Metadata!Metadata_Table_Length,1),""))>0,1,"")),""),"")} -> 1 | F59: {=IF(D59=1,OFFSET(Metadata!$B$1,MIN(IF(OFFSET(Metadata!$A$1,0,0,Metadata!Metadata_Table_Length,1)='Curated Metadata'!A59,ROW(OFFSET(Metadata!$A$1,0,0,Metadata!Metadata_Table_Length,1))-1,"")),0),"")} -> 1811 | K59: Statistics - Protein Summary Table | L59: =B59 -> Distinct peptides associated with 95% confidence proteins | M59: =IFERROR(IF(OR(B59<>L59,I59<>""),F59*I59,F59),"") -> 1811
A60: RESULTS_GROUPRESULTSUMMARY_2_proteinsbeforegroupping | B60: Proteins before grouping (95% confidence) | D60: {=IFERROR(IF(A60<>"",IF(C60<>1,IF(OR(EXACT(OFFSET(Metadata!$A$1,0,0,Metadata!Metadata_Table_Length,1),A60)),1,""),IF(SUM(IF(ISNUMBER(SEARCH('Curated Metadata'!A60,OFFSET(Metadata!$A$1,0,0,Metadata!Metadata_Table_Length,1))),OFFSET(Metadata!$B$1,0,0,Metadata!Metadata_Table_Length,1),""))>0,1,"")),""),"")} -> 1 | F60: {=IF(D60=1,OFFSET(Metadata!$B$1,MIN(IF(OFFSET(Metadata!$A$1,0,0,Metadata!Metadata_Table_Length,1)='Curated Metadata'!A60,ROW(OFFSET(Metadata!$A$1,0,0,Metadata!Metadata_Table_Length,1))-1,"")),0),"")} -> 579 | K60: Statistics - Protein Summary Table | L60: =B60 -> Proteins before grouping (95% confidence) | M60: =IFERROR(IF(OR(B60<>L60,I60<>""),F60*I60,F60),"") -> 579
A61: RESULTS_GROUPRESULTSUMMARY_2_proteinsidentified | B61: Proteins detected (95% confidence) | D61: {=IFERROR(IF(A61<>"",IF(C61<>1,IF(OR(EXACT(OFFSET(Metadata!$A$1,0,0,Metadata!Metadata_Table_Length,1),A61)),1,""),IF(SUM(IF(ISNUMBER(SEARCH('Curated Metadata'!A61,OFFSET(Metadata!$A$1,0,0,Metadata!Metadata_Table_Length,1))),OFFSET(Metadata!$B$1,0,0,Metadata!Metadata_Table_Length,1),""))>0,1,"")),""),"")} -> 1 | F61: {=IF(D61=1,OFFSET(Metadata!$B$1,MIN(IF(OFFSET(Metadata!$A$1,0,0,Metadata!Metadata_Table_Length,1)='Curated Metadata'!A61,ROW(OFFSET(Metadata!$A$1,0,0,Metadata!Metadata_Table_Length,1))-1,"")),0),"")} -> 184 | K61: Statistics - Protein Summary Table | L61: =B61 -> Proteins detected (95% confidence) | M61: =IFERROR(IF(OR(B61<>L61,I61<>""),F61*I61,F61),"") -> 184
A62: RESULTS_GROUPRESULTSUMMARY_2_spectraidentified | B62: Spectra associated with 95% confidence proteins | D62: {=IFERROR(IF(A62<>"",IF(C62<>1,IF(OR(EXACT(OFFSET(Metadata!$A$1,0,0,Metadata!Metadata_Table_Length,1),A62)),1,""),IF(SUM(IF(ISNUMBER(SEARCH('Curated Metadata'!A62,OFFSET(Metadata!$A$1,0,0,Metadata!Metadata_Table_Length,1))),OFFSET(Metadata!$B$1,0,0,Metadata!Metadata_Table_Length,1),""))>0,1,"")),""),"")} -> 1 | F62: {=IF(D62=1,OFFSET(Metadata!$B$1,MIN(IF(OFFSET(Metadata!$A$1,0,0,Metadata!Metadata_Table_Length,1)='Curated Metadata'!A62,ROW(OFFSET(Metadata!$A$1,0,0,Metadata!Metadata_Table_Length,1))-1,"")),0),"")} -> 6196 | K62: Statistics - Protein Summary Table | L62: =B62 -> Spectra associated with 95% confidence proteins | M62: =IFERROR(IF(OR(B62<>L62,I62<>""),F62*I62,F62),"") -> 6196
A63: RESULTS_GROUPRESULTSUMMARY_3_confidence | B63: Confidence of third row in summary statistics ID statistics | D63: {=IFERROR(IF(A63<>"",IF(C63<>1,IF(OR(EXACT(OFFSET(Metadata!$A$1,0,0,Metadata!Metadata_Table_Length,1),A63)),1,""),IF(SUM(IF(ISNUMBER(SEARCH('Curated Metadata'!A63,OFFSET(Metadata!$A$1,0,0,Metadata!Metadata_Table_Length,1))),OFFSET(Metadata!$B$1,0,0,Metadata!Metadata_Table_Length,1),""))>0,1,"")),""),"")} -> 1 | F63: {=IF(D63=1,OFFSET(Metadata!$B$1,MIN(IF(OFFSET(Metadata!$A$1,0,0,Metadata!Metadata_Table_Length,1)='Curated Metadata'!A63,ROW(OFFSET(Metadata!$A$1,0,0,Metadata!Metadata_Table_Length,1))-1,"")),0),"")} -> 0.66 | H63: Fraction to % | I63: 100 | K63: Statistics - Protein Summary Table | L63: Percent Confidence of first row in Summary Statistics ID Statistics | M63: =IFERROR(IF(OR(B63<>L63,I63<>""),F63*I63,F63),"") -> 66
A64: RESULTS_GROUPRESULTSUMMARY_3_distinctpeptides | B64: Distinct peptides associated with 66% confidence proteins | D64: {=IFERROR(IF(A64<>"",IF(C64<>1,IF(OR(EXACT(OFFSET(Metadata!$A$1,0,0,Metadata!Metadata_Table_Length,1),A64)),1,""),IF(SUM(IF(ISNUMBER(SEARCH('Curated Metadata'!A64,OFFSET(Metadata!$A$1,0,0,Metadata!Metadata_Table_Length,1))),OFFSET(Metadata!$B$1,0,0,Metadata!Metadata_Table_Length,1),""))>0,1,"")),""),"")} -> 1 | F64: {=IF(D64=1,OFFSET(Metadata!$B$1,MIN(IF(OFFSET(Metadata!$A$1,0,0,Metadata!Metadata_Table_Length,1)='Curated Metadata'!A64,ROW(OFFSET(Metadata!$A$1,0,0,Metadata!Metadata_Table_Length,1))-1,"")),0),"")} -> 1881 | K64: Statistics - Protein Summary Table | L64: =B64 -> Distinct peptides associated with 66% confidence proteins | M64: =IFERROR(IF(OR(B64<>L64,I64<>""),F64*I64,F64),"") -> 1881
A65: RESULTS_GROUPRESULTSUMMARY_3_proteinsbeforegroupping | B65: Proteins before grouping (66% confidence) | D65: {=IFERROR(IF(A65<>"",IF(C65<>1,IF(OR(EXACT(OFFSET(Metadata!$A$1,0,0,Metadata!Metadata_Table_Length,1),A65)),1,""),IF(SUM(IF(ISNUMBER(SEARCH('Curated Metadata'!A65,OFFSET(Metadata!$A$1,0,0,Metadata!Metadata_Table_Length,1))),OFFSET(Metadata!$B$1,0,0,Metadata!Metadata_Table_Length,1),""))>0,1,"")),""),"")} -> 1 | F65: {=IF(D65=1,OFFSET(Metadata!$B$1,MIN(IF(OFFSET(Metadata!$A$1,0,0,Metadata!Metadata_Table_Length,1)='Curated Metadata'!A65,ROW(OFFSET(Metadata!$A$1,0,0,Metadata!Metadata_Table_Length,1))-1,"")),0),"")} -> 705 | K65: Statistics - Protein Summary Table | L65: =B65 -> Proteins before grouping (66% confidence) | M65: =IFERROR(IF(OR(B65<>L65,I65<>""),F65*I65,F65),"") -> 705
A66: RESULTS_GROUPRESULTSUMMARY_3_proteinsidentified | B66: Proteins detected (66% confidence) | D66: {=IFERROR(IF(A66<>"",IF(C66<>1,IF(OR(EXACT(OFFSET(Metadata!$A$1,0,0,Metadata!Metadata_Table_Length,1),A66)),1,""),IF(SUM(IF(ISNUMBER(SEARCH('Curated Metadata'!A66,OFFSET(Metadata!$A$1,0,0,Metadata!Metadata_Table_Length,1))),OFFSET(Metadata!$B$1,0,0,Metadata!Metadata_Table_Length,1),""))>0,1,"")),""),"")} -> 1 | F66: {=IF(D66=1,OFFSET(Metadata!$B$1,MIN(IF(OFFSET(Metadata!$A$1,0,0,Metadata!Metadata_Table_Length,1)='Curated Metadata'!A66,ROW(OFFSET(Metadata!$A$1,0,0,Metadata!Metadata_Table_Length,1))-1,"")),0),"")} -> 227 | K66: Statistics - Protein Summary Table | L66: =B66 -> Proteins detected (66% confidence) | M66: =IFERROR(IF(OR(B66<>L66,I66<>""),F66*I66,F66),"") -> 227
A67: RESULTS_GROUPRESULTSUMMARY_3_spectraidentified | B67: Spectra associated with 66% confidence proteins | D67: {=IFERROR(IF(A67<>"",IF(C67<>1,IF(OR(EXACT(OFFSET(Metadata!$A$1,0,0,Metadata!Metadata_Table_Length,1),A67)),1,""),IF(SUM(IF(ISNUMBER(SEARCH('Curated Metadata'!A67,OFFSET(Metadata!$A$1,0,0,Metadata!Metadata_Table_Length,1))),OFFSET(Metadata!$B$1,0,0,Metadata!Metadata_Table_Length,1),""))>0,1,"")),""),"")} -> 1 | F67: {=IF(D67=1,OFFSET(Metadata!$B$1,MIN(IF(OFFSET(Metadata!$A$1,0,0,Metadata!Metadata_Table_Length,1)='Curated Metadata'!A67,ROW(OFFSET(Metadata!$A$1,0,0,Metadata!Metadata_Table_Length,1))-1,"")),0),"")} -> 6400 | K67: Statistics - Protein Summary Table | L67: =B67 -> Spectra associated with 66% confidence proteins | M67: =IFERROR(IF(OR(B67<>L67,I67<>""),F67*I67,F67),"") -> 6400
A68: RESULTS_GROUPRESULTSUMMARY_4_confidence | B68: Confidence of fourth row in Summary Statistics ID statistics | D68: {=IFERROR(IF(A68<>"",IF(C68<>1,IF(OR(EXACT(OFFSET(Metadata!$A$1,0,0,Metadata!Metadata_Table_Length,1),A68)),1,""),IF(SUM(IF(ISNUMBER(SEARCH('Curated Metadata'!A68,OFFSET(Metadata!$A$1,0,0,Metadata!Metadata_Table_Length,1))),OFFSET(Metadata!$B$1,0,0,Metadata!Metadata_Table_Length,1),""))>0,1,"")),""),"")} -> 1 | F68: {=IF(D68=1,OFFSET(Metadata!$B$1,MIN(IF(OFFSET(Metadata!$A$1,0,0,Metadata!Metadata_Table_Length,1)='Curated Metadata'!A68,ROW(OFFSET(Metadata!$A$1,0,0,Metadata!Metadata_Table_Length,1))-1,"")),0),"")} -> 0.1000881 | H68: Fraction to % | I68: 100 | K68: Statistics - Protein Summary Table | L68: Percent Confidence of first row in Summary Statistics ID Statistics | M68: =IFERROR(IF(OR(B68<>L68,I68<>""),F68*I68,F68),"") -> 10.00881
A69: RESULTS_GROUPRESULTSUMMARY_4_distinctpeptides | B69: Distinct peptides associated with 10% confidence proteins | D69: {=IFERROR(IF(A69<>"",IF(C69<>1,IF(OR(EXACT(OFFSET(Metadata!$A$1,0,0,Metadata!Metadata_Table_Length,1),A69)),1,""),IF(SUM(IF(ISNUMBER(SEARCH('Curated Metadata'!A69,OFFSET(Metadata!$A$1,0,0,Metadata!Metadata_Table_Length,1))),OFFSET(Metadata!$B$1,0,0,Metadata!Metadata_Table_Length,1),""))>0,1,"")),""),"")} -> 1 | F69: {=IF(D69=1,OFFSET(Metadata!$B$1,MIN(IF(OFFSET(Metadata!$A$1,0,0,Metadata!Metadata_Table_Length,1)='Curated Metadata'!A69,ROW(OFFSET(Metadata!$A$1,0,0,Metadata!Metadata_Table_Length,1))-1,"")),0),"")} -> 2010 | K69: Statistics - Protein Summary Table | L69: =B69 -> Distinct peptides associated with 10% confidence proteins | M69: =IFERROR(IF(OR(B69<>L69,I69<>""),F69*I69,F69),"") -> 2010
A70: RESULTS_GROUPRESULTSUMMARY_4_proteinsbeforegroupping | B70: Proteins before grouping (10% confidence) | D70: {=IFERROR(IF(A70<>"",IF(C70<>1,IF(OR(EXACT(OFFSET(Metadata!$A$1,0,0,Metadata!Metadata_Table_Length,1),A70)),1,""),IF(SUM(IF(ISNUMBER(SEARCH('Curated Metadata'!A70,OFFSET(Metadata!$A$1,0,0,Metadata!Metadata_Table_Length,1))),OFFSET(Metadata!$B$1,0,0,Metadata!Metadata_Table_Length,1),""))>0,1,"")),""),"")} -> 1 | F70: {=IF(D70=1,OFFSET(Metadata!$B$1,MIN(IF(OFFSET(Metadata!$A$1,0,0,Metadata!Metadata_Table_Length,1)='Curated Metadata'!A70,ROW(OFFSET(Metadata!$A$1,0,0,Metadata!Metadata_Table_Length,1))-1,"")),0),"")} -> 1140 | K70: Statistics - Protein Summary Table | L70: =B70 -> Proteins before grouping (10% confidence) | M70: =IFERROR(IF(OR(B70<>L70,I70<>""),F70*I70,F70),"") -> 1140
A71: RESULTS_GROUPRESULTSUMMARY_4_proteinsidentified | B71: Proteins detected (10% confidence) | D71: {=IFERROR(IF(A71<>"",IF(C71<>1,IF(OR(EXACT(OFFSET(Metadata!$A$1,0,0,Metadata!Metadata_Table_Length,1),A71)),1,""),IF(SUM(IF(ISNUMBER(SEARCH('Curated Metadata'!A71,OFFSET(Metadata!$A$1,0,0,Metadata!Metadata_Table_Length,1))),OFFSET(Metadata!$B$1,0,0,Metadata!Metadata_Table_Length,1),""))>0,1,"")),""),"")} -> 1 | F71: {=IF(D71=1,OFFSET(Metadata!$B$1,MIN(IF(OFFSET(Metadata!$A$1,0,0,Metadata!Metadata_Table_Length,1)='Curated Metadata'!A71,ROW(OFFSET(Metadata!$A$1,0,0,Metadata!Metadata_Table_Length,1))-1,"")),0),"")} -> 337 | K71: Statistics - Protein Summary Table | L71: =B71 -> Proteins detected (10% confidence) | M71: =IFERROR(IF(OR(B71<>L71,I71<>""),F71*I71,F71),"") -> 337
A72: RESULTS_GROUPRESULTSUMMARY_4_spectraidentified | B72: Spectra associated with 10% confidence proteins | D72: {=IFERROR(IF(A72<>"",IF(C72<>1,IF(OR(EXACT(OFFSET(Metadata!$A$1,0,0,Metadata!Metadata_Table_Length,1),A72)),1,""),IF(SUM(IF(ISNUMBER(SEARCH('Curated Metadata'!A72,OFFSET(Metadata!$A$1,0,0,Metadata!Metadata_Table_Length,1))),OFFSET(Metadata!$B$1,0,0,Metadata!Metadata_Table_Length,1),""))>0,1,"")),""),"")} -> 1 | F72: {=IF(D72=1,OFFSET(Metadata!$B$1,MIN(IF(OFFSET(Metadata!$A$1,0,0,Metadata!Metadata_Table_Length,1)='Curated Metadata'!A72,ROW(OFFSET(Metadata!$A$1,0,0,Metadata!Metadata_Table_Length,1))-1,"")),0),"")} -> 6664 | K72: Statistics - Protein Summary Table | L72: =B72 -> Spectra associated with 10% confidence proteins | M72: =IFERROR(IF(OR(B72<>L72,I72<>""),F72*I72,F72),"") -> 6664
D73: {=IFERROR(IF(A73<>"",IF(C73<>1,IF(OR(EXACT(OFFSET(Metadata!$A$1,0,0,Metadata!Metadata_Table_Length,1),A73)),1,""),IF(SUM(IF(ISNUMBER(SEARCH('Curated Metadata'!A73,OFFSET(Metadata!$A$1,0,0,Metadata!Metadata_Table_Length,1))),OFFSET(Metadata!$B$1,0,0,Metadata!Metadata_Table_Length,1),""))>0,1,"")),""),"")}
D74: {=IFERROR(IF(A74<>"",IF(C74<>1,IF(OR(EXACT(OFFSET(Metadata!$A$1,0,0,Metadata!Metadata_Table_Length,1),A74)),1,""),IF(SUM(IF(ISNUMBER(SEARCH('Curated Metadata'!A74,OFFSET(Metadata!$A$1,0,0,Metadata!Metadata_Table_Length,1))),OFFSET(Metadata!$B$1,0,0,Metadata!Metadata_Table_Length,1),""))>0,1,"")),""),"")}
A75: PARAMETERS_PEAKLIST_partnumber | B75: Number of segments the input data are broken into | C75: 1 | D75: {=IFERROR(IF(A75<>"",IF(C75<>1,IF(OR(EXACT(OFFSET(Metadata!$A$1,0,0,Metadata!Metadata_Table_Length,1),A75)),1,""),IF(SUM(IF(ISNUMBER(SEARCH('Curated Metadata'!A75,OFFSET(Metadata!$A$1,0,0,Metadata!Metadata_Table_Length,1))),OFFSET(Metadata!$B$1,0,0,Metadata!Metadata_Table_Length,1),""))>0,1,"")),""),"")} -> 1 | E75: 1 | F75: {=MAX(IF(ISNUMBER(SEARCH('Curated Metadata'!A75,OFFSET(Metadata!$A$1,0,0,Metadata!Metadata_Table_Length,1))),OFFSET(Metadata!$B$1,0,0,Metadata!Metadata_Table_Length,1),""))} -> 7 | K75: Parameters - Search Dimension Factors | L75: =B75 -> Number of segments the input data are broken into | M75: =IFERROR(IF(OR(B75<>L75,I75<>""),F75*I75,F75),"") -> 7
D76: {=IFERROR(IF(A76<>"",IF(C76<>1,IF(OR(EXACT(OFFSET(Metadata!$A$1,0,0,Metadata!Metadata_Table_Length,1),A76)),1,""),IF(SUM(IF(ISNUMBER(SEARCH('Curated Metadata'!A76,OFFSET(Metadata!$A$1,0,0,Metadata!Metadata_Table_Length,1))),OFFSET(Metadata!$B$1,0,0,Metadata!Metadata_Table_Length,1),""))>0,1,"")),""),"")} | E76: 1 | F76: {=IF(D76=1,OFFSET(Metadata!$B$1,MIN(IF(OFFSET(Metadata!$A$1,0,0,Metadata!Metadata_Table_Length,1)='Curated Metadata'!A76,ROW(OFFSET(Metadata!$A$1,0,0,Metadata!Metadata_Table_Length,1))-1,"")),0),"")} | K76: Parameters - Search Dimension Factors | L76: Number of searches per segment (2 for Thorough, 1 for Rapid) | M76: =IF(M22<>"",IF(M22="Rapid",1,2),"") -> 2
D77: {=IFERROR(IF(A77<>"",IF(C77<>1,IF(OR(EXACT(OFFSET(Metadata!$A$1,0,0,Metadata!Metadata_Table_Length,1),A77)),1,""),IF(SUM(IF(ISNUMBER(SEARCH('Curated Metadata'!A77,OFFSET(Metadata!$A$1,0,0,Metadata!Metadata_Table_Length,1))),OFFSET(Metadata!$B$1,0,0,Metadata!Metadata_Table_Length,1),""))>0,1,"")),""),"")} | E77: 1 | F77: {=IF(D77=1,OFFSET(Metadata!$B$1,MIN(IF(OFFSET(Metadata!$A$1,0,0,Metadata!Metadata_Table_Length,1)='Curated Metadata'!A77,ROW(OFFSET(Metadata!$A$1,0,0,Metadata!Metadata_Table_Length,1))-1,"")),0),"")} | K77: Parameters - Search Dimension Factors | L77: Number of apparent sub-searches in group file | M77: =IF(M75<>"",M75*M76,"") -> 14
A78: RESULTS_SEARCH_1_PARAMETERS_do_reverse_search | B78: Do reversed search | D78: {=IFERROR(IF(A78<>"",IF(C78<>1,IF(OR(EXACT(OFFSET(Metadata!$A$1,0,0,Metadata!Metadata_Table_Length,1),A78)),1,""),IF(SUM(IF(ISNUMBER(SEARCH('Curated Metadata'!A78,OFFSET(Metadata!$A$1,0,0,Metadata!Metadata_Table_Length,1))),OFFSET(Metadata!$B$1,0,0,Metadata!Metadata_Table_Length,1),""))>0,1,"")),""),"")} -> 1 | F78: {=IF(D78=1,OFFSET(Metadata!$B$1,MIN(IF(OFFSET(Metadata!$A$1,0,0,Metadata!Metadata_Table_Length,1)='Curated Metadata'!A78,ROW(OFFSET(Metadata!$A$1,0,0,Metadata!Metadata_Table_Length,1))-1,"")),0),"")} -> TRUE | K78: Parameters - Search Dimension Factors | L78: =B78 -> Do reversed search | M78: =IFERROR(IF(OR(B78<>L78,I78<>""),F78*I78,F78),"") -> TRUE
A79: RESULTS_SEARCH_1_PARAMETERS_QUANT_TYPE_separate_searches | B79: Do separate searches for each plex in MS1 quantitation | D79: {=IFERROR(IF(A79<>"",IF(C79<>1,IF(OR(EXACT(OFFSET(Metadata!$A$1,0,0,Metadata!Metadata_Table_Length,1),A79)),1,""),IF(SUM(IF(ISNUMBER(SEARCH('Curated Metadata'!A79,OFFSET(Metadata!$A$1,0,0,Metadata!Metadata_Table_Length,1))),OFFSET(Metadata!$B$1,0,0,Metadata!Metadata_Table_Length,1),""))>0,1,"")),""),"")} -> 1 | F79: {=IF(D79=1,OFFSET(Metadata!$B$1,MIN(IF(OFFSET(Metadata!$A$1,0,0,Metadata!Metadata_Table_Length,1)='Curated Metadata'!A79,ROW(OFFSET(Metadata!$A$1,0,0,Metadata!Metadata_Table_Length,1))-1,"")),0),"")} -> FALSE | K79: Parameters - Search Dimension Factors | L79: =B79 -> Do separate searches for each plex in MS1 quantitation | M79: =IFERROR(IF(OR(B79<>L79,I79<>""),F79*I79,F79),"") -> FALSE
A80: RESULTS_SEARCH_1_PARAMETERS_maxresults | B80: Maximum number of hypotheses to keep per spectrum | D80: {=IFERROR(IF(A80<>"",IF(C80<>1,IF(OR(EXACT(OFFSET(Metadata!$A$1,0,0,Metadata!Metadata_Table_Length,1),A80)),1,""),IF(SUM(IF(ISNUMBER(SEARCH('Curated Metadata'!A80,OFFSET(Metadata!$A$1,0,0,Metadata!Metadata_Table_Length,1))),OFFSET(Metadata!$B$1,0,0,Metadata!Metadata_Table_Length,1),""))>0,1,"")),""),"")} -> 1 | F80: {=IF(D80=1,OFFSET(Metadata!$B$1,MIN(IF(OFFSET(Metadata!$A$1,0,0,Metadata!Metadata_Table_Length,1)='Curated Metadata'!A80,ROW(OFFSET(Metadata!$A$1,0,0,Metadata!Metadata_Table_Length,1))-1,"")),0),"")} -> 15 | K80: Parameters - Search Dimension Factors | L80: =B80 -> Maximum number of hypotheses to keep per spectrum | M80: =IFERROR(IF(OR(B80<>L80,I80<>""),F80*I80,F80),"") -> 15
D81: {=IFERROR(IF(A81<>"",IF(C81<>1,IF(OR(EXACT(OFFSET(Metadata!$A$1,0,0,Metadata!Metadata_Table_Length,1),A81)),1,""),IF(SUM(IF(ISNUMBER(SEARCH('Curated Metadata'!A81,OFFSET(Metadata!$A$1,0,0,Metadata!Metadata_Table_Length,1))),OFFSET(Metadata!$B$1,0,0,Metadata!Metadata_Table_Length,1),""))>0,1,"")),""),"")}
D82: {=IFERROR(IF(A82<>"",IF(C82<>1,IF(OR(EXACT(OFFSET(Metadata!$A$1,0,0,Metadata!Metadata_Table_Length,1),A82)),1,""),IF(SUM(IF(ISNUMBER(SEARCH('Curated Metadata'!A82,OFFSET(Metadata!$A$1,0,0,Metadata!Metadata_Table_Length,1))),OFFSET(Metadata!$B$1,0,0,Metadata!Metadata_Table_Length,1),""))>0,1,"")),""),"")}
A83: RESULTS_SEARCH_1_PARAMETERS_MSTOLERANCE_type | B83: MS1 initial mass error tolerance type | D83: {=IFERROR(IF(A83<>"",IF(C83<>1,IF(OR(EXACT(OFFSET(Metadata!$A$1,0,0,Metadata!Metadata_Table_Length,1),A83)),1,""),IF(SUM(IF(ISNUMBER(SEARCH('Curated Metadata'!A83,OFFSET(Metadata!$A$1,0,0,Metadata!Metadata_Table_Length,1))),OFFSET(Metadata!$B$1,0,0,Metadata!Metadata_Table_Length,1),""))>0,1,"")),""),"")} -> 1 | F83: {=IF(D83=1,OFFSET(Metadata!$B$1,MIN(IF(OFFSET(Metadata!$A$1,0,0,Metadata!Metadata_Table_Length,1)='Curated Metadata'!A83,ROW(OFFSET(Metadata!$A$1,0,0,Metadata!Metadata_Table_Length,1))-1,"")),0),"")} -> dalton | K83: Parameters - Identification - Mass accuracy | L83: =B83 -> MS1 initial mass error tolerance type | M83: =IFERROR(IF(OR(B83<>L83,I83<>""),F83*I83,F83),"") -> dalton
A84: RESULTS_SEARCH_1_PARAMETERS_MSTOLERANCE_value | B84: MS1 initial mass error tolerance value | D84: {=IFERROR(IF(A84<>"",IF(C84<>1,IF(OR(EXACT(OFFSET(Metadata!$A$1,0,0,Metadata!Metadata_Table_Length,1),A84)),1,""),IF(SUM(IF(ISNUMBER(SEARCH('Curated Metadata'!A84,OFFSET(Metadata!$A$1,0,0,Metadata!Metadata_Table_Length,1))),OFFSET(Metadata!$B$1,0,0,Metadata!Metadata_Table_Length,1),""))>0,1,"")),""),"")} -> 1 | F84: {=IF(D84=1,OFFSET(Metadata!$B$1,MIN(IF(OFFSET(Metadata!$A$1,0,0,Metadata!Metadata_Table_Length,1)='Curated Metadata'!A84,ROW(OFFSET(Metadata!$A$1,0,0,Metadata!Metadata_Table_Length,1))-1,"")),0),"")} -> 0.05 | K84: Parameters - Identification - Mass accuracy | L84: =B84 -> MS1 initial mass error tolerance value | M84: =IFERROR(IF(OR(B84<>L84,I84<>""),F84*I84,F84),"") -> 0.05
A85: RESULTS_SEARCH_1_PARAMETERS_MSMSTOLERANCE_type | B85: MS2 initial mass error tolerance type | D85: {=IFERROR(IF(A85<>"",IF(C85<>1,IF(OR(EXACT(OFFSET(Metadata!$A$1,0,0,Metadata!Metadata_Table_Length,1),A85)),1,""),IF(SUM(IF(ISNUMBER(SEARCH('Curated Metadata'!A85,OFFSET(Metadata!$A$1,0,0,Metadata!Metadata_Table_Length,1))),OFFSET(Metadata!$B$1,0,0,Metadata!Metadata_Table_Length,1),""))>0,1,"")),""),"")} -> 1 | F85: {=IF(D85=1,OFFSET(Metadata!$B$1,MIN(IF(OFFSET(Metadata!$A$1,0,0,Metadata!Metadata_Table_Length,1)='Curated Metadata'!A85,ROW(OFFSET(Metadata!$A$1,0,0,Metadata!Metadata_Table_Length,1))-1,"")),0),"")} -> dalton | K85: Parameters - Identification - Mass accuracy | L85: =B85 -> MS2 initial mass error tolerance type | M85: =IFERROR(IF(OR(B85<>L85,I85<>""),F85*I85,F85),"") -> dalton
A86: RESULTS_SEARCH_1_PARAMETERS_MSMSTOLERANCE_value | B86: MS2 initial mass error tolerance value | D86: {=IFERROR(IF(A86<>"",IF(C86<>1,IF(OR(EXACT(OFFSET(Metadata!$A$1,0,0,Metadata!Metadata_Table_Length,1),A86)),1,""),IF(SUM(IF(ISNUMBER(SEARCH('Curated Metadata'!A86,OFFSET(Metadata!$A$1,0,0,Metadata!Metadata_Table_Length,1))),OFFSET(Metadata!$B$1,0,0,Metadata!Metadata_Table_Length,1),""))>0,1,"")),""),"")} -> 1 | F86: {=IF(D86=1,OFFSET(Metadata!$B$1,MIN(IF(OFFSET(Metadata!$A$1,0,0,Metadata!Metadata_Table_Length,1)='Curated Metadata'!A86,ROW(OFFSET(Metadata!$A$1,0,0,Metadata!Metadata_Table_Length,1))-1,"")),0),"")} -> 0.1 | K86: Parameters - Identification - Mass accuracy | L86: =B86 -> MS2 initial mass error tolerance value | M86: =IFERROR(IF(OR(B86<>L86,I86<>""),F86*I86,F86),"") -> 0.1
A87: RESULTS_SEARCH_1_PARAMETERS_MS_STANDARD_DEVIATION_type | B87: MS1 final mass error standard deviation type | D87: {=IFERROR(IF(A87<>"",IF(C87<>1,IF(OR(EXACT(OFFSET(Metadata!$A$1,0,0,Metadata!Metadata_Table_Length,1),A87)),1,""),IF(SUM(IF(ISNUMBER(SEARCH('Curated Metadata'!A87,OFFSET(Metadata!$A$1,0,0,Metadata!Metadata_Table_Length,1))),OFFSET(Metadata!$B$1,0,0,Metadata!Metadata_Table_Length,1),""))>0,1,"")),""),"")} -> 1 | F87: {=IF(D87=1,OFFSET(Metadata!$B$1,MIN(IF(OFFSET(Metadata!$A$1,0,0,Metadata!Metadata_Table_Length,1)='Curated Metadata'!A87,ROW(OFFSET(Metadata!$A$1,0,0,Metadata!Metadata_Table_Length,1))-1,"")),0),"")} -> dalton | K87: Parameters - Identification - Mass accuracy | L87: =B87 -> MS1 final mass error standard deviation type | M87: =IFERROR(IF(OR(B87<>L87,I87<>""),F87*I87,F87),"") -> dalton
A88: RESULTS_SEARCH_1_PARAMETERS_MS_STANDARD_DEVIATION_value | B88: MS1 final mass error standard deviation value | D88: {=IFERROR(IF(A88<>"",IF(C88<>1,IF(OR(EXACT(OFFSET(Metadata!$A$1,0,0,Metadata!Metadata_Table_Length,1),A88)),1,""),IF(SUM(IF(ISNUMBER(SEARCH('Curated Metadata'!A88,OFFSET(Metadata!$A$1,0,0,Metadata!Metadata_Table_Length,1))),OFFSET(Metadata!$B$1,0,0,Metadata!Metadata_Table_Length,1),""))>0,1,"")),""),"")} -> 1 | F88: {=IF(D88=1,OFFSET(Metadata!$B$1,MIN(IF(OFFSET(Metadata!$A$1,0,0,Metadata!Metadata_Table_Length,1)='Curated Metadata'!A88,ROW(OFFSET(Metadata!$A$1,0,0,Metadata!Metadata_Table_Length,1))-1,"")),0),"")} -> 0.0011 | K88: Parameters - Identification - Mass accuracy | L88: =B88 -> MS1 final mass error standard deviation value | M88: =IFERROR(IF(OR(B88<>L88,I88<>""),F88*I88,F88),"") -> 0.0011
A89: RESULTS_SEARCH_1_PARAMETERS_MSMS_STANDARD_DEVIATION_type | B89: MS2 final mass error standard deviation type | D89: {=IFERROR(IF(A89<>"",IF(C89<>1,IF(OR(EXACT(OFFSET(Metadata!$A$1,0,0,Metadata!Metadata_Table_Length,1),A89)),1,""),IF(SUM(IF(ISNUMBER(SEARCH('Curated Metadata'!A89,OFFSET(Metadata!$A$1,0,0,Metadata!Metadata_Table_Length,1))),OFFSET(Metadata!$B$1,0,0,Metadata!Metadata_Table_Length,1),""))>0,1,"")),""),"")} -> 1 | F89: {=IF(D89=1,OFFSET(Metadata!$B$1,MIN(IF(OFFSET(Metadata!$A$1,0,0,Metadata!Metadata_Table_Length,1)='Curated Metadata'!A89,ROW(OFFSET(Metadata!$A$1,0,0,Metadata!Metadata_Table_Length,1))-1,"")),0),"")} -> dalton | K89: Parameters - Identification - Mass accuracy | L89: =B89 -> MS2 final mass error standard deviation type | M89: =IFERROR(IF(OR(B89<>L89,I89<>""),F89*I89,F89),"") -> dalton
A90: RESULTS_SEARCH_1_PARAMETERS_MSMS_STANDARD_DEVIATION_value | B90: MS2 final mass error standard deviation value | D90: {=IFERROR(IF(A90<>"",IF(C90<>1,IF(OR(EXACT(OFFSET(Metadata!$A$1,0,0,Metadata!Metadata_Table_Length,1),A90)),1,""),IF(SUM(IF(ISNUMBER(SEARCH('Curated Metadata'!A90,OFFSET(Metadata!$A$1,0,0,Metadata!Metadata_Table_Length,1))),OFFSET(Metadata!$B$1,0,0,Metadata!Metadata_Table_Length,1),""))>0,1,"")),""),"")} -> 1 | F90: {=IF(D90=1,OFFSET(Metadata!$B$1,MIN(IF(OFFSET(Metadata!$A$1,0,0,Metadata!Metadata_Table_Length,1)='Curated Metadata'!A90,ROW(OFFSET(Metadata!$A$1,0,0,Metadata!Metadata_Table_Length,1))-1,"")),0),"")} -> 0.01 | K90: Parameters - Identification - Mass accuracy | L90: =B90 -> MS2 final mass error standard deviation value | M90: =IFERROR(IF(OR(B90<>L90,I90<>""),F90*I90,F90),"") -> 0.01
D91: {=IFERROR(IF(A91<>"",IF(C91<>1,IF(OR(EXACT(OFFSET(Metadata!$A$1,0,0,Metadata!Metadata_Table_Length,1),A91)),1,""),IF(SUM(IF(ISNUMBER(SEARCH('Curated Metadata'!A91,OFFSET(Metadata!$A$1,0,0,Metadata!Metadata_Table_Length,1))),OFFSET(Metadata!$B$1,0,0,Metadata!Metadata_Table_Length,1),""))>0,1,"")),""),"")}
D92: {=IFERROR(IF(A92<>"",IF(C92<>1,IF(OR(EXACT(OFFSET(Metadata!$A$1,0,0,Metadata!Metadata_Table_Length,1),A92)),1,""),IF(SUM(IF(ISNUMBER(SEARCH('Curated Metadata'!A92,OFFSET(Metadata!$A$1,0,0,Metadata!Metadata_Table_Length,1))),OFFSET(Metadata!$B$1,0,0,Metadata!Metadata_Table_Length,1),""))>0,1,"")),""),"")}
A93: RESULTS_SEARCH_1_PARAMETERS_do_multiprecursor_search | B93: Use multi-precursor search function | D93: {=IFERROR(IF(A93<>"",IF(C93<>1,IF(OR(EXACT(OFFSET(Metadata!$A$1,0,0,Metadata!Metadata_Table_Length,1),A93)),1,""),IF(SUM(IF(ISNUMBER(SEARCH('Curated Metadata'!A93,OFFSET(Metadata!$A$1,0,0,Metadata!Metadata_Table_Length,1))),OFFSET(Metadata!$B$1,0,0,Metadata!Metadata_Table_Length,1),""))>0,1,"")),""),"")} -> 1 | F93: {=IF(D93=1,OFFSET(Metadata!$B$1,MIN(IF(OFFSET(Metadata!$A$1,0,0,Metadata!Metadata_Table_Length,1)='Curated Metadata'!A93,ROW(OFFSET(Metadata!$A$1,0,0,Metadata!Metadata_Table_Length,1))-1,"")),0),"")} -> TRUE | K93: Parameters - Identification - Multi-precursor search | L93: =B93 -> Use multi-precursor search function | M93: =IFERROR(IF(OR(B93<>L93,I93<>""),F93*I93,F93),"") -> TRUE
A94: RESULTS_SEARCH_1_PARAMETERS_MAX_PRECURSORS_FRAGLET | B94: Maximum number of different precursor masses to try to match to in the Fraglet stage when doing multi-precursor search | D94: {=IFERROR(IF(A94<>"",IF(C94<>1,IF(OR(EXACT(OFFSET(Metadata!$A$1,0,0,Metadata!Metadata_Table_Length,1),A94)),1,""),IF(SUM(IF(ISNUMBER(SEARCH('Curated Metadata'!A94,OFFSET(Metadata!$A$1,0,0,Metadata!Metadata_Table_Length,1))),OFFSET(Metadata!$B$1,0,0,Metadata!Metadata_Table_Length,1),""))>0,1,"")),""),"")} -> 1 | F94: {=IF(D94=1,OFFSET(Metadata!$B$1,MIN(IF(OFFSET(Metadata!$A$1,0,0,Metadata!Metadata_Table_Length,1)='Curated Metadata'!A94,ROW(OFFSET(Metadata!$A$1,0,0,Metadata!Metadata_Table_Length,1))-1,"")),0),"")} -> 5 | K94: Parameters - Identification - Multi-precursor search | L94: =B94 -> Maximum number of different precursor masses to try to match to in the Fraglet stage when doing multi-precursor search | M94: =IFERROR(IF(OR(B94<>L94,I94<>""),F94*I94,F94),"") -> 5
A95: RESULTS_SEARCH_1_PARAMETERS_PRECURSORS_DR_FRAGLET | B95: Maximum dynamic range gap of secondary precursors vs primary precursor in the Fraglet stage when doing multi-precursor search | D95: {=IFERROR(IF(A95<>"",IF(C95<>1,IF(OR(EXACT(OFFSET(Metadata!$A$1,0,0,Metadata!Metadata_Table_Length,1),A95)),1,""),IF(SUM(IF(ISNUMBER(SEARCH('Curated Metadata'!A95,OFFSET(Metadata!$A$1,0,0,Metadata!Metadata_Table_Length,1))),OFFSET(Metadata!$B$1,0,0,Metadata!Metadata_Table_Length,1),""))>0,1,"")),""),"")} -> 1 | F95: {=IF(D95=1,OFFSET(Metadata!$B$1,MIN(IF(OFFSET(Metadata!$A$1,0,0,Metadata!Metadata_Table_Length,1)='Curated Metadata'!A95,ROW(OFFSET(Metadata!$A$1,0,0,Metadata!Metadata_Table_Length,1))-1,"")),0),"")} -> 10 | K95: Parameters - Identification - Multi-precursor search | L95: =B95 -> Maximum dynamic range gap of secondary precursors vs primary precursor in the Fraglet stage when doing multi-precursor search | M95: =IFERROR(IF(OR(B95<>L95,I95<>""),F95*I95,F95),"") -> 10
A96: RESULTS_SEARCH_1_PARAMETERS_MAX_PRECURSORS_TAGLET | B96: Maximum number of different precursor masses to try to match to in the Taglet stage when doing multi-precursor search | D96: {=IFERROR(IF(A96<>"",IF(C96<>1,IF(OR(EXACT(OFFSET(Metadata!$A$1,0,0,Metadata!Metadata_Table_Length,1),A96)),1,""),IF(SUM(IF(ISNUMBER(SEARCH('Curated Metadata'!A96,OFFSET(Metadata!$A$1,0,0,Metadata!Metadata_Table_Length,1))),OFFSET(Metadata!$B$1,0,0,Metadata!Metadata_Table_Length,1),""))>0,1,"")),""),"")} -> 1 | F96: {=IF(D96=1,OFFSET(Metadata!$B$1,MIN(IF(OFFSET(Metadata!$A$1,0,0,Metadata!Metadata_Table_Length,1)='Curated Metadata'!A96,ROW(OFFSET(Metadata!$A$1,0,0,Metadata!Metadata_Table_Length,1))-1,"")),0),"")} -> 1 | K96: Parameters - Identification - Multi-precursor search | L96: =B96 -> Maximum number of different precursor masses to try to match to in the Taglet stage when doing multi-precursor search | M96: =IFERROR(IF(OR(B96<>L96,I96<>""),F96*I96,F96),"") -> 1
A97: RESULTS_SEARCH_1_PARAMETERS_PRECURSORS_DR_TAGLET | B97: Maximum dynamic range gap of secondary precursors vs primary precursor in the Taglet stage when doing multi-precursor search | D97: {=IFERROR(IF(A97<>"",IF(C97<>1,IF(OR(EXACT(OFFSET(Metadata!$A$1,0,0,Metadata!Metadata_Table_Length,1),A97)),1,""),IF(SUM(IF(ISNUMBER(SEARCH('Curated Metadata'!A97,OFFSET(Metadata!$A$1,0,0,Metadata!Metadata_Table_Length,1))),OFFSET(Metadata!$B$1,0,0,Metadata!Metadata_Table_Length,1),""))>0,1,"")),""),"")} -> 1 | F97: {=IF(D97=1,OFFSET(Metadata!$B$1,MIN(IF(OFFSET(Metadata!$A$1,0,0,Metadata!Metadata_Table_Length,1)='Curated Metadata'!A97,ROW(OFFSET(Metadata!$A$1,0,0,Metadata!Metadata_Table_Length,1))-1,"")),0),"")} -> 3 | K97: Parameters - Identification - Multi-precursor search | L97: =B97 -> Maximum dynamic range gap of secondary precursors vs primary precursor in the Taglet stage when doing multi-precursor search | M97: =IFERROR(IF(OR(B97<>L97,I97<>""),F97*I97,F97),"") -> 3
D98: {=IFERROR(IF(A98<>"",IF(C98<>1,IF(OR(EXACT(OFFSET(Metadata!$A$1,0,0,Metadata!Metadata_Table_Length,1),A98)),1,""),IF(SUM(IF(ISNUMBER(SEARCH('Curated Metadata'!A98,OFFSET(Metadata!$A$1,0,0,Metadata!Metadata_Table_Length,1))),OFFSET(Metadata!$B$1,0,0,Metadata!Metadata_Table_Length,1),""))>0,1,"")),""),"")}
D99: {=IFERROR(IF(A99<>"",IF(C99<>1,IF(OR(EXACT(OFFSET(Metadata!$A$1,0,0,Metadata!Metadata_Table_Length,1),A99)),1,""),IF(SUM(IF(ISNUMBER(SEARCH('Curated Metadata'!A99,OFFSET(Metadata!$A$1,0,0,Metadata!Metadata_Table_Length,1))),OFFSET(Metadata!$B$1,0,0,Metadata!Metadata_Table_Length,1),""))>0,1,"")),""),"")}
A100: RESULTS_SEARCH_1_PARAMETERS_DEFAULT_CHARGE_STATE_1_charge | B100: First charge state to consider when precursor z is not determined | D100: {=IFERROR(IF(A100<>"",IF(C100<>1,IF(OR(EXACT(OFFSET(Metadata!$A$1,0,0,Metadata!Metadata_Table_Length,1),A100)),1,""),IF(SUM(IF(ISNUMBER(SEARCH('Curated Metadata'!A100,OFFSET(Metadata!$A$1,0,0,Metadata!Metadata_Table_Length,1))),OFFSET(Metadata!$B$1,0,0,Metadata!Metadata_Table_Length,1),""))>0,1,"")),""),"")} -> 1 | F100: {=IF(D100=1,OFFSET(Metadata!$B$1,MIN(IF(OFFSET(Metadata!$A$1,0,0,Metadata!Metadata_Table_Length,1)='Curated Metadata'!A100,ROW(OFFSET(Metadata!$A$1,0,0,Metadata!Metadata_Table_Length,1))-1,"")),0),"")} -> 2 | K100: Parameters - Identification - Charge ambiguity | L100: =B100 -> First charge state to consider when precursor z is not determined | M100: =IFERROR(IF(OR(B100<>L100,I100<>""),F100*I100,F100),"") -> 2
A101: RESULTS_SEARCH_1_PARAMETERS_DEFAULT_CHARGE_STATE_1_probability | B101: Probability of first charge state to consider when precursor z is not determined | D101: {=IFERROR(IF(A101<>"",IF(C101<>1,IF(OR(EXACT(OFFSET(Metadata!$A$1,0,0,Metadata!Metadata_Table_Length,1),A101)),1,""),IF(SUM(IF(ISNUMBER(SEARCH('Curated Metadata'!A101,OFFSET(Metadata!$A$1,0,0,Metadata!Metadata_Table_Length,1))),OFFSET(Metadata!$B$1,0,0,Metadata!Metadata_Table_Length,1),""))>0,1,"")),""),"")} -> 1 | F101: {=IF(D101=1,OFFSET(Metadata!$B$1,MIN(IF(OFFSET(Metadata!$A$1,0,0,Metadata!Metadata_Table_Length,1)='Curated Metadata'!A101,ROW(OFFSET(Metadata!$A$1,0,0,Metadata!Metadata_Table_Length,1))-1,"")),0),"")} -> 1 | K101: Parameters - Identification - Charge ambiguity | L101: =B101 -> Probability of first charge state to consider when precursor z is not determined | M101: =IFERROR(IF(OR(B101<>L101,I101<>""),F101*I101,F101),"") -> 1
A102: RESULTS_SEARCH_1_PARAMETERS_DEFAULT_CHARGE_STATE_2_charge | B102: Second charge state to consider when precursor z is not determined | D102: {=IFERROR(IF(A102<>"",IF(C102<>1,IF(OR(EXACT(OFFSET(Metadata!$A$1,0,0,Metadata!Metadata_Table_Length,1),A102)),1,""),IF(SUM(IF(ISNUMBER(SEARCH('Curated Metadata'!A102,OFFSET(Metadata!$A$1,0,0,Metadata!Metadata_Table_Length,1))),OFFSET(Metadata!$B$1,0,0,Metadata!Metadata_Table_Length,1),""))>0,1,"")),""),"")} -> 1 | F102: {=IF(D102=1,OFFSET(Metadata!$B$1,MIN(IF(OFFSET(Metadata!$A$1,0,0,Metadata!Metadata_Table_Length,1)='Curated Metadata'!A102,ROW(OFFSET(Metadata!$A$1,0,0,Metadata!Metadata_Table_Length,1))-1,"")),0),"")} -> 3 | K102: Parameters - Identification - Charge ambiguity | L102: =B102 -> Second charge state to consider when precursor z is not determined | M102: =IFERROR(IF(OR(B102<>L102,I102<>""),F102*I102,F102),"") -> 3
A103: RESULTS_SEARCH_1_PARAMETERS_DEFAULT_CHARGE_STATE_2_probability | B103: Probability of second charge state to consider when precursor z is not determined | D103: {=IFERROR(IF(A103<>"",IF(C103<>1,IF(OR(EXACT(OFFSET(Metadata!$A$1,0,0,Metadata!Metadata_Table_Length,1),A103)),1,""),IF(SUM(IF(ISNUMBER(SEARCH('Curated Metadata'!A103,OFFSET(Metadata!$A$1,0,0,Metadata!Metadata_Table_Length,1))),OFFSET(Metadata!$B$1,0,0,Metadata!Metadata_Table_Length,1),""))>0,1,"")),""),"")} -> 1 | F103: {=IF(D103=1,OFFSET(Metadata!$B$1,MIN(IF(OFFSET(Metadata!$A$1,0,0,Metadata!Metadata_Table_Length,1)='Curated Metadata'!A103,ROW(OFFSET(Metadata!$A$1,0,0,Metadata!Metadata_Table_Length,1))-1,"")),0),"")} -> 1 | K103: Parameters - Identification - Charge ambiguity | L103: =B103 -> Probability of second charge state to consider when precursor z is not determined | M103: =IFERROR(IF(OR(B103<>L103,I103<>""),F103*I103,F103),"") -> 1
A104: RESULTS_SEARCH_1_PARAMETERS_DEFAULT_CHARGE_STATE_3_charge | B104: Third charge state to consider when precursor z is not determined | D104: {=IFERROR(IF(A104<>"",IF(C104<>1,IF(OR(EXACT(OFFSET(Metadata!$A$1,0,0,Metadata!Metadata_Table_Length,1),A104)),1,""),IF(SUM(IF(ISNUMBER(SEARCH('Curated Metadata'!A104,OFFSET(Metadata!$A$1,0,0,Metadata!Metadata_Table_Length,1))),OFFSET(Metadata!$B$1,0,0,Metadata!Metadata_Table_Length,1),""))>0,1,"")),""),"")} -> 1 | F104: {=IF(D104=1,OFFSET(Metadata!$B$1,MIN(IF(OFFSET(Metadata!$A$1,0,0,Metadata!Metadata_Table_Length,1)='Curated Metadata'!A104,ROW(OFFSET(Metadata!$A$1,0,0,Metadata!Metadata_Table_Length,1))-1,"")),0),"")} -> 4 | K104: Parameters - Identification - Charge ambiguity | L104: =B104 -> Third charge state to consider when precursor z is not determined | M104: =IFERROR(IF(OR(B104<>L104,I104<>""),F104*I104,F104),"") -> 4
...

Sheet Protein Level Data
A1: Protein Level Data | B1: Unused ProtScore Threshold | C1: Confidence Threshold | D1: Forward | E1: Reverse | F1: Correct | G1: Incorrect | H1: Total | I1: Global FDR | J1: q-value | K1: Fit Unused ProtScore Threshold | L1: Fit Confidence Threshold | M1: Fit Forward | N1: Fit Reverse | O1: Fit Correct | P1: Fit Incorrect | Q1: Fit Total | R1: Fit Global FDR | S1: Fit Local FDR
B2: 109.22 | C2: 1 | D2: 1 | E2: 0 | F2: 1 | G2: 0 | H2: 1 | I2: 0 | J2: 0 | K2: 109.22 | L2: 1 | M2: 0.999968 | N2: 3.24329e-05 | O2: 0.999935 | P2: 6.48658e-05 | Q2: 1 | R2: 6.48658e-05 | S2: 6.48704e-05
B3: 82.65 | C3: 1 | D3: 2 | E3: 0 | F3: 2 | G3: 0 | H3: 2 | I3: 0 | J3: 0 | K3: 82.65 | L3: 1 | M3: 1.99994 | N3: 6.48715e-05 | O3: 1.99987 | P3: 0.000129743 | Q3: 2 | R3: 6.48715e-05 | S3: 6.48765e-05
B4: 68.02 | C4: 1 | D4: 3 | E4: 0 | F4: 3 | G4: 0 | H4: 3 | I4: 0 | J4: 0 | K4: 68.02 | L4: 1 | M4: 2.9999 | N4: 9.73214e-05 | O4: 2.99981 | P4: 0.000194643 | Q4: 3 | R4: 6.48809e-05 | S4: 6.48994e-05
B5: 56.48 | C5: 1 | D5: 4 | E5: 0 | F5: 4 | G5: 0 | H5: 4 | I5: 0 | J5: 0 | K5: 56.48 | L5: 1 | M5: 3.99987 | N5: 0.000129787 | O5: 3.99974 | P5: 0.000259574 | Q5: 4 | R5: 6.48934e-05 | S5: 6.49308e-05
B6: 47.2 | C6: 1 | D6: 5 | E6: 0 | F6: 5 | G6: 0 | H6: 5 | I6: 0 | J6: 0 | K6: 47.2 | L6: 1 | M6: 4.99984 | N6: 0.000162268 | O6: 4.99968 | P6: 0.000324536 | Q6: 5 | R6: 6.49072e-05 | S6: 6.49627e-05
B7: 44.39 | C7: 1 | D7: 6 | E7: 0 | F7: 6 | G7: 0 | H7: 6 | I7: 0 | J7: 0 | K7: 44.39 | L7: 1 | M7: 5.99981 | N7: 0.000194764 | O7: 5.99961 | P7: 0.000389529 | Q7: 6 | R7: 6.49215e-05 | S7: 6.49928e-05
B8: 44.23 | C8: 1 | D8: 7 | E8: 0 | F8: 7 | G8: 0 | H8: 7 | I8: 0 | J8: 0 | K8: 44.23 | L8: 1 | M8: 6.99977 | N8: 0.000227275 | O8: 6.99955 | P8: 0.00045455 | Q8: 7 | R8: 6.49357e-05 | S8: 6.50209e-05
B9: 41.48 | C9: 1 | D9: 8 | E9: 0 | F9: 8 | G9: 0 | H9: 8 | I9: 0 | J9: 0 | K9: 41.48 | L9: 1 | M9: 7.99974 | N9: 0.000259799 | O9: 7.99948 | P9: 0.000519597 | Q9: 8 | R9: 6.49497e-05 | S9: 6.50476e-05
B10: 39.96 | C10: 1 | D10: 9 | E10: 0 | F10: 9 | G10: 0 | H10: 9 | I10: 0 | J10: 0 | K10: 39.96 | L10: 1 | M10: 8.99971 | N10: 0.000292335 | O10: 8.99942 | P10: 0.000584671 | Q10: 9 | R10: 6.49634e-05 | S10: 6.50735e-05
B11: 34.57 | C11: 1 | D11: 10 | E11: 0 | F11: 10 | G11: 0 | H11: 10 | I11: 0 | J11: 0 | K11: 34.57 | L11: 1 | M11: 9.99968 | N11: 0.000324885 | O11: 9.99935 | P11: 0.00064977 | Q11: 10 | R11: 6.4977e-05 | S11: 6.5099e-05
B12: 34.32 | C12: 1 | D12: 11 | E12: 0 | F12: 11 | G12: 0 | H12: 11 | I12: 0 | J12: 0 | K12: 34.32 | L12: 1 | M12: 10.9996 | N12: 0.000357447 | O12: 10.9993 | P12: 0.000714894 | Q12: 11 | R12: 6.49904e-05 | S12: 6.51244e-05
B13: 31.39 | C13: 1 | D13: 12 | E13: 0 | F13: 12 | G13: 0 | H13: 12 | I13: 0 | J13: 0 | K13: 31.39 | L13: 1 | M13: 11.9996 | N13: 0.000390022 | O13: 11.9992 | P13: 0.000780044 | Q13: 12 | R13: 6.50037e-05 | S13: 6.51501e-05
... B224: 0.05 | C224: 0.108749 | D224: 297 | E224: 40 | F224: 257 | G224: 80 | H224: 337 | I224: 0.237389 | J224: 0.237389 | K224: 0.55 | L224: 0.718162 | M224: 219.51 | N224: 3.48961 | O224: 216.021 | P224: 6.97921 | Q224: 223 | R224: 0.0312969 | S224: 0.355294
K225: 0.55 | L225: 0.718162 | M225: 220.33 | N225: 3.67034 | O225: 216.659 | P225: 7.34068 | Q225: 224 | R225: 0.0327709 | S225: 0.355294
K226: 0.54 | L226: 0.711597 | M226: 221.143 | N226: 3.85723 | O226: 217.286 | P226: 7.71446 | Q226: 225 | R226: 0.0342865 | S226: 0.373781
K227: 0.52 | L227: 0.698005 | M227: 221.95 | N227: 4.05024 | O227: 217.9 | P227: 8.10048 | Q227: 226 | R227: 0.0358428 | S227: 0.386022
K228: 0.47 | L228: 0.661156 | M228: 222.751 | N228: 4.24931 | O228: 218.501 | P228: 8.49863 | Q228: 227 | R228: 0.0374389 | S228: 0.39816
K229: 0.46 | L229: 0.653263 | M229: 223.546 | N229: 4.45439 | O229: 219.091 | P229: 8.90879 | Q229: 228 | R229: 0.0390736 | S229: 0.410165
K230: 0.44 | L230: 0.636922 | M230: 224.335 | N230: 4.66539 | O230: 219.669 | P230: 9.33079 | Q230: 229 | R230: 0.0407458 | S230: 0.42201
K231: 0.43 | L231: 0.628465 | M231: 225.118 | N231: 4.88222 | O231: 220.236 | P231: 9.76445 | Q231: 230 | R231: 0.0424541 | S231: 0.433668
K232: 0.41 | L232: 0.610955 | M232: 225.895 | N232: 5.10478 | O232: 220.79 | P232: 10.2096 | Q232: 231 | R232: 0.0441972 | S232: 0.445115
K233: 0.4 | L233: 0.601893 | M233: 226.667 | N233: 5.33293 | O233: 221.334 | P233: 10.6659 | Q233: 232 | R233: 0.0459736 | S233: 0.456327
K234: 0.39 | L234: 0.59262 | M234: 227.433 | N234: 5.56657 | O234: 221.867 | P234: 11.1331 | Q234: 233 | R234: 0.0477817 | S234: 0.47266
K235: 0.39 | L235: 0.59262 | M235: 228.194 | N235: 5.80555 | O235: 222.389 | P235: 11.6111 | Q235: 234 | R235: 0.0496201 | S235: 0.47266
K236: 0.37 | L236: 0.57342 | M236: 228.95 | N236: 6.04972 | O236: 222.901 | P236: 12.0994 | Q236: 235 | R236: 0.051487 | S236: 0.493443
... K338: 0.05 | L338: 0.108749 | M338: 297.346 | N338: 39.6536 | O338: 257.693 | P338: 79.3072 | Q338: 337 | R338: 0.235333 | S338: 0.690407

Sheet Distinct Peptide Level Data
A1: Distinct Peptide Level Data | C1: Confidence Threshold | D1: Forward | E1: Reverse | F1: Correct | G1: Incorrect | H1: Total | I1: Global FDR | J1: q-value | L1: Fit Confidence Threshold | M1: Fit Forward | N1: Fit Reverse | O1: Fit Correct | P1: Fit Incorrect | Q1: Fit Total | R1: Fit Global FDR | S1: Fit Local FDR
C2: 1 | D2: 392 | E2: 0 | F2: 392 | G2: 0 | H2: 392 | I2: 0 | J2: 0 | L2: 1 | M2: 1 | N2: 4.8482e-07 | O2: 0.999999 | P2: 9.6964e-07 | Q2: 1 | R2: 9.6964e-07 | S2: 9.70151e-07
C3: 0.9999 | D3: 467 | E3: 0 | F3: 467 | G3: 0 | H3: 467 | I3: 0 | J3: 0 | L3: 1 | M3: 2 | N3: 9.69641e-07 | O3: 2 | P3: 1.93928e-06 | Q3: 2 | R3: 9.69641e-07 | S3: 9.70151e-07
C4: 0.9998 | D4: 482 | E4: 0 | F4: 482 | G4: 0 | H4: 482 | I4: 0 | J4: 0 | L4: 1 | M4: 3 | N4: 1.45446e-06 | O4: 3 | P4: 2.90893e-06 | Q4: 3 | R4: 9.69642e-07 | S4: 9.70151e-07
C5: 0.9997 | D5: 490 | E5: 0 | F5: 490 | G5: 0 | H5: 490 | I5: 0 | J5: 0 | L5: 1 | M5: 4 | N5: 1.93929e-06 | O5: 4 | P5: 3.87857e-06 | Q5: 4 | R5: 9.69644e-07 | S5: 9.70151e-07
C6: 0.9996 | D6: 551 | E6: 0 | F6: 551 | G6: 0 | H6: 551 | I6: 0 | J6: 0 | L6: 1 | M6: 5 | N6: 2.42411e-06 | O6: 5 | P6: 4.84822e-06 | Q6: 5 | R6: 9.69645e-07 | S6: 9.70151e-07
C7: 0.9995 | D7: 558 | E7: 0 | F7: 558 | G7: 0 | H7: 558 | I7: 0 | J7: 0 | L7: 1 | M7: 6 | N7: 2.90894e-06 | O7: 5.99999 | P7: 5.81788e-06 | Q7: 6 | R7: 9.69646e-07 | S7: 9.70151e-07
C8: 0.9994 | D8: 593 | E8: 0 | F8: 593 | G8: 0 | H8: 593 | I8: 0 | J8: 0 | L8: 1 | M8: 7 | N8: 3.39377e-06 | O8: 6.99999 | P8: 6.78753e-06 | Q8: 7 | R8: 9.69647e-07 | S8: 9.70151e-07
C9: 0.9993 | D9: 609 | E9: 0 | F9: 609 | G9: 0 | H9: 609 | I9: 0 | J9: 0 | L9: 1 | M9: 8 | N9: 3.87859e-06 | O9: 7.99999 | P9: 7.75719e-06 | Q9: 8 | R9: 9.69649e-07 | S9: 9.70151e-07
C10: 0.9992 | D10: 621 | E10: 0 | F10: 621 | G10: 0 | H10: 621 | I10: 0 | J10: 0 | L10: 1 | M10: 9 | N10: 4.36343e-06 | O10: 8.99999 | P10: 8.72685e-06 | Q10: 9 | R10: 9.6965e-07 | S10: 9.70151e-07
C11: 0.9991 | D11: 625 | E11: 0 | F11: 625 | G11: 0 | H11: 625 | I11: 0 | J11: 0 | L11: 1 | M11: 10 | N11: 4.84826e-06 | O11: 9.99999 | P11: 9.69651e-06 | Q11: 10 | R11: 9.69651e-07 | S11: 9.70151e-07
C12: 0.999 | D12: 637 | E12: 0 | F12: 637 | G12: 0 | H12: 637 | I12: 0 | J12: 0 | L12: 1 | M12: 11 | N12: 5.33309e-06 | O12: 11 | P12: 1.06662e-05 | Q12: 11 | R12: 9.69653e-07 | S12: 9.70151e-07
C13: 0.9989 | D13: 643 | E13: 0 | F13: 643 | G13: 0 | H13: 643 | I13: 0 | J13: 0 | L13: 1 | M13: 12 | N13: 5.81792e-06 | O13: 12 | P13: 1.16358e-05 | Q13: 12 | R13: 9.69654e-07 | S13: 9.70151e-07
... C1499: 0.002945 | D1499: 2291 | E1499: 407 | F1499: 1884 | G1499: 814 | H1499: 2698 | I1499: 0.301705 | J1499: 0.301705 | L1499: 0.8408 | M1499: 1477.61 | N1499: 20.3933 | O1499: 1457.21 | P1499: 40.7867 | Q1499: 1498 | R1499: 0.0272274 | S1499: 0.18396
L1500: 0.8367 | M1500: 1478.51 | N1500: 20.4857 | O1500: 1458.03 | P1500: 40.9714 | Q1500: 1499 | R1500: 0.0273325 | S1500: 0.184676
L1501: 0.8359 | M1501: 1479.42 | N1501: 20.5784 | O1501: 1458.84 | P1501: 41.1568 | Q1501: 1500 | R1501: 0.0274378 | S1501: 0.185393
L1502: 0.8342 | M1502: 1480.33 | N1502: 20.6714 | O1502: 1459.66 | P1502: 41.3429 | Q1502: 1501 | R1502: 0.0275436 | S1502: 0.186113
L1503: 0.8327 | M1503: 1481.24 | N1503: 20.7649 | O1503: 1460.47 | P1503: 41.5297 | Q1503: 1502 | R1503: 0.0276496 | S1503: 0.186835
L1504: 0.8323 | M1504: 1482.14 | N1504: 20.8586 | O1504: 1461.28 | P1504: 41.7173 | Q1504: 1503 | R1504: 0.027756 | S1504: 0.187921
L1505: 0.8323 | M1505: 1483.05 | N1505: 20.9528 | O1505: 1462.09 | P1505: 41.9055 | Q1505: 1504 | R1505: 0.0278627 | S1505: 0.187921
L1506: 0.8321 | M1506: 1483.95 | N1506: 21.0473 | O1506: 1462.91 | P1506: 42.0946 | Q1506: 1505 | R1506: 0.0279698 | S1506: 0.189011
L1507: 0.8309 | M1507: 1484.86 | N1507: 21.1421 | O1507: 1463.72 | P1507: 42.2843 | Q1507: 1506 | R1507: 0.0280772 | S1507: 0.189741
L1508: 0.8308 | M1508: 1485.76 | N1508: 21.2374 | O1508: 1464.53 | P1508: 42.4748 | Q1508: 1507 | R1508: 0.028185 | S1508: 0.190472
L1509: 0.8305 | M1509: 1486.67 | N1509: 21.333 | O1509: 1465.33 | P1509: 42.666 | Q1509: 1508 | R1509: 0.0282931 | S1509: 0.191205
L1510: 0.8294 | M1510: 1487.57 | N1510: 21.429 | O1510: 1466.14 | P1510: 42.8579 | Q1510: 1509 | R1510: 0.0284015 | S1510: 0.191941
L1511: 0.8274 | M1511: 1488.47 | N1511: 21.5253 | O1511: 1466.95 | P1511: 43.0506 | Q1511: 1510 | R1511: 0.0285103 | S1511: 0.193047
... L2699: 0.002945 | M2699: 2281.03 | N2699: 416.973 | O2699: 1864.05 | P2699: 833.945 | Q2699: 2698 | R2699: 0.309098 | S2699: 1

Sheet Spectral Level Data
A1: Spectral Level Data | C1: Confidence Threshold | D1: Forward | E1: Reverse | F1: Correct | G1: Incorrect | H1: Total | I1: Global FDR | J1: q-value | L1: Fit Confidence Threshold | M1: Fit Forward | N1: Fit Reverse | O1: Fit Correct | P1: Fit Incorrect | Q1: Fit Total | R1: Fit Global FDR | S1: Fit Local FDR
C2: 1 | D2: 1085 | E2: 0 | F2: 1085 | G2: 0 | H2: 1085 | I2: 0 | J2: 0 | L2: 1 | M2: 1 | N2: 4.23909e-08 | O2: 1 | P2: 8.47819e-08 | Q2: 1 | R2: 8.47819e-08 | S2: 8.4792e-08
C3: 0.9999 | D3: 1373 | E3: 0 | F3: 1373 | G3: 0 | H3: 1373 | I3: 0 | J3: 0 | L3: 1 | M3: 2 | N3: 8.47819e-08 | O3: 2 | P3: 1.69564e-07 | Q3: 2 | R3: 8.47819e-08 | S3: 8.4792e-08
C4: 0.9998 | D4: 1400 | E4: 0 | F4: 1400 | G4: 0 | H4: 1400 | I4: 0 | J4: 0 | L4: 1 | M4: 3 | N4: 1.27173e-07 | O4: 3 | P4: 2.54346e-07 | Q4: 3 | R4: 8.47819e-08 | S4: 8.4792e-08
C5: 0.9997 | D5: 1423 | E5: 0 | F5: 1423 | G5: 0 | H5: 1423 | I5: 0 | J5: 0 | L5: 1 | M5: 4 | N5: 1.69564e-07 | O5: 4 | P5: 3.39127e-07 | Q5: 4 | R5: 8.47819e-08 | S5: 8.4792e-08
C6: 0.9996 | D6: 1625 | E6: 0 | F6: 1625 | G6: 0 | H6: 1625 | I6: 0 | J6: 0 | L6: 1 | M6: 5 | N6: 2.11955e-07 | O6: 5 | P6: 4.23909e-07 | Q6: 5 | R6: 8.47819e-08 | S6: 8.4792e-08
C7: 0.9995 | D7: 1636 | E7: 0 | F7: 1636 | G7: 0 | H7: 1636 | I7: 0 | J7: 0 | L7: 1 | M7: 6 | N7: 2.54346e-07 | O7: 6 | P7: 5.08691e-07 | Q7: 6 | R7: 8.47819e-08 | S7: 8.4792e-08
C8: 0.9994 | D8: 1771 | E8: 0 | F8: 1771 | G8: 0 | H8: 1771 | I8: 0 | J8: 0 | L8: 1 | M8: 7 | N8: 2.96737e-07 | O8: 7 | P8: 5.93473e-07 | Q8: 7 | R8: 8.47819e-08 | S8: 8.4792e-08
C9: 0.9993 | D9: 1821 | E9: 0 | F9: 1821 | G9: 0 | H9: 1821 | I9: 0 | J9: 0 | L9: 1 | M9: 8 | N9: 3.39128e-07 | O9: 8 | P9: 6.78255e-07 | Q9: 8 | R9: 8.47819e-08 | S9: 8.4792e-08
C10: 0.9992 | D10: 1869 | E10: 0 | F10: 1869 | G10: 0 | H10: 1869 | I10: 0 | J10: 0 | L10: 1 | M10: 9 | N10: 3.81519e-07 | O10: 9 | P10: 7.63037e-07 | Q10: 9 | R10: 8.47819e-08 | S10: 8.4792e-08
C11: 0.9991 | D11: 1896 | E11: 0 | F11: 1896 | G11: 0 | H11: 1896 | I11: 0 | J11: 0 | L11: 1 | M11: 10 | N11: 4.2391e-07 | O11: 10 | P11: 8.47819e-07 | Q11: 10 | R11: 8.47819e-08 | S11: 8.4792e-08
C12: 0.999 | D12: 1923 | E12: 0 | F12: 1923 | G12: 0 | H12: 1923 | I12: 0 | J12: 0 | L12: 1 | M12: 11 | N12: 4.66301e-07 | O12: 11 | P12: 9.32601e-07 | Q12: 11 | R12: 8.47819e-08 | S12: 8.4792e-08
C13: 0.9989 | D13: 1934 | E13: 0 | F13: 1934 | G13: 0 | H13: 1934 | I13: 0 | J13: 0 | L13: 1 | M13: 12 | N13: 5.08692e-07 | O13: 12 | P13: 1.01738e-06 | Q13: 12 | R13: 8.47819e-08 | S13: 8.4792e-08
... C2852: 0.0006699 | D2852: 6717 | E2852: 664 | F2852: 6053 | G2852: 1328 | H2852: 7381 | I2852: 0.179921 | J2852: 0.179921 | L2852: 0.9933 | M2852: 2849.44 | N2852: 1.56292 | O2852: 2847.87 | P2852: 3.12584 | Q2852: 2851 | R2852: 0.0010964 | S2852: 0.00896677
L2853: 0.9933 | M2853: 2850.43 | N2853: 1.56741 | O2853: 2848.87 | P2853: 3.13483 | Q2853: 2852 | R2853: 0.00109917 | S2853: 0.00896677
L2854: 0.9933 | M2854: 2851.43 | N2854: 1.57192 | O2854: 2849.86 | P2854: 3.14383 | Q2854: 2853 | R2854: 0.00110194 | S2854: 0.00896677
L2855: 0.9933 | M2855: 2852.42 | N2855: 1.57643 | O2855: 2850.85 | P2855: 3.15286 | Q2855: 2854 | R2855: 0.00110472 | S2855: 0.00896677
L2856: 0.9933 | M2856: 2853.42 | N2856: 1.58095 | O2856: 2851.84 | P2856: 3.16191 | Q2856: 2855 | R2856: 0.0011075 | S2856: 0.00896677
L2857: 0.9932 | M2857: 2854.41 | N2857: 1.58549 | O2857: 2852.83 | P2857: 3.17098 | Q2857: 2856 | R2857: 0.00111029 | S2857: 0.00912798
L2858: 0.9932 | M2858: 2855.41 | N2858: 1.59003 | O2858: 2853.82 | P2858: 3.18006 | Q2858: 2857 | R2858: 0.00111308 | S2858: 0.00912798
L2859: 0.9932 | M2859: 2856.41 | N2859: 1.59459 | O2859: 2854.81 | P2859: 3.18917 | Q2859: 2858 | R2859: 0.00111588 | S2859: 0.00912798
L2860: 0.9932 | M2860: 2857.4 | N2860: 1.59915 | O2860: 2855.8 | P2860: 3.1983 | Q2860: 2859 | R2860: 0.00111868 | S2860: 0.00912798
L2861: 0.9932 | M2861: 2858.4 | N2861: 1.60372 | O2861: 2856.79 | P2861: 3.20745 | Q2861: 2860 | R2861: 0.00112149 | S2861: 0.00912798
L2862: 0.9932 | M2862: 2859.39 | N2862: 1.60831 | O2862: 2857.78 | P2862: 3.21662 | Q2862: 2861 | R2862: 0.0011243 | S2862: 0.00912798
L2863: 0.9932 | M2863: 2860.39 | N2863: 1.6129 | O2863: 2858.77 | P2863: 3.22581 | Q2863: 2862 | R2863: 0.00112712 | S2863: 0.00912798
L2864: 0.9931 | M2864: 2861.38 | N2864: 1.61751 | O2864: 2859.76 | P2864: 3.23501 | Q2864: 2863 | R2864: 0.00112994 | S2864: 0.00930143
... L7382: 0.0006699 | M7382: 6713.63 | N7382: 667.368 | O7382: 6046.26 | P7382: 1334.74 | Q7382: 7381 | R7382: 0.180834 | S7382: 0.846793

Sheet Single Results Table
B1: Single Table Summary of All Results
B3: Data Level | C3: FDR Type | D3: FDR | E3: ID Yield | H3: Template Version
A4: Identification Yield at FDR Threshold | B4: Protein | C4: Local | D4: 0.01 | E4: =IFERROR('Protein FDR Summary'!C$6,"") -> 167
B5: Protein | D5: 0.05 | E5: =IFERROR('Protein FDR Summary'!C$7,"") -> 187 | H5: 2.01
B6: Protein | D6: 0.1 | E6: =IFERROR('Protein FDR Summary'!C$8,"") -> 197
B7: Protein | C7: Global | D7: 0.01 | E7: =IFERROR('Protein FDR Summary'!E$6,"") -> 201
B8: Protein | D8: 0.05 | E8: =IFERROR('Protein FDR Summary'!E$7,"") -> 234
B9: Protein | D9: 0.1 | E9: =IFERROR('Protein FDR Summary'!E$8,"") -> 258
B10: Distinct peptide | C10: Local | D10: 0.01 | E10: =IFERROR(#REF!,"")
B11: Distinct peptide | D11: 0.05 | E11: =IFERROR(#REF!,"")
B12: Distinct peptide | D12: 0.1 | E12: =IFERROR(#REF!,"")
B13: Distinct peptide | C13: Global | D13: 0.01 | E13: =IFERROR(#REF!,"")
B14: Distinct peptide | D14: 0.05 | E14: =IFERROR(#REF!,"")
B15: Distinct peptide | D15: 0.1 | E15: =IFERROR(#REF!,"")
B16: Spectral | C16: Local | D16: 0.01 | E16: =IFERROR(#REF!,"")
B17: Spectral | D17: 0.05 | E17: =IFERROR(#REF!,"")
B18: Spectral | D18: 0.1 | E18: =IFERROR(#REF!,"")
B19: Spectral | C19: Global | D19: 0.01 | E19: =IFERROR(#REF!,"")
B20: Spectral | D20: 0.05 | E20: =IFERROR(#REF!,"")
B21: Spectral | D21: 0.1 | E21: =IFERROR(#REF!,"")
A23: Corresponding Confidence in ProteinPilot™ Software | B23: Protein | C23: Local | D23: 0.01 | E23: =IFERROR('Protein FDR Summary'!R$6,"") -> 0.99
B24: Protein | D24: 0.05 | E24: =IFERROR('Protein FDR Summary'!R$7,"") -> 0.93690427
B25: Protein | D25: 0.1 | E25: =IFERROR('Protein FDR Summary'!R$8,"") -> 0.89528715
B26: Protein | C26: Global | D26: 0.01 | E26: =IFERROR('Protein FDR Summary'!T$6,"") -> 0.86196157
B27: Protein | D27: 0.05 | E27: =IFERROR('Protein FDR Summary'!T$7,"") -> 0.59261972
B28: Protein | D28: 0.1 | E28: =IFERROR('Protein FDR Summary'!T$8,"") -> 0.33930655
B29: Distinct peptide | C29: Local | D29: 0.01 | E29: =IFERROR(#REF!,"")
B30: Distinct peptide | D30: 0.05 | E30: =IFERROR(#REF!,"")
B31: Distinct peptide | D31: 0.1 | E31: =IFERROR(#REF!,"")
B32: Distinct peptide | C32: Global | D32: 0.01 | E32: =IFERROR(#REF!,"")
B33: Distinct peptide | D33: 0.05 | E33: =IFERROR(#REF!,"")
B34: Distinct peptide | D34: 0.1 | E34: =IFERROR(#REF!,"")
B35: Spectral | C35: Local | D35: 0.01 | E35: =IFERROR(#REF!,"")
B36: Spectral | D36: 0.05 | E36: =IFERROR(#REF!,"")
B37: Spectral | D37: 0.1 | E37: =IFERROR(#REF!,"")
B38: Spectral | C38: Global | D38: 0.01 | E38: =IFERROR(#REF!,"")
B39: Spectral | D39: 0.05 | E39: =IFERROR(#REF!,"")
B40: Spectral | D40: 0.1 | E40: =IFERROR(#REF!,"")

Sheet Protein FDR Summary
B1: Protein-Level FDR Analysis
B3: Proteins Identified at Critical False Discovery Rates | Q3: Correspondence between FDR Levels and ProteinPilot Reported Confidences
C4: Number of Proteins Detected | R4: Corresponding ProteinPilot Confidence
B5: Critical FDR | C5: Local FDR | D5: Global FDR | E5: Global FDR from Fit | Q5: Critical FDR | R5: Local FDR | S5: Global FDR | T5: Global FDR from Fit
B6: =IF('Protein Level Data'!ProteinFDR_Data_Present=1,0.01,NA()) -> 0.01 | C6: {=IFERROR(MAX(IF('Protein Level Data'!Fit_LocalFDR<=B6,'Protein Level Data'!Fit_Total,"")),"")} -> 167 | D6: {=IFERROR(MAX(IF('Protein Level Data'!qval<=B6,'Protein Level Data'!Obs_Total,"")),"")} -> 200 | E6: {=IFERROR(MAX(IF('Protein Level Data'!Fit_GlobalFDR<=B6,'Protein Level Data'!Fit_Total,"")),"")} -> 201 | Q6: 0.01 | R6: =IF(R12<>"",1-10^(-R12),"") -> 0.99 | S6: =IF(S12<>"",1-10^(-S12),"") -> 0.87977356 | T6: =IF(T12<>"",1-10^(-T12),"") -> 0.86196157
B7: =IF('Protein Level Data'!ProteinFDR_Data_Present=1,0.05,NA()) -> 0.05 | C7: {=IFERROR(MAX(IF('Protein Level Data'!Fit_LocalFDR<=B7,'Protein Level Data'!Fit_Total,"")),"")} -> 187 | D7: {=IFERROR(MAX(IF('Protein Level Data'!qval<=B7,'Protein Level Data'!Obs_Total,"")),"")} -> 232 | E7: {=IFERROR(MAX(IF('Protein Level Data'!Fit_GlobalFDR<=B7,'Protein Level Data'!Fit_Total,"")),"")} -> 234 | Q7: 0.05 | R7: =IF(R13<>"",1-10^(-R13),"") -> 0.93690427 | S7: =IF(S13<>"",1-10^(-S13),"") -> 0.60189283 | T7: =IF(T13<>"",1-10^(-T13),"") -> 0.59261972
B8: =IF('Protein Level Data'!ProteinFDR_Data_Present=1,0.1,NA()) -> 0.1 | C8: {=IFERROR(MAX(IF('Protein Level Data'!Fit_LocalFDR<=B8,'Protein Level Data'!Fit_Total,"")),"")} -> 197 | D8: =IFERROR(MAX(IF('Protein Level Data'!qval<=B8,'Protein Level Data'!Obs_Total,"")),"") -> 268 | E8: {=IFERROR(MAX(IF('Protein Level Data'!Fit_GlobalFDR<=B8,'Protein Level Data'!Fit_Total,"")),"")} -> 258 | Q8: 0.1 | R8: =IF(R14<>"",1-10^(-R14),"") -> 0.89528715 | S8: =IF(S14<>"",1-10^(-S14),"") -> 0.383405 | T8: =IF(T14<>"",1-10^(-T14),"") -> 0.33930655
B10: * It is recommended you use numbers in bold and avoid using numbers in italics. | R10: Corresponding Unused ProtScore
Q11: Critical FDR | R11: Local FDR | S11: Global FDR | T11: Global FDR from Fit
Q12: 0.01 | R12: =IFERROR(IF(ISNUMBER(C6),LOOKUP(Q6,'Protein Level Data'!Fit_LocalFDR,'Protein Level Data'!Fit_Unused_ProtScore_Threshold),""),"") -> 2 | S12: =IFERROR(IF(ISNUMBER(D6),LOOKUP(Q6,'Protein Level Data'!qval,'Protein Level Data'!Unused_ProtScore_Threshold),""),"") -> 0.92 | T12: =IFERROR(IF(ISNUMBER(E6),LOOKUP(Q6,'Protein Level Data'!Fit_GlobalFDR,'Protein Level Data'!Fit_Unused_ProtScore_Threshold),""),"") -> 0.86
Q13: 0.05 | R13: =IFERROR(IF(ISNUMBER(C7),LOOKUP(Q7,'Protein Level Data'!Fit_LocalFDR,'Protein Level Data'!Fit_Unused_ProtScore_Threshold),""),"") -> 1.2 | S13: =IFERROR(IF(ISNUMBER(D7),LOOKUP(Q7,'Protein Level Data'!qval,'Protein Level Data'!Unused_ProtScore_Threshold),""),"") -> 0.4 | T13: =IFERROR(IF(ISNUMBER(E7),LOOKUP(Q7,'Protein Level Data'!Fit_GlobalFDR,'Protein Level Data'!Fit_Unused_ProtScore_Threshold),""),"") -> 0.39
Q14: 0.1 | R14: =IFERROR(IF(ISNUMBER(C8),LOOKUP(Q8,'Protein Level Data'!Fit_LocalFDR,'Protein Level Data'!Fit_Unused_ProtScore_Threshold),""),"") -> 0.98 | S14: =IFERROR(IF(ISNUMBER(D8),LOOKUP(Q8,'Protein Level Data'!qval,'Protein Level Data'!Unused_ProtScore_Threshold),""),"") -> 0.21 | T14: =IFERROR(IF(ISNUMBER(E8),LOOKUP(Q8,'Protein Level Data'!Fit_GlobalFDR,'Protein Level Data'!Fit_Unused_ProtScore_Threshold),""),"") -> 0.18

Sheet PDST Controls
A1: PDST Parameters and Controls
C2: MASTER SWITCH TO TURN OFF PDST PART | D2: On | E2: (Set to 'On' for on, anything else for off)
B4: Template Thresholds | C4: Thresholds Applied Based on FDR Analysis
C5: Number of Proteins to Include in Protein List: | D5: =IFERROR(IF(D2="On",IF(ISNUMBER(#REF!),#REF!,IF(ISNUMBER('Protein FDR Summary'!D6),'Protein FDR Summary'!D6,IF(ISNUMBER('Protein FDR Summary'!C7),'Protein FDR Summary'!C7,""))),""),"") -> 200 | E5: (set to 1% global FDR because that's what most people use. If not value, then goes to global FDR not from fit, then goes to 5% local, then error)
C6: Minimum Percent Peptide Confidence: | D6: =IFERROR(IF(AND(D2="On",ISNUMBER(#REF!)),#REF!*100,IF(ISNUMBER(#REF!),#REF!*100,"")),"") | E6: (set to 5% local FDR because it corresponds to 95% confidence in IDs. If this isn't a value then goes to 1% global, then error.)
B8: Data Dimensions
C9: Number of MS/MS spectra | D9: =#REF! -> #REF!
C10: Number of file in search | D10: =#REF! -> #REF!
B12: Adjustable Settings | C12: Calculation Scale Controls
C13: Max rows considered in Peptide Export for Pep Quant Metrics | D13: 120000
C14: Max number of distinct peptides that can be analyzed | D14: 100000 | E14: (limit is 500k rows in distinct peptide export, 200k distinct peptides, but only 100k for table and analysis.
B16: Fixed Limits | C16: Calculation Scale Limits
C17: Max number of protein N analyzed | D17: 10000
C18: Max number of rows in protein export analyzed | D18: 30000
B20: Other Controls | C20: Quant treatment
C21: Limit fold change to x-fold (set very high for no limit) | D21: 100
B24: Quant Re-calculation in PDST | C24: General Quant Recalculation Controls
C25: Use filtering | D25: No
C26: Compute peptide deviation from protein if n pep ≥ | D26: 3
C27: Define peptide 'Used' as average fraction spectra used ≥ | D27: 0.2
C28: Weighting method | D28: 1/e
C30: Peptide-Level Filters
C31: Canonical Status | D31: No Filter
C32: Pilot Used Status | D32: Used Only
C33: Max in Seq Family | D33: No Filter
C34: Min Fract Seq Fam Signal | D34: 0
C36: Individual Ratio-Level Filters
C37: Filter Singleton Ratios | D37: Yes
C38: Max Peptide Percent Error | D38: 50

Sheet Protein Summary
A1: Unused | B1: Entry | C1: Entry name | D1: Name
A2: 0.92 | B2: P01034 | C2: CYTC_HUMAN | D2: Cystatin-C
A3: 0.93 | B3: P09210 | C3: GSTA2_HUMAN | D3: Glutathione S-transferase A2
A4: 0.93 | B4: P62826 | C4: RAN_HUMAN | D4: GTP-binding nuclear protein Ran
A5: 0.98 | B5: P47897 | C5: SYQ_HUMAN | D5: Glutamine--tRNA ligase
A6: 0.99 | B6: P24752 | C6: THIL_HUMAN | D6: Acetyl-CoA acetyltransferase, mitochondrial
A7: 1 | B7: P0DOX8 | C7: IGL1_HUMAN | D7: Immunoglobulin lambda-1 light chain
A8: 1 | B8: P01615 | C8: KVD28_HUMAN | D8: Immunoglobulin kappa variable 2D-28
A9: 1.05 | B9: P23368 | C9: MAOM_HUMAN | D9: NAD-dependent malic enzyme, mitochondrial
A10: 1.07 | B10: P01619 | C10: KV320_HUMAN | D10: Immunoglobulin kappa variable 3-20
A11: 1.07 | B11: P00450 | C11: CERU_HUMAN | D11: Ceruloplasmin
A12: 1.08 | B12: P53396 | C12: ACLY_HUMAN | D12: ATP-citrate synthase
A13: 1.13 | B13: Q08211 | C13: DHX9_HUMAN | D13: ATP-dependent RNA helicase A
... A200: 109.22 | B200: P02768 | C200: ALBU_HUMAN | D200: Albumin
