Workbook

Sheet Instructions

Sheet BasicExtraction
A1: ID | B1: Coder | C1: FirstAuthor | D1: Year | E1: Title | F1: Journal | G1: Language | H1: References | I1: Study Design | J1: JBITool | K1: FundingSource | L1: Setting | M1: Participants | N1: Country | O1: TheoreticalApproach | P1: AnalyticalApproach | Q1: PrimaryOutcomes | R1: SecondaryOutcomes | S1: Results | T1: Notes
A2: 001 | B2: MKS | C2: Babatunde | D2: 2018 | E2: Evidence flowers: An innovative, visual method of presenting "best evidence" summaries to health professional and lay audiences | F2: Research Synthesis Methods | G2: English | H2: 39 | I2: Qualitative interviews and questionnaires | J2: JBIQual | K2: Centre of Excellence grant from the Arthritis Research UK and the National Institute for Health Research (NIHR) under its Programme Grants for Applied Research scheme. Part funded by NIHR Collaborations for Leadership in Applied Health Research and Care West Midlands | L2: 3? stakeholder workshops related to ENHANCE trial 1 stakeholder workshop related to Stratification and Targeted Treatment of Musculoskeletal conditions STarT MSK (Also random feedback from 2 people engaged with NIC) | M2: 21 clinicians (11), researchers (5), epidemiologists (3), health service/trial managers (2) in text it said 'Policy decision makers, commissioners, health service managers, and patient representatives' | N2: England (Keele University) | O2: None described | P2: None described | Q2: Accessibility, acceptability, and engagement; - recognition and understanding of key messages presented in the evidence flowers, ease of access to and perceived value of the evidence flowers, and preferred summary formats | R2: - | S2: Evidence flowers were perceived by most participants in the stakeholder workshops to have helped in stimulating discussions around the body of evidence. Engagement and accessibility barriers related to the speed of use, recall and retention of information contained in systematic review and clinical guidelines were considered, at least partly, overcome with the use of evidence flowers. Based on the cases presented in this paper, 5-6 petals appear to be the optimal number of petals feasible for printed versions of the evidence flowers. Feedback has included issues such as “colours are too feminine”, and the intuitive association of lighter colours with low quality evidence versus darker colours with high quality evidence by users | T2: -
A3: 002 | B3: MKS | C3: Buljan | D3: 2018 | E3: No difference in knowledge obtained from infographic or plain language summary of a Cochrane systematic review: three randomized controlled trials | F3: Journal of Clinical Epidemiology | G3: English | H3: 29 | I3: Randomized controlled trial | J3: JBIQuant | K3: Croatian Science Foundation, grant no. IP-2014-09-7672 ‘‘Professionalism in Health Care’’ | L3: Online survey | M3: 3 groups of users University students (n = 171; not eligible) 99 Consumers (members of Association for the Promotion of Patients' Rights and the RODA Parents in Action consumer group for pregnancy and parenting) (45 infographic; 54 PLS) 64 Doctors (25 infographic, 18 PLS, 21 SA) | N3: Croatia | O3: None described | P3: Percentages (gender, awareness of Cochrane SRs, prior use of Cochrane library, primary source of health information, specialization, PhD degree, academic position Medians and IQR (age and health numercy); Median and 95 CI (knowledge, reading experince, user-friendliness scores) Aggregated Cronbach's alpha (scales measuring reading experience, user-friendliness and health numercy) Kruskal-Wallis nonparametric tests and post hoc Conover-Iman tests (group comparison) Logistic regression (to determine significant predictors for primary outcome; Participants were classified into ‘‘lower’’ or ‘‘higher’’ group in relation to the median value of each summary format group. Regression coefficient was expressed as Cox and Snell R^2.2 The covariates used as predictors were sample characteristics, including health numeracy, reading experience, and user friendliness scores. KruskaleWallis test and post hoc ConovereIman test (differences between groups across trials were tested using for infographic and PLS formats, and ManneWhitney test for SA. We also performed t-tests across the trials to compare the effects of infographic vs. PLS on the measures of knowledge, reading experience, and user-friendliness. Effect sizes were expressed as Cohen’s d [19]. | Q3: Understanding/knowledge of key messages of summary formats (retention). Asessed as a score on a test with 10 questions (maximum score 10). Questions were open-ended and focused on learning and remembering the benefits and risks of the intervention and the quality of evidence described in the systematic review. | R3: Reading experience and user-friendliness (assessed by 5-question surveys measured on a 10-point Likert type scale ranging from 1- do not agree at all to 10- fully agree with a maximum score of 50 for each scale) | S3: Group 2: Consumers -- No significant differences between the infographic and PLS groups in the knowledge test score (Table 2). Reading experience in the PLS group was lower than for the infographic 33.0 (28.0e36.0) 22.5 (19.0e27.4) <0.001 and user friendliness was higher in infographic group than PLS 30.0 (25.5e34.5) 21.0 (19.0e25.0) p<0.001. A significant predictor of the knowledge score was awareness about Cochrane systematic reviews (OR 5 5.33; 95% CI: 1.71e16.62), explaining 13.4% of the variance. Group 3: Doctors -- There were no significant differences among the three groups in the knowledge score (Table 2). However, the group that read the SA had significantly lower scores on the measures of reading experience and user-friendliness of the material (Table 2). None of the demographic characteristics or secondary outcomes significantly predicted the knowledge test score. | T3: -
A4: 003 | B4: MKS | C4: Buljan | D4: 2020 | E4: Comparison of blogshots with plain language summaries of Cochrane systematic reviews: a qualitative study and randomized trial | F4: Trials | G4: English | H4: 25 | I4: Focus groups (RCT not eligible) | J4: JBIQual | K4: Croatian Science Foundation | L4: In person groups in Split and Zagreb, Croatia. | M4: n = 20; 7 medical students, 4 doctors (emergency, dental, respiratory, pathology), 9 patients (members of NGO) (RCT: 238, 78 med students, 160 regular patients) | N4: Croatia | O4: None described | P4: Constant comparative approach | Q4: Health information seeking behavior, preference for and feedback on presentation format | R4: - | S4: Participants in the focus groups favored brief and explicit CSR summary formats with fewer numbers.' But results are not presented per relevant group (doctors and patient reps). Only doctor-specific information = 'doctors reported that they have too many patients on a daily basis and are therefore unable to give them enough attention in order to present them with more treatment options, advice on changing health habits, and/or explanations about evidence in health.' patient-specific info = 'patients wanted to find clear cut answers to health questions, which science can rarely provide, and they did not understand the concept of study quality.' Qual study: 5 common themes emerged - (1)Trust in the health information source, (2)prefer internet as primary source of health information and other source of information, (3) difficulty within layman in comprehending numbers and understanding uncertainties, (4) doctors and patients communication issues in giving best treatment, (5) recommendation to health information to be easily available, structures, consistent in presentation, explicit, brief, using plainlanguage and numbers presented in a table or/and visually. If visual information is needed, it should be limited to single table and/or image. | T4: -
A5: 004 | B5: MKS | C5: Busert | D5: 2018 | E5: Facilitating evidence uptake: Development and user testing of a systematic review summary format to inform public health decision-making in German-speaking countries | F5: Health Research Policy and Systems | G5: English | H5: 38 | I5: User tests using 'think aloud' method with semi-structured interview | J5: JBIQual | K5: Bavarian Health and Food Safety Authority; Lower Austria Health and Social Fund; Swiss School of Public Health | L5: Participant's workplaces in Germany, Austria, and Switerland | M5: 18 Public health decision-makers (at national, regional PH institutions) in Germany, Austria, and Switzerland (6 each) affiliated with different | N5: International (Germany, Austria, Switzerland) | O5: 1-3-25 strategy developed and used by the Canadian Health Services Research Foundation | P5: Manual coding deductive thematic analysis (based on framework for user experience by Morville and adapted by Rosenbaum) | Q5: Credibility, usability, understandibility, usefulness, desirability, findability, identification, and accessibility (Value initially included but dropped as it was covered by the other themes) | R5: Barriers | S5: Overall the format was well-received; particularly appreciated the key messages, the section ‘Relevance for public health practice’ and to have information readily available in their own language. Difficulties with understanding statistical terms and their wish for a less information-dense structure. more difficult to address, for example, the expressed need for recommendations and contextual information. Participants generally appreciated the inclusion of a SoF table and stated that the provision of GRADE ratingconveyed credibility to the information (but preferred graphics only, eg no 'moderate' rating) The summary format was well-received; participants particularly appreciated receiving information in their own language. They generally found the summary format useful and a credible source of information, but also signalled several barriers to a positive user experience such as an information-dense structure and difficulties with understanding statistical terms. Many of the identified challenges were addressed through modifications of the summary format, in particular by allowing for flexible length, placing more emphasis on key messages and relevance for public health practice, expanding the interpretation aid for statistical findings, providing a glossary of technical terms, and only including graphical GRADE ratings. Some barriers to uptake, notably the participants’ wish for actionable recommendations and contextual information, could not be addressed. | T5: -
A6: 005 | B6: MKS | C6: Carrasco-Labra | D6: 2016 | E6: Improving GRADE evidence tables part 1: a randomized trial shows improved understanding of content in summary of findings tables with a new format | F6: Journal of Clinical Epidemiology | G6: English | H6: 21 | I6: (Noninferiority) Randomized controlled trial | J6: JBIQuant | K6: The Cochrane Methods Innovation Fund and GRADE Center at McMaster University. | L6: Online survey | M6: 291 randomized (in flow diagram) 290 in text 284 completed entire survey 122 Health professionals working in primary, secondary, or tertiary care (50%+ time) 42 Clinical practice guideline developers (at least 1 CPG in last 2 years) 120 Researchers (>70%+) | N6: International (Europe, North America, South America, and Asia) (doesn’t break this down; only gives language in table 4) | O6: None described | P6: Descriptive analysis -- participants’ baseline characteristics and outcomes, means and mean difference (MD) standard deviations (SD) for continuous variables, and proportions for categorical variables. Understanding -- Multiple logistic regressions per question (comparing two groups for the proportion of participants correctly answering each question separately) with Bonferroni correction Accessibility of information -- compared mean answer and SD with 95% CI and Bonferroni correction Satisfaction -- proportion of participants satisifed with items in Table A/B per group Preference -- linear regression (controlling for order of presentation) All models considered participant strata, years of experience, familiarity with GRADE, previous education | Q6: Understanding (correct comprehension of key findings in the table; 7 MC questions with 5 response options) | R6: Accesibility of information (three self-reported domains: (1) how easy it was to find critical information in the table, (2) how easy it was to understand the information, and (3) whether the information was presented in a way that is helpful for decision making. Measured on 7 point likert scales; overall accessibility assessed with 5 point likert) Satisfaction (dichotomous outcome at item level asking which formatting items satisfied them the most. 6 questions?) Preference (7 point likert prefer a to b) | S6: Compared to the standard summary of finding (SoFs) table, a new format of SoF tables with seven alternative items improved understanding of risk differences and helped with interpreting results and was similar to the current SoF table regarding other items in the understanding domain. In particular, our results suggest that the following formatting changes (1) exclusion of the N of participants’ and studies’ column and the location of this data with the outcome, (2) the presentation of quality of evidence, also known as confidence in the estimates of effect or certainty in the evidence, along with the reasons for downgrading in the same column, (3) the use of the label ‘‘explanations’’ heading the footnotes, (4) the presentation of baseline risk and corresponding risk expressed as percentages, (5) the exclusion of the comments column, (6) the inclusion of a column exclusively dedicated to showing the risk difference or the MD and its 95% CI, and (7) the inclusion of a new column describing the results and the quality of the evidence using a narrative statement (‘‘what happens’’ column). Of seven items testing understanding, three showed similar results, two showed small differences favoring the new format, and two (understanding risk difference and quality of the evidence associated with a treatment effect) showed large differences favoring the new format [63% (95% confidence interval {CI}: 55, 71) and 62% (95% CI: 52, 71) more correct answers, respectively]. Respondents rated information in the alternative format as more accessible overall and preferred the new format over the current format. | T6: -
A7: 006 | B7: MKS | C7: Dobbins | D7: 2004 | E7: A knowledge transfer strategy for public health decision makers | F7: Worldviews on Evidence-Based Nursing | G7: English | H7: 30 | I7: Focus groups | J7: JBIQual | K7: Canadian Institutes of Health Research | L7: 7 Canadian cities (Halifax, Montreal, Ottawa, Winnipeg, Calgary, Edmonton, and Vancouver) (assuming in person) | M7: 46 participants in 9 focus groups. Medical officers of health (15%), program managers or coordinators (30%), program directors (24%), and decision makers from provincial or federal ministeries (30%) | N7: Canada | O7: Modified grounded theory approach | P7: Inductive thematic analysis | Q7: Preferences for content, format, and channels for receiving research knowledge | R7: - | S7: Key themes: information needs, limited time, credibility and reliabitliy, information quality and timing, applicability and customizbility, mode of delivery, opportunities for training and education. Provide relevant and timely evidence in a reliable and consistent way and must give decision makers options for customizing how the information will be received. Minimize the time required to locate, appraise, synthesize, and incorporate research evidence into deicison making; Make readily available, easy-to-use, and customized sources of research evidence Limited time, credibility and reliability, information quality and timing, applicability and customizability, mode of delivery (electronically is more preferable than hard copy), opportunities for training and education | T7: -
A8: 007 | B8: MKS | C8: Hartling | D8: 2017 | E8: Fit for purpose: Perspectives on rapid reviews from end-user interviews | F8: Systematic Reviews | G8: English | H8: 27 | I8: Semi-structured interviews | J8: JBIQual | K8: Agency for Healthcare Research and Quality | L8: Semi-structure interview with US organizations | M8: n = 8. Key informants representing: guideline developers (n = 3), health care providers/health system organizations (n = 3), research funders (n = 1), and payers/health insurers (n = 1). | N8: USA | O8: Grounded theory | P8: Content analysis | Q8: End-user perspectives on the utility and limitations of rapid products including evidence inventories, rapid responses, and rapid reviews. Our objectives were to: (1) What makes end-users trust and value an evidence synthesis, and whether this varies by the nature of the decision being made; (2) End-user impressions of different rapid products with a focus on acceptability and usability (e.g., impressions with respect to strengths and limitations; trade-offs in terms of approaches they would find acceptable to alter to increase efficiencies; and their perceptions of risks for answers being “wrong” or information that might be missed); (3) Where/when/how end-users might use rapid products and whether this varies by the nature of the decision being made. | R8: - | S8: strong preference for the following review methods and characteristics: use of evidence tables, quality rating of studies, assessments of total evidence quality/strength, and use of summary tables for results and conclusions. “A lot of times you’ll do good summary tables, and that’s probably where I would look…” [payer] “The work development teams in our clinical programs are more concerned with what’s the summary of the evidence.” [provider] End-users liked to see the outcome data, methodological quality, and strength of evidence summarized in a readable and readily accessible form (e.g., formats that “front-load” the information you need with additional “information that you can go to if you have specific questions”). | T8: -
A9: 008 | B9: MKS | C9: Hartling | D9: 2018 | E9: Development and Usability Testing of EPC Evidence Review Dissemination Summaries for Health Systems Decisionmakers | F9: Agency for Healthcare Research and Quality (US) | G9: English | H9: 9 | I9: Think aloud user testing (semi-structured) | J9: JBIQual | K9: Agency for Healthcare Research and Quality | L9: Think aloud interview by telephone | M9: n = 6 decision makers from Strategic Clinical Networks (clinician-led teams that develop and implement evidence-informed health improvement strategies within a province-wide fully integrated health system). 1 Senior Medical Director, 1 Scientific Director, 2 Executive Directors, and 2 Assistant Scientific Directors | N9: Canada | O9: Think aloud method grounded in cognitive psychological dn education research? | P9: Thematic anaalysis | Q9: Exploratory. Preferences for extent of information, length and formtting, and technical content (Themes from analysis: Content, layout, design, and usability ) End-user perspectives on the usability of summaries | R9: - | S9: Decisionmakers preferred a 3-page summary with key messages, details on results, meaningful figures/tables, and strength of evidence; detailed methods and contextual information were less important | T9: -
A10: 010 | B10: MKS | C10: Marquez | D10: 2018 | E10: Enhancing the uptake of systematic reviews of effects: what is the best format for health care managers and policy-makers? A mixed-methods study | F10: Implementation Science | G10: English | H10: 36 | I10: Think aloud semi-structured interviews | J10: JBIQual | K10: Canadian Institutes of Health Research | L10: Telephone | M10: 12, 5 health care managers and 7 PMs | N10: Canada | O10: None described | P10: Content analysis; mixed-methods triangulation technique (meta-matrix) | Q10: Exploratory. Themes: content of new format; layout; aesthetics, usability Perceptions on usability of formats - Health care manager novel format (Format A) and policy maker novel format (Format B). Content, layout, graphics | R10: - | S10: They valued the inclusion of sections such as background, key messages, but exhibited differing opinions on other sections HCMs appreciated the level of detail in the methods and the inclusion of the funding and limitations sections, PMs did not perceive these components as critical information. HCMS liked addition of definitions and link to the data source PMs liked pub year and list of authors, more headings to key messages (separate ideas) and description of who produced the summary Most participants favored the use of bullets throughout, sufficient white space, information in 2 columns instead of a single column/row, inclusion of icons Content: Both language was clear and concise, like inclusion of sections such as background, key messages. HCMS: good level of detail in the methods, inclusion of funding and limitations sections. Suggested improvements - definition of RR, CI and link to data source. PMs: methods, inclusion of funding and limitations section not necessary. Suggested improvements - publication year, list of authors, seperate key messages with headings and description of who produced the summary. Layout: Preference for use of bullrt points, information summarized on 1–2 pages, ‘white space', information displayed in two columns, blue colours, use of icons. Usability: Format A SUS score 85.5, Format B SUS score 86.4 | T10: -
A11: 011 | B11: MKS | C11: Mustafa | D11: 2015 | E11: Decision-Making about Healthcare Related Tests and Diagnostic Strategies: User Testing of GRADE Evidence Tables | F11: PLoS ONE | G11: English | H11: 14 | I11: One-on-one user testing | J11: JBIQual | K11: German Insurance Fund agency and Methods Innovation Fund from the Cochrane Collaboration | L11: In person or teleconference/phone | M11: 20 participants. Researchers, health professionals, and guideline developers | N11: International (unclear breakdown) | O11: None described. "little existing theory to guide our analysis" | P11: basic content data anlaysis' with deductive coding | Q11: presentation and formatting, content, comprehensiveness, usefulness and accessibility of results User perspectives about the most useful and best possible presentation of information in tables | R11: - | S11: Almost all participants preferred summarizing the results of systematic reviews of test accuracy in tabular format rather than plain text. Users generally preferred less complex tables but found presenting sensitivity and specificity estimates only as too simplistic. modifying table layout and adding sample clinical scenarios for each prevalence reduced this confusion. Providing information about clinical consequences of testing result was viewed as not feasible for authors of systematic reviews. Format 1: participants unanimously noted that they did not prefer it. Formats 2 and 3: Participants generally liked this format but did not have a clear preference for arranging TP, TN, FP and FN in any specific order. Format 4: Some respondents noted that this format represents clinicians’ implicit thinking in terms of changes in post-test probability based on a test result. Others noted that this format with likelihood ratios and probabilities is a more difficult format to use and takes more time to interpret, especially for those who are not familiar with accuracy measures. | T11: Only extracting information from user testing (fourth round) as that is the component that assessed the acceptability of the format. can be difficult to be sure the results are from the user testing
A12: 012 | B12: MKS | C12: Newberry | D12: 2013 | E12: Reporting the Findings of Updated Systematic Reviews of Comparative Effectiveness: How Do Users Want To View New Information? | F12: Agency for Healthcare Research and Quality (US | G12: English | H12: 10 | I12: 2 Focus groups with questionnaires; 3 Individual expert feedback/interviews (couldn't find time for focus group) | J12: JBIQual | K12: Agency for Healthcare Research and Quality (contracted out to RAND corporation and Southern California Evidence-based Practice Center) | L12: Conference calls | M12: n = 15. 3 focus groups 1) 7 participants: 1 director of research (private insurer); 1 physician/administrator (HMO); 1 academic clinician (with experience conducting and using evidence reviews); 2 physicians with guideline experience; 1 research assistant involved in guidelines setting; 1 member of RAND’s Office of External Affairs. 2) 5 participants: 1 director at the Food and Drug Administration (FDA); 1 director of a U.S. Department of Agriculture-funded university research center; 1 FDA staff scientist; 1 researcher involved in policymaking at the Centers for Medicare & Medicaid Services; 1 former congressional staffer with experience in health policy. 3) 3 community primary care physicians with no academic appointments (couldn't find a time that worked for all so this was just individual feedback) | N12: USA | O12: None described | P12: None described | Q12: User needs and preferences for formats. Perspectives on usability of a range of formatting methods for showing the changes from original to updated systematic review | R12: - | S12: Policymakers who rely on CERs and other systematic reviews as the basis for policy (including health insurance companies, health care organizations, research funders, and guideline makers) expressed the need to see changes in review process as well as outcomes clearly marked, (with changes in outcomes and conclusions preferably shown in graphic form), while at the same time having access to the entire set of data and the analyses on which the conclusions were based. The small group of clinicians preferred to see the skeleton of the report (Key Questions, conceptual framework, inclusion/exclusion criteria) as well as the outcomes and conclusions presented entirely in graphic form for ease of reading.Yet whereas policymakers need access to the entire data set and analyses that comprise a systematic review (the original and the update), all users benefit from summaries that clearly show what changed in as succinct a format as possible, preferable in graphic form. During the discussion, participants all agreed that they would want to see what had changed. Version 2: Gray shading was not very helpful. "There are two kinds of readers: people who just want to know what to do, and people who want to know why. For people who just need to know what to do, you could put the changes in bold. For those who want to know why, show the evidence behind the changes, secondarily." Version 3: Rated poorly by all responsdents. Version 4: During the discussion, they agreed that for a report with only narrative result, the narrative summary table would be more useful than the quantitative table (and vice versa). They also reiterated the point that many clinicians would want to see only the new conclusions but that anyone involved with setting guidelines would want to see both the old and the new information. Suggestions: show how the new findings contributed to changing the conclusions; using color coding or different fonts to increase the salience of what changed; and including some wording that would put the changes in context, show why conclusions changed - providing the tables with version 1 or 2 of the summary would not suffice. Skeletal report: The consensus was that more information was needed than the format allowed. They reiterated that it would be important to emphasize what changed and to provide adequate information for the reader to understand the reasons for the changes. | T12: -
A13: 013 | B13: MKS | C13: Opiyo | D13: 2013 | E13: Comparison of Alternative Evidence Summary and Presentation Formats in Clinical Guideline Development: A Mixed-Method Study | F13: PLoS ONE | G13: English | H13: 26 | I13: Randomized controlled trial and interviews | J13: Both | K13: Wellcome (2 diff awards) | L13: RCT: In person workshop. Interviews: face-to-face | M13: 70 participants. Multidisciplinary guideline development group members including 32 paediatricians, 11 medical officers, 7 nursing officers, 5 researchers, 4 healthcare worker trainers, 3 clinical officers, 2 pharmacists, and 1 administrator. Subsample of 16 participated in interviews | N13: Kenya | O13: Formats 'guided by theoretical frameworks on information transfer for non-research audiences' | P13: RCT: logistic and linear regressions with interactions Interviews: thematic analysis | Q13: Proportion of correct responses to key clinical questions | R13: Clarity of presentation and ease of locatin the quality of evidence for critical neonatal outcomes (Composite endpoint measured on 3 or 5-point scale) | S13: There were no differences between groups in the odds of correct responses to key clinical questions (adjusted ORs: pack B versus A 0.59, 95% CI 0.32 to 1.07; pack C versus A 0.66, 95% CI 0.36 to 1.21). ‘Graded-entry’ formats were associated with a higher mean composite score for clarity and accessibility of information about the quality of evidence for critical neonatal outcomes compared to systematic reviews alone (adjusted mean difference 0.52, 95% CI 0.06 to 0.99). There was no difference in the mean composite score between SR with SoF tables and SR alone. Findings from interviews with 16 panelists indicated that short narrative evidence reports were preferred for the improved clarity of information presentation and ease of use. | T13: -
A14: 014 | B14: MKS | C14: Perrier | D14: 2014a | E14: A usability study of two formats of a shortened systematic review for clinicians | F14: BMJ Open | G14: English | H14: 44 | I14: Think aloud focus groups | J14: JBIQual | K14: Canadian Institutes of Health Research | L14: In person | M14: 10 family physicians | N14: Canada | O14: None described | P14: Content analysis | Q14: Exploratory. Usability (round 3) | R14: - | S14: Case scenario completion, task not completed: Number of studies contributing to meta-analysis: Cycle 1: 100%, Cycle 2: 100%, Cycle 3: 40% Locate evidence rating scale: Cycle 3: 20% Locate adverse event information: cycle 2: 33% State ‘take-home message’: Cycle 1: 100% Report explanation for odds ratio: Cycle 2: 33% Treatment for ocular rosacea: Cycle 2: 33%, Cycle 3: 40% Number of studies contributing to review: Cycle 1: 50%, Cycle 2: 66%, Cycle 3: 20% Changes made to prototype: -Number of studies contributing to meta-analysis Iteration/ Errors: Cycle 1=2 errors – Change made: Heading moved from right-hand side to left-hand side, Cycle 2=3 errors – Change made: Text in heading bolded, Cycle 3=2 errors – Change made: No further changes -Locate evidence rating scale Iteration/ Errors: Cycle 3=1 error – Change made: No changes made - review of transcripts indicated misinterpretation of question -State ‘take home message’ Iteration/ Errors: Cycle 1=2 errors – Change made: Question re-worded to ‘summary or take-home message’ - Report explanation for odds ratio Iteration/ Errors: Cycle 2=1 error – Change made: Information on bottom of document distinctly separated by adding boxes or white space - Treatment for ocular rosacea Iteration/ Errors: Cycle 2=1 error – Changes made: i) Text: colour changed from red to black; capitalized; made larger, and ii) Information on bottom of document distinctly separated by adding boxes or white space, Cycle 3=2 errors – Change made: No further changes -Number of studies contributing to review Iteration/ Errors: Cycle 1=1 error – Change made: Efforts focused on making number of studies in the meta-analysis distinct, Cycle 2=2 errors – Change made: Efforts focused on making number of studies in the meta-analysis distinct, Cycle 3=1 error – Change made: No further changes | T14: -
A15: 015 | B15: MKS | C15: Perrier | D15: 2014b | E15: An iterative evaluation of two shortened systematic review formats for clinicians: a focus group study. | F15: Journal of the American Medical Informatics Association | G15: English | H15: 41 | I15: Focus groups | J15: JBIQual | K15: Canadian Institutes of Health Research | L15: In person focus groups | M15: 32 Primary Care Physicians (16 in round 1 and 16 in round 2) | N15: Canada | O15: None described | P15: Inductive content analysis and constant comparison. Field notes and focus group transcripts were reviewed, and a thematic approach was taken in the evaluation of the qualitative data. | Q15: Exploratory. User experience | R15: - | S15: Round 1: Three major themes emerged in Round 1 of the focus groups: (1) ease of use; (2) clarity; and (3) implementation. Under ease of use there were two subthemes convention and prominence and completeness, and under clarity there were four subthemes Organizing information, Rating evidence, credibiltiy and language. Four themes emerged in Round 2 of the focus groups: (1) ease of use; (2) clarity; (3) brevity; and (4) implementation. | T15: -
A16: 016 | B16: MKS | C16: Rosenbaum | D16: 2010a | E16: Summary-of-findings tables in Cochrane reviews improved understanding and rapid retrieval of key information | F16: Journal of Clinical Epidemiology | G16: English | H16: 36 | I16: Randomized controlled trials (2) | J16: JBIQuant | K16: Unclear | L16: Evidence-based practice workshop with newcomers to evidence snythesis (RCT1) and a Cochrane Collaboration entities meeting (RCT2) | M16: RCT1: 72 workshop participants and tutors (health care professionals who were 'beginners' in evidence-based health care, most did not have English as their first language. RCT2: 33 staff from Cochrane entities (review group coordinators, trial search coordinators and Centre staff), most did not have English as their first language. | N16: International (Europe) | O16: None described | P16: mean rating of accesilbity with standard deviation. Differences assessed with Pearson’s chi-square | Q16: RCT 1: user satisfaction/accessibility RCT 2: correct comprehension about the risks of symptomless deep vein thrombosis (DVT) with and without compression stockings for people at low risk.and time spent finding key results | R16: RCT1 - Secondary analyses of the other questions in the questionnaire were intended primarily to help explain and interpret the results of the primary analysis | S16: In two small trials we found that inclusion of a SoF table in a review improve understanding and rapid retrieval of key findings compared to reviews with no SoF table. RCT1 - Participants reading reviews that included the SoF table were more likely to respond that: The results and quality of evidence were easy or very easy to find and to understand; The main findings were easy to understand; and The main findings were accessible. These differences ranged from 12% to 28% and were not statistically significant, except for two measurements: the ease to find results for important outcomes (without SOF 40%(21-59) vs. with SOF 68% (55-81)) and the perceived accessibility of the quality of the evidence (without SOF 17%(2-32) vs. with SOF 41% (27-56)).Eighty-one percent agreed or strongly agreed that Cochrane reviews should include SoF tables, 65% with the proposed format; 75% found the explanation sheet helpful. RCT2 - There were large differences in the proportion that answered correctly questions about the risk in the control group (44% vs. 93%, P=0.003) and the risk in the intervention group (11% vs. 87%, P<0.001). There were also large differences in actual time spent and the proportion that agreed or strongly agreed; hence, it was easy to find information about the quality of evidence for the main outcomes (24% vs. 73%, P=0.005, Pearson’s chi-square). Most participants were positive about including the SoF tables and the format. Eighty-eight percent agreed or strongly agreed that Cochrane reviews should have SoF tables; 84% agreed with the format proposed, and 77% said that the explanations were helpful. Most (67%) preferred placing SoF tables after the abstract. | T16: -
A17: 017 | B17: MKS | C17: Rosenbaum | D17: 2011 | E17: Evidence summaries tailored to health policy-makers in low- and middle-income countries | F17: Bulletin of the World Health Organization | G17: English | H17: 50 | I17: Semi-structured interview user testings | J17: JBIQual | K17: European Commission’s 6th Framework Programme Priority and Global Health Research Initiative of the Canadian Institutes of Health Research | L17: Think aloud protocol, semi-structured interviews, individual sessions lasting one hour | M17: 18 policy-makers in Argentina (6), China (3), Colombia (3), South Africa (3), Uganda (3). Health policy-makers and managers at different levels. One test participant had full-time medical school employment; the other 20 were primarily senior staff members involved in national or international health service or policy-related work in health departments, national insurance programmes, hospitals or aid organizations. The working group conducted three pilot user tests with participants from Norwegian government agencies involved in LMIC development projects and made further improvements based on these results. | N17: International (Argentina, China, Colombia, South Africa, and Uganda). Pilot testing in Norway | O17: user experience model (Honeycomb model) developed by Morville | P17: Unclear. Thematic aligned with Morville. Two researchers from the working group performed separate analyses and identified barriers or facilitators to favourable experiences of the summary according to the user experience framework. Authors then compared and reconciled analyses and sorted the findings according to summary section (e.g. front page) or general theme (e.g. language). | Q17: Exploratory. User experience framework has 6 facets (findability, credibility, usability, usefulness, desirability, and value) | R17: - | S17: Policy-makers liked a graded entry format (i.e. short summary with key messages up front). They particularly valued the section on the relevance of the summaries for LMICs, which compensated for the lack of locally-relevant detail in the original review. Some struggled to understand the text and numbers. Three issues made redesigning the summaries particularly challenging: (i) participants had a poor understanding of what a systematic review was; (ii) they expected information not found in the systematic reviews and (iii) they wanted shorter, clearer summaries. Solutions included adding information to help understand the nature of a systematic review, adding more references and making the content clearer and the document quicker to scan. Of the six facets we explored from the user experience framework, those pertaining to usefulness, usability and credibility yielded the most important findings. Usefulness: 16/21 participants reported that the evidence summary would be useful to them if they had to make a decision on the subject treated in the summary. Some respondents expressed unmet expectations probably stemming from a poor understanding of the nature of a systematic review. Specifically, they expected content lying outside the scope of a review: recommendations, outcome measurements not usually included in a review, detailed information about local applicability or costs and a broader framing of the research enquiry. Useability: Five participants felt that the summary was not comprehensive enough. However, six wanted a shorter, clearer presentation. Some participants felt that tables running over two pages were cumbersome to read and that the abbreviations caused confusion. Participants also compared the numbers in the text with those in the tables and became confused if they did not correspond precisely. The use of jargon and/or unfamiliar vocabulary posed a barrier (e.g. “scaling up” was not understood to include financial considerations). Credibility: Two responded said they because it was “well written”. Twelve answered that they would trust it because they perceived it as coming from credible sources. However, not everybody understood that the summary stemmed from a systematic review. Some expressed confusion about authorship (partner logos appeared on the last page). Some also expressed reduced interest in the content when they discovered that the quality of the evidence was low, that no evidence for important outcomes existed or that the studies were old. One participant was confused about how a high-quality review could be compatible with low-quality evidence. Value: Seventeen participants felt that summaries of the kind presented to them would be valuable to policy-makers holding positions similar to theirs. Desirability: Fourteen participants said they liked the summary, particularly the front page with key messages and the section on the relevance of the evidence and the intervention for LMICs. Seven reacted positively to the table describing the characteristics of the reviews. Five participants said that they liked the framing of the title as a question. Findability: When asked where they would expect to find these summaries, seven participants answered “in face-to-face meetings”. Many mentioned the web sites of the World Health Organization, the Pan American Health Organization, the Cochrane Collaboration, health ministries and universities. Changes to the summary were carried out to address three issues (i) participants’ poor conceptual understanding of systematic reviews; (ii) participants’ expectations that they would receive information not found in the systematic reviews; and (iii) participants’ expressed desire for shorter, clearer summaries. Thirteen participants responded to the follow-up questions. All preferred the new format and said that they found it easier to read, primarily because of the new front-page design and the addition of the meta-information boxes. | T17: -
A18: 018 | B18: MKS | C18: Rosenbaum | D18: 2010b | E18: User testing and stakeholder feedback contributed to the development of understandable and useful Summary of Findings tables for Cochrane reviews. | F18: Journal of Clinical Epidemiology | G18: English | H18: 46 | I18: Think aloud user tests | J18: JBIQual | K18: Unclear | L18: Unclear, assuming in person individual. Brainstorming workshops, advisory group feedback, user testing | M18: 21 health professionals and researchers | N18: International (Norway and UK) | O18: Morville model of user experience | P18: Unclear? Findings were rated in three categories according to the severity of the problem. One designer and one researcher reviewed all the notes and transcriptions together, looking for barriers and facilitators to the six facets of user expeirence and tracing findings back to the elements or characteristics of the tables that appeared to cause problems. Findings were rated in three categories according to the severity of the problem: high (critical errors such as incorrect interpretation or high degree of uncertainty or dissatisfaction), medium (much frustration or unnecessarily slow use), and low (minor or cosmetic problems).The authors also registered things users explicitly liked and suggestions for improvement. These findings were discussed in the brainstorming workshops, particularly those of high severity. For some issues, specific input was sought from the advisory group. | Q18: User experience (7 facets in model) | R18: - | S18: User testing revealed unexpected comprehension problems, mainly confusion about what the different numbers referred to (class reference). Brainstorming workshop: As input from the advisory group and the user tests became available, the main focus in the brainstorming workshops became more apparent: to address the tension between achieving precision and simplicity. Tables that included enough information to meet the precision goals of the advisory group tended to be too complicated for participants to understand or want to read. There was, therefore, a continuous reevaluation about what information was most critical to include, and much effort was spent trying to find solutions that accommodated both perspectives. Advisory group: In general, the advisory group was concerned with presenting information in a form that they thought users would understand. However, there was some resistance to taking this too far. User testing: During the first set of tests, we found several problems that we ranked as high severity. After modifying the table several times, we tested a new version. No findings in the high severity category were observed in this second set of user tests. The findings that led to most changes in the table were concentrated in two of the seven facets of the user experience model: usability and usefulness. -Usability: participants misunderstood or were uncertain about a range of elements including: dichotomous outcomes; continuous outcomes; number of studies; meaning of ‘‘no data available’’ or empty cells; terms used in column headings; abbreviations. -Usefulness: Participants offered suggestions for changes that would make the tables more useful in a clinical setting. These included; Specifying the population, setting, intervention, and control group at the top of the table. Describing the intervention in more detail. Adding the inclusion criteria for high- and low-risk populations. Including a clear recommendation. -Credibility: Eighteen of 21 test persons indicated that their perception of the credibility of the table was directly related to the GRADE ratings. -Findability: Most participants indicated that an SoF table should be near the front of the review, near the abstract. -Desirability and value: Fourteen of 21 participants said that the table would be a valuable addition to Cochrane reviews. -First impressions vs. exposure over time: Although 11 of 21 participants felt that the table contained large amounts of information, this was not necessarily negative. Some said that they expected a learning curve for this kind of information and were confident that they would find these tables easier to read upon repeated exposure. | T18: Only extracted information on user testing
A19: 020 | B19: MKS | C19: Steele | D19: 2021 | E19: Mental health clinicians views of summary and systematic review utility in evidence-based practice | F19: Health Information and Libraries Journal | G19: English | H19: 32 | I19: Semi-structured interviews | J19: JBIQual | K19: Tees, Esk and Wear Valleys NHS Foundation Trust | L19: Unclear | M19: 7 mental health clinicians (2 psychiatrists, 3 nurses, 1 clinical psychologist and 1 OT) | N19: England | O19: None described | P19: Framework approach (dual deductive and inductive) | Q19: Exploratory | R19: - | S19: Three inter-related themes of 1) issues of time; 2) skill, knowledge, and strategies; and 3) conceptual issues and application of evidence | T19: -
A20: 021 | B20: MKS | C20: Totten | D20: 2019 | E20: Improving Access to and Usability of Systematic Review Data for Health Systems Guidelines Development | F20: Agency for Healthcare Research and Quality (US) | G20: English | H20: 49 | I20: Semi-structured interviews | J20: JBIQual | K20: Agency for Healthcare Research and Quality (contracted out to Pacific Northest Evidence-based Practice Center) | L20: Oregon Health Sciences University health system | M20: 7 key stakeholders 1 department director 4 health system content experts 2 responsible for guideline development and implementation through Office of Clinical Integration and Evidence-based Practice (clinicians and members of guideline committees) | N20: USA | O20: None described | P20: As with the initial interviews, we met as a team to discuss feedback and came to a consensus on the key themes arising in the evaluations.' Thematic analysis: authors met as a team to discuss emergent themes across all four interviews, and arrived at a consensus as to the key takeaways. | Q20: Accesibility and usability | R20: Indentify interactive methods for use | S20: Neither of the two tools we tested were able to fulfill both core functionalities. The second round of health system content expert interviews provided positive feedback on the products, aesthetically as well as for their potential functionality functionality. Respondents perceived Tableau as ideal for content experts reviewing data, as the functionality allows users to query the data in multiple ways. Respondents perceived MAGICapp as the better choice for multidisciplinary groups or decision makers less familiar with the data, given the tool’s organized structure and capacity for explanatory text. initial stakeholder interviews: the four health system content experts noted they had used evidence summaries alongside other sources of information for guideline development, but the data were presented in static tables and figures in handouts and on PowerPoint® slides. Experts also cited the volume of data in tables as a barrier, as well as the perception that the data were not always tailored to the population or setting that was the target for the guidelines. The key theme that emerged from these interviews was the need for data formatted in a way that allowed “drill down” and “slice and dice” approaches, which could potentially address the need for more accessible and interactive data. In the “drill down” approach, users could move vertically through layers of information from general, overall assessments of the evidence on a topic to more detailed information as needed. In the “slice and dice” approach, users could move vertically and horizontally through data, grouping information by variables of interest (e.g., populations, interventions, or outcomes) in ways that might differ from those presented in the report. MAGICapp: -Benefits: No back-end work or special expertise needed to set up, Structure matches organization of EPC report, which may be ideal for clinicians less familiar with the topic, Approachable format with capacity for detailed narrative, Provides substantial detail on individual studies, An evidence “ecosystem,” connecting evidence summaries with guidelines and clinical decision models, Collaborates with BMJ, Cochrane, and others, Published reports are free and publicly available, accessible from any location. -Limitations: Structure is fixed to reflect analysis done in the EPC report, Narrative may still be dense, depending on report contents, Current presentation not as conducive to continuous variables as dichotomous outcomes, Current reference management requires some manual editing, does not allow exports, Uses GRADE methods and criteria, not AHRQ, Potential for conformance to Web Content Accessibility guidelines (WCAG 2.0 AA) is undetermined; the producer is looking into this question. -Considerations for Future Use: EPCs will have to revise data abstraction and analysis formats to allow for smooth importation, MAGICapp will have to update identified issues relevant to evidence summary publication, AHRQ will need to support EPC investment in MAGICapp to add AHRQ “strength of evidence” criteria to the platform or convert to GRADE criteria. Tableau®: -Benefits: Flexible structure, end users can tailor and explore dataset based on their needs – allows clinicians to ask questions in multiple ways, Dashboard updates in real time when data are adjusted or added, Visual format with capacity for minimal text or statistics allows a quick overview of data for content experts, Designs can be shared or used as templates across EPCs, Used by learning healthcare systems for analytics and real-time monitoring, Dashboards are free and publicly available, accessible from any location, Recommends best practices for building data views that conform to the Web Content Accessibility guidelines (WCAG 2.0 AA) -Limitations: Expertise needed for set up, Less detail included on individual studies in visual displays, Difficult to display data that does not fit within a conventional format, Limited capacity for narrative content, The application allows the interfaces and displays to be customized, but there are limits to the queries that can be run -Considerations for Future Use: EPCs will have to revise data abstraction and analysis formats to allow for smooth importation, EPCs may want to consider including separate tabs with guidance on interpreting statistical measures, population characteristics in the study, and strength of evidence ratings, Tableau will have to work with EPCs to develop effective means of communication for unique data formats, AHRQ will need to support EPC investment in data analysts/research staff willing to learn or have experience in designing visualizations of data | T20: Not extracting data on the initial interviews as it's not focused on formatting or a certain presentation
