Workbook

Sheet Income statement data BINTERNET
A1: Variabelen | G1: Eenheid | H1: 2016 | I1: 2015 | J1: 2014 | K1: 2013 | M1: average
B2: <b>Opbrengsten</b>
C3: Totaal opbrengsten | G3: euro | H3: 916200 | I3: 1029200 | J3: 920300 | K3: 935500 | M3: =AVERAGE(H3:K3) -> 950300
D4: Akkerbouw | G4: euro | H4: 1900 | I4: 2700 | J4: 3400 | K4: 4200 | M4: =AVERAGE(H4:K4) -> 3050
E5: tarwe | G5: euro | H5: 0 | I5: 0 | J5: 100 | K5: 800 | M5: =AVERAGE(H5:K5) -> 225
E6: suikerbieten | G6: euro | H6: 0 | I6: 0 | J6: 400 | K6: 600 | M6: =AVERAGE(H6:K6) -> 250
D7: Rundveehouderij | G7: euro | H7: 14400 | I7: 25200 | J7: 29700 | K7: 20900 | M7: =AVERAGE(H7:K7) -> 22550
E8: melk en zuivelproducten | G8: euro | H8: 13200 | I8: 21900 | J8: 25100 | K8: 16600 | M8: =AVERAGE(H8:K8) -> 19200
E9: omzet en aanwas rundveehouderij | G9: euro | H9: 1300 | I9: 3300 | J9: 4600 | K9: 4300 | M9: =AVERAGE(H9:K9) -> 3375
D10: Intensieve veehouderij | G10: euro | H10: 818500 | I10: 939400 | J10: 810200 | K10: 854700 | M10: =AVERAGE(H10:K10) -> 855700
E11: omzet en aanwas pluimveehouderij | G11: euro | H11: -143200 | I11: -86300 | J11: -126000 | K11: -171100 | M11: =AVERAGE(H11:K11) -> -131650
F12: verkopen pluimvee | G12: euro | H12: 2900 | I12: 19000 | J12: 20900 | K12: 22200 | M12: =AVERAGE(H12:K12) -> 16250
F13: aankopen pluimvee | G13: euro | H13: 94200 | I13: 166300 | J13: 150400 | K13: 160400 | M13: =AVERAGE(H13:K13) -> 142825
F14: aanwas pluimvee | G14: euro | H14: -51900 | I14: 61100 | J14: 3500 | K14: -32900 | M14: =AVERAGE(H14:K14) -> -5050
E15: eieren | G15: euro | H15: 961700 | I15: 1025700 | J15: 936200 | K15: 1025800 | M15: =AVERAGE(H15:K15) -> 987350
D16: Overige opbrengsten | G16: euro | H16: 81300 | I16: 61800 | J16: 77100 | K16: 55600 | M16: =AVERAGE(H16:K16) -> 68950
E17: inkomenstoeslagen en subsidies | G17: euro | H17: 5900 | I17: 6000 | J17: 8400 | K17: 4400 | M17: =AVERAGE(H17:K17) -> 6175
E18: energiehandel en -verkoop | G18: euro | H18: 100 | I18: 0 | J18: 100 | K18: 0 | M18: =AVERAGE(H18:K18) -> 50
E19: werk voor derden | G19: euro | H19: 3800 | I19: 6000 | J19: 12900 | K19: 3400 | M19: =AVERAGE(H19:K19) -> 6525
E20: verhuur van activa | G20: euro | H20: 1300 | I20: 2200 | J20: 1600 | K20: 1000 | M20: =AVERAGE(H20:K20) -> 1525
B21: <b>Betaalde kosten en afschrijving</b>
C22: Totaal betaalde kosten en afschrijving | G22: euro | H22: 815100 | I22: 899000 | J22: 900200 | K22: 1048100 | M22: =AVERAGE(H22:K22) -> 915600
D23: Dierlijke en plantaardige activa | G23: euro | H23: 556700 | I23: 605200 | J23: 609500 | K23: 752200 | M23: =AVERAGE(H23:K23) -> 630900
E24: veevoer | G24: euro | H24: 524500 | I24: 567800 | J24: 573900 | K24: 718800 | M24: =AVERAGE(H24:K24) -> 596250
E25: meststoffen | G25: euro | H25: 600 | I25: 1200 | J25: 1400 | K25: 1100 | M25: =AVERAGE(H25:K25) -> 1075
E26: zaaizaad en pootgoed | G26: euro | H26: 400 | I26: 400 | J26: 800 | K26: 700 | M26: =AVERAGE(H26:K26) -> 575
E27: gewasbeschermingsmiddelen | G27: euro | H27: 400 | I27: 600 | J27: 600 | K27: 600 | M27: =AVERAGE(H27:K27) -> 550
E28: mestafzetkosten | G28: euro | H28: 8800 | I28: 11000 | J28: 10000 | K28: 8700 | M28: =AVERAGE(H28:K28) -> 9625
D29: Energie | G29: euro | H29: 13900 | I29: 17900 | J29: 18800 | K29: 19100 | M29: =AVERAGE(H29:K29) -> 17425
E30: electriciteit | G30: euro | H30: 13000 | I30: 16500 | J30: 17800 | K30: 17900 | M30: =AVERAGE(H30:K30) -> 16300
E31: gas | G31: euro | H31: 800 | I31: 1000 | J31: 700 | K31: 700 | M31: =AVERAGE(H31:K31) -> 800
D32: Immateriele activa | G32: euro | H32: 5700 | I32: 11300 | J32: 8400 | K32: 4700 | M32: =AVERAGE(H32:K32) -> 7525
D33: Materiele activa | G33: euro | H33: 113900 | I33: 131700 | J33: 138100 | K33: 150700 | M33: =AVERAGE(H33:K33) -> 133600
E34: betaalde pacht | G34: euro | H34: 600 | I34: 1400 | J34: 1600 | K34: 1700 | M34: =AVERAGE(H34:K34) -> 1325
E35: afschrijving gebouwen en glasopstanden | G35: euro | H35: 60100 | I35: 68200 | J35: 76100 | K35: 81600 | M35: =AVERAGE(H35:K35) -> 71500
E36: afschrijving machines en installaties | G36: euro | H36: 19500 | I36: 22700 | J36: 22600 | K36: 25000 | M36: =AVERAGE(H36:K36) -> 22450
E37: brandstoffen | G37: euro | H37: 4100 | I37: 5500 | J37: 5800 | K37: 5600 | M37: =AVERAGE(H37:K37) -> 5250
E38: onderhoud | G38: euro | H38: 21700 | I38: 24800 | J38: 21400 | K38: 25000 | M38: =AVERAGE(H38:K38) -> 23225
D39: Betaalde arbeid | G39: euro | H39: 54900 | I39: 52100 | J39: 41600 | K39: 39600 | M39: =AVERAGE(H39:K39) -> 47050
D40: Werk door derden | G40: euro | H40: 1800 | I40: 2700 | J40: 2800 | K40: 2800 | M40: =AVERAGE(H40:K40) -> 2525
...

Sheet Partial budget and income stat.
B2: Output: partial budget and income statement | M2: Input values for partial budget calculations | S2: Calculations made for thepartial budget parts | Z2: Egg price
N3: Symbol | O3: Value | P3: Unit | Q3: Source | U3: Outcome | Z3: Witte scharreleieren, klasse M
F4: Income statement over 2017 of a laying hen farm with a flock of 50,000 | M4: General information | S4: Cost or revenue factor | T4: Calculation | U4: Unaffected farm | V4: Affected farm | AG4: four-year average 2013 - 2016
G5: Normal year | H5: Unaffected farm | I5: Affected farm | M5: Blocking period | N5: (1) | O5: 3 | P5: weeks | Q5: Horne et al. (2017) | S5: Depreciation old flock | T5: (3) × [(6) - (7)] / (8) × (9) | U5: =O8*(O13-O14)/O15*O16 -> 148620.59 | V5: =O8*(O13-O14)/O15*O16 -> 148620.59
B6: Breakdown of costs | F6: Returns | M6: Culling and cleaning, unoccupied period | N6: (2) | O6: 19 | P6: weeks | S6: Extra depreciation old flock | T6: (3) × [(6) - (7)] / (8) × [(8) - (9)] | V6: =O8*(O13-O14)/O15*(O15-O16) -> 45729.412 | AA6: 2013 | AB6: 2014 | AC6: 2015 | AD6: 2016 | AE6: 2017 | AH6: standard deviation
B7: Feed | C7: ='Income statement data BINTERNET'!M24 -> 596250 | F7: Turnover (selling eggs) | G7: ='Income statement data BINTERNET'!M15 -> 987350 | H7: =G7+'Partial budget and income stat.'!U14 -> 1138235.9 | I7: =G7-D40 -> 527554.25 | S7: Slaughter value hens | T7: (3) × (7) | V7: =O8*O14 -> 18150 | Z7: Jan | AA7: 8.9 | AB7: 7.35 | AC7: 7.75 | AD7: 8.55 | AE7: 7.55 | AG7: =AVERAGE(AA7:AD7) -> 8.1375 | AH7: =_xlfn.STDEV.P(AA7:AD7) -> 0.61682149
B8: Manure disposal | C8: ='Income statement data BINTERNET'!M28 -> 9625 | F8: Other returns | G8: ='Income statement data BINTERNET'!M3-'Income statement data BINTERNET'!M11-'Income statement data BINTERNET'!M15 -> 94600 | H8: =G8 -> 94600 | I8: =G8 -> 94600 | M8: Flock size | N8: (3) | O8: 50000 | P8: hens | Q8: Agrimatie | Z8: Feb | AA8: 9.25 | AB8: 7.45 | AC8: 7.7 | AD8: 8.8 | AE8: 7.25 | AG8: =AVERAGE(AA8:AD8) -> 8.3 | AH8: =_xlfn.STDEV.P(AA8:AD8) -> 0.74749582
B9: Utilities | C9: ='Income statement data BINTERNET'!M29 -> 17425 | F9: Total returns | G9: =SUM(G7:G8) -> 1081950 | H9: =SUM(H7:H8) -> 1232835.9 | I9: =SUM(I7:I8) -> 622154.25 | M9: Eggs production (start flock: 50000 hens) | N9: (4) | O9: 38360 | P9: day | Q9: KWIN Veehouderij 2017/2018 | S9: Feed reduced costs | T9: (2) × 7 × (3) × (10) × (11) / 1000 | V9: =O6*7*O8*O19*O20/1000 -> 200098.5 | Z9: Mar | AA9: 9 | AB9: 7.7 | AC9: 8.55 | AD9: 9.15 | AE9: 7.55 | AG9: =AVERAGE(AA9:AD9) -> 8.6 | AH9: =_xlfn.STDEV.P(AA9:AD9) -> 0.56457949
B10: Fuel | C10: ='Income statement data BINTERNET'!M37 -> 5250 | M10: Manure production hen (thick fraction) | N10: (5) | O10: 17.5 | P10: kg/hen/year | Q10: KWIN Veehouderij 2017/2018 | S10: Manure disposal reduced costs | T10: (3) × (5) / 52 × (2) × (13) / 1000 | V10: =O8*O10/52*O6*O24/1000 -> 4795.6731 | Z10: Apr | AA10: 7.15 | AB10: 7.45 | AC10: 8.05 | AD10: 7.65 | AE10: 8.25 | AG10: =AVERAGE(AA10:AD10) -> 7.575 | AH10: =_xlfn.STDEV.P(AA10:AD10) -> 0.32691742
B11: Maintenance | C11: ='Income statement data BINTERNET'!M38 -> 23225 | F11: Allocated costs | S11: Fipronil manure disposal additional costs | T11: (3) × (5) / 52 × [(1) + (2)] × [(12) - (13)] / 1000 | V11: =O8*O10/52*(O5+O6)*(O23-O24)/1000 -> 10180.288 | Z11: May | AA11: 6.65 | AB11: 6.95 | AC11: 7.5 | AD11: 7 | AE11: 8 | AG11: =AVERAGE(AA11:AD11) -> 7.025 | AH11: =_xlfn.STDEV.P(AA11:AD11) -> 0.30516389
B12: Other operating expenses | C12: ='Income statement data BINTERNET'!M22-'Partial budget and income stat.'!C7-'Partial budget and income stat.'!C8-'Partial budget and income stat.'!C9-'Partial budget and income stat.'!C10-'Partial budget and income stat.'!C11-'Partial budget and income stat.'!C15-'Partial budget and income stat.'!C13-C14-'Partial budget and income stat.'!C16-C17-C18 -> 33700 | F12: Feed | G12: =C7 -> 596250 | H12: =G12 -> 596250 | I12: =G12-D33 -> 396151.5 | M12: Cost of depreciation | Z12: Jun | AA12: 6.8 | AB12: 7.1 | AC12: 8.6 | AD12: 6.85 | AE12: 8.1 | AG12: =AVERAGE(AA12:AD12) -> 7.3375 | AH12: =_xlfn.STDEV.P(AA12:AD12) -> 0.73771183
B13: Paid labour | C13: ='Income statement data BINTERNET'!M39+'Income statement data BINTERNET'!M40 -> 49575 | F13: Manure disposal | G13: =C8 -> 9625 | H13: =G13 -> 9625 | I13: =G13+D26-D34 -> 15009.615 | M13: Purchase value hen | N13: (6) | O13: 4.25 | P13: Euro | Q13: KWIN Veehouderij 2017/2018 | S13: Reduced revenue from selling eggs | T13: [(1) + (2)] × 7 × (4) × (15) | V13: =(O5+O6)*7*O9*O28 -> 459795.75 | Z13: Jul | AA13: 6.65 | AB13: 7.2 | AC13: 9.05 | AD13: 6.75 | AE13: 7.3 | AG13: =AVERAGE(AA13:AD13) -> 7.4125 | AH13: =_xlfn.STDEV.P(AA13:AD13) -> 0.96784232
B14: Work by contractors | C14: ='Income statement data BINTERNET'!M40 -> 2525 | F14: Other allocated costs | G14: =C9+C10+C11+C12 -> 79600 | H14: =G14 -> 79600 | I14: =G14 -> 79600 | M14: Slaughter value hen | N14: (7) | O14: =1.65*0.22 -> 0.363 | P14: Euro | Q14: KWIN Veehouderij 2017/2018 | S14: Additional revenue from selling eggs | T14: [(1) + (2)] × 7 × (4) × [(15) - (14) | U14: =(O5+O6)*7*O9*(O27-O28) -> 150885.86 | Z14: Aug | AA14: 6.7 | AB14: 7 | AC14: 8.85 | AD14: 6.65 | AE14: 7.45 | AG14: =AVERAGE(AA14:AD14) -> 7.3 | AH14: =_xlfn.STDEV.P(AA14:AD14) -> 0.90484805
B15: Depreciation | C15: ='Income statement data BINTERNET'!M35+'Income statement data BINTERNET'!M36 -> 93950 | F15: Stable cleaning | I15: =D27 -> 10000 | M15: Useful life (raise period, 21 days, lay period, 455 days) | N15: (8) | O15: 68 | P15: weeks | Q15: KWIN Veehouderij 2017/2018 | Z15: Sep | AA15: 7.15 | AB15: 7.4 | AC15: 8.95 | AD15: 6.85 | AE15: 8.45 | AG15: =AVERAGE(AA15:AD15) -> 7.5875 | AH15: =_xlfn.STDEV.P(AA15:AD15) -> 0.81038185
B16: Interest | C16: ='Income statement data BINTERNET'!M41 -> 43475 | F16: Disposal contaminated eggs | I16: =D28 -> 8055.6 | M16: Depreciation period old flock | N16: (9) | O16: 52 | P16: weeks | S16: Stable cleaning | T16: (3) × (16) | V16: =O8*O31 -> 10000 | Z16: Oct | AA16: 7.45 | AB16: 7.7 | AC16: 8.6 | AD16: 6.9 | AE16: 9.7 | AG16: =AVERAGE(AA16:AD16) -> 7.6625 | AH16: =_xlfn.STDEV.P(AA16:AD16) -> 0.61377418
B17: Purchased production rights | C17: ='Income statement data BINTERNET'!M32 -> 7525 | F17: Disposal costs old flock | I17: =D29 -> 40000 | S17: Disposal costs contaminated eggs | T17: (1) × 7 × (4) × (17) | V17: =O5*7*O9*O32 -> 8055.6 | Z17: Nov | AA17: 7.65 | AB17: 7.9 | AC17: 8.45 | AD17: 7.3 | AE17: 11.35 | AG17: =AVERAGE(AA17:AD17) -> 7.825 | AH17: =_xlfn.STDEV.P(AA17:AD17) -> 0.41907637
B18: General costs | C18: ='Income statement data BINTERNET'!M43 -> 33075 | F18: Total allocated costs | G18: =SUM(G12:G17) -> 685475 | H18: =SUM(H12:H17) -> 685475 | I18: =SUM(I12:I17) -> 548816.72 | M18: Feed costs | S18: Disposal costs old flock | T18: (3) × (18) | V18: =O8*O33 -> 40000 | Z18: Dec | AA18: 7.6 | AB18: 8.2 | AC18: 8.7 | AD18: 7.85 | AE18: 11.85 | AG18: =AVERAGE(AA18:AD18) -> 8.0875 | AH18: =_xlfn.STDEV.P(AA18:AD18) -> 0.41287861
B19: TOTAL EXPENSES | C19: =SUM(C7:C18) -> 915600 | M19: Feed intake | N19: (10) | O19: 118 | P19: Grams/hen/day | Q19: KWIN Veehouderij 2017/2018
F20: Gross margin | G20: =G9-G18 -> 396475 | H20: =H9-H18 -> 547360.86 | I20: =I9-I18 -> 73337.538 | M20: Feed costs | N20: (11) | O20: =(25.5/100) -> 0.255 | P20: Euro/kg | Q20: KWIN Veehouderij 2017/2018
B21: Partial budget over 2017 of the impact of Fipronil
B22: on the net operating result | F22: Fixed costs | M22: Manure disposal costs
F23: Depreciation old flock | G23: =O8*(O13-O14)/O15*O16 -> 148620.59 | H23: =G23 -> 148620.59 | I23: =G23+D30+D41 -> 212500 | M23: Price_Fipronil | N23: (12) | O23: 42.5 | P23: Euro/ton | Q23: Poultry Expertise Centre
C24: Unaffected farm | D24: Affected farm | F24: Other non-allocated costs | G24: =C13+C14+C15+C16+C17+C18 -> 230125 | H24: =G24 -> 230125 | I24: =G24 -> 230125 | M24: Price_normal | N24: (13) | O24: 15 | P24: Euro/ton | Q24: Poultry Expertise Centre
B25: Additional costs | C25: =SUM(C26:C30) -> 0 | D25: =SUM(D26:D30) -> 113965.3 | F25: Total fixed costs | G25: =SUM(G23:G24) -> 378745.59 | H25: =SUM(H23:H24) -> 378745.59 | I25: =SUM(I23:I24) -> 442625
B26: Fipronil manure disposal | C26: 0 | D26: =V11 -> 10180.288 | M26: Egg selling revenue
B27: Stable cleaning | C27: 0 | D27: ='Partial budget and income stat.'!V16 -> 10000 | F27: Net operating result | G27: =G20-G25 -> 17729.412 | H27: =H20-H25 -> 168615.28 | I27: =I20-I25 -> -369287.46 | M27: Egg price average last 4 months 2017 | N27: (14) | O27: =AVERAGE(AE15:AE18)/100 -> 0.103375 | P27: Euro/egg | Q27: Agrimatie
B28: Contaminated eggs disposal | C28: 0 | D28: ='Partial budget and income stat.'!V17 -> 8055.6 | F28: EBITDA (excl. depr. flock) | G28: =G27+$C$15+$C$16 -> 155154.41 | H28: =H27+$C$15+$C$16 -> 306040.28 | I28: =I27+$C$15+$C$16 -> -231862.46 | M28: Egg price first half 2017 | N28: (15) | O28: =AVERAGE(AE7:AE12)/100 -> 0.077833333 | P28: Euro/egg | Q28: Agrimatie
B29: Old flock disposal | C29: 0 | D29: ='Partial budget and income stat.'!V18 -> 40000 | F29: EBITDA (incl. depr. flock) | G29: =G28+$C$15+$C$16+G23 -> 441200 | H29: =H28+$C$15+$C$16+H23 -> 592085.86 | I29: =I28+$C$15+$C$16+I23 -> 118062.54 | Q29: https://www.agrimatie.nl/Prijzen.aspx?ID=15125
B30: Old flock extra depreciation (write-off) | C30: 0 | D30: ='Partial budget and income stat.'!V6 -> 45729.412 | M30: Specific Fipronil costs
M31: Stable cleaning | N31: (16) | O31: 0.2 | P31: Euro/hen | Q31: Horne et al. (2017)
B32: Reduced costs | C32: =SUM(C33:C35) -> 0 | D32: =SUM(D33:D35) -> 204894.17 | M32: Disposal cost contaminated eggs | N32: (17) | O32: 0.01 | P32: Euro/egg | Q32: Horne et al. (2017)
B33: Feed | C33: - | D33: ='Partial budget and income stat.'!V9 -> 200098.5 | M33: Disposal cost contaminated hen | N33: (18) | O33: 0.8 | P33: Euro/hen | Q33: Horne et al. (2017)
B34: Manure disposal | C34: - | D34: =V10 -> 4795.6731
B36: Additional revenue | C36: =SUM(C37:C38) -> 150885.86 | D36: =SUM(D37:D38) -> 0
B37: Selling eggs | C37: ='Partial budget and income stat.'!U14 -> 150885.86 | D37: 0
B39: Reduced revenue | C39: =SUM(C40:C41) -> 0 | D39: =SUM(D40:D41) -> 477945.75
B40: Selling eggs | C40: 0 | D40: ='Partial budget and income stat.'!V13 -> 459795.75
B41: Slaugher value hens | D41: ='Partial budget and income stat.'!V7 -> 18150
B43: Change in net operating result | C43: =-C25+C32+C36-C39 -> 150885.86 | D43: =-D25+D32+D36-D39 -> -387016.87
