Workbook

Sheet Peptide List
A1: 1 | B1: H3 (1-20) | C1: H3 1-20
A2: 2 | B2: H3K9ac | C2: H3 1-20
A3: 3 | B3: H3K9ac | C3: H3 1-20
A4: 4 | B4: H3K4ac | C4: H3 1-20
A5: 5 | B5: H3K4ac + K14ac | C5: H3 1-20
A6: 6 | B6: H3K9ac + K14ac | C6: H3 1-20
A7: 7 | B7: H3K4ac + K9ac | C7: H3 1-20
A8: 8 | B8: H3K4ac + K9ac + K14ac | C8: H3 1-20
A9: 10 | B9: H3K18ac | C9: H3 1-20
A10: 11 | B10: H3K14ac + K18ac | C10: H3 1-20
A11: 12 | B11: H3K9ac + K18ac | C11: H3 1-20
A12: 13 | B12: H3K4ac + K18ac | C12: H3 1-20
... A292: 2706 | B292: H4K5K8but (1-23) | C292: H4 1-23

Sheet Sheet1
A1: A-rabbit | B1: 70 | C1: 21 | D1: 79 | E1: 8 | F1: 74 | G1: 25 | H1: 75 | I1: 61 | J1: 13 | K1: 78 | L1: 22 | M1: 66 | N1: 17 | O1: 82 | P1: A-mouse
A2: 14 | B2: 62 | C2: 29 | D2: 102 | E2: 10 | F2: 58 | G2: 34 | H2: 2665 | I2: 71 | J2: 5 | K2: 86 | L2: 38 | M2: 67 | N2: 1 | O2: 95 | P2: 42
A3: 47 | B3: 301 | C3: 39 | D3: 90 | E3: 52 | F3: 312 | G3: 35 | H3: 83 | I3: 300 | J3: 48 | K3: 103 | L3: 30 | M3: 304 | N3: 43 | O3: 99 | P3: 26
A4: 132 | B4: 403 | C4: 163 | D4: 383 | E4: 138 | F4: 626 | G4: 167 | H4: 65 | I4: 308 | J4: 146 | K4: 382 | L4: 164 | M4: 352 | N4: 150 | O4: 366 | P4: 151
A5: 147 | B5: 309 | C5: 180 | D5: 254 | E5: 139 | F5: 305 | G5: 184 | H5: 353 | I5: 260 | J5: 133 | K5: 198 | L5: 220 | M5: 400 | N5: 89 | O5: 374 | P5: 226
A6: 55 | B6: 224 | C6: 221 | D6: 371 | E6: 360 | F6: 129 | G6: 185 | H6: 195 | I6: 364 | J6: 56 | K6: 255 | L6: 181 | M6: 370 | N6: 237 | O6: 375 | P6: 174
A7: 88 | B7: 202 | C7: 320 | D7: 379 | E7: 140 | F7: 210 | G7: 357 | H7: 361 | I7: 156 | J7: 216 | K7: 378 | L7: 321 | M7: 161 | N7: 238 | O7: 409 | P7: 246
A8: 217 | B8: 158 | C8: 853 | D8: 337 | E8: 211 | F8: 141 | G8: 2657 | H8: 2669 | I8: 203 | J8: 126 | K8: 393 | L8: 316 | M8: 169 | N8: 4 | O8: 333 | P8: 1028
A9: 395 | B9: 1023 | C9: 317 | D9: 2670 | E9: 1012 | F9: 1013 | G9: 2704 | H9: 2655 | I9: 1022 | J9: 396 | K9: 338 | L9: 2663 | M9: 1027 | N9: a-mouse | O9: 334 | P9: 410
A10: 1034 | B10: 0 | C10: 0 | D10: 0 | E10: 2446 | F10: 0 | G10: 0 | H10: 0 | I10: 0 | J10: 0 | K10: 0 | L10: 0 | M10: 0 | N10: 0 | O10: 0 | P10: 0
A11: 0 | B11: 0 | C11: 0 | D11: 0 | E11: 0 | F11: 2447 | G11: 0 | H11: 0 | I11: 0 | J11: 1040 | K11: 0 | L11: 0 | M11: 0 | N11: 1029 | O11: 0 | P11: 0
A12: 0 | B12: 0 | C12: 0 | D12: 0 | E12: 0 | F12: 0 | G12: 0 | H12: 0 | I12: 0 | J12: 0 | K12: 0 | L12: 0 | M12: 0 | N12: 0 | O12: 0 | P12: 0
A13: 3 | B13: 69 | C13: 20 | D13: 80 | E13: 7 | F13: 73 | G13: 24 | H13: 76 | I13: 60 | J13: 12 | K13: 77 | L13: 23 | M13: 243 | N13: 16 | O13: 81 | P13: 19
A14: 15 | B14: 63 | C14: 28 | D14: 101 | E14: 11 | F14: 59 | G14: 33 | H14: 311 | I14: 72 | J14: 6 | K14: 85 | L14: 37 | M14: 68 | N14: 2 | O14: 93 | P14: 41
A15: 45 | B15: 302 | C15: 40 | D15: 91 | E15: 51 | F15: 2666 | G15: 36 | H15: 84 | I15: 2667 | J15: 50 | K15: 104 | L15: 32 | M15: 303 | N15: 44 | O15: 100 | P15: 27
A16: 125 | B16: 402 | C16: 162 | D16: 789 | E16: 137 | F16: 625 | G16: 166 | H16: 350 | I16: 307 | J16: 145 | K16: 381 | L16: 165 | M16: 243 | N16: 149 | O16: 790 | P16: 157
A17: 148 | B17: 310 | C17: 179 | D17: 253 | E17: 144 | F17: 306 | G17: 183 | H17: 2664 | I17: 264 | J17: 134 | K17: 197 | L17: 187 | M17: 401 | N17: 96 | O17: 373 | P17: 225
A18: 54 | B18: 259 | C18: 229 | D18: 372 | E18: 359 | F18: 362 | G18: 186 | H18: 196 | I18: 200 | J18: 57 | K18: 241 | L18: 182 | M18: 242 | N18: 53 | O18: 376 | P18: 178
A19: 87 | B19: 171 | C19: 265 | D19: 380 | E19: 136 | F19: 209 | G19: 323 | H19: 363 | I19: 155 | J19: 215 | K19: 365 | L19: 322 | M19: 160 | N19: 219 | O19: 408 | P19: 258
A20: 218 | B20: 159 | C20: 412 | D20: 336 | E20: 213 | F20: 142 | G20: 587 | H20: 2706 | I20: 208 | J20: 135 | K20: 662 | L20: 315 | M20: 170 | N20: 18 | O20: 332 | P20: 319
A21: 394 | B21: 1024 | C21: 318 | D21: 331 | E21: 476 | F21: 1014 | G21: 2671 | H21: 661 | I21: 1021 | J21: 475 | K21: 2705 | L21: 2656 | M21: 1025 | N21: A-Rabbit | O21: 335 | P21: 411
A22: 1032 | B22: 0 | C22: 0 | D22: 0 | E22: 2445 | F22: 0 | G22: 0 | H22: 0 | I22: 0 | J22: 0 | K22: 0 | L22: 0 | M22: 0 | N22: 0 | O22: 0 | P22: 0
A23: 0 | B23: 0 | C23: 0 | D23: 0 | E23: 0 | F23: 0 | G23: 0 | H23: 0 | I23: 0 | J23: 1043 | K23: 0 | L23: 0 | M23: 0 | N23: 1030 | O23: 0 | P23: 0
A24: 0 | B24: 0 | C24: 0 | D24: 0 | E24: 0 | F24: 0 | G24: 0 | H24: 0 | I24: 0 | J24: 0 | K24: 0 | L24: 0 | M24: 0 | N24: 0 | O24: 0 | P24: 0
A25: 2 | B25: 68 | C25: 19 | D25: 81 | E25: 6 | F25: 72 | G25: 23 | H25: 77 | I25: 59 | J25: 11 | K25: 76 | L25: 24 | M25: 63 | N25: 15 | O25: 80 | P25: 20
A26: 16 | B26: 243 | C26: 27 | D26: 100 | E26: 12 | F26: 60 | G26: 32 | H26: 104 | I26: 73 | J26: 7 | K26: 84 | L26: 36 | M26: 69 | N26: 3 | O26: 91 | P26: 40
A27: 44 | B27: 303 | C27: 41 | D27: 93 | E27: 50 | F27: 2667 | G27: 37 | H27: 85 | I27: 2666 | J27: 51 | K27: 311 | L27: 33 | M27: 302 | N27: 45 | O27: 101 | P27: 28
A28: 96 | B28: 401 | C28: 157 | D28: 790 | E28: 134 | F28: 264 | G28: 165 | H28: 381 | I28: 306 | J28: 144 | K28: 350 | L28: 166 | M28: 310 | N28: 148 | O28: 789 | P28: 162
A29: 149 | B29: 245 | C29: 178 | D29: 376 | E29: 145 | F29: 307 | G29: 182 | H29: 241 | I29: 625 | J29: 137 | K29: 196 | L29: 186 | M29: 402 | N29: 125 | O29: 372 | P29: 229
A30: 53 | B30: 242 | C30: 225 | D30: 373 | E30: 57 | F30: 200 | G30: 187 | H30: 197 | I30: 362 | J30: 359 | K30: 2664 | L30: 183 | M30: 259 | N30: 54 | O30: 253 | P30: 179
A31: 18 | B31: 170 | C31: 258 | D31: 408 | E31: 135 | F31: 208 | G31: 322 | H31: 365 | I31: 142 | J31: 213 | K31: 363 | L31: 323 | M31: 159 | N31: 218 | O31: 380 | P31: 265
A32: 219 | B32: 160 | C32: 411 | D32: 335 | E32: 215 | F32: 155 | G32: 2656 | H32: 2705 | I32: 209 | J32: 136 | K32: 661 | L32: 2571 | M32: 171 | N32: 87 | O32: 331 | P32: 318
A33: A-rabbit | B33: 1025 | C33: 319 | D33: 332 | E33: 475 | F33: 1021 | G33: 315 | H33: 662 | I33: 1014 | J33: 476 | K33: 2706 | L33: 587 | M33: 1024 | N33: 394 | O33: 336 | P33: 412
A34: 1030 | B34: 0 | C34: 0 | D34: 0 | E34: 1043 | F34: 0 | G34: 0 | H34: 0 | I34: 0 | J34: 0 | K34: 0 | L34: 0 | M34: 0 | N34: 0 | O34: 0 | P34: 0
A35: 0 | B35: 0 | C35: 0 | D35: 0 | E35: 0 | F35: 0 | G35: 0 | H35: 0 | I35: 0 | J35: 2445 | K35: 0 | L35: 0 | M35: 0 | N35: 1032 | O35: 0 | P35: 0
A36: 0 | B36: 0 | C36: 0 | D36: 0 | E36: 0 | F36: 0 | G36: 0 | H36: 0 | I36: 0 | J36: 0 | K36: 0 | L36: 0 | M36: 0 | N36: 0 | O36: 0 | P36: 0
A37: 1 | B37: 67 | C37: a-mouse | D37: 82 | E37: 5 | F37: 71 | G37: 22 | H37: 78 | I37: 58 | J37: 10 | K37: 75 | L37: 25 | M37: 62 | N37: 14 | O37: 79 | P37: 21
A38: 17 | B38: 66 | C38: 26 | D38: 99 | E38: 13 | F38: 61 | G38: 30 | H38: 103 | I38: 74 | J38: 8 | K38: 83 | L38: 35 | M38: 70 | N38: A-rabbit | O38: 90 | P38: 39
A39: 43 | B39: 304 | C39: 42 | D39: 95 | E39: 48 | F39: 300 | G39: 38 | H39: 86 | I39: 312 | J39: 52 | K39: 2665 | L39: 34 | M39: 301 | N39: 47 | O39: 102 | P39: 29
A40: 89 | B40: 400 | C40: 151 | D40: 366 | E40: 133 | F40: 260 | G40: 164 | H40: 382 | I40: 305 | J40: 139 | K40: 65 | L40: 167 | M40: 309 | N40: 147 | O40: 383 | P40: 163
...

Sheet Average Signals
B1: ING1 | E1: ING2 | H1: ING3 | K1: ING4 | N1: ING5 | Q1: DIDO1 | T1: TAF3 | W1: RAG2 | Z1: MORC3 (CW) | AC1: BPTF (PB) | AF1: KDM4C (TTP) | AI1: KDM5A (PHD3) | AL1: KDM5B (PHD3) | AO1: KDM7A | AR1: PHF2 | AU1: PHF8 | AX1: PHF13 | BA1: PHF23 | BD1: MLL5 | BG1: KDM5A (PHD1) | BJ1: KDM5B (PHD1) | BM1: PHF21A | BP1: CHD4 (PPCC) | BS1: CHD5 (PCC) | BV1: DPF2 (PPC2W2) | BY1: AIRE (PP) | CB1: PHRF1 (RP) | CE1: TRIM66 (PB) | CH1: SP140L (SPB) | CK1: CHD5 (PPCC) | CN1: BAZ2B (PB)
A2: No. | B2: Peptide | C2: Average Signal | D2: Std. Dev. | E2: Peptide | F2: Average Signal | G2: Std. Dev. | H2: Peptide | I2: Average Signal | J2: Std. Dev. | K2: Peptide | L2: Average Signal | M2: Std. Dev. | N2: Peptide | O2: Average Signal | P2: Std. Dev. | Q2: Peptide | R2: Average Signal | S2: Std. Dev. | T2: Peptide | U2: Average Signal | V2: Std. Dev. | W2: Peptide | X2: Average Signal | Y2: Std. Dev. | Z2: Peptide | AA2: Average Signal | AB2: Std. Dev. | AC2: Peptide | AD2: Average Signal | AE2: Std. Dev. | AF2: Peptide | AG2: Average Signal | AH2: Std. Dev. | AI2: Peptide | AJ2: Average Signal | AK2: Std. Dev. | AL2: Peptide | AM2: Average Signal | AN2: Std. Dev. | AO2: Peptide | AP2: Average Signal | AQ2: Std. Dev. | AR2: Peptide | AS2: Average Signal | AT2: Std. Dev. | AU2: Peptide | AV2: Average Signal | AW2: Std. Dev. | AX2: Peptide | AY2: Average Signal | AZ2: Std. Dev. | BA2: Peptide | BB2: Average Signal | BC2: Std. Dev. | BD2: Peptide | BE2: Average Signal | BF2: Std. Dev. | BG2: Peptide | BH2: Average Signal | BI2: Std. Dev. | BJ2: Peptide | BK2: Average Signal | BL2: Std. Dev. | BM2: Peptide | BN2: Average Signal | BO2: Std. Dev. | BP2: Peptide | BQ2: Average Signal | BR2: Std. Dev. | BS2: Peptide | BT2: Average Signal | BU2: Std. Dev. | BV2: Peptide | BW2: Average Signal | BX2: Std. Dev. | BY2: Peptide | BZ2: Average Signal | CA2: Std. Dev. | CB2: Peptide | CC2: Average Signal | CD2: Std. Dev. | CE2: Peptide | CF2: Average Signal | CG2: Std. Dev. | CH2: Peptide | CI2: Average Signal | CJ2: Std. Dev. | CK2: Peptide | CL2: Average Signal | CM2: Std. Dev. | CN2: Peptide | CO2: Average Signal | CP2: Std. Dev.
A3: 1 | B3: =VLOOKUP(A3,'Peptide List'!A:B,2,TRUE) -> H3 (1-20) | C3: 419.5 | D3: 98.658596 | E3: H3 (1-20) | F3: 478.33333 | G3: 43.405922 | H3: H3 (1-20) | I3: 354.16667 | J3: 133.50142 | K3: H3 (1-20) | L3: 291 | M3: 97.02806 | N3: H3 (1-20) | O3: 243.75 | P3: 89.45985 | Q3: H3 (1-20) | R3: 604.16667 | S3: 185.24408 | T3: H3 (1-20) | U3: 515.25 | V3: 99.204381 | W3: H3 (1-20) | X3: 433.41667 | Y3: 64.179364 | Z3: H3 (1-20) | AA3: 513 | AB3: 52.731325 | AC3: H3 (1-20) | AD3: 330.91667 | AE3: 108.48464 | AF3: H3 (1-20) | AG3: 237 | AH3: 91.550027 | AI3: H3 (1-20) | AJ3: 516.83333 | AK3: 35.603267 | AL3: H3 (1-20) | AM3: 524.16667 | AN3: 127.21417 | AO3: H3 (1-20) | AP3: 253.25 | AQ3: 101.21864 | AR3: H3 (1-20) | AS3: 700.25 | AT3: 114.70651 | AU3: H3 (1-20) | AV3: 456.16667 | AW3: 104.4497 | AX3: H3 (1-20) | AY3: 384.33333 | AZ3: 104.39491 | BA3: H3 (1-20) | BB3: 629.08333 | BC3: 98.878667 | BD3: H3 (1-20) | BE3: 362 | BF3: 76.980036 | BG3: H3 (1-20) | BH3: 194.83333 | BI3: 54.848276 | BJ3: H3 (1-20) | BK3: 291.5 | BL3: 35.988167 | BM3: H3 (1-20) | BN3: 412.75 | BO3: 97.240205 | BP3: H3 (1-20) | BQ3: 489.83333 | BR3: 115.17603 | BS3: H3 (1-20) | BT3: 456 | BU3: 176.69811 | BV3: H3 (1-20) | BW3: 581.58333 | BX3: 99.390504 | BY3: H3 (1-20) | BZ3: 287.16667 | CA3: 106.03092 | CB3: H3 (1-20) | CC3: 586.5 | CD3: 91.355837 | CE3: H3 (1-20) | CF3: 867.08333 | CG3: 138.67585 | CH3: H3 (1-20) | CI3: 471.16667 | CJ3: 126.29228 | CK3: H3 (1-20) | CL3: 302.75 | CM3: 93.727886 | CN3: H3 (1-20) | CO3: 303.41667 | CP3: 121.45732
A4: 2 | B4: =VLOOKUP(A4,'Peptide List'!A:B,2,TRUE) -> H3K9ac | C4: 406.91667 | D4: 65.589845 | E4: H3K9ac | F4: 490.5 | G4: 56.416769 | H4: H3K9ac | I4: 347.5 | J4: 108.54919 | K4: H3K9ac | L4: 297.58333 | M4: 102.16232 | N4: H3K9ac | O4: 242.58333 | P4: 92.374189 | Q4: H3K9ac | R4: 564.83333 | S4: 134.36063 | T4: H3K9ac | U4: 646.25 | V4: 40.060487 | W4: H3K9ac | X4: 495.33333 | Y4: 79.36554 | Z4: H3K9ac | AA4: 621 | AB4: 76.595136 | AC4: H3K9ac | AD4: 338.75 | AE4: 101.67391 | AF4: H3K9ac | AG4: 237.41667 | AH4: 88.826245 | AI4: H3K9ac | AJ4: 628.66667 | AK4: 17.320508 | AL4: H3K9ac | AM4: 555.91667 | AN4: 32.151695 | AO4: H3K9ac | AP4: 255.41667 | AQ4: 95.98201 | AR4: H3K9ac | AS4: 761.75 | AT4: 90.419342 | AU4: H3K9ac | AV4: 448.58333 | AW4: 95.064257 | AX4: H3K9ac | AY4: 387.66667 | AZ4: 119.6337 | BA4: H3K9ac | BB4: 576.83333 | BC4: 82.253673 | BD4: H3K9ac | BE4: 373.5 | BF4: 84.87049 | BG4: H3K9ac | BH4: 213.33333 | BI4: 57.735027 | BJ4: H3K9ac | BK4: 324.5 | BL4: 29.059964 | BM4: H3K9ac | BN4: 428.66667 | BO4: 138.25446 | BP4: H3K9ac | BQ4: 516.5 | BR4: 28.974446 | BS4: H3K9ac | BT4: 511 | BU4: 95.495588 | BV4: H3K9ac | BW4: 638.41667 | BX4: 72.170772 | BY4: H3K9ac | BZ4: 290.83333 | CA4: 70.478523 | CB4: H3K9ac | CC4: 796.16667 | CD4: 106.58834 | CE4: H3K9ac | CF4: 1013.3333 | CG4: 120.02592 | CH4: H3K9ac | CI4: 375.5 | CJ4: 52.81449 | CK4: H3K9ac | CL4: 325.66667 | CM4: 55.546444 | CN4: H3K9ac | CO4: 327.66667 | CP4: 107.03582
A5: 3 | B5: =VLOOKUP(A5,'Peptide List'!A:B,2,TRUE) -> H3K9ac | C5: 436.91667 | D5: 84.722368 | E5: H3K9ac | F5: 488.66667 | G5: 47.683369 | H5: H3K9ac | I5: 335.83333 | J5: 117.6931 | K5: H3K9ac | L5: 295.75 | M5: 101.21974 | N5: H3K9ac | O5: 244.25 | P5: 95.558156 | Q5: H3K9ac | R5: 630.08333 | S5: 174.32821 | T5: H3K9ac | U5: 553.33333 | V5: 125.74784 | W5: H3K9ac | X5: 466.41667 | Y5: 72.312273 | Z5: H3K9ac | AA5: 622.33333 | AB5: 71.591433 | AC5: H3K9ac | AD5: 331.58333 | AE5: 110.58778 | AF5: H3K9ac | AG5: 238.16667 | AH5: 87.788677 | AI5: H3K9ac | AJ5: 658 | AK5: 43.10882 | AL5: H3K9ac | AM5: 542.33333 | AN5: 18.642842 | AO5: H3K9ac | AP5: 257.16667 | AQ5: 92.161091 | AR5: H3K9ac | AS5: 718.58333 | AT5: 131.24373 | AU5: H3K9ac | AV5: 440.25 | AW5: 113.53719 | AX5: H3K9ac | AY5: 382.75 | AZ5: 99.656586 | BA5: H3K9ac | BB5: 588.25 | BC5: 128.79538 | BD5: H3K9ac | BE5: 382.16667 | BF5: 114.5078 | BG5: H3K9ac | BH5: 201.5 | BI5: 60.236878 | BJ5: H3K9ac | BK5: 318 | BL5: 31.561815 | BM5: H3K9ac | BN5: 436 | BO5: 106.83702 | BP5: H3K9ac | BQ5: 557.91667 | BR5: 31.1928 | BS5: H3K9ac | BT5: 461 | BU5: 116.02905 | BV5: H3K9ac | BW5: 652.25 | BX5: 93.101448 | BY5: H3K9ac | BZ5: 279 | CA5: 87.646174 | CB5: H3K9ac | CC5: 783.33333 | CD5: 64.85825 | CE5: H3K9ac | CF5: 890.91667 | CG5: 82.131049 | CH5: H3K9ac | CI5: 382.75 | CJ5: 64.939502 | CK5: H3K9ac | CL5: 306.83333 | CM5: 81.246994 | CN5: H3K9ac | CO5: 321 | CP5: 95.028261
A6: 4 | B6: =VLOOKUP(A6,'Peptide List'!A:B,2,TRUE) -> H3K4ac | C6: 397.66667 | D6: 81.049596 | E6: H3K4ac | F6: 491.75 | G6: 33.466816 | H6: H3K4ac | I6: 349.58333 | J6: 112.31944 | K6: H3K4ac | L6: 290.66667 | M6: 91.790825 | N6: H3K4ac | O6: 242.58333 | P6: 91.310368 | Q6: H3K4ac | R6: 588.41667 | S6: 186.46306 | T6: H3K4ac | U6: 449.58333 | V6: 118.41214 | W6: H3K4ac | X6: 360.33333 | Y6: 84.497644 | Z6: H3K4ac | AA6: 415.83333 | AB6: 89.489292 | AC6: H3K4ac | AD6: 336.25 | AE6: 106.94283 | AF6: H3K4ac | AG6: 234.5 | AH6: 92.072636 | AI6: H3K4ac | AJ6: 437.16667 | AK6: 69.859383 | AL6: H3K4ac | AM6: 453.41667 | AN6: 133.47975 | AO6: H3K4ac | AP6: 255.91667 | AQ6: 96.466987 | AR6: H3K4ac | AS6: 742.33333 | AT6: 135.90874 | AU6: H3K4ac | AV6: 468 | AW6: 109.70499 | AX6: H3K4ac | AY6: 397 | AZ6: 98.34595 | BA6: H3K4ac | BB6: 590.33333 | BC6: 91.361715 | BD6: H3K4ac | BE6: 374.83333 | BF6: 89.874192 | BG6: H3K4ac | BH6: 193 | BI6: 67.357531 | BJ6: H3K4ac | BK6: 268.33333 | BL6: 75.825335 | BM6: H3K4ac | BN6: 393.33333 | BO6: 118.17219 | BP6: H3K4ac | BQ6: 422.5 | BR6: 107.01696 | BS6: H3K4ac | BT6: 440.66667 | BU6: 169.57004 | BV6: H3K4ac | BW6: 569.83333 | BX6: 133.29624 | BY6: H3K4ac | BZ6: 274.66667 | CA6: 92.285788 | CB6: H3K4ac | CC6: 386.83333 | CD6: 79.857976 | CE6: H3K4ac | CF6: 713.83333 | CG6: 189.64401 | CH6: H3K4ac | CI6: 313.25 | CJ6: 76.731555 | CK6: H3K4ac | CL6: 280.33333 | CM6: 98.206132 | CN6: H3K4ac | CO6: 296.58333 | CP6: 113.98973
A7: 5 | B7: =VLOOKUP(A7,'Peptide List'!A:B,2,TRUE) -> H3K4ac + K14ac | C7: 389.66667 | D7: 30.455797 | E7: H3K4ac + K14ac | F7: 493.91667 | G7: 53.893156 | H7: H3K4ac + K14ac | I7: 398 | J7: 69.764153 | K7: H3K4ac + K14ac | L7: 308.75 | M7: 35.214028 | N7: H3K4ac + K14ac | O7: 254.25 | P7: 42.132397 | Q7: H3K4ac + K14ac | R7: 550.08333 | S7: 73.300687 | T7: H3K4ac + K14ac | U7: 529 | V7: 11.990737 | W7: H3K4ac + K14ac | X7: 431.16667 | Y7: 54.821258 | Z7: H3K4ac + K14ac | AA7: 520.5 | AB7: 10.584755 | AC7: H3K4ac + K14ac | AD7: 457.25 | AE7: 2.0615528 | AF7: H3K4ac + K14ac | AG7: 277.66667 | AH7: 28.945671 | AI7: H3K4ac + K14ac | AJ7: 520.66667 | AK7: 5.7735027 | AL7: H3K4ac + K14ac | AM7: 539.58333 | AN7: 35.52503 | AO7: H3K4ac + K14ac | AP7: 347 | AQ7: 67.511316 | AR7: H3K4ac + K14ac | AS7: 642.33333 | AT7: 153.48857 | AU7: H3K4ac + K14ac | AV7: 457.16667 | AW7: 31.76476 | AX7: H3K4ac + K14ac | AY7: 419.16667 | AZ7: 45.832626 | BA7: H3K4ac + K14ac | BB7: 613.16667 | BC7: 75.826556 | BD7: H3K4ac + K14ac | BE7: 386.33333 | BF7: 36.950417 | BG7: H3K4ac + K14ac | BH7: 224.83333 | BI7: 2.8867513 | BJ7: H3K4ac + K14ac | BK7: 324.33333 | BL7: 0.38490018 | BM7: H3K4ac + K14ac | BN7: 428.5 | BO7: 44.920094 | BP7: H3K4ac + K14ac | BQ7: 475.08333 | BR7: 39.036901 | BS7: H3K4ac + K14ac | BT7: 529.75 | BU7: 36.79007 | BV7: H3K4ac + K14ac | BW7: 583.66667 | BX7: 49.050994 | BY7: H3K4ac + K14ac | BZ7: 354.33333 | CA7: 33.236526 | CB7: H3K4ac + K14ac | CC7: 505.83333 | CD7: 21.26813 | CE7: H3K4ac + K14ac | CF7: 791.25 | CG7: 57.810274 | CH7: H3K4ac + K14ac | CI7: 342.66667 | CJ7: 42.76118 | CK7: H3K4ac + K14ac | CL7: 313.08333 | CM7: 41.286151 | CN7: H3K4ac + K14ac | CO7: 580.16667 | CP7: 146.86691
A8: 6 | B8: =VLOOKUP(A8,'Peptide List'!A:B,2,TRUE) -> H3K9ac + K14ac | C8: 395.08333 | D8: 47.226307 | E8: H3K9ac + K14ac | F8: 480.25 | G8: 24.84228 | H8: H3K9ac + K14ac | I8: 352.16667 | J8: 54.497367 | K8: H3K9ac + K14ac | L8: 324.16667 | M8: 55.956663 | N8: H3K9ac + K14ac | O8: 258.41667 | P8: 37.89007 | Q8: H3K9ac + K14ac | R8: 531.66667 | S8: 48.661339 | T8: H3K9ac + K14ac | U8: 570.91667 | V8: 25.326571 | W8: H3K9ac + K14ac | X8: 445.25 | Y8: 39.617967 | Z8: H3K9ac + K14ac | AA8: 706 | AB8: 29.637314 | AC8: H3K9ac + K14ac | AD8: 370.41667 | AE8: 39.424917 | AF8: H3K9ac + K14ac | AG8: 285.41667 | AH8: 32.469216 | AI8: H3K9ac + K14ac | AJ8: 542.33333 | AK8: 50.806824 | AL8: H3K9ac + K14ac | AM8: 595 | AN8: 60.378436 | AO8: H3K9ac + K14ac | AP8: 367.75 | AQ8: 68.652844 | AR8: H3K9ac + K14ac | AS8: 587.66667 | AT8: 131.09369 | AU8: H3K9ac + K14ac | AV8: 451.33333 | AW8: 46.972805 | AX8: H3K9ac + K14ac | AY8: 403 | AZ8: 45.273654 | BA8: H3K9ac + K14ac | BB8: 541.58333 | BC8: 43.491485 | BD8: H3K9ac + K14ac | BE8: 417.5 | BF8: 40.606969 | BG8: H3K9ac + K14ac | BH8: 250.5 | BI8: 10.199855 | BJ8: H3K9ac + K14ac | BK8: 430 | BL8: 61.968929 | BM8: H3K9ac + K14ac | BN8: 500.25 | BO8: 25.355801 | BP8: H3K9ac + K14ac | BQ8: 556.41667 | BR8: 59.954535 | BS8: H3K9ac + K14ac | BT8: 610 | BU8: 36.392918 | BV8: H3K9ac + K14ac | BW8: 859.41667 | BX8: 157.43602 | BY8: H3K9ac + K14ac | BZ8: 500.91667 | CA8: 69.567114 | CB8: H3K9ac + K14ac | CC8: 875.33333 | CD8: 234.54337 | CE8: H3K9ac + K14ac | CF8: 1110.5833 | CG8: 81.742765 | CH8: H3K9ac + K14ac | CI8: 361.91667 | CJ8: 43.645351 | CK8: H3K9ac + K14ac | CL8: 332.66667 | CM8: 21.400935 | CN8: H3K9ac + K14ac | CO8: 692.66667 | CP8: 116.68571
A9: 7 | B9: =VLOOKUP(A9,'Peptide List'!A:B,2,TRUE) -> H3K4ac + K9ac | C9: 402.66667 | D9: 42.064325 | E9: H3K4ac + K9ac | F9: 499.83333 | G9: 24.006943 | H9: H3K4ac + K9ac | I9: 355.75 | J9: 45.865645 | K9: H3K4ac + K9ac | L9: 312.58333 | M9: 54.125625 | N9: H3K4ac + K9ac | O9: 260.75 | P9: 31.833333 | Q9: H3K4ac + K9ac | R9: 539.58333 | S9: 66.712415 | T9: H3K4ac + K9ac | U9: 558.91667 | V9: 93.813596 | W9: H3K4ac + K9ac | X9: 429.16667 | Y9: 74.752679 | Z9: H3K4ac + K9ac | AA9: 451.33333 | AB9: 38.105118 | AC9: H3K4ac + K9ac | AD9: 387.75 | AE9: 27.483834 | AF9: H3K4ac + K9ac | AG9: 287.16667 | AH9: 52.713411 | AI9: H3K4ac + K9ac | AJ9: 594.83333 | AK9: 72.553684 | AL9: H3K4ac + K9ac | AM9: 595.41667 | AN9: 82.831545 | AO9: H3K4ac + K9ac | AP9: 357.75 | AQ9: 102.86718 | AR9: H3K4ac + K9ac | AS9: 664.75 | AT9: 152.94501 | AU9: H3K4ac + K9ac | AV9: 446.75 | AW9: 53.574023 | AX9: H3K4ac + K9ac | AY9: 398.66667 | AZ9: 67.438312 | BA9: H3K4ac + K9ac | BB9: 563.25 | BC9: 62.833923 | BD9: H3K4ac + K9ac | BE9: 405.66667 | BF9: 90.451542 | BG9: H3K4ac + K9ac | BH9: 223.5 | BI9: 30.984464 | BJ9: H3K4ac + K9ac | BK9: 320.16667 | BL9: 6.7357531 | BM9: H3K4ac + K9ac | BN9: 428.08333 | BO9: 64.522965 | BP9: H3K4ac + K9ac | BQ9: 461.33333 | BR9: 32.881381 | BS9: H3K4ac + K9ac | BT9: 544.75 | BU9: 13.502743 | BV9: H3K4ac + K9ac | BW9: 599.41667 | BX9: 18.80972 | BY9: H3K4ac + K9ac | BZ9: 376.5 | CA9: 69.893835 | CB9: H3K4ac + K9ac | CC9: 579 | CD9: 113.30228 | CE9: H3K4ac + K9ac | CF9: 809.41667 | CG9: 187.64118 | CH9: H3K4ac + K9ac | CI9: 357.66667 | CJ9: 50.815571 | CK9: H3K4ac + K9ac | CL9: 311.83333 | CM9: 37.840308 | CN9: H3K4ac + K9ac | CO9: 366.83333 | CP9: 42.498366
A10: 8 | B10: =VLOOKUP(A10,'Peptide List'!A:B,2,TRUE) -> H3K4ac + K9ac + K14ac | C10: 399.83333 | D10: 23.508076 | E10: H3K4ac + K9ac + K14ac | F10: 485.83333 | G10: 42.783261 | H10: H3K4ac + K9ac + K14ac | I10: 357.41667 | J10: 33.09624 | K10: H3K4ac + K9ac + K14ac | L10: 302.33333 | M10: 35.687948 | N10: H3K4ac + K9ac + K14ac | O10: 265 | P10: 38.115808 | Q10: H3K4ac + K9ac + K14ac | R10: 548.75 | S10: 35.050625 | T10: H3K4ac + K9ac + K14ac | U10: 468.16667 | V10: 70.857447 | W10: H3K4ac + K9ac + K14ac | X10: 399.83333 | Y10: 60.583276 | Z10: H3K4ac + K9ac + K14ac | AA10: 482.83333 | AB10: 57.542577 | AC10: H3K4ac + K9ac + K14ac | AD10: 423.08333 | AE10: 28.581754 | AF10: H3K4ac + K9ac + K14ac | AG10: 275.41667 | AH10: 46.005938 | AI10: H3K4ac + K9ac + K14ac | AJ10: 535.66667 | AK10: 95.070344 | AL10: H3K4ac + K9ac + K14ac | AM10: 508.75 | AN10: 34.156909 | AO10: H3K4ac + K9ac + K14ac | AP10: 299.08333 | AQ10: 51.53882 | AR10: H3K4ac + K9ac + K14ac | AS10: 659.83333 | AT10: 121.58597 | AU10: H3K4ac + K9ac + K14ac | AV10: 443.91667 | AW10: 21.20862 | AX10: H3K4ac + K9ac + K14ac | AY10: 394.75 | AZ10: 38.731148 | BA10: H3K4ac + K9ac + K14ac | BB10: 601.91667 | BC10: 28.140356 | BD10: H3K4ac + K9ac + K14ac | BE10: 380.5 | BF10: 26.750562 | BG10: H3K4ac + K9ac + K14ac | BH10: 213.33333 | BI10: 35.025916 | BJ10: H3K4ac + K9ac + K14ac | BK10: 332 | BL10: 17.320508 | BM10: H3K4ac + K9ac + K14ac | BN10: 417.75 | BO10: 50.502934 | BP10: H3K4ac + K9ac + K14ac | BQ10: 475.25 | BR10: 50.933781 | BS10: H3K4ac + K9ac + K14ac | BT10: 503.16667 | BU10: 13.472881 | BV10: H3K4ac + K9ac + K14ac | BW10: 635.08333 | BX10: 120.36899 | BY10: H3K4ac + K9ac + K14ac | BZ10: 319.91667 | CA10: 86.945864 | CB10: H3K4ac + K9ac + K14ac | CC10: 484.75 | CD10: 32.274718 | CE10: H3K4ac + K9ac + K14ac | CF10: 683 | CG10: 83.563238 | CH10: H3K4ac + K9ac + K14ac | CI10: 343.33333 | CJ10: 39.221121 | CK10: H3K4ac + K9ac + K14ac | CL10: 302.5 | CM10: 41.299718 | CN10: H3K4ac + K9ac + K14ac | CO10: 542.08333 | CP10: 26.202028
A11: 10 | B11: =VLOOKUP(A11,'Peptide List'!A:B,2,TRUE) -> H3K18ac | C11: 397.16667 | D11: 19.971276 | E11: H3K18ac | F11: 476.5 | G11: 20.404248 | H11: H3K18ac | I11: 355.58333 | J11: 29.371661 | K11: H3K18ac | L11: 299.75 | M11: 32.520506 | N11: H3K18ac | O11: 265.83333 | P11: 40.837982 | Q11: H3K18ac | R11: 556.25 | S11: 44.552404 | T11: H3K18ac | U11: 566 | V11: 110.65361 | W11: H3K18ac | X11: 423.5 | Y11: 55.371138 | Z11: H3K18ac | AA11: 801 | AB11: 220.1629 | AC11: H3K18ac | AD11: 344.75 | AE11: 37.330729 | AF11: H3K18ac | AG11: 278.66667 | AH11: 48.335249 | AI11: H3K18ac | AJ11: 735.66667 | AK11: 269.04523 | AL11: H3K18ac | AM11: 556.5 | AN11: 44.822696 | AO11: H3K18ac | AP11: 303.5 | AQ11: 55.030295 | AR11: H3K18ac | AS11: 619 | AT11: 107.91389 | AU11: H3K18ac | AV11: 436.83333 | AW11: 25.627676 | AX11: H3K18ac | AY11: 403.5 | AZ11: 38.870631 | BA11: H3K18ac | BB11: 572.25 | BC11: 34.458107 | BD11: H3K18ac | BE11: 377 | BF11: 19.245009 | BG11: H3K18ac | BH11: 222.66667 | BI11: 38.490018 | BJ11: H3K18ac | BK11: 336.16667 | BL11: 32.908965 | BM11: H3K18ac | BN11: 439.58333 | BO11: 53.816131 | BP11: H3K18ac | BQ11: 474.66667 | BR11: 53.301379 | BS11: H3K18ac | BT11: 500.83333 | BU11: 33.259362 | BV11: H3K18ac | BW11: 699.16667 | BX11: 156.9488 | BY11: H3K18ac | BZ11: 452.83333 | CA11: 219.2765 | CB11: H3K18ac | CC11: 788.25 | CD11: 101.02672 | CE11: H3K18ac | CF11: 940.83333 | CG11: 137.10188 | CH11: H3K18ac | CI11: 385.41667 | CJ11: 67.728967 | CK11: H3K18ac | CL11: 318.66667 | CM11: 48.513457 | CN11: H3K18ac | CO11: 319.83333 | CP11: 55.032314
A12: 11 | B12: =VLOOKUP(A12,'Peptide List'!A:B,2,TRUE) -> H3K14ac + K18ac | C12: 397.91667 | D12: 42.56792 | E12: H3K14ac + K18ac | F12: 486.91667 | G12: 15.063753 | H12: H3K14ac + K18ac | I12: 348.5 | J12: 44.15503 | K12: H3K14ac + K18ac | L12: 311 | M12: 56.632016 | N12: H3K14ac + K18ac | O12: 261.83333 | P12: 34.338727 | Q12: H3K14ac + K18ac | R12: 559.58333 | S12: 49.892755 | T12: H3K14ac + K18ac | U12: 611 | V12: 157.83348 | W12: H3K14ac + K18ac | X12: 414.33333 | Y12: 50.807553 | Z12: H3K14ac + K18ac | AA12: 585.5 | AB12: 4.4263521 | AC12: H3K14ac + K18ac | AD12: 362.25 | AE12: 40.961929 | AF12: H3K14ac + K18ac | AG12: 290.91667 | AH12: 50.368549 | AI12: H3K14ac + K18ac | AJ12: 703.5 | AK12: 157.23172 | AL12: H3K14ac + K18ac | AM12: 623.66667 | AN12: 118.0706 | AO12: H3K14ac + K18ac | AP12: 357.33333 | AQ12: 103.33369 | AR12: H3K14ac + K18ac | AS12: 587.75 | AT12: 125.04292 | AU12: H3K14ac + K18ac | AV12: 434.75 | AW12: 43.480413 | AX12: H3K14ac + K18ac | AY12: 399.25 | AZ12: 50.978118 | BA12: H3K14ac + K18ac | BB12: 547.08333 | BC12: 51.919721 | BD12: H3K14ac + K18ac | BE12: 426.5 | BF12: 106.4249 | BG12: H3K14ac + K18ac | BH12: 249.66667 | BI12: 27.712813 | BJ12: H3K14ac + K18ac | BK12: 361 | BL12: 6.5433031 | BM12: H3K14ac + K18ac | BN12: 478 | BO12: 71.791364 | BP12: H3K14ac + K18ac | BQ12: 480.33333 | BR12: 46.662698 | BS12: H3K14ac + K18ac | BT12: 534.33333 | BU12: 47.972986 | BV12: H3K14ac + K18ac | BW12: 789.33333 | BX12: 36.084264 | BY12: H3K14ac + K18ac | BZ12: 716.58333 | CA12: 121.80962 | CB12: H3K14ac + K18ac | CC12: 762.08333 | CD12: 97.918097 | CE12: H3K14ac + K18ac | CF12: 1138.4167 | CG12: 197.45705 | CH12: H3K14ac + K18ac | CI12: 435.58333 | CJ12: 126.62203 | CK12: H3K14ac + K18ac | CL12: 319.75 | CM12: 48.877303 | CN12: H3K14ac + K18ac | CO12: 562.66667 | CP12: 83.865412
A13: 12 | B13: =VLOOKUP(A13,'Peptide List'!A:B,2,TRUE) -> H3K9ac + K18ac | C13: 390.91667 | D13: 54.316886 | E13: H3K9ac + K18ac | F13: 492.5 | G13: 36.068351 | H13: H3K9ac + K18ac | I13: 358.66667 | J13: 47.633633 | K13: H3K9ac + K18ac | L13: 320.25 | M13: 54.185809 | N13: H3K9ac + K18ac | O13: 261.5 | P13: 35.98405 | Q13: H3K9ac + K18ac | R13: 573.58333 | S13: 63.367462 | T13: H3K9ac + K18ac | U13: 545.08333 | V13: 81.477275 | W13: H3K9ac + K18ac | X13: 480.5 | Y13: 85.137144 | Z13: H3K9ac + K18ac | AA13: 757.5 | AB13: 181.48043 | AC13: H3K9ac + K18ac | AD13: 353.83333 | AE13: 44.141607 | AF13: H3K9ac + K18ac | AG13: 287.16667 | AH13: 32.612767 | AI13: H3K9ac + K18ac | AJ13: 562.83333 | AK13: 71.014083 | AL13: H3K9ac + K18ac | AM13: 626.08333 | AN13: 181.91947 | AO13: H3K9ac + K18ac | AP13: 369.83333 | AQ13: 64.137872 | AR13: H3K9ac + K18ac | AS13: 606.08333 | AT13: 148.65704 | AU13: H3K9ac + K18ac | AV13: 456.33333 | AW13: 36.389864 | AX13: H3K9ac + K18ac | AY13: 409.75 | AZ13: 53.818195 | BA13: H3K9ac + K18ac | BB13: 557.41667 | BC13: 64.08523 | BD13: H3K9ac + K18ac | BE13: 422 | BF13: 66.587731 | BG13: H3K9ac + K18ac | BH13: 240.16667 | BI13: 8.660254 | BJ13: H3K9ac + K18ac | BK13: 404.16667 | BL13: 2.5018512 | BM13: H3K9ac + K18ac | BN13: 481.41667 | BO13: 63.796189 | BP13: H3K9ac + K18ac | BQ13: 555.41667 | BR13: 78.36022 | BS13: H3K9ac + K18ac | BT13: 612.58333 | BU13: 92.565242 | BV13: H3K9ac + K18ac | BW13: 733.08333 | BX13: 33.331528 | BY13: H3K9ac + K18ac | BZ13: 500.66667 | CA13: 118.78271 | CB13: H3K9ac + K18ac | CC13: 826.41667 | CD13: 63.772962 | CE13: H3K9ac + K18ac | CF13: 1218.8333 | CG13: 289.609 | CH13: H3K9ac + K18ac | CI13: 353.75 | CJ13: 53.477842 | CK13: H3K9ac + K18ac | CL13: 326.58333 | CM13: 54.742749 | CN13: H3K9ac + K18ac | CO13: 365.66667 | CP13: 63.962373
A14: 13 | B14: =VLOOKUP(A14,'Peptide List'!A:B,2,TRUE) -> H3K4ac + K18ac | C14: 387.08333 | D14: 30.70936 | E14: H3K4ac + K18ac | F14: 492 | G14: 46.352114 | H14: H3K4ac + K18ac | I14: 395.5 | J14: 74.597935 | K14: H3K4ac + K18ac | L14: 311.58333 | M14: 35.440482 | N14: H3K4ac + K18ac | O14: 255.91667 | P14: 44.174213 | Q14: H3K4ac + K18ac | R14: 566.58333 | S14: 38.807574 | T14: H3K4ac + K18ac | U14: 513.16667 | V14: 62.823386 | W14: H3K4ac + K18ac | X14: 452.83333 | Y14: 49.774677 | Z14: H3K4ac + K18ac | AA14: 524 | AB14: 64.66323 | AC14: H3K4ac + K18ac | AD14: 377.83333 | AE14: 70.644389 | AF14: H3K4ac + K18ac | AG14: 276.91667 | AH14: 32.99986 | AI14: H3K4ac + K18ac | AJ14: 510.66667 | AK14: 58.119927 | AL14: H3K4ac + K18ac | AM14: 528.58333 | AN14: 98.969646 | AO14: H3K4ac + K18ac | AP14: 352.25 | AQ14: 87.140744 | AR14: H3K4ac + K18ac | AS14: 639.58333 | AT14: 152.4349 | AU14: H3K4ac + K18ac | AV14: 447.33333 | AW14: 27.471197 | AX14: H3K4ac + K18ac | AY14: 414.83333 | AZ14: 57.129158 | BA14: H3K4ac + K18ac | BB14: 603 | BC14: 69.263319 | BD14: H3K4ac + K18ac | BE14: 386.83333 | BF14: 29.829764 | BG14: H3K4ac + K18ac | BH14: 220.16667 | BI14: 5.1961524 | BJ14: H3K4ac + K18ac | BK14: 316.66667 | BL14: 23.478911 | BM14: H3K4ac + K18ac | BN14: 439.41667 | BO14: 43.795294 | BP14: H3K4ac + K18ac | BQ14: 464.91667 | BR14: 54.022201 | BS14: H3K4ac + K18ac | BT14: 507.91667 | BU14: 46.208365 | BV14: H3K4ac + K18ac | BW14: 558.91667 | BX14: 41.467859 | BY14: H3K4ac + K18ac | BZ14: 331.33333 | CA14: 20.789955 | CB14: H3K4ac + K18ac | CC14: 457.25 | CD14: 49.190013 | CE14: H3K4ac + K18ac | CF14: 766.5 | CG14: 120.39364 | CH14: H3K4ac + K18ac | CI14: 334.75 | CJ14: 39.402364 | CK14: H3K4ac + K18ac | CL14: 309.83333 | CM14: 47.530497 | CN14: H3K4ac + K18ac | CO14: 330.08333 | CP14: 35.538581
... A295: 2706 | B295: =VLOOKUP(A295,'Peptide List'!A:B,2,TRUE) -> H4K5K8but (1-23) | C295: 404.91667 | D295: 54.506795 | E295: H4K5K8but (1-23) | F295: 482.08333 | G295: 15.604783 | H295: H4K5K8but (1-23) | I295: 372.25 | J295: 47.804676 | K295: H4K5K8but (1-23) | L295: 340.16667 | M295: 15.600332 | N295: H4K5K8but (1-23) | O295: 292.66667 | P295: 21.981474 | Q295: H4K5K8but (1-23) | R295: 519.75 | S295: 81.916568 | T295: H4K5K8but (1-23) | U295: 524.75 | V295: 50.768447 | W295: H4K5K8but (1-23) | X295: 391.41667 | Y295: 51.233941 | Z295: H4K5K8but (1-23) | AA295: 472.83333 | AB295: 67.934882 | AC295: H4K5K8but (1-23) | AD295: 374.16667 | AE295: 34.087578 | AF295: H4K5K8but (1-23) | AG295: 306.83333 | AH295: 12.14267 | AI295: H4K5K8but (1-23) | AJ295: 478.66667 | AK295: 110.08145 | AL295: H4K5K8but (1-23) | AM295: 500.5 | AN295: 61.409072 | AO295: H4K5K8but (1-23) | AP295: 379.08333 | AQ295: 51.988157 | AR295: H4K5K8but (1-23) | AS295: 541.16667 | AT295: 166.52316 | AU295: H4K5K8but (1-23) | AV295: 451.75 | AW295: 33.520999 | AX295: H4K5K8but (1-23) | AY295: 425.33333 | AZ295: 32.576974 | BA295: H4K5K8but (1-23) | BB295: 563.33333 | BC295: 81.014402 | BD295: H4K5K8but (1-23) | BE295: 439.5 | BF295: 32.139165 | BG295: H4K5K8but (1-23) | BH295: 231.66667 | BI295: 23.478911 | BJ295: H4K5K8but (1-23) | BK295: 332.16667 | BL295: 10.199855 | BM295: H4K5K8but (1-23) | BN295: 470.41667 | BO295: 69.254964 | BP295: H4K5K8but (1-23) | BQ295: 500.08333 | BR295: 98.463144 | BS295: H4K5K8but (1-23) | BT295: 507.5 | BU295: 38.417299 | BV295: H4K5K8but (1-23) | BW295: 565.5 | BX295: 79.071697 | BY295: H4K5K8but (1-23) | BZ295: 399.5 | CA295: 34.675747 | CB295: H4K5K8but (1-23) | CC295: 369 | CD295: 63.696619 | CE295: H4K5K8but (1-23) | CF295: 680.91667 | CG295: 69.093804 | CH295: H4K5K8but (1-23) | CI295: 407.83333 | CJ295: 51.005083 | CK295: H4K5K8but (1-23) | CL295: 328.16667 | CM295: 21.462284 | CN295: H4K5K8but (1-23) | CO295: 360.16667 | CP295: 13.290208
B296: a-mouse | C296: 428.83333 | D296: 95.313323 | E296: a-mouse | F296: 494.58333 | G296: 33.758812 | H296: a-mouse | I296: 385.83333 | J296: 107.32453 | K296: a-mouse | L296: 318.91667 | M296: 67.460482 | N296: a-mouse | O296: 262.41667 | P296: 65.906429 | Q296: a-mouse | R296: 640.16667 | S296: 173.67328 | T296: a-mouse | U296: 494.41667 | V296: 138.05001 | W296: a-mouse | X296: 398.91667 | Y296: 84.129695 | Z296: a-mouse | AA296: 435.5 | AB296: 125.28501 | AC296: a-mouse | AD296: 354.41667 | AE296: 80.690251 | AF296: a-mouse | AG296: 257.5 | AH296: 61.067358 | AI296: a-mouse | AJ296: 474.5 | AK296: 72.553684 | AL296: a-mouse | AM296: 476.41667 | AN296: 48.471737 | AO296: a-mouse | AP296: 292.25 | AQ296: 51.70957 | AR296: a-mouse | AS296: 713.91667 | AT296: 118.10208 | AU296: a-mouse | AV296: 477.66667 | AW296: 95.571575 | AX296: a-mouse | AY296: 432.75 | AZ296: 101.21388 | BA296: a-mouse | BB296: 595.83333 | BC296: 77.118716 | BD296: a-mouse | BE296: 386.5 | BF296: 100.2665 | BG296: a-mouse | BH296: 207.33333 | BI296: 37.335317 | BJ296: a-mouse | BK296: 314 | BL296: 3.8490018 | BM296: a-mouse | BN296: 438.25 | BO296: 90.813759 | BP296: a-mouse | BQ296: 484.91667 | BR296: 77.646576 | BS296: a-mouse | BT296: 512.41667 | BU296: 69.148994 | BV296: a-mouse | BW296: 578.66667 | BX296: 139.98333 | BY296: a-mouse | BZ296: 308.41667 | CA296: 80.190687 | CB296: a-mouse | CC296: 436 | CD296: 64.595035 | CE296: a-mouse | CF296: 822.25 | CG296: 196.72662 | CH296: a-mouse | CI296: 417.41667 | CJ296: 207.45769 | CK296: a-mouse | CL296: 303.66667 | CM296: 65.759382 | CN296: a-mouse | CO296: 316.66667 | CP296: 75.021478
B297: a-mouse | C297: 399.75 | D297: 90.350911 | E297: a-mouse | F297: 481.75 | G297: 30.508499 | H297: a-mouse | I297: 345.25 | J297: 111.53354 | K297: a-mouse | L297: 302.08333 | M297: 97.977463 | N297: a-mouse | O297: 245 | P297: 92.607495 | Q297: a-mouse | R297: 603.83333 | S297: 185.28726 | T297: a-mouse | U297: 453.66667 | V297: 127.70365 | W297: a-mouse | X297: 361.16667 | Y297: 83.18587 | Z297: a-mouse | AA297: 435.16667 | AB297: 26.750562 | AC297: a-mouse | AD297: 336.58333 | AE297: 107.70102 | AF297: a-mouse | AG297: 235.5 | AH297: 93.793508 | AI297: a-mouse | AJ297: 419.5 | AK297: 80.251687 | AL297: a-mouse | AM297: 436.66667 | AN297: 122.57092 | AO297: a-mouse | AP297: 257.83333 | AQ297: 98.1403 | AR297: a-mouse | AS297: 631.16667 | AT297: 232.21932 | AU297: a-mouse | AV297: 465.16667 | AW297: 41.184769 | AX297: a-mouse | AY297: 390.66667 | AZ297: 104.36829 | BA297: a-mouse | BB297: 580.58333 | BC297: 95.056465 | BD297: a-mouse | BE297: 362.66667 | BF297: 24.633611 | BG297: a-mouse | BH297: 196 | BI297: 71.206533 | BJ297: a-mouse | BK297: 277.5 | BL297: 70.244283 | BM297: a-mouse | BN297: 391.5 | BO297: 133.01253 | BP297: a-mouse | BQ297: 447.83333 | BR297: 107.84231 | BS297: a-mouse | BT297: 436.41667 | BU297: 159.88824 | BV297: a-mouse | BW297: 567.08333 | BX297: 128.96407 | BY297: a-mouse | BZ297: 287.08333 | CA297: 74.738247 | CB297: a-mouse | CC297: 361.08333 | CD297: 88.678518 | CE297: a-mouse | CF297: 703.08333 | CG297: 173.02352 | CH297: a-mouse | CI297: 380.33333 | CJ297: 81.164214 | CK297: a-mouse | CL297: 280.16667 | CM297: 95.386349 | CN297: a-mouse | CO297: 293.75 | CP297: 106.15236
B298: a-rabbit | C298: 704.5 | D298: 224.30708 | E298: a-rabbit | F298: 809.58333 | G298: 241.28842 | H298: a-rabbit | I298: 672.5 | J298: 167.84572 | K298: a-rabbit | L298: 684.75 | M298: 192.1817 | N298: a-rabbit | O298: 737.58333 | P298: 333.38515 | Q298: a-rabbit | R298: 747.5 | S298: 102.61416 | T298: a-rabbit | U298: 1135.4167 | V298: 373.58864 | W298: a-rabbit | X298: 902.58333 | Y298: 333.04747 | Z298: a-rabbit | AA298: 721 | AB298: 198.99339 | AC298: a-rabbit | AD298: 633.33333 | AE298: 127.71525 | AF298: a-rabbit | AG298: 549.83333 | AH298: 195.52503 | AI298: a-rabbit | AJ298: 674.33333 | AK298: 174.35978 | AL298: a-rabbit | AM298: 734.33333 | AN298: 183.17832 | AO298: a-rabbit | AP298: 435.41667 | AQ298: 97.32891 | AR298: a-rabbit | AS298: 876.83333 | AT298: 134.09629 | AU298: a-rabbit | AV298: 712.91667 | AW298: 171.83182 | AX298: a-rabbit | AY298: 667.08333 | AZ298: 112.8248 | BA298: a-rabbit | BB298: 859.83333 | BC298: 194.83944 | BD298: a-rabbit | BE298: 602.83333 | BF298: 152.22802 | BG298: a-rabbit | BH298: 449.83333 | BI298: 139.91122 | BJ298: a-rabbit | BK298: 470.33333 | BL298: 90.066642 | BM298: a-rabbit | BN298: 927.75 | BO298: 276.85501 | BP298: a-rabbit | BQ298: 826.75 | BR298: 202.98155 | BS298: a-rabbit | BT298: 596.5 | BU298: 85.671422 | BV298: a-rabbit | BW298: 769.25 | BX298: 130.86758 | BY298: a-rabbit | BZ298: 379.5 | CA298: 43.64376 | CB298: a-rabbit | CC298: 779.16667 | CD298: 274.47249 | CE298: a-rabbit | CF298: 1211.25 | CG298: 185.83752 | CH298: a-rabbit | CI298: 1056.4167 | CJ298: 319.47751 | CK298: a-rabbit | CL298: 554.33333 | CM298: 122.29049 | CN298: a-rabbit | CO298: 580.33333 | CP298: 114.58298
B299: a-rabbit | C299: 529.25 | D299: 142.95749 | E299: a-rabbit | F299: 611.91667 | G299: 148.79824 | H299: a-rabbit | I299: 439.58333 | J299: 124.31661 | K299: a-rabbit | L299: 535 | M299: 208.43135 | N299: a-rabbit | O299: 309.66667 | P299: 86.991698 | Q299: a-rabbit | R299: 574.58333 | S299: 123.98757 | T299: a-rabbit | U299: 703.66667 | V299: 332.11053 | W299: a-rabbit | X299: 522.91667 | Y299: 206.76563 | Z299: a-rabbit | AA299: 504.33333 | AB299: 111.62105 | AC299: a-rabbit | AD299: 410.08333 | AE299: 126.53337 | AF299: a-rabbit | AG299: 359.58333 | AH299: 149.72379 | AI299: a-rabbit | AJ299: 497.66667 | AK299: 66.972631 | AL299: a-rabbit | AM299: 525.5 | AN299: 122.06176 | AO299: a-rabbit | AP299: 224.58333 | AQ299: 59.168545 | AR299: a-rabbit | AS299: 748.83333 | AT299: 47.960246 | AU299: a-rabbit | AV299: 459.5 | AW299: 82.860212 | AX299: a-rabbit | AY299: 498.33333 | AZ299: 210.75684 | BA299: a-rabbit | BB299: 697.75 | BC299: 156.28757 | BD299: a-rabbit | BE299: 441.83333 | BF299: 82.176188 | BG299: a-rabbit | BH299: 290.5 | BI299: 61.391579 | BJ299: a-rabbit | BK299: 357.83333 | BL299: 83.715789 | BM299: a-rabbit | BN299: 725.33333 | BO299: 322.14604 | BP299: a-rabbit | BQ299: 612.91667 | BR299: 150.52338 | BS299: a-rabbit | BT299: 444.08333 | BU299: 125.22376 | BV299: a-rabbit | BW299: 590.75 | BX299: 89.671572 | BY299: a-rabbit | BZ299: 263.91667 | CA299: 44.283911 | CB299: a-rabbit | CC299: 609.41667 | CD299: 255.00071 | CE299: a-rabbit | CF299: 972.33333 | CG299: 106.29066 | CH299: a-rabbit | CI299: 669.5 | CJ299: 274.07629 | CK299: a-rabbit | CL299: 392.25 | CM299: 12.705715 | CN299: a-rabbit | CO299: 407.5 | CP299: 146.86918

Sheet Array Heatmap
A1: Peptide number | B1: Name | C1: KDM4C (TTP) | D1: KDM5A (1) | E1: KDM5A (3) | F1: KDM5B (1) | G1: KDM5B (3) | H1: KDM7A | I1: PHF2 | J1: PHF8 | K1: PHF13 | L1: PHF21A | M1: PHF23 | N1: CHD4 (PPCC) | O1: CHD5 (PCC) | P1: CHD5 (PPCC) | Q1: ING1 | R1: ING2 | S1: ING3 | T1: ING4 | U1: ING5 | V1: DIDO1 | W1: TAF3 | X1: RAG2 | Y1: MORC3 (CW) | Z1: BPTF (PB) | AA1: BAZ2B | AB1: DPF2 (PPC2W2) | AC1: AIRE (PP) | AD1: PHRF1 (RP) | AE1: TRIM66 (PB) | AF1: SP140L | AG1: MLL5
A2: 1 | B2: =VLOOKUP(A2,'Peptide List'!A:B,2,TRUE) -> H3 (1-20) | C2: 0.43103971 | D2: 0.43312338 | E2: 0.49347549 | F2: 0.61977321 | G2: 0.54643385 | H2: 0.30041518 | I2: 0.56880796 | J2: 0.33312883 | K2: 0.57613991 | L2: 0.44489356 | M2: 0.58361036 | N2: 0.5924806 | O2: 0.74438852 | P2: 0.54615153 | Q2: 0.54198966 | R2: 0.59083891 | S2: 0.45753041 | T2: 0.42497262 | U2: 0.33047113 | V2: 0.71043606 | W2: 0.28422359 | X2: 0.27856033 | Y2: 0.42672952 | Z2: 0.32616016 | AA2: 0.43804139 | AB2: 0.6767187 | AC2: 0.40074427 | AD2: 0.67003046 | AE2: 0.71140435 | AF2: 0.46098655 | AG2: 0.54516482
A3: 2 | B3: =VLOOKUP(A3,'Peptide List'!A:B,2,TRUE) -> H3K9ac | C3: 0.43179751 | D3: 0.47424972 | E3: 0.60025462 | F3: 0.68993622 | G3: 0.57953262 | H3: 0.30298537 | I3: 0.61876396 | J3: 0.34371166 | K3: 0.58113679 | L3: 0.46204976 | M3: 0.53513722 | N3: 0.62473541 | O3: 0.83417222 | P3: 0.58749248 | Q3: 0.52573213 | R3: 0.60586722 | S3: 0.44891808 | T3: 0.43458683 | U3: 0.32888939 | V3: 0.66418422 | W3: 0.35648616 | X3: 0.31835467 | Y3: 0.51656731 | Z3: 0.3338809 | AA3: 0.47305101 | AB3: 0.74284883 | AC3: 0.40586115 | AD3: 0.90955826 | AE3: 0.83139614 | AF3: 0.36738687 | AG3: 0.53610198
A4: 3 | B4: =VLOOKUP(A4,'Peptide List'!A:B,2,TRUE) -> H3K9ac | C4: 0.43316156 | D4: 0.44794368 | E4: 0.62826225 | F4: 0.67611623 | G4: 0.56537225 | H4: 0.30506129 | I4: 0.58369999 | J4: 0.35168712 | K4: 0.5737664 | L4: 0.46995419 | M4: 0.54572864 | N4: 0.67483117 | O4: 0.75255067 | P4: 0.55351774 | Q4: 0.56449182 | R4: 0.60360268 | S4: 0.43384649 | T4: 0.43190946 | U4: 0.33114902 | V4: 0.74091132 | W4: 0.30523122 | X4: 0.2997697 | Y4: 0.51767642 | Z4: 0.32681725 | AA4: 0.46342637 | AB4: 0.75894502 | AC4: 0.3893476 | AD4: 0.89489718 | AE4: 0.73095857 | AF4: 0.37448023 | AG4: 0.52614281
A5: 4 | B5: =VLOOKUP(A5,'Peptide List'!A:B,2,TRUE) -> H3K4ac | C5: 0.42649288 | D5: 0.4290478 | E5: 0.41740929 | F5: 0.57051736 | G5: 0.47267831 | H5: 0.30357849 | I5: 0.60299194 | J5: 0.34493865 | K5: 0.59512805 | L5: 0.42396479 | M5: 0.54766138 | N5: 0.51103719 | O5: 0.71935791 | P5: 0.50571257 | Q5: 0.51378122 | R5: 0.60741122 | S5: 0.45160943 | T5: 0.42448582 | U5: 0.32888939 | V5: 0.69191573 | W5: 0.24800037 | X5: 0.2315891 | Y5: 0.34590323 | Z5: 0.33141684 | AA5: 0.42817613 | AB5: 0.66304664 | AC5: 0.38330038 | AD5: 0.44192689 | AE5: 0.58566936 | AF5: 0.30648186 | AG5: 0.55930684
A6: 5 | B6: =VLOOKUP(A6,'Peptide List'!A:B,2,TRUE) -> H3K4ac + K14ac | C6: 0.50500152 | D6: 0.49981475 | E6: 0.49713558 | F6: 0.68958186 | G6: 0.56250543 | H6: 0.41162515 | I6: 0.52176268 | J6: 0.35552147 | K6: 0.62835728 | L6: 0.46187012 | M6: 0.56884422 | N6: 0.57463965 | O6: 0.8647803 | P6: 0.56479254 | Q6: 0.50344531 | R6: 0.61008749 | S6: 0.51415653 | T6: 0.45089449 | U6: 0.34470681 | V6: 0.64683978 | W6: 0.2918084 | X6: 0.27711424 | Y6: 0.43296825 | Z6: 0.45067762 | AA6: 0.83758422 | AB6: 0.67914283 | AC6: 0.4944761 | AD6: 0.5778751 | AE6: 0.64918638 | AF6: 0.33526294 | AG6: 0.54635992
A7: 6 | B7: =VLOOKUP(A7,'Peptide List'!A:B,2,TRUE) -> H3K9ac + K14ac | C7: 0.5190967 | D7: 0.55687292 | E7: 0.51782304 | F7: 0.91424522 | G7: 0.62027626 | H7: 0.43623962 | I7: 0.47735734 | J7: 0.38420245 | K7: 0.60412242 | L7: 0.53920776 | M7: 0.50243525 | N7: 0.67301683 | O7: 0.99578289 | P7: 0.60012026 | Q7: 0.51044358 | R7: 0.59320638 | S7: 0.45494671 | T7: 0.47340879 | U7: 0.35035589 | V7: 0.62518373 | W7: 0.31493059 | X7: 0.28616571 | Y7: 0.58727298 | Z7: 0.3650924 | AA7: 1 | AB7: 1 | AC7: 0.69903477 | AD7: 1 | AE7: 0.91118556 | AF7: 0.35409702 | AG7: 0.53938851
A8: 7 | B8: =VLOOKUP(A8,'Peptide List'!A:B,2,TRUE) -> H3K4ac + K9ac | C8: 0.52227948 | D8: 0.49685069 | E8: 0.56795035 | F8: 0.68072289 | G8: 0.62071062 | H8: 0.42437722 | I8: 0.53997157 | J8: 0.37331288 | K8: 0.59762648 | L8: 0.461421 | M8: 0.52253576 | N8: 0.55800827 | O8: 0.88926677 | P8: 0.56253758 | Q8: 0.52024117 | R8: 0.61739578 | S8: 0.45957584 | T8: 0.45649264 | U8: 0.35351938 | V8: 0.6344929 | W8: 0.30831112 | X8: 0.27582883 | Y8: 0.37543325 | Z8: 0.38217659 | AA8: 0.52959577 | AB8: 0.69746921 | AC8: 0.52540993 | AD8: 0.6614623 | AE8: 0.66409134 | AF8: 0.34993885 | AG8: 0.53391097
A9: 8 | B9: =VLOOKUP(A9,'Peptide List'!A:B,2,TRUE) -> H3K4ac + K9ac + K14ac | C9: 0.50090937 | D9: 0.47424972 | E9: 0.51145767 | F9: 0.70588235 | G9: 0.53036226 | H9: 0.3547845 | I9: 0.5359778 | J9: 0.35015337 | K9: 0.59175515 | L9: 0.45028294 | M9: 0.55840742 | N9: 0.57484125 | O9: 0.82138485 | P9: 0.54570054 | Q9: 0.51658053 | R9: 0.60010293 | S9: 0.46172893 | T9: 0.44152367 | U9: 0.35928144 | V9: 0.64527193 | W9: 0.25825136 | X9: 0.25697606 | Y9: 0.40163594 | Z9: 0.41700205 | AA9: 0.78260346 | AB9: 0.73897023 | AC9: 0.44644726 | AD9: 0.55378903 | AE9: 0.56037194 | AF9: 0.33591521 | AG9: 0.53052485
A10: 10 | B10: =VLOOKUP(A10,'Peptide List'!A:B,2,TRUE) -> H3K18ac | C10: 0.50682025 | D10: 0.49499815 | E10: 0.70241884 | F10: 0.71474132 | G10: 0.58014073 | H10: 0.36002372 | I10: 0.50280918 | J10: 0.34693252 | K10: 0.60487196 | L10: 0.47381658 | M10: 0.5308852 | N10: 0.57413567 | O10: 0.81757584 | P10: 0.5748647 | Q10: 0.51313523 | R10: 0.58857437 | S10: 0.45936053 | T10: 0.437751 | U10: 0.36041125 | V10: 0.65409113 | W10: 0.31221844 | X10: 0.27218681 | Y10: 0.66629696 | Z10: 0.33979466 | AA10: 0.46174206 | AB10: 0.81353631 | AC10: 0.63193395 | AD10: 0.90051409 | AE10: 0.77191303 | AF10: 0.37708928 | AG10: 0.52205956
A11: 11 | B11: =VLOOKUP(A11,'Peptide List'!A:B,2,TRUE) -> H3K14ac + K18ac | C11: 0.52909973 | D11: 0.55502038 | E11: 0.67170592 | F11: 0.76754075 | G11: 0.65016072 | H11: 0.42388296 | I11: 0.47742503 | J11: 0.39248466 | K11: 0.59850094 | L11: 0.51522501 | M11: 0.50753769 | N11: 0.58098982 | O11: 0.87226228 | P11: 0.576819 | Q11: 0.51410422 | R11: 0.60144107 | S11: 0.45020993 | T11: 0.45418036 | U11: 0.35498814 | V11: 0.65801078 | W11: 0.33704146 | X11: 0.26629532 | Y11: 0.48703729 | Z11: 0.35704312 | AA11: 0.81231954 | AB11: 0.91845244 | AC11: 1 | AD11: 0.87062072 | AE11: 0.93402161 | AF11: 0.42617203 | AG11: 0.51956976
A12: 12 | B12: =VLOOKUP(A12,'Peptide List'!A:B,2,TRUE) -> H3K9ac + K18ac | C12: 0.52227948 | D12: 0.53390145 | E12: 0.53739656 | F12: 0.85931963 | G12: 0.65268005 | H12: 0.43871095 | I12: 0.49231707 | J12: 0.38834356 | K12: 0.6142411 | L12: 0.51890775 | M12: 0.51712408 | N12: 0.67180728 | O12: 1 | P12: 0.58914612 | Q12: 0.50506029 | R12: 0.60833762 | S12: 0.46334374 | T12: 0.46768894 | U12: 0.35453621 | V12: 0.6744733 | W12: 0.30068033 | X12: 0.30882117 | Y12: 0.6301123 | Z12: 0.34874743 | AA12: 0.52791145 | AB12: 0.85300107 | AC12: 0.69868589 | AD12: 0.94411653 | AE12: 1 | AF12: 0.34610681 | AG12: 0.54536401
A13: 13 | B13: =VLOOKUP(A13,'Peptide List'!A:B,2,TRUE) -> H3K4ac + K18ac | C13: 0.50363747 | D13: 0.48944053 | E13: 0.48758752 | F13: 0.67328136 | G13: 0.55103814 | H13: 0.41785291 | I13: 0.51952887 | J13: 0.35598159 | K13: 0.62186134 | L13: 0.47363694 | M13: 0.55941245 | N13: 0.56234251 | O13: 0.82913889 | P13: 0.55892965 | Q13: 0.50010767 | R13: 0.60772002 | S13: 0.5109269 | T13: 0.45503225 | U13: 0.34696644 | V13: 0.66624204 | W13: 0.28307438 | X13: 0.29103958 | Y13: 0.43587966 | Z13: 0.37240246 | AA13: 0.47653994 | AB13: 0.65034423 | AC13: 0.46237935 | AD13: 0.52237243 | AE13: 0.62888008 | AF13: 0.32751733 | AG13: 0.53460811
... A126: 162 | B126: =VLOOKUP(A126,'Peptide List'!A:B,2,TRUE) -> H3T6p | C126: 0.57153683 | D126: 0.54316414 | E126: 0.57208784 | F126: 0.7097803 | G126: 0.54061333 | H126: 0.39412811 | I126: 0.63724362 | J126: 0.43282209 | K126: 0.70243598 | L126: 0.4969011 | M126: 0.62806339 | N126: 0.65961093 | O126: 0.90735954 | P126: 0.6595009 | Q126: 0.64233419 | R126: 0.62717447 | S126: 0.57659597 | T126: 0.53474504 | U126: 0.42978195 | V126: 0.8699657 | W126: 0.31102326 | X126: 0.30384018 | Y126: 0.51060585 | Z126: 0.41494867 | AA126: 0.55377767 | AB126: 0.82924464 | AC126: 0.52354925 | AD126: 0.69830541 | AE126: 0.71215643 | AF126: 0.39624949 | AG126: 0.62015735
A127: 163 | B127: =VLOOKUP(A127,'Peptide List'!A:B,2,TRUE) -> H3K4me3 + T6p | C127: 0.46877842 | D127: 0.45201927 | E127: 0.49108848 | F127: 0.61622962 | G127: 0.49344106 | H127: 0.34045077 | I127: 0.66682461 | J127: 0.36779141 | K127: 0.5795128 | L127: 0.42252762 | M127: 0.51952068 | N127: 0.55347243 | O127: 0.70371378 | P127: 0.53998797 | Q127: 0.59711456 | R127: 0.61873392 | S127: 0.46948003 | T127: 0.45673604 | U127: 0.34809626 | V127: 0.75854973 | W127: 0.30895468 | X127: 0.24428258 | Y127: 0.35713295 | Z127: 0.35186858 | AA127: 0.44153032 | AB127: 0.68331232 | AC127: 0.41330387 | AD127: 0.50561691 | AE127: 0.54895392 | AF127: 0.36665308 | AG127: 0.56836968 | AR127: 09,
A128: 164 | B128: =VLOOKUP(A128,'Peptide List'!A:B,2,TRUE) -> H3K4me2 + T6p | C128: 0.45256138 | D128: 0.39570211 | E128: 0.55187779 | F128: 0.62367116 | G128: 0.45139432 | H128: 0.37168841 | I128: 0.5776078 | J128: 0.39309816 | K128: 0.56989382 | L128: 0.42387497 | M128: 0.50614612 | N128: 0.56385445 | O128: 0.79608217 | P128: 0.48812387 | Q128: 0.5538329 | R128: 0.67853834 | S128: 0.46851114 | T128: 0.40829987 | U128: 0.31329793 | V128: 0.72052915 | W128: 0.29709479 | X128: 0.24240801 | Y128: 0.46055733 | Z128: 0.33544148 | AA128: 0.39388835 | AB128: 0.61126733 | AC128: 0.3956274 | AD128: 0.44640137 | AE128: 0.58601121 | AF128: 0.34048104 | AG128: 0.58390599
A129: 165 | B129: =VLOOKUP(A129,'Peptide List'!A:B,2,TRUE) -> H3T6p + K9ac + K14ac + K18ac | C129: 0.5471355 | D129: 0.5024083 | E129: 0.50143221 | F129: 0.65556343 | G129: 0.51654939 | H129: 0.53786081 | I129: 0.47241589 | J129: 0.37055215 | K129: 0.65808869 | L129: 0.49654181 | M129: 0.55871666 | N129: 0.61052313 | O129: 0.86341994 | P129: 0.59170174 | Q129: 0.52583979 | R129: 0.63324756 | S129: 0.51781677 | T129: 0.48582208 | U129: 0.40018077 | V129: 0.73062224 | W129: 0.29727866 | X129: 0.28916502 | Y129: 0.4360183 | Z129: 0.37716632 | AA129: 0.54343118 | AB129: 0.66246485 | AC129: 0.49052215 | AD129: 0.44944783 | AE129: 0.62915356 | AF129: 0.38230738 | AG129: 0.61736879
A130: 166 | B130: =VLOOKUP(A130,'Peptide List'!A:B,2,TRUE) -> H3K4me3 + T6p + K9ac + K14ac + K18ac | C130: 0.57274932 | D130: 0.53908855 | E130: 0.48217696 | F130: 0.69844082 | G130: 0.51602815 | H130: 0.39837881 | I130: 0.57097407 | J130: 0.44739264 | K130: 0.69731418 | L130: 0.53956705 | M130: 0.59528411 | N130: 0.62534019 | O130: 0.87035777 | P130: 0.64807577 | Q130: 0.62413867 | R130: 0.64148224 | S130: 0.54699106 | T130: 0.53389315 | U130: 0.42831318 | V130: 0.8343949 | W130: 0.33170911 | X130: 0.27823898 | Y130: 0.44683211 | Z130: 0.41166324 | AA130: 0.57868142 | AB130: 0.76718705 | AC130: 0.58448657 | AD130: 0.52541889 | AE130: 0.70750718 | AF130: 0.3940481 | AG130: 0.61876307
A131: 167 | B131: =VLOOKUP(A131,'Peptide List'!A:B,2,TRUE) -> H3K4me2 + T6p + K9ac + K14ac + K18ac | C131: 0.5498636 | D131: 0.51092997 | E131: 0.42775302 | F131: 0.67753366 | G131: 0.51542003 | H131: 0.42477264 | I131: 0.45224396 | J131: 0.40184049 | K131: 0.64697064 | L131: 0.48917632 | M131: 0.53258601 | N131: 0.5923798 | O131: 0.84491906 | P131: 0.58779314 | Q131: 0.53972868 | R131: 0.64364385 | S131: 0.49294865 | T131: 0.48545698 | U131: 0.40187549 | V131: 0.67476727 | W131: 0.33189299 | X131: 0.24990627 | Y131: 0.37557188 | Z131: 0.36936345 | AA131: 0.55618383 | AB131: 0.73208572 | AC131: 0.48796372 | AD131: 0.44706778 | AE131: 0.54280049 | AF131: 0.37309417 | AG131: 0.54815257
A132: 169 | B132: =VLOOKUP(A132,'Peptide List'!A:B,2,TRUE) -> H3.3K18ac + K23ac + K27ac | C132: 0.40466808 | D132: 0.40125973 | E132: 0.38271801 | F132: 0.60489015 | G132: 0.40326644 | H132: 0.29478055 | I132: 0.50781832 | J132: 0.34846626 | K132: 0.53941287 | L132: 0.4029462 | M132: 0.51836104 | N132: 0.49390182 | O132: 0.74153176 | P132: 0.46632592 | Q132: 0.48557278 | R132: 0.58980957 | S132: 0.42835612 | T132: 0.38627236 | U132: 0.29985312 | V132: 0.61744243 | W132: 0.21490301 | X132: 0.21412886 | Y132: 0.3177596 | Z132: 0.29831622 | AA132: 0.3976179 | AB132: 0.59226219 | AC132: 0.38818467 | AD132: 0.3802361 | AE132: 0.50895665 | AF132: 0.31463514 | AG132: 0.52763669
A133: 170 | B133: =VLOOKUP(A133,'Peptide List'!A:B,2,TRUE) -> H3.3K18ac + K23ac + K27ac + S28p | C133: 0.44831767 | D133: 0.44609115 | E133: 0.43602801 | F133: 0.63997165 | G133: 0.4566936 | H133: 0.31168446 | I133: 0.53963311 | J133: 0.35736196 | K133: 0.58188632 | L133: 0.43743825 | M133: 0.55910321 | N133: 0.53452273 | O133: 0.74193987 | P133: 0.53036681 | Q133: 0.54963394 | R133: 0.60174987 | S133: 0.47270966 | T133: 0.43738591 | U133: 0.34052649 | V133: 0.74698677 | W133: 0.25705617 | X133: 0.24921 | Y133: 0.35033966 | Z133: 0.3426694 | AA133: 0.44550048 | AB133: 0.63618734 | AC133: 0.40330271 | AD133: 0.43031226 | AE133: 0.59941201 | AF133: 0.3259682 | AG133: 0.55761378
A134: 171 | B134: =VLOOKUP(A134,'Peptide List'!A:B,2,TRUE) -> H3.3K23ac | C134: 0.56411034 | D134: 0.54316414 | E134: 0.47612985 | F134: 0.63536499 | G134: 0.50647207 | H134: 0.39234875 | I134: 0.5246057 | J134: 0.425 | K134: 0.70006246 | L134: 0.5237582 | M134: 0.57758021 | N134: 0.61546215 | O134: 0.86069922 | P134: 0.6595009 | Q134: 0.60917313 | R134: 0.63314462 | S134: 0.55528044 | T134: 0.53596203 | U134: 0.42978195 | V134: 0.77716805 | W134: 0.30546106 | X134: 0.27523968 | Y134: 0.41827256 | Z134: 0.40681725 | AA134: 0.54800289 | AB134: 0.74469117 | AC134: 0.48005582 | AD134: 0.51418507 | AE134: 0.68097908 | AF134: 0.38630249 | AG134: 0.61448063
A135: 174 | B135: =VLOOKUP(A135,'Peptide List'!A:B,2,TRUE) -> H3R2me2s + K4me3 + K9ac + K14ac + K18ac | C135: 0.34874204 | D135: 0.35272323 | E135: 0.5268937 | F135: 0.58894401 | G135: 0.43089219 | H135: 0.29567023 | I135: 0.57205713 | J135: 0.40199386 | K135: 0.49206746 | L135: 0.37698733 | M135: 0.53668342 | N135: 0.49662332 | O135: 0.63746429 | P135: 0.41566446 | Q135: 0.50419897 | R135: 0.61677818 | S135: 0.38637098 | T135: 0.35596933 | U135: 0.26539374 | V135: 0.69348359 | W135: 0.26413533 | X135: 0.30898184 | Y135: 0.46582559 | Z135: 0.29938398 | AA135: 0.3824591 | AB135: 0.56210608 | AC135: 0.31515292 | AD135: 0.36386139 | AE135: 0.47340353 | AF135: 0.30754179 | AG135: 0.57972314
A136: 178 | B136: =VLOOKUP(A136,'Peptide List'!A:B,2,TRUE) -> H3R8me1 + K9me3 | C136: 0.47408306 | D136: 0.46683957 | E136: 0.60582432 | F136: 0.68249468 | G136: 0.53818087 | H136: 0.34262554 | I136: 0.65152643 | J136: 0.35797546 | K136: 0.62573392 | L136: 0.4579179 | M136: 0.58136838 | N136: 0.58643282 | O136: 0.81376683 | P136: 0.55366807 | Q136: 0.57138243 | R136: 0.65445188 | S136: 0.49208742 | T136: 0.46939272 | U136: 0.35159869 | V136: 0.81930426 | W136: 0.31180473 | X136: 0.3078571 | Y136: 0.54859282 | Z136: 0.37470226 | AA136: 0.48616458 | AB136: 0.72442548 | AC136: 0.4458658 | AD136: 0.61757426 | AE136: 0.64351155 | AF136: 0.33942112 | AG136: 0.56627826
A137: 179 | B137: =VLOOKUP(A137,'Peptide List'!A:B,2,TRUE) -> H3R8me1 + K9me2 | C137: 0.56592907 | D137: 0.52834383 | E137: 0.60311903 | F137: 0.69596031 | G137: 0.52471549 | H137: 0.39590747 | I137: 0.66567386 | J137: 0.38358896 | K137: 0.71355403 | L137: 0.49573341 | M137: 0.60463858 | N137: 0.70093741 | O137: 0.79921099 | P137: 0.65799759 | Q137: 0.62133936 | R137: 0.62007205 | S137: 0.57831844 | T137: 0.53523184 | U137: 0.42876511 | V137: 0.80127389 | W137: 0.3248598 | X137: 0.30201917 | Y137: 0.47358935 | Z137: 0.41092402 | AA137: 0.52502406 | AB137: 0.80228837 | AC137: 0.49494127 | AD137: 0.67869383 | AE137: 0.68132094 | AF137: 0.39885854 | AG137: 0.57324968
A138: 180 | B138: =VLOOKUP(A138,'Peptide List'!A:B,2,TRUE) -> H3R8me2a + K9me3 | C138: 0.46180661 | D138: 0.4583179 | E138: 0.53150859 | F138: 0.63997165 | G138: 0.50925202 | H138: 0.33017003 | I138: 0.5753063 | J138: 0.3553681 | K138: 0.57339163 | L138: 0.44633073 | M138: 0.51635099 | N138: 0.56859188 | O138: 0.7117399 | P138: 0.54179194 | Q138: 0.56998277 | R138: 0.59495625 | S138: 0.46571213 | T138: 0.45040769 | U138: 0.34741837 | V138: 0.7155316 | W138: 0.25953848 | X138: 0.24487173 | Y138: 0.40052683 | Z138: 0.342423 | AA138: 0.43756015 | AB138: 0.71405023 | AC138: 0.44005117 | AD138: 0.63756664 | AE138: 0.57124299 | AF138: 0.36110885 | AG138: 0.5406832
A139: 181 | B139: =VLOOKUP(A139,'Peptide List'!A:B,2,TRUE) -> H3R8me2a + K9me2 | C139: 0.44149742 | D139: 0.39681363 | E139: 0.52243794 | F139: 0.63040397 | G139: 0.47259143 | H139: 0.34549229 | I139: 0.47031747 | J139: 0.34309816 | K139: 0.56139913 | L139: 0.4419294 | M139: 0.48388094 | N139: 0.55216208 | O139: 0.78139029 | P139: 0.4960914 | Q139: 0.50107666 | R139: 0.58939784 | S139: 0.44590376 | T139: 0.39734696 | U139: 0.30030505 | V139: 0.6399804 | W139: 0.24147283 | X139: 0.22692946 | Y139: 0.44170248 | Z139: 0.32550308 | AA139: 0.3930462 | AB139: 0.62261224 | AC139: 0.43563205 | AD139: 0.55664509 | AE139: 0.59045535 | AF139: 0.33387689 | AG139: 0.51877303
... A294: 2706 | B294: =VLOOKUP(A294,'Peptide List'!A:B,2,TRUE) -> H4K5K8but (1-23) | C294: 0.55804789 | D294: 0.51500556 | E294: 0.45703374 | F294: 0.70623671 | G294: 0.52176179 | H294: 0.44968367 | I294: 0.43958573 | J294: 0.40444785 | K294: 0.6376015 | L294: 0.50705111 | M294: 0.52261307 | N294: 0.60487854 | O294: 0.82845871 | P294: 0.59200241 | Q294: 0.52314815 | R294: 0.59547092 | S294: 0.48089138 | T294: 0.49677498 | U294: 0.39679132 | V294: 0.61117099 | W294: 0.28946401 | X294: 0.2515666 | Y294: 0.39331762 | Z294: 0.3687885 | AA294: 0.51997113 | AB294: 0.65800446 | AC294: 0.55750669 | AD294: 0.42155369 | AE294: 0.55866266 | AF294: 0.39902161 | AG294: 0.53988647
A295: a-mouse | B295: =VLOOKUP(A295,'Peptide List'!A:B,2,TRUE) -> #N/A | C295: 0.46832373 | D295: 0.46091145 | E295: 0.45305538 | F295: 0.66761162 | G295: 0.49665537 | H295: 0.34667853 | I295: 0.51269207 | J295: 0.33374233 | K295: 0.64871955 | L295: 0.47237941 | M295: 0.55276382 | N295: 0.58653362 | O295: 0.83648483 | P295: 0.54780517 | Q295: 0.55404823 | R295: 0.59505919 | S295: 0.49843901 | T295: 0.46574175 | U295: 0.35577901 | V295: 0.75276825 | W295: 0.27273145 | X295: 0.25638691 | Y295: 0.3619853 | Z295: 0.34932238 | AA295: 0.45717036 | AB295: 0.6598468 | AC295: 0.43039888 | AD295: 0.49809596 | AE295: 0.67462054 | AF295: 0.37211578 | AG295: 0.55592073
A296: a-mouse | B296: =VLOOKUP(A296,'Peptide List'!A:B,2,TRUE) -> #N/A | C296: 0.42831161 | D296: 0.43571693 | E296: 0.40054106 | F296: 0.59000709 | G296: 0.45521675 | H296: 0.30585212 | I296: 0.57990929 | J296: 0.35567485 | K296: 0.58563398 | L296: 0.42198868 | M296: 0.53861616 | N296: 0.54167927 | O296: 0.71242008 | P296: 0.50541191 | Q296: 0.51647287 | R296: 0.61091096 | S296: 0.44601141 | T296: 0.44115857 | U296: 0.33216586 | V296: 0.7100441 | W296: 0.25025283 | X296: 0.23212469 | Y296: 0.36226258 | Z296: 0.33174538 | AA296: 0.42408566 | AB296: 0.67332493 | AC296: 0.40062798 | AD296: 0.41250952 | AE296: 0.57684945 | AF296: 0.40839788 | AG296: 0.57085948
A297: a-rabbit | B297: =VLOOKUP(A297,'Peptide List'!A:B,2,TRUE) -> #N/A | C297: 0.65398606 | D297: 1 | E297: 0.47517505 | F297: 1 | G297: 0.54782382 | H297: 0.26640965 | I297: 0.60827185 | J297: 0.40659509 | K297: 0.7470331 | L297: 1 | M297: 0.64731349 | N297: 0.74135672 | O297: 0.97374507 | P297: 0.70760673 | Q297: 0.68378553 | R297: 0.75584148 | S297: 0.56787598 | T297: 0.78130705 | U297: 0.41983957 | V297: 0.67564919 | W297: 0.3881585 | X297: 0.3360827 | Y297: 0.41952031 | Z297: 0.40418891 | AA297: 0.83782483 | AB297: 0.68738485 | AC297: 0.36829864 | AD297: 0.89013709 | AE297: 0.79775742 | AF297: 0.65503465 | AG297: 0.54914849
A298: a-rabbit | C298: 1 | D298: 0.64579474 | E298: 0.64385742 | F298: 0.76080794 | G298: 0.76552862 | H298: 0.5165085 | I298: 0.71224531 | J298: 0.5547546 | K298: 1 | L298: 0.78181981 | M298: 0.79768071 | N298: 1 | O298: 0.72493538 | P298: 1 | Q298: 0.91020672 | R298: 1 | S298: 0.86876951 | T298: 1 | U298: 1 | V298: 0.87898089 | W298: 0.6263216 | X298: 0.58009748 | Y298: 0.59975045 | Z298: 0.62422998 | AA298: 0.58830606 | AB298: 0.89508387 | AC298: 0.52959646 | AD298: 0.69621097 | AE298: 0.9937782 | AF298: 1.0335915 | AG298: 0.85200677

Sheet Array info summary
B1: Domains | C1: Sequence range | D1: Lowest signal | E1: Highest signal | F1: Signal Range | G1: Noise* | I1: * adjacent to lowest signal
A2: KDM4C (TTP) | B2: Tandem Tudor +PHD | C2: 753-1056 | D2: 157.91667 | E2: 549.83333 | F2: =E2-D2 -> 391.91667 | G2: 156
A3: KDM5A (1) | B3: PHD | C3: 280-360 | D3: 132.83333 | E3: 449.83333 | F3: =E3-D3 -> 317 | G3: 132.16667
A4: KDM5A (3) | B4: PHD | C4: 1590-1690 | D4: 373.3333 | E4: 1047.3333 | F4: =E4-D4 -> 674.00003 | G4: 373.16667
A5: KDM5B (1) | B5: PHD | C5: 295-370 | D5: 214.83333 | E5: 470.33333 | F5: =E5-D5 -> 255.5 | G5: 214.3333
A6: KDM5B (3) | B6: PHD | C6: 1470-1544 | D6: 311.25 | E6: 933.25 | F6: =E6-D6 -> 622 | G6: 301.75
A7: KDM7A | B7: PHD | C7: 1-100 | D7: 193.75 | E7: 843 | F7: =E7-D7 -> 649.25 | G7: 170.41667
A8: PHF2 | B8: PHD | C8: res 1-70 | D8: 484.5 | E8: 1231.0833 | F8: =E8-D8 -> 746.58333 | G8: 476.91667
A9: PHF8 | B9: PHD | C9: 1-110 | D9: 371 | E9: 836.75 | F9: =E9-D9 -> 465.75 | G9: 353.16667
A10: PHF13 | B10: PHD | C10: 220-300 | D10: 299.75 | E10: 667.08333 | F10: =E10-D10 -> 367.33333 | G10: 295.08333
A11: PHF21A | B11: PHD + AT Hook | C11: 410-550 | D11: 270.08333 | E11: 927.75 | F11: =E11-D11 -> 657.66667 | G11: 268.5
A12: PHF23 | B12: PHD | C12: 320-403 | D12: 496.5 | E12: 1077.9167 | F12: =E12-D12 -> 581.41667 | G12: 491.41667
A13: CHD4 (PPCC) | B13: Dual PHD + Dual Chromo | C13: 350-710 | D13: 364.66667 | E13: 826.75 | F13: =E13-D13 -> 462.08333 | G13: 329.91667
... A32: MLL5 | B32: PHD | C32: 100-180 | D32: 300.66667 | E32: 1086.6667 | F32: =E32-D32 -> 786 | G32: 290.66667
