Workbook

Sheet Info
A1: This spreadsheet contains:
A2: 1) the list of genes included in the Xenium Immuno-Oncology panel used in this study
A3: 2) an overview of cluster annotations, top marker genes and assigned cluster identities. Note that cluster identities are supported by integration with whole-transcriptome scRNAseq data and tissue morphology in the spatial data
A4: 3) an interactive marker lookup table reporting differential expression of genes included in the Xenium panel across all clusters
A5: 4) individual differential expression marker lists for each cluster

Sheet Xenium IO panel
A1: Feature ID | B1: Feature Name
A2: ENSG00000175899 | B2: A2M
A3: ENSG00000130234 | B3: ACE2
A4: ENSG00000107796 | B4: ACTA2
A5: ENSG00000075624 | B5: ACTB
A6: ENSG00000042980 | B6: ADAM28
A7: ENSG00000204472 | B7: AIF1
A8: ENSG00000160224 | B8: AIRE
A9: ENSG00000142208 | B9: AKT1
A10: ENSG00000166825 | B10: ANPEP
A11: ENSG00000135046 | B11: ANXA1
A12: ENSG00000130203 | B12: APOE
... A381: ENSG00000176083 | B381: ZNF683

Sheet Cluster marker overview
A1: Cluster ID | B1: Lineage | C1: Cluster name | D1: Notes | E1: Display order | F1: Top cluster markers
A2: C02_N | B2: Nephron | C2: Nephron | D2: Nephron epithelium without clear segment identity | E2: 1 | F2: EPCAM | G2: ERBB4 | H2: IGFBP7 | I2: EPOR | J2: MET | K2: JUN | L2: TMPRSS2 | M2: ERBB3 | N2: RNF43 | O2: APOE | P2: IRF2 | Q2: XBP1 | R2: ID4 | S2: CD47 | T2: STAT1
A3: C11_N_PT | B3: Nephron | C3: Proximal tubule | E3: 2 | F3: EPCAM | G3: ERBB3 | H3: APOE | I3: IGFBP7 | J3: EPOR | K3: MET | L3: ERBB4 | M3: JUN | N3: ID4 | O3: STAT1 | P3: ANPEP | Q3: CDKN1C | R3: BCL2 | S3: FABP3 | T3: XBP1
A4: C20_N_DT | B4: Nephron | C4: Distal Tubule | E4: 3 | F4: S100A9 | G4: EPCAM | H4: TMPRSS2 | I4: IGFBP7 | J4: ERBB4 | K4: ICOSLG | L4: ERBB3 | M4: EPOR | N4: RNF43 | O4: APOE | P4: GATA3 | Q4: CD47 | R4: JUN | S4: XBP1 | T4: CDKN1A
A5: C21_N_CS | B5: Nephron | C5: Connecting Segment | E5: 4 | F5: GATA3 | G5: TMPRSS2 | H5: EPCAM | I5: IGFBP7 | J5: EPOR | K5: RNF43 | L5: ICOSLG | M5: ERBB3 | N5: MMP12 | O5: SYK | P5: APOE | Q5: ERBB4 | R5: TC2N | S5: RB1 | T5: TGFB1
A6: C04_N_Pod | B6: Nephron | C6: Podocyte | E6: 5 | F6: IL1R1 | G6: ANXA1 | H6: AIF1 | I6: IL18 | J6: IGFBP7 | K6: IQGAP2 | L6: IFNAR1 | M6: CTSD | N6: TGFB1 | O6: BCL2 | P6: VEGFA | Q6: CDKN1B | R6: SPON2 | S6: STAT1 | T6: G0S2
A7: C13_N_Prolif | B7: Nephron | C7: Nephron, proliferating | E7: 6 | F7: RGS5 | G7: GLIPR2 | H7: IL1R1 | I7: PLVAP | J7: ID4 | K7: EPCAM | L7: ORC6 | M7: CENPV | N7: IGFBP7 | O7: XBP1 | P7: KIT | Q7: CDK1 | R7: BCL2 | S7: CENPF | T7: PAX5
A8: C12_N_Inj | B8: Nephron | C8: Nephron, injured | D8: Expresses epithelial markers alongside hypoxic response and injury genes | E8: 7 | F8: EPCAM | G8: CDKN1A | H8: TGFB1 | I8: APOE | J8: VEGFA | K8: JUN | L8: CDKN1C | M8: MET | N8: COTL1 | O8: FABP3 | P8: XBP1 | Q8: IFNGR1 | R8: LAMP2 | S8: HIF1A | T8: CD47
A9: C15_Endo | B9: Endothelial | C9: Endothelial | E9: 8 | F9: FLT1 | G9: PLVAP | H9: ENTPD1 | I9: CXCR4 | J9: TGFB1 | K9: SOX17 | L9: RGS5 | M9: GATA3 | N9: CDKN1A | O9: CD40 | P9: KIT | Q9: IL4R | R9: TNFRSF1B | S9: VSIR | T9: SPARC
A10: C19_iMac | B10: Immune | C10: Macrophage | E10: 9 | F10: PLA2G7 | G10: CD163 | H10: CTSD | I10: APOE | J10: FCGR2A | K10: A2M | L10: CTSB | M10: CCR1 | N10: CSF1R | O10: IL10RA | P10: MPEG1 | Q10: TNFRSF1B | R10: CD4 | S10: CMKLR1 | T10: CD68
A11: C00_S | B11: Stroma | C11: Stroma 0 | E11: 10 | F11: PDGFRA | G11: FN1 | H11: EGFR | I11: SOX9 | J11: NCAM1 | K11: TOX | L11: C1R | M11: JAK3 | N11: SPARCL1 | O11: DGKA | P11: IL1RAP | Q11: SLC1A3 | R11: MGP | S11: FGF2 | T11: NELL2
A12: C01_S | B12: Stroma | C12: Stroma 1 | E12: 11 | F12: CXCL14 | G12: LUM | H12: DCN | I12: PDGFRA | J12: CD44 | K12: TOX | L12: DGKA | M12: C1R | N12: ITGA1 | O12: IQGAP2 | P12: SLC1A3 | Q12: SDC1 | R12: BCL2 | S12: JAK3 | T12: FAS
A13: C06_S | B13: Stroma | C13: Stroma 6 | E13: 12 | F13: ERBB3 | G13: DCN | H13: GLIPR2 | I13: NCAM1 | J13: CDKN1C | K13: CDK6 | L13: MET | M13: NELL2 | N13: LUM | O13: RB1 | P13: CENPF | Q13: SPARCL1 | R13: C1QBP | S13: CENPV | T13: AKT1
A14: C10_S | B14: Stroma | C14: Stroma 10 | E14: 13 | F14: CXCL12 | G14: PDGFRA | H14: STMN1 | I14: SMAD3 | J14: STAT3 | K14: IFITM3 | L14: PTEN | M14: TUBB | N14: STAT6 | O14: TP53 | P14: JAK3 | Q14: CD83 | R14: SOCS1 | S14: SOCS3 | T14: C1R
A15: C14_S | B15: Stroma | C15: Stroma 14 | D15: Clustered with stroma, lacks strong signature of stroma or epithelium, expresses some proliferative markers including CENPF | E15: 14 | F15: KIT | G15: ERBB3 | H15: S100B | I15: CDK2 | J15: SYK | K15: CENPF | L15: FEZ1 | M15: CD44 | N15: A2M | O15: CD4 | P15: CDK4 | Q15: CCND1 | R15: ICAM1 | S15: STMN1 | T15: CCL15
A16: C05_S_Prolif | B16: Stroma | C16: Stroma 6 proliferating | E16: 15 | F16: CDK1 | G16: CENPF | H16: MKI67 | I16: UBE2C | J16: MIS18BP1 | K16: ORC6 | L16: PDGFRA | M16: TUBA1B | N16: TNFRSF13C | O16: CDKN1B | P16: TOX | Q16: EGFR | R16: CDK2 | S16: CDKN2C | T16: SOX9
A17: C03_S_Inj | B17: Stroma | C17: Stroma 3, injured | E17: 16 | F17: CCL16 | G17: CDKN2B | H17: FLT1 | I17: IL2 | J17: CFC1 | K17: TIGIT | L17: CXCL1 | M17: IL2RA | N17: TRAT1 | O17: CXCL11 | P17: CLEC12A | Q17: CD2 | R17: KLRF1 | S17: CCR4 | T17: CD86
A18: C07_S_Inj | B18: Stroma | C18: Stroma 7, injured | E18: 17 | F18: CENPV | G18: CCL16 | H18: CDKN2B | I18: CXCL1 | J18: FLT1 | K18: CCR4 | L18: ADAM28 | M18: TIGIT | N18: IL2RA | O18: CCL26 | P18: CD86 | Q18: TRAT1 | R18: IL2 | S18: SAMD3 | T18: AIRE
A19: C08_S_Inj | B19: Stroma | C19: Stroma 8, injured | E19: 18 | F19: JUN | G19: VEGFA | H19: HIF1A | I19: IFNGR1 | J19: LAMP2 | K19: PIK3CA | L19: KRAS | M19: PTGS1 | N19: ICAM1 | O19: JUNB | P19: ACTA2 | Q19: ACTB | R19: SOX9 | S19: CD276 | T19: CTNNB1
A20: C09_S_Inj | B20: Stroma | C20: Stroma 9, injured | E20: 19 | F20: CXCL1 | G20: FLT1 | H20: CXCL6 | I20: TGFB1 | J20: CDKN1A | K20: ICAM1 | L20: LTB | M20: PTGS1 | N20: IL1R1 | O20: LIF | P20: VEGFA | Q20: ICOSLG | R20: CDKN2B | S20: CCL16 | T20: CCL28
A21: C16_S_Inj | B21: Stroma | C21: Stroma 16, injured | E21: 20 | F21: ID2 | G21: ID1 | H21: TOX | I21: CTNNB1 | J21: TP53 | K21: STMN1 | L21: CENPV | M21: ID4 | N21: IFITM3 | O21: CDK4 | P21: STAT4 | Q21: FEZ1 | R21: PTEN | S21: SOCS1 | T21: MARCO
A22: C17_S_Inj | B22: Stroma | C22: Stroma 17, injured | D22: Clustered with injured cell types, lacks strong signature of stroma or epithelium, expresses ACTA2 | E22: 21 | F22: CDK2 | G22: RB1 | H22: STAT1 | I22: NCAM1 | J22: PIK3CA | K22: JAK1 | L22: ID4 | M22: IFNAR1 | N22: IFNGR1 | O22: STAT5B | P22: MET | Q22: EGFR | R22: CDK6 | S22: ARPC3 | T22: HIF1A
A23: C18_Neural | B23: Neural | C23: Neural | D23: Expresses Neural markers DMBT1, NCAM1 and others, separate from other clusters | E23: 22 | F23: DMBT1 | G23: CXCL12 | H23: PDGFRA | I23: NCAM1 | J23: PTEN | K23: SPARCL1 | L23: DCN | M23: SOCS2 | N23: STMN1 | O23: JAK3 | P23: FN1 | Q23: SMAD3 | R23: TUBB | S23: STAT6 | T23: TUBA1B
A24: Others | B24: Mixed | E24: 23

Sheet Lookup
A1: ↓Gene|Cluster→ | B1: C02_N | C1: C13_N_Prolif | D1: C04_N_Pod | E1: C11_N_PT | F1: C20_N_DT | G1: C21_N_CS | H1: C12_N_Inj | I1: C15_Endo | J1: C19_iMac | K1: C00_S | L1: C01_S | M1: C06_S | N1: C10_S | O1: C14_S | P1: C05_S_Prolif | Q1: C03_S_Inj | R1: C07_S_Inj | S1: C08_S_Inj | T1: C09_S_Inj | U1: C16_S_Inj | V1: C17_S_Inj | W1: C18_Neural
A2: EPCAM | B2: =VLOOKUP($A2,'Markers of C02_N'!$A:$C,3,) -> 2.9795851 | C2: =VLOOKUP($A2,'Markers of C13_N_Prolif'!$A:$C,3,) -> 0.75417397 | D2: =VLOOKUP($A2,'Markers of C04_N_Pod'!$A:$C,3,) -> #N/A | E2: =VLOOKUP($A2,'Markers of C11_N_PT'!$A:$C,3,) -> 2.6243868 | F2: =VLOOKUP($A2,'Markers of C20_N_DT'!$A:$C,3,) -> 2.5666733 | G2: =VLOOKUP($A2,'Markers of C21_N_CS'!$A:$C,3,) -> 2.8473038 | H2: =VLOOKUP($A2,'Markers of C12_N_Inj'!$A:$C,3,) -> 1.9341806 | I2: =VLOOKUP($A2,'Markers of C15_Endo'!$A:$C,3,) -> #N/A | J2: =VLOOKUP($A2,'Markers of C19_iMac'!$A:$C,3,) -> #N/A | K2: =VLOOKUP($A2,'Markers of C00_S'!$A:$C,3,) -> #N/A | L2: =VLOOKUP($A2,'Markers of C01_S'!$A:$C,3,) -> #N/A | M2: =VLOOKUP($A2,'Markers of C06_S'!$A:$C,3,) -> #N/A | N2: =VLOOKUP($A2,'Markers of C10_S'!$A:$C,3,) -> #N/A | O2: =VLOOKUP($A2,'Markers of C14_S'!$A:$C,3,) -> #N/A | P2: =VLOOKUP($A2,'Markers of C05_S_Prolif'!$A:$C,3,) -> #N/A | Q2: =VLOOKUP($A2,'Markers of C03_S_Inj'!$A:$C,3,) -> #N/A | R2: =VLOOKUP($A2,'Markers of C07_S_Inj'!$A:$C,3,) -> #N/A | S2: =VLOOKUP($A2,'Markers of C08_S_Inj'!$A:$C,3,) -> #N/A | T2: =VLOOKUP($A2,'Markers of C09_S_Inj'!$A:$C,3,) -> #N/A | U2: =VLOOKUP($A2,'Markers of C16_S_Inj'!$A:$C,3,) -> #N/A | V2: =VLOOKUP($A2,'Markers of C17_S_Inj'!$A:$C,3,) -> #N/A | W2: =VLOOKUP($A2,'Markers of C18_Neural'!$A:$C,3,) -> #N/A
A3: S100A9 | B3: =VLOOKUP($A3,'Markers of C02_N'!$A:$C,3,) -> #N/A | C3: =VLOOKUP($A3,'Markers of C13_N_Prolif'!$A:$C,3,) -> #N/A | D3: =VLOOKUP($A3,'Markers of C04_N_Pod'!$A:$C,3,) -> #N/A | E3: =VLOOKUP($A3,'Markers of C11_N_PT'!$A:$C,3,) -> #N/A | F3: =VLOOKUP($A3,'Markers of C20_N_DT'!$A:$C,3,) -> 6.5562521 | G3: =VLOOKUP($A3,'Markers of C21_N_CS'!$A:$C,3,) -> 1.8526446 | H3: =VLOOKUP($A3,'Markers of C12_N_Inj'!$A:$C,3,) -> #N/A | I3: =VLOOKUP($A3,'Markers of C15_Endo'!$A:$C,3,) -> #N/A | J3: =VLOOKUP($A3,'Markers of C19_iMac'!$A:$C,3,) -> 2.3441812 | K3: =VLOOKUP($A3,'Markers of C00_S'!$A:$C,3,) -> #N/A | L3: =VLOOKUP($A3,'Markers of C01_S'!$A:$C,3,) -> #N/A | M3: =VLOOKUP($A3,'Markers of C06_S'!$A:$C,3,) -> #N/A | N3: =VLOOKUP($A3,'Markers of C10_S'!$A:$C,3,) -> #N/A | O3: =VLOOKUP($A3,'Markers of C14_S'!$A:$C,3,) -> #N/A | P3: =VLOOKUP($A3,'Markers of C05_S_Prolif'!$A:$C,3,) -> #N/A | Q3: =VLOOKUP($A3,'Markers of C03_S_Inj'!$A:$C,3,) -> #N/A | R3: =VLOOKUP($A3,'Markers of C07_S_Inj'!$A:$C,3,) -> #N/A | S3: =VLOOKUP($A3,'Markers of C08_S_Inj'!$A:$C,3,) -> #N/A | T3: =VLOOKUP($A3,'Markers of C09_S_Inj'!$A:$C,3,) -> #N/A | U3: =VLOOKUP($A3,'Markers of C16_S_Inj'!$A:$C,3,) -> #N/A | V3: =VLOOKUP($A3,'Markers of C17_S_Inj'!$A:$C,3,) -> #N/A | W3: =VLOOKUP($A3,'Markers of C18_Neural'!$A:$C,3,) -> #N/A | X3: Note - type gene sybmol* into left column to retrieve differential expression values for that gene across clusters
A4: GATA3 | B4: =VLOOKUP($A4,'Markers of C02_N'!$A:$C,3,) -> #N/A | C4: =VLOOKUP($A4,'Markers of C13_N_Prolif'!$A:$C,3,) -> #N/A | D4: =VLOOKUP($A4,'Markers of C04_N_Pod'!$A:$C,3,) -> #N/A | E4: =VLOOKUP($A4,'Markers of C11_N_PT'!$A:$C,3,) -> #N/A | F4: =VLOOKUP($A4,'Markers of C20_N_DT'!$A:$C,3,) -> 2.9661484 | G4: =VLOOKUP($A4,'Markers of C21_N_CS'!$A:$C,3,) -> 5.9083622 | H4: =VLOOKUP($A4,'Markers of C12_N_Inj'!$A:$C,3,) -> 0.1474776 | I4: =VLOOKUP($A4,'Markers of C15_Endo'!$A:$C,3,) -> 0.74957787 | J4: =VLOOKUP($A4,'Markers of C19_iMac'!$A:$C,3,) -> #N/A | K4: =VLOOKUP($A4,'Markers of C00_S'!$A:$C,3,) -> #N/A | L4: =VLOOKUP($A4,'Markers of C01_S'!$A:$C,3,) -> #N/A | M4: =VLOOKUP($A4,'Markers of C06_S'!$A:$C,3,) -> #N/A | N4: =VLOOKUP($A4,'Markers of C10_S'!$A:$C,3,) -> #N/A | O4: =VLOOKUP($A4,'Markers of C14_S'!$A:$C,3,) -> #N/A | P4: =VLOOKUP($A4,'Markers of C05_S_Prolif'!$A:$C,3,) -> #N/A | Q4: =VLOOKUP($A4,'Markers of C03_S_Inj'!$A:$C,3,) -> #N/A | R4: =VLOOKUP($A4,'Markers of C07_S_Inj'!$A:$C,3,) -> #N/A | S4: =VLOOKUP($A4,'Markers of C08_S_Inj'!$A:$C,3,) -> #N/A | T4: =VLOOKUP($A4,'Markers of C09_S_Inj'!$A:$C,3,) -> #N/A | U4: =VLOOKUP($A4,'Markers of C16_S_Inj'!$A:$C,3,) -> #N/A | V4: =VLOOKUP($A4,'Markers of C17_S_Inj'!$A:$C,3,) -> #N/A | W4: =VLOOKUP($A4,'Markers of C18_Neural'!$A:$C,3,) -> #N/A | X4: * Gene must be in Xenium IO panel
A5: IL1R1 | B5: =VLOOKUP($A5,'Markers of C02_N'!$A:$C,3,) -> #N/A | C5: =VLOOKUP($A5,'Markers of C13_N_Prolif'!$A:$C,3,) -> 2.7296952 | D5: =VLOOKUP($A5,'Markers of C04_N_Pod'!$A:$C,3,) -> 4.248562 | E5: =VLOOKUP($A5,'Markers of C11_N_PT'!$A:$C,3,) -> #N/A | F5: =VLOOKUP($A5,'Markers of C20_N_DT'!$A:$C,3,) -> #N/A | G5: =VLOOKUP($A5,'Markers of C21_N_CS'!$A:$C,3,) -> #N/A | H5: =VLOOKUP($A5,'Markers of C12_N_Inj'!$A:$C,3,) -> #N/A | I5: =VLOOKUP($A5,'Markers of C15_Endo'!$A:$C,3,) -> #N/A | J5: =VLOOKUP($A5,'Markers of C19_iMac'!$A:$C,3,) -> #N/A | K5: =VLOOKUP($A5,'Markers of C00_S'!$A:$C,3,) -> #N/A | L5: =VLOOKUP($A5,'Markers of C01_S'!$A:$C,3,) -> #N/A | M5: =VLOOKUP($A5,'Markers of C06_S'!$A:$C,3,) -> #N/A | N5: =VLOOKUP($A5,'Markers of C10_S'!$A:$C,3,) -> #N/A | O5: =VLOOKUP($A5,'Markers of C14_S'!$A:$C,3,) -> #N/A | P5: =VLOOKUP($A5,'Markers of C05_S_Prolif'!$A:$C,3,) -> #N/A | Q5: =VLOOKUP($A5,'Markers of C03_S_Inj'!$A:$C,3,) -> #N/A | R5: =VLOOKUP($A5,'Markers of C07_S_Inj'!$A:$C,3,) -> #N/A | S5: =VLOOKUP($A5,'Markers of C08_S_Inj'!$A:$C,3,) -> #N/A | T5: =VLOOKUP($A5,'Markers of C09_S_Inj'!$A:$C,3,) -> 0.79941287 | U5: =VLOOKUP($A5,'Markers of C16_S_Inj'!$A:$C,3,) -> #N/A | V5: =VLOOKUP($A5,'Markers of C17_S_Inj'!$A:$C,3,) -> #N/A | W5: =VLOOKUP($A5,'Markers of C18_Neural'!$A:$C,3,) -> #N/A
A6: RGS5 | B6: =VLOOKUP($A6,'Markers of C02_N'!$A:$C,3,) -> 1.9757196 | C6: =VLOOKUP($A6,'Markers of C13_N_Prolif'!$A:$C,3,) -> 4.4853421 | D6: =VLOOKUP($A6,'Markers of C04_N_Pod'!$A:$C,3,) -> #N/A | E6: =VLOOKUP($A6,'Markers of C11_N_PT'!$A:$C,3,) -> #N/A | F6: =VLOOKUP($A6,'Markers of C20_N_DT'!$A:$C,3,) -> #N/A | G6: =VLOOKUP($A6,'Markers of C21_N_CS'!$A:$C,3,) -> #N/A | H6: =VLOOKUP($A6,'Markers of C12_N_Inj'!$A:$C,3,) -> #N/A | I6: =VLOOKUP($A6,'Markers of C15_Endo'!$A:$C,3,) -> 1.106168 | J6: =VLOOKUP($A6,'Markers of C19_iMac'!$A:$C,3,) -> #N/A | K6: =VLOOKUP($A6,'Markers of C00_S'!$A:$C,3,) -> #N/A | L6: =VLOOKUP($A6,'Markers of C01_S'!$A:$C,3,) -> #N/A | M6: =VLOOKUP($A6,'Markers of C06_S'!$A:$C,3,) -> #N/A | N6: =VLOOKUP($A6,'Markers of C10_S'!$A:$C,3,) -> #N/A | O6: =VLOOKUP($A6,'Markers of C14_S'!$A:$C,3,) -> #N/A | P6: =VLOOKUP($A6,'Markers of C05_S_Prolif'!$A:$C,3,) -> #N/A | Q6: =VLOOKUP($A6,'Markers of C03_S_Inj'!$A:$C,3,) -> #N/A | R6: =VLOOKUP($A6,'Markers of C07_S_Inj'!$A:$C,3,) -> #N/A | S6: =VLOOKUP($A6,'Markers of C08_S_Inj'!$A:$C,3,) -> #N/A | T6: =VLOOKUP($A6,'Markers of C09_S_Inj'!$A:$C,3,) -> 0.71978562 | U6: =VLOOKUP($A6,'Markers of C16_S_Inj'!$A:$C,3,) -> #N/A | V6: =VLOOKUP($A6,'Markers of C17_S_Inj'!$A:$C,3,) -> #N/A | W6: =VLOOKUP($A6,'Markers of C18_Neural'!$A:$C,3,) -> #N/A
A7: FLT1 | B7: =VLOOKUP($A7,'Markers of C02_N'!$A:$C,3,) -> #N/A | C7: =VLOOKUP($A7,'Markers of C13_N_Prolif'!$A:$C,3,) -> #N/A | D7: =VLOOKUP($A7,'Markers of C04_N_Pod'!$A:$C,3,) -> 1.1734133 | E7: =VLOOKUP($A7,'Markers of C11_N_PT'!$A:$C,3,) -> #N/A | F7: =VLOOKUP($A7,'Markers of C20_N_DT'!$A:$C,3,) -> #N/A | G7: =VLOOKUP($A7,'Markers of C21_N_CS'!$A:$C,3,) -> #N/A | H7: =VLOOKUP($A7,'Markers of C12_N_Inj'!$A:$C,3,) -> #N/A | I7: =VLOOKUP($A7,'Markers of C15_Endo'!$A:$C,3,) -> 5.0071585 | J7: =VLOOKUP($A7,'Markers of C19_iMac'!$A:$C,3,) -> #N/A | K7: =VLOOKUP($A7,'Markers of C00_S'!$A:$C,3,) -> #N/A | L7: =VLOOKUP($A7,'Markers of C01_S'!$A:$C,3,) -> #N/A | M7: =VLOOKUP($A7,'Markers of C06_S'!$A:$C,3,) -> #N/A | N7: =VLOOKUP($A7,'Markers of C10_S'!$A:$C,3,) -> #N/A | O7: =VLOOKUP($A7,'Markers of C14_S'!$A:$C,3,) -> #N/A | P7: =VLOOKUP($A7,'Markers of C05_S_Prolif'!$A:$C,3,) -> #N/A | Q7: =VLOOKUP($A7,'Markers of C03_S_Inj'!$A:$C,3,) -> 1.0062919 | R7: =VLOOKUP($A7,'Markers of C07_S_Inj'!$A:$C,3,) -> 1.6145456 | S7: =VLOOKUP($A7,'Markers of C08_S_Inj'!$A:$C,3,) -> #N/A | T7: =VLOOKUP($A7,'Markers of C09_S_Inj'!$A:$C,3,) -> 3.2968498 | U7: =VLOOKUP($A7,'Markers of C16_S_Inj'!$A:$C,3,) -> #N/A | V7: =VLOOKUP($A7,'Markers of C17_S_Inj'!$A:$C,3,) -> #N/A | W7: =VLOOKUP($A7,'Markers of C18_Neural'!$A:$C,3,) -> #N/A
A8: PLA2G7 | B8: =VLOOKUP($A8,'Markers of C02_N'!$A:$C,3,) -> 0.39332233 | C8: =VLOOKUP($A8,'Markers of C13_N_Prolif'!$A:$C,3,) -> #N/A | D8: =VLOOKUP($A8,'Markers of C04_N_Pod'!$A:$C,3,) -> #N/A | E8: =VLOOKUP($A8,'Markers of C11_N_PT'!$A:$C,3,) -> #N/A | F8: =VLOOKUP($A8,'Markers of C20_N_DT'!$A:$C,3,) -> 1.7586741 | G8: =VLOOKUP($A8,'Markers of C21_N_CS'!$A:$C,3,) -> 0.68415259 | H8: =VLOOKUP($A8,'Markers of C12_N_Inj'!$A:$C,3,) -> #N/A | I8: =VLOOKUP($A8,'Markers of C15_Endo'!$A:$C,3,) -> #N/A | J8: =VLOOKUP($A8,'Markers of C19_iMac'!$A:$C,3,) -> 5.8264294 | K8: =VLOOKUP($A8,'Markers of C00_S'!$A:$C,3,) -> 0.25358784 | L8: =VLOOKUP($A8,'Markers of C01_S'!$A:$C,3,) -> #N/A | M8: =VLOOKUP($A8,'Markers of C06_S'!$A:$C,3,) -> #N/A | N8: =VLOOKUP($A8,'Markers of C10_S'!$A:$C,3,) -> #N/A | O8: =VLOOKUP($A8,'Markers of C14_S'!$A:$C,3,) -> #N/A | P8: =VLOOKUP($A8,'Markers of C05_S_Prolif'!$A:$C,3,) -> #N/A | Q8: =VLOOKUP($A8,'Markers of C03_S_Inj'!$A:$C,3,) -> 0.19542842 | R8: =VLOOKUP($A8,'Markers of C07_S_Inj'!$A:$C,3,) -> 0.5065924 | S8: =VLOOKUP($A8,'Markers of C08_S_Inj'!$A:$C,3,) -> #N/A | T8: =VLOOKUP($A8,'Markers of C09_S_Inj'!$A:$C,3,) -> #N/A | U8: =VLOOKUP($A8,'Markers of C16_S_Inj'!$A:$C,3,) -> #N/A | V8: =VLOOKUP($A8,'Markers of C17_S_Inj'!$A:$C,3,) -> 0.20521895 | W8: =VLOOKUP($A8,'Markers of C18_Neural'!$A:$C,3,) -> 0.56783017
A9: PDGFRA | B9: =VLOOKUP($A9,'Markers of C02_N'!$A:$C,3,) -> #N/A | C9: =VLOOKUP($A9,'Markers of C13_N_Prolif'!$A:$C,3,) -> #N/A | D9: =VLOOKUP($A9,'Markers of C04_N_Pod'!$A:$C,3,) -> #N/A | E9: =VLOOKUP($A9,'Markers of C11_N_PT'!$A:$C,3,) -> #N/A | F9: =VLOOKUP($A9,'Markers of C20_N_DT'!$A:$C,3,) -> #N/A | G9: =VLOOKUP($A9,'Markers of C21_N_CS'!$A:$C,3,) -> #N/A | H9: =VLOOKUP($A9,'Markers of C12_N_Inj'!$A:$C,3,) -> #N/A | I9: =VLOOKUP($A9,'Markers of C15_Endo'!$A:$C,3,) -> 0.14703233 | J9: =VLOOKUP($A9,'Markers of C19_iMac'!$A:$C,3,) -> #N/A | K9: =VLOOKUP($A9,'Markers of C00_S'!$A:$C,3,) -> 1.4743049 | L9: =VLOOKUP($A9,'Markers of C01_S'!$A:$C,3,) -> 0.5677531 | M9: =VLOOKUP($A9,'Markers of C06_S'!$A:$C,3,) -> #N/A | N9: =VLOOKUP($A9,'Markers of C10_S'!$A:$C,3,) -> 0.10575253 | O9: =VLOOKUP($A9,'Markers of C14_S'!$A:$C,3,) -> #N/A | P9: =VLOOKUP($A9,'Markers of C05_S_Prolif'!$A:$C,3,) -> 0.34069476 | Q9: =VLOOKUP($A9,'Markers of C03_S_Inj'!$A:$C,3,) -> #N/A | R9: =VLOOKUP($A9,'Markers of C07_S_Inj'!$A:$C,3,) -> #N/A | S9: =VLOOKUP($A9,'Markers of C08_S_Inj'!$A:$C,3,) -> #N/A | T9: =VLOOKUP($A9,'Markers of C09_S_Inj'!$A:$C,3,) -> #N/A | U9: =VLOOKUP($A9,'Markers of C16_S_Inj'!$A:$C,3,) -> #N/A | V9: =VLOOKUP($A9,'Markers of C17_S_Inj'!$A:$C,3,) -> #N/A | W9: =VLOOKUP($A9,'Markers of C18_Neural'!$A:$C,3,) -> 1.0671245
A10: CXCL14 | B10: =VLOOKUP($A10,'Markers of C02_N'!$A:$C,3,) -> #N/A | C10: =VLOOKUP($A10,'Markers of C13_N_Prolif'!$A:$C,3,) -> #N/A | D10: =VLOOKUP($A10,'Markers of C04_N_Pod'!$A:$C,3,) -> #N/A | E10: =VLOOKUP($A10,'Markers of C11_N_PT'!$A:$C,3,) -> #N/A | F10: =VLOOKUP($A10,'Markers of C20_N_DT'!$A:$C,3,) -> #N/A | G10: =VLOOKUP($A10,'Markers of C21_N_CS'!$A:$C,3,) -> #N/A | H10: =VLOOKUP($A10,'Markers of C12_N_Inj'!$A:$C,3,) -> #N/A | I10: =VLOOKUP($A10,'Markers of C15_Endo'!$A:$C,3,) -> #N/A | J10: =VLOOKUP($A10,'Markers of C19_iMac'!$A:$C,3,) -> 0.16127959 | K10: =VLOOKUP($A10,'Markers of C00_S'!$A:$C,3,) -> #N/A | L10: =VLOOKUP($A10,'Markers of C01_S'!$A:$C,3,) -> 3.0661211 | M10: =VLOOKUP($A10,'Markers of C06_S'!$A:$C,3,) -> #N/A | N10: =VLOOKUP($A10,'Markers of C10_S'!$A:$C,3,) -> #N/A | O10: =VLOOKUP($A10,'Markers of C14_S'!$A:$C,3,) -> #N/A | P10: =VLOOKUP($A10,'Markers of C05_S_Prolif'!$A:$C,3,) -> #N/A | Q10: =VLOOKUP($A10,'Markers of C03_S_Inj'!$A:$C,3,) -> #N/A | R10: =VLOOKUP($A10,'Markers of C07_S_Inj'!$A:$C,3,) -> #N/A | S10: =VLOOKUP($A10,'Markers of C08_S_Inj'!$A:$C,3,) -> #N/A | T10: =VLOOKUP($A10,'Markers of C09_S_Inj'!$A:$C,3,) -> #N/A | U10: =VLOOKUP($A10,'Markers of C16_S_Inj'!$A:$C,3,) -> #N/A | V10: =VLOOKUP($A10,'Markers of C17_S_Inj'!$A:$C,3,) -> #N/A | W10: =VLOOKUP($A10,'Markers of C18_Neural'!$A:$C,3,) -> #N/A
A11: ERBB3 | B11: =VLOOKUP($A11,'Markers of C02_N'!$A:$C,3,) -> 0.83566554 | C11: =VLOOKUP($A11,'Markers of C13_N_Prolif'!$A:$C,3,) -> #N/A | D11: =VLOOKUP($A11,'Markers of C04_N_Pod'!$A:$C,3,) -> #N/A | E11: =VLOOKUP($A11,'Markers of C11_N_PT'!$A:$C,3,) -> 3.0557996 | F11: =VLOOKUP($A11,'Markers of C20_N_DT'!$A:$C,3,) -> 0.8671184 | G11: =VLOOKUP($A11,'Markers of C21_N_CS'!$A:$C,3,) -> 1.1908321 | H11: =VLOOKUP($A11,'Markers of C12_N_Inj'!$A:$C,3,) -> #N/A | I11: =VLOOKUP($A11,'Markers of C15_Endo'!$A:$C,3,) -> #N/A | J11: =VLOOKUP($A11,'Markers of C19_iMac'!$A:$C,3,) -> #N/A | K11: =VLOOKUP($A11,'Markers of C00_S'!$A:$C,3,) -> #N/A | L11: =VLOOKUP($A11,'Markers of C01_S'!$A:$C,3,) -> #N/A | M11: =VLOOKUP($A11,'Markers of C06_S'!$A:$C,3,) -> 2.7365103 | N11: =VLOOKUP($A11,'Markers of C10_S'!$A:$C,3,) -> #N/A | O11: =VLOOKUP($A11,'Markers of C14_S'!$A:$C,3,) -> 2.4726294 | P11: =VLOOKUP($A11,'Markers of C05_S_Prolif'!$A:$C,3,) -> #N/A | Q11: =VLOOKUP($A11,'Markers of C03_S_Inj'!$A:$C,3,) -> #N/A | R11: =VLOOKUP($A11,'Markers of C07_S_Inj'!$A:$C,3,) -> #N/A | S11: =VLOOKUP($A11,'Markers of C08_S_Inj'!$A:$C,3,) -> #N/A | T11: =VLOOKUP($A11,'Markers of C09_S_Inj'!$A:$C,3,) -> #N/A | U11: =VLOOKUP($A11,'Markers of C16_S_Inj'!$A:$C,3,) -> #N/A | V11: =VLOOKUP($A11,'Markers of C17_S_Inj'!$A:$C,3,) -> #N/A | W11: =VLOOKUP($A11,'Markers of C18_Neural'!$A:$C,3,) -> #N/A
A12: CXCL12 | B12: =VLOOKUP($A12,'Markers of C02_N'!$A:$C,3,) -> #N/A | C12: =VLOOKUP($A12,'Markers of C13_N_Prolif'!$A:$C,3,) -> #N/A | D12: =VLOOKUP($A12,'Markers of C04_N_Pod'!$A:$C,3,) -> #N/A | E12: =VLOOKUP($A12,'Markers of C11_N_PT'!$A:$C,3,) -> #N/A | F12: =VLOOKUP($A12,'Markers of C20_N_DT'!$A:$C,3,) -> #N/A | G12: =VLOOKUP($A12,'Markers of C21_N_CS'!$A:$C,3,) -> #N/A | H12: =VLOOKUP($A12,'Markers of C12_N_Inj'!$A:$C,3,) -> #N/A | I12: =VLOOKUP($A12,'Markers of C15_Endo'!$A:$C,3,) -> 0.5506405 | J12: =VLOOKUP($A12,'Markers of C19_iMac'!$A:$C,3,) -> #N/A | K12: =VLOOKUP($A12,'Markers of C00_S'!$A:$C,3,) -> 0.86820995 | L12: =VLOOKUP($A12,'Markers of C01_S'!$A:$C,3,) -> 0.7215095 | M12: =VLOOKUP($A12,'Markers of C06_S'!$A:$C,3,) -> #N/A | N12: =VLOOKUP($A12,'Markers of C10_S'!$A:$C,3,) -> 1.8038431 | O12: =VLOOKUP($A12,'Markers of C14_S'!$A:$C,3,) -> #N/A | P12: =VLOOKUP($A12,'Markers of C05_S_Prolif'!$A:$C,3,) -> #N/A | Q12: =VLOOKUP($A12,'Markers of C03_S_Inj'!$A:$C,3,) -> #N/A | R12: =VLOOKUP($A12,'Markers of C07_S_Inj'!$A:$C,3,) -> #N/A | S12: =VLOOKUP($A12,'Markers of C08_S_Inj'!$A:$C,3,) -> #N/A | T12: =VLOOKUP($A12,'Markers of C09_S_Inj'!$A:$C,3,) -> #N/A | U12: =VLOOKUP($A12,'Markers of C16_S_Inj'!$A:$C,3,) -> #N/A | V12: =VLOOKUP($A12,'Markers of C17_S_Inj'!$A:$C,3,) -> #N/A | W12: =VLOOKUP($A12,'Markers of C18_Neural'!$A:$C,3,) -> 1.331013
A13: KIT | B13: =VLOOKUP($A13,'Markers of C02_N'!$A:$C,3,) -> 0.92789742 | C13: =VLOOKUP($A13,'Markers of C13_N_Prolif'!$A:$C,3,) -> 1.3295064 | D13: =VLOOKUP($A13,'Markers of C04_N_Pod'!$A:$C,3,) -> #N/A | E13: =VLOOKUP($A13,'Markers of C11_N_PT'!$A:$C,3,) -> #N/A | F13: =VLOOKUP($A13,'Markers of C20_N_DT'!$A:$C,3,) -> 0.66865395 | G13: =VLOOKUP($A13,'Markers of C21_N_CS'!$A:$C,3,) -> 0.49709773 | H13: =VLOOKUP($A13,'Markers of C12_N_Inj'!$A:$C,3,) -> 0.31623516 | I13: =VLOOKUP($A13,'Markers of C15_Endo'!$A:$C,3,) -> 1.2563462 | J13: =VLOOKUP($A13,'Markers of C19_iMac'!$A:$C,3,) -> #N/A | K13: =VLOOKUP($A13,'Markers of C00_S'!$A:$C,3,) -> #N/A | L13: =VLOOKUP($A13,'Markers of C01_S'!$A:$C,3,) -> #N/A | M13: =VLOOKUP($A13,'Markers of C06_S'!$A:$C,3,) -> #N/A | N13: =VLOOKUP($A13,'Markers of C10_S'!$A:$C,3,) -> #N/A | O13: =VLOOKUP($A13,'Markers of C14_S'!$A:$C,3,) -> 4.6119123 | P13: =VLOOKUP($A13,'Markers of C05_S_Prolif'!$A:$C,3,) -> #N/A | Q13: =VLOOKUP($A13,'Markers of C03_S_Inj'!$A:$C,3,) -> #N/A | R13: =VLOOKUP($A13,'Markers of C07_S_Inj'!$A:$C,3,) -> #N/A | S13: =VLOOKUP($A13,'Markers of C08_S_Inj'!$A:$C,3,) -> #N/A | T13: =VLOOKUP($A13,'Markers of C09_S_Inj'!$A:$C,3,) -> 0.1655168 | U13: =VLOOKUP($A13,'Markers of C16_S_Inj'!$A:$C,3,) -> #N/A | V13: =VLOOKUP($A13,'Markers of C17_S_Inj'!$A:$C,3,) -> #N/A | W13: =VLOOKUP($A13,'Markers of C18_Neural'!$A:$C,3,) -> #N/A
A14: CDK1 | B14: =VLOOKUP($A14,'Markers of C02_N'!$A:$C,3,) -> #N/A | C14: =VLOOKUP($A14,'Markers of C13_N_Prolif'!$A:$C,3,) -> 1.099362 | D14: =VLOOKUP($A14,'Markers of C04_N_Pod'!$A:$C,3,) -> #N/A | E14: =VLOOKUP($A14,'Markers of C11_N_PT'!$A:$C,3,) -> #N/A | F14: =VLOOKUP($A14,'Markers of C20_N_DT'!$A:$C,3,) -> #N/A | G14: =VLOOKUP($A14,'Markers of C21_N_CS'!$A:$C,3,) -> #N/A | H14: =VLOOKUP($A14,'Markers of C12_N_Inj'!$A:$C,3,) -> #N/A | I14: =VLOOKUP($A14,'Markers of C15_Endo'!$A:$C,3,) -> #N/A | J14: =VLOOKUP($A14,'Markers of C19_iMac'!$A:$C,3,) -> #N/A | K14: =VLOOKUP($A14,'Markers of C00_S'!$A:$C,3,) -> #N/A | L14: =VLOOKUP($A14,'Markers of C01_S'!$A:$C,3,) -> #N/A | M14: =VLOOKUP($A14,'Markers of C06_S'!$A:$C,3,) -> 0.31282523 | N14: =VLOOKUP($A14,'Markers of C10_S'!$A:$C,3,) -> #N/A | O14: =VLOOKUP($A14,'Markers of C14_S'!$A:$C,3,) -> 0.37999799 | P14: =VLOOKUP($A14,'Markers of C05_S_Prolif'!$A:$C,3,) -> 2.8048011 | Q14: =VLOOKUP($A14,'Markers of C03_S_Inj'!$A:$C,3,) -> #N/A | R14: =VLOOKUP($A14,'Markers of C07_S_Inj'!$A:$C,3,) -> #N/A | S14: =VLOOKUP($A14,'Markers of C08_S_Inj'!$A:$C,3,) -> #N/A | T14: =VLOOKUP($A14,'Markers of C09_S_Inj'!$A:$C,3,) -> #N/A | U14: =VLOOKUP($A14,'Markers of C16_S_Inj'!$A:$C,3,) -> #N/A | V14: =VLOOKUP($A14,'Markers of C17_S_Inj'!$A:$C,3,) -> #N/A | W14: =VLOOKUP($A14,'Markers of C18_Neural'!$A:$C,3,) -> #N/A
A15: CCL16 | B15: =VLOOKUP($A15,'Markers of C02_N'!$A:$C,3,) -> #N/A | C15: =VLOOKUP($A15,'Markers of C13_N_Prolif'!$A:$C,3,) -> #N/A | D15: =VLOOKUP($A15,'Markers of C04_N_Pod'!$A:$C,3,) -> #N/A | E15: =VLOOKUP($A15,'Markers of C11_N_PT'!$A:$C,3,) -> #N/A | F15: =VLOOKUP($A15,'Markers of C20_N_DT'!$A:$C,3,) -> #N/A | G15: =VLOOKUP($A15,'Markers of C21_N_CS'!$A:$C,3,) -> #N/A | H15: =VLOOKUP($A15,'Markers of C12_N_Inj'!$A:$C,3,) -> 0.66271502 | I15: =VLOOKUP($A15,'Markers of C15_Endo'!$A:$C,3,) -> #N/A | J15: =VLOOKUP($A15,'Markers of C19_iMac'!$A:$C,3,) -> #N/A | K15: =VLOOKUP($A15,'Markers of C00_S'!$A:$C,3,) -> #N/A | L15: =VLOOKUP($A15,'Markers of C01_S'!$A:$C,3,) -> #N/A | M15: =VLOOKUP($A15,'Markers of C06_S'!$A:$C,3,) -> #N/A | N15: =VLOOKUP($A15,'Markers of C10_S'!$A:$C,3,) -> #N/A | O15: =VLOOKUP($A15,'Markers of C14_S'!$A:$C,3,) -> #N/A | P15: =VLOOKUP($A15,'Markers of C05_S_Prolif'!$A:$C,3,) -> #N/A | Q15: =VLOOKUP($A15,'Markers of C03_S_Inj'!$A:$C,3,) -> 2.4479048 | R15: =VLOOKUP($A15,'Markers of C07_S_Inj'!$A:$C,3,) -> 3.1621293 | S15: =VLOOKUP($A15,'Markers of C08_S_Inj'!$A:$C,3,) -> #N/A | T15: =VLOOKUP($A15,'Markers of C09_S_Inj'!$A:$C,3,) -> 2.4287961 | U15: =VLOOKUP($A15,'Markers of C16_S_Inj'!$A:$C,3,) -> 0.35981855 | V15: =VLOOKUP($A15,'Markers of C17_S_Inj'!$A:$C,3,) -> #N/A | W15: =VLOOKUP($A15,'Markers of C18_Neural'!$A:$C,3,) -> #N/A
A16: CENPV | B16: =VLOOKUP($A16,'Markers of C02_N'!$A:$C,3,) -> #N/A | C16: =VLOOKUP($A16,'Markers of C13_N_Prolif'!$A:$C,3,) -> 0.96112433 | D16: =VLOOKUP($A16,'Markers of C04_N_Pod'!$A:$C,3,) -> #N/A | E16: =VLOOKUP($A16,'Markers of C11_N_PT'!$A:$C,3,) -> #N/A | F16: =VLOOKUP($A16,'Markers of C20_N_DT'!$A:$C,3,) -> #N/A | G16: =VLOOKUP($A16,'Markers of C21_N_CS'!$A:$C,3,) -> #N/A | H16: =VLOOKUP($A16,'Markers of C12_N_Inj'!$A:$C,3,) -> #N/A | I16: =VLOOKUP($A16,'Markers of C15_Endo'!$A:$C,3,) -> #N/A | J16: =VLOOKUP($A16,'Markers of C19_iMac'!$A:$C,3,) -> #N/A | K16: =VLOOKUP($A16,'Markers of C00_S'!$A:$C,3,) -> #N/A | L16: =VLOOKUP($A16,'Markers of C01_S'!$A:$C,3,) -> #N/A | M16: =VLOOKUP($A16,'Markers of C06_S'!$A:$C,3,) -> 0.74116618 | N16: =VLOOKUP($A16,'Markers of C10_S'!$A:$C,3,) -> #N/A | O16: =VLOOKUP($A16,'Markers of C14_S'!$A:$C,3,) -> #N/A | P16: =VLOOKUP($A16,'Markers of C05_S_Prolif'!$A:$C,3,) -> #N/A | Q16: =VLOOKUP($A16,'Markers of C03_S_Inj'!$A:$C,3,) -> #N/A | R16: =VLOOKUP($A16,'Markers of C07_S_Inj'!$A:$C,3,) -> 2.7702619 | S16: =VLOOKUP($A16,'Markers of C08_S_Inj'!$A:$C,3,) -> #N/A | T16: =VLOOKUP($A16,'Markers of C09_S_Inj'!$A:$C,3,) -> 0.45371819 | U16: =VLOOKUP($A16,'Markers of C16_S_Inj'!$A:$C,3,) -> 0.12435868 | V16: =VLOOKUP($A16,'Markers of C17_S_Inj'!$A:$C,3,) -> #N/A | W16: =VLOOKUP($A16,'Markers of C18_Neural'!$A:$C,3,) -> #N/A
... A21: DMBT1 | B21: =VLOOKUP($A21,'Markers of C02_N'!$A:$C,3,) -> #N/A | C21: =VLOOKUP($A21,'Markers of C13_N_Prolif'!$A:$C,3,) -> #N/A | D21: =VLOOKUP($A21,'Markers of C04_N_Pod'!$A:$C,3,) -> 3.2079526 | E21: =VLOOKUP($A21,'Markers of C11_N_PT'!$A:$C,3,) -> #N/A | F21: =VLOOKUP($A21,'Markers of C20_N_DT'!$A:$C,3,) -> #N/A | G21: =VLOOKUP($A21,'Markers of C21_N_CS'!$A:$C,3,) -> #N/A | H21: =VLOOKUP($A21,'Markers of C12_N_Inj'!$A:$C,3,) -> #N/A | I21: =VLOOKUP($A21,'Markers of C15_Endo'!$A:$C,3,) -> #N/A | J21: =VLOOKUP($A21,'Markers of C19_iMac'!$A:$C,3,) -> #N/A | K21: =VLOOKUP($A21,'Markers of C00_S'!$A:$C,3,) -> #N/A | L21: =VLOOKUP($A21,'Markers of C01_S'!$A:$C,3,) -> #N/A | M21: =VLOOKUP($A21,'Markers of C06_S'!$A:$C,3,) -> #N/A | N21: =VLOOKUP($A21,'Markers of C10_S'!$A:$C,3,) -> #N/A | O21: =VLOOKUP($A21,'Markers of C14_S'!$A:$C,3,) -> #N/A | P21: =VLOOKUP($A21,'Markers of C05_S_Prolif'!$A:$C,3,) -> #N/A | Q21: =VLOOKUP($A21,'Markers of C03_S_Inj'!$A:$C,3,) -> #N/A | R21: =VLOOKUP($A21,'Markers of C07_S_Inj'!$A:$C,3,) -> 0.35021559 | S21: =VLOOKUP($A21,'Markers of C08_S_Inj'!$A:$C,3,) -> #N/A | T21: =VLOOKUP($A21,'Markers of C09_S_Inj'!$A:$C,3,) -> #N/A | U21: =VLOOKUP($A21,'Markers of C16_S_Inj'!$A:$C,3,) -> #N/A | V21: =VLOOKUP($A21,'Markers of C17_S_Inj'!$A:$C,3,) -> 0.22704025 | W21: =VLOOKUP($A21,'Markers of C18_Neural'!$A:$C,3,) -> 6.3473113
B22: =VLOOKUP($A22,'Markers of C02_N'!$A:$C,3,) -> #N/A | C22: =VLOOKUP($A22,'Markers of C13_N_Prolif'!$A:$C,3,) -> #N/A | D22: =VLOOKUP($A22,'Markers of C04_N_Pod'!$A:$C,3,) -> #N/A | E22: =VLOOKUP($A22,'Markers of C11_N_PT'!$A:$C,3,) -> #N/A | F22: =VLOOKUP($A22,'Markers of C20_N_DT'!$A:$C,3,) -> #N/A | G22: =VLOOKUP($A22,'Markers of C21_N_CS'!$A:$C,3,) -> #N/A | H22: =VLOOKUP($A22,'Markers of C12_N_Inj'!$A:$C,3,) -> #N/A | I22: =VLOOKUP($A22,'Markers of C15_Endo'!$A:$C,3,) -> #N/A | J22: =VLOOKUP($A22,'Markers of C19_iMac'!$A:$C,3,) -> #N/A | K22: =VLOOKUP($A22,'Markers of C00_S'!$A:$C,3,) -> #N/A | L22: =VLOOKUP($A22,'Markers of C01_S'!$A:$C,3,) -> #N/A | M22: =VLOOKUP($A22,'Markers of C06_S'!$A:$C,3,) -> #N/A | N22: =VLOOKUP($A22,'Markers of C10_S'!$A:$C,3,) -> #N/A | O22: =VLOOKUP($A22,'Markers of C14_S'!$A:$C,3,) -> #N/A | P22: =VLOOKUP($A22,'Markers of C05_S_Prolif'!$A:$C,3,) -> #N/A | Q22: =VLOOKUP($A22,'Markers of C03_S_Inj'!$A:$C,3,) -> #N/A | R22: =VLOOKUP($A22,'Markers of C07_S_Inj'!$A:$C,3,) -> #N/A | S22: =VLOOKUP($A22,'Markers of C08_S_Inj'!$A:$C,3,) -> #N/A | T22: =VLOOKUP($A22,'Markers of C09_S_Inj'!$A:$C,3,) -> #N/A | U22: =VLOOKUP($A22,'Markers of C16_S_Inj'!$A:$C,3,) -> #N/A | V22: =VLOOKUP($A22,'Markers of C17_S_Inj'!$A:$C,3,) -> #N/A | W22: =VLOOKUP($A22,'Markers of C18_Neural'!$A:$C,3,) -> #N/A
B23: =VLOOKUP($A23,'Markers of C02_N'!$A:$C,3,) -> #N/A | C23: =VLOOKUP($A23,'Markers of C13_N_Prolif'!$A:$C,3,) -> #N/A | D23: =VLOOKUP($A23,'Markers of C04_N_Pod'!$A:$C,3,) -> #N/A | E23: =VLOOKUP($A23,'Markers of C11_N_PT'!$A:$C,3,) -> #N/A | F23: =VLOOKUP($A23,'Markers of C20_N_DT'!$A:$C,3,) -> #N/A | G23: =VLOOKUP($A23,'Markers of C21_N_CS'!$A:$C,3,) -> #N/A | H23: =VLOOKUP($A23,'Markers of C12_N_Inj'!$A:$C,3,) -> #N/A | I23: =VLOOKUP($A23,'Markers of C15_Endo'!$A:$C,3,) -> #N/A | J23: =VLOOKUP($A23,'Markers of C19_iMac'!$A:$C,3,) -> #N/A | K23: =VLOOKUP($A23,'Markers of C00_S'!$A:$C,3,) -> #N/A | L23: =VLOOKUP($A23,'Markers of C01_S'!$A:$C,3,) -> #N/A | M23: =VLOOKUP($A23,'Markers of C06_S'!$A:$C,3,) -> #N/A | N23: =VLOOKUP($A23,'Markers of C10_S'!$A:$C,3,) -> #N/A | O23: =VLOOKUP($A23,'Markers of C14_S'!$A:$C,3,) -> #N/A | P23: =VLOOKUP($A23,'Markers of C05_S_Prolif'!$A:$C,3,) -> #N/A | Q23: =VLOOKUP($A23,'Markers of C03_S_Inj'!$A:$C,3,) -> #N/A | R23: =VLOOKUP($A23,'Markers of C07_S_Inj'!$A:$C,3,) -> #N/A | S23: =VLOOKUP($A23,'Markers of C08_S_Inj'!$A:$C,3,) -> #N/A | T23: =VLOOKUP($A23,'Markers of C09_S_Inj'!$A:$C,3,) -> #N/A | U23: =VLOOKUP($A23,'Markers of C16_S_Inj'!$A:$C,3,) -> #N/A | V23: =VLOOKUP($A23,'Markers of C17_S_Inj'!$A:$C,3,) -> #N/A | W23: =VLOOKUP($A23,'Markers of C18_Neural'!$A:$C,3,) -> #N/A
B24: =VLOOKUP($A24,'Markers of C02_N'!$A:$C,3,) -> #N/A | C24: =VLOOKUP($A24,'Markers of C13_N_Prolif'!$A:$C,3,) -> #N/A | D24: =VLOOKUP($A24,'Markers of C04_N_Pod'!$A:$C,3,) -> #N/A | E24: =VLOOKUP($A24,'Markers of C11_N_PT'!$A:$C,3,) -> #N/A | F24: =VLOOKUP($A24,'Markers of C20_N_DT'!$A:$C,3,) -> #N/A | G24: =VLOOKUP($A24,'Markers of C21_N_CS'!$A:$C,3,) -> #N/A | H24: =VLOOKUP($A24,'Markers of C12_N_Inj'!$A:$C,3,) -> #N/A | I24: =VLOOKUP($A24,'Markers of C15_Endo'!$A:$C,3,) -> #N/A | J24: =VLOOKUP($A24,'Markers of C19_iMac'!$A:$C,3,) -> #N/A | K24: =VLOOKUP($A24,'Markers of C00_S'!$A:$C,3,) -> #N/A | L24: =VLOOKUP($A24,'Markers of C01_S'!$A:$C,3,) -> #N/A | M24: =VLOOKUP($A24,'Markers of C06_S'!$A:$C,3,) -> #N/A | N24: =VLOOKUP($A24,'Markers of C10_S'!$A:$C,3,) -> #N/A | O24: =VLOOKUP($A24,'Markers of C14_S'!$A:$C,3,) -> #N/A | P24: =VLOOKUP($A24,'Markers of C05_S_Prolif'!$A:$C,3,) -> #N/A | Q24: =VLOOKUP($A24,'Markers of C03_S_Inj'!$A:$C,3,) -> #N/A | R24: =VLOOKUP($A24,'Markers of C07_S_Inj'!$A:$C,3,) -> #N/A | S24: =VLOOKUP($A24,'Markers of C08_S_Inj'!$A:$C,3,) -> #N/A | T24: =VLOOKUP($A24,'Markers of C09_S_Inj'!$A:$C,3,) -> #N/A | U24: =VLOOKUP($A24,'Markers of C16_S_Inj'!$A:$C,3,) -> #N/A | V24: =VLOOKUP($A24,'Markers of C17_S_Inj'!$A:$C,3,) -> #N/A | W24: =VLOOKUP($A24,'Markers of C18_Neural'!$A:$C,3,) -> #N/A
B25: =VLOOKUP($A25,'Markers of C02_N'!$A:$C,3,) -> #N/A | C25: =VLOOKUP($A25,'Markers of C13_N_Prolif'!$A:$C,3,) -> #N/A | D25: =VLOOKUP($A25,'Markers of C04_N_Pod'!$A:$C,3,) -> #N/A | E25: =VLOOKUP($A25,'Markers of C11_N_PT'!$A:$C,3,) -> #N/A | F25: =VLOOKUP($A25,'Markers of C20_N_DT'!$A:$C,3,) -> #N/A | G25: =VLOOKUP($A25,'Markers of C21_N_CS'!$A:$C,3,) -> #N/A | H25: =VLOOKUP($A25,'Markers of C12_N_Inj'!$A:$C,3,) -> #N/A | I25: =VLOOKUP($A25,'Markers of C15_Endo'!$A:$C,3,) -> #N/A | J25: =VLOOKUP($A25,'Markers of C19_iMac'!$A:$C,3,) -> #N/A | K25: =VLOOKUP($A25,'Markers of C00_S'!$A:$C,3,) -> #N/A | L25: =VLOOKUP($A25,'Markers of C01_S'!$A:$C,3,) -> #N/A | M25: =VLOOKUP($A25,'Markers of C06_S'!$A:$C,3,) -> #N/A | N25: =VLOOKUP($A25,'Markers of C10_S'!$A:$C,3,) -> #N/A | O25: =VLOOKUP($A25,'Markers of C14_S'!$A:$C,3,) -> #N/A | P25: =VLOOKUP($A25,'Markers of C05_S_Prolif'!$A:$C,3,) -> #N/A | Q25: =VLOOKUP($A25,'Markers of C03_S_Inj'!$A:$C,3,) -> #N/A | R25: =VLOOKUP($A25,'Markers of C07_S_Inj'!$A:$C,3,) -> #N/A | S25: =VLOOKUP($A25,'Markers of C08_S_Inj'!$A:$C,3,) -> #N/A | T25: =VLOOKUP($A25,'Markers of C09_S_Inj'!$A:$C,3,) -> #N/A | U25: =VLOOKUP($A25,'Markers of C16_S_Inj'!$A:$C,3,) -> #N/A | V25: =VLOOKUP($A25,'Markers of C17_S_Inj'!$A:$C,3,) -> #N/A | W25: =VLOOKUP($A25,'Markers of C18_Neural'!$A:$C,3,) -> #N/A
B26: =VLOOKUP($A26,'Markers of C02_N'!$A:$C,3,) -> #N/A | C26: =VLOOKUP($A26,'Markers of C13_N_Prolif'!$A:$C,3,) -> #N/A | D26: =VLOOKUP($A26,'Markers of C04_N_Pod'!$A:$C,3,) -> #N/A | E26: =VLOOKUP($A26,'Markers of C11_N_PT'!$A:$C,3,) -> #N/A | F26: =VLOOKUP($A26,'Markers of C20_N_DT'!$A:$C,3,) -> #N/A | G26: =VLOOKUP($A26,'Markers of C21_N_CS'!$A:$C,3,) -> #N/A | H26: =VLOOKUP($A26,'Markers of C12_N_Inj'!$A:$C,3,) -> #N/A | I26: =VLOOKUP($A26,'Markers of C15_Endo'!$A:$C,3,) -> #N/A | J26: =VLOOKUP($A26,'Markers of C19_iMac'!$A:$C,3,) -> #N/A | K26: =VLOOKUP($A26,'Markers of C00_S'!$A:$C,3,) -> #N/A | L26: =VLOOKUP($A26,'Markers of C01_S'!$A:$C,3,) -> #N/A | M26: =VLOOKUP($A26,'Markers of C06_S'!$A:$C,3,) -> #N/A | N26: =VLOOKUP($A26,'Markers of C10_S'!$A:$C,3,) -> #N/A | O26: =VLOOKUP($A26,'Markers of C14_S'!$A:$C,3,) -> #N/A | P26: =VLOOKUP($A26,'Markers of C05_S_Prolif'!$A:$C,3,) -> #N/A | Q26: =VLOOKUP($A26,'Markers of C03_S_Inj'!$A:$C,3,) -> #N/A | R26: =VLOOKUP($A26,'Markers of C07_S_Inj'!$A:$C,3,) -> #N/A | S26: =VLOOKUP($A26,'Markers of C08_S_Inj'!$A:$C,3,) -> #N/A | T26: =VLOOKUP($A26,'Markers of C09_S_Inj'!$A:$C,3,) -> #N/A | U26: =VLOOKUP($A26,'Markers of C16_S_Inj'!$A:$C,3,) -> #N/A | V26: =VLOOKUP($A26,'Markers of C17_S_Inj'!$A:$C,3,) -> #N/A | W26: =VLOOKUP($A26,'Markers of C18_Neural'!$A:$C,3,) -> #N/A
B27: =VLOOKUP($A27,'Markers of C02_N'!$A:$C,3,) -> #N/A | C27: =VLOOKUP($A27,'Markers of C13_N_Prolif'!$A:$C,3,) -> #N/A | D27: =VLOOKUP($A27,'Markers of C04_N_Pod'!$A:$C,3,) -> #N/A | E27: =VLOOKUP($A27,'Markers of C11_N_PT'!$A:$C,3,) -> #N/A | F27: =VLOOKUP($A27,'Markers of C20_N_DT'!$A:$C,3,) -> #N/A | G27: =VLOOKUP($A27,'Markers of C21_N_CS'!$A:$C,3,) -> #N/A | H27: =VLOOKUP($A27,'Markers of C12_N_Inj'!$A:$C,3,) -> #N/A | I27: =VLOOKUP($A27,'Markers of C15_Endo'!$A:$C,3,) -> #N/A | J27: =VLOOKUP($A27,'Markers of C19_iMac'!$A:$C,3,) -> #N/A | K27: =VLOOKUP($A27,'Markers of C00_S'!$A:$C,3,) -> #N/A | L27: =VLOOKUP($A27,'Markers of C01_S'!$A:$C,3,) -> #N/A | M27: =VLOOKUP($A27,'Markers of C06_S'!$A:$C,3,) -> #N/A | N27: =VLOOKUP($A27,'Markers of C10_S'!$A:$C,3,) -> #N/A | O27: =VLOOKUP($A27,'Markers of C14_S'!$A:$C,3,) -> #N/A | P27: =VLOOKUP($A27,'Markers of C05_S_Prolif'!$A:$C,3,) -> #N/A | Q27: =VLOOKUP($A27,'Markers of C03_S_Inj'!$A:$C,3,) -> #N/A | R27: =VLOOKUP($A27,'Markers of C07_S_Inj'!$A:$C,3,) -> #N/A | S27: =VLOOKUP($A27,'Markers of C08_S_Inj'!$A:$C,3,) -> #N/A | T27: =VLOOKUP($A27,'Markers of C09_S_Inj'!$A:$C,3,) -> #N/A | U27: =VLOOKUP($A27,'Markers of C16_S_Inj'!$A:$C,3,) -> #N/A | V27: =VLOOKUP($A27,'Markers of C17_S_Inj'!$A:$C,3,) -> #N/A | W27: =VLOOKUP($A27,'Markers of C18_Neural'!$A:$C,3,) -> #N/A
B28: =VLOOKUP($A28,'Markers of C02_N'!$A:$C,3,) -> #N/A | C28: =VLOOKUP($A28,'Markers of C13_N_Prolif'!$A:$C,3,) -> #N/A | D28: =VLOOKUP($A28,'Markers of C04_N_Pod'!$A:$C,3,) -> #N/A | E28: =VLOOKUP($A28,'Markers of C11_N_PT'!$A:$C,3,) -> #N/A | F28: =VLOOKUP($A28,'Markers of C20_N_DT'!$A:$C,3,) -> #N/A | G28: =VLOOKUP($A28,'Markers of C21_N_CS'!$A:$C,3,) -> #N/A | H28: =VLOOKUP($A28,'Markers of C12_N_Inj'!$A:$C,3,) -> #N/A | I28: =VLOOKUP($A28,'Markers of C15_Endo'!$A:$C,3,) -> #N/A | J28: =VLOOKUP($A28,'Markers of C19_iMac'!$A:$C,3,) -> #N/A | K28: =VLOOKUP($A28,'Markers of C00_S'!$A:$C,3,) -> #N/A | L28: =VLOOKUP($A28,'Markers of C01_S'!$A:$C,3,) -> #N/A | M28: =VLOOKUP($A28,'Markers of C06_S'!$A:$C,3,) -> #N/A | N28: =VLOOKUP($A28,'Markers of C10_S'!$A:$C,3,) -> #N/A | O28: =VLOOKUP($A28,'Markers of C14_S'!$A:$C,3,) -> #N/A | P28: =VLOOKUP($A28,'Markers of C05_S_Prolif'!$A:$C,3,) -> #N/A | Q28: =VLOOKUP($A28,'Markers of C03_S_Inj'!$A:$C,3,) -> #N/A | R28: =VLOOKUP($A28,'Markers of C07_S_Inj'!$A:$C,3,) -> #N/A | S28: =VLOOKUP($A28,'Markers of C08_S_Inj'!$A:$C,3,) -> #N/A | T28: =VLOOKUP($A28,'Markers of C09_S_Inj'!$A:$C,3,) -> #N/A | U28: =VLOOKUP($A28,'Markers of C16_S_Inj'!$A:$C,3,) -> #N/A | V28: =VLOOKUP($A28,'Markers of C17_S_Inj'!$A:$C,3,) -> #N/A | W28: =VLOOKUP($A28,'Markers of C18_Neural'!$A:$C,3,) -> #N/A
B29: =VLOOKUP($A29,'Markers of C02_N'!$A:$C,3,) -> #N/A | C29: =VLOOKUP($A29,'Markers of C13_N_Prolif'!$A:$C,3,) -> #N/A | D29: =VLOOKUP($A29,'Markers of C04_N_Pod'!$A:$C,3,) -> #N/A | E29: =VLOOKUP($A29,'Markers of C11_N_PT'!$A:$C,3,) -> #N/A | F29: =VLOOKUP($A29,'Markers of C20_N_DT'!$A:$C,3,) -> #N/A | G29: =VLOOKUP($A29,'Markers of C21_N_CS'!$A:$C,3,) -> #N/A | H29: =VLOOKUP($A29,'Markers of C12_N_Inj'!$A:$C,3,) -> #N/A | I29: =VLOOKUP($A29,'Markers of C15_Endo'!$A:$C,3,) -> #N/A | J29: =VLOOKUP($A29,'Markers of C19_iMac'!$A:$C,3,) -> #N/A | K29: =VLOOKUP($A29,'Markers of C00_S'!$A:$C,3,) -> #N/A | L29: =VLOOKUP($A29,'Markers of C01_S'!$A:$C,3,) -> #N/A | M29: =VLOOKUP($A29,'Markers of C06_S'!$A:$C,3,) -> #N/A | N29: =VLOOKUP($A29,'Markers of C10_S'!$A:$C,3,) -> #N/A | O29: =VLOOKUP($A29,'Markers of C14_S'!$A:$C,3,) -> #N/A | P29: =VLOOKUP($A29,'Markers of C05_S_Prolif'!$A:$C,3,) -> #N/A | Q29: =VLOOKUP($A29,'Markers of C03_S_Inj'!$A:$C,3,) -> #N/A | R29: =VLOOKUP($A29,'Markers of C07_S_Inj'!$A:$C,3,) -> #N/A | S29: =VLOOKUP($A29,'Markers of C08_S_Inj'!$A:$C,3,) -> #N/A | T29: =VLOOKUP($A29,'Markers of C09_S_Inj'!$A:$C,3,) -> #N/A | U29: =VLOOKUP($A29,'Markers of C16_S_Inj'!$A:$C,3,) -> #N/A | V29: =VLOOKUP($A29,'Markers of C17_S_Inj'!$A:$C,3,) -> #N/A | W29: =VLOOKUP($A29,'Markers of C18_Neural'!$A:$C,3,) -> #N/A
B30: =VLOOKUP($A30,'Markers of C02_N'!$A:$C,3,) -> #N/A | C30: =VLOOKUP($A30,'Markers of C13_N_Prolif'!$A:$C,3,) -> #N/A | D30: =VLOOKUP($A30,'Markers of C04_N_Pod'!$A:$C,3,) -> #N/A | E30: =VLOOKUP($A30,'Markers of C11_N_PT'!$A:$C,3,) -> #N/A | F30: =VLOOKUP($A30,'Markers of C20_N_DT'!$A:$C,3,) -> #N/A | G30: =VLOOKUP($A30,'Markers of C21_N_CS'!$A:$C,3,) -> #N/A | H30: =VLOOKUP($A30,'Markers of C12_N_Inj'!$A:$C,3,) -> #N/A | I30: =VLOOKUP($A30,'Markers of C15_Endo'!$A:$C,3,) -> #N/A | J30: =VLOOKUP($A30,'Markers of C19_iMac'!$A:$C,3,) -> #N/A | K30: =VLOOKUP($A30,'Markers of C00_S'!$A:$C,3,) -> #N/A | L30: =VLOOKUP($A30,'Markers of C01_S'!$A:$C,3,) -> #N/A | M30: =VLOOKUP($A30,'Markers of C06_S'!$A:$C,3,) -> #N/A | N30: =VLOOKUP($A30,'Markers of C10_S'!$A:$C,3,) -> #N/A | O30: =VLOOKUP($A30,'Markers of C14_S'!$A:$C,3,) -> #N/A | P30: =VLOOKUP($A30,'Markers of C05_S_Prolif'!$A:$C,3,) -> #N/A | Q30: =VLOOKUP($A30,'Markers of C03_S_Inj'!$A:$C,3,) -> #N/A | R30: =VLOOKUP($A30,'Markers of C07_S_Inj'!$A:$C,3,) -> #N/A | S30: =VLOOKUP($A30,'Markers of C08_S_Inj'!$A:$C,3,) -> #N/A | T30: =VLOOKUP($A30,'Markers of C09_S_Inj'!$A:$C,3,) -> #N/A | U30: =VLOOKUP($A30,'Markers of C16_S_Inj'!$A:$C,3,) -> #N/A | V30: =VLOOKUP($A30,'Markers of C17_S_Inj'!$A:$C,3,) -> #N/A | W30: =VLOOKUP($A30,'Markers of C18_Neural'!$A:$C,3,) -> #N/A
B31: =VLOOKUP($A31,'Markers of C02_N'!$A:$C,3,) -> #N/A | C31: =VLOOKUP($A31,'Markers of C13_N_Prolif'!$A:$C,3,) -> #N/A | D31: =VLOOKUP($A31,'Markers of C04_N_Pod'!$A:$C,3,) -> #N/A | E31: =VLOOKUP($A31,'Markers of C11_N_PT'!$A:$C,3,) -> #N/A | F31: =VLOOKUP($A31,'Markers of C20_N_DT'!$A:$C,3,) -> #N/A | G31: =VLOOKUP($A31,'Markers of C21_N_CS'!$A:$C,3,) -> #N/A | H31: =VLOOKUP($A31,'Markers of C12_N_Inj'!$A:$C,3,) -> #N/A | I31: =VLOOKUP($A31,'Markers of C15_Endo'!$A:$C,3,) -> #N/A | J31: =VLOOKUP($A31,'Markers of C19_iMac'!$A:$C,3,) -> #N/A | K31: =VLOOKUP($A31,'Markers of C00_S'!$A:$C,3,) -> #N/A | L31: =VLOOKUP($A31,'Markers of C01_S'!$A:$C,3,) -> #N/A | M31: =VLOOKUP($A31,'Markers of C06_S'!$A:$C,3,) -> #N/A | N31: =VLOOKUP($A31,'Markers of C10_S'!$A:$C,3,) -> #N/A | O31: =VLOOKUP($A31,'Markers of C14_S'!$A:$C,3,) -> #N/A | P31: =VLOOKUP($A31,'Markers of C05_S_Prolif'!$A:$C,3,) -> #N/A | Q31: =VLOOKUP($A31,'Markers of C03_S_Inj'!$A:$C,3,) -> #N/A | R31: =VLOOKUP($A31,'Markers of C07_S_Inj'!$A:$C,3,) -> #N/A | S31: =VLOOKUP($A31,'Markers of C08_S_Inj'!$A:$C,3,) -> #N/A | T31: =VLOOKUP($A31,'Markers of C09_S_Inj'!$A:$C,3,) -> #N/A | U31: =VLOOKUP($A31,'Markers of C16_S_Inj'!$A:$C,3,) -> #N/A | V31: =VLOOKUP($A31,'Markers of C17_S_Inj'!$A:$C,3,) -> #N/A | W31: =VLOOKUP($A31,'Markers of C18_Neural'!$A:$C,3,) -> #N/A
B32: =VLOOKUP($A32,'Markers of C02_N'!$A:$C,3,) -> #N/A | C32: =VLOOKUP($A32,'Markers of C13_N_Prolif'!$A:$C,3,) -> #N/A | D32: =VLOOKUP($A32,'Markers of C04_N_Pod'!$A:$C,3,) -> #N/A | E32: =VLOOKUP($A32,'Markers of C11_N_PT'!$A:$C,3,) -> #N/A | F32: =VLOOKUP($A32,'Markers of C20_N_DT'!$A:$C,3,) -> #N/A | G32: =VLOOKUP($A32,'Markers of C21_N_CS'!$A:$C,3,) -> #N/A | H32: =VLOOKUP($A32,'Markers of C12_N_Inj'!$A:$C,3,) -> #N/A | I32: =VLOOKUP($A32,'Markers of C15_Endo'!$A:$C,3,) -> #N/A | J32: =VLOOKUP($A32,'Markers of C19_iMac'!$A:$C,3,) -> #N/A | K32: =VLOOKUP($A32,'Markers of C00_S'!$A:$C,3,) -> #N/A | L32: =VLOOKUP($A32,'Markers of C01_S'!$A:$C,3,) -> #N/A | M32: =VLOOKUP($A32,'Markers of C06_S'!$A:$C,3,) -> #N/A | N32: =VLOOKUP($A32,'Markers of C10_S'!$A:$C,3,) -> #N/A | O32: =VLOOKUP($A32,'Markers of C14_S'!$A:$C,3,) -> #N/A | P32: =VLOOKUP($A32,'Markers of C05_S_Prolif'!$A:$C,3,) -> #N/A | Q32: =VLOOKUP($A32,'Markers of C03_S_Inj'!$A:$C,3,) -> #N/A | R32: =VLOOKUP($A32,'Markers of C07_S_Inj'!$A:$C,3,) -> #N/A | S32: =VLOOKUP($A32,'Markers of C08_S_Inj'!$A:$C,3,) -> #N/A | T32: =VLOOKUP($A32,'Markers of C09_S_Inj'!$A:$C,3,) -> #N/A | U32: =VLOOKUP($A32,'Markers of C16_S_Inj'!$A:$C,3,) -> #N/A | V32: =VLOOKUP($A32,'Markers of C17_S_Inj'!$A:$C,3,) -> #N/A | W32: =VLOOKUP($A32,'Markers of C18_Neural'!$A:$C,3,) -> #N/A
B33: =VLOOKUP($A33,'Markers of C02_N'!$A:$C,3,) -> #N/A | C33: =VLOOKUP($A33,'Markers of C13_N_Prolif'!$A:$C,3,) -> #N/A | D33: =VLOOKUP($A33,'Markers of C04_N_Pod'!$A:$C,3,) -> #N/A | E33: =VLOOKUP($A33,'Markers of C11_N_PT'!$A:$C,3,) -> #N/A | F33: =VLOOKUP($A33,'Markers of C20_N_DT'!$A:$C,3,) -> #N/A | G33: =VLOOKUP($A33,'Markers of C21_N_CS'!$A:$C,3,) -> #N/A | H33: =VLOOKUP($A33,'Markers of C12_N_Inj'!$A:$C,3,) -> #N/A | I33: =VLOOKUP($A33,'Markers of C15_Endo'!$A:$C,3,) -> #N/A | J33: =VLOOKUP($A33,'Markers of C19_iMac'!$A:$C,3,) -> #N/A | K33: =VLOOKUP($A33,'Markers of C00_S'!$A:$C,3,) -> #N/A | L33: =VLOOKUP($A33,'Markers of C01_S'!$A:$C,3,) -> #N/A | M33: =VLOOKUP($A33,'Markers of C06_S'!$A:$C,3,) -> #N/A | N33: =VLOOKUP($A33,'Markers of C10_S'!$A:$C,3,) -> #N/A | O33: =VLOOKUP($A33,'Markers of C14_S'!$A:$C,3,) -> #N/A | P33: =VLOOKUP($A33,'Markers of C05_S_Prolif'!$A:$C,3,) -> #N/A | Q33: =VLOOKUP($A33,'Markers of C03_S_Inj'!$A:$C,3,) -> #N/A | R33: =VLOOKUP($A33,'Markers of C07_S_Inj'!$A:$C,3,) -> #N/A | S33: =VLOOKUP($A33,'Markers of C08_S_Inj'!$A:$C,3,) -> #N/A | T33: =VLOOKUP($A33,'Markers of C09_S_Inj'!$A:$C,3,) -> #N/A | U33: =VLOOKUP($A33,'Markers of C16_S_Inj'!$A:$C,3,) -> #N/A | V33: =VLOOKUP($A33,'Markers of C17_S_Inj'!$A:$C,3,) -> #N/A | W33: =VLOOKUP($A33,'Markers of C18_Neural'!$A:$C,3,) -> #N/A
... B162: =VLOOKUP($A162,'Markers of C02_N'!$A:$C,3,) -> #N/A | C162: =VLOOKUP($A162,'Markers of C13_N_Prolif'!$A:$C,3,) -> #N/A | D162: =VLOOKUP($A162,'Markers of C04_N_Pod'!$A:$C,3,) -> #N/A | E162: =VLOOKUP($A162,'Markers of C11_N_PT'!$A:$C,3,) -> #N/A | F162: =VLOOKUP($A162,'Markers of C20_N_DT'!$A:$C,3,) -> #N/A | G162: =VLOOKUP($A162,'Markers of C21_N_CS'!$A:$C,3,) -> #N/A | H162: =VLOOKUP($A162,'Markers of C12_N_Inj'!$A:$C,3,) -> #N/A | I162: =VLOOKUP($A162,'Markers of C15_Endo'!$A:$C,3,) -> #N/A | J162: =VLOOKUP($A162,'Markers of C19_iMac'!$A:$C,3,) -> #N/A | K162: =VLOOKUP($A162,'Markers of C00_S'!$A:$C,3,) -> #N/A | L162: =VLOOKUP($A162,'Markers of C01_S'!$A:$C,3,) -> #N/A | M162: =VLOOKUP($A162,'Markers of C06_S'!$A:$C,3,) -> #N/A | N162: =VLOOKUP($A162,'Markers of C10_S'!$A:$C,3,) -> #N/A | O162: =VLOOKUP($A162,'Markers of C14_S'!$A:$C,3,) -> #N/A | P162: =VLOOKUP($A162,'Markers of C05_S_Prolif'!$A:$C,3,) -> #N/A | Q162: =VLOOKUP($A162,'Markers of C03_S_Inj'!$A:$C,3,) -> #N/A | R162: =VLOOKUP($A162,'Markers of C07_S_Inj'!$A:$C,3,) -> #N/A | S162: =VLOOKUP($A162,'Markers of C08_S_Inj'!$A:$C,3,) -> #N/A | T162: =VLOOKUP($A162,'Markers of C09_S_Inj'!$A:$C,3,) -> #N/A | U162: =VLOOKUP($A162,'Markers of C16_S_Inj'!$A:$C,3,) -> #N/A | V162: =VLOOKUP($A162,'Markers of C17_S_Inj'!$A:$C,3,) -> #N/A | W162: =VLOOKUP($A162,'Markers of C18_Neural'!$A:$C,3,) -> #N/A

Sheet Markers of C00_S
A1: gene | B1: p_val | C1: avg_log2FC | D1: FDR | E1: gene.name | F1: gene.desc
A2: PDGFRA | B2: 0 | C2: 1.4743049 | D2: 0 | E2: platelet derived growth factor receptor alpha | F2: This gene encodes a cell surface tyrosine kinase receptor for members of the platelet-derived growth factor family. These growth factors are mitogens for cells of mesenchymal origin. The identity of the growth factor bound to a receptor monomer determines whether the functional receptor is a homodimer or a heterodimer, composed of both platelet-derived growth factor receptor alpha and beta polypeptides. Studies suggest that this gene plays a role in organ development, wound healing, and tumor progression. Mutations in this gene have been associated with idiopathic hypereosinophilic syndrome, somatic and familial gastrointestinal stromal tumors, and a variety of other cancers. [provided by RefSeq, Mar 2012]
A3: FN1 | B3: 0 | C3: 1.450314 | D3: 0 | E3: fibronectin 1 | F3: This gene encodes fibronectin, a glycoprotein present in a soluble dimeric form in plasma, and in a dimeric or multimeric form at the cell surface and in extracellular matrix. The encoded preproprotein is proteolytically processed to generate the mature protein. Fibronectin is involved in cell adhesion and migration processes including embryogenesis, wound healing, blood coagulation, host defense, and metastasis. The gene has three regions subject to alternative splicing, with the potential to produce 20 different transcript variants, at least one of which encodes an isoform that undergoes proteolytic processing. The full-length nature of some variants has not been determined. [provided by RefSeq, Jan 2016]
A4: EGFR | B4: 0 | C4: 1.2918556 | D4: 0 | E4: epidermal growth factor receptor | F4: The protein encoded by this gene is a transmembrane glycoprotein that is a member of the protein kinase superfamily. This protein is a receptor for members of the epidermal growth factor family. EGFR is a cell surface protein that binds to epidermal growth factor, thus inducing receptor dimerization and tyrosine autophosphorylation leading to cell proliferation. Mutations in this gene are associated with lung cancer. EGFR is a component of the cytokine storm which contributes to a severe form of Coronavirus Disease 2019 (COVID-19) resulting from infection with severe acute respiratory syndrome coronavirus-2 (SARS-CoV-2). [provided by RefSeq, Jul 2020]
A5: SOX9 | B5: 0 | C5: 1.5416813 | D5: 0 | E5: SRY-box transcription factor 9 | F5: The protein encoded by this gene recognizes the sequence CCTTGAG along with other members of the HMG-box class DNA-binding proteins. It acts during chondrocyte differentiation and, with steroidogenic factor 1, regulates transcription of the anti-Muellerian hormone (AMH) gene. Deficiencies lead to the skeletal malformation syndrome campomelic dysplasia, frequently with sex reversal. [provided by RefSeq, Jul 2008]
A6: NCAM1 | B6: 0 | C6: 0.81830288 | D6: 0 | E6: neural cell adhesion molecule 1 | F6: This gene encodes a cell adhesion protein which is a member of the immunoglobulin superfamily. The encoded protein is involved in cell-to-cell interactions as well as cell-matrix interactions during development and differentiation. The encoded protein plays a role in the development of the nervous system by regulating neurogenesis, neurite outgrowth, and cell migration. This protein is also involved in the expansion of T lymphocytes, B lymphocytes and natural killer (NK) cells which play an important role in immune surveillance. This protein plays a role in signal transduction by interacting with fibroblast growth factor receptors, N-cadherin and other components of the extracellular matrix and by triggering signalling cascades involving FYN-focal adhesion kinase (FAK), mitogen-activated protein kinase (MAPK), and phosphatidylinositol 3-kinase (PI3K). One prominent isoform of this gene, cell surface molecule CD56, plays a role in several myeloproliferative disorders such as acute myeloid leukemia and differential expression of this gene is associated with differential disease progression. For example, increased expression of CD56 is correlated with lower survival in acute myeloid leukemia patients whereas increased severity of COVID-19 is correlated with decreased abundance of CD56-expressing NK cells in peripheral blood. Alternative splicing results in multiple transcript variants encoding distinct protein isoforms. [provided by RefSeq, Aug 2020]
A7: TOX | B7: 0 | C7: 1.0212173 | D7: 0 | E7: thymocyte selection associated high mobility group box | F7: The protein encoded by this gene contains a HMG box DNA binding domain. HMG boxes are found in many eukaryotic proteins involved in chromatin assembly, transcription and replication. This protein may function to regulate T-cell development.[provided by RefSeq, Apr 2009]
A8: C1R | B8: 0 | C8: 0.97358548 | D8: 0 | E8: complement C1r | F8: This gene encodes a member of the peptidase S1 protein family. The encoded protein is a proteolytic subunit in the complement system C1 complex. The complement system acts as a mediator in the innate immune response by ultimately triggering phagocytosis, inflammation, and rupturing the bacterial cell wall. Mutations in this gene are associated with Ehlers-Danlos Syndrome. [provided by RefSeq, Dec 2018]
A9: JAK3 | B9: 0 | C9: 1.154045 | D9: 0 | E9: Janus kinase 3 | F9: The protein encoded by this gene is a member of the Janus kinase (JAK) family of tyrosine kinases involved in cytokine receptor-mediated intracellular signal transduction. It is predominantly expressed in immune cells and transduces a signal in response to its activation via tyrosine phosphorylation by interleukin receptors. Mutations in this gene are associated with autosomal SCID (severe combined immunodeficiency disease). [provided by RefSeq, Jul 2008]
A10: SPARCL1 | B10: 0 | C10: 1.6701181 | D10: 0 | E10: SPARC like 1 | F10: Predicted to enable calcium ion binding activity; collagen binding activity; and extracellular matrix binding activity. Predicted to be involved in anatomical structure development and regulation of synapse organization. Located in extracellular space. [provided by Alliance of Genome Resources, Apr 2022]
A11: DGKA | B11: 0 | C11: 0.93086572 | D11: 0 | E11: diacylglycerol kinase alpha | F11: The protein encoded by this gene belongs to the eukaryotic diacylglycerol kinase family. It acts as a modulator that competes with protein kinase C for the second messenger diacylglycerol in intracellular signaling pathways. It also plays an important role in the resynthesis of phosphatidylinositols and phosphorylating diacylglycerol to phosphatidic acid. Several transcript variants encoding different isoforms have been identified for this gene. [provided by RefSeq, Apr 2017]
A12: IL1RAP | B12: 0 | C12: 1.2984203 | D12: 0 | E12: interleukin 1 receptor accessory protein | F12: This gene encodes a component of the interleukin 1 receptor complex, which initiates signalling events that result in the activation of interleukin 1-responsive genes. Alternative splicing of this gene results in membrane-bound and soluble isoforms differing in their C-terminus. The ratio of soluble to membrane-bound forms increases during acute-phase induction or stress. [provided by RefSeq, Jul 2018]
A13: SLC1A3 | B13: 0 | C13: 1.648905 | D13: 0 | E13: solute carrier family 1 member 3 | F13: This gene encodes a member of a member of a high affinity glutamate transporter family. This gene functions in the termination of excitatory neurotransmission in central nervous system. Mutations are associated with episodic ataxia, Type 6. Alternative splicing results in multiple transcript variants.[provided by RefSeq, Feb 2014]
... A78: CD79A | B78: 1.6698952e-71 | C78: 0.28711365 | D78: 6.3456017e-69 | E78: CD79a molecule | F78: The B lymphocyte antigen receptor is a multimeric complex that includes the antigen-specific component, surface immunoglobulin (Ig). Surface Ig non-covalently associates with two other proteins, Ig-alpha and Ig-beta, which are necessary for expression and function of the B-cell antigen receptor. This gene encodes the Ig-alpha protein of the B-cell antigen component. Alternatively spliced transcript variants encoding different isoforms have been described. [provided by RefSeq, Jul 2008]

Sheet Markers of C01_S
A1: gene | B1: p_val | C1: avg_log2FC | D1: FDR | E1: gene.name | F1: gene.desc
A2: CXCL14 | B2: 0 | C2: 3.0661211 | D2: 0 | E2: C-X-C motif chemokine ligand 14 | F2: This antimicrobial gene belongs to the cytokine gene family which encode secreted proteins involved in immunoregulatory and inflammatory processes. The protein encoded by this gene is structurally related to the CXC (Cys-X-Cys) subfamily of cytokines. Members of this subfamily are characterized by two cysteines separated by a single amino acid. This cytokine displays chemotactic activity for monocytes but not for lymphocytes, dendritic cells, neutrophils or macrophages. It has been implicated that this cytokine is involved in the homeostasis of monocyte-derived macrophages rather than in inflammation. [provided by RefSeq, Sep 2014]
A3: LUM | B3: 0 | C3: 3.5603873 | D3: 0 | E3: lumican | F3: This gene encodes a member of the small leucine-rich proteoglycan (SLRP) family that includes decorin, biglycan, fibromodulin, keratocan, epiphycan, and osteoglycin. In these bifunctional molecules, the protein moiety binds collagen fibrils and the highly charged hydrophilic glycosaminoglycans regulate interfibrillar spacings. Lumican is the major keratan sulfate proteoglycan of the cornea but is also distributed in interstitial collagenous matrices throughout the body. Lumican may regulate collagen fibril organization and circumferential growth, corneal transparency, and epithelial cell migration and tissue repair. [provided by RefSeq, Jul 2008]
A4: DCN | B4: 0 | C4: 1.3917083 | D4: 0 | E4: decorin | F4: This gene encodes a member of the small leucine-rich proteoglycan family of proteins. Alternative splicing results in multiple transcript variants, at least one of which encodes a preproprotein that is proteolytically processed to generate the mature protein. This protein plays a role in collagen fibril assembly. Binding of this protein to multiple cell surface receptors mediates its role in tumor suppression, including a stimulatory effect on autophagy and inflammation and an inhibitory effect on angiogenesis and tumorigenesis. This gene and the related gene biglycan are thought to be the result of a gene duplication. Mutations in this gene are associated with congenital stromal corneal dystrophy in human patients. [provided by RefSeq, Nov 2015]
A5: PDGFRA | B5: 0 | C5: 0.5677531 | D5: 0 | E5: platelet derived growth factor receptor alpha | F5: This gene encodes a cell surface tyrosine kinase receptor for members of the platelet-derived growth factor family. These growth factors are mitogens for cells of mesenchymal origin. The identity of the growth factor bound to a receptor monomer determines whether the functional receptor is a homodimer or a heterodimer, composed of both platelet-derived growth factor receptor alpha and beta polypeptides. Studies suggest that this gene plays a role in organ development, wound healing, and tumor progression. Mutations in this gene have been associated with idiopathic hypereosinophilic syndrome, somatic and familial gastrointestinal stromal tumors, and a variety of other cancers. [provided by RefSeq, Mar 2012]
A6: CD44 | B6: 0 | C6: 2.70373 | D6: 0 | E6: CD44 molecule (IN blood group) | F6: The protein encoded by this gene is a cell-surface glycoprotein involved in cell-cell interactions, cell adhesion and migration. It is a receptor for hyaluronic acid (HA) and can also interact with other ligands, such as osteopontin, collagens, and matrix metalloproteinases (MMPs). This protein participates in a wide variety of cellular functions including lymphocyte activation, recirculation and homing, hematopoiesis, and tumor metastasis. Transcripts for this gene undergo complex alternative splicing that results in many functionally distinct isoforms, however, the full length nature of some of these variants has not been determined. Alternative splicing is the basis for the structural and functional diversity of this protein, and may be related to tumor metastasis. [provided by RefSeq, Jul 2008]
A7: TOX | B7: 0 | C7: 0.63304111 | D7: 0 | E7: thymocyte selection associated high mobility group box | F7: The protein encoded by this gene contains a HMG box DNA binding domain. HMG boxes are found in many eukaryotic proteins involved in chromatin assembly, transcription and replication. This protein may function to regulate T-cell development.[provided by RefSeq, Apr 2009]
