Workbook

Sheet Info
A1: This spreadsheet contains:
A2: 1) the list of genes included in the Xenium Immuno-Oncology panel used in this study
A3: 2) an overview of cluster annotations, top marker genes and assigned cluster identities. Note that cluster identities are supported by integration with whole-transcriptome scRNAseq data and tissue morphology in the spatial data
A4: 3) an interactive marker lookup table reporting differential expression of genes included in the Xenium panel across all clusters
A5: 4) individual differential expression marker lists for each cluster

Sheet Xenium IO panel
A1: Feature ID | B1: Feature Name
A2: ENSG00000175899 | B2: A2M
A3: ENSG00000130234 | B3: ACE2
A4: ENSG00000107796 | B4: ACTA2
A5: ENSG00000075624 | B5: ACTB
A6: ENSG00000042980 | B6: ADAM28
A7: ENSG00000204472 | B7: AIF1
A8: ENSG00000160224 | B8: AIRE
A9: ENSG00000142208 | B9: AKT1
A10: ENSG00000166825 | B10: ANPEP
A11: ENSG00000135046 | B11: ANXA1
A12: ENSG00000130203 | B12: APOE
... A381: ENSG00000176083 | B381: ZNF683

Sheet Cluster marker overview
A1: Cluster ID | B1: Lineage | C1: Cluster name | D1: Notes | E1: Display order | F1: Top cluster markers
A2: C02_N | B2: Nephron | C2: Nephron | D2: Nephron epithelium without clear segment identity | E2: 1 | F2: EPCAM | G2: ERBB4 | H2: IGFBP7 | I2: EPOR | J2: MET | K2: JUN | L2: TMPRSS2 | M2: ERBB3 | N2: RNF43 | O2: APOE | P2: IRF2 | Q2: XBP1 | R2: ID4 | S2: CD47 | T2: STAT1
A3: C11_N_PT | B3: Nephron | C3: Proximal tubule | E3: 2 | F3: EPCAM | G3: ERBB3 | H3: APOE | I3: IGFBP7 | J3: EPOR | K3: MET | L3: ERBB4 | M3: JUN | N3: ID4 | O3: STAT1 | P3: ANPEP | Q3: CDKN1C | R3: BCL2 | S3: FABP3 | T3: XBP1
A4: C20_N_DT | B4: Nephron | C4: Distal Tubule | E4: 3 | F4: S100A9 | G4: EPCAM | H4: TMPRSS2 | I4: IGFBP7 | J4: ERBB4 | K4: ICOSLG | L4: ERBB3 | M4: EPOR | N4: RNF43 | O4: APOE | P4: GATA3 | Q4: CD47 | R4: JUN | S4: XBP1 | T4: CDKN1A
A5: C21_N_CS | B5: Nephron | C5: Connecting Segment | E5: 4 | F5: GATA3 | G5: TMPRSS2 | H5: EPCAM | I5: IGFBP7 | J5: EPOR | K5: RNF43 | L5: ICOSLG | M5: ERBB3 | N5: MMP12 | O5: SYK | P5: APOE | Q5: ERBB4 | R5: TC2N | S5: RB1 | T5: TGFB1
A6: C04_N_Pod | B6: Nephron | C6: Podocyte | E6: 5 | F6: IL1R1 | G6: ANXA1 | H6: AIF1 | I6: IL18 | J6: IGFBP7 | K6: IQGAP2 | L6: IFNAR1 | M6: CTSD | N6: TGFB1 | O6: BCL2 | P6: VEGFA | Q6: CDKN1B | R6: SPON2 | S6: STAT1 | T6: G0S2
A7: C13_N_Prolif | B7: Nephron | C7: Nephron, proliferating | E7: 6 | F7: RGS5 | G7: GLIPR2 | H7: IL1R1 | I7: PLVAP | J7: ID4 | K7: EPCAM | L7: ORC6 | M7: CENPV | N7: IGFBP7 | O7: XBP1 | P7: KIT | Q7: CDK1 | R7: BCL2 | S7: CENPF | T7: PAX5
A8: C12_N_Inj | B8: Nephron | C8: Nephron, injured | D8: Expresses epithelial markers alongside hypoxic response and injury genes | E8: 7 | F8: EPCAM | G8: CDKN1A | H8: TGFB1 | I8: APOE | J8: VEGFA | K8: JUN | L8: CDKN1C | M8: MET | N8: COTL1 | O8: FABP3 | P8: XBP1 | Q8: IFNGR1 | R8: LAMP2 | S8: HIF1A | T8: CD47
A9: C15_Endo | B9: Endothelial | C9: Endothelial | E9: 8 | F9: FLT1 | G9: PLVAP | H9: ENTPD1 | I9: CXCR4 | J9: TGFB1 | K9: SOX17 | L9: RGS5 | M9: GATA3 | N9: CDKN1A | O9: CD40 | P9: KIT | Q9: IL4R | R9: TNFRSF1B | S9: VSIR | T9: SPARC
A10: C19_iMac | B10: Immune | C10: Macrophage | E10: 9 | F10: PLA2G7 | G10: CD163 | H10: CTSD | I10: APOE | J10: FCGR2A | K10: A2M | L10: CTSB | M10: CCR1 | N10: CSF1R | O10: IL10RA | P10: MPEG1 | Q10: TNFRSF1B | R10: CD4 | S10: CMKLR1 | T10: CD68
A11: C00_S | B11: Stroma | C11: Stroma 0 | E11: 10 | F11: PDGFRA | G11: FN1 | H11: EGFR | I11: SOX9 | J11: NCAM1 | K11: TOX | L11: C1R | M11: JAK3 | N11: SPARCL1 | O11: DGKA | P11: IL1RAP | Q11: SLC1A3 | R11: MGP | S11: FGF2 | T11: NELL2
A12: C01_S | B12: Stroma | C12: Stroma 1 | E12: 11 | F12: CXCL14 | G12: LUM | H12: DCN | I12: PDGFRA | J12: CD44 | K12: TOX | L12: DGKA | M12: C1R | N12: ITGA1 | O12: IQGAP2 | P12: SLC1A3 | Q12: SDC1 | R12: BCL2 | S12: JAK3 | T12: FAS
A13: C06_S | B13: Stroma | C13: Stroma 6 | E13: 12 | F13: ERBB3 | G13: DCN | H13: GLIPR2 | I13: NCAM1 | J13: CDKN1C | K13: CDK6 | L13: MET | M13: NELL2 | N13: LUM | O13: RB1 | P13: CENPF | Q13: SPARCL1 | R13: C1QBP | S13: CENPV | T13: AKT1
A14: C10_S | B14: Stroma | C14: Stroma 10 | E14: 13 | F14: CXCL12 | G14: PDGFRA | H14: STMN1 | I14: SMAD3 | J14: STAT3 | K14: IFITM3 | L14: PTEN | M14: TUBB | N14: STAT6 | O14: TP53 | P14: JAK3 | Q14: CD83 | R14: SOCS1 | S14: SOCS3 | T14: C1R
A15: C14_S | B15: Stroma | C15: Stroma 14 | D15: Clustered with stroma, lacks strong signature of stroma or epithelium, expresses some proliferative markers including CENPF | E15: 14 | F15: KIT | G15: ERBB3 | H15: S100B | I15: CDK2 | J15: SYK | K15: CENPF | L15: FEZ1 | M15: CD44 | N15: A2M | O15: CD4 | P15: CDK4 | Q15: CCND1 | R15: ICAM1 | S15: STMN1 | T15: CCL15
A16: C05_S_Prolif | B16: Stroma | C16: Stroma 6 proliferating | E16: 15 | F16: CDK1 | G16: CENPF | H16: MKI67 | I16: UBE2C | J16: MIS18BP1 | K16: ORC6 | L16: PDGFRA | M16: TUBA1B | N16: TNFRSF13C | O16: CDKN1B | P16: TOX | Q16: EGFR | R16: CDK2 | S16: CDKN2C | T16: SOX9
A17: C03_S_Inj | B17: Stroma | C17: Stroma 3, injured | E17: 16 | F17: CCL16 | G17: CDKN2B | H17: FLT1 | I17: IL2 | J17: CFC1 | K17: TIGIT | L17: CXCL1 | M17: IL2RA | N17: TRAT1 | O17: CXCL11 | P17: CLEC12A | Q17: CD2 | R17: KLRF1 | S17: CCR4 | T17: CD86
A18: C07_S_Inj | B18: Stroma | C18: Stroma 7, injured | E18: 17 | F18: CENPV | G18: CCL16 | H18: CDKN2B | I18: CXCL1 | J18: FLT1 | K18: CCR4 | L18: ADAM28 | M18: TIGIT | N18: IL2RA | O18: CCL26 | P18: CD86 | Q18: TRAT1 | R18: IL2 | S18: SAMD3 | T18: AIRE
A19: C08_S_Inj | B19: Stroma | C19: Stroma 8, injured | E19: 18 | F19: JUN | G19: VEGFA | H19: HIF1A | I19: IFNGR1 | J19: LAMP2 | K19: PIK3CA | L19: KRAS | M19: PTGS1 | N19: ICAM1 | O19: JUNB | P19: ACTA2 | Q19: ACTB | R19: SOX9 | S19: CD276 | T19: CTNNB1
A20: C09_S_Inj | B20: Stroma | C20: Stroma 9, injured | E20: 19 | F20: CXCL1 | G20: FLT1 | H20: CXCL6 | I20: TGFB1 | J20: CDKN1A | K20: ICAM1 | L20: LTB | M20: PTGS1 | N20: IL1R1 | O20: LIF | P20: VEGFA | Q20: ICOSLG | R20: CDKN2B | S20: CCL16 | T20: CCL28
A21: C16_S_Inj | B21: Stroma | C21: Stroma 16, injured | E21: 20 | F21: ID2 | G21: ID1 | H21: TOX | I21: CTNNB1 | J21: TP53 | K21: STMN1 | L21: CENPV | M21: ID4 | N21: IFITM3 | O21: CDK4 | P21: STAT4 | Q21: FEZ1 | R21: PTEN | S21: SOCS1 | T21: MARCO
A22: C17_S_Inj | B22: Stroma | C22: Stroma 17, injured | D22: Clustered with injured cell types, lacks strong signature of stroma or epithelium, expresses ACTA2 | E22: 21 | F22: CDK2 | G22: RB1 | H22: STAT1 | I22: NCAM1 | J22: PIK3CA | K22: JAK1 | L22: ID4 | M22: IFNAR1 | N22: IFNGR1 | O22: STAT5B | P22: MET | Q22: EGFR | R22: CDK6 | S22: ARPC3 | T22: HIF1A
A23: C18_Neural | B23: Neural | C23: Neural | D23: Expresses Neural markers DMBT1, NCAM1 and others, separate from other clusters | E23: 22 | F23: DMBT1 | G23: CXCL12 | H23: PDGFRA | I23: NCAM1 | J23: PTEN | K23: SPARCL1 | L23: DCN | M23: SOCS2 | N23: STMN1 | O23: JAK3 | P23: FN1 | Q23: SMAD3 | R23: TUBB | S23: STAT6 | T23: TUBA1B
A24: Others | B24: Mixed | E24: 23

Sheet Lookup
A1: ↓Gene|Cluster→ | B1: C02_N | C1: C13_N_Prolif | D1: C04_N_Pod | E1: C11_N_PT | F1: C20_N_DT | G1: C21_N_CS | H1: C12_N_Inj | I1: C15_Endo | J1: C19_iMac | K1: C00_S | L1: C01_S | M1: C06_S | N1: C10_S | O1: C14_S | P1: C05_S_Prolif | Q1: C03_S_Inj | R1: C07_S_Inj | S1: C08_S_Inj | T1: C09_S_Inj | U1: C16_S_Inj | V1: C17_S_Inj | W1: C18_Neural
A2: EPCAM | B2: =VLOOKUP($A2,'Markers of C02_N'!$A:$C,3,) -> 2.9795851 | C2: =VLOOKUP($A2,'Markers of C13_N_Prolif'!$A:$C,3,) -> 0.75417397 | D2: =VLOOKUP($A2,'Markers of C04_N_Pod'!$A:$C,3,) -> #N/A | E2: =VLOOKUP($A2,'Markers of C11_N_PT'!$A:$C,3,) -> 2.6243868 | F2: =VLOOKUP($A2,'Markers of C20_N_DT'!$A:$C,3,) -> 2.5666733 | G2: =VLOOKUP($A2,'Markers of C21_N_CS'!$A:$C,3,) -> 2.8473038 | H2: =VLOOKUP($A2,'Markers of C12_N_Inj'!$A:$C,3,) -> 1.9341806 | I2: =VLOOKUP($A2,'Markers of C15_Endo'!$A:$C,3,) -> #N/A | J2: =VLOOKUP($A2,'Markers of C19_iMac'!$A:$C,3,) -> #N/A | K2: =VLOOKUP($A2,'Markers of C00_S'!$A:$C,3,) -> #N/A | L2: =VLOOKUP($A2,'Markers of C01_S'!$A:$C,3,) -> #N/A | M2: =VLOOKUP($A2,'Markers of C06_S'!$A:$C,3,) -> #N/A | N2: =VLOOKUP($A2,'Markers of C10_S'!$A:$C,3,) -> #N/A | O2: =VLOOKUP($A2,'Markers of C14_S'!$A:$C,3,) -> #N/A | P2: =VLOOKUP($A2,'Markers of C05_S_Prolif'!$A:$C,3,) -> #N/A | Q2: =VLOOKUP($A2,'Markers of C03_S_Inj'!$A:$C,3,) -> #N/A | R2: =VLOOKUP($A2,'Markers of C07_S_Inj'!$A:$C,3,) -> #N/A | S2: =VLOOKUP($A2,'Markers of C08_S_Inj'!$A:$C,3,) -> #N/A | T2: =VLOOKUP($A2,'Markers of C09_S_Inj'!$A:$C,3,) -> #N/A | U2: =VLOOKUP($A2,'Markers of C16_S_Inj'!$A:$C,3,) -> #N/A | V2: =VLOOKUP($A2,'Markers of C17_S_Inj'!$A:$C,3,) -> #N/A | W2: =VLOOKUP($A2,'Markers of C18_Neural'!$A:$C,3,) -> #N/A
A3: S100A9 | B3: =VLOOKUP($A3,'Markers of C02_N'!$A:$C,3,) -> #N/A | C3: =VLOOKUP($A3,'Markers of C13_N_Prolif'!$A:$C,3,) -> #N/A | D3: =VLOOKUP($A3,'Markers of C04_N_Pod'!$A:$C,3,) -> #N/A | E3: =VLOOKUP($A3,'Markers of C11_N_PT'!$A:$C,3,) -> #N/A | F3: =VLOOKUP($A3,'Markers of C20_N_DT'!$A:$C,3,) -> 6.5562521 | G3: =VLOOKUP($A3,'Markers of C21_N_CS'!$A:$C,3,) -> 1.8526446 | H3: =VLOOKUP($A3,'Markers of C12_N_Inj'!$A:$C,3,) -> #N/A | I3: =VLOOKUP($A3,'Markers of C15_Endo'!$A:$C,3,) -> #N/A | J3: =VLOOKUP($A3,'Markers of C19_iMac'!$A:$C,3,) -> 2.3441812 | K3: =VLOOKUP($A3,'Markers of C00_S'!$A:$C,3,) -> #N/A | L3: =VLOOKUP($A3,'Markers of C01_S'!$A:$C,3,) -> #N/A | M3: =VLOOKUP($A3,'Markers of C06_S'!$A:$C,3,) -> #N/A | N3: =VLOOKUP($A3,'Markers of C10_S'!$A:$C,3,) -> #N/A | O3: =VLOOKUP($A3,'Markers of C14_S'!$A:$C,3,) -> #N/A | P3: =VLOOKUP($A3,'Markers of C05_S_Prolif'!$A:$C,3,) -> #N/A | Q3: =VLOOKUP($A3,'Markers of C03_S_Inj'!$A:$C,3,) -> #N/A | R3: =VLOOKUP($A3,'Markers of C07_S_Inj'!$A:$C,3,) -> #N/A | S3: =VLOOKUP($A3,'Markers of C08_S_Inj'!$A:$C,3,) -> #N/A | T3: =VLOOKUP($A3,'Markers of C09_S_Inj'!$A:$C,3,) -> #N/A | U3: =VLOOKUP($A3,'Markers of C16_S_Inj'!$A:$C,3,) -> #N/A | V3: =VLOOKUP($A3,'Markers of C17_S_Inj'!$A:$C,3,) -> #N/A | W3: =VLOOKUP($A3,'Markers of C18_Neural'!$A:$C,3,) -> #N/A | X3: Note - type gene sybmol* into left column to retrieve differential expression values for that gene across clusters
A4: GATA3 | B4: =VLOOKUP($A4,'Markers of C02_N'!$A:$C,3,) -> #N/A | C4: =VLOOKUP($A4,'Markers of C13_N_Prolif'!$A:$C,3,) -> #N/A | D4: =VLOOKUP($A4,'Markers of C04_N_Pod'!$A:$C,3,) -> #N/A | E4: =VLOOKUP($A4,'Markers of C11_N_PT'!$A:$C,3,) -> #N/A | F4: =VLOOKUP($A4,'Markers of C20_N_DT'!$A:$C,3,) -> 2.9661484 | G4: =VLOOKUP($A4,'Markers of C21_N_CS'!$A:$C,3,) -> 5.9083622 | H4: =VLOOKUP($A4,'Markers of C12_N_Inj'!$A:$C,3,) -> 0.1474776 | I4: =VLOOKUP($A4,'Markers of C15_Endo'!$A:$C,3,) -> 0.74957787 | J4: =VLOOKUP($A4,'Markers of C19_iMac'!$A:$C,3,) -> #N/A | K4: =VLOOKUP($A4,'Markers of C00_S'!$A:$C,3,) -> #N/A | L4: =VLOOKUP($A4,'Markers of C01_S'!$A:$C,3,) -> #N/A | M4: =VLOOKUP($A4,'Markers of C06_S'!$A:$C,3,) -> #N/A | N4: =VLOOKUP($A4,'Markers of C10_S'!$A:$C,3,) -> #N/A | O4: =VLOOKUP($A4,'Markers of C14_S'!$A:$C,3,) -> #N/A | P4: =VLOOKUP($A4,'Markers of C05_S_Prolif'!$A:$C,3,) -> #N/A | Q4: =VLOOKUP($A4,'Markers of C03_S_Inj'!$A:$C,3,) -> #N/A | R4: =VLOOKUP($A4,'Markers of C07_S_Inj'!$A:$C,3,) -> #N/A | S4: =VLOOKUP($A4,'Markers of C08_S_Inj'!$A:$C,3,) -> #N/A | T4: =VLOOKUP($A4,'Markers of C09_S_Inj'!$A:$C,3,) -> #N/A | U4: =VLOOKUP($A4,'Markers of C16_S_Inj'!$A:$C,3,) -> #N/A | V4: =VLOOKUP($A4,'Markers of C17_S_Inj'!$A:$C,3,) -> #N/A | W4: =VLOOKUP($A4,'Markers of C18_Neural'!$A:$C,3,) -> #N/A | X4: * Gene must be in Xenium IO panel
A5: IL1R1 | B5: =VLOOKUP($A5,'Markers of C02_N'!$A:$C,3,) -> #N/A | C5: =VLOOKUP($A5,'Markers of C13_N_Prolif'!$A:$C,3,) -> 2.7296952 | D5: =VLOOKUP($A5,'Markers of C04_N_Pod'!$A:$C,3,) -> 4.248562 | E5: =VLOOKUP($A5,'Markers of C11_N_PT'!$A:$C,3,) -> #N/A | F5: =VLOOKUP($A5,'Markers of C20_N_DT'!$A:$C,3,) -> #N/A | G5: =VLOOKUP($A5,'Markers of C21_N_CS'!$A:$C,3,) -> #N/A | H5: =VLOOKUP($A5,'Markers of C12_N_Inj'!$A:$C,3,) -> #N/A | I5: =VLOOKUP($A5,'Markers of C15_Endo'!$A:$C,3,) -> #N/A | J5: =VLOOKUP($A5,'Markers of C19_iMac'!$A:$C,3,) -> #N/A | K5: =VLOOKUP($A5,'Markers of C00_S'!$A:$C,3,) -> #N/A | L5: =VLOOKUP($A5,'Markers of C01_S'!$A:$C,3,) -> #N/A | M5: =VLOOKUP($A5,'Markers of C06_S'!$A:$C,3,) -> #N/A | N5: =VLOOKUP($A5,'Markers of C10_S'!$A:$C,3,) -> #N/A | O5: =VLOOKUP($A5,'Markers of C14_S'!$A:$C,3,) -> #N/A | P5: =VLOOKUP($A5,'Markers of C05_S_Prolif'!$A:$C,3,) -> #N/A | Q5: =VLOOKUP($A5,'Markers of C03_S_Inj'!$A:$C,3,) -> #N/A | R5: =VLOOKUP($A5,'Markers of C07_S_Inj'!$A:$C,3,) -> #N/A | S5: =VLOOKUP($A5,'Markers of C08_S_Inj'!$A:$C,3,) -> #N/A | T5: =VLOOKUP($A5,'Markers of C09_S_Inj'!$A:$C,3,) -> 0.79941287 | U5: =VLOOKUP($A5,'Markers of C16_S_Inj'!$A:$C,3,) -> #N/A | V5: =VLOOKUP($A5,'Markers of C17_S_Inj'!$A:$C,3,) -> #N/A | W5: =VLOOKUP($A5,'Markers of C18_Neural'!$A:$C,3,) -> #N/A
A6: RGS5 | B6: =VLOOKUP($A6,'Markers of C02_N'!$A:$C,3,) -> 1.9757196 | C6: =VLOOKUP($A6,'Markers of C13_N_Prolif'!$A:$C,3,) -> 4.4853421 | D6: =VLOOKUP($A6,'Markers of C04_N_Pod'!$A:$C,3,) -> #N/A | E6: =VLOOKUP($A6,'Markers of C11_N_PT'!$A:$C,3,) -> #N/A | F6: =VLOOKUP($A6,'Markers of C20_N_DT'!$A:$C,3,) -> #N/A | G6: =VLOOKUP($A6,'Markers of C21_N_CS'!$A:$C,3,) -> #N/A | H6: =VLOOKUP($A6,'Markers of C12_N_Inj'!$A:$C,3,) -> #N/A | I6: =VLOOKUP($A6,'Markers of C15_Endo'!$A:$C,3,) -> 1.106168 | J6: =VLOOKUP($A6,'Markers of C19_iMac'!$A:$C,3,) -> #N/A | K6: =VLOOKUP($A6,'Markers of C00_S'!$A:$C,3,) -> #N/A | L6: =VLOOKUP($A6,'Markers of C01_S'!$A:$C,3,) -> #N/A | M6: =VLOOKUP($A6,'Markers of C06_S'!$A:$C,3,) -> #N/A | N6: =VLOOKUP($A6,'Markers of C10_S'!$A:$C,3,) -> #N/A | O6: =VLOOKUP($A6,'Markers of C14_S'!$A:$C,3,) -> #N/A | P6: =VLOOKUP($A6,'Markers of C05_S_Prolif'!$A:$C,3,) -> #N/A | Q6: =VLOOKUP($A6,'Markers of C03_S_Inj'!$A:$C,3,) -> #N/A | R6: =VLOOKUP($A6,'Markers of C07_S_Inj'!$A:$C,3,) -> #N/A | S6: =VLOOKUP($A6,'Markers of C08_S_Inj'!$A:$C,3,) -> #N/A | T6: =VLOOKUP($A6,'Markers of C09_S_Inj'!$A:$C,3,) -> 0.71978562 | U6: =VLOOKUP($A6,'Markers of C16_S_Inj'!$A:$C,3,) -> #N/A | V6: =VLOOKUP($A6,'Markers of C17_S_Inj'!$A:$C,3,) -> #N/A | W6: =VLOOKUP($A6,'Markers of C18_Neural'!$A:$C,3,) -> #N/A
A7: FLT1 | B7: =VLOOKUP($A7,'Markers of C02_N'!$A:$C,3,) -> #N/A | C7: =VLOOKUP($A7,'Markers of C13_N_Prolif'!$A:$C,3,) -> #N/A | D7: =VLOOKUP($A7,'Markers of C04_N_Pod'!$A:$C,3,) -> 1.1734133 | E7: =VLOOKUP($A7,'Markers of C11_N_PT'!$A:$C,3,) -> #N/A | F7: =VLOOKUP($A7,'Markers of C20_N_DT'!$A:$C,3,) -> #N/A | G7: =VLOOKUP($A7,'Markers of C21_N_CS'!$A:$C,3,) -> #N/A | H7: =VLOOKUP($A7,'Markers of C12_N_Inj'!$A:$C,3,) -> #N/A | I7: =VLOOKUP($A7,'Markers of C15_Endo'!$A:$C,3,) -> 5.0071585 | J7: =VLOOKUP($A7,'Markers of C19_iMac'!$A:$C,3,) -> #N/A | K7: =VLOOKUP($A7,'Markers of C00_S'!$A:$C,3,) -> #N/A | L7: =VLOOKUP($A7,'Markers of C01_S'!$A:$C,3,) -> #N/A | M7: =VLOOKUP($A7,'Markers of C06_S'!$A:$C,3,) -> #N/A | N7: =VLOOKUP($A7,'Markers of C10_S'!$A:$C,3,) -> #N/A | O7: =VLOOKUP($A7,'Markers of C14_S'!$A:$C,3,) -> #N/A | P7: =VLOOKUP($A7,'Markers of C05_S_Prolif'!$A:$C,3,) -> #N/A | Q7: =VLOOKUP($A7,'Markers of C03_S_Inj'!$A:$C,3,) -> 1.0062919 | R7: =VLOOKUP($A7,'Markers of C07_S_Inj'!$A:$C,3,) -> 1.6145456 | S7: =VLOOKUP($A7,'Markers of C08_S_Inj'!$A:$C,3,) -> #N/A | T7: =VLOOKUP($A7,'Markers of C09_S_Inj'!$A:$C,3,) -> 3.2968498 | U7: =VLOOKUP($A7,'Markers of C16_S_Inj'!$A:$C,3,) -> #N/A | V7: =VLOOKUP($A7,'Markers of C17_S_Inj'!$A:$C,3,) -> #N/A | W7: =VLOOKUP($A7,'Markers of C18_Neural'!$A:$C,3,) -> #N/A
A8: PLA2G7 | B8: =VLOOKUP($A8,'Markers of C02_N'!$A:$C,3,) -> 0.39332233 | C8: =VLOOKUP($A8,'Markers of C13_N_Prolif'!$A:$C,3,) -> #N/A | D8: =VLOOKUP($A8,'Markers of C04_N_Pod'!$A:$C,3,) -> #N/A | E8: =VLOOKUP($A8,'Markers of C11_N_PT'!$A:$C,3,) -> #N/A | F8: =VLOOKUP($A8,'Markers of C20_N_DT'!$A:$C,3,) -> 1.7586741 | G8: =VLOOKUP($A8,'Markers of C21_N_CS'!$A:$C,3,) -> 0.68415259 | H8: =VLOOKUP($A8,'Markers of C12_N_Inj'!$A:$C,3,) -> #N/A | I8: =VLOOKUP($A8,'Markers of C15_Endo'!$A:$C,3,) -> #N/A | J8: =VLOOKUP($A8,'Markers of C19_iMac'!$A:$C,3,) -> 5.8264294 | K8: =VLOOKUP($A8,'Markers of C00_S'!$A:$C,3,) -> 0.25358784 | L8: =VLOOKUP($A8,'Markers of C01_S'!$A:$C,3,) -> #N/A | M8: =VLOOKUP($A8,'Markers of C06_S'!$A:$C,3,) -> #N/A | N8: =VLOOKUP($A8,'Markers of C10_S'!$A:$C,3,) -> #N/A | O8: =VLOOKUP($A8,'Markers of C14_S'!$A:$C,3,) -> #N/A | P8: =VLOOKUP($A8,'Markers of C05_S_Prolif'!$A:$C,3,) -> #N/A | Q8: =VLOOKUP($A8,'Markers of C03_S_Inj'!$A:$C,3,) -> 0.19542842 | R8: =VLOOKUP($A8,'Markers of C07_S_Inj'!$A:$C,3,) -> 0.5065924 | S8: =VLOOKUP($A8,'Markers of C08_S_Inj'!$A:$C,3,) -> #N/A | T8: =VLOOKUP($A8,'Markers of C09_S_Inj'!$A:$C,3,) -> #N/A | U8: =VLOOKUP($A8,'Markers of C16_S_Inj'!$A:$C,3,) -> #N/A | V8: =VLOOKUP($A8,'Markers of C17_S_Inj'!$A:$C,3,) -> 0.20521895 | W8: =VLOOKUP($A8,'Markers of C18_Neural'!$A:$C,3,) -> 0.56783017
A9: PDGFRA | B9: =VLOOKUP($A9,'Markers of C02_N'!$A:$C,3,) -> #N/A | C9: =VLOOKUP($A9,'Markers of C13_N_Prolif'!$A:$C,3,) -> #N/A | D9: =VLOOKUP($A9,'Markers of C04_N_Pod'!$A:$C,3,) -> #N/A | E9: =VLOOKUP($A9,'Markers of C11_N_PT'!$A:$C,3,) -> #N/A | F9: =VLOOKUP($A9,'Markers of C20_N_DT'!$A:$C,3,) -> #N/A | G9: =VLOOKUP($A9,'Markers of C21_N_CS'!$A:$C,3,) -> #N/A | H9: =VLOOKUP($A9,'Markers of C12_N_Inj'!$A:$C,3,) -> #N/A | I9: =VLOOKUP($A9,'Markers of C15_Endo'!$A:$C,3,) -> 0.14703233 | J9: =VLOOKUP($A9,'Markers of C19_iMac'!$A:$C,3,) -> #N/A | K9: =VLOOKUP($A9,'Markers of C00_S'!$A:$C,3,) -> 1.4743049 | L9: =VLOOKUP($A9,'Markers of C01_S'!$A:$C,3,) -> 0.5677531 | M9: =VLOOKUP($A9,'Markers of C06_S'!$A:$C,3,) -> #N/A | N9: =VLOOKUP($A9,'Markers of C10_S'!$A:$C,3,) -> 0.10575253 | O9: =VLOOKUP($A9,'Markers of C14_S'!$A:$C,3,) -> #N/A | P9: =VLOOKUP($A9,'Markers of C05_S_Prolif'!$A:$C,3,) -> 0.34069476 | Q9: =VLOOKUP($A9,'Markers of C03_S_Inj'!$A:$C,3,) -> #N/A | R9: =VLOOKUP($A9,'Markers of C07_S_Inj'!$A:$C,3,) -> #N/A | S9: =VLOOKUP($A9,'Markers of C08_S_Inj'!$A:$C,3,) -> #N/A | T9: =VLOOKUP($A9,'Markers of C09_S_Inj'!$A:$C,3,) -> #N/A | U9: =VLOOKUP($A9,'Markers of C16_S_Inj'!$A:$C,3,) -> #N/A | V9: =VLOOKUP($A9,'Markers of C17_S_Inj'!$A:$C,3,) -> #N/A | W9: =VLOOKUP($A9,'Markers of C18_Neural'!$A:$C,3,) -> 1.0671245
A10: CXCL14 | B10: =VLOOKUP($A10,'Markers of C02_N'!$A:$C,3,) -> #N/A | C10: =VLOOKUP($A10,'Markers of C13_N_Prolif'!$A:$C,3,) -> #N/A | D10: =VLOOKUP($A10,'Markers of C04_N_Pod'!$A:$C,3,) -> #N/A | E10: =VLOOKUP($A10,'Markers of C11_N_PT'!$A:$C,3,) -> #N/A | F10: =VLOOKUP($A10,'Markers of C20_N_DT'!$A:$C,3,) -> #N/A | G10: =VLOOKUP($A10,'Markers of C21_N_CS'!$A:$C,3,) -> #N/A | H10: =VLOOKUP($A10,'Markers of C12_N_Inj'!$A:$C,3,) -> #N/A | I10: =VLOOKUP($A10,'Markers of C15_Endo'!$A:$C,3,) -> #N/A | J10: =VLOOKUP($A10,'Markers of C19_iMac'!$A:$C,3,) -> 0.16127959 | K10: =VLOOKUP($A10,'Markers of C00_S'!$A:$C,3,) -> #N/A | L10: =VLOOKUP($A10,'Markers of C01_S'!$A:$C,3,) -> 3.0661211 | M10: =VLOOKUP($A10,'Markers of C06_S'!$A:$C,3,) -> #N/A | N10: =VLOOKUP($A10,'Markers of C10_S'!$A:$C,3,) -> #N/A | O10: =VLOOKUP($A10,'Markers of C14_S'!$A:$C,3,) -> #N/A | P10: =VLOOKUP($A10,'Markers of C05_S_Prolif'!$A:$C,3,) -> #N/A | Q10: =VLOOKUP($A10,'Markers of C03_S_Inj'!$A:$C,3,) -> #N/A | R10: =VLOOKUP($A10,'Markers of C07_S_Inj'!$A:$C,3,) -> #N/A | S10: =VLOOKUP($A10,'Markers of C08_S_Inj'!$A:$C,3,) -> #N/A | T10: =VLOOKUP($A10,'Markers of C09_S_Inj'!$A:$C,3,) -> #N/A | U10: =VLOOKUP($A10,'Markers of C16_S_Inj'!$A:$C,3,) -> #N/A | V10: =VLOOKUP($A10,'Markers of C17_S_Inj'!$A:$C,3,) -> #N/A | W10: =VLOOKUP($A10,'Markers of C18_Neural'!$A:$C,3,) -> #N/A
A11: ERBB3 | B11: =VLOOKUP($A11,'Markers of C02_N'!$A:$C,3,) -> 0.83566554 | C11: =VLOOKUP($A11,'Markers of C13_N_Prolif'!$A:$C,3,) -> #N/A | D11: =VLOOKUP($A11,'Markers of C04_N_Pod'!$A:$C,3,) -> #N/A | E11: =VLOOKUP($A11,'Markers of C11_N_PT'!$A:$C,3,) -> 3.0557996 | F11: =VLOOKUP($A11,'Markers of C20_N_DT'!$A:$C,3,) -> 0.8671184 | G11: =VLOOKUP($A11,'Markers of C21_N_CS'!$A:$C,3,) -> 1.1908321 | H11: =VLOOKUP($A11,'Markers of C12_N_Inj'!$A:$C,3,) -> #N/A | I11: =VLOOKUP($A11,'Markers of C15_Endo'!$A:$C,3,) -> #N/A | J11: =VLOOKUP($A11,'Markers of C19_iMac'!$A:$C,3,) -> #N/A | K11: =VLOOKUP($A11,'Markers of C00_S'!$A:$C,3,) -> #N/A | L11: =VLOOKUP($A11,'Markers of C01_S'!$A:$C,3,) -> #N/A | M11: =VLOOKUP($A11,'Markers of C06_S'!$A:$C,3,) -> 2.7365103 | N11: =VLOOKUP($A11,'Markers of C10_S'!$A:$C,3,) -> #N/A | O11: =VLOOKUP($A11,'Markers of C14_S'!$A:$C,3,) -> 2.4726294 | P11: =VLOOKUP($A11,'Markers of C05_S_Prolif'!$A:$C,3,) -> #N/A | Q11: =VLOOKUP($A11,'Markers of C03_S_Inj'!$A:$C,3,) -> #N/A | R11: =VLOOKUP($A11,'Markers of C07_S_Inj'!$A:$C,3,) -> #N/A | S11: =VLOOKUP($A11,'Markers of C08_S_Inj'!$A:$C,3,) -> #N/A | T11: =VLOOKUP($A11,'Markers of C09_S_Inj'!$A:$C,3,) -> #N/A | U11: =VLOOKUP($A11,'Markers of C16_S_Inj'!$A:$C,3,) -> #N/A | V11: =VLOOKUP($A11,'Markers of C17_S_Inj'!$A:$C,3,) -> #N/A | W11: =VLOOKUP($A11,'Markers of C18_Neural'!$A:$C,3,) -> #N/A
A12: CXCL12 | B12: =VLOOKUP($A12,'Markers of C02_N'!$A:$C,3,) -> #N/A | C12: =VLOOKUP($A12,'Markers of C13_N_Prolif'!$A:$C,3,) -> #N/A | D12: =VLOOKUP($A12,'Markers of C04_N_Pod'!$A:$C,3,) -> #N/A | E12: =VLOOKUP($A12,'Markers of C11_N_PT'!$A:$C,3,) -> #N/A | F12: =VLOOKUP($A12,'Markers of C20_N_DT'!$A:$C,3,) -> #N/A | G12: =VLOOKUP($A12,'Markers of C21_N_CS'!$A:$C,3,) -> #N/A | H12: =VLOOKUP($A12,'Markers of C12_N_Inj'!$A:$C,3,) -> #N/A | I12: =VLOOKUP($A12,'Markers of C15_Endo'!$A:$C,3,) -> 0.5506405 | J12: =VLOOKUP($A12,'Markers of C19_iMac'!$A:$C,3,) -> #N/A | K12: =VLOOKUP($A12,'Markers of C00_S'!$A:$C,3,) -> 0.86820995 | L12: =VLOOKUP($A12,'Markers of C01_S'!$A:$C,3,) -> 0.7215095 | M12: =VLOOKUP($A12,'Markers of C06_S'!$A:$C,3,) -> #N/A | N12: =VLOOKUP($A12,'Markers of C10_S'!$A:$C,3,) -> 1.8038431 | O12: =VLOOKUP($A12,'Markers of C14_S'!$A:$C,3,) -> #N/A | P12: =VLOOKUP($A12,'Markers of C05_S_Prolif'!$A:$C,3,) -> #N/A | Q12: =VLOOKUP($A12,'Markers of C03_S_Inj'!$A:$C,3,) -> #N/A | R12: =VLOOKUP($A12,'Markers of C07_S_Inj'!$A:$C,3,) -> #N/A | S12: =VLOOKUP($A12,'Markers of C08_S_Inj'!$A:$C,3,) -> #N/A | T12: =VLOOKUP($A12,'Markers of C09_S_Inj'!$A:$C,3,) -> #N/A | U12: =VLOOKUP($A12,'Markers of C16_S_Inj'!$A:$C,3,) -> #N/A | V12: =VLOOKUP($A12,'Markers of C17_S_Inj'!$A:$C,3,) -> #N/A | W12: =VLOOKUP($A12,'Markers of C18_Neural'!$A:$C,3,) -> 1.331013
A13: KIT | B13: =VLOOKUP($A13,'Markers of C02_N'!$A:$C,3,) -> 0.92789742 | C13: =VLOOKUP($A13,'Markers of C13_N_Prolif'!$A:$C,3,) -> 1.3295064 | D13: =VLOOKUP($A13,'Markers of C04_N_Pod'!$A:$C,3,) -> #N/A | E13: =VLOOKUP($A13,'Markers of C11_N_PT'!$A:$C,3,) -> #N/A | F13: =VLOOKUP($A13,'Markers of C20_N_DT'!$A:$C,3,) -> 0.66865395 | G13: =VLOOKUP($A13,'Markers of C21_N_CS'!$A:$C,3,) -> 0.49709773 | H13: =VLOOKUP($A13,'Markers of C12_N_Inj'!$A:$C,3,) -> 0.31623516 | I13: =VLOOKUP($A13,'Markers of C15_Endo'!$A:$C,3,) -> 1.2563462 | J13: =VLOOKUP($A13,'Markers of C19_iMac'!$A:$C,3,) -> #N/A | K13: =VLOOKUP($A13,'Markers of C00_S'!$A:$C,3,) -> #N/A | L13: =VLOOKUP($A13,'Markers of C01_S'!$A:$C,3,) -> #N/A | M13: =VLOOKUP($A13,'Markers of C06_S'!$A:$C,3,) -> #N/A | N13: =VLOOKUP($A13,'Markers of C10_S'!$A:$C,3,) -> #N/A | O13: =VLOOKUP($A13,'Markers of C14_S'!$A:$C,3,) -> 4.6119123 | P13: =VLOOKUP($A13,'Markers of C05_S_Prolif'!$A:$C,3,) -> #N/A | Q13: =VLOOKUP($A13,'Markers of C03_S_Inj'!$A:$C,3,) -> #N/A | R13: =VLOOKUP($A13,'Markers of C07_S_Inj'!$A:$C,3,) -> #N/A | S13: =VLOOKUP($A13,'Markers of C08_S_Inj'!$A:$C,3,) -> #N/A | T13: =VLOOKUP($A13,'Markers of C09_S_Inj'!$A:$C,3,) -> 0.1655168 | U13: =VLOOKUP($A13,'Markers of C16_S_Inj'!$A:$C,3,) -> #N/A | V13: =VLOOKUP($A13,'Markers of C17_S_Inj'!$A:$C,3,) -> #N/A | W13: =VLOOKUP($A13,'Markers of C18_Neural'!$A:$C,3,) -> #N/A
A14: CDK1 | B14: =VLOOKUP($A14,'Markers of C02_N'!$A:$C,3,) -> #N/A | C14: =VLOOKUP($A14,'Markers of C13_N_Prolif'!$A:$C,3,) -> 1.099362 | D14: =VLOOKUP($A14,'Markers of C04_N_Pod'!$A:$C,3,) -> #N/A | E14: =VLOOKUP($A14,'Markers of C11_N_PT'!$A:$C,3,) -> #N/A | F14: =VLOOKUP($A14,'Markers of C20_N_DT'!$A:$C,3,) -> #N/A | G14: =VLOOKUP($A14,'Markers of C21_N_CS'!$A:$C,3,) -> #N/A | H14: =VLOOKUP($A14,'Markers of C12_N_Inj'!$A:$C,3,) -> #N/A | I14: =VLOOKUP($A14,'Markers of C15_Endo'!$A:$C,3,) -> #N/A | J14: =VLOOKUP($A14,'Markers of C19_iMac'!$A:$C,3,) -> #N/A | K14: =VLOOKUP($A14,'Markers of C00_S'!$A:$C,3,) -> #N/A | L14: =VLOOKUP($A14,'Markers of C01_S'!$A:$C,3,) -> #N/A | M14: =VLOOKUP($A14,'Markers of C06_S'!$A:$C,3,) -> 0.31282523 | N14: =VLOOKUP($A14,'Markers of C10_S'!$A:$C,3,) -> #N/A | O14: =VLOOKUP($A14,'Markers of C14_S'!$A:$C,3,) -> 0.37999799 | P14: =VLOOKUP($A14,'Markers of C05_S_Prolif'!$A:$C,3,) -> 2.8048011 | Q14: =VLOOKUP($A14,'Markers of C03_S_Inj'!$A:$C,3,) -> #N/A | R14: =VLOOKUP($A14,'Markers of C07_S_Inj'!$A:$C,3,) -> #N/A | S14: =VLOOKUP($A14,'Markers of C08_S_Inj'!$A:$C,3,) -> #N/A | T14: =VLOOKUP($A14,'Markers of C09_S_Inj'!$A:$C,3,) -> #N/A | U14: =VLOOKUP($A14,'Markers of C16_S_Inj'!$A:$C,3,) -> #N/A | V14: =VLOOKUP($A14,'Markers of C17_S_Inj'!$A:$C,3,) -> #N/A | W14: =VLOOKUP($A14,'Markers of C18_Neural'!$A:$C,3,) -> #N/A
A15: CCL16 | B15: =VLOOKUP($A15,'Markers of C02_N'!$A:$C,3,) -> #N/A | C15: =VLOOKUP($A15,'Markers of C13_N_Prolif'!$A:$C,3,) -> #N/A | D15: =VLOOKUP($A15,'Markers of C04_N_Pod'!$A:$C,3,) -> #N/A | E15: =VLOOKUP($A15,'Markers of C11_N_PT'!$A:$C,3,) -> #N/A | F15: =VLOOKUP($A15,'Markers of C20_N_DT'!$A:$C,3,) -> #N/A | G15: =VLOOKUP($A15,'Markers of C21_N_CS'!$A:$C,3,) -> #N/A | H15: =VLOOKUP($A15,'Markers of C12_N_Inj'!$A:$C,3,) -> 0.66271502 | I15: =VLOOKUP($A15,'Markers of C15_Endo'!$A:$C,3,) -> #N/A | J15: =VLOOKUP($A15,'Markers of C19_iMac'!$A:$C,3,) -> #N/A | K15: =VLOOKUP($A15,'Markers of C00_S'!$A:$C,3,) -> #N/A | L15: =VLOOKUP($A15,'Markers of C01_S'!$A:$C,3,) -> #N/A | M15: =VLOOKUP($A15,'Markers of C06_S'!$A:$C,3,) -> #N/A | N15: =VLOOKUP($A15,'Markers of C10_S'!$A:$C,3,) -> #N/A | O15: =VLOOKUP($A15,'Markers of C14_S'!$A:$C,3,) -> #N/A | P15: =VLOOKUP($A15,'Markers of C05_S_Prolif'!$A:$C,3,) -> #N/A | Q15: =VLOOKUP($A15,'Markers of C03_S_Inj'!$A:$C,3,) -> 2.4479048 | R15: =VLOOKUP($A15,'Markers of C07_S_Inj'!$A:$C,3,) -> 3.1621293 | S15: =VLOOKUP($A15,'Markers of C08_S_Inj'!$A:$C,3,) -> #N/A | T15: =VLOOKUP($A15,'Markers of C09_S_Inj'!$A:$C,3,) -> 2.4287961 | U15: =VLOOKUP($A15,'Markers of C16_S_Inj'!$A:$C,3,) -> 0.35981855 | V15: =VLOOKUP($A15,'Markers of C17_S_Inj'!$A:$C,3,) -> #N/A | W15: =VLOOKUP($A15,'Markers of C18_Neural'!$A:$C,3,) -> #N/A
A16: CENPV | B16: =VLOOKUP($A16,'Markers of C02_N'!$A:$C,3,) -> #N/A | C16: =VLOOKUP($A16,'Markers of C13_N_Prolif'!$A:$C,3,) -> 0.96112433 | D16: =VLOOKUP($A16,'Markers of C04_N_Pod'!$A:$C,3,) -> #N/A | E16: =VLOOKUP($A16,'Markers of C11_N_PT'!$A:$C,3,) -> #N/A | F16: =VLOOKUP($A16,'Markers of C20_N_DT'!$A:$C,3,) -> #N/A | G16: =VLOOKUP($A16,'Markers of C21_N_CS'!$A:$C,3,) -> #N/A | H16: =VLOOKUP($A16,'Markers of C12_N_Inj'!$A:$C,3,) -> #N/A | I16: =VLOOKUP($A16,'Markers of C15_Endo'!$A:$C,3,) -> #N/A | J16: =VLOOKUP($A16,'Markers of C19_iMac'!$A:$C,3,) -> #N/A | K16: =VLOOKUP($A16,'Markers of C00_S'!$A:$C,3,) -> #N/A | L16: =VLOOKUP($A16,'Markers of C01_S'!$A:$C,3,) -> #N/A | M16: =VLOOKUP($A16,'Markers of C06_S'!$A:$C,3,) -> 0.74116618 | N16: =VLOOKUP($A16,'Markers of C10_S'!$A:$C,3,) -> #N/A | O16: =VLOOKUP($A16,'Markers of C14_S'!$A:$C,3,) -> #N/A | P16: =VLOOKUP($A16,'Markers of C05_S_Prolif'!$A:$C,3,) -> #N/A | Q16: =VLOOKUP($A16,'Markers of C03_S_Inj'!$A:$C,3,) -> #N/A | R16: =VLOOKUP($A16,'Markers of C07_S_Inj'!$A:$C,3,) -> 2.7702619 | S16: =VLOOKUP($A16,'Markers of C08_S_Inj'!$A:$C,3,) -> #N/A | T16: =VLOOKUP($A16,'Markers of C09_S_Inj'!$A:$C,3,) -> 0.45371819 | U16: =VLOOKUP($A16,'Markers of C16_S_Inj'!$A:$C,3,) -> 0.12435868 | V16: =VLOOKUP($A16,'Markers of C17_S_Inj'!$A:$C,3,) -> #N/A | W16: =VLOOKUP($A16,'Markers of C18_Neural'!$A:$C,3,) -> #N/A
... A21: DMBT1 | B21: =VLOOKUP($A21,'Markers of C02_N'!$A:$C,3,) -> #N/A | C21: =VLOOKUP($A21,'Markers of C13_N_Prolif'!$A:$C,3,) -> #N/A | D21: =VLOOKUP($A21,'Markers of C04_N_Pod'!$A:$C,3,) -> 3.2079526 | E21: =VLOOKUP($A21,'Markers of C11_N_PT'!$A:$C,3,) -> #N/A | F21: =VLOOKUP($A21,'Markers of C20_N_DT'!$A:$C,3,) -> #N/A | G21: =VLOOKUP($A21,'Markers of C21_N_CS'!$A:$C,3,) -> #N/A | H21: =VLOOKUP($A21,'Markers of C12_N_Inj'!$A:$C,3,) -> #N/A | I21: =VLOOKUP($A21,'Markers of C15_Endo'!$A:$C,3,) -> #N/A | J21: =VLOOKUP($A21,'Markers of C19_iMac'!$A:$C,3,) -> #N/A | K21: =VLOOKUP($A21,'Markers of C00_S'!$A:$C,3,) -> #N/A | L21: =VLOOKUP($A21,'Markers of C01_S'!$A:$C,3,) -> #N/A | M21: =VLOOKUP($A21,'Markers of C06_S'!$A:$C,3,) -> #N/A | N21: =VLOOKUP($A21,'Markers of C10_S'!$A:$C,3,) -> #N/A | O21: =VLOOKUP($A21,'Markers of C14_S'!$A:$C,3,) -> #N/A | P21: =VLOOKUP($A21,'Markers of C05_S_Prolif'!$A:$C,3,) -> #N/A | Q21: =VLOOKUP($A21,'Markers of C03_S_Inj'!$A:$C,3,) -> #N/A | R21: =VLOOKUP($A21,'Markers of C07_S_Inj'!$A:$C,3,) -> 0.35021559 | S21: =VLOOKUP($A21,'Markers of C08_S_Inj'!$A:$C,3,) -> #N/A | T21: =VLOOKUP($A21,'Markers of C09_S_Inj'!$A:$C,3,) -> #N/A | U21: =VLOOKUP($A21,'Markers of C16_S_Inj'!$A:$C,3,) -> #N/A | V21: =VLOOKUP($A21,'Markers of C17_S_Inj'!$A:$C,3,) -> 0.22704025 | W21: =VLOOKUP($A21,'Markers of C18_Neural'!$A:$C,3,) -> 6.3473113
B22: =VLOOKUP($A22,'Markers of C02_N'!$A:$C,3,) -> #N/A | C22: =VLOOKUP($A22,'Markers of C13_N_Prolif'!$A:$C,3,) -> #N/A | D22: =VLOOKUP($A22,'Markers of C04_N_Pod'!$A:$C,3,) -> #N/A | E22: =VLOOKUP($A22,'Markers of C11_N_PT'!$A:$C,3,) -> #N/A | F22: =VLOOKUP($A22,'Markers of C20_N_DT'!$A:$C,3,) -> #N/A | G22: =VLOOKUP($A22,'Markers of C21_N_CS'!$A:$C,3,) -> #N/A | H22: =VLOOKUP($A22,'Markers of C12_N_Inj'!$A:$C,3,) -> #N/A | I22: =VLOOKUP($A22,'Markers of C15_Endo'!$A:$C,3,) -> #N/A | J22: =VLOOKUP($A22,'Markers of C19_iMac'!$A:$C,3,) -> #N/A | K22: =VLOOKUP($A22,'Markers of C00_S'!$A:$C,3,) -> #N/A | L22: =VLOOKUP($A22,'Markers of C01_S'!$A:$C,3,) -> #N/A | M22: =VLOOKUP($A22,'Markers of C06_S'!$A:$C,3,) -> #N/A | N22: =VLOOKUP($A22,'Markers of C10_S'!$A:$C,3,) -> #N/A | O22: =VLOOKUP($A22,'Markers of C14_S'!$A:$C,3,) -> #N/A | P22: =VLOOKUP($A22,'Markers of C05_S_Prolif'!$A:$C,3,) -> #N/A | Q22: =VLOOKUP($A22,'Markers of C03_S_Inj'!$A:$C,3,) -> #N/A | R22: =VLOOKUP($A22,'Markers of C07_S_Inj'!$A:$C,3,) -> #N/A | S22: =VLOOKUP($A22,'Markers of C08_S_Inj'!$A:$C,3,) -> #N/A | T22: =VLOOKUP($A22,'Markers of C09_S_Inj'!$A:$C,3,) -> #N/A | U22: =VLOOKUP($A22,'Markers of C16_S_Inj'!$A:$C,3,) -> #N/A | V22: =VLOOKUP($A22,'Markers of C17_S_Inj'!$A:$C,3,) -> #N/A | W22: =VLOOKUP($A22,'Markers of C18_Neural'!$A:$C,3,) -> #N/A
B23: =VLOOKUP($A23,'Markers of C02_N'!$A:$C,3,) -> #N/A | C23: =VLOOKUP($A23,'Markers of C13_N_Prolif'!$A:$C,3,) -> #N/A | D23: =VLOOKUP($A23,'Markers of C04_N_Pod'!$A:$C,3,) -> #N/A | E23: =VLOOKUP($A23,'Markers of C11_N_PT'!$A:$C,3,) -> #N/A | F23: =VLOOKUP($A23,'Markers of C20_N_DT'!$A:$C,3,) -> #N/A | G23: =VLOOKUP($A23,'Markers of C21_N_CS'!$A:$C,3,) -> #N/A | H23: =VLOOKUP($A23,'Markers of C12_N_Inj'!$A:$C,3,) -> #N/A | I23: =VLOOKUP($A23,'Markers of C15_Endo'!$A:$C,3,) -> #N/A | J23: =VLOOKUP($A23,'Markers of C19_iMac'!$A:$C,3,) -> #N/A | K23: =VLOOKUP($A23,'Markers of C00_S'!$A:$C,3,) -> #N/A | L23: =VLOOKUP($A23,'Markers of C01_S'!$A:$C,3,) -> #N/A | M23: =VLOOKUP($A23,'Markers of C06_S'!$A:$C,3,) -> #N/A | N23: =VLOOKUP($A23,'Markers of C10_S'!$A:$C,3,) -> #N/A | O23: =VLOOKUP($A23,'Markers of C14_S'!$A:$C,3,) -> #N/A | P23: =VLOOKUP($A23,'Markers of C05_S_Prolif'!$A:$C,3,) -> #N/A | Q23: =VLOOKUP($A23,'Markers of C03_S_Inj'!$A:$C,3,) -> #N/A | R23: =VLOOKUP($A23,'Markers of C07_S_Inj'!$A:$C,3,) -> #N/A | S23: =VLOOKUP($A23,'Markers of C08_S_Inj'!$A:$C,3,) -> #N/A | T23: =VLOOKUP($A23,'Markers of C09_S_Inj'!$A:$C,3,) -> #N/A | U23: =VLOOKUP($A23,'Markers of C16_S_Inj'!$A:$C,3,) -> #N/A | V23: =VLOOKUP($A23,'Markers of C17_S_Inj'!$A:$C,3,) -> #N/A | W23: =VLOOKUP($A23,'Markers of C18_Neural'!$A:$C,3,) -> #N/A
B24: =VLOOKUP($A24,'Markers of C02_N'!$A:$C,3,) -> #N/A | C24: =VLOOKUP($A24,'Markers of C13_N_Prolif'!$A:$C,3,) -> #N/A | D24: =VLOOKUP($A24,'Markers of C04_N_Pod'!$A:$C,3,) -> #N/A | E24: =VLOOKUP($A24,'Markers of C11_N_PT'!$A:$C,3,) -> #N/A | F24: =VLOOKUP($A24,'Markers of C20_N_DT'!$A:$C,3,) -> #N/A | G24: =VLOOKUP($A24,'Markers of C21_N_CS'!$A:$C,3,) -> #N/A | H24: =VLOOKUP($A24,'Markers of C12_N_Inj'!$A:$C,3,) -> #N/A | I24: =VLOOKUP($A24,'Markers of C15_Endo'!$A:$C,3,) -> #N/A | J24: =VLOOKUP($A24,'Markers of C19_iMac'!$A:$C,3,) -> #N/A | K24: =VLOOKUP($A24,'Markers of C00_S'!$A:$C,3,) -> #N/A | L24: =VLOOKUP($A24,'Markers of C01_S'!$A:$C,3,) -> #N/A | M24: =VLOOKUP($A24,'Markers of C06_S'!$A:$C,3,) -> #N/A | N24: =VLOOKUP($A24,'Markers of C10_S'!$A:$C,3,) -> #N/A | O24: =VLOOKUP($A24,'Markers of C14_S'!$A:$C,3,) -> #N/A | P24: =VLOOKUP($A24,'Markers of C05_S_Prolif'!$A:$C,3,) -> #N/A | Q24: =VLOOKUP($A24,'Markers of C03_S_Inj'!$A:$C,3,) -> #N/A | R24: =VLOOKUP($A24,'Markers of C07_S_Inj'!$A:$C,3,) -> #N/A | S24: =VLOOKUP($A24,'Markers of C08_S_Inj'!$A:$C,3,) -> #N/A | T24: =VLOOKUP($A24,'Markers of C09_S_Inj'!$A:$C,3,) -> #N/A | U24: =VLOOKUP($A24,'Markers of C16_S_Inj'!$A:$C,3,) -> #N/A | V24: =VLOOKUP($A24,'Markers of C17_S_Inj'!$A:$C,3,) -> #N/A | W24: =VLOOKUP($A24,'Markers of C18_Neural'!$A:$C,3,) -> #N/A
B25: =VLOOKUP($A25,'Markers of C02_N'!$A:$C,3,) -> #N/A | C25: =VLOOKUP($A25,'Markers of C13_N_Prolif'!$A:$C,3,) -> #N/A | D25: =VLOOKUP($A25,'Markers of C04_N_Pod'!$A:$C,3,) -> #N/A | E25: =VLOOKUP($A25,'Markers of C11_N_PT'!$A:$C,3,) -> #N/A | F25: =VLOOKUP($A25,'Markers of C20_N_DT'!$A:$C,3,) -> #N/A | G25: =VLOOKUP($A25,'Markers of C21_N_CS'!$A:$C,3,) -> #N/A | H25: =VLOOKUP($A25,'Markers of C12_N_Inj'!$A:$C,3,) -> #N/A | I25: =VLOOKUP($A25,'Markers of C15_Endo'!$A:$C,3,) -> #N/A | J25: =VLOOKUP($A25,'Markers of C19_iMac'!$A:$C,3,) -> #N/A | K25: =VLOOKUP($A25,'Markers of C00_S'!$A:$C,3,) -> #N/A | L25: =VLOOKUP($A25,'Markers of C01_S'!$A:$C,3,) -> #N/A | M25: =VLOOKUP($A25,'Markers of C06_S'!$A:$C,3,) -> #N/A | N25: =VLOOKUP($A25,'Markers of C10_S'!$A:$C,3,) -> #N/A | O25: =VLOOKUP($A25,'Markers of C14_S'!$A:$C,3,) -> #N/A | P25: =VLOOKUP($A25,'Markers of C05_S_Prolif'!$A:$C,3,) -> #N/A | Q25: =VLOOKUP($A25,'Markers of C03_S_Inj'!$A:$C,3,) -> #N/A | R25: =VLOOKUP($A25,'Markers of C07_S_Inj'!$A:$C,3,) -> #N/A | S25: =VLOOKUP($A25,'Markers of C08_S_Inj'!$A:$C,3,) -> #N/A | T25: =VLOOKUP($A25,'Markers of C09_S_Inj'!$A:$C,3,) -> #N/A | U25: =VLOOKUP($A25,'Markers of C16_S_Inj'!$A:$C,3,) -> #N/A | V25: =VLOOKUP($A25,'Markers of C17_S_Inj'!$A:$C,3,) -> #N/A | W25: =VLOOKUP($A25,'Markers of C18_Neural'!$A:$C,3,) -> #N/A
B26: =VLOOKUP($A26,'Markers of C02_N'!$A:$C,3,) -> #N/A | C26: =VLOOKUP($A26,'Markers of C13_N_Prolif'!$A:$C,3,) -> #N/A | D26: =VLOOKUP($A26,'Markers of C04_N_Pod'!$A:$C,3,) -> #N/A | E26: =VLOOKUP($A26,'Markers of C11_N_PT'!$A:$C,3,) -> #N/A | F26: =VLOOKUP($A26,'Markers of C20_N_DT'!$A:$C,3,) -> #N/A | G26: =VLOOKUP($A26,'Markers of C21_N_CS'!$A:$C,3,) -> #N/A | H26: =VLOOKUP($A26,'Markers of C12_N_Inj'!$A:$C,3,) -> #N/A | I26: =VLOOKUP($A26,'Markers of C15_Endo'!$A:$C,3,) -> #N/A | J26: =VLOOKUP($A26,'Markers of C19_iMac'!$A:$C,3,) -> #N/A | K26: =VLOOKUP($A26,'Markers of C00_S'!$A:$C,3,) -> #N/A | L26: =VLOOKUP($A26,'Markers of C01_S'!$A:$C,3,) -> #N/A | M26: =VLOOKUP($A26,'Markers of C06_S'!$A:$C,3,) -> #N/A | N26: =VLOOKUP($A26,'Markers of C10_S'!$A:$C,3,) -> #N/A | O26: =VLOOKUP($A26,'Markers of C14_S'!$A:$C,3,) -> #N/A | P26: =VLOOKUP($A26,'Markers of C05_S_Prolif'!$A:$C,3,) -> #N/A | Q26: =VLOOKUP($A26,'Markers of C03_S_Inj'!$A:$C,3,) -> #N/A | R26: =VLOOKUP($A26,'Markers of C07_S_Inj'!$A:$C,3,) -> #N/A | S26: =VLOOKUP($A26,'Markers of C08_S_Inj'!$A:$C,3,) -> #N/A | T26: =VLOOKUP($A26,'Markers of C09_S_Inj'!$A:$C,3,) -> #N/A | U26: =VLOOKUP($A26,'Markers of C16_S_Inj'!$A:$C,3,) -> #N/A | V26: =VLOOKUP($A26,'Markers of C17_S_Inj'!$A:$C,3,) -> #N/A | W26: =VLOOKUP($A26,'Markers of C18_Neural'!$A:$C,3,) -> #N/A
B27: =VLOOKUP($A27,'Markers of C02_N'!$A:$C,3,) -> #N/A | C27: =VLOOKUP($A27,'Markers of C13_N_Prolif'!$A:$C,3,) -> #N/A | D27: =VLOOKUP($A27,'Markers of C04_N_Pod'!$A:$C,3,) -> #N/A | E27: =VLOOKUP($A27,'Markers of C11_N_PT'!$A:$C,3,) -> #N/A | F27: =VLOOKUP($A27,'Markers of C20_N_DT'!$A:$C,3,) -> #N/A | G27: =VLOOKUP($A27,'Markers of C21_N_CS'!$A:$C,3,) -> #N/A | H27: =VLOOKUP($A27,'Markers of C12_N_Inj'!$A:$C,3,) -> #N/A | I27: =VLOOKUP($A27,'Markers of C15_Endo'!$A:$C,3,) -> #N/A | J27: =VLOOKUP($A27,'Markers of C19_iMac'!$A:$C,3,) -> #N/A | K27: =VLOOKUP($A27,'Markers of C00_S'!$A:$C,3,) -> #N/A | L27: =VLOOKUP($A27,'Markers of C01_S'!$A:$C,3,) -> #N/A | M27: =VLOOKUP($A27,'Markers of C06_S'!$A:$C,3,) -> #N/A | N27: =VLOOKUP($A27,'Markers of C10_S'!$A:$C,3,) -> #N/A | O27: =VLOOKUP($A27,'Markers of C14_S'!$A:$C,3,) -> #N/A | P27: =VLOOKUP($A27,'Markers of C05_S_Prolif'!$A:$C,3,) -> #N/A | Q27: =VLOOKUP($A27,'Markers of C03_S_Inj'!$A:$C,3,) -> #N/A | R27: =VLOOKUP($A27,'Markers of C07_S_Inj'!$A:$C,3,) -> #N/A | S27: =VLOOKUP($A27,'Markers of C08_S_Inj'!$A:$C,3,) -> #N/A | T27: =VLOOKUP($A27,'Markers of C09_S_Inj'!$A:$C,3,) -> #N/A | U27: =VLOOKUP($A27,'Markers of C16_S_Inj'!$A:$C,3,) -> #N/A | V27: =VLOOKUP($A27,'Markers of C17_S_Inj'!$A:$C,3,) -> #N/A | W27: =VLOOKUP($A27,'Markers of C18_Neural'!$A:$C,3,) -> #N/A
B28: =VLOOKUP($A28,'Markers of C02_N'!$A:$C,3,) -> #N/A | C28: =VLOOKUP($A28,'Markers of C13_N_Prolif'!$A:$C,3,) -> #N/A | D28: =VLOOKUP($A28,'Markers of C04_N_Pod'!$A:$C,3,) -> #N/A | E28: =VLOOKUP($A28,'Markers of C11_N_PT'!$A:$C,3,) -> #N/A | F28: =VLOOKUP($A28,'Markers of C20_N_DT'!$A:$C,3,) -> #N/A | G28: =VLOOKUP($A28,'Markers of C21_N_CS'!$A:$C,3,) -> #N/A | H28: =VLOOKUP($A28,'Markers of C12_N_Inj'!$A:$C,3,) -> #N/A | I28: =VLOOKUP($A28,'Markers of C15_Endo'!$A:$C,3,) -> #N/A | J28: =VLOOKUP($A28,'Markers of C19_iMac'!$A:$C,3,) -> #N/A | K28: =VLOOKUP($A28,'Markers of C00_S'!$A:$C,3,) -> #N/A | L28: =VLOOKUP($A28,'Markers of C01_S'!$A:$C,3,) -> #N/A | M28: =VLOOKUP($A28,'Markers of C06_S'!$A:$C,3,) -> #N/A | N28: =VLOOKUP($A28,'Markers of C10_S'!$A:$C,3,) -> #N/A | O28: =VLOOKUP($A28,'Markers of C14_S'!$A:$C,3,) -> #N/A | P28: =VLOOKUP($A28,'Markers of C05_S_Prolif'!$A:$C,3,) -> #N/A | Q28: =VLOOKUP($A28,'Markers of C03_S_Inj'!$A:$C,3,) -> #N/A | R28: =VLOOKUP($A28,'Markers of C07_S_Inj'!$A:$C,3,) -> #N/A | S28: =VLOOKUP($A28,'Markers of C08_S_Inj'!$A:$C,3,) -> #N/A | T28: =VLOOKUP($A28,'Markers of C09_S_Inj'!$A:$C,3,) -> #N/A | U28: =VLOOKUP($A28,'Markers of C16_S_Inj'!$A:$C,3,) -> #N/A | V28: =VLOOKUP($A28,'Markers of C17_S_Inj'!$A:$C,3,) -> #N/A | W28: =VLOOKUP($A28,'Markers of C18_Neural'!$A:$C,3,) -> #N/A
B29: =VLOOKUP($A29,'Markers of C02_N'!$A:$C,3,) -> #N/A | C29: =VLOOKUP($A29,'Markers of C13_N_Prolif'!$A:$C,3,) -> #N/A | D29: =VLOOKUP($A29,'Markers of C04_N_Pod'!$A:$C,3,) -> #N/A | E29: =VLOOKUP($A29,'Markers of C11_N_PT'!$A:$C,3,) -> #N/A | F29: =VLOOKUP($A29,'Markers of C20_N_DT'!$A:$C,3,) -> #N/A | G29: =VLOOKUP($A29,'Markers of C21_N_CS'!$A:$C,3,) -> #N/A | H29: =VLOOKUP($A29,'Markers of C12_N_Inj'!$A:$C,3,) -> #N/A | I29: =VLOOKUP($A29,'Markers of C15_Endo'!$A:$C,3,) -> #N/A | J29: =VLOOKUP($A29,'Markers of C19_iMac'!$A:$C,3,) -> #N/A | K29: =VLOOKUP($A29,'Markers of C00_S'!$A:$C,3,) -> #N/A | L29: =VLOOKUP($A29,'Markers of C01_S'!$A:$C,3,) -> #N/A | M29: =VLOOKUP($A29,'Markers of C06_S'!$A:$C,3,) -> #N/A | N29: =VLOOKUP($A29,'Markers of C10_S'!$A:$C,3,) -> #N/A | O29: =VLOOKUP($A29,'Markers of C14_S'!$A:$C,3,) -> #N/A | P29: =VLOOKUP($A29,'Markers of C05_S_Prolif'!$A:$C,3,) -> #N/A | Q29: =VLOOKUP($A29,'Markers of C03_S_Inj'!$A:$C,3,) -> #N/A | R29: =VLOOKUP($A29,'Markers of C07_S_Inj'!$A:$C,3,) -> #N/A | S29: =VLOOKUP($A29,'Markers of C08_S_Inj'!$A:$C,3,) -> #N/A | T29: =VLOOKUP($A29,'Markers of C09_S_Inj'!$A:$C,3,) -> #N/A | U29: =VLOOKUP($A29,'Markers of C16_S_Inj'!$A:$C,3,) -> #N/A | V29: =VLOOKUP($A29,'Markers of C17_S_Inj'!$A:$C,3,) -> #N/A | W29: =VLOOKUP($A29,'Markers of C18_Neural'!$A:$C,3,) -> #N/A
B30: =VLOOKUP($A30,'Markers of C02_N'!$A:$C,3,) -> #N/A | C30: =VLOOKUP($A30,'Markers of C13_N_Prolif'!$A:$C,3,) -> #N/A | D30: =VLOOKUP($A30,'Markers of C04_N_Pod'!$A:$C,3,) -> #N/A | E30: =VLOOKUP($A30,'Markers of C11_N_PT'!$A:$C,3,) -> #N/A | F30: =VLOOKUP($A30,'Markers of C20_N_DT'!$A:$C,3,) -> #N/A | G30: =VLOOKUP($A30,'Markers of C21_N_CS'!$A:$C,3,) -> #N/A | H30: =VLOOKUP($A30,'Markers of C12_N_Inj'!$A:$C,3,) -> #N/A | I30: =VLOOKUP($A30,'Markers of C15_Endo'!$A:$C,3,) -> #N/A | J30: =VLOOKUP($A30,'Markers of C19_iMac'!$A:$C,3,) -> #N/A | K30: =VLOOKUP($A30,'Markers of C00_S'!$A:$C,3,) -> #N/A | L30: =VLOOKUP($A30,'Markers of C01_S'!$A:$C,3,) -> #N/A | M30: =VLOOKUP($A30,'Markers of C06_S'!$A:$C,3,) -> #N/A | N30: =VLOOKUP($A30,'Markers of C10_S'!$A:$C,3,) -> #N/A | O30: =VLOOKUP($A30,'Markers of C14_S'!$A:$C,3,) -> #N/A | P30: =VLOOKUP($A30,'Markers of C05_S_Prolif'!$A:$C,3,) -> #N/A | Q30: =VLOOKUP($A30,'Markers of C03_S_Inj'!$A:$C,3,) -> #N/A | R30: =VLOOKUP($A30,'Markers of C07_S_Inj'!$A:$C,3,) -> #N/A | S30: =VLOOKUP($A30,'Markers of C08_S_Inj'!$A:$C,3,) -> #N/A | T30: =VLOOKUP($A30,'Markers of C09_S_Inj'!$A:$C,3,) -> #N/A | U30: =VLOOKUP($A30,'Markers of C16_S_Inj'!$A:$C,3,) -> #N/A | V30: =VLOOKUP($A30,'Markers of C17_S_Inj'!$A:$C,3,) -> #N/A | W30: =VLOOKUP($A30,'Markers of C18_Neural'!$A:$C,3,) -> #N/A
B31: =VLOOKUP($A31,'Markers of C02_N'!$A:$C,3,) -> #N/A | C31: =VLOOKUP($A31,'Markers of C13_N_Prolif'!$A:$C,3,) -> #N/A | D31: =VLOOKUP($A31,'Markers of C04_N_Pod'!$A:$C,3,) -> #N/A | E31: =VLOOKUP($A31,'Markers of C11_N_PT'!$A:$C,3,) -> #N/A | F31: =VLOOKUP($A31,'Markers of C20_N_DT'!$A:$C,3,) -> #N/A | G31: =VLOOKUP($A31,'Markers of C21_N_CS'!$A:$C,3,) -> #N/A | H31: =VLOOKUP($A31,'Markers of C12_N_Inj'!$A:$C,3,) -> #N/A | I31: =VLOOKUP($A31,'Markers of C15_Endo'!$A:$C,3,) -> #N/A | J31: =VLOOKUP($A31,'Markers of C19_iMac'!$A:$C,3,) -> #N/A | K31: =VLOOKUP($A31,'Markers of C00_S'!$A:$C,3,) -> #N/A | L31: =VLOOKUP($A31,'Markers of C01_S'!$A:$C,3,) -> #N/A | M31: =VLOOKUP($A31,'Markers of C06_S'!$A:$C,3,) -> #N/A | N31: =VLOOKUP($A31,'Markers of C10_S'!$A:$C,3,) -> #N/A | O31: =VLOOKUP($A31,'Markers of C14_S'!$A:$C,3,) -> #N/A | P31: =VLOOKUP($A31,'Markers of C05_S_Prolif'!$A:$C,3,) -> #N/A | Q31: =VLOOKUP($A31,'Markers of C03_S_Inj'!$A:$C,3,) -> #N/A | R31: =VLOOKUP($A31,'Markers of C07_S_Inj'!$A:$C,3,) -> #N/A | S31: =VLOOKUP($A31,'Markers of C08_S_Inj'!$A:$C,3,) -> #N/A | T31: =VLOOKUP($A31,'Markers of C09_S_Inj'!$A:$C,3,) -> #N/A | U31: =VLOOKUP($A31,'Markers of C16_S_Inj'!$A:$C,3,) -> #N/A | V31: =VLOOKUP($A31,'Markers of C17_S_Inj'!$A:$C,3,) -> #N/A | W31: =VLOOKUP($A31,'Markers of C18_Neural'!$A:$C,3,) -> #N/A
B32: =VLOOKUP($A32,'Markers of C02_N'!$A:$C,3,) -> #N/A | C32: =VLOOKUP($A32,'Markers of C13_N_Prolif'!$A:$C,3,) -> #N/A | D32: =VLOOKUP($A32,'Markers of C04_N_Pod'!$A:$C,3,) -> #N/A | E32: =VLOOKUP($A32,'Markers of C11_N_PT'!$A:$C,3,) -> #N/A | F32: =VLOOKUP($A32,'Markers of C20_N_DT'!$A:$C,3,) -> #N/A | G32: =VLOOKUP($A32,'Markers of C21_N_CS'!$A:$C,3,) -> #N/A | H32: =VLOOKUP($A32,'Markers of C12_N_Inj'!$A:$C,3,) -> #N/A | I32: =VLOOKUP($A32,'Markers of C15_Endo'!$A:$C,3,) -> #N/A | J32: =VLOOKUP($A32,'Markers of C19_iMac'!$A:$C,3,) -> #N/A | K32: =VLOOKUP($A32,'Markers of C00_S'!$A:$C,3,) -> #N/A | L32: =VLOOKUP($A32,'Markers of C01_S'!$A:$C,3,) -> #N/A | M32: =VLOOKUP($A32,'Markers of C06_S'!$A:$C,3,) -> #N/A | N32: =VLOOKUP($A32,'Markers of C10_S'!$A:$C,3,) -> #N/A | O32: =VLOOKUP($A32,'Markers of C14_S'!$A:$C,3,) -> #N/A | P32: =VLOOKUP($A32,'Markers of C05_S_Prolif'!$A:$C,3,) -> #N/A | Q32: =VLOOKUP($A32,'Markers of C03_S_Inj'!$A:$C,3,) -> #N/A | R32: =VLOOKUP($A32,'Markers of C07_S_Inj'!$A:$C,3,) -> #N/A | S32: =VLOOKUP($A32,'Markers of C08_S_Inj'!$A:$C,3,) -> #N/A | T32: =VLOOKUP($A32,'Markers of C09_S_Inj'!$A:$C,3,) -> #N/A | U32: =VLOOKUP($A32,'Markers of C16_S_Inj'!$A:$C,3,) -> #N/A | V32: =VLOOKUP($A32,'Markers of C17_S_Inj'!$A:$C,3,) -> #N/A | W32: =VLOOKUP($A32,'Markers of C18_Neural'!$A:$C,3,) -> #N/A
B33: =VLOOKUP($A33,'Markers of C02_N'!$A:$C,3,) -> #N/A | C33: =VLOOKUP($A33,'Markers of C13_N_Prolif'!$A:$C,3,) -> #N/A | D33: =VLOOKUP($A33,'Markers of C04_N_Pod'!$A:$C,3,) -> #N/A | E33: =VLOOKUP($A33,'Markers of C11_N_PT'!$A:$C,3,) -> #N/A | F33: =VLOOKUP($A33,'Markers of C20_N_DT'!$A:$C,3,) -> #N/A | G33: =VLOOKUP($A33,'Markers of C21_N_CS'!$A:$C,3,) -> #N/A | H33: =VLOOKUP($A33,'Markers of C12_N_Inj'!$A:$C,3,) -> #N/A | I33: =VLOOKUP($A33,'Markers of C15_Endo'!$A:$C,3,) -> #N/A | J33: =VLOOKUP($A33,'Markers of C19_iMac'!$A:$C,3,) -> #N/A | K33: =VLOOKUP($A33,'Markers of C00_S'!$A:$C,3,) -> #N/A | L33: =VLOOKUP($A33,'Markers of C01_S'!$A:$C,3,) -> #N/A | M33: =VLOOKUP($A33,'Markers of C06_S'!$A:$C,3,) -> #N/A | N33: =VLOOKUP($A33,'Markers of C10_S'!$A:$C,3,) -> #N/A | O33: =VLOOKUP($A33,'Markers of C14_S'!$A:$C,3,) -> #N/A | P33: =VLOOKUP($A33,'Markers of C05_S_Prolif'!$A:$C,3,) -> #N/A | Q33: =VLOOKUP($A33,'Markers of C03_S_Inj'!$A:$C,3,) -> #N/A | R33: =VLOOKUP($A33,'Markers of C07_S_Inj'!$A:$C,3,) -> #N/A | S33: =VLOOKUP($A33,'Markers of C08_S_Inj'!$A:$C,3,) -> #N/A | T33: =VLOOKUP($A33,'Markers of C09_S_Inj'!$A:$C,3,) -> #N/A | U33: =VLOOKUP($A33,'Markers of C16_S_Inj'!$A:$C,3,) -> #N/A | V33: =VLOOKUP($A33,'Markers of C17_S_Inj'!$A:$C,3,) -> #N/A | W33: =VLOOKUP($A33,'Markers of C18_Neural'!$A:$C,3,) -> #N/A
... B162: =VLOOKUP($A162,'Markers of C02_N'!$A:$C,3,) -> #N/A | C162: =VLOOKUP($A162,'Markers of C13_N_Prolif'!$A:$C,3,) -> #N/A | D162: =VLOOKUP($A162,'Markers of C04_N_Pod'!$A:$C,3,) -> #N/A | E162: =VLOOKUP($A162,'Markers of C11_N_PT'!$A:$C,3,) -> #N/A | F162: =VLOOKUP($A162,'Markers of C20_N_DT'!$A:$C,3,) -> #N/A | G162: =VLOOKUP($A162,'Markers of C21_N_CS'!$A:$C,3,) -> #N/A | H162: =VLOOKUP($A162,'Markers of C12_N_Inj'!$A:$C,3,) -> #N/A | I162: =VLOOKUP($A162,'Markers of C15_Endo'!$A:$C,3,) -> #N/A | J162: =VLOOKUP($A162,'Markers of C19_iMac'!$A:$C,3,) -> #N/A | K162: =VLOOKUP($A162,'Markers of C00_S'!$A:$C,3,) -> #N/A | L162: =VLOOKUP($A162,'Markers of C01_S'!$A:$C,3,) -> #N/A | M162: =VLOOKUP($A162,'Markers of C06_S'!$A:$C,3,) -> #N/A | N162: =VLOOKUP($A162,'Markers of C10_S'!$A:$C,3,) -> #N/A | O162: =VLOOKUP($A162,'Markers of C14_S'!$A:$C,3,) -> #N/A | P162: =VLOOKUP($A162,'Markers of C05_S_Prolif'!$A:$C,3,) -> #N/A | Q162: =VLOOKUP($A162,'Markers of C03_S_Inj'!$A:$C,3,) -> #N/A | R162: =VLOOKUP($A162,'Markers of C07_S_Inj'!$A:$C,3,) -> #N/A | S162: =VLOOKUP($A162,'Markers of C08_S_Inj'!$A:$C,3,) -> #N/A | T162: =VLOOKUP($A162,'Markers of C09_S_Inj'!$A:$C,3,) -> #N/A | U162: =VLOOKUP($A162,'Markers of C16_S_Inj'!$A:$C,3,) -> #N/A | V162: =VLOOKUP($A162,'Markers of C17_S_Inj'!$A:$C,3,) -> #N/A | W162: =VLOOKUP($A162,'Markers of C18_Neural'!$A:$C,3,) -> #N/A

Sheet Markers of C00_S
A1: gene | B1: p_val | C1: avg_log2FC | D1: FDR | E1: gene.name | F1: gene.desc
A2: PDGFRA | B2: 0 | C2: 1.4743049 | D2: 0 | E2: platelet derived growth factor receptor alpha | F2: This gene encodes a cell surface tyrosine kinase receptor for members of the platelet-derived growth factor family. These growth factors are mitogens for cells of mesenchymal origin. The identity of the growth factor bound to a receptor monomer determines whether the functional receptor is a homodimer or a heterodimer, composed of both platelet-derived growth factor receptor alpha and beta polypeptides. Studies suggest that this gene plays a role in organ development, wound healing, and tumor progression. Mutations in this gene have been associated with idiopathic hypereosinophilic syndrome, somatic and familial gastrointestinal stromal tumors, and a variety of other cancers. [provided by RefSeq, Mar 2012]
A3: FN1 | B3: 0 | C3: 1.450314 | D3: 0 | E3: fibronectin 1 | F3: This gene encodes fibronectin, a glycoprotein present in a soluble dimeric form in plasma, and in a dimeric or multimeric form at the cell surface and in extracellular matrix. The encoded preproprotein is proteolytically processed to generate the mature protein. Fibronectin is involved in cell adhesion and migration processes including embryogenesis, wound healing, blood coagulation, host defense, and metastasis. The gene has three regions subject to alternative splicing, with the potential to produce 20 different transcript variants, at least one of which encodes an isoform that undergoes proteolytic processing. The full-length nature of some variants has not been determined. [provided by RefSeq, Jan 2016]
A4: EGFR | B4: 0 | C4: 1.2918556 | D4: 0 | E4: epidermal growth factor receptor | F4: The protein encoded by this gene is a transmembrane glycoprotein that is a member of the protein kinase superfamily. This protein is a receptor for members of the epidermal growth factor family. EGFR is a cell surface protein that binds to epidermal growth factor, thus inducing receptor dimerization and tyrosine autophosphorylation leading to cell proliferation. Mutations in this gene are associated with lung cancer. EGFR is a component of the cytokine storm which contributes to a severe form of Coronavirus Disease 2019 (COVID-19) resulting from infection with severe acute respiratory syndrome coronavirus-2 (SARS-CoV-2). [provided by RefSeq, Jul 2020]
A5: SOX9 | B5: 0 | C5: 1.5416813 | D5: 0 | E5: SRY-box transcription factor 9 | F5: The protein encoded by this gene recognizes the sequence CCTTGAG along with other members of the HMG-box class DNA-binding proteins. It acts during chondrocyte differentiation and, with steroidogenic factor 1, regulates transcription of the anti-Muellerian hormone (AMH) gene. Deficiencies lead to the skeletal malformation syndrome campomelic dysplasia, frequently with sex reversal. [provided by RefSeq, Jul 2008]
A6: NCAM1 | B6: 0 | C6: 0.81830288 | D6: 0 | E6: neural cell adhesion molecule 1 | F6: This gene encodes a cell adhesion protein which is a member of the immunoglobulin superfamily. The encoded protein is involved in cell-to-cell interactions as well as cell-matrix interactions during development and differentiation. The encoded protein plays a role in the development of the nervous system by regulating neurogenesis, neurite outgrowth, and cell migration. This protein is also involved in the expansion of T lymphocytes, B lymphocytes and natural killer (NK) cells which play an important role in immune surveillance. This protein plays a role in signal transduction by interacting with fibroblast growth factor receptors, N-cadherin and other components of the extracellular matrix and by triggering signalling cascades involving FYN-focal adhesion kinase (FAK), mitogen-activated protein kinase (MAPK), and phosphatidylinositol 3-kinase (PI3K). One prominent isoform of this gene, cell surface molecule CD56, plays a role in several myeloproliferative disorders such as acute myeloid leukemia and differential expression of this gene is associated with differential disease progression. For example, increased expression of CD56 is correlated with lower survival in acute myeloid leukemia patients whereas increased severity of COVID-19 is correlated with decreased abundance of CD56-expressing NK cells in peripheral blood. Alternative splicing results in multiple transcript variants encoding distinct protein isoforms. [provided by RefSeq, Aug 2020]
A7: TOX | B7: 0 | C7: 1.0212173 | D7: 0 | E7: thymocyte selection associated high mobility group box | F7: The protein encoded by this gene contains a HMG box DNA binding domain. HMG boxes are found in many eukaryotic proteins involved in chromatin assembly, transcription and replication. This protein may function to regulate T-cell development.[provided by RefSeq, Apr 2009]
A8: C1R | B8: 0 | C8: 0.97358548 | D8: 0 | E8: complement C1r | F8: This gene encodes a member of the peptidase S1 protein family. The encoded protein is a proteolytic subunit in the complement system C1 complex. The complement system acts as a mediator in the innate immune response by ultimately triggering phagocytosis, inflammation, and rupturing the bacterial cell wall. Mutations in this gene are associated with Ehlers-Danlos Syndrome. [provided by RefSeq, Dec 2018]
A9: JAK3 | B9: 0 | C9: 1.154045 | D9: 0 | E9: Janus kinase 3 | F9: The protein encoded by this gene is a member of the Janus kinase (JAK) family of tyrosine kinases involved in cytokine receptor-mediated intracellular signal transduction. It is predominantly expressed in immune cells and transduces a signal in response to its activation via tyrosine phosphorylation by interleukin receptors. Mutations in this gene are associated with autosomal SCID (severe combined immunodeficiency disease). [provided by RefSeq, Jul 2008]
A10: SPARCL1 | B10: 0 | C10: 1.6701181 | D10: 0 | E10: SPARC like 1 | F10: Predicted to enable calcium ion binding activity; collagen binding activity; and extracellular matrix binding activity. Predicted to be involved in anatomical structure development and regulation of synapse organization. Located in extracellular space. [provided by Alliance of Genome Resources, Apr 2022]
A11: DGKA | B11: 0 | C11: 0.93086572 | D11: 0 | E11: diacylglycerol kinase alpha | F11: The protein encoded by this gene belongs to the eukaryotic diacylglycerol kinase family. It acts as a modulator that competes with protein kinase C for the second messenger diacylglycerol in intracellular signaling pathways. It also plays an important role in the resynthesis of phosphatidylinositols and phosphorylating diacylglycerol to phosphatidic acid. Several transcript variants encoding different isoforms have been identified for this gene. [provided by RefSeq, Apr 2017]
A12: IL1RAP | B12: 0 | C12: 1.2984203 | D12: 0 | E12: interleukin 1 receptor accessory protein | F12: This gene encodes a component of the interleukin 1 receptor complex, which initiates signalling events that result in the activation of interleukin 1-responsive genes. Alternative splicing of this gene results in membrane-bound and soluble isoforms differing in their C-terminus. The ratio of soluble to membrane-bound forms increases during acute-phase induction or stress. [provided by RefSeq, Jul 2018]
A13: SLC1A3 | B13: 0 | C13: 1.648905 | D13: 0 | E13: solute carrier family 1 member 3 | F13: This gene encodes a member of a member of a high affinity glutamate transporter family. This gene functions in the termination of excitatory neurotransmission in central nervous system. Mutations are associated with episodic ataxia, Type 6. Alternative splicing results in multiple transcript variants.[provided by RefSeq, Feb 2014]
... A78: CD79A | B78: 1.6698952e-71 | C78: 0.28711365 | D78: 6.3456017e-69 | E78: CD79a molecule | F78: The B lymphocyte antigen receptor is a multimeric complex that includes the antigen-specific component, surface immunoglobulin (Ig). Surface Ig non-covalently associates with two other proteins, Ig-alpha and Ig-beta, which are necessary for expression and function of the B-cell antigen receptor. This gene encodes the Ig-alpha protein of the B-cell antigen component. Alternatively spliced transcript variants encoding different isoforms have been described. [provided by RefSeq, Jul 2008]

Sheet Markers of C01_S
A1: gene | B1: p_val | C1: avg_log2FC | D1: FDR | E1: gene.name | F1: gene.desc
A2: CXCL14 | B2: 0 | C2: 3.0661211 | D2: 0 | E2: C-X-C motif chemokine ligand 14 | F2: This antimicrobial gene belongs to the cytokine gene family which encode secreted proteins involved in immunoregulatory and inflammatory processes. The protein encoded by this gene is structurally related to the CXC (Cys-X-Cys) subfamily of cytokines. Members of this subfamily are characterized by two cysteines separated by a single amino acid. This cytokine displays chemotactic activity for monocytes but not for lymphocytes, dendritic cells, neutrophils or macrophages. It has been implicated that this cytokine is involved in the homeostasis of monocyte-derived macrophages rather than in inflammation. [provided by RefSeq, Sep 2014]
A3: LUM | B3: 0 | C3: 3.5603873 | D3: 0 | E3: lumican | F3: This gene encodes a member of the small leucine-rich proteoglycan (SLRP) family that includes decorin, biglycan, fibromodulin, keratocan, epiphycan, and osteoglycin. In these bifunctional molecules, the protein moiety binds collagen fibrils and the highly charged hydrophilic glycosaminoglycans regulate interfibrillar spacings. Lumican is the major keratan sulfate proteoglycan of the cornea but is also distributed in interstitial collagenous matrices throughout the body. Lumican may regulate collagen fibril organization and circumferential growth, corneal transparency, and epithelial cell migration and tissue repair. [provided by RefSeq, Jul 2008]
A4: DCN | B4: 0 | C4: 1.3917083 | D4: 0 | E4: decorin | F4: This gene encodes a member of the small leucine-rich proteoglycan family of proteins. Alternative splicing results in multiple transcript variants, at least one of which encodes a preproprotein that is proteolytically processed to generate the mature protein. This protein plays a role in collagen fibril assembly. Binding of this protein to multiple cell surface receptors mediates its role in tumor suppression, including a stimulatory effect on autophagy and inflammation and an inhibitory effect on angiogenesis and tumorigenesis. This gene and the related gene biglycan are thought to be the result of a gene duplication. Mutations in this gene are associated with congenital stromal corneal dystrophy in human patients. [provided by RefSeq, Nov 2015]
A5: PDGFRA | B5: 0 | C5: 0.5677531 | D5: 0 | E5: platelet derived growth factor receptor alpha | F5: This gene encodes a cell surface tyrosine kinase receptor for members of the platelet-derived growth factor family. These growth factors are mitogens for cells of mesenchymal origin. The identity of the growth factor bound to a receptor monomer determines whether the functional receptor is a homodimer or a heterodimer, composed of both platelet-derived growth factor receptor alpha and beta polypeptides. Studies suggest that this gene plays a role in organ development, wound healing, and tumor progression. Mutations in this gene have been associated with idiopathic hypereosinophilic syndrome, somatic and familial gastrointestinal stromal tumors, and a variety of other cancers. [provided by RefSeq, Mar 2012]
A6: CD44 | B6: 0 | C6: 2.70373 | D6: 0 | E6: CD44 molecule (IN blood group) | F6: The protein encoded by this gene is a cell-surface glycoprotein involved in cell-cell interactions, cell adhesion and migration. It is a receptor for hyaluronic acid (HA) and can also interact with other ligands, such as osteopontin, collagens, and matrix metalloproteinases (MMPs). This protein participates in a wide variety of cellular functions including lymphocyte activation, recirculation and homing, hematopoiesis, and tumor metastasis. Transcripts for this gene undergo complex alternative splicing that results in many functionally distinct isoforms, however, the full length nature of some of these variants has not been determined. Alternative splicing is the basis for the structural and functional diversity of this protein, and may be related to tumor metastasis. [provided by RefSeq, Jul 2008]
A7: TOX | B7: 0 | C7: 0.63304111 | D7: 0 | E7: thymocyte selection associated high mobility group box | F7: The protein encoded by this gene contains a HMG box DNA binding domain. HMG boxes are found in many eukaryotic proteins involved in chromatin assembly, transcription and replication. This protein may function to regulate T-cell development.[provided by RefSeq, Apr 2009]
A8: DGKA | B8: 0 | C8: 0.83718211 | D8: 0 | E8: diacylglycerol kinase alpha | F8: The protein encoded by this gene belongs to the eukaryotic diacylglycerol kinase family. It acts as a modulator that competes with protein kinase C for the second messenger diacylglycerol in intracellular signaling pathways. It also plays an important role in the resynthesis of phosphatidylinositols and phosphorylating diacylglycerol to phosphatidic acid. Several transcript variants encoding different isoforms have been identified for this gene. [provided by RefSeq, Apr 2017]
A9: C1R | B9: 0 | C9: 0.75320685 | D9: 0 | E9: complement C1r | F9: This gene encodes a member of the peptidase S1 protein family. The encoded protein is a proteolytic subunit in the complement system C1 complex. The complement system acts as a mediator in the innate immune response by ultimately triggering phagocytosis, inflammation, and rupturing the bacterial cell wall. Mutations in this gene are associated with Ehlers-Danlos Syndrome. [provided by RefSeq, Dec 2018]
A10: ITGA1 | B10: 0 | C10: 1.1862663 | D10: 0 | E10: integrin subunit alpha 1 | F10: This gene encodes the alpha 1 subunit of integrin receptors. This protein heterodimerizes with the beta 1 subunit to form a cell-surface receptor for collagen and laminin. The heterodimeric receptor is involved in cell-cell adhesion and may play a role in inflammation and fibrosis. The alpha 1 subunit contains an inserted (I) von Willebrand factor type I domain which is thought to be involved in collagen binding. [provided by RefSeq, Jul 2008]
A11: IQGAP2 | B11: 0 | C11: 0.59069446 | D11: 0 | E11: IQ motif containing GTPase activating protein 2 | F11: This gene encodes a member of the IQGAP family. The encoded protein contains three IQ domains, one calponin homology domain, one Ras-GAP domain and one WW domain. This protein interacts with components of the cytoskeleton, with cell adhesion molecules, and with several signaling molecules to regulate cell morphology and motility. It also acts as a tumor suppressor and has been found to play a role in regulating innate antiviral responses. Alternative splicing results in multiple transcript variants. [provided by RefSeq, Apr 2017]
A12: SLC1A3 | B12: 0 | C12: 0.79354045 | D12: 0 | E12: solute carrier family 1 member 3 | F12: This gene encodes a member of a member of a high affinity glutamate transporter family. This gene functions in the termination of excitatory neurotransmission in central nervous system. Mutations are associated with episodic ataxia, Type 6. Alternative splicing results in multiple transcript variants.[provided by RefSeq, Feb 2014]
A13: SDC1 | B13: 0 | C13: 0.49846768 | D13: 0 | E13: syndecan 1 | F13: The protein encoded by this gene is a transmembrane (type I) heparan sulfate proteoglycan and is a member of the syndecan proteoglycan family. The syndecans mediate cell binding, cell signaling, and cytoskeletal organization and syndecan receptors are required for internalization of the HIV-1 tat protein. The syndecan-1 protein functions as an integral membrane protein and participates in cell proliferation, cell migration and cell-matrix interactions via its receptor for extracellular matrix proteins. Altered syndecan-1 expression has been detected in several different tumor types. While several transcript variants may exist for this gene, the full-length natures of only two have been described to date. These two represent the major variants of this gene and encode the same protein. [provided by RefSeq, Jul 2008]
... A60: CD79A | B60: 3.9300515e-18 | C60: 0.11549178 | D60: 1.4934196e-15 | E60: CD79a molecule | F60: The B lymphocyte antigen receptor is a multimeric complex that includes the antigen-specific component, surface immunoglobulin (Ig). Surface Ig non-covalently associates with two other proteins, Ig-alpha and Ig-beta, which are necessary for expression and function of the B-cell antigen receptor. This gene encodes the Ig-alpha protein of the B-cell antigen component. Alternatively spliced transcript variants encoding different isoforms have been described. [provided by RefSeq, Jul 2008]

Sheet Markers of C02_N
A1: gene | B1: p_val | C1: avg_log2FC | D1: FDR | E1: gene.name | F1: gene.desc
A2: EPCAM | B2: 0 | C2: 2.9795851 | D2: 0 | E2: epithelial cell adhesion molecule | F2: This gene encodes a carcinoma-associated antigen and is a member of a family that includes at least two type I membrane proteins. This antigen is expressed on most normal epithelial cells and gastrointestinal carcinomas and functions as a homotypic calcium-independent cell adhesion molecule. The antigen is being used as a target for immunotherapy treatment of human carcinomas. Mutations in this gene result in congenital tufting enteropathy. [provided by RefSeq, Dec 2008]
A3: ERBB4 | B3: 0 | C3: 3.6872422 | D3: 0 | E3: erb-b2 receptor tyrosine kinase 4 | F3: This gene is a member of the Tyr protein kinase family and the epidermal growth factor receptor subfamily. It encodes a single-pass type I membrane protein with multiple cysteine rich domains, a transmembrane domain, a tyrosine kinase domain, a phosphotidylinositol-3 kinase binding site and a PDZ domain binding motif. The protein binds to and is activated by neuregulins and other factors and induces a variety of cellular responses including mitogenesis and differentiation. Multiple proteolytic events allow for the release of a cytoplasmic fragment and an extracellular fragment. Mutations in this gene have been associated with cancer. Alternatively spliced variants which encode different protein isoforms have been described; however, not all variants have been fully characterized. [provided by RefSeq, Jul 2008]
A4: IGFBP7 | B4: 0 | C4: 2.3718966 | D4: 0 | E4: insulin like growth factor binding protein 7 | F4: This gene encodes a member of the insulin-like growth factor (IGF)-binding protein (IGFBP) family. IGFBPs bind IGFs with high affinity, and regulate IGF availability in body fluids and tissues and modulate IGF binding to its receptors. This protein binds IGF-I and IGF-II with relatively low affinity, and belongs to a subfamily of low-affinity IGFBPs. It also stimulates prostacyclin production and cell adhesion. Alternatively spliced transcript variants encoding different isoforms have been described for this gene, and one variant has been associated with retinal arterial macroaneurysm (PMID:21835307). [provided by RefSeq, Dec 2011]
A5: EPOR | B5: 0 | C5: 2.8270259 | D5: 0 | E5: erythropoietin receptor | F5: This gene encodes the erythropoietin receptor which is a member of the cytokine receptor family. Upon erythropoietin binding, this receptor activates Jak2 tyrosine kinase which activates different intracellular pathways including: Ras/MAP kinase, phosphatidylinositol 3-kinase and STAT transcription factors. The stimulated erythropoietin receptor appears to have a role in erythroid cell survival. Defects in the erythropoietin receptor may produce erythroleukemia and familial erythrocytosis. Dysregulation of this gene may affect the growth of certain tumors. Alternate splicing results in multiple transcript variants.[provided by RefSeq, May 2010]
A6: MET | B6: 0 | C6: 1.7886932 | D6: 0 | E6: MET proto-oncogene, receptor tyrosine kinase | F6: This gene encodes a member of the receptor tyrosine kinase family of proteins and the product of the proto-oncogene MET. The encoded preproprotein is proteolytically processed to generate alpha and beta subunits that are linked via disulfide bonds to form the mature receptor. Further processing of the beta subunit results in the formation of the M10 peptide, which has been shown to reduce lung fibrosis. Binding of its ligand, hepatocyte growth factor, induces dimerization and activation of the receptor, which plays a role in cellular survival, embryogenesis, and cellular migration and invasion. Mutations in this gene are associated with papillary renal cell carcinoma, hepatocellular carcinoma, and various head and neck cancers. Amplification and overexpression of this gene are also associated with multiple human cancers. [provided by RefSeq, May 2016]
A7: JUN | B7: 0 | C7: 1.6874053 | D7: 0 | E7: Jun proto-oncogene, AP-1 transcription factor subunit | F7: This gene is the putative transforming gene of avian sarcoma virus 17. It encodes a protein which is highly similar to the viral protein, and which interacts directly with specific target DNA sequences to regulate gene expression. This gene is intronless and is mapped to 1p32-p31, a chromosomal region involved in both translocations and deletions in human malignancies. [provided by RefSeq, Jul 2008]
A8: TMPRSS2 | B8: 0 | C8: 3.0498255 | D8: 0 | E8: transmembrane serine protease 2 | F8: INVOLVED IN proteolysis (ortholog); ASSOCIATED WITH prostate adenocarcinoma; prostatic hypertrophy; severe acute respiratory syndrome (ortholog); INTERACTS WITH (1->4)-beta-D-glucan (ortholog); 1,1-dichloroethene (ortholog); 1,2-dichloroethane (ortholog)
A9: ERBB3 | B9: 0 | C9: 0.83566554 | D9: 0 | E9: erb-b2 receptor tyrosine kinase 3 | F9: This gene encodes a member of the epidermal growth factor receptor (EGFR) family of receptor tyrosine kinases. This membrane-bound protein has a neuregulin binding domain but not an active kinase domain. It therefore can bind this ligand but not convey the signal into the cell through protein phosphorylation. However, it does form heterodimers with other EGF receptor family members which do have kinase activity. Heterodimerization leads to the activation of pathways which lead to cell proliferation or differentiation. Amplification of this gene and/or overexpression of its protein have been reported in numerous cancers, including prostate, bladder, and breast tumors. Alternate transcriptional splice variants encoding different isoforms have been characterized. One isoform lacks the intermembrane region and is secreted outside the cell. This form acts to modulate the activity of the membrane-bound form. Additional splice variants have also been reported, but they have not been thoroughly characterized. [provided by RefSeq, Jul 2008]
A10: RNF43 | B10: 0 | C10: 2.9560178 | D10: 0 | E10: ring finger protein 43 | F10: The protein encoded by this gene is a RING-type E3 ubiquitin ligase and is predicted to contain a transmembrane domain, a protease-associated domain, an ectodomain, and a cytoplasmic RING domain. This protein is thought to negatively regulate Wnt signaling, and expression of this gene results in an increase in ubiquitination of frizzled receptors, an alteration in their subcellular distribution, resulting in reduced surface levels of these receptors. Mutations in this gene have been reported in multiple tumor cells, including colorectal and endometrial cancers. Alternative splicing results in multiple transcript variants encoding different isoforms. [provided by RefSeq, Mar 2015]
A11: APOE | B11: 0 | C11: 1.4730266 | D11: 0 | E11: apolipoprotein E | F11: The protein encoded by this gene is a major apoprotein of the chylomicron. It binds to a specific liver and peripheral cell receptor, and is essential for the normal catabolism of triglyceride-rich lipoprotein constituents. This gene maps to chromosome 19 in a cluster with the related apolipoprotein C1 and C2 genes. Mutations in this gene result in familial dysbetalipoproteinemia, or type III hyperlipoproteinemia (HLP III), in which increased plasma cholesterol and triglycerides are the consequence of impaired clearance of chylomicron and VLDL remnants. [provided by RefSeq, Jun 2016]
A12: IRF2 | B12: 0 | C12: 1.2464723 | D12: 0 | E12: interferon regulatory factor 2 | F12: IRF2 encodes interferon regulatory factor 2, a member of the interferon regulatory transcription factor (IRF) family. IRF2 competitively inhibits the IRF1-mediated transcriptional activation of interferons alpha and beta, and presumably other genes that employ IRF1 for transcription activation. However, IRF2 also functions as a transcriptional activator of histone H4. [provided by RefSeq, Jul 2008]
A13: XBP1 | B13: 0 | C13: 1.0411802 | D13: 0 | E13: X-box binding protein 1 | F13: This gene encodes a transcription factor that regulates MHC class II genes by binding to a promoter element referred to as an X box. This gene product is a bZIP protein, which was also identified as a cellular transcription factor that binds to an enhancer in the promoter of the T cell leukemia virus type 1 promoter. It may increase expression of viral proteins by acting as the DNA binding partner of a viral transactivator. It has been found that upon accumulation of unfolded proteins in the endoplasmic reticulum (ER), the mRNA of this gene is processed to an active form by an unconventional splicing mechanism that is mediated by the endonuclease inositol-requiring enzyme 1 (IRE1). The resulting loss of 26 nt from the spliced mRNA causes a frame-shift and an isoform XBP1(S), which is the functionally active transcription factor. The isoform encoded by the unspliced mRNA, XBP1(U), is constitutively expressed, and thought to function as a negative feedback regulator of XBP1(S), which shuts off transcription of target genes during the recovery phase of ER stress. A pseudogene of XBP1 has been identified and localized to chromosome 5. [provided by RefSeq, Jul 2008]
... A78: CD68 | B78: 9.2315886e-41 | C78: 0.34983108 | D78: 3.5080037e-38 | E78: CD68 molecule | F78: This gene encodes a 110-kD transmembrane glycoprotein that is highly expressed by human monocytes and tissue macrophages. It is a member of the lysosomal/endosomal-associated membrane glycoprotein (LAMP) family. The protein primarily localizes to lysosomes and endosomes with a smaller fraction circulating to the cell surface. It is a type I integral membrane protein with a heavily glycosylated extracellular domain and binds to tissue- and organ-specific lectins or selectins. The protein is also a member of the scavenger receptor family. Scavenger receptors typically function to clear cellular debris, promote phagocytosis, and mediate the recruitment and activation of macrophages. Alternative splicing results in multiple transcripts encoding different isoforms. [provided by RefSeq, Jul 2008]

Sheet Markers of C03_S_Inj
A1: gene | B1: p_val | C1: avg_log2FC | D1: FDR | E1: gene.name | F1: gene.desc
A2: CCL16 | B2: 0 | C2: 2.4479048 | D2: 0 | E2: C-C motif chemokine ligand 16 | F2: This gene is one of several cytokine genes clustered on the q-arm of chromosome 17. Cytokines are a family of secreted proteins involved in immunoregulatory and inflammatory processes. The CC cytokines are proteins characterized by two adjacent cysteines. The cytokine encoded by this gene displays chemotactic activity for lymphocytes and monocytes but not for neutrophils. This cytokine also shows a potent myelosuppressive activity and suppresses proliferation of myeloid progenitor cells. The expression of this gene is upregulated by IL-10. [provided by RefSeq, Jul 2008]
A3: CDKN2B | B3: 0 | C3: 2.2563261 | D3: 0 | E3: cyclin dependent kinase inhibitor 2B | F3: This gene lies adjacent to the tumor suppressor gene CDKN2A in a region that is frequently mutated and deleted in a wide variety of tumors. This gene encodes a cyclin-dependent kinase inhibitor, which forms a complex with CDK4 or CDK6, and prevents the activation of the CDK kinases, thus the encoded protein functions as a cell growth regulator that controls cell cycle G1 progression. The expression of this gene was found to be dramatically induced by TGF beta, which suggested its role in the TGF beta induced growth inhibition. Two alternatively spliced transcript variants of this gene, which encode distinct proteins, have been reported. [provided by RefSeq, Jul 2008]
A4: FLT1 | B4: 0 | C4: 1.0062919 | D4: 0 | E4: fms related receptor tyrosine kinase 1 | F4: This gene encodes a member of the vascular endothelial growth factor receptor (VEGFR) family. VEGFR family members are receptor tyrosine kinases (RTKs) which contain an extracellular ligand-binding region with seven immunoglobulin (Ig)-like domains, a transmembrane segment, and a tyrosine kinase (TK) domain within the cytoplasmic domain. This protein binds to VEGFR-A, VEGFR-B and placental growth factor and plays an important role in angiogenesis and vasculogenesis. Expression of this receptor is found in vascular endothelial cells, placental trophoblast cells and peripheral blood monocytes. Multiple transcript variants encoding different isoforms have been found for this gene. Isoforms include a full-length transmembrane receptor isoform and shortened, soluble isoforms. The soluble isoforms are associated with the onset of pre-eclampsia.[provided by RefSeq, May 2009]
A5: IL2 | B5: 0 | C5: 2.4254912 | D5: 0 | E5: interleukin 2 | F5: This gene is a member of the interleukin 2 (IL2) cytokine subfamily which includes IL4, IL7, IL9, IL15, IL21, erythropoietin, and thrombopoietin. The protein encoded by this gene is a secreted cytokine produced by activated CD4+ and CD8+ T lymphocytes, that is important for the proliferation of T and B lymphocytes. The receptor of this cytokine (IL2R) is a heterotrimeric protein complex whose gamma chain is also shared by IL4 and IL7. The expression of this gene in mature thymocytes is monoallelic, which represents an unusual regulatory mode for controlling the precise expression of a single gene. The targeted disruption of a similar gene in mice leads to ulcerative colitis-like disease, which suggests an essential role of this gene in the immune response to antigenic stimuli. [provided by RefSeq, Sep 2020]
A6: CFC1 | B6: 0 | C6: 2.5910971 | D6: 0 | E6: cryptic, EGF-CFC family member 1 | F6: This gene encodes a member of the epidermal growth factor (EGF)- Cripto, Frl-1, and Cryptic (CFC) family, which are involved in signalling during embryonic development. Proteins in this family share a variant EGF-like motif, a conserved cysteine-rich domain, and a C-terminal hydrophobic region. The protein encoded by this gene is necessary for patterning the left-right embryonic axis. Mutations in this gene are associated with defects in organ development, including autosomal visceral heterotaxy and congenital heart disease. Alternatively spliced transcript variants encoding multiple isoforms have been observed for this gene. [provided by RefSeq, Jul 2012]
A7: TIGIT | B7: 0 | C7: 2.2645791 | D7: 0 | E7: T cell immunoreceptor with Ig and ITIM domains | F7: This gene encodes a member of the PVR (poliovirus receptor) family of immunoglobin proteins. The product of this gene is expressed on several classes of T cells including follicular B helper T cells (TFH). The protein has been shown to bind PVR with high affinity; this binding is thought to assist interactions between TFH and dendritic cells to regulate T cell dependent B cell responses.[provided by RefSeq, Sep 2009]
A8: CXCL1 | B8: 0 | C8: 0.39096749 | D8: 0 | E8: C-X-C motif chemokine ligand 1 | F8: This antimicrobial gene encodes a member of the CXC subfamily of chemokines. The encoded protein is a secreted growth factor that signals through the G-protein coupled receptor, CXC receptor 2. This protein plays a role in inflammation and as a chemoattractant for neutrophils. Aberrant expression of this protein is associated with the growth and progression of certain tumors. A naturally occurring processed form of this protein has increased chemotactic activity. Alternate splicing results in coding and non-coding variants of this gene. A pseudogene of this gene is found on chromosome 4. [provided by RefSeq, Sep 2014]
A9: IL2RA | B9: 0 | C9: 2.4684816 | D9: 0 | E9: interleukin 2 receptor subunit alpha | F9: The interleukin 2 (IL2) receptor alpha (IL2RA) and beta (IL2RB) chains, together with the common gamma chain (IL2RG), constitute the high-affinity IL2 receptor. Homodimeric alpha chains (IL2RA) result in low-affinity receptor, while homodimeric beta (IL2RB) chains produce a medium-affinity receptor. Normally an integral-membrane protein, soluble IL2RA has been isolated and determined to result from extracellular proteolyisis. Alternately-spliced IL2RA mRNAs have been isolated, but the significance of each is presently unknown. Mutations in this gene are associated with interleukin 2 receptor alpha deficiency. Patients with severe Coronavirus Disease 2019 (COVID-19), the disease caused by the novel severe acute respiratory syndrome coronavirus 2 (SARS-CoV-2), have significantly elevated levels of IL2R in their plasma. Similarly, serum IL-2R levels are found to be elevated in patients with different types of carcinomas. Certain IL2RA and IL2RB gene polymorphisms have been associated with lung cancer risk. [provided by RefSeq, Jul 2020]
A10: TRAT1 | B10: 0 | C10: 2.4087341 | D10: 0 | E10: T cell receptor associated transmembrane adaptor 1 | F10: Predicted to enable transmembrane receptor protein tyrosine kinase adaptor activity. Acts upstream of or within negative regulation of receptor recycling; negative regulation of transport; and positive regulation of signal transduction. Located in centriolar satellite; mitotic spindle; and plasma membrane. Part of T cell receptor complex. [provided by Alliance of Genome Resources, Apr 2022]
A11: CXCL11 | B11: 0 | C11: 2.2671092 | D11: 0 | E11: C-X-C motif chemokine ligand 11 | F11: Chemokines are a group of small (approximately 8 to 14 kD), mostly basic, structurally related molecules that regulate cell trafficking of various types of leukocytes through interactions with a subset of 7-transmembrane, G protein-coupled receptors. Chemokines also play fundamental roles in the development, homeostasis, and function of the immune system, and they have effects on cells of the central nervous system as well as on endothelial cells involved in angiogenesis or angiostasis. Chemokines are divided into 2 major subfamilies, CXC and CC. This antimicrobial gene is a CXC member of the chemokine superfamily. Its encoded protein induces a chemotactic response in activated T-cells and is the dominant ligand for CXC receptor-3. The gene encoding this protein contains 4 exons and at least three polyadenylation signals which might reflect cell-specific regulation of expression. IFN-gamma is a potent inducer of transcription of this gene. Two transcript variants encoding different isoforms have been found for this gene. [provided by RefSeq, Oct 2014]
A12: CLEC12A | B12: 0 | C12: 2.1145571 | D12: 0 | E12: C-type lectin domain family 12 member A | F12: This gene encodes a member of the C-type lectin/C-type lectin-like domain (CTL/CTLD) superfamily. Members of this family share a common protein fold and have diverse functions, such as cell adhesion, cell-cell signaling, glycoprotein turnover, and roles in inflammation and immune response. The protein encoded by this gene is a negative regulator of granulocyte and monocyte function. Several alternatively spliced transcript variants of this gene have been described, but the full-length nature of some of these variants has not been determined. This gene is closely linked to other CTL/CTLD superfamily members in the natural killer gene complex region on chromosome 12p13. [provided by RefSeq, May 2011]
A13: CD2 | B13: 0 | C13: 2.4715705 | D13: 0 | E13: CD2 molecule | F13: The protein encoded by this gene is a surface antigen found on all peripheral blood T-cells. The encoded protein interacts with LFA3 (CD58) on antigen presenting cells to optimize immune recognition. A locus control region (LCR) has been found in the 3' flanking sequence of this gene. [provided by RefSeq, Jun 2016]
... A175: JUNB | B175: 0.0049182691 | C175: 0.88579332 | D175: 1 | E175: JunB proto-oncogene, AP-1 transcription factor subunit | F175: Enables sequence-specific double-stranded DNA binding activity. Involved in positive regulation of transcription by RNA polymerase II. Located in nucleoplasm. Part of transcription factor AP-1 complex. Biomarker of Hodgkin's lymphoma and anaplastic large cell lymphoma. [provided by Alliance of Genome Resources, Apr 2022]

Sheet Markers of C04_N_Pod
A1: gene | B1: p_val | C1: avg_log2FC | D1: FDR | E1: gene.name | F1: gene.desc
A2: IL1R1 | B2: 0 | C2: 4.248562 | D2: 0 | E2: interleukin 1 receptor type 1 | F2: This gene encodes a cytokine receptor that belongs to the interleukin-1 receptor family. The encoded protein is a receptor for interleukin-1 alpha, interleukin-1 beta, and interleukin-1 receptor antagonist. It is an important mediator involved in many cytokine-induced immune and inflammatory responses. This gene is located in a cluster of related cytokine receptor genes on chromosome 2q12. [provided by RefSeq, Dec 2013]
A3: ANXA1 | B3: 0 | C3: 5.4021268 | D3: 0 | E3: annexin A1 | F3: This gene encodes a membrane-localized protein that binds phospholipids. This protein inhibits phospholipase A2 and has anti-inflammatory activity. Loss of function or expression of this gene has been detected in multiple tumors. [provided by RefSeq, Dec 2014]
A4: AIF1 | B4: 0 | C4: 4.1796129 | D4: 0 | E4: allograft inflammatory factor 1 | F4: This gene encodes a protein that binds actin and calcium. This gene is induced by cytokines and interferon and may promote macrophage activation and growth of vascular smooth muscle cells and T-lymphocytes. Polymorphisms in this gene may be associated with systemic sclerosis. Alternative splicing results in multiple transcript variants, but the full-length and coding nature of some of these variants is not certain. [provided by RefSeq, Jan 2016]
A5: IL18 | B5: 0 | C5: 4.9919736 | D5: 0 | E5: interleukin 18 | F5: The protein encoded by this gene is a proinflammatory cytokine of the IL-1 family that is constitutively found as a precursor within the cytoplasm of a variety of cells including macrophages and keratinocytes. The inactive IL-18 precursor is processed to its active form by caspase-1, and is capable of stimulating interferon gamma production, and of regulating both T helper (Th) 1 and Th2 responses. This cytokine has been implicated in the injury of different organs, and in potentially fatal conditions characterized by a cytokine storm. In humans, IL-18 gene is located on chromosome 11. Alternatively spliced transcript variants encoding different isoforms have been found for this gene.[provided by RefSeq, Aug 2020]
A6: IGFBP7 | B6: 0 | C6: 2.0031638 | D6: 0 | E6: insulin like growth factor binding protein 7 | F6: This gene encodes a member of the insulin-like growth factor (IGF)-binding protein (IGFBP) family. IGFBPs bind IGFs with high affinity, and regulate IGF availability in body fluids and tissues and modulate IGF binding to its receptors. This protein binds IGF-I and IGF-II with relatively low affinity, and belongs to a subfamily of low-affinity IGFBPs. It also stimulates prostacyclin production and cell adhesion. Alternatively spliced transcript variants encoding different isoforms have been described for this gene, and one variant has been associated with retinal arterial macroaneurysm (PMID:21835307). [provided by RefSeq, Dec 2011]
A7: IQGAP2 | B7: 0 | C7: 2.472908 | D7: 0 | E7: IQ motif containing GTPase activating protein 2 | F7: This gene encodes a member of the IQGAP family. The encoded protein contains three IQ domains, one calponin homology domain, one Ras-GAP domain and one WW domain. This protein interacts with components of the cytoskeleton, with cell adhesion molecules, and with several signaling molecules to regulate cell morphology and motility. It also acts as a tumor suppressor and has been found to play a role in regulating innate antiviral responses. Alternative splicing results in multiple transcript variants. [provided by RefSeq, Apr 2017]
A8: IFNAR1 | B8: 0 | C8: 1.4516108 | D8: 0 | E8: interferon alpha and beta receptor subunit 1 | F8: The protein encoded by this gene is a type I membrane protein that forms one of the two chains of a receptor for interferons alpha and beta. Binding and activation of the receptor stimulates Janus protein kinases, which in turn phosphorylate several proteins, including STAT1 and STAT2. The protein belongs to the type II cytokine receptor family and functions as an antiviral factor. [provided by RefSeq, Jul 2020]
A9: CTSD | B9: 0 | C9: 1.4196877 | D9: 0 | E9: cathepsin D | F9: This gene encodes a member of the A1 family of peptidases. The encoded preproprotein is proteolytically processed to generate multiple protein products. These products include the cathepsin D light and heavy chains, which heterodimerize to form the mature enzyme. This enzyme exhibits pepsin-like activity and plays a role in protein turnover and in the proteolytic activation of hormones and growth factors. Mutations in this gene play a causal role in neuronal ceroid lipofuscinosis-10 and may be involved in the pathogenesis of several other diseases, including breast cancer and possibly Alzheimer's disease. [provided by RefSeq, Nov 2015]
A10: TGFB1 | B10: 0 | C10: 1.6888469 | D10: 0 | E10: transforming growth factor beta 1 | F10: This gene encodes a secreted ligand of the TGF-beta (transforming growth factor-beta) superfamily of proteins. Ligands of this family bind various TGF-beta receptors leading to recruitment and activation of SMAD family transcription factors that regulate gene expression. The encoded preproprotein is proteolytically processed to generate a latency-associated peptide (LAP) and a mature peptide, and is found in either a latent form composed of a mature peptide homodimer, a LAP homodimer, and a latent TGF-beta binding protein, or in an active form consisting solely of the mature peptide homodimer. The mature peptide may also form heterodimers with other TGFB family members. This encoded protein regulates cell proliferation, differentiation and growth, and can modulate expression and activation of other growth factors including interferon gamma and tumor necrosis factor alpha. This gene is frequently upregulated in tumor cells, and mutations in this gene result in Camurati-Engelmann disease. [provided by RefSeq, Aug 2016]
A11: BCL2 | B11: 0 | C11: 1.0755779 | D11: 0 | E11: BCL2 apoptosis regulator | F11: This gene encodes an integral outer mitochondrial membrane protein that blocks the apoptotic death of some cells such as lymphocytes. Constitutive expression of BCL2, such as in the case of translocation of BCL2 to Ig heavy chain locus, is thought to be the cause of follicular lymphoma. Alternative splicing results in multiple transcript variants. [provided by RefSeq, Feb 2016]
A12: VEGFA | B12: 0 | C12: 3.0851088 | D12: 0 | E12: vascular endothelial growth factor A | F12: This gene is a member of the PDGF/VEGF growth factor family. It encodes a heparin-binding protein, which exists as a disulfide-linked homodimer. This growth factor induces proliferation and migration of vascular endothelial cells, and is essential for both physiological and pathological angiogenesis. Disruption of this gene in mice resulted in abnormal embryonic blood vessel formation. This gene is upregulated in many known tumors and its expression is correlated with tumor stage and progression. Elevated levels of this protein are found in patients with POEMS syndrome, also known as Crow-Fukase syndrome. Allelic variants of this gene have been associated with microvascular complications of diabetes 1 (MVCD1) and atherosclerosis. Alternatively spliced transcript variants encoding different isoforms have been described. There is also evidence for alternative translation initiation from upstream non-AUG (CUG) codons resulting in additional isoforms. A recent study showed that a C-terminally extended isoform is produced by use of an alternative in-frame translation termination codon via a stop codon readthrough mechanism, and that this isoform is antiangiogenic. Expression of some isoforms derived from the AUG start codon is regulated by a small upstream open reading frame, which is located within an internal ribosome entry site. The levels of VEGF are increased during infection with severe acute respiratory syndrome coronavirus 2 (SARS-CoV-2), thus promoting inflammation by facilitating recruitment of inflammatory cells, and by increasing the level of angiopoietin II (Ang II), one of two products of the SARS-CoV-2 binding target, angiotensin-converting enzyme 2 (ACE2). In turn, Ang II facilitates the elevation of VEGF, thus forming a vicious cycle in the release of inflammatory cytokines. [provided by RefSeq, Jun 2020]
A13: CDKN1B | B13: 0 | C13: 1.3179597 | D13: 0 | E13: cyclin dependent kinase inhibitor 1B | F13: This gene encodes a cyclin-dependent kinase inhibitor, which shares a limited similarity with CDK inhibitor CDKN1A/p21. The encoded protein binds to and prevents the activation of cyclin E-CDK2 or cyclin D-CDK4 complexes, and thus controls the cell cycle progression at G1. The degradation of this protein, which is triggered by its CDK dependent phosphorylation and subsequent ubiquitination by SCF complexes, is required for the cellular transition from quiescence to the proliferative state. Mutations in this gene are associated with multiple endocrine neoplasia type IV (MEN4). [provided by RefSeq, Apr 2014]
... A58: EGF | B58: 6.8720509e-47 | C58: 0.2593861 | D58: 2.6113793e-44 | E58: epidermal growth factor | F58: This gene encodes a member of the epidermal growth factor superfamily. The encoded preproprotein is proteolytically processed to generate the 53-amino acid epidermal growth factor peptide. This protein acts a potent mitogenic factor that plays an important role in the growth, proliferation and differentiation of numerous cell types. This protein acts by binding with high affinity to the cell surface receptor, epidermal growth factor receptor. Defects in this gene are the cause of hypomagnesemia type 4. Dysregulation of this gene has been associated with the growth and progression of certain cancers. Alternative splicing results in multiple transcript variants, at least one of which encodes a preproprotein that is proteolytically processed. [provided by RefSeq, Jan 2016]

Sheet Markers of C05_S_Prolif
A1: gene | B1: p_val | C1: avg_log2FC | D1: FDR | E1: gene.name | F1: gene.desc
A2: CDK1 | B2: 0 | C2: 2.8048011 | D2: 0 | E2: cyclin dependent kinase 1 | F2: The protein encoded by this gene is a member of the Ser/Thr protein kinase family. This protein is a catalytic subunit of the highly conserved protein kinase complex known as M-phase promoting factor (MPF), which is essential for G2/M phase transitions of eukaryotic cell cycle. Mitotic cyclins stably associate with this protein and function as regulatory subunits. The kinase activity of this protein is controlled by cyclin accumulation and destruction through the cell cycle. The phosphorylation and dephosphorylation of this protein also play important regulatory roles in cell cycle control. Alternatively spliced transcript variants encoding different isoforms have been found for this gene. [provided by RefSeq, May 2023]
A3: CENPF | B3: 0 | C3: 2.5864454 | D3: 0 | E3: centromere protein F | F3: This gene encodes a protein that associates with the centromere-kinetochore complex. The protein is a component of the nuclear matrix during the G2 phase of interphase. In late G2 the protein associates with the kinetochore and maintains this association through early anaphase. It localizes to the spindle midzone and the intracellular bridge in late anaphase and telophase, respectively, and is thought to be subsequently degraded. The localization of this protein suggests that it may play a role in chromosome segregation during mitotis. It is thought to form either a homodimer or heterodimer. Autoantibodies against this protein have been found in patients with cancer or graft versus host disease. [provided by RefSeq, Jul 2008]
A4: MKI67 | B4: 0 | C4: 2.7862385 | D4: 0 | E4: marker of proliferation Ki-67 | F4: Enables protein C-terminus binding activity. Involved in regulation of chromosome segregation and regulation of mitotic nuclear division. Located in chromosome; nuclear body; and nucleolus. Colocalizes with condensed chromosome. Implicated in Crohn's disease; breast cancer; human immunodeficiency virus infectious disease; and pancreatic cancer. Biomarker of several diseases, including Barrett's esophagus; autoimmune disease of musculoskeletal system (multiple); endocrine gland cancer (multiple); gastrointestinal system cancer (multiple); and interstitial cystitis. [provided by Alliance of Genome Resources, Apr 2022]
A5: UBE2C | B5: 0 | C5: 2.975565 | D5: 0 | E5: ubiquitin conjugating enzyme E2 C | F5: The modification of proteins with ubiquitin is an important cellular mechanism for targeting abnormal or short-lived proteins for degradation. Ubiquitination involves at least three classes of enzymes: ubiquitin-activating enzymes, ubiquitin-conjugating enzymes, and ubiquitin-protein ligases. This gene encodes a member of the E2 ubiquitin-conjugating enzyme family. The encoded protein is required for the destruction of mitotic cyclins and for cell cycle progression, and may be involved in cancer progression. Multiple transcript variants encoding different isoforms have been found for this gene. Pseudogenes of this gene have been defined on chromosomes 4, 14, 15, 18, and 19. [provided by RefSeq, Aug 2013]
A6: MIS18BP1 | B6: 0 | C6: 1.8034782 | D6: 0 | E6: MIS18 binding protein 1 | F6: Predicted to enable DNA binding activity. Predicted to be involved in cell division. Predicted to be located in nucleoplasm. [provided by Alliance of Genome Resources, Apr 2022]
A7: ORC6 | B7: 0 | C7: 1.3345854 | D7: 0 | E7: origin recognition complex subunit 6 | F7: The origin recognition complex (ORC) is a highly conserved six subunit protein complex essential for the initiation of the DNA replication in eukaryotic cells. Studies in yeast demonstrated that ORC binds specifically to origins of replication and serves as a platform for the assembly of additional initiation factors such as Cdc6 and Mcm proteins. The protein encoded by this gene is a subunit of the ORC complex. Gene silencing studies with small interfering RNA demonstrated that this protein plays an essential role in coordinating chromosome replication and segregation with cytokinesis. [provided by RefSeq, Oct 2010]
A8: PDGFRA | B8: 0 | C8: 0.34069476 | D8: 0 | E8: platelet derived growth factor receptor alpha | F8: This gene encodes a cell surface tyrosine kinase receptor for members of the platelet-derived growth factor family. These growth factors are mitogens for cells of mesenchymal origin. The identity of the growth factor bound to a receptor monomer determines whether the functional receptor is a homodimer or a heterodimer, composed of both platelet-derived growth factor receptor alpha and beta polypeptides. Studies suggest that this gene plays a role in organ development, wound healing, and tumor progression. Mutations in this gene have been associated with idiopathic hypereosinophilic syndrome, somatic and familial gastrointestinal stromal tumors, and a variety of other cancers. [provided by RefSeq, Mar 2012]
A9: TUBA1B | B9: 0 | C9: 1.2814561 | D9: 0 | E9: tubulin alpha 1b | F9: Enables double-stranded RNA binding activity and ubiquitin protein ligase binding activity. Predicted to be involved in microtubule cytoskeleton organization and mitotic cell cycle. Predicted to act upstream of or within cellular response to interleukin-4. Located in microtubule. [provided by Alliance of Genome Resources, Apr 2022]
A10: TNFRSF13C | B10: 0 | C10: 1.0894058 | D10: 0 | E10: TNF receptor superfamily member 13C | F10: B cell-activating factor (BAFF) enhances B-cell survival in vitro and is a regulator of the peripheral B-cell population. Overexpression of Baff in mice results in mature B-cell hyperplasia and symptoms of systemic lupus erythematosus (SLE). Also, some SLE patients have increased levels of BAFF in serum. Therefore, it has been proposed that abnormally high levels of BAFF may contribute to the pathogenesis of autoimmune diseases by enhancing the survival of autoreactive B cells. The protein encoded by this gene is a receptor for BAFF and is a type III transmembrane protein containing a single extracellular cysteine-rich domain. It is thought that this receptor is the principal receptor required for BAFF-mediated mature B-cell survival. [provided by RefSeq, Jul 2008]
A11: CDKN1B | B11: 0 | C11: 0.6216231 | D11: 0 | E11: cyclin dependent kinase inhibitor 1B | F11: This gene encodes a cyclin-dependent kinase inhibitor, which shares a limited similarity with CDK inhibitor CDKN1A/p21. The encoded protein binds to and prevents the activation of cyclin E-CDK2 or cyclin D-CDK4 complexes, and thus controls the cell cycle progression at G1. The degradation of this protein, which is triggered by its CDK dependent phosphorylation and subsequent ubiquitination by SCF complexes, is required for the cellular transition from quiescence to the proliferative state. Mutations in this gene are associated with multiple endocrine neoplasia type IV (MEN4). [provided by RefSeq, Apr 2014]
A12: TOX | B12: 0 | C12: 0.41746429 | D12: 0 | E12: thymocyte selection associated high mobility group box | F12: The protein encoded by this gene contains a HMG box DNA binding domain. HMG boxes are found in many eukaryotic proteins involved in chromatin assembly, transcription and replication. This protein may function to regulate T-cell development.[provided by RefSeq, Apr 2009]
A13: EGFR | B13: 0 | C13: 0.49178088 | D13: 0 | E13: epidermal growth factor receptor | F13: The protein encoded by this gene is a transmembrane glycoprotein that is a member of the protein kinase superfamily. This protein is a receptor for members of the epidermal growth factor family. EGFR is a cell surface protein that binds to epidermal growth factor, thus inducing receptor dimerization and tyrosine autophosphorylation leading to cell proliferation. Mutations in this gene are associated with lung cancer. EGFR is a component of the cytokine storm which contributes to a severe form of Coronavirus Disease 2019 (COVID-19) resulting from infection with severe acute respiratory syndrome coronavirus-2 (SARS-CoV-2). [provided by RefSeq, Jul 2020]
... A39: RUNX3 | B39: 5.7055676e-23 | C39: 0.2023588 | D39: 2.1681157e-20 | E39: RUNX family transcription factor 3 | F39: This gene encodes a member of the runt domain-containing family of transcription factors. A heterodimer of this protein and a beta subunit forms a complex that binds to the core DNA sequence 5'-PYGPYGGT-3' found in a number of enhancers and promoters, and can either activate or suppress transcription. It also interacts with other transcription factors. It functions as a tumor suppressor, and the gene is frequently deleted or transcriptionally silenced in cancer. Alternative splicing results in multiple transcript variants. [provided by RefSeq, Mar 2016]

Sheet Markers of C06_S
A1: gene | B1: p_val | C1: avg_log2FC | D1: FDR | E1: gene.name | F1: gene.desc
A2: ERBB3 | B2: 0 | C2: 2.7365103 | D2: 0 | E2: erb-b2 receptor tyrosine kinase 3 | F2: This gene encodes a member of the epidermal growth factor receptor (EGFR) family of receptor tyrosine kinases. This membrane-bound protein has a neuregulin binding domain but not an active kinase domain. It therefore can bind this ligand but not convey the signal into the cell through protein phosphorylation. However, it does form heterodimers with other EGF receptor family members which do have kinase activity. Heterodimerization leads to the activation of pathways which lead to cell proliferation or differentiation. Amplification of this gene and/or overexpression of its protein have been reported in numerous cancers, including prostate, bladder, and breast tumors. Alternate transcriptional splice variants encoding different isoforms have been characterized. One isoform lacks the intermembrane region and is secreted outside the cell. This form acts to modulate the activity of the membrane-bound form. Additional splice variants have also been reported, but they have not been thoroughly characterized. [provided by RefSeq, Jul 2008]
A3: DCN | B3: 0 | C3: 1.9613509 | D3: 0 | E3: decorin | F3: This gene encodes a member of the small leucine-rich proteoglycan family of proteins. Alternative splicing results in multiple transcript variants, at least one of which encodes a preproprotein that is proteolytically processed to generate the mature protein. This protein plays a role in collagen fibril assembly. Binding of this protein to multiple cell surface receptors mediates its role in tumor suppression, including a stimulatory effect on autophagy and inflammation and an inhibitory effect on angiogenesis and tumorigenesis. This gene and the related gene biglycan are thought to be the result of a gene duplication. Mutations in this gene are associated with congenital stromal corneal dystrophy in human patients. [provided by RefSeq, Nov 2015]
A4: GLIPR2 | B4: 0 | C4: 2.1772359 | D4: 0 | E4: GLI pathogenesis related 2 | F4: Enables protein homodimerization activity. Involved in positive regulation of ERK1 and ERK2 cascade; positive regulation of epithelial cell migration; and positive regulation of epithelial to mesenchymal transition. Located in Golgi membrane. [provided by Alliance of Genome Resources, Apr 2022]
A5: NCAM1 | B5: 0 | C5: 2.3054028 | D5: 0 | E5: neural cell adhesion molecule 1 | F5: This gene encodes a cell adhesion protein which is a member of the immunoglobulin superfamily. The encoded protein is involved in cell-to-cell interactions as well as cell-matrix interactions during development and differentiation. The encoded protein plays a role in the development of the nervous system by regulating neurogenesis, neurite outgrowth, and cell migration. This protein is also involved in the expansion of T lymphocytes, B lymphocytes and natural killer (NK) cells which play an important role in immune surveillance. This protein plays a role in signal transduction by interacting with fibroblast growth factor receptors, N-cadherin and other components of the extracellular matrix and by triggering signalling cascades involving FYN-focal adhesion kinase (FAK), mitogen-activated protein kinase (MAPK), and phosphatidylinositol 3-kinase (PI3K). One prominent isoform of this gene, cell surface molecule CD56, plays a role in several myeloproliferative disorders such as acute myeloid leukemia and differential expression of this gene is associated with differential disease progression. For example, increased expression of CD56 is correlated with lower survival in acute myeloid leukemia patients whereas increased severity of COVID-19 is correlated with decreased abundance of CD56-expressing NK cells in peripheral blood. Alternative splicing results in multiple transcript variants encoding distinct protein isoforms. [provided by RefSeq, Aug 2020]
A6: CDKN1C | B6: 0 | C6: 1.7963575 | D6: 0 | E6: cyclin dependent kinase inhibitor 1C | F6: This gene is imprinted, with preferential expression of the maternal allele. The encoded protein is a tight-binding, strong inhibitor of several G1 cyclin/Cdk complexes and a negative regulator of cell proliferation. Mutations in this gene are implicated in sporadic cancers and Beckwith-Wiedemann syndorome, suggesting that this gene is a tumor suppressor candidate. Three transcript variants encoding two different isoforms have been found for this gene. [provided by RefSeq, Oct 2010]
A7: CDK6 | B7: 0 | C7: 1.2364257 | D7: 0 | E7: cyclin dependent kinase 6 | F7: The protein encoded by this gene is a member of the CMGC family of serine/threonine protein kinases. This kinase is a catalytic subunit of the protein kinase complex that is important for cell cycle G1 phase progression and G1/S transition. The activity of this kinase first appears in mid-G1 phase, which is controlled by the regulatory subunits including D-type cyclins and members of INK4 family of CDK inhibitors. This kinase, as well as CDK4, has been shown to phosphorylate, and thus regulate the activity of, tumor suppressor protein Rb. Altered expression of this gene has been observed in multiple human cancers. A mutation in this gene resulting in reduced cell proliferation, and impaired cell motility and polarity, and has been identified in patients with primary microcephaly. [provided by RefSeq, Aug 2017]
A8: MET | B8: 0 | C8: 0.77600776 | D8: 0 | E8: MET proto-oncogene, receptor tyrosine kinase | F8: This gene encodes a member of the receptor tyrosine kinase family of proteins and the product of the proto-oncogene MET. The encoded preproprotein is proteolytically processed to generate alpha and beta subunits that are linked via disulfide bonds to form the mature receptor. Further processing of the beta subunit results in the formation of the M10 peptide, which has been shown to reduce lung fibrosis. Binding of its ligand, hepatocyte growth factor, induces dimerization and activation of the receptor, which plays a role in cellular survival, embryogenesis, and cellular migration and invasion. Mutations in this gene are associated with papillary renal cell carcinoma, hepatocellular carcinoma, and various head and neck cancers. Amplification and overexpression of this gene are also associated with multiple human cancers. [provided by RefSeq, May 2016]
A9: NELL2 | B9: 0 | C9: 0.92262559 | D9: 0 | E9: neural EGFL like 2 | F9: The protein encoded by this gene is a glycoprotein containing several von Willebrand factor C domains and epidermal growth factor (EGF)-like domains. The encoded protein acts as a homotrimer and is found in the cytoplasm. Several variants encoding a few different isoforms exist, and at least one isoform appears to be a secreted protein. Studies in mouse suggest that this protein plays a role in neural cell growth and differentiation as well as in oncogenesis. [provided by RefSeq, Feb 2009]
A10: LUM | B10: 0 | C10: 0.57342586 | D10: 0 | E10: lumican | F10: This gene encodes a member of the small leucine-rich proteoglycan (SLRP) family that includes decorin, biglycan, fibromodulin, keratocan, epiphycan, and osteoglycin. In these bifunctional molecules, the protein moiety binds collagen fibrils and the highly charged hydrophilic glycosaminoglycans regulate interfibrillar spacings. Lumican is the major keratan sulfate proteoglycan of the cornea but is also distributed in interstitial collagenous matrices throughout the body. Lumican may regulate collagen fibril organization and circumferential growth, corneal transparency, and epithelial cell migration and tissue repair. [provided by RefSeq, Jul 2008]
A11: RB1 | B11: 0 | C11: 1.0676706 | D11: 0 | E11: RB transcriptional corepressor 1 | F11: The protein encoded by this gene is a negative regulator of the cell cycle and was the first tumor suppressor gene found. The encoded protein also stabilizes constitutive heterochromatin to maintain the overall chromatin structure. The active, hypophosphorylated form of the protein binds transcription factor E2F1. Defects in this gene are a cause of childhood cancer retinoblastoma (RB), bladder cancer, and osteogenic sarcoma. [provided by RefSeq, Jul 2008]
A12: CENPF | B12: 0 | C12: 0.9210276 | D12: 0 | E12: centromere protein F | F12: This gene encodes a protein that associates with the centromere-kinetochore complex. The protein is a component of the nuclear matrix during the G2 phase of interphase. In late G2 the protein associates with the kinetochore and maintains this association through early anaphase. It localizes to the spindle midzone and the intracellular bridge in late anaphase and telophase, respectively, and is thought to be subsequently degraded. The localization of this protein suggests that it may play a role in chromosome segregation during mitotis. It is thought to form either a homodimer or heterodimer. Autoantibodies against this protein have been found in patients with cancer or graft versus host disease. [provided by RefSeq, Jul 2008]
A13: SPARCL1 | B13: 0 | C13: 0.83565685 | D13: 0 | E13: SPARC like 1 | F13: Predicted to enable calcium ion binding activity; collagen binding activity; and extracellular matrix binding activity. Predicted to be involved in anatomical structure development and regulation of synapse organization. Located in extracellular space. [provided by Alliance of Genome Resources, Apr 2022]
... A65: CSF1 | B65: 8.6035378e-14 | C65: 0.13973732 | D65: 3.2693444e-11 | E65: colony stimulating factor 1 | F65: The protein encoded by this gene is a cytokine that controls the production, differentiation, and function of macrophages. The active form of the protein is found extracellularly as a disulfide-linked homodimer, and is thought to be produced by proteolytic cleavage of membrane-bound precursors. The encoded protein may be involved in development of the placenta. Alternate splicing results in multiple transcript variants. [provided by RefSeq, Sep 2011]

Sheet Markers of C07_S_Inj
A1: gene | B1: p_val | C1: avg_log2FC | D1: FDR | E1: gene.name | F1: gene.desc
A2: CENPV | B2: 0 | C2: 2.7702619 | D2: 0 | E2: centromere protein V | F2: Predicted to enable carbon-sulfur lyase activity and metal ion binding activity. Involved in pericentric heterochromatin assembly; positive regulation of cytokinesis; and regulation of chromosome organization. Acts upstream of or within ameboidal-type cell migration. Located in several cellular components, including midbody; nucleus; and spindle midzone. [provided by Alliance of Genome Resources, Apr 2022]
A3: CCL16 | B3: 0 | C3: 3.1621293 | D3: 0 | E3: C-C motif chemokine ligand 16 | F3: This gene is one of several cytokine genes clustered on the q-arm of chromosome 17. Cytokines are a family of secreted proteins involved in immunoregulatory and inflammatory processes. The CC cytokines are proteins characterized by two adjacent cysteines. The cytokine encoded by this gene displays chemotactic activity for lymphocytes and monocytes but not for neutrophils. This cytokine also shows a potent myelosuppressive activity and suppresses proliferation of myeloid progenitor cells. The expression of this gene is upregulated by IL-10. [provided by RefSeq, Jul 2008]
A4: CDKN2B | B4: 0 | C4: 3.0614434 | D4: 0 | E4: cyclin dependent kinase inhibitor 2B | F4: This gene lies adjacent to the tumor suppressor gene CDKN2A in a region that is frequently mutated and deleted in a wide variety of tumors. This gene encodes a cyclin-dependent kinase inhibitor, which forms a complex with CDK4 or CDK6, and prevents the activation of the CDK kinases, thus the encoded protein functions as a cell growth regulator that controls cell cycle G1 progression. The expression of this gene was found to be dramatically induced by TGF beta, which suggested its role in the TGF beta induced growth inhibition. Two alternatively spliced transcript variants of this gene, which encode distinct proteins, have been reported. [provided by RefSeq, Jul 2008]
A5: CXCL1 | B5: 0 | C5: 1.2451951 | D5: 0 | E5: C-X-C motif chemokine ligand 1 | F5: This antimicrobial gene encodes a member of the CXC subfamily of chemokines. The encoded protein is a secreted growth factor that signals through the G-protein coupled receptor, CXC receptor 2. This protein plays a role in inflammation and as a chemoattractant for neutrophils. Aberrant expression of this protein is associated with the growth and progression of certain tumors. A naturally occurring processed form of this protein has increased chemotactic activity. Alternate splicing results in coding and non-coding variants of this gene. A pseudogene of this gene is found on chromosome 4. [provided by RefSeq, Sep 2014]
A6: FLT1 | B6: 0 | C6: 1.6145456 | D6: 0 | E6: fms related receptor tyrosine kinase 1 | F6: This gene encodes a member of the vascular endothelial growth factor receptor (VEGFR) family. VEGFR family members are receptor tyrosine kinases (RTKs) which contain an extracellular ligand-binding region with seven immunoglobulin (Ig)-like domains, a transmembrane segment, and a tyrosine kinase (TK) domain within the cytoplasmic domain. This protein binds to VEGFR-A, VEGFR-B and placental growth factor and plays an important role in angiogenesis and vasculogenesis. Expression of this receptor is found in vascular endothelial cells, placental trophoblast cells and peripheral blood monocytes. Multiple transcript variants encoding different isoforms have been found for this gene. Isoforms include a full-length transmembrane receptor isoform and shortened, soluble isoforms. The soluble isoforms are associated with the onset of pre-eclampsia.[provided by RefSeq, May 2009]
A7: CCR4 | B7: 0 | C7: 3.0886731 | D7: 0 | E7: C-C motif chemokine receptor 4 | F7: The protein encoded by this gene belongs to the G-protein-coupled receptor family . It is a receptor for the CC chemokine - MIP-1, RANTES, TARC and MCP-1. Chemokines are a group of small polypeptide, structurally related molecules that regulate cell trafficking of various types of leukocytes. The chemokines also play fundamental roles in the development, homeostasis, and function of the immune system, and they have effects on cells of the central nervous system as well as on endothelial cells involved in angiogenesis or angiostasis. [provided by RefSeq, Jul 2008]
A8: ADAM28 | B8: 0 | C8: 2.1651104 | D8: 0 | E8: ADAM metallopeptidase domain 28 | F8: This gene encodes a member of the ADAM (a disintegrin and metalloprotease domain) family. Members of this family are membrane-anchored proteins structurally related to snake venom disintegrins, and have been implicated in a variety of biological processes involving cell-cell and cell-matrix interactions, including fertilization, muscle development, and neurogenesis. The protein encoded by this gene is a lymphocyte-expressed ADAM protein. This gene is present in a gene cluster with other members of the ADAM family on chromosome 8. Alternative splicing results in multiple transcript variants. [provided by RefSeq, Jan 2015]
A9: TIGIT | B9: 0 | C9: 2.6829767 | D9: 0 | E9: T cell immunoreceptor with Ig and ITIM domains | F9: This gene encodes a member of the PVR (poliovirus receptor) family of immunoglobin proteins. The product of this gene is expressed on several classes of T cells including follicular B helper T cells (TFH). The protein has been shown to bind PVR with high affinity; this binding is thought to assist interactions between TFH and dendritic cells to regulate T cell dependent B cell responses.[provided by RefSeq, Sep 2009]
A10: IL2RA | B10: 0 | C10: 2.9849076 | D10: 0 | E10: interleukin 2 receptor subunit alpha | F10: The interleukin 2 (IL2) receptor alpha (IL2RA) and beta (IL2RB) chains, together with the common gamma chain (IL2RG), constitute the high-affinity IL2 receptor. Homodimeric alpha chains (IL2RA) result in low-affinity receptor, while homodimeric beta (IL2RB) chains produce a medium-affinity receptor. Normally an integral-membrane protein, soluble IL2RA has been isolated and determined to result from extracellular proteolyisis. Alternately-spliced IL2RA mRNAs have been isolated, but the significance of each is presently unknown. Mutations in this gene are associated with interleukin 2 receptor alpha deficiency. Patients with severe Coronavirus Disease 2019 (COVID-19), the disease caused by the novel severe acute respiratory syndrome coronavirus 2 (SARS-CoV-2), have significantly elevated levels of IL2R in their plasma. Similarly, serum IL-2R levels are found to be elevated in patients with different types of carcinomas. Certain IL2RA and IL2RB gene polymorphisms have been associated with lung cancer risk. [provided by RefSeq, Jul 2020]
A11: CCL26 | B11: 0 | C11: 3.0995424 | D11: 0 | E11: C-C motif chemokine ligand 26 | F11: This gene is one of two Cys-Cys (CC) cytokine genes clustered on the q arm of chromosome 7. Cytokines are a family of secreted proteins involved in immunoregulatory and inflammatory processes. The CC cytokines are proteins characterized by two adjacent cysteines. The cytokine encoded by this gene displays chemotactic activity for normal peripheral blood eosinophils and basophils. This protein also has antimicrobial activity, displaying an antibacterial effect on S. pneumoniae, S. aureus, Non-typeable H. influenzae, and P. aeruginosa. The product of this gene is one of three related chemokines that specifically activate chemokine receptor CCR3. This chemokine may contribute to the eosinophil accumulation in atopic diseases. [provided by RefSeq, Jul 2020]
A12: CD86 | B12: 0 | C12: 2.868949 | D12: 0 | E12: CD86 molecule | F12: This gene encodes a type I membrane protein that is a member of the immunoglobulin superfamily. This protein is expressed by antigen-presenting cells, and it is the ligand for two proteins at the cell surface of T cells, CD28 antigen and cytotoxic T-lymphocyte-associated protein 4. Binding of this protein with CD28 antigen is a costimulatory signal for activation of the T-cell. Binding of this protein with cytotoxic T-lymphocyte-associated protein 4 negatively regulates T-cell activation and diminishes the immune response. Alternative splicing results in several transcript variants encoding different isoforms.[provided by RefSeq, May 2011]
A13: TRAT1 | B13: 0 | C13: 2.7844186 | D13: 0 | E13: T cell receptor associated transmembrane adaptor 1 | F13: Predicted to enable transmembrane receptor protein tyrosine kinase adaptor activity. Acts upstream of or within negative regulation of receptor recycling; negative regulation of transport; and positive regulation of signal transduction. Located in centriolar satellite; mitotic spindle; and plasma membrane. Part of T cell receptor complex. [provided by Alliance of Genome Resources, Apr 2022]
... A199: IRF1 | B199: 0.0055166789 | C199: 0.86458026 | D199: 1 | E199: interferon regulatory factor 1 | F199: The protein encoded by this gene is a transcriptional regulator and tumor suppressor, serving as an activator of genes involved in both innate and acquired immune responses. The encoded protein activates the transcription of genes involved in the body's response to viruses and bacteria, playing a role in cell proliferation, apoptosis, the immune response, and DNA damage response. This protein represses the transcription of several other genes. As a tumor suppressor, it both suppresses tumor cell growth and stimulates an immune response against tumor cells. Defects in this gene have been associated with gastric cancer, myelogenous leukemia, and lung cancer. [provided by RefSeq, Aug 2017]

Sheet Markers of C08_S_Inj
A1: gene | B1: p_val | C1: avg_log2FC | D1: FDR | E1: gene.name | F1: gene.desc
A2: JUN | B2: 0 | C2: 2.0232256 | D2: 0 | E2: Jun proto-oncogene, AP-1 transcription factor subunit | F2: This gene is the putative transforming gene of avian sarcoma virus 17. It encodes a protein which is highly similar to the viral protein, and which interacts directly with specific target DNA sequences to regulate gene expression. This gene is intronless and is mapped to 1p32-p31, a chromosomal region involved in both translocations and deletions in human malignancies. [provided by RefSeq, Jul 2008]
A3: VEGFA | B3: 0 | C3: 1.8995528 | D3: 0 | E3: vascular endothelial growth factor A | F3: This gene is a member of the PDGF/VEGF growth factor family. It encodes a heparin-binding protein, which exists as a disulfide-linked homodimer. This growth factor induces proliferation and migration of vascular endothelial cells, and is essential for both physiological and pathological angiogenesis. Disruption of this gene in mice resulted in abnormal embryonic blood vessel formation. This gene is upregulated in many known tumors and its expression is correlated with tumor stage and progression. Elevated levels of this protein are found in patients with POEMS syndrome, also known as Crow-Fukase syndrome. Allelic variants of this gene have been associated with microvascular complications of diabetes 1 (MVCD1) and atherosclerosis. Alternatively spliced transcript variants encoding different isoforms have been described. There is also evidence for alternative translation initiation from upstream non-AUG (CUG) codons resulting in additional isoforms. A recent study showed that a C-terminally extended isoform is produced by use of an alternative in-frame translation termination codon via a stop codon readthrough mechanism, and that this isoform is antiangiogenic. Expression of some isoforms derived from the AUG start codon is regulated by a small upstream open reading frame, which is located within an internal ribosome entry site. The levels of VEGF are increased during infection with severe acute respiratory syndrome coronavirus 2 (SARS-CoV-2), thus promoting inflammation by facilitating recruitment of inflammatory cells, and by increasing the level of angiopoietin II (Ang II), one of two products of the SARS-CoV-2 binding target, angiotensin-converting enzyme 2 (ACE2). In turn, Ang II facilitates the elevation of VEGF, thus forming a vicious cycle in the release of inflammatory cytokines. [provided by RefSeq, Jun 2020]
A4: HIF1A | B4: 0 | C4: 2.1179463 | D4: 0 | E4: hypoxia inducible factor 1 subunit alpha | F4: This gene encodes the alpha subunit of transcription factor hypoxia-inducible factor-1 (HIF-1), which is a heterodimer composed of an alpha and a beta subunit. HIF-1 functions as a master regulator of cellular and systemic homeostatic response to hypoxia by activating transcription of many genes, including those involved in energy metabolism, angiogenesis, apoptosis, and other genes whose protein products increase oxygen delivery or facilitate metabolic adaptation to hypoxia. HIF-1 thus plays an essential role in embryonic vascularization, tumor angiogenesis and pathophysiology of ischemic disease. Alternatively spliced transcript variants encoding different isoforms have been identified for this gene. [provided by RefSeq, Jul 2011]
A5: IFNGR1 | B5: 0 | C5: 1.4927117 | D5: 0 | E5: interferon gamma receptor 1 | F5: This gene (IFNGR1) encodes the ligand-binding chain (alpha) of the gamma interferon receptor. Human interferon-gamma receptor is a heterodimer of IFNGR1 and IFNGR2. A genetic variation in IFNGR1 is associated with susceptibility to Helicobacter pylori infection. In addition, defects in IFNGR1 are a cause of mendelian susceptibility to mycobacterial disease, also known as familial disseminated atypical mycobacterial infection. [provided by RefSeq, Jul 2008]
A6: LAMP2 | B6: 0 | C6: 1.0563354 | D6: 0 | E6: lysosomal associated membrane protein 2 | F6: The protein encoded by this gene is a member of a family of membrane glycoproteins. This glycoprotein provides selectins with carbohydrate ligands. It may play a role in tumor cell metastasis. It may also function in the protection, maintenance, and adhesion of the lysosome. Alternative splicing of this gene results in multiple transcript variants encoding distinct proteins. [provided by RefSeq, Jul 2008]
A7: PIK3CA | B7: 0 | C7: 1.279097 | D7: 0 | E7: phosphatidylinositol-4,5-bisphosphate 3-kinase catalytic subunit alpha | F7: Phosphatidylinositol 3-kinase is composed of an 85 kDa regulatory subunit and a 110 kDa catalytic subunit. The protein encoded by this gene represents the catalytic subunit, which uses ATP to phosphorylate PtdIns, PtdIns4P and PtdIns(4,5)P2. This gene has been found to be oncogenic and has been implicated in cervical cancers. A pseudogene of this gene has been defined on chromosome 22. [provided by RefSeq, Apr 2016]
A8: KRAS | B8: 0 | C8: 1.1990211 | D8: 0 | E8: KRAS proto-oncogene, GTPase | F8: This gene, a Kirsten ras oncogene homolog from the mammalian ras gene family, encodes a protein that is a member of the small GTPase superfamily. A single amino acid substitution is responsible for an activating mutation. The transforming protein that results is implicated in various malignancies, including lung adenocarcinoma, mucinous adenoma, ductal carcinoma of the pancreas and colorectal carcinoma. Alternative splicing leads to variants encoding two isoforms that differ in the C-terminal region. [provided by RefSeq, Jul 2008]
A9: PTGS1 | B9: 0 | C9: 2.1402005 | D9: 0 | E9: prostaglandin-endoperoxide synthase 1 | F9: This is one of two genes encoding similar enzymes that catalyze the conversion of arachidonate to prostaglandin. The encoded protein regulates angiogenesis in endothelial cells, and is inhibited by nonsteroidal anti-inflammatory drugs such as aspirin. Based on its ability to function as both a cyclooxygenase and as a peroxidase, the encoded protein has been identified as a moonlighting protein. The protein may promote cell proliferation during tumor progression. Alternative splicing results in multiple transcript variants. [provided by RefSeq, Nov 2021]
A10: ICAM1 | B10: 0 | C10: 1.2353763 | D10: 0 | E10: intercellular adhesion molecule 1 | F10: This gene encodes a cell surface glycoprotein which is typically expressed on endothelial cells and cells of the immune system. It binds to integrins of type CD11a / CD18, or CD11b / CD18 and is also exploited by Rhinovirus as a receptor. [provided by RefSeq, Jul 2008]
A11: JUNB | B11: 0 | C11: 2.1691923 | D11: 0 | E11: JunB proto-oncogene, AP-1 transcription factor subunit | F11: Enables sequence-specific double-stranded DNA binding activity. Involved in positive regulation of transcription by RNA polymerase II. Located in nucleoplasm. Part of transcription factor AP-1 complex. Biomarker of Hodgkin's lymphoma and anaplastic large cell lymphoma. [provided by Alliance of Genome Resources, Apr 2022]
A12: ACTA2 | B12: 0 | C12: 0.46975728 | D12: 0 | E12: actin alpha 2, smooth muscle | F12: This gene encodes one of six different actin proteins. Actins are highly conserved proteins that are involved in cell motility, structure, integrity, and intercellular signaling. The encoded protein is a smooth muscle actin that is involved in vascular contractility and blood pressure homeostasis. Mutations in this gene cause a variety of vascular diseases, such as thoracic aortic disease, coronary artery disease, stroke, and Moyamoya disease, as well as multisystemic smooth muscle dysfunction syndrome. [provided by RefSeq, Sep 2017]
A13: ACTB | B13: 0 | C13: 0.489691 | D13: 0 | E13: actin beta | F13: This gene encodes one of six different actin proteins. Actins are highly conserved proteins that are involved in cell motility, structure, integrity, and intercellular signaling. The encoded protein is a major constituent of the contractile apparatus and one of the two nonmuscle cytoskeletal actins that are ubiquitously expressed. Mutations in this gene cause Baraitser-Winter syndrome 1, which is characterized by intellectual disability with a distinctive facial appearance in human patients. Numerous pseudogenes of this gene have been identified throughout the human genome. [provided by RefSeq, Aug 2017]
... A50: EGR3 | B50: 0.0073988785 | C50: 0.16467865 | D50: 1 | E50: early growth response 3 | F50: This gene encodes a transcriptional regulator that belongs to the EGR family of C2H2-type zinc-finger proteins. It is an immediate-early growth response gene which is induced by mitogenic stimulation. The protein encoded by this gene participates in the transcriptional regulation of genes in controling biological rhythm. It may also play a role in a wide variety of processes including muscle development, lymphocyte development, endothelial cell growth and migration, and neuronal development. Alternative splicing results in multiple transcript variants encoding distinct isoforms.[provided by RefSeq, Dec 2010]

Sheet Markers of C09_S_Inj
A1: gene | B1: p_val | C1: avg_log2FC | D1: FDR | E1: gene.name | F1: gene.desc
A2: CXCL1 | B2: 0 | C2: 5.4360287 | D2: 0 | E2: C-X-C motif chemokine ligand 1 | F2: This antimicrobial gene encodes a member of the CXC subfamily of chemokines. The encoded protein is a secreted growth factor that signals through the G-protein coupled receptor, CXC receptor 2. This protein plays a role in inflammation and as a chemoattractant for neutrophils. Aberrant expression of this protein is associated with the growth and progression of certain tumors. A naturally occurring processed form of this protein has increased chemotactic activity. Alternate splicing results in coding and non-coding variants of this gene. A pseudogene of this gene is found on chromosome 4. [provided by RefSeq, Sep 2014]
A3: FLT1 | B3: 0 | C3: 3.2968498 | D3: 0 | E3: fms related receptor tyrosine kinase 1 | F3: This gene encodes a member of the vascular endothelial growth factor receptor (VEGFR) family. VEGFR family members are receptor tyrosine kinases (RTKs) which contain an extracellular ligand-binding region with seven immunoglobulin (Ig)-like domains, a transmembrane segment, and a tyrosine kinase (TK) domain within the cytoplasmic domain. This protein binds to VEGFR-A, VEGFR-B and placental growth factor and plays an important role in angiogenesis and vasculogenesis. Expression of this receptor is found in vascular endothelial cells, placental trophoblast cells and peripheral blood monocytes. Multiple transcript variants encoding different isoforms have been found for this gene. Isoforms include a full-length transmembrane receptor isoform and shortened, soluble isoforms. The soluble isoforms are associated with the onset of pre-eclampsia.[provided by RefSeq, May 2009]
A4: CXCL6 | B4: 0 | C4: 3.9412635 | D4: 0 | E4: C-X-C motif chemokine ligand 6 | F4: The protein encoded by this gene is a member CXC chemokine family. The encoded protein is a chemotactic for neutrophil granulocytes and has antibacterial action against gram-negative and gram-positive bacteria. This gene and other members of the CXC chemokine gene family form a gene cluster in a region of chromosome 4q. [provided by RefSeq, Jun 2020]
A5: TGFB1 | B5: 0 | C5: 1.9050643 | D5: 0 | E5: transforming growth factor beta 1 | F5: This gene encodes a secreted ligand of the TGF-beta (transforming growth factor-beta) superfamily of proteins. Ligands of this family bind various TGF-beta receptors leading to recruitment and activation of SMAD family transcription factors that regulate gene expression. The encoded preproprotein is proteolytically processed to generate a latency-associated peptide (LAP) and a mature peptide, and is found in either a latent form composed of a mature peptide homodimer, a LAP homodimer, and a latent TGF-beta binding protein, or in an active form consisting solely of the mature peptide homodimer. The mature peptide may also form heterodimers with other TGFB family members. This encoded protein regulates cell proliferation, differentiation and growth, and can modulate expression and activation of other growth factors including interferon gamma and tumor necrosis factor alpha. This gene is frequently upregulated in tumor cells, and mutations in this gene result in Camurati-Engelmann disease. [provided by RefSeq, Aug 2016]
A6: CDKN1A | B6: 0 | C6: 2.0916933 | D6: 0 | E6: cyclin dependent kinase inhibitor 1A | F6: This gene encodes a potent cyclin-dependent kinase inhibitor. The encoded protein binds to and inhibits the activity of cyclin-cyclin-dependent kinase2 or -cyclin-dependent kinase4 complexes, and thus functions as a regulator of cell cycle progression at G1. The expression of this gene is tightly controlled by the tumor suppressor protein p53, through which this protein mediates the p53-dependent cell cycle G1 phase arrest in response to a variety of stress stimuli. This protein can interact with proliferating cell nuclear antigen, a DNA polymerase accessory factor, and plays a regulatory role in S phase DNA replication and DNA damage repair. This protein was reported to be specifically cleaved by CASP3-like caspases, which thus leads to a dramatic activation of cyclin-dependent kinase2, and may be instrumental in the execution of apoptosis following caspase activation. Mice that lack this gene have the ability to regenerate damaged or missing tissue. Multiple alternatively spliced variants have been found for this gene. [provided by RefSeq, Sep 2015]
A7: ICAM1 | B7: 0 | C7: 2.8253852 | D7: 0 | E7: intercellular adhesion molecule 1 | F7: This gene encodes a cell surface glycoprotein which is typically expressed on endothelial cells and cells of the immune system. It binds to integrins of type CD11a / CD18, or CD11b / CD18 and is also exploited by Rhinovirus as a receptor. [provided by RefSeq, Jul 2008]
A8: LTB | B8: 0 | C8: 4.0292022 | D8: 0 | E8: lymphotoxin beta | F8: Lymphotoxin beta is a type II membrane protein of the TNF family. It anchors lymphotoxin-alpha to the cell surface through heterotrimer formation. The predominant form on the lymphocyte surface is the lymphotoxin-alpha 1/beta 2 complex (e.g. 1 molecule alpha/2 molecules beta) and this complex is the primary ligand for the lymphotoxin-beta receptor. The minor complex is lymphotoxin-alpha 2/beta 1. LTB is an inducer of the inflammatory response system and involved in normal development of lymphoid tissue. Lymphotoxin-beta isoform b is unable to complex with lymphotoxin-alpha suggesting a function for lymphotoxin-beta which is independent of lympyhotoxin-alpha. Alternative splicing results in multiple transcript variants encoding different isoforms. [provided by RefSeq, Jul 2008]
A9: PTGS1 | B9: 0 | C9: 2.7357232 | D9: 0 | E9: prostaglandin-endoperoxide synthase 1 | F9: This is one of two genes encoding similar enzymes that catalyze the conversion of arachidonate to prostaglandin. The encoded protein regulates angiogenesis in endothelial cells, and is inhibited by nonsteroidal anti-inflammatory drugs such as aspirin. Based on its ability to function as both a cyclooxygenase and as a peroxidase, the encoded protein has been identified as a moonlighting protein. The protein may promote cell proliferation during tumor progression. Alternative splicing results in multiple transcript variants. [provided by RefSeq, Nov 2021]
A10: IL1R1 | B10: 0 | C10: 0.79941287 | D10: 0 | E10: interleukin 1 receptor type 1 | F10: This gene encodes a cytokine receptor that belongs to the interleukin-1 receptor family. The encoded protein is a receptor for interleukin-1 alpha, interleukin-1 beta, and interleukin-1 receptor antagonist. It is an important mediator involved in many cytokine-induced immune and inflammatory responses. This gene is located in a cluster of related cytokine receptor genes on chromosome 2q12. [provided by RefSeq, Dec 2013]
A11: LIF | B11: 0 | C11: 2.5622807 | D11: 0 | E11: LIF interleukin 6 family cytokine | F11: The protein encoded by this gene is a pleiotropic cytokine with roles in several different systems. It is involved in the induction of hematopoietic differentiation in normal and myeloid leukemia cells, induction of neuronal cell differentiation, regulator of mesenchymal to epithelial conversion during kidney development, and may also have a role in immune tolerance at the maternal-fetal interface. Alternatively spliced transcript variants encoding multiple isoforms have been observed for this gene. [provided by RefSeq, Mar 2012]
A12: VEGFA | B12: 0 | C12: 0.34010267 | D12: 0 | E12: vascular endothelial growth factor A | F12: This gene is a member of the PDGF/VEGF growth factor family. It encodes a heparin-binding protein, which exists as a disulfide-linked homodimer. This growth factor induces proliferation and migration of vascular endothelial cells, and is essential for both physiological and pathological angiogenesis. Disruption of this gene in mice resulted in abnormal embryonic blood vessel formation. This gene is upregulated in many known tumors and its expression is correlated with tumor stage and progression. Elevated levels of this protein are found in patients with POEMS syndrome, also known as Crow-Fukase syndrome. Allelic variants of this gene have been associated with microvascular complications of diabetes 1 (MVCD1) and atherosclerosis. Alternatively spliced transcript variants encoding different isoforms have been described. There is also evidence for alternative translation initiation from upstream non-AUG (CUG) codons resulting in additional isoforms. A recent study showed that a C-terminally extended isoform is produced by use of an alternative in-frame translation termination codon via a stop codon readthrough mechanism, and that this isoform is antiangiogenic. Expression of some isoforms derived from the AUG start codon is regulated by a small upstream open reading frame, which is located within an internal ribosome entry site. The levels of VEGF are increased during infection with severe acute respiratory syndrome coronavirus 2 (SARS-CoV-2), thus promoting inflammation by facilitating recruitment of inflammatory cells, and by increasing the level of angiopoietin II (Ang II), one of two products of the SARS-CoV-2 binding target, angiotensin-converting enzyme 2 (ACE2). In turn, Ang II facilitates the elevation of VEGF, thus forming a vicious cycle in the release of inflammatory cytokines. [provided by RefSeq, Jun 2020]
A13: ICOSLG | B13: 0 | C13: 1.5306161 | D13: 0 | E13: inducible T cell costimulator ligand | F13: Enables identical protein binding activity. Predicted to be involved in T cell receptor signaling pathway and positive regulation of interleukin-4 production. Located in cytoplasmic ribonucleoprotein granule and plasma membrane. [provided by Alliance of Genome Resources, Apr 2022]
... A236: HIF1A | B236: 6.279097e-05 | C236: 0.19938959 | D236: 0.023860568 | E236: hypoxia inducible factor 1 subunit alpha | F236: This gene encodes the alpha subunit of transcription factor hypoxia-inducible factor-1 (HIF-1), which is a heterodimer composed of an alpha and a beta subunit. HIF-1 functions as a master regulator of cellular and systemic homeostatic response to hypoxia by activating transcription of many genes, including those involved in energy metabolism, angiogenesis, apoptosis, and other genes whose protein products increase oxygen delivery or facilitate metabolic adaptation to hypoxia. HIF-1 thus plays an essential role in embryonic vascularization, tumor angiogenesis and pathophysiology of ischemic disease. Alternatively spliced transcript variants encoding different isoforms have been identified for this gene. [provided by RefSeq, Jul 2011]

Sheet Markers of C10_S
A1: gene | B1: p_val | C1: avg_log2FC | D1: FDR | E1: gene.name | F1: gene.desc
A2: CXCL12 | B2: 0 | C2: 1.8038431 | D2: 0 | E2: C-X-C motif chemokine ligand 12 | F2: This antimicrobial gene encodes a stromal cell-derived alpha chemokine member of the intercrine family. The encoded protein functions as the ligand for the G-protein coupled receptor, chemokine (C-X-C motif) receptor 4, and plays a role in many diverse cellular functions, including embryogenesis, immune surveillance, inflammation response, tissue homeostasis, and tumor growth and metastasis. Mutations in this gene are associated with resistance to human immunodeficiency virus type 1 infections. Multiple transcript variants encoding different isoforms have been found for this gene. [provided by RefSeq, Sep 2014]
A3: PDGFRA | B3: 2.4499401e-283 | C3: 0.10575253 | D3: 9.3097724e-281 | E3: platelet derived growth factor receptor alpha | F3: This gene encodes a cell surface tyrosine kinase receptor for members of the platelet-derived growth factor family. These growth factors are mitogens for cells of mesenchymal origin. The identity of the growth factor bound to a receptor monomer determines whether the functional receptor is a homodimer or a heterodimer, composed of both platelet-derived growth factor receptor alpha and beta polypeptides. Studies suggest that this gene plays a role in organ development, wound healing, and tumor progression. Mutations in this gene have been associated with idiopathic hypereosinophilic syndrome, somatic and familial gastrointestinal stromal tumors, and a variety of other cancers. [provided by RefSeq, Mar 2012]
A4: STMN1 | B4: 1.4505689e-89 | C4: 0.16235395 | D4: 5.5121616e-87 | E4: stathmin 1 | F4: This gene belongs to the stathmin family of genes. It encodes a ubiquitous cytosolic phosphoprotein proposed to function as an intracellular relay integrating regulatory signals of the cellular environment. The encoded protein is involved in the regulation of the microtubule filament system by destabilizing microtubules. It prevents assembly and promotes disassembly of microtubules. Multiple transcript variants encoding different isoforms have been found for this gene. [provided by RefSeq, Feb 2009]
A5: SMAD3 | B5: 1.2029753e-83 | C5: 0.2220905 | D5: 4.5713062e-81 | E5: SMAD family member 3 | F5: The SMAD family of proteins are a group of intracellular signal transducer proteins similar to the gene products of the Drosophila gene 'mothers against decapentaplegic' (Mad) and the C. elegans gene Sma. The SMAD3 protein functions in the transforming growth factor-beta signaling pathway, and transmits signals from the cell surface to the nucleus, regulating gene activity and cell proliferation. This protein forms a complex with other SMAD proteins and binds DNA, functioning both as a transcription factor and tumor suppressor. Mutations in this gene are associated with aneurysms-osteoarthritis syndrome and Loeys-Dietz Syndrome 3. [provided by RefSeq, May 2022]
A6: STAT3 | B6: 2.1673027e-65 | C6: 0.39736529 | D6: 8.2357502e-63 | E6: signal transducer and activator of transcription 3 | F6: The protein encoded by this gene is a member of the STAT protein family. In response to cytokines and growth factors, STAT family members are phosphorylated by the receptor associated kinases, and then form homo- or heterodimers that translocate to the cell nucleus where they act as transcription activators. This protein is activated through phosphorylation in response to various cytokines and growth factors including IFNs, EGF, IL5, IL6, HGF, LIF and BMP2. This protein mediates the expression of a variety of genes in response to cell stimuli, and thus plays a key role in many cellular processes such as cell growth and apoptosis. The small GTPase Rac1 has been shown to bind and regulate the activity of this protein. PIAS3 protein is a specific inhibitor of this protein. This gene also plays a role in regulating host response to viral and bacterial infections. Mutations in this gene are associated with infantile-onset multisystem autoimmune disease and hyper-immunoglobulin E syndrome. [provided by RefSeq, Aug 2020]
A7: IFITM3 | B7: 9.0505085e-57 | C7: 0.16945238 | D7: 3.4391932e-54 | E7: interferon induced transmembrane protein 3 | F7: Interferon-induced transmembrane (IFITM) proteins are a family of interferon induced antiviral proteins. The family contains five members, including IFITM1, IFITM2 and IFITM3 and belong to the CD225 superfamily. The protein encoded by this gene restricts cellular entry by diverse viral pathogens, such as influenza A virus, Ebola virus and Sars-CoV-2. [provided by RefSeq, Nov 2021]
A8: PTEN | B8: 5.7586327e-56 | C8: 0.22625786 | D8: 2.1882804e-53 | E8: phosphatase and tensin homolog | F8: This gene was identified as a tumor suppressor that is mutated in a large number of cancers at high frequency. The protein encoded by this gene is a phosphatidylinositol-3,4,5-trisphosphate 3-phosphatase. It contains a tensin like domain as well as a catalytic domain similar to that of the dual specificity protein tyrosine phosphatases. Unlike most of the protein tyrosine phosphatases, this protein preferentially dephosphorylates phosphoinositide substrates. It negatively regulates intracellular levels of phosphatidylinositol-3,4,5-trisphosphate in cells and functions as a tumor suppressor by negatively regulating AKT/PKB signaling pathway. The use of a non-canonical (CUG) upstream initiation site produces a longer isoform that initiates translation with a leucine, and is thought to be preferentially associated with the mitochondrial inner membrane. This longer isoform may help regulate energy metabolism in the mitochondria. A pseudogene of this gene is found on chromosome 9. Alternative splicing and the use of multiple translation start codons results in multiple transcript variants encoding different isoforms. [provided by RefSeq, Feb 2015]
A9: TUBB | B9: 1.6414458e-49 | C9: 0.14043251 | D9: 6.2374939e-47 | E9: tubulin beta class I | F9: This gene encodes a beta tubulin protein. This protein forms a dimer with alpha tubulin and acts as a structural component of microtubules. Mutations in this gene cause cortical dysplasia, complex, with other brain malformations 6. Alternative splicing results in multiple splice variants. There are multiple pseudogenes for this gene on chromosomes 1, 6, 7, 8, 9, and 13. [provided by RefSeq, Jun 2014]
A10: STAT6 | B10: 6.9902254e-32 | C10: 0.18695279 | D10: 2.6562856e-29 | E10: signal transducer and activator of transcription 6 | F10: The protein encoded by this gene is a member of the STAT family of transcription factors. In response to cytokines and growth factors, STAT family members are phosphorylated by the receptor associated kinases, and then form homo- or heterodimers that translocate to the cell nucleus where they act as transcription activators. This protein plays a central role in exerting IL4 mediated biological responses. It is found to induce the expression of BCL2L1/BCL-X(L), which is responsible for the anti-apoptotic activity of IL4. Knockout studies in mice suggested the roles of this gene in differentiation of T helper 2 (Th2) cells, expression of cell surface markers, and class switch of immunoglobulins. Alternative splicing results in multiple transcript variants.[provided by RefSeq, May 2010]
A11: TP53 | B11: 2.9427626e-28 | C11: 0.16326565 | D11: 1.1182498e-25 | E11: tumor protein p53 | F11: This gene encodes a tumor suppressor protein containing transcriptional activation, DNA binding, and oligomerization domains. The encoded protein responds to diverse cellular stresses to regulate expression of target genes, thereby inducing cell cycle arrest, apoptosis, senescence, DNA repair, or changes in metabolism. Mutations in this gene are associated with a variety of human cancers, including hereditary cancers such as Li-Fraumeni syndrome. Alternative splicing of this gene and the use of alternate promoters result in multiple transcript variants and isoforms. Additional isoforms have also been shown to result from the use of alternate translation initiation codons from identical transcript variants (PMIDs: 12032546, 20937277). [provided by RefSeq, Dec 2016]
A12: JAK3 | B12: 1.0387678e-27 | C12: 0.45023833 | D12: 3.9473178e-25 | E12: Janus kinase 3 | F12: The protein encoded by this gene is a member of the Janus kinase (JAK) family of tyrosine kinases involved in cytokine receptor-mediated intracellular signal transduction. It is predominantly expressed in immune cells and transduces a signal in response to its activation via tyrosine phosphorylation by interleukin receptors. Mutations in this gene are associated with autosomal SCID (severe combined immunodeficiency disease). [provided by RefSeq, Jul 2008]
A13: CD83 | B13: 3.7436588e-27 | C13: 0.61047696 | D13: 1.4225903e-24 | E13: CD83 molecule | F13: The protein encoded by this gene is a single-pass type I membrane protein and member of the immunoglobulin superfamily of receptors. The encoded protein may be involved in the regulation of antigen presentation. A soluble form of this protein can bind to dendritic cells and inhibit their maturation. Three transcript variants encoding different isoforms have been found for this gene. [provided by RefSeq, Oct 2011]
... A25: IRF1 | B25: 0.0043513788 | C25: 0.32705507 | D25: 1 | E25: interferon regulatory factor 1 | F25: The protein encoded by this gene is a transcriptional regulator and tumor suppressor, serving as an activator of genes involved in both innate and acquired immune responses. The encoded protein activates the transcription of genes involved in the body's response to viruses and bacteria, playing a role in cell proliferation, apoptosis, the immune response, and DNA damage response. This protein represses the transcription of several other genes. As a tumor suppressor, it both suppresses tumor cell growth and stimulates an immune response against tumor cells. Defects in this gene have been associated with gastric cancer, myelogenous leukemia, and lung cancer. [provided by RefSeq, Aug 2017]

Sheet Markers of C11_N_PT
A1: gene | B1: p_val | C1: avg_log2FC | D1: FDR | E1: gene.name | F1: gene.desc
A2: EPCAM | B2: 0 | C2: 2.6243868 | D2: 0 | E2: epithelial cell adhesion molecule | F2: This gene encodes a carcinoma-associated antigen and is a member of a family that includes at least two type I membrane proteins. This antigen is expressed on most normal epithelial cells and gastrointestinal carcinomas and functions as a homotypic calcium-independent cell adhesion molecule. The antigen is being used as a target for immunotherapy treatment of human carcinomas. Mutations in this gene result in congenital tufting enteropathy. [provided by RefSeq, Dec 2008]
A3: ERBB3 | B3: 0 | C3: 3.0557996 | D3: 0 | E3: erb-b2 receptor tyrosine kinase 3 | F3: This gene encodes a member of the epidermal growth factor receptor (EGFR) family of receptor tyrosine kinases. This membrane-bound protein has a neuregulin binding domain but not an active kinase domain. It therefore can bind this ligand but not convey the signal into the cell through protein phosphorylation. However, it does form heterodimers with other EGF receptor family members which do have kinase activity. Heterodimerization leads to the activation of pathways which lead to cell proliferation or differentiation. Amplification of this gene and/or overexpression of its protein have been reported in numerous cancers, including prostate, bladder, and breast tumors. Alternate transcriptional splice variants encoding different isoforms have been characterized. One isoform lacks the intermembrane region and is secreted outside the cell. This form acts to modulate the activity of the membrane-bound form. Additional splice variants have also been reported, but they have not been thoroughly characterized. [provided by RefSeq, Jul 2008]
A4: APOE | B4: 0 | C4: 3.1150105 | D4: 0 | E4: apolipoprotein E | F4: The protein encoded by this gene is a major apoprotein of the chylomicron. It binds to a specific liver and peripheral cell receptor, and is essential for the normal catabolism of triglyceride-rich lipoprotein constituents. This gene maps to chromosome 19 in a cluster with the related apolipoprotein C1 and C2 genes. Mutations in this gene result in familial dysbetalipoproteinemia, or type III hyperlipoproteinemia (HLP III), in which increased plasma cholesterol and triglycerides are the consequence of impaired clearance of chylomicron and VLDL remnants. [provided by RefSeq, Jun 2016]
A5: IGFBP7 | B5: 0 | C5: 2.1577493 | D5: 0 | E5: insulin like growth factor binding protein 7 | F5: This gene encodes a member of the insulin-like growth factor (IGF)-binding protein (IGFBP) family. IGFBPs bind IGFs with high affinity, and regulate IGF availability in body fluids and tissues and modulate IGF binding to its receptors. This protein binds IGF-I and IGF-II with relatively low affinity, and belongs to a subfamily of low-affinity IGFBPs. It also stimulates prostacyclin production and cell adhesion. Alternatively spliced transcript variants encoding different isoforms have been described for this gene, and one variant has been associated with retinal arterial macroaneurysm (PMID:21835307). [provided by RefSeq, Dec 2011]
A6: EPOR | B6: 0 | C6: 2.3877168 | D6: 0 | E6: erythropoietin receptor | F6: This gene encodes the erythropoietin receptor which is a member of the cytokine receptor family. Upon erythropoietin binding, this receptor activates Jak2 tyrosine kinase which activates different intracellular pathways including: Ras/MAP kinase, phosphatidylinositol 3-kinase and STAT transcription factors. The stimulated erythropoietin receptor appears to have a role in erythroid cell survival. Defects in the erythropoietin receptor may produce erythroleukemia and familial erythrocytosis. Dysregulation of this gene may affect the growth of certain tumors. Alternate splicing results in multiple transcript variants.[provided by RefSeq, May 2010]
A7: MET | B7: 0 | C7: 1.8856316 | D7: 0 | E7: MET proto-oncogene, receptor tyrosine kinase | F7: This gene encodes a member of the receptor tyrosine kinase family of proteins and the product of the proto-oncogene MET. The encoded preproprotein is proteolytically processed to generate alpha and beta subunits that are linked via disulfide bonds to form the mature receptor. Further processing of the beta subunit results in the formation of the M10 peptide, which has been shown to reduce lung fibrosis. Binding of its ligand, hepatocyte growth factor, induces dimerization and activation of the receptor, which plays a role in cellular survival, embryogenesis, and cellular migration and invasion. Mutations in this gene are associated with papillary renal cell carcinoma, hepatocellular carcinoma, and various head and neck cancers. Amplification and overexpression of this gene are also associated with multiple human cancers. [provided by RefSeq, May 2016]
A8: ERBB4 | B8: 0 | C8: 1.703936 | D8: 0 | E8: erb-b2 receptor tyrosine kinase 4 | F8: This gene is a member of the Tyr protein kinase family and the epidermal growth factor receptor subfamily. It encodes a single-pass type I membrane protein with multiple cysteine rich domains, a transmembrane domain, a tyrosine kinase domain, a phosphotidylinositol-3 kinase binding site and a PDZ domain binding motif. The protein binds to and is activated by neuregulins and other factors and induces a variety of cellular responses including mitogenesis and differentiation. Multiple proteolytic events allow for the release of a cytoplasmic fragment and an extracellular fragment. Mutations in this gene have been associated with cancer. Alternatively spliced variants which encode different protein isoforms have been described; however, not all variants have been fully characterized. [provided by RefSeq, Jul 2008]
A9: JUN | B9: 0 | C9: 1.7563963 | D9: 0 | E9: Jun proto-oncogene, AP-1 transcription factor subunit | F9: This gene is the putative transforming gene of avian sarcoma virus 17. It encodes a protein which is highly similar to the viral protein, and which interacts directly with specific target DNA sequences to regulate gene expression. This gene is intronless and is mapped to 1p32-p31, a chromosomal region involved in both translocations and deletions in human malignancies. [provided by RefSeq, Jul 2008]
A10: ID4 | B10: 0 | C10: 1.5402562 | D10: 0 | E10: inhibitor of DNA binding 4 | F10: This gene encodes a member of the inhibitor of DNA binding (ID) protein family. The encoded protein lacks DNA binding ability, and instead regulates gene expression through binding to and inhibiting basic helix-loop-helix transcription factors. This protein has been implicated in the regulation of diverse cellular processes that play a role in development and tumorigenesis. [provided by RefSeq, Aug 2017]
A11: STAT1 | B11: 0 | C11: 1.90371 | D11: 0 | E11: signal transducer and activator of transcription 1 | F11: The protein encoded by this gene is a member of the STAT protein family. In response to cytokines and growth factors, STAT family members are phosphorylated by the receptor associated kinases, and then form homo- or heterodimers that translocate to the cell nucleus where they act as transcription activators. The protein encoded by this gene can be activated by various ligands including interferon-alpha, interferon-gamma, EGF, PDGF and IL6. This protein mediates the expression of a variety of genes, which is thought to be important for cell viability in response to different cell stimuli and pathogens. The protein plays an important role in immune responses to viral, fungal and mycobacterial pathogens. Mutations in this gene are associated with Immunodeficiency 31B, 31A, and 31C. [provided by RefSeq, Jun 2020]
A12: ANPEP | B12: 0 | C12: 4.9741479 | D12: 0 | E12: alanyl aminopeptidase, membrane | F12: Aminopeptidase N is located in the small-intestinal and renal microvillar membrane, and also in other plasma membranes. In the small intestine aminopeptidase N plays a role in the final digestion of peptides generated from hydrolysis of proteins by gastric and pancreatic proteases. Its function in proximal tubular epithelial cells and other cell types is less clear. The large extracellular carboxyterminal domain contains a pentapeptide consensus sequence characteristic of members of the zinc-binding metalloproteinase superfamily. Sequence comparisons with known enzymes of this class showed that CD13 and aminopeptidase N are identical. The latter enzyme was thought to be involved in the metabolism of regulatory peptides by diverse cell types, including small intestinal and renal tubular epithelial cells, macrophages, granulocytes, and synaptic membranes from the CNS. This membrane-bound zinc metalloprotease is known to serve as a receptor for the HCoV-229E alphacoronavirus as well as other non-human coronaviruses. This gene has also been shown to promote angiogenesis, tumor growth, and metastasis and defects in this gene are associated with various types of leukemia and lymphoma. [provided by RefSeq, Apr 2020]
A13: CDKN1C | B13: 0 | C13: 1.5349149 | D13: 0 | E13: cyclin dependent kinase inhibitor 1C | F13: This gene is imprinted, with preferential expression of the maternal allele. The encoded protein is a tight-binding, strong inhibitor of several G1 cyclin/Cdk complexes and a negative regulator of cell proliferation. Mutations in this gene are implicated in sporadic cancers and Beckwith-Wiedemann syndorome, suggesting that this gene is a tumor suppressor candidate. Three transcript variants encoding two different isoforms have been found for this gene. [provided by RefSeq, Oct 2010]
... A80: NOSIP | B80: 4.2317669e-11 | C80: 0.12735538 | D80: 1.6080714e-08 | E80: nitric oxide synthase interacting protein | F80: The protein encoded by this gene may modulate the activity and localization of nitric oxide synthase (endothelial and neuronal) and thus nitric oxide production. Alternative splicing results in multiple transcript variants that encode the same protein. [provided by RefSeq, Aug 2012]

Sheet Markers of C12_N_Inj
A1: gene | B1: p_val | C1: avg_log2FC | D1: FDR | E1: gene.name | F1: gene.desc
A2: EPCAM | B2: 0 | C2: 1.9341806 | D2: 0 | E2: epithelial cell adhesion molecule | F2: This gene encodes a carcinoma-associated antigen and is a member of a family that includes at least two type I membrane proteins. This antigen is expressed on most normal epithelial cells and gastrointestinal carcinomas and functions as a homotypic calcium-independent cell adhesion molecule. The antigen is being used as a target for immunotherapy treatment of human carcinomas. Mutations in this gene result in congenital tufting enteropathy. [provided by RefSeq, Dec 2008]
A3: CDKN1A | B3: 0 | C3: 3.5021896 | D3: 0 | E3: cyclin dependent kinase inhibitor 1A | F3: This gene encodes a potent cyclin-dependent kinase inhibitor. The encoded protein binds to and inhibits the activity of cyclin-cyclin-dependent kinase2 or -cyclin-dependent kinase4 complexes, and thus functions as a regulator of cell cycle progression at G1. The expression of this gene is tightly controlled by the tumor suppressor protein p53, through which this protein mediates the p53-dependent cell cycle G1 phase arrest in response to a variety of stress stimuli. This protein can interact with proliferating cell nuclear antigen, a DNA polymerase accessory factor, and plays a regulatory role in S phase DNA replication and DNA damage repair. This protein was reported to be specifically cleaved by CASP3-like caspases, which thus leads to a dramatic activation of cyclin-dependent kinase2, and may be instrumental in the execution of apoptosis following caspase activation. Mice that lack this gene have the ability to regenerate damaged or missing tissue. Multiple alternatively spliced variants have been found for this gene. [provided by RefSeq, Sep 2015]
A4: TGFB1 | B4: 0 | C4: 2.4430394 | D4: 0 | E4: transforming growth factor beta 1 | F4: This gene encodes a secreted ligand of the TGF-beta (transforming growth factor-beta) superfamily of proteins. Ligands of this family bind various TGF-beta receptors leading to recruitment and activation of SMAD family transcription factors that regulate gene expression. The encoded preproprotein is proteolytically processed to generate a latency-associated peptide (LAP) and a mature peptide, and is found in either a latent form composed of a mature peptide homodimer, a LAP homodimer, and a latent TGF-beta binding protein, or in an active form consisting solely of the mature peptide homodimer. The mature peptide may also form heterodimers with other TGFB family members. This encoded protein regulates cell proliferation, differentiation and growth, and can modulate expression and activation of other growth factors including interferon gamma and tumor necrosis factor alpha. This gene is frequently upregulated in tumor cells, and mutations in this gene result in Camurati-Engelmann disease. [provided by RefSeq, Aug 2016]
A5: APOE | B5: 0 | C5: 1.5269888 | D5: 0 | E5: apolipoprotein E | F5: The protein encoded by this gene is a major apoprotein of the chylomicron. It binds to a specific liver and peripheral cell receptor, and is essential for the normal catabolism of triglyceride-rich lipoprotein constituents. This gene maps to chromosome 19 in a cluster with the related apolipoprotein C1 and C2 genes. Mutations in this gene result in familial dysbetalipoproteinemia, or type III hyperlipoproteinemia (HLP III), in which increased plasma cholesterol and triglycerides are the consequence of impaired clearance of chylomicron and VLDL remnants. [provided by RefSeq, Jun 2016]
A6: VEGFA | B6: 0 | C6: 0.99973223 | D6: 0 | E6: vascular endothelial growth factor A | F6: This gene is a member of the PDGF/VEGF growth factor family. It encodes a heparin-binding protein, which exists as a disulfide-linked homodimer. This growth factor induces proliferation and migration of vascular endothelial cells, and is essential for both physiological and pathological angiogenesis. Disruption of this gene in mice resulted in abnormal embryonic blood vessel formation. This gene is upregulated in many known tumors and its expression is correlated with tumor stage and progression. Elevated levels of this protein are found in patients with POEMS syndrome, also known as Crow-Fukase syndrome. Allelic variants of this gene have been associated with microvascular complications of diabetes 1 (MVCD1) and atherosclerosis. Alternatively spliced transcript variants encoding different isoforms have been described. There is also evidence for alternative translation initiation from upstream non-AUG (CUG) codons resulting in additional isoforms. A recent study showed that a C-terminally extended isoform is produced by use of an alternative in-frame translation termination codon via a stop codon readthrough mechanism, and that this isoform is antiangiogenic. Expression of some isoforms derived from the AUG start codon is regulated by a small upstream open reading frame, which is located within an internal ribosome entry site. The levels of VEGF are increased during infection with severe acute respiratory syndrome coronavirus 2 (SARS-CoV-2), thus promoting inflammation by facilitating recruitment of inflammatory cells, and by increasing the level of angiopoietin II (Ang II), one of two products of the SARS-CoV-2 binding target, angiotensin-converting enzyme 2 (ACE2). In turn, Ang II facilitates the elevation of VEGF, thus forming a vicious cycle in the release of inflammatory cytokines. [provided by RefSeq, Jun 2020]
A7: JUN | B7: 0 | C7: 1.15083 | D7: 0 | E7: Jun proto-oncogene, AP-1 transcription factor subunit | F7: This gene is the putative transforming gene of avian sarcoma virus 17. It encodes a protein which is highly similar to the viral protein, and which interacts directly with specific target DNA sequences to regulate gene expression. This gene is intronless and is mapped to 1p32-p31, a chromosomal region involved in both translocations and deletions in human malignancies. [provided by RefSeq, Jul 2008]
A8: CDKN1C | B8: 0 | C8: 1.6274218 | D8: 0 | E8: cyclin dependent kinase inhibitor 1C | F8: This gene is imprinted, with preferential expression of the maternal allele. The encoded protein is a tight-binding, strong inhibitor of several G1 cyclin/Cdk complexes and a negative regulator of cell proliferation. Mutations in this gene are implicated in sporadic cancers and Beckwith-Wiedemann syndorome, suggesting that this gene is a tumor suppressor candidate. Three transcript variants encoding two different isoforms have been found for this gene. [provided by RefSeq, Oct 2010]
A9: MET | B9: 0 | C9: 1.2536082 | D9: 0 | E9: MET proto-oncogene, receptor tyrosine kinase | F9: This gene encodes a member of the receptor tyrosine kinase family of proteins and the product of the proto-oncogene MET. The encoded preproprotein is proteolytically processed to generate alpha and beta subunits that are linked via disulfide bonds to form the mature receptor. Further processing of the beta subunit results in the formation of the M10 peptide, which has been shown to reduce lung fibrosis. Binding of its ligand, hepatocyte growth factor, induces dimerization and activation of the receptor, which plays a role in cellular survival, embryogenesis, and cellular migration and invasion. Mutations in this gene are associated with papillary renal cell carcinoma, hepatocellular carcinoma, and various head and neck cancers. Amplification and overexpression of this gene are also associated with multiple human cancers. [provided by RefSeq, May 2016]
A10: COTL1 | B10: 0 | C10: 1.9755597 | D10: 0 | E10: coactosin like F-actin binding protein 1 | F10: This gene encodes one of the numerous actin-binding proteins which regulate the actin cytoskeleton. This protein binds F-actin, and also interacts with 5-lipoxygenase, which is the first committed enzyme in leukotriene biosynthesis. Although this gene has been reported to map to chromosome 17 in the Smith-Magenis syndrome region, the best alignments for this gene are to chromosome 16. The Smith-Magenis syndrome region is the site of two related pseudogenes. [provided by RefSeq, Jul 2008]
A11: FABP3 | B11: 0 | C11: 2.0271524 | D11: 0 | E11: fatty acid binding protein 3 | F11: The intracellular fatty acid-binding proteins (FABPs) belongs to a multigene family. FABPs are divided into at least three distinct types, namely the hepatic-, intestinal- and cardiac-type. They form 14-15 kDa proteins and are thought to participate in the uptake, intracellular metabolism and/or transport of long-chain fatty acids. They may also be responsible in the modulation of cell growth and proliferation. Fatty acid-binding protein 3 gene contains four exons and its function is to arrest growth of mammary epithelial cells. This gene is a candidate tumor suppressor gene for human breast cancer. Alternative splicing results in multiple transcript variants. [provided by RefSeq, Mar 2016]
A12: XBP1 | B12: 0 | C12: 0.97465586 | D12: 0 | E12: X-box binding protein 1 | F12: This gene encodes a transcription factor that regulates MHC class II genes by binding to a promoter element referred to as an X box. This gene product is a bZIP protein, which was also identified as a cellular transcription factor that binds to an enhancer in the promoter of the T cell leukemia virus type 1 promoter. It may increase expression of viral proteins by acting as the DNA binding partner of a viral transactivator. It has been found that upon accumulation of unfolded proteins in the endoplasmic reticulum (ER), the mRNA of this gene is processed to an active form by an unconventional splicing mechanism that is mediated by the endonuclease inositol-requiring enzyme 1 (IRE1). The resulting loss of 26 nt from the spliced mRNA causes a frame-shift and an isoform XBP1(S), which is the functionally active transcription factor. The isoform encoded by the unspliced mRNA, XBP1(U), is constitutively expressed, and thought to function as a negative feedback regulator of XBP1(S), which shuts off transcription of target genes during the recovery phase of ER stress. A pseudogene of XBP1 has been identified and localized to chromosome 5. [provided by RefSeq, Jul 2008]
A13: IFNGR1 | B13: 0 | C13: 1.0472074 | D13: 0 | E13: interferon gamma receptor 1 | F13: This gene (IFNGR1) encodes the ligand-binding chain (alpha) of the gamma interferon receptor. Human interferon-gamma receptor is a heterodimer of IFNGR1 and IFNGR2. A genetic variation in IFNGR1 is associated with susceptibility to Helicobacter pylori infection. In addition, defects in IFNGR1 are a cause of mendelian susceptibility to mycobacterial disease, also known as familial disseminated atypical mycobacterial infection. [provided by RefSeq, Jul 2008]
... A151: IL10RA | B151: 0.0080045232 | C151: 0.22069857 | D151: 1 | E151: interleukin 10 receptor subunit alpha | F151: The protein encoded by this gene is a receptor for interleukin 10. This protein is structurally related to interferon receptors. It has been shown to mediate the immunosuppressive signal of interleukin 10, and thus inhibits the synthesis of proinflammatory cytokines. This receptor is reported to promote survival of progenitor myeloid cells through the insulin receptor substrate-2/PI 3-kinase/AKT pathway. Activation of this receptor leads to tyrosine phosphorylation of JAK1 and TYK2 kinases. Two transcript variants, one protein-coding and the other not protein-coding, have been found for this gene. [provided by RefSeq, Jan 2009]

Sheet Markers of C13_N_Prolif
A1: gene | B1: p_val | C1: avg_log2FC | D1: FDR | E1: gene.name | F1: gene.desc
A2: RGS5 | B2: 0 | C2: 4.4853421 | D2: 0 | E2: regulator of G protein signaling 5 | F2: This locus represents naturally occurring readthrough transcription between the neighboring LOC127814295 (uncharacterized LOC127814295) and RGS5 (regulator of G-protein signaling 5) genes on chromosome 1. Some variants of the readthrough transcript encode novel proteins with unique N-termini. [provided by RefSeq, Nov 2022]
A3: GLIPR2 | B3: 0 | C3: 1.9988215 | D3: 0 | E3: GLI pathogenesis related 2 | F3: Enables protein homodimerization activity. Involved in positive regulation of ERK1 and ERK2 cascade; positive regulation of epithelial cell migration; and positive regulation of epithelial to mesenchymal transition. Located in Golgi membrane. [provided by Alliance of Genome Resources, Apr 2022]
A4: IL1R1 | B4: 0 | C4: 2.7296952 | D4: 0 | E4: interleukin 1 receptor type 1 | F4: This gene encodes a cytokine receptor that belongs to the interleukin-1 receptor family. The encoded protein is a receptor for interleukin-1 alpha, interleukin-1 beta, and interleukin-1 receptor antagonist. It is an important mediator involved in many cytokine-induced immune and inflammatory responses. This gene is located in a cluster of related cytokine receptor genes on chromosome 2q12. [provided by RefSeq, Dec 2013]
A5: PLVAP | B5: 0 | C5: 3.1966934 | D5: 0 | E5: plasmalemma vesicle associated protein | F5: Predicted to enable identical protein binding activity. Involved in MAPK cascade; positive regulation of cellular extravasation; and tumor necrosis factor-mediated signaling pathway. Located in cell surface. Colocalizes with caveola. Implicated in congenital diarrhea. [provided by Alliance of Genome Resources, Apr 2022]
A6: ID4 | B6: 0 | C6: 1.7677992 | D6: 0 | E6: inhibitor of DNA binding 4 | F6: This gene encodes a member of the inhibitor of DNA binding (ID) protein family. The encoded protein lacks DNA binding ability, and instead regulates gene expression through binding to and inhibiting basic helix-loop-helix transcription factors. This protein has been implicated in the regulation of diverse cellular processes that play a role in development and tumorigenesis. [provided by RefSeq, Aug 2017]
A7: EPCAM | B7: 0 | C7: 0.75417397 | D7: 0 | E7: epithelial cell adhesion molecule | F7: This gene encodes a carcinoma-associated antigen and is a member of a family that includes at least two type I membrane proteins. This antigen is expressed on most normal epithelial cells and gastrointestinal carcinomas and functions as a homotypic calcium-independent cell adhesion molecule. The antigen is being used as a target for immunotherapy treatment of human carcinomas. Mutations in this gene result in congenital tufting enteropathy. [provided by RefSeq, Dec 2008]
A8: ORC6 | B8: 0 | C8: 1.1417117 | D8: 0 | E8: origin recognition complex subunit 6 | F8: The origin recognition complex (ORC) is a highly conserved six subunit protein complex essential for the initiation of the DNA replication in eukaryotic cells. Studies in yeast demonstrated that ORC binds specifically to origins of replication and serves as a platform for the assembly of additional initiation factors such as Cdc6 and Mcm proteins. The protein encoded by this gene is a subunit of the ORC complex. Gene silencing studies with small interfering RNA demonstrated that this protein plays an essential role in coordinating chromosome replication and segregation with cytokinesis. [provided by RefSeq, Oct 2010]
A9: CENPV | B9: 0 | C9: 0.96112433 | D9: 0 | E9: centromere protein V | F9: Predicted to enable carbon-sulfur lyase activity and metal ion binding activity. Involved in pericentric heterochromatin assembly; positive regulation of cytokinesis; and regulation of chromosome organization. Acts upstream of or within ameboidal-type cell migration. Located in several cellular components, including midbody; nucleus; and spindle midzone. [provided by Alliance of Genome Resources, Apr 2022]
A10: IGFBP7 | B10: 0 | C10: 0.71627624 | D10: 0 | E10: insulin like growth factor binding protein 7 | F10: This gene encodes a member of the insulin-like growth factor (IGF)-binding protein (IGFBP) family. IGFBPs bind IGFs with high affinity, and regulate IGF availability in body fluids and tissues and modulate IGF binding to its receptors. This protein binds IGF-I and IGF-II with relatively low affinity, and belongs to a subfamily of low-affinity IGFBPs. It also stimulates prostacyclin production and cell adhesion. Alternatively spliced transcript variants encoding different isoforms have been described for this gene, and one variant has been associated with retinal arterial macroaneurysm (PMID:21835307). [provided by RefSeq, Dec 2011]
A11: XBP1 | B11: 0 | C11: 1.1153586 | D11: 0 | E11: X-box binding protein 1 | F11: This gene encodes a transcription factor that regulates MHC class II genes by binding to a promoter element referred to as an X box. This gene product is a bZIP protein, which was also identified as a cellular transcription factor that binds to an enhancer in the promoter of the T cell leukemia virus type 1 promoter. It may increase expression of viral proteins by acting as the DNA binding partner of a viral transactivator. It has been found that upon accumulation of unfolded proteins in the endoplasmic reticulum (ER), the mRNA of this gene is processed to an active form by an unconventional splicing mechanism that is mediated by the endonuclease inositol-requiring enzyme 1 (IRE1). The resulting loss of 26 nt from the spliced mRNA causes a frame-shift and an isoform XBP1(S), which is the functionally active transcription factor. The isoform encoded by the unspliced mRNA, XBP1(U), is constitutively expressed, and thought to function as a negative feedback regulator of XBP1(S), which shuts off transcription of target genes during the recovery phase of ER stress. A pseudogene of XBP1 has been identified and localized to chromosome 5. [provided by RefSeq, Jul 2008]
A12: KIT | B12: 0 | C12: 1.3295064 | D12: 0 | E12: KIT proto-oncogene, receptor tyrosine kinase | F12: This gene encodes a receptor tyrosine kinase. This gene was initially identified as a homolog of the feline sarcoma viral oncogene v-kit and is often referred to as proto-oncogene c-Kit. The canonical form of this glycosylated transmembrane protein has an N-terminal extracellular region with five immunoglobulin-like domains, a transmembrane region, and an intracellular tyrosine kinase domain at the C-terminus. Upon activation by its cytokine ligand, stem cell factor (SCF), this protein phosphorylates multiple intracellular proteins that play a role in in the proliferation, differentiation, migration and apoptosis of many cell types and thereby plays an important role in hematopoiesis, stem cell maintenance, gametogenesis, melanogenesis, and in mast cell development, migration and function. This protein can be a membrane-bound or soluble protein. Mutations in this gene are associated with gastrointestinal stromal tumors, mast cell disease, acute myelogenous leukemia, and piebaldism. Multiple transcript variants encoding different isoforms have been found for this gene. [provided by RefSeq, May 2020]
A13: CDK1 | B13: 0 | C13: 1.099362 | D13: 0 | E13: cyclin dependent kinase 1 | F13: The protein encoded by this gene is a member of the Ser/Thr protein kinase family. This protein is a catalytic subunit of the highly conserved protein kinase complex known as M-phase promoting factor (MPF), which is essential for G2/M phase transitions of eukaryotic cell cycle. Mitotic cyclins stably associate with this protein and function as regulatory subunits. The kinase activity of this protein is controlled by cyclin accumulation and destruction through the cell cycle. The phosphorylation and dephosphorylation of this protein also play important regulatory roles in cell cycle control. Alternatively spliced transcript variants encoding different isoforms have been found for this gene. [provided by RefSeq, May 2023]
... A74: CDX1 | B74: 2.4679167e-16 | C74: 0.25372888 | D74: 9.3780834e-14 | E74: caudal type homeobox 1 | F74: This gene is a member of the caudal-related homeobox transcription factor gene family. The encoded DNA-binding protein regulates intestine-specific gene expression and enterocyte differentiation. It has been shown to induce expression of the intestinal alkaline phosphatase gene, and inhibit beta-catenin/T-cell factor transcriptional activity. [provided by RefSeq, Jul 2008]

Sheet Markers of C14_S
A1: gene | B1: p_val | C1: avg_log2FC | D1: FDR | E1: gene.name | F1: gene.desc
A2: KIT | B2: 0 | C2: 4.6119123 | D2: 0 | E2: KIT proto-oncogene, receptor tyrosine kinase | F2: This gene encodes a receptor tyrosine kinase. This gene was initially identified as a homolog of the feline sarcoma viral oncogene v-kit and is often referred to as proto-oncogene c-Kit. The canonical form of this glycosylated transmembrane protein has an N-terminal extracellular region with five immunoglobulin-like domains, a transmembrane region, and an intracellular tyrosine kinase domain at the C-terminus. Upon activation by its cytokine ligand, stem cell factor (SCF), this protein phosphorylates multiple intracellular proteins that play a role in in the proliferation, differentiation, migration and apoptosis of many cell types and thereby plays an important role in hematopoiesis, stem cell maintenance, gametogenesis, melanogenesis, and in mast cell development, migration and function. This protein can be a membrane-bound or soluble protein. Mutations in this gene are associated with gastrointestinal stromal tumors, mast cell disease, acute myelogenous leukemia, and piebaldism. Multiple transcript variants encoding different isoforms have been found for this gene. [provided by RefSeq, May 2020]
A3: ERBB3 | B3: 0 | C3: 2.4726294 | D3: 0 | E3: erb-b2 receptor tyrosine kinase 3 | F3: This gene encodes a member of the epidermal growth factor receptor (EGFR) family of receptor tyrosine kinases. This membrane-bound protein has a neuregulin binding domain but not an active kinase domain. It therefore can bind this ligand but not convey the signal into the cell through protein phosphorylation. However, it does form heterodimers with other EGF receptor family members which do have kinase activity. Heterodimerization leads to the activation of pathways which lead to cell proliferation or differentiation. Amplification of this gene and/or overexpression of its protein have been reported in numerous cancers, including prostate, bladder, and breast tumors. Alternate transcriptional splice variants encoding different isoforms have been characterized. One isoform lacks the intermembrane region and is secreted outside the cell. This form acts to modulate the activity of the membrane-bound form. Additional splice variants have also been reported, but they have not been thoroughly characterized. [provided by RefSeq, Jul 2008]
A4: S100B | B4: 0 | C4: 2.6388605 | D4: 0 | E4: S100 calcium binding protein B | F4: The protein encoded by this gene is a member of the S100 family of proteins containing 2 EF-hand calcium-binding motifs. S100 proteins are localized in the cytoplasm and/or nucleus of a wide range of cells, and involved in the regulation of a number of cellular processes such as cell cycle progression and differentiation. S100 genes include at least 13 members which are located as a cluster on chromosome 1q21; however, this gene is located at 21q22.3. This protein may function in Neurite extension, proliferation of melanoma cells, stimulation of Ca2+ fluxes, inhibition of PKC-mediated phosphorylation, astrocytosis and axonal proliferation, and inhibition of microtubule assembly. Chromosomal rearrangements and altered expression of this gene have been implicated in several neurological, neoplastic, and other types of diseases, including Alzheimer's disease, Down's syndrome, epilepsy, amyotrophic lateral sclerosis, melanoma, and type I diabetes. [provided by RefSeq, Jul 2008]
A5: CDK2 | B5: 0 | C5: 1.0805365 | D5: 0 | E5: cyclin dependent kinase 2 | F5: This gene encodes a member of a family of serine/threonine protein kinases that participate in cell cycle regulation. The encoded protein is the catalytic subunit of the cyclin-dependent protein kinase complex, which regulates progression through the cell cycle. Activity of this protein is especially critical during the G1 to S phase transition. This protein associates with and regulated by other subunits of the complex including cyclin A or E, CDK inhibitor p21Cip1 (CDKN1A), and p27Kip1 (CDKN1B). Alternative splicing results in multiple transcript variants. [provided by RefSeq, Mar 2014]
A6: SYK | B6: 0 | C6: 2.6269809 | D6: 0 | E6: spleen associated tyrosine kinase | F6: This gene encodes a member of the family of non-receptor type Tyr protein kinases. This protein is widely expressed in hematopoietic cells and is involved in coupling activated immunoreceptors to downstream signaling events that mediate diverse cellular responses, including proliferation, differentiation, and phagocytosis. It is thought to be a modulator of epithelial cell growth and a potential tumour suppressor in human breast carcinomas. Alternatively spliced transcript variants encoding different isoforms have been found for this gene. [provided by RefSeq, Mar 2010]
A7: CENPF | B7: 0 | C7: 0.76617506 | D7: 0 | E7: centromere protein F | F7: This gene encodes a protein that associates with the centromere-kinetochore complex. The protein is a component of the nuclear matrix during the G2 phase of interphase. In late G2 the protein associates with the kinetochore and maintains this association through early anaphase. It localizes to the spindle midzone and the intracellular bridge in late anaphase and telophase, respectively, and is thought to be subsequently degraded. The localization of this protein suggests that it may play a role in chromosome segregation during mitotis. It is thought to form either a homodimer or heterodimer. Autoantibodies against this protein have been found in patients with cancer or graft versus host disease. [provided by RefSeq, Jul 2008]
A8: FEZ1 | B8: 0 | C8: 1.3277599 | D8: 0 | E8: fasciculation and elongation protein zeta 1 | F8: This gene is an ortholog of the C. elegans unc-76 gene, which is necessary for normal axonal bundling and elongation within axon bundles. Expression of this gene in C. elegans unc-76 mutants can restore to the mutants partial locomotion and axonal fasciculation, suggesting that it also functions in axonal outgrowth. The N-terminal half of the gene product is highly acidic. Alternatively spliced transcript variants encoding different isoforms of this protein have been described. [provided by RefSeq, Jul 2008]
A9: CD44 | B9: 0 | C9: 0.95599853 | D9: 0 | E9: CD44 molecule (IN blood group) | F9: The protein encoded by this gene is a cell-surface glycoprotein involved in cell-cell interactions, cell adhesion and migration. It is a receptor for hyaluronic acid (HA) and can also interact with other ligands, such as osteopontin, collagens, and matrix metalloproteinases (MMPs). This protein participates in a wide variety of cellular functions including lymphocyte activation, recirculation and homing, hematopoiesis, and tumor metastasis. Transcripts for this gene undergo complex alternative splicing that results in many functionally distinct isoforms, however, the full length nature of some of these variants has not been determined. Alternative splicing is the basis for the structural and functional diversity of this protein, and may be related to tumor metastasis. [provided by RefSeq, Jul 2008]
A10: A2M | B10: 0 | C10: 3.5814183 | D10: 0 | E10: alpha-2-macroglobulin | F10: The protein encoded by this gene is a protease inhibitor and cytokine transporter. It uses a bait-and-trap mechanism to inhibit a broad spectrum of proteases, including trypsin, thrombin and collagenase. It can also inhibit inflammatory cytokines, and it thus disrupts inflammatory cascades. Mutations in this gene are a cause of alpha-2-macroglobulin deficiency. This gene is implicated in Alzheimer's disease (AD) due to its ability to mediate the clearance and degradation of A-beta, the major component of beta-amyloid deposits. A related pseudogene, which is also located on the p arm of chromosome 12, has been identified. [provided by RefSeq, Nov 2016]
A11: CD4 | B11: 0 | C11: 2.5348803 | D11: 0 | E11: CD4 molecule | F11: This gene encodes the CD4 membrane glycoprotein of T lymphocytes. The CD4 antigen acts as a coreceptor with the T-cell receptor on the T lymphocyte to recognize antigens displayed by an antigen presenting cell in the context of class II MHC molecules. The CD4 antigen is also a primary receptor for entry of the human immunodeficiency virus through interactions with the HIV Env gp120 subunit. This gene is expressed not only in T lymphocytes, but also in B cells, macrophages, granulocytes, as well as in various regions of the brain. The protein functions to initiate or augment the early phase of T-cell activation, and may function as an important mediator of indirect neuronal damage in infectious and immune-mediated diseases of the central nervous system. Multiple alternatively spliced transcript variants encoding different isoforms have been identified in this gene. [provided by RefSeq, May 2020]
A12: CDK4 | B12: 0 | C12: 0.62807563 | D12: 0 | E12: cyclin dependent kinase 4 | F12: The protein encoded by this gene is a member of the Ser/Thr protein kinase family. This protein is highly similar to the gene products of S. cerevisiae cdc28 and S. pombe cdc2. It is a catalytic subunit of the protein kinase complex that is important for cell cycle G1 phase progression. The activity of this kinase is restricted to the G1-S phase, which is controlled by the regulatory subunits D-type cyclins and CDK inhibitor p16(INK4a). This kinase was shown to be responsible for the phosphorylation of retinoblastoma gene product (Rb). Mutations in this gene as well as in its related proteins including D-type cyclins, p16(INK4a) and Rb were all found to be associated with tumorigenesis of a variety of cancers. Multiple polyadenylation sites of this gene have been reported. [provided by RefSeq, Jul 2008]
A13: CCND1 | B13: 0 | C13: 0.51900661 | D13: 0 | E13: cyclin D1 | F13: The protein encoded by this gene belongs to the highly conserved cyclin family, whose members are characterized by a dramatic periodicity in protein abundance throughout the cell cycle. Cyclins function as regulators of CDK kinases. Different cyclins exhibit distinct expression and degradation patterns which contribute to the temporal coordination of each mitotic event. This cyclin forms a complex with and functions as a regulatory subunit of CDK4 or CDK6, whose activity is required for cell cycle G1/S transition. This protein has been shown to interact with tumor suppressor protein Rb and the expression of this gene is regulated positively by Rb. Mutations, amplification and overexpression of this gene, which alters cell cycle progression, are observed frequently in a variety of human cancers. [provided by RefSeq, Dec 2019]
... A67: DUSP2 | B67: 0.00080428972 | C67: 0.24855047 | D67: 0.30563009 | E67: dual specificity phosphatase 2 | F67: The protein encoded by this gene is a member of the dual specificity protein phosphatase subfamily. These phosphatases inactivate their target kinases by dephosphorylating both the phosphoserine/threonine and phosphotyrosine residues. They negatively regulate members of the mitogen-activated protein (MAP) kinase superfamily (MAPK/ERK, SAPK/JNK, p38), which are associated with cellular proliferation and differentiation. Different members of the family of dual specificity phosphatases show distinct substrate specificities for various MAP kinases, different tissue distribution and subcellular localization, and different modes of inducibility of their expression by extracellular stimuli. This gene product inactivates ERK1 and ERK2, is predominantly expressed in hematopoietic tissues, and is localized in the nucleus. [provided by RefSeq, Jul 2008]

Sheet Markers of C15_Endo
A1: gene | B1: p_val | C1: avg_log2FC | D1: FDR | E1: gene.name | F1: gene.desc
A2: FLT1 | B2: 0 | C2: 5.0071585 | D2: 0 | E2: fms related receptor tyrosine kinase 1 | F2: This gene encodes a member of the vascular endothelial growth factor receptor (VEGFR) family. VEGFR family members are receptor tyrosine kinases (RTKs) which contain an extracellular ligand-binding region with seven immunoglobulin (Ig)-like domains, a transmembrane segment, and a tyrosine kinase (TK) domain within the cytoplasmic domain. This protein binds to VEGFR-A, VEGFR-B and placental growth factor and plays an important role in angiogenesis and vasculogenesis. Expression of this receptor is found in vascular endothelial cells, placental trophoblast cells and peripheral blood monocytes. Multiple transcript variants encoding different isoforms have been found for this gene. Isoforms include a full-length transmembrane receptor isoform and shortened, soluble isoforms. The soluble isoforms are associated with the onset of pre-eclampsia.[provided by RefSeq, May 2009]
A3: PLVAP | B3: 0 | C3: 4.8514246 | D3: 0 | E3: plasmalemma vesicle associated protein | F3: Predicted to enable identical protein binding activity. Involved in MAPK cascade; positive regulation of cellular extravasation; and tumor necrosis factor-mediated signaling pathway. Located in cell surface. Colocalizes with caveola. Implicated in congenital diarrhea. [provided by Alliance of Genome Resources, Apr 2022]
A4: ENTPD1 | B4: 0 | C4: 3.8661714 | D4: 0 | E4: ectonucleoside triphosphate diphosphohydrolase 1 | F4: The protein encoded by this gene is a plasma membrane protein that hydrolyzes extracellular ATP and ADP to AMP. Inhibition of this protein's activity may confer anticancer benefits. Several transcript variants encoding different isoforms have been found for this gene. [provided by RefSeq, Aug 2015]
A5: CXCR4 | B5: 0 | C5: 3.8122531 | D5: 0 | E5: C-X-C motif chemokine receptor 4 | F5: This gene encodes a CXC chemokine receptor specific for stromal cell-derived factor-1. The protein has 7 transmembrane regions and is located on the cell surface. It acts with the CD4 protein to support HIV entry into cells and is also highly expressed in breast cancer cells. Mutations in this gene have been associated with WHIM (warts, hypogammaglobulinemia, infections, and myelokathexis) syndrome. Alternate transcriptional splice variants, encoding different isoforms, have been characterized. [provided by RefSeq, Jul 2008]
A6: TGFB1 | B6: 0 | C6: 1.8524981 | D6: 0 | E6: transforming growth factor beta 1 | F6: This gene encodes a secreted ligand of the TGF-beta (transforming growth factor-beta) superfamily of proteins. Ligands of this family bind various TGF-beta receptors leading to recruitment and activation of SMAD family transcription factors that regulate gene expression. The encoded preproprotein is proteolytically processed to generate a latency-associated peptide (LAP) and a mature peptide, and is found in either a latent form composed of a mature peptide homodimer, a LAP homodimer, and a latent TGF-beta binding protein, or in an active form consisting solely of the mature peptide homodimer. The mature peptide may also form heterodimers with other TGFB family members. This encoded protein regulates cell proliferation, differentiation and growth, and can modulate expression and activation of other growth factors including interferon gamma and tumor necrosis factor alpha. This gene is frequently upregulated in tumor cells, and mutations in this gene result in Camurati-Engelmann disease. [provided by RefSeq, Aug 2016]
A7: SOX17 | B7: 0 | C7: 3.8039574 | D7: 0 | E7: SRY-box transcription factor 17 | F7: This gene encodes a member of the SOX (SRY-related HMG-box) family of transcription factors involved in the regulation of embryonic development and in the determination of the cell fate. The encoded protein may act as a transcriptional regulator after forming a protein complex with other proteins. [provided by RefSeq, Jul 2008]
A8: RGS5 | B8: 0 | C8: 1.106168 | D8: 0 | E8: regulator of G protein signaling 5 | F8: This locus represents naturally occurring readthrough transcription between the neighboring LOC127814295 (uncharacterized LOC127814295) and RGS5 (regulator of G-protein signaling 5) genes on chromosome 1. Some variants of the readthrough transcript encode novel proteins with unique N-termini. [provided by RefSeq, Nov 2022]
A9: GATA3 | B9: 0 | C9: 0.74957787 | D9: 0 | E9: GATA binding protein 3 | F9: This gene encodes a protein which belongs to the GATA family of transcription factors. The protein contains two GATA-type zinc fingers and is an important regulator of T-cell development and plays an important role in endothelial cell biology. Defects in this gene are the cause of hypoparathyroidism with sensorineural deafness and renal dysplasia. [provided by RefSeq, Nov 2009]
