Workbook

Sheet Contents
A1: Additional file 1. Search strategy, methodological quality, and data audit
A2: Contents
A4: Table | B4: Table title | C4: Sheet | D4: Category
A5: Table S1 | B5: Electronic database search strategies | C5: Database_Search_Strategies | D5: Search strategy
A6: Table S2 | B6: PEDro methodological quality assessment of included studies | C6: PEDro_Assessment | D6: Methodological quality
A7: Table S3 | B7: Study quality summary based on PEDro scores | C7: PEDro_Quality_Summary | D7: Methodological quality
A8: Table S4 | B8: Dataset audit summary for the final 37-study comparison-level dataset | C8: Comparison_Dataset_Audit | D8: Dataset audit

Sheet Database_Search_Strategies
A1: Table S1. Electronic database search strategies
A3: Database | B3: Search strategy
A4: Scopus | B4: TITLE-ABS-KEY( swim* OR swimmer* OR "swimming athlete*" OR "competitive swimmer*" OR "elite swimmer*" OR "trained swimmer*" OR "colleg* swimmer*" ) AND TITLE-ABS-KEY( "dry land" OR dryland OR "dry-land" OR "land-based" OR "land based" OR "land training" OR "strength training" OR "resistance training" OR "weight training" OR "strength and conditioning" OR "plyometric training" ) AND NOT TITLE-ABS-KEY( review OR "systematic review" OR meta-analysis OR metaanalysis )
A5: Web of Science Core Collection | B5: TS=( swim* OR swimmer* OR "swimming athlete*" OR "competitive swimmer*" OR "elite swimmer*" OR "trained swimmer*" OR "colleg* swimmer*" ) AND TS=( "dry land" OR dryland OR "dry-land" OR "land-based" OR "land based" OR "land training" OR "strength training" OR "resistance training" OR "weight training" OR "strength and conditioning" OR "plyometric training" ) NOT TS=( review OR "systematic review" OR meta-analysis OR metaanalysis )
A6: PubMed | B6: ( "Swimming"[Mesh] OR swim*[tiab] OR swimmer*[tiab] OR "swimming athlete*"[tiab] OR "competitive swimmer*"[tiab] OR "elite swimmer*"[tiab] OR "trained swimmer*"[tiab] OR "colleg* swimmer*"[tiab] ) AND ( "dry land"[tiab] OR dryland[tiab] OR "dry-land"[tiab] OR "land-based"[tiab] OR "land based"[tiab] OR "land training"[tiab] OR "strength training"[tiab] OR "resistance training"[tiab] OR "weight training"[tiab] OR "strength and conditioning"[tiab] OR "plyometric training"[tiab] OR "Resistance Training"[Mesh] OR "Weight Lifting"[Mesh] OR "Plyometric Exercise"[Mesh] ) NOT ( review[pt] OR "systematic review"[pt] OR meta-analysis[pt] OR "systematic review"[tiab] OR meta-analysis[tiab] OR metaanalysis[tiab] OR review[tiab] )
A7: Embase | B7: ( swim*:ti,ab,kw OR swimmer*:ti,ab,kw OR "swimming athlete*":ti,ab,kw OR "competitive swimmer*":ti,ab,kw OR "elite swimmer*":ti,ab,kw OR "trained swimmer*":ti,ab,kw OR "colleg* swimmer*":ti,ab,kw OR 'swimming'/exp ) AND ( "dry land":ti,ab,kw OR dryland:ti,ab,kw OR "dry-land":ti,ab,kw OR "land-based":ti,ab,kw OR "land based":ti,ab,kw OR "land training":ti,ab,kw OR "strength training":ti,ab,kw OR "resistance training":ti,ab,kw OR "weight training":ti,ab,kw OR "strength and conditioning":ti,ab,kw OR "plyometric training":ti,ab,kw OR 'strength training'/exp OR 'resistance training'/exp )
A8: ProQuest | B8: TI,AB( swim* OR swimmer* OR "swimming athlete*" OR "competitive swimmer*" OR "elite swimmer*" OR "trained swimmer*" OR colleg* ) AND TI,AB( "dry land" OR dryland OR "dry-land" OR "land-based" OR "land based" OR "land training" OR "strength training" OR "resistance training" OR "weight training" OR "strength and conditioning" OR "plyometric training" ) NOT TI,AB( review OR "systematic review" OR meta-analysis OR metaanalysis OR "meta analysis" )
A9: Cochrane Library | B9: (swim* OR swimmer* OR "swimming athlete*" OR "competitive swimmer*" OR "elite swimmer*" OR "trained swimmer*" OR colleg*) AND ("dry land" OR dryland OR "dry-land" OR "land-based" OR "land based" OR "land training" OR "strength training" OR "resistance training" OR "weight training" OR "strength and conditioning" OR "plyometric training") NOT (review OR "systematic review" OR meta-analysis OR metaanalysis OR "meta analysis")
A10: SAGE Journals | B10: (swim* OR swimmer* OR "swimming athlete*" OR "competitive swimmer*" OR "elite swimmer*" OR "trained swimmer*" OR colleg*) AND ("dry land" OR dryland OR "dry-land" OR "land-based" OR "land based" OR "land training" OR "strength training" OR "resistance training" OR "weight training" OR "strength and conditioning" OR "plyometric training") NOT (review OR "systematic review" OR meta-analysis OR metaanalysis OR "meta analysis")
A11: EBSCO-SportDiscus | B11: ( TI(swim* OR swimmer* OR "swimming athlete*" OR "competitive swimmer*" OR "elite swimmer*" OR "trained swimmer*" OR colleg*) OR AB(swim* OR swimmer* OR "swimming athlete*" OR "competitive swimmer*" OR "elite swimmer*" OR "trained swimmer*" OR colleg*) ) AND ( TI("dry land" OR dryland OR "dry-land" OR "land-based" OR "land based" OR "land training" OR "strength training" OR "resistance training" OR "weight training" OR "strength and conditioning" OR "plyometric training") OR AB("dry land" OR dryland OR "dry-land" OR "land-based" OR "land based" OR "land training" OR "strength training" OR "resistance training" OR "weight training" OR "strength and conditioning" OR "plyometric training") ) NOT ( TI(review OR "systematic review" OR meta-analysis OR metaanalysis OR "meta analysis") OR AB(review OR "systematic review" OR meta-analysis OR metaanalysis OR "meta analysis") )

Sheet PEDro_Assessment
A1: Table S2. PEDro methodological quality assessment of included studies
A3: author | B3: intervention_type | C3: PEDro1_Eligibility(N/A) | D3: PEDro2_Random_allocation | E3: PEDro3_Concealed_allocation | F3: PEDro4_Baseline_comparable | G3: PEDro5_Blinding_subjects | H3: PEDro6_Blinding_therapists | I3: PEDro7_Blinding_assessors | J3: PEDro8_Adequate_followup(>=85%) | K3: PEDro9_ITT_analysis | L3: PEDro10_Between_group_comparisons | M3: PEDro11_Point_estimates&variability | N3: PEDro_Total(0-10) | O3: Quality_grade(High>=7/Moderate5-6/Low<=4) | P3: Notes
A4: Patil et al, 2014 | B4: core training | C4: 1 | D4: 1 | E4: 0 | F4: 1 | G4: 0 | H4: 0 | I4: 0 | J4: 1 | K4: 1 | L4: 1 | M4: 1 | N4: 6 | O4: Moderate
A5: Weston et al, 2015 | B5: core training | C5: 1 | D5: 0 | E5: 0 | F5: 1 | G5: 0 | H5: 0 | I5: 0 | J5: 1 | K5: 1 | L5: 1 | M5: 1 | N5: 5 | O5: Moderate
A6: Gönener et al, 2017 | B6: core training | C6: 1 | D6: 1 | E6: 0 | F6: 1 | G6: 0 | H6: 0 | I6: 0 | J6: 1 | K6: 1 | L6: 1 | M6: 1 | N6: 6 | O6: Moderate
A7: Gencer et al,2018 | B7: core training | C7: 1 | D7: 0 | E7: 0 | F7: 1 | G7: 0 | H7: 0 | I7: 0 | J7: 1 | K7: 0 | L7: 1 | M7: 1 | N7: 4 | O7: Low
A8: Darchini et al, 2019 | B8: core training | C8: 1 | D8: 1 | E8: 0 | F8: 1 | G8: 0 | H8: 0 | I8: 0 | J8: 1 | K8: 1 | L8: 1 | M8: 1 | N8: 6 | O8: Moderate
A9: Sarikaya et al, 2019 | B9: core training | C9: 1 | D9: 0 | E9: 0 | F9: 1 | G9: 0 | H9: 0 | I9: 0 | J9: 1 | K9: 0 | L9: 1 | M9: 1 | N9: 4 | O9: Low
A10: Eskiyecek et al, 2020 | B10: core training | C10: 1 | D10: 1 | E10: 0 | F10: 1 | G10: 0 | H10: 0 | I10: 0 | J10: 1 | K10: 1 | L10: 1 | M10: 1 | N10: 6 | O10: Moderate
A11: Gül et al, 2020 | B11: core training | C11: 1 | D11: 1 | E11: 0 | F11: 1 | G11: 0 | H11: 0 | I11: 0 | J11: 1 | K11: 1 | L11: 1 | M11: 1 | N11: 6 | O11: Moderate
A12: Karpiński et al, 2020 | B12: core training | C12: 1 | D12: 1 | E12: 0 | F12: 1 | G12: 0 | H12: 0 | I12: 0 | J12: 1 | K12: 1 | L12: 1 | M12: 1 | N12: 6 | O12: Moderate
A13: Marani et al, 2020 | B13: core training | C13: 1 | D13: 1 | E13: 0 | F13: 1 | G13: 0 | H13: 0 | I13: 0 | J13: 1 | K13: 1 | L13: 1 | M13: 1 | N13: 6 | O13: Moderate
A14: Khiyami et al, 2022 | B14: core training | C14: 1 | D14: 1 | E14: 0 | F14: 1 | G14: 0 | H14: 0 | I14: 0 | J14: 0 | K14: 1 | L14: 1 | M14: 1 | N14: 5 | O14: Moderate
A15: Kurt et al, 2023 | B15: core training | C15: 1 | D15: 1 | E15: 0 | F15: 1 | G15: 0 | H15: 0 | I15: 0 | J15: 1 | K15: 1 | L15: 1 | M15: 1 | N15: 6 | O15: Moderate
... A40: Norberto et al, 2023 | B40: resistance training | C40: 1 | D40: 1 | E40: 0 | F40: 1 | G40: 0 | H40: 0 | I40: 0 | J40: 1 | K40: 1 | L40: 1 | M40: 1 | N40: 6 | O40: Moderate

Sheet PEDro_Quality_Summary
A1: Table S3. Study quality summary based on PEDro scores
A3: Overall summary | B3: Value
A4: Number of included studies | B4: =COUNTA(PEDro_Assessment!A4:A40) -> 37
A5: Mean PEDro score | B5: =AVERAGE(PEDro_Assessment!N4:N40) -> 5.5405405
A6: Minimum PEDro score | B6: =MIN(PEDro_Assessment!N4:N40) -> 4
A7: Maximum PEDro score | B7: =MAX(PEDro_Assessment!N4:N40) -> 6
A8: High quality studies | B8: =COUNTIF(PEDro_Assessment!O4:O40,"High") -> 0
A9: Moderate quality studies | B9: =COUNTIF(PEDro_Assessment!O4:O40,"Moderate") -> 33
A10: Low quality studies | B10: =COUNTIF(PEDro_Assessment!O4:O40,"Low") -> 4
A13: Summary by training modality | B13: Studies | C13: Mean PEDro score | D13: High | E13: Moderate | F13: Low
A14: Core training | B14: =COUNTIF(PEDro_Assessment!B4:B40,"core training") -> 14 | C14: =AVERAGEIF(PEDro_Assessment!B4:B40,"core training",PEDro_Assessment!N4:N40) -> 5.5714286 | D14: =COUNTIFS(PEDro_Assessment!B4:B40,"core training",PEDro_Assessment!O4:O40,"High") -> 0 | E14: =COUNTIFS(PEDro_Assessment!B4:B40,"core training",PEDro_Assessment!O4:O40,"Moderate") -> 12 | F14: =COUNTIFS(PEDro_Assessment!B4:B40,"core training",PEDro_Assessment!O4:O40,"Low") -> 2
A15: Plyometric training | B15: =COUNTIF(PEDro_Assessment!B4:B40,"plyometric training") -> 8 | C15: =AVERAGEIF(PEDro_Assessment!B4:B40,"plyometric training",PEDro_Assessment!N4:N40) -> 5.75 | D15: =COUNTIFS(PEDro_Assessment!B4:B40,"plyometric training",PEDro_Assessment!O4:O40,"High") -> 0 | E15: =COUNTIFS(PEDro_Assessment!B4:B40,"plyometric training",PEDro_Assessment!O4:O40,"Moderate") -> 8 | F15: =COUNTIFS(PEDro_Assessment!B4:B40,"plyometric training",PEDro_Assessment!O4:O40,"Low") -> 0
A16: Resistance training | B16: =COUNTIF(PEDro_Assessment!B4:B40,"resistance training") -> 15 | C16: =AVERAGEIF(PEDro_Assessment!B4:B40,"resistance training",PEDro_Assessment!N4:N40) -> 5.4 | D16: =COUNTIFS(PEDro_Assessment!B4:B40,"resistance training",PEDro_Assessment!O4:O40,"High") -> 0 | E16: =COUNTIFS(PEDro_Assessment!B4:B40,"resistance training",PEDro_Assessment!O4:O40,"Moderate") -> 13 | F16: =COUNTIFS(PEDro_Assessment!B4:B40,"resistance training",PEDro_Assessment!O4:O40,"Low") -> 2
A18: PEDro item-level positive ratings | B18: Positive / total | C18: Positive n | D18: Total n
A19: PEDro1_Eligibility(N/A) | B19: =C19&" / "&D19 -> 37 / 37 | C19: =SUM(PEDro_Assessment!C4:C40) -> 37 | D19: =COUNTA(PEDro_Assessment!A4:A40) -> 37
A20: PEDro2_Random_allocation | B20: =C20&" / "&D20 -> 25 / 37 | C20: =SUM(PEDro_Assessment!D4:D40) -> 25 | D20: =COUNTA(PEDro_Assessment!A4:A40) -> 37
A21: PEDro3_Concealed_allocation | B21: =C21&" / "&D21 -> 0 / 37 | C21: =SUM(PEDro_Assessment!E4:E40) -> 0 | D21: =COUNTA(PEDro_Assessment!A4:A40) -> 37
A22: PEDro4_Baseline_comparable | B22: =C22&" / "&D22 -> 37 / 37 | C22: =SUM(PEDro_Assessment!F4:F40) -> 37 | D22: =COUNTA(PEDro_Assessment!A4:A40) -> 37
A23: PEDro5_Blinding_subjects | B23: =C23&" / "&D23 -> 0 / 37 | C23: =SUM(PEDro_Assessment!G4:G40) -> 0 | D23: =COUNTA(PEDro_Assessment!A4:A40) -> 37
A24: PEDro6_Blinding_therapists | B24: =C24&" / "&D24 -> 0 / 37 | C24: =SUM(PEDro_Assessment!H4:H40) -> 0 | D24: =COUNTA(PEDro_Assessment!A4:A40) -> 37
A25: PEDro7_Blinding_assessors | B25: =C25&" / "&D25 -> 0 / 37 | C25: =SUM(PEDro_Assessment!I4:I40) -> 0 | D25: =COUNTA(PEDro_Assessment!A4:A40) -> 37
A26: PEDro8_Adequate_followup(>=85%) | B26: =C26&" / "&D26 -> 34 / 37 | C26: =SUM(PEDro_Assessment!J4:J40) -> 34 | D26: =COUNTA(PEDro_Assessment!A4:A40) -> 37
A27: PEDro9_ITT_analysis | B27: =C27&" / "&D27 -> 35 / 37 | C27: =SUM(PEDro_Assessment!K4:K40) -> 35 | D27: =COUNTA(PEDro_Assessment!A4:A40) -> 37
A28: PEDro10_Between_group_comparisons | B28: =C28&" / "&D28 -> 37 / 37 | C28: =SUM(PEDro_Assessment!L4:L40) -> 37 | D28: =COUNTA(PEDro_Assessment!A4:A40) -> 37
A29: PEDro11_Point_estimates&variability | B29: =C29&" / "&D29 -> 37 / 37 | C29: =SUM(PEDro_Assessment!M4:M40) -> 37 | D29: =COUNTA(PEDro_Assessment!A4:A40) -> 37

Sheet Comparison_Dataset_Audit
A1: Table S4. Dataset audit summary for the final 37-study comparison-level dataset
A3: category | B3: metric | C3: value | D3: details
A4: Dataset size | B4: effect_size_units | C4: 321 | D4: Comparison-level effect-size units.
A5: Dataset size | B5: unique_studies | C5: 37 | D5: Number of distinct included studies.
A6: Eligibility correction | B6: Barbosa_rows | C6: 0 | D6: No ineligible Barbosa records remained after eligibility correction.
A7: Effect-size counts by modality | B7: core_training | C7: 76 | D7: Effect-size units.
A8: Effect-size counts by modality | B8: plyometric_training | C8: 62 | D8: Effect-size units.
A9: Effect-size counts by modality | B9: resistance_training | C9: 183 | D9: Effect-size units.
A10: Effect-size counts by outcome domain | B10: Physical_fitness | C10: 162 | D10: Effect-size units.
A11: Effect-size counts by outcome domain | B11: Swimming-specific performance | C11: 159 | D11: Effect-size units.
A12: Effect-size counts by modality-domain | B12: core_training__Physical_fitness | C12: 34 | D12: Effect-size units.
A13: Effect-size counts by modality-domain | B13: core_training__Swimming-specific performance | C13: 42 | D13: Effect-size units.
A14: Effect-size counts by modality-domain | B14: plyometric_training__Physical_fitness | C14: 39 | D14: Effect-size units.
... A31: Numerical audit | B31: missing_yi_or_vi_r0.5 | C31: 0 | D31: No missing effect-size estimates or sampling variances were identified for the overall models.
