Workbook

Sheet NK genes
B2: L1 - Stage 0-2 | C2: L2 - Stage 3 | D2: L3 - Stage 4 | E2: L4 - Stage 5 | F2: L5 - Stage 6
A3: Gene | B3: avg. # of matched nts per pos and Gb | C3: avg. # of matched nts per pos and Gb | D3: avg. # of matched nts per pos and Gb | E3: avg. # of matched nts per pos and Gb | F3: avg. # of matched nts per pos and Gb
A4: =calculations!A50 -> NK1 | B4: =calculations!H50 -> 3.3713962 | C4: =calculations!N50 -> 4.6995057 | D4: =calculations!T50 -> 7.1562004 | E4: =calculations!Z50 -> 5.6892421 | F4: =calculations!AF50 -> 6.3410342
A5: =calculations!A51 -> NK3 | B5: =calculations!H51 -> 1.2764152 | C5: =calculations!N51 -> 0.98398803 | D5: =calculations!T51 -> 1.1736435 | E5: =calculations!Z51 -> 0 | F5: =calculations!AF51 -> 0.6594556
A6: =calculations!A52 -> NK4 | B6: =calculations!H52 -> 0.12974953 | C6: =calculations!N52 -> 0.11973774 | D6: =calculations!T52 -> 1.6440907 | E6: =calculations!Z52 -> 2.0479339 | F6: =calculations!AF52 -> 0.64573481
A7: =calculations!A53 -> NK5 | B7: =calculations!H53 -> 10.506498 | C7: =calculations!N53 -> 10.990166 | D7: =calculations!T53 -> 9.8559947 | E7: =calculations!Z53 -> 8.6445508 | F7: =calculations!AF53 -> 7.7046475
A8: =calculations!A54 -> NK6.1 | B8: =calculations!H54 -> 4.3569168 | C8: =calculations!N54 -> 6.6008879 | D8: =calculations!T54 -> 9.5829247 | E8: =calculations!Z54 -> 7.3443902 | F8: =calculations!AF54 -> 10.991833
A9: =calculations!A55 -> NK6.2 | B9: =calculations!H55 -> 4.8253406 | C9: =calculations!N55 -> 6.5472143 | D9: =calculations!T55 -> 10.391578 | E9: =calculations!Z55 -> 7.3415095 | F9: =calculations!AF55 -> 11.242937
A10: =calculations!A56 -> Msx | B10: =calculations!H56 -> 33.412861 | C10: =calculations!N56 -> 33.740655 | D10: =calculations!T56 -> 41.578041 | E10: =calculations!Z56 -> 28.357058 | F10: =calculations!AF56 -> 21.758627
A11: =calculations!A57 -> Lbx | B11: =calculations!H57 -> 6.65175 | C11: =calculations!N57 -> 10.085428 | D11: =calculations!T57 -> 11.081949 | E11: =calculations!Z57 -> 9.1266493 | F11: =calculations!AF57 -> 5.7583817
A12: =calculations!A58 -> Tlx | B12: =calculations!H58 -> 3.5141726 | C12: =calculations!N58 -> 5.30987 | D12: =calculations!T58 -> 11.699806 | E12: =calculations!Z58 -> 16.422548 | F12: =calculations!AF58 -> 11.085606
A13: NK2.2 | B13: =calculations!H59 -> 2.0824677 | C13: =calculations!N59 -> 2.8061658 | D13: =calculations!T59 -> 2.6560147 | E13: =calculations!Z59 -> 3.5059189 | F13: =calculations!AF59 -> 2.4920427
A14: =references!A40 -> RPL31 | B14: =references!B40 -> 191.67827 | C14: =references!C40 -> 214.12745 | D14: =references!D40 -> 202.87182 | E14: =references!E40 -> 187.05004 | F14: =references!F40 -> 163.06849
B16: normalized to RPL31 as reference [%] | C16: normalized to RPL31 as reference [%] | D16: normalized to RPL31 as reference [%] | E16: normalized to RPL31 as reference [%] | F16: normalized to RPL31 as reference [%]
A17: =A4 -> NK1 | B17: =(B4/$B$14)*100 -> 1.7588828 | C17: =(C4/$C$14)*100 -> 2.1947236 | D17: =(D4/$D$14)*100 -> 3.5274491 | E17: =(E4/$E$14)*100 -> 3.0415616 | F17: =(F4/$F$14)*100 -> 3.888571
A18: =A5 -> NK3 | B18: =(B5/$B$14)*100 -> 0.66591545 | C18: =(C5/$C$14)*100 -> 0.45953382 | D18: =(D5/$D$14)*100 -> 0.5785148 | E18: =(E5/$E$14)*100 -> 0 | F18: =(F5/$F$14)*100 -> 0.40440405
A19: =A6 -> NK4 | B19: =(B6/$B$14)*100 -> 0.06769131 | C19: =(C6/$C$14)*100 -> 0.055918912 | D19: =(D6/$D$14)*100 -> 0.81040857 | E19: =(E6/$E$14)*100 -> 1.0948589 | F19: =(F6/$F$14)*100 -> 0.39598992
A20: =A7 -> NK5 | B20: =(B7/$B$14)*100 -> 5.4813194 | C20: =(C7/$C$14)*100 -> 5.1325348 | D20: =(D7/$D$14)*100 -> 4.8582373 | E20: =(E7/$E$14)*100 -> 4.6215178 | F20: =(F7/$F$14)*100 -> 4.7247922
A21: =A8 -> NK6.1 | B21: =(B8/$B$14)*100 -> 2.2730364 | C21: =(C8/$C$14)*100 -> 3.0826912 | D21: =(D8/$D$14)*100 -> 4.7236351 | E21: =(E8/$E$14)*100 -> 3.9264307 | F21: =(F8/$F$14)*100 -> 6.7406236
A22: =A9 -> NK6.2 | B22: =(B9/$B$14)*100 -> 2.5174166 | C22: =(C9/$C$14)*100 -> 3.057625 | D22: =(D9/$D$14)*100 -> 5.1222383 | E22: =(E9/$E$14)*100 -> 3.9248907 | F22: =(F9/$F$14)*100 -> 6.89461
A23: =A10 -> Msx | B23: =(B10/$B$14)*100 -> 17.431742 | C23: =(C10/$C$14)*100 -> 15.757277 | D23: =(D10/$D$14)*100 -> 20.494734 | E23: =(E10/$E$14)*100 -> 15.160146 | F23: =(F10/$F$14)*100 -> 13.343244
A24: =A11 -> Lbx | B24: =(B11/$B$14)*100 -> 3.4702682 | C24: =(C11/$C$14)*100 -> 4.7100118 | D24: =(D11/$D$14)*100 -> 5.4625373 | E24: =(E11/$E$14)*100 -> 4.8792555 | F24: =(F11/$F$14)*100 -> 3.5312656
A25: =A12 -> Tlx | B25: =(B12/$B$14)*100 -> 1.8333704 | C25: =(C12/$C$14)*100 -> 2.4797709 | D25: =(D12/$D$14)*100 -> 5.7670926 | E25: =(E12/$E$14)*100 -> 8.7797619 | F25: =(F12/$F$14)*100 -> 6.7981287
A26: NK2.2 | B26: =(B13/$B$14)*100 -> 1.0864391 | C26: =(C13/$C$14)*100 -> 1.310512 | D26: =(D13/$D$14)*100 -> 1.3092082 | E26: =(E13/$E$14)*100 -> 1.8743214 | F26: =(F13/$F$14)*100 -> 1.5282184
A27: =A14 -> RPL31 | B27: =(B14/$B$14)*100 -> 100 | C27: =(C14/$C$14)*100 -> 100 | D27: =(D14/$D$14)*100 -> 100 | E27: =(E14/$E$14)*100 -> 100 | F27: =(F14/$F$14)*100 -> 100

Sheet segemehl - raw data
E1: reads | F1: bp | I1: reads | J1: bp | M1: reads | N1: bp | Q1: reads | R1: bp | U1: reads | V1: bp | Y1: reads | Z1: bp | AC1: reads | AD1: bp
D2: L1 - Stage 0-2 | E2: 30066932 | F2: =E2*75 -> 2255019900 | H2: L2 - Stage 3 | I2: 21575835 | J2: =I2*75 -> 1618187625 | L2: L3 - Stage 4 | M2: 31574430 | N2: =M2*75 -> 2368082250 | P2: L4 - Stage 5 | Q2: 3174883 | R2: =Q2*75 -> 238116225 | T2: L5 - Stage 6 | U2: 4027629 | V2: =U2*75 -> 302072175 | X2: L7 - Eye | Y2: 16387631 | Z2: =Y2*75 -> 1229072325 | AB2: L13 - Head | AC2: 14538872 | AD2: =AC2*75 -> 1090415400
A3: Gene | B3: Contig | C3: Length [bp] | D3: # of matched reads | E3: mismatch [%] | H3: # of matched reads | I3: mismatch [%] | L3: # of matched reads | M3: mismatch [%] | P3: # of matched reads | Q3: mismatch [%] | T3: # of matched reads | U3: mismatch [%] | X3: # of matched reads | Y3: mismatch [%] | AB3: # of matched reads | AC3: mismatch [%]
A4: GAPDH | B4: E_rowelli_GAPDH | C4: 999 | D4: 4610 | E4: 0.22173528 | H4: 3673 | I4: 0.23563364 | L4: 5355 | M4: 0.20979387 | P4: 310 | Q4: 0.33399844 | T4: 351 | U4: 0.3957081 | X4: 2125 | Y4: 0.26380086 | AB4: 3645 | AC4: 0.17397049
A5: RPSA | B5: E_rowelli_RPSA | C5: 933 | D5: 18674 | E5: 0.25056562 | H5: 15904 | I5: 0.31306675 | L5: 23506 | M5: 0.29440165 | P5: 1957 | Q5: 0.41693723 | T5: 1863 | U5: 0.44058236 | X5: 6911 | Y5: 0.3612506 | AB5: 4983 | AC5: 0.23027977
A6: RPS3A | B6: E_rowelli_RPS3A | C6: 798 | D6: 7268 | E6: 0.2715057 | H6: 5247 | I6: 0.3238438 | L6: 8020 | M6: 0.3025504 | P6: 659 | Q6: 0.40742326 | T6: 610 | U6: 0.3395623 | X6: 4087 | Y6: 0.41152936 | AB6: 3579 | AC6: 0.30088696
A7: RPS5 | B7: E_rowelli_RPS5 | C7: 615 | D7: 4056 | E7: 0.21863149 | H7: 2994 | I7: 0.27615654 | L7: 4080 | M7: 0.27917016 | P7: 341 | Q7: 0.40476286 | T7: 319 | U7: 0.3606475 | X7: 1113 | Y7: 0.36930457 | AB7: 995 | AC7: 0.2379736
A8: RPS9 | B8: E_rowelli_RPS9 | C8: 579 | D8: 3665 | E8: 0.2579231 | H8: 3027 | I8: 0.29873237 | L8: 4039 | M8: 0.2598944 | P8: 347 | Q8: 0.3003003 | T8: 349 | U8: 0.34934163 | X8: 1419 | Y8: 0.30282226 | AB8: 1195 | AC8: 0.21851923
A9: RPS13 | B9: E_rowelli_RPS13 | C9: 456 | D9: 2142 | E9: 0.18638396 | H9: 1585 | I9: 0.24114531 | L9: 2660 | M9: 0.19247921 | P9: 232 | Q9: 0.19009218 | T9: 281 | U9: 0.24344838 | X9: 917 | Y9: 0.24185912 | AB9: 909 | AC9: 0.13692579
A10: RPS15 | B10: E_rowelli_RPS15 | C10: 441 | D10: 2478 | E10: 0.19954683 | H10: 1931 | I10: 0.22510786 | L10: 2601 | M10: 0.18270339 | P10: 233 | Q10: 0.36722514 | T10: 247 | U10: 0.28095958 | X10: 1118 | Y10: 0.2602022 | AB10: 999 | AC10: 0.13663581
A11: RPS15A | B11: E_rowelli_RPS15A | C11: 393 | D11: 4082 | E11: 0.22223389 | H11: 3054 | I11: 0.23708253 | L11: 4363 | M11: 0.25406364 | P11: 356 | Q11: 0.3577346 | T11: 356 | U11: 0.2859938 | X11: 2026 | Y11: 0.30852804 | AB11: 1699 | AC11: 0.21229245
A12: RPS21 | B12: E_rowelli_RPS21 | C12: 252 | D12: 1525 | E12: 0.18844995 | H12: 1259 | I12: 0.2374738 | L12: 1363 | M12: 0.21384999 | P12: 100 | Q12: 0.18676628 | T12: 99 | U12: 0.28412935 | X12: 757 | Y12: 0.25754556 | AB12: 528 | AC12: 0.15197569
A13: RPS23 | B13: E_rowelli_RPS23 | C13: 432 | D13: 4499 | E13: 0.20005195 | H13: 3686 | I13: 0.22611998 | L13: 4930 | M13: 0.21503735 | P13: 403 | Q13: 0.24702898 | T13: 509 | U13: 0.2942954 | X13: 2208 | Y13: 0.27284798 | AB13: 2171 | AC13: 0.18151061
A14: RPS24 | B14: E_rowelli_RPS24 | C14: 396 | D14: 2916 | E14: 0.17652169 | H14: 2042 | I14: 0.2105083 | L14: 2933 | M14: 0.20344718 | P14: 274 | Q14: 0.21135414 | T14: 235 | U14: 0.29083028 | X14: 1000 | Y14: 0.27642384 | AB14: 951 | AC14: 0.17477097
A15: RPS27 | B15: E_rowelli_RPS27 | C15: 255 | D15: 2379 | E15: 0.21246378 | H15: 1956 | I15: 0.26195246 | L15: 2758 | M15: 0.21969369 | P15: 185 | Q15: 0.25469366 | T15: 172 | U15: 0.28213167 | X15: 944 | Y15: 0.28714904 | AB15: 841 | AC15: 0.16408852
... A59: NK2.2 | B59: L1_rowelli_Filter25_20_contig_51397_nkx2_2_vnd | C59: 987 | D59: 62 | E59: 0.323485 | H59: 60 | I59: 0.4028648 | L59: 83 | M59: 0.2747697 | P59: 11 | Q59: 0.12562814 | T59: 10 | U59: 0.93457943 | X59: 0 | Y59: 0 | AB59: 42 | AC59: 0.57161003

Sheet calculations
E1: reads | F1: bp | K1: reads | L1: bp | Q1: reads | R1: bp | W1: reads | X1: bp | AC1: reads | AD1: bp | AI1: reads | AJ1: bp | AO1: reads | AP1: bp
D2: L1 - Stage 0-2 | E2: 30066932 | F2: =E2*75 -> 2255019900 | J2: L2 - Stage 3 | K2: 21575835 | L2: =K2*75 -> 1618187625 | P2: L3 - Stage 4 | Q2: 31574430 | R2: =Q2*75 -> 2368082250 | V2: L4 - Stage 5 | W2: 3174883 | X2: =W2*75 -> 238116225 | AB2: L5 - Stage 6 | AC2: 4027629 | AD2: =AC2*75 -> 302072175 | AH2: L7 - Eye | AI2: 16387631 | AJ2: =AI2*75 -> 1229072325 | AN2: L13 - Head | AO2: 14538872 | AP2: =AO2*75 -> 1090415400
A3: Gene | B3: Contig | C3: Length [bp] | D3: # of matched reads | E3: mismatch [%] | F3: # of matched nts per contig | G3: avg. # of matched nts per position | H3: avg. # of matched nts per pos and Gb | J3: # of matched reads | K3: mismatch [%] | L3: # of matched nts per contig | M3: avg. # of matched nts per position | N3: avg. # of matched nts per pos and Gb | P3: # of matched reads | Q3: mismatch [%] | R3: # of matched nts per contig | S3: avg. # of matched nts per position | T3: avg. # of matched nts per pos and Gb | V3: # of matched reads | W3: mismatch [%] | X3: # of matched nts per contig | Y3: avg. # of matched nts per position | Z3: avg. # of matched nts per pos and Gb | AB3: # of matched reads | AC3: mismatch [%] | AD3: # of matched nts per contig | AE3: avg. # of matched nts per position | AF3: avg. # of matched nts per pos and Gb | AH3: # of matched reads | AI3: mismatch [%] | AJ3: # of matched nts per contig | AK3: avg. # of matched nts per position | AL3: avg. # of matched nts per pos and Gb | AN3: # of matched reads | AO3: mismatch [%] | AP3: # of matched nts per contig | AQ3: avg. # of matched nts per position | AR3: avg. # of matched nts per pos and Gb
A4: GAPDH | B4: E_rowelli_GAPDH | C4: 999 | D4: 4610 | E4: 0.22173528 | F4: =(D4*75)-((D4*75*E4)/100) -> 344983.35 | G4: =F4/C4 -> 345.32868 | H4: =(G4/$F$2)*1000000000 -> 153.13775 | J4: 3673 | K4: 0.23563364 | L4: =(J4*75)-((J4*75*K4)/100) -> 274825.89 | M4: =L4/C4 -> 275.10099 | N4: =(M4/$L$2)*1000000000 -> 170.00562 | P4: 5355 | Q4: 0.20979387 | R4: =(P4*75)-((P4*75*Q4)/100) -> 400782.42 | S4: =R4/C4 -> 401.1836 | T4: =(S4/$R$2)*1000000000 -> 169.41287 | V4: 310 | W4: 0.33399844 | X4: =(V4*75)-((V4*75*W4)/100) -> 23172.345 | Y4: =X4/C4 -> 23.195541 | Z4: =(Y4/$X$2)*1000000000 -> 97.412685 | AB4: 351 | AC4: 0.3957081 | AD4: =(AB4*75)-((AB4*75*AC4)/100) -> 26220.83 | AE4: =AD4/C4 -> 26.247077 | AF4: =(AE4/$AD$2)*1000000000 -> 86.890085 | AH4: 2125 | AI4: 0.26380086 | AJ4: =(AH4*75)-((AH4*75*AI4)/100) -> 158954.57 | AK4: =AJ4/C4 -> 159.11368 | AL4: =(AK4/$AJ$2)*1000000000 -> 129.45835 | AN4: 3645 | AO4: 0.17397049 | AP4: =(AN4*75)-((AN4*75*AO4)/100) -> 272899.41 | AQ4: =AP4/C4 -> 273.17258 | AR4: =(AQ4/$AP$2)*1000000000 -> 250.52157
A5: RPSA | B5: E_rowelli_RPSA | C5: 933 | D5: 18674 | E5: 0.25056562 | F5: =(D5*75)-((D5*75*E5)/100) -> 1397040.7 | G5: =F5/C5 -> 1497.3641 | H5: =(G5/$F$2)*1000000000 -> 664.0137 | J5: 15904 | K5: 0.31306675 | L5: =(J5*75)-((J5*75*K5)/100) -> 1189065.7 | M5: =L5/C5 -> 1274.4542 | N5: =(M5/$L$2)*1000000000 -> 787.58121 | P5: 23506 | Q5: 0.29440165 | R5: =(P5*75)-((P5*75*Q5)/100) -> 1757759.8 | S5: =R5/C5 -> 1883.987 | T5: =(S5/$R$2)*1000000000 -> 795.57497 | V5: 1957 | W5: 0.41693723 | X5: =(V5*75)-((V5*75*W5)/100) -> 146163.04 | Y5: =X5/C5 -> 156.65921 | Z5: =(Y5/$X$2)*1000000000 -> 657.91068 | AB5: 1863 | AC5: 0.44058236 | AD5: =(AB5*75)-((AB5*75*AC5)/100) -> 139109.4 | AE5: =AD5/C5 -> 149.09903 | AF5: =(AE5/$AD$2)*1000000000 -> 493.58744 | AH5: 6911 | AI5: 0.3612506 | AJ5: =(AH5*75)-((AH5*75*AI5)/100) -> 516452.55 | AK5: =AJ5/C5 -> 553.53971 | AL5: =(AK5/$AJ$2)*1000000000 -> 450.37196 | AN5: 4983 | AO5: 0.23027977 | AP5: =(AN5*75)-((AN5*75*AO5)/100) -> 372864.39 | AQ5: =AP5/C5 -> 399.64029 | AR5: =(AQ5/$AP$2)*1000000000 -> 366.50279
A6: RPS3A | B6: E_rowelli_RPS3A | C6: 798 | D6: 7268 | E6: 0.2715057 | F6: =(D6*75)-((D6*75*E6)/100) -> 543620.02 | G6: =F6/C6 -> 681.2281 | H6: =(G6/$F$2)*1000000000 -> 302.09405 | J6: 5247 | K6: 0.3238438 | L6: =(J6*75)-((J6*75*K6)/100) -> 392250.59 | M6: =L6/C6 -> 491.5421 | N6: =(M6/$L$2)*1000000000 -> 303.76088 | P6: 8020 | Q6: 0.3025504 | R6: =(P6*75)-((P6*75*Q6)/100) -> 599680.16 | S6: =R6/C6 -> 751.4789 | T6: =(S6/$R$2)*1000000000 -> 317.33648 | V6: 659 | W6: 0.40742326 | X6: =(V6*75)-((V6*75*W6)/100) -> 49223.631 | Y6: =X6/C6 -> 61.683748 | Z6: =(Y6/$X$2)*1000000000 -> 259.04891 | AB6: 610 | AC6: 0.3395623 | AD6: =(AB6*75)-((AB6*75*AC6)/100) -> 45594.65 | AE6: =AD6/C6 -> 57.136153 | AF6: =(AE6/$AD$2)*1000000000 -> 189.14736 | AH6: 4087 | AI6: 0.41152936 | AJ6: =(AH6*75)-((AH6*75*AI6)/100) -> 305263.56 | AK6: =AJ6/C6 -> 382.53579 | AL6: =(AK6/$AJ$2)*1000000000 -> 311.23945 | AN6: 3579 | AO6: 0.30088696 | AP6: =(AN6*75)-((AN6*75*AO6)/100) -> 267617.34 | AQ6: =AP6/C6 -> 335.36008 | AR6: =(AQ6/$AP$2)*1000000000 -> 307.55259
A7: RPS5 | B7: E_rowelli_RPS5 | C7: 615 | D7: 4056 | E7: 0.21863149 | F7: =(D7*75)-((D7*75*E7)/100) -> 303534.92 | G7: =F7/C7 -> 493.55272 | H7: =(G7/$F$2)*1000000000 -> 218.86845 | J7: 2994 | K7: 0.27615654 | L7: =(J7*75)-((J7*75*K7)/100) -> 223929.89 | M7: =L7/C7 -> 364.11364 | N7: =(M7/$L$2)*1000000000 -> 225.01324 | P7: 4080 | Q7: 0.27917016 | R7: =(P7*75)-((P7*75*Q7)/100) -> 305145.74 | S7: =R7/C7 -> 496.17193 | T7: =(S7/$R$2)*1000000000 -> 209.52479 | V7: 341 | W7: 0.40476286 | X7: =(V7*75)-((V7*75*W7)/100) -> 25471.482 | Y7: =X7/C7 -> 41.417044 | Z7: =(Y7/$X$2)*1000000000 -> 173.93625 | AB7: 319 | AC7: 0.3606475 | AD7: =(AB7*75)-((AB7*75*AC7)/100) -> 23838.715 | AE7: =AD7/C7 -> 38.762138 | AF7: =(AE7/$AD$2)*1000000000 -> 128.32078 | AH7: 1113 | AI7: 0.36930457 | AJ7: =(AH7*75)-((AH7*75*AI7)/100) -> 83166.723 | AK7: =AJ7/C7 -> 135.23044 | AL7: =(AK7/$AJ$2)*1000000000 -> 110.02643 | AN7: 995 | AO7: 0.2379736 | AP7: =(AN7*75)-((AN7*75*AO7)/100) -> 74447.412 | AQ7: =AP7/C7 -> 121.0527 | AR7: =(AQ7/$AP$2)*1000000000 -> 111.01522
A8: RPS9 | B8: E_rowelli_RPS9 | C8: 579 | D8: 3665 | E8: 0.2579231 | F8: =(D8*75)-((D8*75*E8)/100) -> 274166.03 | G8: =F8/C8 -> 473.51647 | H8: =(G8/$F$2)*1000000000 -> 209.98328 | J8: 3027 | K8: 0.29873237 | L8: =(J8*75)-((J8*75*K8)/100) -> 226346.8 | M8: =L8/C8 -> 390.92712 | N8: =(M8/$L$2)*1000000000 -> 241.58331 | P8: 4039 | Q8: 0.2598944 | R8: =(P8*75)-((P8*75*Q8)/100) -> 302137.71 | S8: =R8/C8 -> 521.8268 | T8: =(S8/$R$2)*1000000000 -> 220.35839 | V8: 347 | W8: 0.3003003 | X8: =(V8*75)-((V8*75*W8)/100) -> 25946.847 | Y8: =X8/C8 -> 44.813207 | Z8: =(Y8/$X$2)*1000000000 -> 188.19888 | AB8: 349 | AC8: 0.34934163 | AD8: =(AB8*75)-((AB8*75*AC8)/100) -> 26083.56 | AE8: =AD8/C8 -> 45.049326 | AF8: =(AE8/$AD$2)*1000000000 -> 149.13431 | AH8: 1419 | AI8: 0.30282226 | AJ8: =(AH8*75)-((AH8*75*AI8)/100) -> 106102.72 | AK8: =AJ8/C8 -> 183.25168 | AL8: =(AK8/$AJ$2)*1000000000 -> 149.09755 | AN8: 1195 | AO8: 0.21851923 | AP8: =(AN8*75)-((AN8*75*AO8)/100) -> 89429.152 | AQ8: =AP8/C8 -> 154.45449 | AR8: =(AQ8/$AP$2)*1000000000 -> 141.64739
A9: RPS13 | B9: E_rowelli_RPS13 | C9: 456 | D9: 2142 | E9: 0.18638396 | F9: =(D9*75)-((D9*75*E9)/100) -> 160350.57 | G9: =F9/C9 -> 351.646 | H9: =(G9/$F$2)*1000000000 -> 155.9392 | J9: 1585 | K9: 0.24114531 | L9: =(J9*75)-((J9*75*K9)/100) -> 118588.34 | M9: =L9/C9 -> 260.06215 | N9: =(M9/$L$2)*1000000000 -> 160.71199 | P9: 2660 | Q9: 0.19247921 | R9: =(P9*75)-((P9*75*Q9)/100) -> 199116 | S9: =R9/C9 -> 436.6579 | T9: =(S9/$R$2)*1000000000 -> 184.39305 | V9: 232 | W9: 0.19009218 | X9: =(V9*75)-((V9*75*W9)/100) -> 17366.924 | Y9: =X9/C9 -> 38.08536 | Z9: =(Y9/$X$2)*1000000000 -> 159.94441 | AB9: 281 | AC9: 0.24344838 | AD9: =(AB9*75)-((AB9*75*AC9)/100) -> 21023.693 | AE9: =AD9/C9 -> 46.10459 | AF9: =(AE9/$AD$2)*1000000000 -> 152.62773 | AH9: 917 | AI9: 0.24185912 | AJ9: =(AH9*75)-((AH9*75*AI9)/100) -> 68608.661 | AK9: =AJ9/C9 -> 150.45759 | AL9: =(AK9/$AJ$2)*1000000000 -> 122.41557 | AN9: 909 | AO9: 0.13692579 | AP9: =(AN9*75)-((AN9*75*AO9)/100) -> 68081.651 | AQ9: =AP9/C9 -> 149.30187 | AR9: =(AQ9/$AP$2)*1000000000 -> 136.92201
A10: RPS15 | B10: E_rowelli_RPS15 | C10: 441 | D10: 2478 | E10: 0.19954683 | F10: =(D10*75)-((D10*75*E10)/100) -> 185479.14 | G10: =F10/C10 -> 420.58762 | H10: =(G10/$F$2)*1000000000 -> 186.51171 | J10: 1931 | K10: 0.22510786 | L10: =(J10*75)-((J10*75*K10)/100) -> 144498.99 | M10: =L10/C10 -> 327.6621 | N10: =(M10/$L$2)*1000000000 -> 202.48709 | P10: 2601 | Q10: 0.18270339 | R10: =(P10*75)-((P10*75*Q10)/100) -> 194718.59 | S10: =R10/C10 -> 441.53876 | T10: =(S10/$R$2)*1000000000 -> 186.45415 | V10: 233 | W10: 0.36722514 | X10: =(V10*75)-((V10*75*W10)/100) -> 17410.827 | Y10: =X10/C10 -> 39.480334 | Z10: =(Y10/$X$2)*1000000000 -> 165.80279 | AB10: 247 | AC10: 0.28095958 | AD10: =(AB10*75)-((AB10*75*AC10)/100) -> 18472.952 | AE10: =AD10/C10 -> 41.888781 | AF10: =(AE10/$AD$2)*1000000000 -> 138.67143 | AH10: 1118 | AI10: 0.2602022 | AJ10: =(AH10*75)-((AH10*75*AI10)/100) -> 83631.82 | AK10: =AJ10/C10 -> 189.64132 | AL10: =(AK10/$AJ$2)*1000000000 -> 154.2963 | AN10: 999 | AO10: 0.13663581 | AP10: =(AN10*75)-((AN10*75*AO10)/100) -> 74822.626 | AQ10: =AP10/C10 -> 169.66582 | AR10: =(AQ10/$AP$2)*1000000000 -> 155.59742
A11: RPS15A | B11: E_rowelli_RPS15A | C11: 393 | D11: 4082 | E11: 0.22223389 | F11: =(D11*75)-((D11*75*E11)/100) -> 305469.63 | G11: =F11/C11 -> 777.27641 | H11: =(G11/$F$2)*1000000000 -> 344.68716 | J11: 3054 | K11: 0.23708253 | L11: =(J11*75)-((J11*75*K11)/100) -> 228506.96 | M11: =L11/C11 -> 581.44265 | N11: =(M11/$L$2)*1000000000 -> 359.3172 | P11: 4363 | Q11: 0.25406364 | R11: =(P11*75)-((P11*75*Q11)/100) -> 326393.64 | S11: =R11/C11 -> 830.51817 | T11: =(S11/$R$2)*1000000000 -> 350.7134 | V11: 356 | W11: 0.3577346 | X11: =(V11*75)-((V11*75*W11)/100) -> 26604.485 | Y11: =X11/C11 -> 67.69589 | Z11: =(Y11/$X$2)*1000000000 -> 284.29768 | AB11: 356 | AC11: 0.2859938 | AD11: =(AB11*75)-((AB11*75*AC11)/100) -> 26623.64 | AE11: =AD11/C11 -> 67.74463 | AF11: =(AE11/$AD$2)*1000000000 -> 224.26637 | AH11: 2026 | AI11: 0.30852804 | AJ11: =(AH11*75)-((AH11*75*AI11)/100) -> 151481.19 | AK11: =AJ11/C11 -> 385.44832 | AL11: =(AK11/$AJ$2)*1000000000 -> 313.60915 | AN11: 1699 | AO11: 0.21229245 | AP11: =(AN11*75)-((AN11*75*AO11)/100) -> 127154.49 | AQ11: =AP11/C11 -> 323.54831 | AR11: =(AQ11/$AP$2)*1000000000 -> 296.72023
A12: RPS21 | B12: E_rowelli_RPS21 | C12: 252 | D12: 1525 | E12: 0.18844995 | F12: =(D12*75)-((D12*75*E12)/100) -> 114159.46 | G12: =F12/C12 -> 453.01373 | H12: =(G12/$F$2)*1000000000 -> 200.89123 | J12: 1259 | K12: 0.2374738 | L12: =(J12*75)-((J12*75*K12)/100) -> 94200.765 | M12: =L12/C12 -> 373.81256 | N12: =(M12/$L$2)*1000000000 -> 231.00693 | P12: 1363 | Q12: 0.21384999 | R12: =(P12*75)-((P12*75*Q12)/100) -> 102006.39 | S12: =R12/C12 -> 404.78727 | T12: =(S12/$R$2)*1000000000 -> 170.93463 | V12: 100 | W12: 0.18676628 | X12: =(V12*75)-((V12*75*W12)/100) -> 7485.9925 | Y12: =X12/C12 -> 29.70632 | Z12: =(Y12/$X$2)*1000000000 -> 124.75555 | AB12: 99 | AC12: 0.28412935 | AD12: =(AB12*75)-((AB12*75*AC12)/100) -> 7403.9034 | AE12: =AD12/C12 -> 29.380569 | AF12: =(AE12/$AD$2)*1000000000 -> 97.263407 | AH12: 757 | AI12: 0.25754556 | AJ12: =(AH12*75)-((AH12*75*AI12)/100) -> 56628.779 | AK12: =AJ12/C12 -> 224.71738 | AL12: =(AK12/$AJ$2)*1000000000 -> 182.83495 | AN12: 528 | AO12: 0.15197569 | AP12: =(AN12*75)-((AN12*75*AO12)/100) -> 39539.818 | AQ12: =AP12/C12 -> 156.90404 | AR12: =(AQ12/$AP$2)*1000000000 -> 143.89382
A13: RPS23 | B13: E_rowelli_RPS23 | C13: 432 | D13: 4499 | E13: 0.20005195 | F13: =(D13*75)-((D13*75*E13)/100) -> 336749.97 | G13: =F13/C13 -> 779.51383 | H13: =(G13/$F$2)*1000000000 -> 345.67936 | J13: 3686 | K13: 0.22611998 | L13: =(J13*75)-((J13*75*K13)/100) -> 275824.89 | M13: =L13/C13 -> 638.48354 | N13: =(M13/$L$2)*1000000000 -> 394.56707 | P13: 4930 | Q13: 0.21503735 | R13: =(P13*75)-((P13*75*Q13)/100) -> 368954.9 | S13: =R13/C13 -> 854.06227 | T13: =(S13/$R$2)*1000000000 -> 360.65566 | V13: 403 | W13: 0.24702898 | X13: =(V13*75)-((V13*75*W13)/100) -> 30150.335 | Y13: =X13/C13 -> 69.792443 | Z13: =(Y13/$X$2)*1000000000 -> 293.10243 | AB13: 509 | AC13: 0.2942954 | AD13: =(AB13*75)-((AB13*75*AC13)/100) -> 38062.653 | AE13: =AD13/C13 -> 88.107992 | AF13: =(AE13/$AD$2)*1000000000 -> 291.67861 | AH13: 2208 | AI13: 0.27284798 | AJ13: =(AH13*75)-((AH13*75*AI13)/100) -> 165148.16 | AK13: =AJ13/C13 -> 382.28742 | AL13: =(AK13/$AJ$2)*1000000000 -> 311.03736 | AN13: 2171 | AO13: 0.18151061 | AP13: =(AN13*75)-((AN13*75*AO13)/100) -> 162529.46 | AQ13: =AP13/C13 -> 376.22559 | AR13: =(AQ13/$AP$2)*1000000000 -> 345.0296
A14: RPS24 | B14: E_rowelli_RPS24 | C14: 396 | D14: 2916 | E14: 0.17652169 | F14: =(D14*75)-((D14*75*E14)/100) -> 218313.95 | G14: =F14/C14 -> 551.29785 | H14: =(G14/$F$2)*1000000000 -> 244.47582 | J14: 2042 | K14: 0.2105083 | L14: =(J14*75)-((J14*75*K14)/100) -> 152827.61 | M14: =L14/C14 -> 385.9283 | N14: =(M14/$L$2)*1000000000 -> 238.49416 | P14: 2933 | Q14: 0.20344718 | R14: =(P14*75)-((P14*75*Q14)/100) -> 219527.47 | S14: =R14/C14 -> 554.36229 | T14: =(S14/$R$2)*1000000000 -> 234.09757 | V14: 274 | W14: 0.21135414 | X14: =(V14*75)-((V14*75*W14)/100) -> 20506.567 | Y14: =X14/C14 -> 51.784259 | Z14: =(Y14/$X$2)*1000000000 -> 217.47472 | AB14: 235 | AC14: 0.29083028 | AD14: =(AB14*75)-((AB14*75*AC14)/100) -> 17573.741 | AE14: =AD14/C14 -> 44.378134 | AF14: =(AE14/$AD$2)*1000000000 -> 146.91235 | AH14: 1000 | AI14: 0.27642384 | AJ14: =(AH14*75)-((AH14*75*AI14)/100) -> 74792.682 | AK14: =AJ14/C14 -> 188.87041 | AL14: =(AK14/$AJ$2)*1000000000 -> 153.66908 | AN14: 951 | AO14: 0.17477097 | AP14: =(AN14*75)-((AN14*75*AO14)/100) -> 71200.345 | AQ14: =AP14/C14 -> 179.79885 | AR14: =(AQ14/$AP$2)*1000000000 -> 164.89023
A15: RPS27 | B15: E_rowelli_RPS27 | C15: 255 | D15: 2379 | E15: 0.21246378 | F15: =(D15*75)-((D15*75*E15)/100) -> 178045.91 | G15: =F15/C15 -> 698.21926 | H15: =(G15/$F$2)*1000000000 -> 309.62887 | J15: 1956 | K15: 0.26195246 | L15: =(J15*75)-((J15*75*K15)/100) -> 146315.72 | M15: =L15/C15 -> 573.78712 | N15: =(M15/$L$2)*1000000000 -> 354.58627 | P15: 2758 | Q15: 0.21969369 | R15: =(P15*75)-((P15*75*Q15)/100) -> 206395.56 | S15: =R15/C15 -> 809.39437 | T15: =(S15/$R$2)*1000000000 -> 341.79318 | V15: 185 | W15: 0.25469366 | X15: =(V15*75)-((V15*75*W15)/100) -> 13839.661 | Y15: =X15/C15 -> 54.273181 | Z15: =(Y15/$X$2)*1000000000 -> 227.92727 | AB15: 172 | AC15: 0.28213167 | AD15: =(AB15*75)-((AB15*75*AC15)/100) -> 12863.605 | AE15: =AD15/C15 -> 50.44551 | AF15: =(AE15/$AD$2)*1000000000 -> 166.9982 | AH15: 944 | AI15: 0.28714904 | AJ15: =(AH15*75)-((AH15*75*AI15)/100) -> 70596.698 | AK15: =AJ15/C15 -> 276.8498 | AL15: =(AK15/$AJ$2)*1000000000 -> 225.25102 | AN15: 841 | AO15: 0.16408852 | AP15: =(AN15*75)-((AN15*75*AO15)/100) -> 62971.501 | AQ15: =AP15/C15 -> 246.94706 | AR15: =(AQ15/$AP$2)*1000000000 -> 226.47063
... A59: NK2.2 | B59: L1_rowelli_Filter25_20_contig_51397_nkx2_2_vnd | C59: 987 | D59: 62 | E59: 0.323485 | F59: =(D59*75)-((D59*75*E59)/100) -> 4634.9579 | G59: =F59/C59 -> 4.696006 | H59: =(G59/$F$2)*1000000000 -> 2.0824677 | J59: 60 | K59: 0.4028648 | L59: =(J59*75)-((J59*75*K59)/100) -> 4481.8711 | M59: =L59/C59 -> 4.5409028 | N59: =(M59/$L$2)*1000000000 -> 2.8061658 | P59: 83 | Q59: 0.2747697 | R59: =(P59*75)-((P59*75*Q59)/100) -> 6207.8956 | S59: =R59/C59 -> 6.2896612 | T59: =(S59/$R$2)*1000000000 -> 2.6560147 | V59: 11 | W59: 0.12562814 | X59: =(V59*75)-((V59*75*W59)/100) -> 823.96357 | Y59: =X59/C59 -> 0.83481618 | Z59: =(Y59/$X$2)*1000000000 -> 3.5059189 | AB59: 10 | AC59: 0.93457943 | AD59: =(AB59*75)-((AB59*75*AC59)/100) -> 742.99065 | AE59: =AD59/C59 -> 0.75277675 | AF59: =(AE59/$AD$2)*1000000000 -> 2.4920427 | AH59: 0 | AI59: 0 | AJ59: =(AH59*75)-((AH59*75*AI59)/100) -> 0 | AK59: =AJ59/C59 -> 0 | AL59: =(AK59/$AJ$2)*1000000000 -> 0 | AN59: 42 | AO59: 0.57161003 | AP59: =(AN59*75)-((AN59*75*AO59)/100) -> 3131.9943 | AQ59: =AP59/C59 -> 3.1732465 | AR59: =(AQ59/$AP$2)*1000000000 -> 2.9101263

Sheet references
B2: =calculations!$D$2 -> L1 - Stage 0-2 | C2: =calculations!$J$2 -> L2 - Stage 3 | D2: =calculations!$P$2 -> L3 - Stage 4 | E2: =calculations!$V$2 -> L4 - Stage 5 | F2: =calculations!$AB$2 -> L5 - Stage 6 | G2: =calculations!$AH$2 -> L7 - Eye | H2: =calculations!$AN$2 -> L13 - Head | L2: relative standard deviation
A3: Gene | B3: =calculations!H3 -> avg. # of matched nts per pos and Gb | C3: =calculations!N3 -> avg. # of matched nts per pos and Gb | D3: =calculations!T3 -> avg. # of matched nts per pos and Gb | E3: =calculations!Z3 -> avg. # of matched nts per pos and Gb | F3: =calculations!AF3 -> avg. # of matched nts per pos and Gb | G3: =calculations!AL3 -> avg. # of matched nts per pos and Gb | H3: =calculations!AR3 -> avg. # of matched nts per pos and Gb | J3: mean | K3: stdev | L3: RSD [%]
A4: GAPDH | B4: =calculations!H4 -> 153.13775 | C4: =calculations!N4 -> 170.00562 | D4: =calculations!T4 -> 169.41287 | E4: =calculations!Z4 -> 97.412685 | F4: =calculations!AF4 -> 86.890085 | G4: =calculations!AL4 -> 129.45835 | H4: =calculations!AR4 -> 250.52157 | J4: =AVERAGE(B4:H4) -> 150.97699 | K4: =_xlfn.STDEV.P(B4:H4) -> 50.786782 | L4: =(K4/J4)*100 -> 33.638757
A5: RPSA | B5: =calculations!H5 -> 664.0137 | C5: =calculations!N5 -> 787.58121 | D5: =calculations!T5 -> 795.57497 | E5: =calculations!Z5 -> 657.91068 | F5: =calculations!AF5 -> 493.58744 | G5: =calculations!AL5 -> 450.37196 | H5: =calculations!AR5 -> 366.50279 | J5: =AVERAGE(B5:H5) -> 602.22039 | K5: =_xlfn.STDEV.P(B5:H5) -> 155.41939 | L5: =(K5/J5)*100 -> 25.807726
A6: RPS3A | B6: =calculations!H6 -> 302.09405 | C6: =calculations!N6 -> 303.76088 | D6: =calculations!T6 -> 317.33648 | E6: =calculations!Z6 -> 259.04891 | F6: =calculations!AF6 -> 189.14736 | G6: =calculations!AL6 -> 311.23945 | H6: =calculations!AR6 -> 307.55259 | J6: =AVERAGE(B6:H6) -> 284.31139 | K6: =_xlfn.STDEV.P(B6:H6) -> 42.669532 | L6: =(K6/J6)*100 -> 15.008028
A7: RPS5 | B7: =calculations!H7 -> 218.86845 | C7: =calculations!N7 -> 225.01324 | D7: =calculations!T7 -> 209.52479 | E7: =calculations!Z7 -> 173.93625 | F7: =calculations!AF7 -> 128.32078 | G7: =calculations!AL7 -> 110.02643 | H7: =calculations!AR7 -> 111.01522 | J7: =AVERAGE(B7:H7) -> 168.10074 | K7: =_xlfn.STDEV.P(B7:H7) -> 47.479658 | L7: =(K7/J7)*100 -> 28.244765
A8: RPS9 | B8: =calculations!H8 -> 209.98328 | C8: =calculations!N8 -> 241.58331 | D8: =calculations!T8 -> 220.35839 | E8: =calculations!Z8 -> 188.19888 | F8: =calculations!AF8 -> 149.13431 | G8: =calculations!AL8 -> 149.09755 | H8: =calculations!AR8 -> 141.64739 | J8: =AVERAGE(B8:H8) -> 185.71473 | K8: =_xlfn.STDEV.P(B8:H8) -> 36.912038 | L8: =(K8/J8)*100 -> 19.875665
A9: RPS13 | B9: =calculations!H9 -> 155.9392 | C9: =calculations!N9 -> 160.71199 | D9: =calculations!T9 -> 184.39305 | E9: =calculations!Z9 -> 159.94441 | F9: =calculations!AF9 -> 152.62773 | G9: =calculations!AL9 -> 122.41557 | H9: =calculations!AR9 -> 136.92201 | J9: =AVERAGE(B9:H9) -> 153.27914 | K9: =_xlfn.STDEV.P(B9:H9) -> 18.108262 | L9: =(K9/J9)*100 -> 11.813912
A10: RPS15 | B10: =calculations!H10 -> 186.51171 | C10: =calculations!N10 -> 202.48709 | D10: =calculations!T10 -> 186.45415 | E10: =calculations!Z10 -> 165.80279 | F10: =calculations!AF10 -> 138.67143 | G10: =calculations!AL10 -> 154.2963 | H10: =calculations!AR10 -> 155.59742 | J10: =AVERAGE(B10:H10) -> 169.97441 | K10: =_xlfn.STDEV.P(B10:H10) -> 20.880334 | L10: =(K10/J10)*100 -> 12.284398
A11: RPS15A | B11: =calculations!H11 -> 344.68716 | C11: =calculations!N11 -> 359.3172 | D11: =calculations!T11 -> 350.7134 | E11: =calculations!Z11 -> 284.29768 | F11: =calculations!AF11 -> 224.26637 | G11: =calculations!AL11 -> 313.60915 | H11: =calculations!AR11 -> 296.72023 | J11: =AVERAGE(B11:H11) -> 310.51588 | K11: =_xlfn.STDEV.P(B11:H11) -> 43.901426 | L11: =(K11/J11)*100 -> 14.138222
A12: RPS21 | B12: =calculations!H12 -> 200.89123 | C12: =calculations!N12 -> 231.00693 | D12: =calculations!T12 -> 170.93463 | E12: =calculations!Z12 -> 124.75555 | F12: =calculations!AF12 -> 97.263407 | G12: =calculations!AL12 -> 182.83495 | H12: =calculations!AR12 -> 143.89382 | J12: =AVERAGE(B12:H12) -> 164.5115 | K12: =_xlfn.STDEV.P(B12:H12) -> 42.51061 | L12: =(K12/J12)*100 -> 25.840509
A13: RPS23 | B13: =calculations!H13 -> 345.67936 | C13: =calculations!N13 -> 394.56707 | D13: =calculations!T13 -> 360.65566 | E13: =calculations!Z13 -> 293.10243 | F13: =calculations!AF13 -> 291.67861 | G13: =calculations!AL13 -> 311.03736 | H13: =calculations!AR13 -> 345.0296 | J13: =AVERAGE(B13:H13) -> 334.53573 | K13: =_xlfn.STDEV.P(B13:H13) -> 35.103802 | L13: =(K13/J13)*100 -> 10.493289
A14: RPS24 | B14: =calculations!H14 -> 244.47582 | C14: =calculations!N14 -> 238.49416 | D14: =calculations!T14 -> 234.09757 | E14: =calculations!Z14 -> 217.47472 | F14: =calculations!AF14 -> 146.91235 | G14: =calculations!AL14 -> 153.66908 | H14: =calculations!AR14 -> 164.89023 | J14: =AVERAGE(B14:H14) -> 200.00199 | K14: =_xlfn.STDEV.P(B14:H14) -> 39.866666 | L14: =(K14/J14)*100 -> 19.933135
A15: RPS27 | B15: =calculations!H15 -> 309.62887 | C15: =calculations!N15 -> 354.58627 | D15: =calculations!T15 -> 341.79318 | E15: =calculations!Z15 -> 227.92727 | F15: =calculations!AF15 -> 166.9982 | G15: =calculations!AL15 -> 225.25102 | H15: =calculations!AR15 -> 226.47063 | J15: =AVERAGE(B15:H15) -> 264.66506 | K15: =_xlfn.STDEV.P(B15:H15) -> 65.418518 | L15: =(K15/J15)*100 -> 24.717474
... A48: RPLP2 | B48: =calculations!H48 -> 349.97533 | C48: =calculations!N48 -> 407.92197 | D48: =calculations!T48 -> 353.37142 | E48: =calculations!Z48 -> 266.41773 | F48: =calculations!AF48 -> 190.03199 | G48: =calculations!AL48 -> 271.64384 | H48: =calculations!AR48 -> 327.5164 | J48: =AVERAGE(B48:H48) -> 309.5541 | K48: =_xlfn.STDEV.P(B48:H48) -> 66.693526 | L48: =(K48/J48)*100 -> 21.545031
