Workbook

Sheet JCR_Data
A1: No | B1: Journal name | C1: JCR Abbreviation | D1: ISSN | E1: eISSN | F1: Category | G1: Total Citations | H1: 2022 JIF | I1: JIF Quartile | J1: 2022 JCI | K1: % of OA Gold | L1: JIF Rank | M1: 5 Year JIF | N1: 5 Year JIF Quartile | O1: JIF Without Self Cites | P1: Immediacy Index | Q1: JCI Rank | R1: JCI Quartile | S1: JCI Percentile | T1: Eigenfactor | U1: Normalized Eigenfactor | V1: Article Influence Score | W1: JIF Percentile | X1: AIS Quartile | Y1: Total Articles | Z1: Citing Half-Life | AA1: Cited Half-Life | AB1: % of Articles in Citable items | AC1: Citable Items
A2: 1 | B2: RADIOLOGY | C2: RADIOLOGY | D2: 0033-8419 | E2: N/A | F2: RADIOLOGY, NUCLEAR MEDICINE & MEDICAL IMAGING - SCIE | G2: 64,735 | H2: 19.7 | I2: Q1 | J2: 5.34 | K2: 2.15% | L2: 1/135 | M2: 14.1 | N2: Q1 | O2: 19.1 | P2: 4.6 | Q2: 1/203 | R2: Q1 | S2: 99.75 | T2: 0.05179 | U2: 11.27167 | V2: 3.740 | W2: 99.6 | X2: Q1 | Y2: 237 | Z2: 5.6 | AA2: 9.1 | AB2: 89.43% | AC2: 265
A3: 2 | B3: JACC-Cardiovascular Imaging | C3: JACC-CARDIOVASC IMAG | D3: 1936-878X | E3: 1876-7591 | F3: RADIOLOGY, NUCLEAR MEDICINE & MEDICAL IMAGING - SCIE | G3: 16,914 | H3: 14.0 | I3: Q1 | J3: 3.25 | K3: 67.87% | L3: 2/135 | M3: 14.6 | N3: Q1 | O3: 13.2 | P3: 6.2 | Q3: 2/203 | R3: Q1 | S3: 99.26 | T3: 0.03173 | U3: 6.90688 | V3: 5.327 | W3: 98.9 | X3: Q1 | Y3: 106 | Z3: 5.8 | AA3: 4.6 | AB3: 92.17% | AC3: 115
A4: 3 | B4: MEDICAL IMAGE ANALYSIS | C4: MED IMAGE ANAL | D4: 1361-8415 | E4: 1361-8423 | F4: RADIOLOGY, NUCLEAR MEDICINE & MEDICAL IMAGING - SCIE | G4: 19,500 | H4: 10.9 | I4: Q1 | J4: 2.65 | K4: 30.57% | L4: 3/135 | M4: 13.7 | N4: Q1 | O4: 10.2 | P4: 1.7 | Q4: 3/203 | R4: Q1 | S4: 98.77 | T4: 0.02640 | U4: 5.74560 | V4: 3.026 | W4: 98.1 | X4: Q1 | Y4: 269 | Z4: 4.6 | AA4: 4.1 | AB4: 98.18% | AC4: 274
A5: 4 | B5: CLINICAL NUCLEAR MEDICINE | C5: CLIN NUCL MED | D5: 0363-9762 | E5: 1536-0229 | F5: RADIOLOGY, NUCLEAR MEDICINE & MEDICAL IMAGING - SCIE | G5: 6,883 | H5: 10.6 | I5: Q1 | J5: 1.16 | K5: 11.02% | L5: 4/135 | M5: 8.0 | N5: Q1 | O5: 7.3 | P5: 4.3 | Q5: 33/203 | R5: Q1 | S5: 83.99 | T5: 0.00562 | U5: 1.22509 | V5: 1.507 | W5: 97.4 | X5: Q1 | Y5: 81 | Z5: 6.3 | AA5: 5.4 | AB5: 96.43% | AC5: 84
A6: 5 | B6: IEEE TRANSACTIONS ON MEDICAL IMAGING | C6: IEEE T MED IMAGING | D6: 0278-0062 | E6: 1558-254X | F6: RADIOLOGY, NUCLEAR MEDICINE & MEDICAL IMAGING - SCIE | G6: 34,640 | H6: 10.6 | I6: Q1 | J6: 2.38 | K6: 15.81% | L6: 4/135 | M6: 11.7 | N6: Q1 | O6: 10.0 | P6: 2.1 | Q6: 6/203 | R6: Q1 | S6: 97.29 | T6: 0.03376 | U6: 7.34782 | V6: 2.661 | W6: 97.4 | X6: Q1 | Y6: 319 | Z6: 5.2 | AA6: 5.8 | AB6: 100.00% | AC6: 319
A7: 6 | B7: JOURNAL OF NUCLEAR MEDICINE | C7: J NUCL MED | D7: 0161-5505 | E7: 1535-5667 | F7: RADIOLOGY, NUCLEAR MEDICINE & MEDICAL IMAGING - SCIE | G7: 31,896 | H7: 9.3 | I7: Q1 | J7: 2.57 | K7: 13.49% | L7: 6/135 | M7: 9.0 | N7: Q1 | O7: 8.5 | P7: 4.6 | Q7: 4/203 | R7: Q1 | S7: 98.28 | T7: 0.02644 | U7: 5.75609 | V7: 2.261 | W7: 95.9 | X7: Q1 | Y7: 262 | Z7: 5.6 | AA7: 7.5 | AB7: 98.50% | AC7: 266
A8: 7 | B8: EUROPEAN JOURNAL OF NUCLEAR MEDICINE AND MOLECULAR IMAGING | C8: EUR J NUCL MED MOL I | D8: 1619-7070 | E8: 1619-7089 | F8: RADIOLOGY, NUCLEAR MEDICINE & MEDICAL IMAGING - SCIE | G8: 23,232 | H8: 9.1 | I8: Q1 | J8: 2.39 | K8: 44.86% | L8: 7/135 | M8: 8.7 | N8: Q1 | O8: 8.2 | P8: 2.0 | Q8: 5/203 | R8: Q1 | S8: 97.78 | T8: 0.02656 | U8: 5.78205 | V8: 2.055 | W8: 95.2 | X8: Q1 | Y8: 294 | Z8: 5.1 | AA8: 4.9 | AB8: 92.45% | AC8: 318
A9: 8 | B9: Radiologia Medica | C9: RADIOL MED | D9: 0033-8362 | E9: 1826-6983 | F9: RADIOLOGY, NUCLEAR MEDICINE & MEDICAL IMAGING - SCIE | G9: 5,396 | H9: 8.9 | I9: Q1 | J9: 1.76 | K9: 21.15% | L9: 8/135 | M9: 5.5 | N9: Q1 | O9: 8.2 | P9: 1.0 | Q9: 11/203 | R9: Q1 | S9: 94.83 | T9: 0.00520 | U9: 1.13317 | V9: 0.843 | W9: 94.4 | X9: Q2 | Y9: 122 | Z9: 5.5 | AA9: 2.8 | AB9: 89.71% | AC9: 136
A10: 9 | B10: Photoacoustics | C10: PHOTOACOUSTICS | D10: 2213-5979 | E10: 2213-5979 | F10: RADIOLOGY, NUCLEAR MEDICINE & MEDICAL IMAGING - SCIE | G10: 2,551 | H10: 7.9 | I10: Q1 | J10: 2.14 | K10: 88.57% | L10: 9/135 | M10: 8.6 | N10: Q1 | O10: 6.6 | P10: 2.4 | Q10: 9/203 | R10: Q1 | S10: 95.81 | T10: 0.00360 | U10: 0.78366 | V10: 1.729 | W10: 93.7 | X10: Q1 | Y10: 92 | Z10: 5.8 | AA10: 2.7 | AB10: 97.87% | AC10: 94
A11: 10 | B11: Circulation-Cardiovascular Imaging | C11: CIRC-CARDIOVASC IMAG | D11: 1941-9651 | E11: 1942-0080 | F11: RADIOLOGY, NUCLEAR MEDICINE & MEDICAL IMAGING - SCIE | G11: 8,076 | H11: 7.5 | I11: Q1 | J11: 1.59 | K11: 13.09% | L11: 10/135 | M11: 8.6 | N11: Q1 | O11: 7.3 | P11: 1.9 | Q11: 15/203 | R11: Q1 | S11: 92.86 | T11: 0.01104 | U11: 2.40453 | V11: 3.175 | W11: 93.0 | X11: Q1 | Y11: 53 | Z11: 8.0 | AA11: 6.5 | AB11: 100.00% | AC11: 53
A12: 11 | B12: ULTRASOUND IN OBSTETRICS & GYNECOLOGY | C12: ULTRASOUND OBST GYN | D12: 0960-7692 | E12: 1469-0705 | F12: RADIOLOGY, NUCLEAR MEDICINE & MEDICAL IMAGING - SCIE | G12: 17,581 | H12: 7.1 | I12: Q1 | J12: 2.24 | K12: 17.61% | L12: 11/135 | M12: 7.1 | N12: Q1 | O12: 6.1 | P12: 2.4 | Q12: 7/203 | R12: Q1 | S12: 96.80 | T12: 0.01696 | U12: 3.69185 | V12: 2.074 | W12: 92.2 | X12: Q1 | Y12: 140 | Z12: 7.1 | AA12: 7.6 | AB12: 87.50% | AC12: 160
A13: 12 | B13: INTERNATIONAL JOURNAL OF RADIATION ONCOLOGY BIOLOGY PHYSICS | C13: INT J RADIAT ONCOL | D13: 0360-3016 | E13: 1879-355X | F13: RADIOLOGY, NUCLEAR MEDICINE & MEDICAL IMAGING - SCIE | G13: 46,275 | H13: 7.0 | I13: Q1 | J13: 1.57 | K13: 16.54% | L13: 12/135 | M13: 6.6 | N13: Q1 | O13: 6.5 | P13: 2.2 | Q13: 16/203 | R13: Q1 | S13: 92.36 | T13: 0.03240 | U13: 7.05196 | V13: 1.965 | W13: 91.5 | X13: Q1 | Y13: 264 | Z13: 6.1 | AA13: 10.8 | AB13: 94.29% | AC13: 280
... A204: 203 | B204: Imagen Diagnostica | C204: IMAGEN DIAGN | D204: 2171-3669 | E204: 2171-9705 | F204: RADIOLOGY, NUCLEAR MEDICINE & MEDICAL IMAGING - ESCI | G204: 10 | H204: <0.1 | I204: N/A | J204: 0.01 | K204: 0.00% | L204: N/A | M204: 0.1 | N204: N/A | O204: <0.1 | P204: <0.1 | Q204: 202/203 | R204: Q4 | S204: 0.74 | T204: 0.00000 | U204: 0.00214 | V204: 0.033 | W204: N/A | X204: Q4 | Y204: 6 | Z204: N/A | AA204: N/A | AB204: 100.00% | AC204: 6

Sheet Screen
A1: No | B1: Journal name | C1: Inclusion | D1: 2022 JIF | E1: JIF Quartile | F1: Publisher | G1: Region | H1: Publication frequency | I1: Only in Radiology | J1: Publication model | K1: Homepage | L1: Offical Journal | M1: Submission Guideline
A2: 1 | B2: RADIOLOGY | C2: ☑️ | D2: 19.7 | E2: Q1 | F2: Society | G2: USA | H2: 12 | I2: Y | J2: Hybird | K2: https://pubs.rsna.org/journal/radiology | L2: Radiological Society of North America | M2: https://pubs.rsna.org/page/radiology/author-instructions
A3: 2 | B3: JACC-Cardiovascular Imaging | C3: ☑️ | D3: 14 | E3: Q1 | F3: Elsevier | G3: USA | H3: 12 | I3: N | J3: Hybird | K3: https://www.jacc.org/journal/imaging | L3: American College of Cardiology | M3: https://www.jacc.org/pb-assets/documents/author-instructions-jacc-imaging-1688567245837.pdf
A4: 3 | B4: MEDICAL IMAGE ANALYSIS | C4: ☑️ | D4: 10.9 | E4: Q1 | F4: Elsevier | G4: Netherlands | H4: 8 | I4: N | J4: Hybird | K4: https://www.sciencedirect.com/journal/medical-image-analysis/ | L4: The Medical Image Computing and Computer Assisted Intervention Society | M4: https://www.elsevier.com/journals/medical-image-analysis/1361-8415/guide-for-authors
A5: 4 | B5: CLINICAL NUCLEAR MEDICINE | C5: ☑️ | D5: 10.6 | E5: Q1 | F5: Lippincott Williams & Wilkins | G5: USA | H5: 12 | I5: Y | J5: Hybird | K5: https://journals.lww.com/nuclearmed/pages/default.aspx | L5: American College of Nuclear Medicine | M5: https://edmgr.ovid.com/cnm/accounts/ifauth.htm
A6: 5 | B6: IEEE TRANSACTIONS ON MEDICAL IMAGING | C6: ☑️ | D6: 10.6 | E6: Q1 | F6: Society | G6: USA | H6: 12 | I6: N | J6: Hybird | K6: https://www.embs.org/tmi/ | L6: IEEE Engineering in Medicine and Biology Society | M6: https://ieeetmi.org/authors-instructions
A7: 6 | B7: JOURNAL OF NUCLEAR MEDICINE | C7: ☑️ | D7: 9.3 | E7: Q1 | F7: Society | G7: USA | H7: 12 | I7: Y | J7: Hybird | K7: https://jnm.snmjournals.org | L7: Society of Nuclear Medicine and Molecular Imaging | M7: https://jnm.snmjournals.org/sites/default/files/additional-assets/JNMInfoforAuthors_11082022.pdf
A8: 7 | B8: EUROPEAN JOURNAL OF NUCLEAR MEDICINE AND MOLECULAR IMAGING | C8: ☑️ | D8: 9.1 | E8: Q1 | F8: Springer | G8: Germany | H8: 12 | I8: Y | J8: Hybird | K8: https://www.springer.com/journal/259 | L8: European Association of Nuclear Medicine | M8: https://www.springer.com/journal/259/submission-guidelines
A9: 8 | B9: Radiologia Medica | C9: ☑️ | D9: 8.9 | E9: Q1 | F9: Springer | G9: Italy | H9: 12 | I9: Y | J9: Hybird | K9: https://www.springer.com/journal/11547 | L9: Italian Society of Medical and Interventional Radiology | M9: https://www.springer.com/journal/11547/submission-guidelines
A10: 9 | B10: Photoacoustics | C10: ☑️ | D10: 7.9 | E10: Q1 | F10: Elsevier | G10: Netherlands | H10: 4 | I10: N | J10: Open | K10: https://www.sciencedirect.com/journal/photoacoustics | L10: None | M10: https://www.elsevier.com/journals/photoacoustics/2213-5979/guide-for-authors
A11: 10 | B11: Circulation-Cardiovascular Imaging | C11: ☑️ | D11: 7.5 | E11: Q1 | F11: Lippincott Williams & Wilkins | G11: USA | H11: 12 | I11: N | J11: Hybird | K11: https://www.ahajournals.org/journal/circimaging | L11: American Heart Association | M11: https://www.ahajournals.org/circimaging/author-instructions
A12: 11 | B12: ULTRASOUND IN OBSTETRICS & GYNECOLOGY | C12: ☑️ | D12: 7.1 | E12: Q1 | F12: Wiley | G12: USA | H12: 12 | I12: N | J12: Hybird | K12: https://obgyn.onlinelibrary.wiley.com/journal/14690705/ | L12: International Society of Ultrasound in Obstetrics and Gynecology | M12: https://obgyn.onlinelibrary.wiley.com/hub/journal/14690705/about/author-guidelines
A13: 12 | B13: INTERNATIONAL JOURNAL OF RADIATION ONCOLOGY BIOLOGY PHYSICS | C13: ☑️ | D13: 7 | E13: Q1 | F13: Elsevier | G13: USA | H13: 15 | I13: N | J13: Hybird | K13: https://www.sciencedirect.com/journal/international-journal-of-radiation-oncology-biology-physics | L13: American Society for Radiation Oncology | M13: https://www.astro.org/News-and-Publications/Journals/Author-Instructions
... A47: 46 | B47: RADIATION RESEARCH | C47: ☑️ | D47: 3.4 | E47: Q2 | F47: Society | G47: USA | H47: 12 | I47: N | J47: Hybird | K47: https://meridian.allenpress.com/radiation-research | L47: Radiation Research Society | M47: https://meridian.allenpress.com/DocumentLibrary/RADE/RARE_Info_for_Authors_5-30-2018.pdf
A48: 47 | B48: ULTRASCHALL IN DER MEDIZIN | C48: German | D48: 3.4 | E48: Q2 | F48: N/a | G48: N/a | H48: N/a | I48: N/a | J48: N/a | K48: N/a | L48: N/a | M48: N/a
A49: 48 | B49: DENTOMAXILLOFACIAL RADIOLOGY | C49: ☑️ | D49: 3.3 | E49: Q2 | F49: Society | G49: England | H49: 8 | I49: N | J49: Hybird | K49: https://www.birpublications.org/journal/dmfr | L49: British Institute of Radiology | M49: https://www.birpublications.org/page/ifa/dmfr
A50: 49 | B50: EUROPEAN JOURNAL OF RADIOLOGY | C50: ☑️ | D50: 3.3 | E50: Q2 | F50: Elsevier | G50: Ireland | H50: 12 | I50: Y | J50: Hybird | K50: https://www.sciencedirect.com/journal/european-journal-of-radiology | L50: None | M50: https://www.elsevier.com/journals/european-journal-of-radiology/0720-048X/guide-for-authors
A51: 50 | B51: JOURNAL OF THORACIC IMAGING | C51: ☑️ | D51: 3.3 | E51: Q2 | F51: Lippincott Williams & Wilkins | G51: USA | H51: 6 | I51: Y | J51: Hybird | K51: https://journals.lww.com/thoracicimaging/pages/default.aspx | L51: Society of Thoracic Radiology | M51: https://edmgr.ovid.com/jti/accounts/ifauth.htm
A52: 51 | B52: MAGNETIC RESONANCE IN MEDICINE | C52: ☑️ | D52: 3.3 | E52: Q2 | F52: Wiley | G52: USA | H52: 12 | I52: Y | J52: Hybird | K52: https://onlinelibrary.wiley.com/journal/15222594 | L52: International Society for Magnetic Resonance in Medicine: | M52: https://onlinelibrary.wiley.com/pb-assets/assets/15222594/authorguidelinesdec22-1671206311.pdf
A53: 52 | B53: Practical Radiation Oncology | C53: ☑️ | D53: 3.3 | E53: Q2 | F53: Elsevier | G53: USA | H53: 6 | I53: N | J53: Hybird | K53: https://www.practicalradonc.org | L53: American Society for Radiation Oncology | M53: https://www.astro.org/News-and-Publications/Journals/Author-Instructions
A54: 53 | B54: EJNMMI Research | C54: ☑️ | D54: 3.2 | E54: Q2 | F54: Springer | G54: Germany | H54: 1 | I54: Y | J54: Open | K54: https://ejnmmires.springeropen.com | L54: American College of Nuclear Medicine | M54: https://ejnmmires.springeropen.com/submission-guidelines
A55: 54 | B55: CANADIAN ASSOCIATION OF RADIOLOGISTS JOURNAL-JOURNAL DE L ASSOCIATION CANADIENNE DES RADIOLOGISTES | C55: ☑️ | D55: 3.1 | E55: Q2 | F55: SAGE | G55: Canada | H55: 1 | I55: Y | J55: Hybird | K55: https://journals.sagepub.com/home/caj | L55: Canadian Association of Radiologists | M55: https://journals.sagepub.com/author-instructions/CAJ
A56: 55 | B56: Clinical and Translational Radiation Oncology | C56: ☑️ | D56: 3.1 | E56: Q2 | F56: Elsevier | G56: Ireland | H56: 6 | I56: N | J56: Open | K56: https://www.sciencedirect.com/journal/clinical-and-translational-radiation-oncology?utm_medium=SRCH&dgcid=STMJ_1648021317_SC&utm_source=B&utm_campaign=STMJ_1648021317_SC | L56: European Society for Radiotherapy & Oncology | M56: https://www.elsevier.com/journals/clinical-and-translational-radiation-oncology/2405-6308/guide-for-authors
A57: 56 | B57: INTERNATIONAL JOURNAL OF HYPERTHERMIA | C57: ☑️ | D57: 3.1 | E57: Q2 | F57: Taylor & Francis | G57: England | H57: 8 | I57: N | J57: Open | K57: https://www.tandfonline.com/journals/ihyt20?utm_source=TFO&utm_medium=cms&utm_campaign=JRA25531 | L57: Society for Thermal Medicine | M57: https://www.tandfonline.com/action/authorSubmission?show=instructions&journalCode=ihyt20
A58: 57 | B58: MOLECULAR IMAGING AND BIOLOGY | C58: ☑️ | D58: 3.1 | E58: Q2 | F58: Springer | G58: USA | H58: 6 | I58: Y | J58: Hybird | K58: https://www.springer.com/journal/11307 | L58: World Molecular Imaging Society | M58: https://www.springer.com/journal/11307/submission-guidelines
A59: 58 | B59: NUCLEAR MEDICINE AND BIOLOGY | C59: ☑️ | D59: 3.1 | E59: Q2 | F59: Elsevier | G59: USA | H59: 8 | I59: Y | J59: Hybird | K59: https://www.sciencedirect.com/journal/nuclear-medicine-and-biology | L59: Society of Radiopharmaceutical Sciences | M59: https://www.elsevier.com/journals/nuclear-medicine-and-biology/0969-8051/guide-for-authors
A60: 59 | B60: STRAHLENTHERAPIE UND ONKOLOGIE | C60: ☑️ | D60: 3.1 | E60: Q2 | F60: Springer | G60: Germany | H60: 12 | I60: N | J60: Hybird | K60: https://www.springer.com/journal/66 | L60: German Society of Radiation Oncology | M60: https://www.springer.com/journal/66/submission-guidelines
... A104: 103 | B104: Journal of Medical Ultrasonics | C104: ☑️ | D104: 1.8 | E104: Q4 | F104: Springer | G104: Japan | H104: 4 | I104: Y | J104: Hybird | K104: https://www.springer.com/journal/10396 | L104: Japan Society of Ultrasonics in Medicine. | M104: https://www.springer.com/journal/10396/submission-guidelines
A105: 104 | B105: ROFO-FORTSCHRITTE AUF DEM GEBIET DER RONTGENSTRAHLEN UND DER BILDGEBENDEN VERFAHREN | C105: German | D105: 1.8 | E105: Q4 | F105: N/a | G105: N/a | H105: N/a | I105: N/a | J105: N/a | K105: N/a | L105: N/a | M105: N/a
A106: 105 | B106: INTERVENTIONAL NEURORADIOLOGY | C106: ☑️ | D106: 1.7 | E106: Q4 | F106: SAGE | G106: Italy | H106: 4 | I106: N | J106: Hybird | K106: https://journals.sagepub.com/home/ine | L106: None | M106: https://journals.sagepub.com/author-instructions/INE
A107: 106 | B107: Medical Ultrasonography | C107: ☑️ | D107: 1.7 | E107: Q4 | F107: Society | G107: Romania | H107: 4 | I107: N | J107: Open | K107: https://www.medultrason.ro/medultrason/index.php/medultrason | L107: Romanian Society for Ultrasonography in Medicine and Biology | M107: https://www.medultrason.ro/medultrason/index.php/medultrason/about/submissions#authorGuidelines
A108: 107 | B108: RADIATION AND ENVIRONMENTAL BIOPHYSICS | C108: ☑️ | D108: 1.7 | E108: Q4 | F108: Springer | G108: Germany | H108: 4 | I108: N | J108: Hybird | K108: https://www.springer.com/journal/411 | L108: None | M108: https://www.springer.com/journal/411/submission-guidelines
A109: 108 | B109: Applied Radiation and Isotopes | C109: ☑️ | D109: 1.6 | E109: Q4 | F109: Elsevier | G109: USA | H109: 12 | I109: N | J109: Hybird | K109: https://www.sciencedirect.com/journal/applied-radiation-and-isotopes | L109: None | M109: https://www.elsevier.com/journals/applied-radiation-and-isotopes/0969-8043/guide-for-authors
A110: 109 | B110: Journal of Medical Imaging and Radiation Oncology | C110: ☑️ | D110: 1.6 | E110: Q4 | F110: Wiley | G110: Australia | H110: 8 | I110: Y | J110: Hybird | K110: https://onlinelibrary.wiley.com/journal/17549485/ | L110: Royal Australian and New Zealand College of Radiologists | M110: https://onlinelibrary.wiley.com/page/journal/17549485/homepage/forauthors.html
A111: 110 | B111: Magnetic Resonance Imaging Clinics of North America | C111: ☑️ | D111: 1.6 | E111: Q4 | F111: Elsevier | G111: USA | H111: 4 | I111: Y | J111: Hybird | K111: https://www.mri.theclinics.com | L111: None | M111: https://www.theclinics.com/authorinformation
A112: 111 | B112: Hellenic Journal of Nuclear Medicine | C112: ☑️ | D112: 1.5 | E112: Q4 | F112: Society | G112: Greece | H112: 3 | I112: Y | J112: Open | K112: https://www.nuclmed.gr/about/ | L112: Hellenic Society of Nuclear Medicine | M112: https://www.nuclmed.gr/wp/wp-content/uploads/2017/04/instructions-to-authors-en.pdf
A113: 112 | B113: JOURNAL OF RADIOLOGICAL PROTECTION | C113: ☑️ | D113: 1.5 | E113: Q4 | F113: IOP | G113: England | H113: 4 | I113: N | J113: Hybird | K113: https://iopscience.iop.org/journal/0952-4746 | L113: Society for Radiological Protection | M113: https://publishingsupport.iopscience.iop.org/journals/journal-of-radiological-protection/
A114: 113 | B114: NUCLEAR MEDICINE COMMUNICATIONS | C114: ☑️ | D114: 1.5 | E114: Q4 | F114: Lippincott Williams & Wilkins | G114: USA | H114: 12 | I114: Y | J114: Hybird | K114: https://journals.lww.com/nuclearmedicinecomm/Pages/default.aspx | L114: British Nuclear Medicine Society | M114: https://edmgr.ovid.com/nmc/accounts/ifauth.htm
A115: 114 | B115: NUKLEARMEDIZIN-NUCLEAR MEDICINE | C115: German | D115: 1.5 | E115: Q4 | F115: N/a | G115: N/a | H115: N/a | I115: N/a | J115: N/a | K115: N/a | L115: N/a | M115: N/a
A116: 115 | B116: QUARTERLY JOURNAL OF NUCLEAR MEDICINE AND MOLECULAR IMAGING | C116: ☑️ | D116: 1.5 | E116: Q4 | F116: Edizioni Minerva Medica | G116: Italy | H116: 4 | I116: Y | J116: Hybird | K116: https://www.minervamedica.it/en/journals/nuclear-med-molecular-imaging/index.php | L116: Society of Radiopharmaceutical Sciences | M116: https://www.minervamedica.it/en/journals/nuclear-med-molecular-imaging/notice-to-authors.php
A117: 116 | B117: Current Medical Imaging | C117: ☑️ | D117: 1.4 | E117: Q4 | F117: Bentham | G117: United Arab Emirates | H117: 6 | I117: Y | J117: Open | K117: https://www.eurekaselect.com/journal/33 | L117: None | M117: https://www.eurekaselect.com/pages/author-guidelines
A118: 117 | B118: Journal of Contemporary Brachytherapy | C118: ☑️ | D118: 1.4 | E118: Q4 | F118: Termedia Publishing House | G118: Poland | H118: 4 | I118: N | J118: Open | K118: https://www.termedia.pl/Journal/-54 | L118: Polish Brachytherapy Society and Indian Brachytherapy Society | M118: https://www.termedia.pl/Journal/Journal_of_Contemporary_Brachytherapy-54/Strona-774
A119: 118 | B119: SEMINARS IN INTERVENTIONAL RADIOLOGY | C119: ☑️ | D119: 1.4 | E119: Q4 | F119: Thieme | G119: USA | H119: 4 | I119: Y | J119: Hybird | K119: https://www.thiemechina.com/Index/show/catid/124/id/362.html | L119: None | M119: https://web.thieme.com/media/ita/pubid2048889311.pdf
A120: 119 | B120: SEMINARS IN MUSCULOSKELETAL RADIOLOGY | C120: ☑️ | D120: 1.4 | E120: Q4 | F120: Thieme | G120: USA | H120: 5 | I120: Y | J120: Hybird | K120: https://www.thiemechina.com/Index/show/catid/124/id/363.html | L120: None | M120: https://web.thieme.com/media/ita/pubid393203678.pdf
A121: 120 | B121: SURGICAL AND RADIOLOGIC ANATOMY | C121: ☑️ | D121: 1.4 | E121: Q4 | F121: Springer | G121: France | H121: 10 | I121: N | J121: Hybird | K121: https://www.springer.com/journal/276 | L121: None | M121: https://www.springer.com/journal/276/submission-guidelines
A122: 121 | B122: ACTA RADIOLOGICA | C122: ☑️ | D122: 1.3 | E122: Q4 | F122: SAGE | G122: England | H122: 12 | I122: Y | J122: Hybird | K122: https://journals.sagepub.com/home/acr | L122: Societies of medical radiology in Denmark, Finland, Iceland, Norway and Sweden | M122: https://journals.sagepub.com/author-instructions/ACR
A123: 122 | B123: Cancer Radiotherapie | C123: French | D123: 1.3 | E123: Q4 | F123: N/a | G123: N/a | H123: N/a | I123: N/a | J123: N/a | K123: N/a | L123: N/a | M123: N/a
A124: 123 | B124: JOURNAL OF COMPUTER ASSISTED TOMOGRAPHY | C124: ☑️ | D124: 1.3 | E124: Q4 | F124: Lippincott Williams & Wilkins | G124: USA | H124: 6 | I124: Y | J124: Hybird | K124: https://journals.lww.com/jcat/pages/default.aspx | L124: None | M124: https://journals.lww.com/jcat/Pages/informationforauthors.aspx
A125: 124 | B125: Ultrasound Quarterly | C125: ☑️ | D125: 1.3 | E125: Q4 | F125: Lippincott Williams & Wilkins | G125: USA | H125: 4 | I125: Y | J125: Hybird | K125: https://journals.lww.com/ultrasound-quarterly/pages/default.aspx | L125: Society of Radiologists in Ultrasound | M125: https://edmgr.ovid.com/usq/accounts/ifauth.htm
A126: 125 | B126: Medical Dosimetry | C126: ☑️ | D126: 1.2 | E126: Q4 | F126: Elsevier | G126: USA | H126: 4 | I126: N | J126: Hybird | K126: https://www.sciencedirect.com/journal/medical-dosimetry | L126: American Association of Medical Dosimetrists | M126: https://www.elsevier.com/journals/medical-dosimetry/0958-3947/guide-for-authors
A127: 126 | B127: Revista Espanola de Medicina Nuclear e Imagen Molecular | C127: Spanish | D127: 1.2 | E127: Q4 | F127: N/a | G127: N/a | H127: N/a | I127: N/a | J127: N/a | K127: N/a | L127: N/a | M127: N/a
A128: 127 | B128: RADIOPROTECTION | C128: French | D128: 1.1 | E128: Q4 | F128: N/a | G128: N/a | H128: N/a | I128: N/a | J128: N/a | K128: N/a | L128: N/a | M128: N/a
A129: 128 | B129: SEMINARS IN ULTRASOUND CT AND MRI | C129: Not avaliable document | D129: 1.1 | E129: Q4 | F129: Elsevier | G129: USA | H129: 6 | I129: Y | J129: Hybird | K129: https://www.sciencedirect.com/journal/seminars-in-ultrasound-ct-and-mri | L129: None | M129: https://www.sciencedirect.com/journal/seminars-in-ultrasound-ct-and-mri/publish/guide-for-authors
A130: 129 | B130: RADIATION PROTECTION DOSIMETRY | C130: ☑️ | D130: 1 | E130: Q4 | F130: Oxford | G130: England | H130: 20 | I130: N | J130: Hybird | K130: https://academic.oup.com/rpd | L130: None | M130: https://academic.oup.com/rpd/pages/General_Instructions
A131: 130 | B131: JOURNAL OF CLINICAL ULTRASOUND | C131: ☑️ | D131: 0.9 | E131: Q4 | F131: Wiley | G131: USA | H131: 9 | I131: N | J131: Hybird | K131: https://onlinelibrary.wiley.com/journal/10970096 | L131: None | M131: https://onlinelibrary.wiley.com/page/journal/10970096/homepage/forauthors.html
A132: 131 | B132: Radiologie | C132: German | D132: 0.7 | E132: Q4 | F132: N/a | G132: N/a | H132: N/a | I132: N/a | J132: N/a | K132: N/a | L132: N/a | M132: N/a
A133: 132 | B133: CONCEPTS IN MAGNETIC RESONANCE PART A | C133: ☑️ | D133: 0.6 | E133: Q4 | F133: Hindawi | G133: USA | H133: 1 | I133: N | J133: Hybird | K133: https://www.hindawi.com/journals/cmra/ | L133: None | M133: https://www.hindawi.com/journals/cmra/guidelines/
A134: 133 | B134: International Journal of Radiation Research | C134: ☑️ | D134: 0.6 | E134: Q4 | F134: Baresh-e-Danesh | G134: Iran | H134: 4 | I134: Y | J134: Open | K134: http://ijrr.com/page.php?slct_pg_id=12&sid=1&slc_lang=en | L134: None | M134: http://ijrr.com/page/18/Submission-Instructions
A135: 134 | B135: SEMINARS IN ROENTGENOLOGY | C135: ☑️ | D135: 0.4 | E135: Q4 | F135: Elsevier | G135: USA | H135: 4 | I135: Y | J135: Hybird | K135: https://www.sciencedirect.com/journal/seminars-in-roentgenology | L135: None | M135: https://www.sciencedirect.com/journal/seminars-in-roentgenology/publish/guide-for-authors
A136: 135 | B136: Iranian Journal of Radiology | C136: Not avaliable website | D136: 0.3 | E136: Q4 | F136: N/a | G136: N/a | H136: N/a | I136: N/a | J136: N/a | K136: N/a | L136: N/a | M136: N/a
A137: 136 | B137: Journal of Medical Imaging | C137: ☑️ | D137: 2.4 | E137: N. a. | F137: Society | G137: USA | H137: 4 | I137: Y | J137: Hybird | K137: https://www.spiedigitallibrary.org/journals/journal-of-medical-imaging?SSO=1 | L137: Society of Photo-Optical Instrumentation Engineers | M137: https://www.spiedigitallibrary.org/journals/journal-of-medical-imaging/author-guidelines#navBarAnchor
A138: 137 | B138: Radiography | C138: ☑️ | D138: 2.6 | E138: N. a. | F138: Elsevier | G138: England | H138: 4 | I138: Y | J138: Hybird | K138: https://www.sciencedirect.com/journal/radiography/ | L138: Society and College of Radiographers and the European Federation of Radiographer Societies | M138: https://www.sciencedirect.com/journal/radiography/publish/guide-for-authors
A139: 138 | B139: Emergency Radiology | C139: ☑️ | D139: 2.2 | E139: N. a. | F139: Springer | G139: Germany | H139: 6 | I139: Y | J139: Hybird | K139: https://link.springer.com/journal/10140 | L139: American Society of Emergency Radiology | M139: https://link.springer.com/journal/10140/submission-guidelines
A140: 139 | B140: Advances in Radiation Oncology | C140: ☑️ | D140: 2.3 | E140: N. a. | F140: Elsevier | G140: USA | H140: 4 | I140: N | J140: Open | K140: https://www.sciencedirect.com/journal/advances-in-radiation-oncology | L140: American Society for Radiation Oncology | M140: https://www.astro.org/News-and-Publications/Journals/Advances-in-Radiation-Oncology/Advances-Instructions-for-Authors
A141: 140 | B141: Biomedical Physics & Engineering Express | C141: ☑️ | D141: 1.4 | E141: N. a. | F141: IOP | G141: England | H141: 6 | I141: Y | J141: Hybird | K141: https://iopscience.iop.org/journal/2057-1976 | L141: None | M141: https://publishingsupport.iopscience.iop.org/journals/biomedical-physics-engineering-express/
A142: 141 | B142: Radiology-Artificial Intelligence | C142: ☑️ | D142: 9.8 | E142: N. a. | F142: Society | G142: USA | H142: 6 | I142: N | J142: Hybird | K142: https://pubs.rsna.org/journal/ai | L142: Radiological Society of North America | M142: https://pubs.rsna.org/page/ai/author-instructions
A143: 142 | B143: World Journal of Radiology | C143: ☑️ | D143: 2.5 | E143: N. a. | F143: Baishideng | G143: USA | H143: 12 | I143: Y | J143: Open | K143: https://www.wjgnet.com/1949-8470/about.htm | L143: None | M143: https://www.wjgnet.com/bpg/gerinfo/204
A144: 143 | B144: IEEE Transactions on Radiation and Plasma Medical Sciences | C144: ☑️ | D144: 4.4 | E144: N. a. | F144: IEEE | G144: USA | H144: 6 | I144: Y | J144: Hybird | K144: https://ieeexplore.ieee.org/xpl/RecentIssue.jsp?punumber=7433213 | L144: Nuclear and Plasma Science Society | M144: https://journals.ieeeauthorcenter.ieee.org/submit-your-article-for-peer-review/the-ieee-article-submission-process/
A145: 144 | B145: Radiology-Cardiothoracic Imaging | C145: ☑️ | D145: 7 | E145: N. a. | F145: Society | G145: USA | H145: 6 | I145: Y | J145: Hybird | K145: https://pubs.rsna.org/journal/cardiothoracic | L145: Radiological Society of North America | M145: https://pubs.rsna.org/page/cardiothoracic/author-instructions
A146: 145 | B146: Journal of Ultrasound | C146: ☑️ | D146: 2 | E146: N. a. | F146: Springer | G146: Netherlands | H146: 4 | I146: Y | J146: Hybird | K146: https://link.springer.com/journal/40477 | L146: Italian Society for Ultrasound in Medicine and Biology | M146: https://link.springer.com/journal/40477/submission-guidelines
A147: 146 | B147: Reports of Practical Oncology and Radiotherapy | C147: ☑️ | D147: 1.2 | E147: N. a. | F147: Via Medica | G147: Poland | H147: 6 | I147: N | J147: Hybird | K147: https://journals.viamedica.pl/rpor/index | L147: Polish Society of Radiation Oncology | M147: https://journals.viamedica.pl/rpor/about
A148: 147 | B148: Current Problems in Diagnostic Radiology | C148: ☑️ | D148: 1.4 | E148: N. a. | F148: Elsevier | G148: USA | H148: 6 | I148: Y | J148: Hybird | K148: https://www.sciencedirect.com/journal/current-problems-in-diagnostic-radiology | L148: None | M148: https://www.sciencedirect.com/journal/current-problems-in-diagnostic-radiology/publish/guide-for-authors
... A196: 195 | B196: Journal of Radiation Protection and Research | C196: ☑️ | D196: 0.5 | E196: N. a. | F196: Society | G196: South Korea | H196: 4 | I196: N | J196: Open | K196: https://www.jrpr.org | L196: Korean Association for Radiation Protection, Japan Health Physics Society, and Australasian Radiation Protection Society | M196: https://www.jrpr.org/authors/authors.php
A197: 196 | B197: Polish Journal of Medical Physics and Engineering | C197: Not avaliable website | D197: 0.4 | E197: N. a. | F197: N/a | G197: N/a | H197: N/a | I197: N/a | J197: N/a | K197: N/a | L197: N/a | M197: N/a
A198: 197 | B198: Iranian Journal of Nuclear Medicine | C198: Not avaliable website | D198: 0.3 | E198: N. a. | F198: N/a | G198: N/a | H198: N/a | I198: N/a | J198: N/a | K198: N/a | L198: N/a | M198: N/a
A199: 198 | B199: Sonography | C199: ☑️ | D199: 0.4 | E199: N. a. | F199: Wiley | G199: Australia | H199: 4 | I199: Y | J199: Hybird | K199: https://onlinelibrary.wiley.com/journal/20546750 | L199: Australasian Sonographers Association | M199: https://onlinelibrary.wiley.com/page/journal/20546750/homepage/forauthors.html
A200: 199 | B200: Hong Kong Journal of Radiology | C200: ☑️ | D200: 0.2 | E200: N. a. | F200: Society | G200: Hong Kong | H200: 4 | I200: Y | J200: Open | K200: https://www.hkjr.org/page/home-page | L200: Hong Kong College of Radiologists | M200: https://www.hkjr.org/page/information-authors
A201: 200 | B201: West African Journal of Radiology | C201: ☑️ | D201: <0.1 | E201: N. a. | F201: Lippincott Williams & Wilkins | G201: Nigeria | H201: 2 | I201: Y | J201: Open | K201: https://journals.lww.com/wajr/pages/default.aspx | L201: Association of Radiologists of West Africa | M201: https://journals.lww.com/wajr/Pages/informationforauthors.aspx
A202: 201 | B202: Imagerie de la Femme | C202: French | D202: 0.1 | E202: N. a. | F202: N/a | G202: N/a | H202: N/a | I202: N/a | J202: N/a | K202: N/a | L202: N/a | M202: N/a
A203: 202 | B203: Contemporary Diagnostic Radiology | C203: ☑️ | D203: 0.1 | E203: N. a. | F203: Lippincott Williams & Wilkins | G203: USA | H203: 26 | I203: Y | J203: Hybird | K203: https://journals.lww.com/cdronline/pages/default.aspx | L203: None | M203: https://journals.lww.com/cdronline/Pages/informationforauthors.aspx
A204: 203 | B204: Imagen Diagnostica | C204: Spanish | D204: <0.1 | E204: N. a. | F204: N/a | G204: N/a | H204: N/a | I204: N/a | J204: N/a | K204: N/a | L204: N/a | M204: N/a

Sheet R_1
A1: No | B1: Journal name | C1: Inclusion | D1: R_1 | E1: Date | F1: 2022 JIF | G1: JIF Quartile | H1: Publisher | I1: Region | J1: Publication frequency | K1: Only in Radiology | L1: Publication model | M1: Homepage | N1: Offical Journal | O1: Submission Guideline | P1: Present | Q1: Author | R1: Reviewer | S1: Editor | T1: 1.Use | U1: 2.Tool | V1: 3.Section | W1: 4.Role | X1: 5.Verification | Y1: 6.Influence
A2: 1 | B2: RADIOLOGY | C2: ☑️ | D2: ZJY | E2: 45287 | F2: 19.7 | G2: Q1 | H2: Society | I2: USA | J2: 12 | K2: Y | L2: Hybird | M2: https://pubs.rsna.org/journal/radiology | N2: Radiological Society of North America | O2: https://pubs.rsna.org/page/radiology/author-instructions | P2: 1 | Q2: 1 | R2: 1 | S2: 0 | T2: 1 | U2: 1 | V2: 0 | W2: 1 | X2: 1 | Y2: 0
A3: 2 | B3: JACC-Cardiovascular Imaging | C3: ☑️ | D3: ZJY | E3: 45286 | F3: 14 | G3: Q1 | H3: Elsevier | I3: USA | J3: 12 | K3: N | L3: Hybird | M3: https://www.jacc.org/journal/imaging | N3: American College of Cardiology | O3: https://www.jacc.org/pb-assets/documents/author-instructions-jacc-imaging-1688567245837.pdf | P3: 0 | Q3: 0 | R3: 0 | S3: 0 | T3: 0 | U3: 0 | V3: 0 | W3: 0 | X3: 0 | Y3: 0
A4: 3 | B4: MEDICAL IMAGE ANALYSIS | C4: ☑️ | D4: ZJY | E4: 45286 | F4: 10.9 | G4: Q1 | H4: Elsevier | I4: Netherlands | J4: 8 | K4: N | L4: Hybird | M4: https://www.sciencedirect.com/journal/medical-image-analysis/ | N4: The Medical Image Computing and Computer Assisted Intervention Society | O4: https://www.elsevier.com/journals/medical-image-analysis/1361-8415/guide-for-authors | P4: 1 | Q4: 1 | R4: 1 | S4: 1 | T4: 1 | U4: 1 | V4: 0 | W4: 1 | X4: 1 | Y4: 0
A5: 4 | B5: CLINICAL NUCLEAR MEDICINE | C5: ☑️ | D5: ZJY | E5: 45287 | F5: 10.6 | G5: Q1 | H5: Lippincott Williams & Wilkins | I5: USA | J5: 12 | K5: Y | L5: Hybird | M5: https://journals.lww.com/nuclearmed/pages/default.aspx | N5: American College of Nuclear Medicine | O5: https://edmgr.ovid.com/cnm/accounts/ifauth.htm | P5: 0 | Q5: 0 | R5: 0 | S5: 0 | T5: 0 | U5: 0 | V5: 0 | W5: 0 | X5: 0 | Y5: 0
A6: 5 | B6: IEEE TRANSACTIONS ON MEDICAL IMAGING | C6: ☑️ | D6: ZJY | E6: 45287 | F6: 10.6 | G6: Q1 | H6: Society | I6: USA | J6: 12 | K6: N | L6: Hybird | M6: https://www.embs.org/tmi/ | N6: IEEE Engineering in Medicine and Biology Society | O6: https://ieeetmi.org/authors-instructions | P6: 0 | Q6: 0 | R6: 0 | S6: 0 | T6: 0 | U6: 0 | V6: 0 | W6: 0 | X6: 0 | Y6: 0
A7: 6 | B7: JOURNAL OF NUCLEAR MEDICINE | C7: ☑️ | D7: ZJY | E7: 45287 | F7: 9.3 | G7: Q1 | H7: Society | I7: USA | J7: 12 | K7: Y | L7: Hybird | M7: https://jnm.snmjournals.org | N7: Society of Nuclear Medicine and Molecular Imaging | O7: https://jnm.snmjournals.org/sites/default/files/additional-assets/JNMInfoforAuthors_11082022.pdf | P7: 0 | Q7: 0 | R7: 0 | S7: 0 | T7: 0 | U7: 0 | V7: 0 | W7: 0 | X7: 0 | Y7: 0
A8: 7 | B8: EUROPEAN JOURNAL OF NUCLEAR MEDICINE AND MOLECULAR IMAGING | C8: ☑️ | D8: ZJY | E8: 45286 | F8: 9.1 | G8: Q1 | H8: Springer | I8: Germany | J8: 12 | K8: Y | L8: Hybird | M8: https://www.springer.com/journal/259 | N8: European Association of Nuclear Medicine | O8: https://www.springer.com/journal/259/submission-guidelines | P8: 0 | Q8: 0 | R8: 0 | S8: 0 | T8: 0 | U8: 0 | V8: 0 | W8: 0 | X8: 0 | Y8: 0
A9: 8 | B9: Radiologia Medica | C9: ☑️ | D9: ZJY | E9: 45286 | F9: 8.9 | G9: Q1 | H9: Springer | I9: Italy | J9: 12 | K9: Y | L9: Hybird | M9: https://www.springer.com/journal/11547 | N9: Italian Society of Medical and Interventional Radiology | O9: https://www.springer.com/journal/11547/submission-guidelines | P9: 0 | Q9: 0 | R9: 0 | S9: 0 | T9: 0 | U9: 0 | V9: 0 | W9: 0 | X9: 0 | Y9: 0
A10: 9 | B10: Photoacoustics | C10: ☑️ | D10: ZJY | E10: 45286 | F10: 7.9 | G10: Q1 | H10: Elsevier | I10: Netherlands | J10: 4 | K10: N | L10: Open | M10: https://www.sciencedirect.com/journal/photoacoustics | N10: None | O10: https://www.elsevier.com/journals/photoacoustics/2213-5979/guide-for-authors | P10: 1 | Q10: 1 | R10: 1 | S10: 1 | T10: 1 | U10: 1 | V10: 0 | W10: 1 | X10: 1 | Y10: 0
A11: 10 | B11: Circulation-Cardiovascular Imaging | C11: ☑️ | D11: ZJY | E11: 45287 | F11: 7.5 | G11: Q1 | H11: Lippincott Williams & Wilkins | I11: USA | J11: 12 | K11: N | L11: Hybird | M11: https://www.ahajournals.org/journal/circimaging | N11: American Heart Association | O11: https://www.ahajournals.org/circimaging/author-instructions | P11: 0 | Q11: 0 | R11: 0 | S11: 0 | T11: 0 | U11: 0 | V11: 0 | W11: 0 | X11: 0 | Y11: 0
A12: 11 | B12: ULTRASOUND IN OBSTETRICS & GYNECOLOGY | C12: ☑️ | D12: ZJY | E12: 45287 | F12: 7.1 | G12: Q1 | H12: Wiley | I12: USA | J12: 12 | K12: N | L12: Hybird | M12: https://obgyn.onlinelibrary.wiley.com/journal/14690705/ | N12: International Society of Ultrasound in Obstetrics and Gynecology | O12: https://obgyn.onlinelibrary.wiley.com/hub/journal/14690705/about/author-guidelines | P12: 0 | Q12: 0 | R12: 0 | S12: 0 | T12: 0 | U12: 0 | V12: 0 | W12: 0 | X12: 0 | Y12: 0
A13: 12 | B13: INTERNATIONAL JOURNAL OF RADIATION ONCOLOGY BIOLOGY PHYSICS | C13: ☑️ | D13: ZJY | E13: 45286 | F13: 7 | G13: Q1 | H13: Elsevier | I13: USA | J13: 15 | K13: N | L13: Hybird | M13: https://www.sciencedirect.com/journal/international-journal-of-radiation-oncology-biology-physics | N13: American Society for Radiation Oncology | O13: https://www.astro.org/News-and-Publications/Journals/Author-Instructions | P13: 1 | Q13: 1 | R13: 1 | S13: 1 | T13: 1 | U13: 1 | V13: 0 | W13: 1 | X13: 1 | Y13: 0
... A42: 41 | B42: PHYSICS IN MEDICINE AND BIOLOGY | C42: ☑️ | D42: ZJY | E42: 45287 | F42: 3.5 | G42: Q2 | H42: IOP | I42: England | J42: 24 | K42: N | L42: Hybird | M42: https://iopscience.iop.org/journal/0031-9155 | N42: Institute of Physics and Engineering in Medicine | O42: https://publishingsupport.iopscience.iop.org/journals/physics-in-medicine-biology/ | P42: 0 | Q42: 0 | R42: 0 | S42: 0 | T42: 0 | U42: 0 | V42: 0 | W42: 0 | X42: 0 | Y42: 0
A43: 42 | B43: SEMINARS IN RADIATION ONCOLOGY | C43: Not avaliable document | D43: ZJY | E43: 45286 | F43: 3.5 | G43: Q2 | H43: Elsevier | I43: USA | J43: 4 | K43: N | L43: Hybird | M43: https://www.sciencedirect.com/journal/seminars-in-radiation-oncology | N43: None | O43: https://www.sciencedirect.com/journal/seminars-in-radiation-oncology/publish/guide-for-authors | P43: N/a | Q43: N/a | R43: N/a | S43: N/a | T43: N/a | U43: N/a | V43: N/a | W43: N/a | X43: N/a | Y43: N/a
A44: 43 | B44: Biomedical Optics Express | C44: ☑️ | D44: ZJY | E44: 45287 | F44: 3.4 | G44: Q2 | H44: Optica Publishing Group | I44: USA | J44: 12 | K44: N | L44: Open | M44: https://opg.optica.org/boe/home.cfm | N44: None | O44: https://opg.optica.org/boe/author/author.cfm | P44: 0 | Q44: 0 | R44: 0 | S44: 0 | T44: 0 | U44: 0 | V44: 0 | W44: 0 | X44: 0 | Y44: 0
A45: 44 | B45: CANCER BIOTHERAPY AND RADIOPHARMACEUTICALS | C45: ☑️ | D45: ZJY | E45: 45287 | F45: 3.4 | G45: Q2 | H45: Mary Ann Libert | I45: USA | J45: 10 | K45: N | L45: Hybird | M45: https://home.liebertpub.com/publications/cancer-biotherapy-and-radiopharmaceuticals/8/ | N45: None | O45: https://home.liebertpub.com/publications/cancer-biotherapy-and-radiopharmaceuticals/8/for-authors#policies | P45: 0 | Q45: 0 | R45: 0 | S45: 0 | T45: 0 | U45: 0 | V45: 0 | W45: 0 | X45: 0 | Y45: 0
A46: 45 | B46: Physica Medica-European Journal of Medical Physics | C46: ☑️ | D46: ZJY | E46: 45286 | F46: 3.4 | G46: Q2 | H46: Elsevier | I46: Italy | J46: 8 | K46: Y | L46: Hybird | M46: https://www.physicamedica.com | N46: International Organization for Medical Physics | O46: https://www.physicamedica.com/content/authorinfo | P46: 1 | Q46: 1 | R46: 1 | S46: 1 | T46: 1 | U46: 1 | V46: 0 | W46: 1 | X46: 1 | Y46: 0
A47: 46 | B47: RADIATION RESEARCH | C47: ☑️ | D47: ZJY | E47: 45287 | F47: 3.4 | G47: Q2 | H47: Society | I47: USA | J47: 12 | K47: N | L47: Hybird | M47: https://meridian.allenpress.com/radiation-research | N47: Radiation Research Society | O47: https://meridian.allenpress.com/DocumentLibrary/RADE/RARE_Info_for_Authors_5-30-2018.pdf | P47: 0 | Q47: 0 | R47: 0 | S47: 0 | T47: 0 | U47: 0 | V47: 0 | W47: 0 | X47: 0 | Y47: 0
A48: 47 | B48: ULTRASCHALL IN DER MEDIZIN | C48: German | D48: N/a | E48: N/a | F48: 3.4 | G48: Q2 | H48: N/a | I48: N/a | J48: N/a | K48: N/a | L48: N/a | M48: N/a | N48: N/a | O48: N/a | P48: N/a | Q48: N/a | R48: N/a | S48: N/a | T48: N/a | U48: N/a | V48: N/a | W48: N/a | X48: N/a | Y48: N/a
A49: 48 | B49: DENTOMAXILLOFACIAL RADIOLOGY | C49: ☑️ | D49: ZJY | E49: 45287 | F49: 3.3 | G49: Q2 | H49: Society | I49: England | J49: 8 | K49: N | L49: Hybird | M49: https://www.birpublications.org/journal/dmfr | N49: British Institute of Radiology | O49: https://www.birpublications.org/page/ifa/dmfr | P49: 0 | Q49: 0 | R49: 0 | S49: 0 | T49: 0 | U49: 0 | V49: 0 | W49: 0 | X49: 0 | Y49: 0
A50: 49 | B50: EUROPEAN JOURNAL OF RADIOLOGY | C50: ☑️ | D50: ZJY | E50: 45286 | F50: 3.3 | G50: Q2 | H50: Elsevier | I50: Ireland | J50: 12 | K50: Y | L50: Hybird | M50: https://www.sciencedirect.com/journal/european-journal-of-radiology | N50: None | O50: https://www.elsevier.com/journals/european-journal-of-radiology/0720-048X/guide-for-authors | P50: 1 | Q50: 1 | R50: 1 | S50: 1 | T50: 1 | U50: 1 | V50: 0 | W50: 1 | X50: 1 | Y50: 0
A51: 50 | B51: JOURNAL OF THORACIC IMAGING | C51: ☑️ | D51: ZJY | E51: 45287 | F51: 3.3 | G51: Q2 | H51: Lippincott Williams & Wilkins | I51: USA | J51: 6 | K51: Y | L51: Hybird | M51: https://journals.lww.com/thoracicimaging/pages/default.aspx | N51: Society of Thoracic Radiology | O51: https://edmgr.ovid.com/jti/accounts/ifauth.htm | P51: 0 | Q51: 0 | R51: 0 | S51: 0 | T51: 0 | U51: 0 | V51: 0 | W51: 0 | X51: 0 | Y51: 0
A52: 51 | B52: MAGNETIC RESONANCE IN MEDICINE | C52: ☑️ | D52: ZJY | E52: 45287 | F52: 3.3 | G52: Q2 | H52: Wiley | I52: USA | J52: 12 | K52: Y | L52: Hybird | M52: https://onlinelibrary.wiley.com/journal/15222594 | N52: International Society for Magnetic Resonance in Medicine: | O52: https://onlinelibrary.wiley.com/pb-assets/assets/15222594/authorguidelinesdec22-1671206311.pdf | P52: 0 | Q52: 0 | R52: 0 | S52: 0 | T52: 0 | U52: 0 | V52: 0 | W52: 0 | X52: 0 | Y52: 0
A53: 52 | B53: Practical Radiation Oncology | C53: ☑️ | D53: ZJY | E53: 45286 | F53: 3.3 | G53: Q2 | H53: Elsevier | I53: USA | J53: 6 | K53: N | L53: Hybird | M53: https://www.practicalradonc.org | N53: American Society for Radiation Oncology | O53: https://www.astro.org/News-and-Publications/Journals/Author-Instructions | P53: 1 | Q53: 1 | R53: 1 | S53: 1 | T53: 1 | U53: 1 | V53: 0 | W53: 1 | X53: 1 | Y53: 0
A54: 53 | B54: EJNMMI Research | C54: ☑️ | D54: ZJY | E54: 45286 | F54: 3.2 | G54: Q2 | H54: Springer | I54: Germany | J54: 1 | K54: Y | L54: Open | M54: https://ejnmmires.springeropen.com | N54: American College of Nuclear Medicine | O54: https://ejnmmires.springeropen.com/submission-guidelines | P54: 1 | Q54: 1 | R54: 0 | S54: 0 | T54: 1 | U54: 0 | V54: 0 | W54: 0 | X54: 0 | Y54: 0
A55: 54 | B55: CANADIAN ASSOCIATION OF RADIOLOGISTS JOURNAL-JOURNAL DE L ASSOCIATION CANADIENNE DES RADIOLOGISTES | C55: ☑️ | D55: ZJY | E55: 45287 | F55: 3.1 | G55: Q2 | H55: SAGE | I55: Canada | J55: 1 | K55: Y | L55: Hybird | M55: https://journals.sagepub.com/home/caj | N55: Canadian Association of Radiologists | O55: https://journals.sagepub.com/author-instructions/CAJ | P55: 1 | Q55: 1 | R55: 1 | S55: 1 | T55: 1 | U55: 1 | V55: 0 | W55: 1 | X55: 1 | Y55: 1
A56: 55 | B56: Clinical and Translational Radiation Oncology | C56: ☑️ | D56: ZJY | E56: 45286 | F56: 3.1 | G56: Q2 | H56: Elsevier | I56: Ireland | J56: 6 | K56: N | L56: Open | M56: https://www.sciencedirect.com/journal/clinical-and-translational-radiation-oncology?utm_medium=SRCH&dgcid=STMJ_1648021317_SC&utm_source=B&utm_campaign=STMJ_1648021317_SC | N56: European Society for Radiotherapy & Oncology | O56: https://www.elsevier.com/journals/clinical-and-translational-radiation-oncology/2405-6308/guide-for-authors | P56: 1 | Q56: 1 | R56: 1 | S56: 1 | T56: 1 | U56: 1 | V56: 0 | W56: 1 | X56: 1 | Y56: 0
A57: 56 | B57: INTERNATIONAL JOURNAL OF HYPERTHERMIA | C57: ☑️ | D57: ZJY | E57: 45287 | F57: 3.1 | G57: Q2 | H57: Taylor & Francis | I57: England | J57: 8 | K57: N | L57: Open | M57: https://www.tandfonline.com/journals/ihyt20?utm_source=TFO&utm_medium=cms&utm_campaign=JRA25531 | N57: Society for Thermal Medicine | O57: https://www.tandfonline.com/action/authorSubmission?show=instructions&journalCode=ihyt20 | P57: 0 | Q57: 0 | R57: 0 | S57: 0 | T57: 0 | U57: 0 | V57: 0 | W57: 0 | X57: 0 | Y57: 0
A58: 57 | B58: MOLECULAR IMAGING AND BIOLOGY | C58: ☑️ | D58: ZJY | E58: 45286 | F58: 3.1 | G58: Q2 | H58: Springer | I58: USA | J58: 6 | K58: Y | L58: Hybird | M58: https://www.springer.com/journal/11307 | N58: World Molecular Imaging Society | O58: https://www.springer.com/journal/11307/submission-guidelines | P58: 0 | Q58: 0 | R58: 0 | S58: 0 | T58: 0 | U58: 0 | V58: 0 | W58: 0 | X58: 0 | Y58: 0
A59: 58 | B59: NUCLEAR MEDICINE AND BIOLOGY | C59: ☑️ | D59: ZJY | E59: 45286 | F59: 3.1 | G59: Q2 | H59: Elsevier | I59: USA | J59: 8 | K59: Y | L59: Hybird | M59: https://www.sciencedirect.com/journal/nuclear-medicine-and-biology | N59: Society of Radiopharmaceutical Sciences | O59: https://www.elsevier.com/journals/nuclear-medicine-and-biology/0969-8051/guide-for-authors | P59: 1 | Q59: 1 | R59: 1 | S59: 1 | T59: 1 | U59: 1 | V59: 0 | W59: 1 | X59: 1 | Y59: 0
A60: 59 | B60: STRAHLENTHERAPIE UND ONKOLOGIE | C60: ☑️ | D60: ZJY | E60: 45286 | F60: 3.1 | G60: Q2 | H60: Springer | I60: Germany | J60: 12 | K60: N | L60: Hybird | M60: https://www.springer.com/journal/66 | N60: German Society of Radiation Oncology | O60: https://www.springer.com/journal/66/submission-guidelines | P60: 0 | Q60: 0 | R60: 0 | S60: 0 | T60: 0 | U60: 0 | V60: 0 | W60: 0 | X60: 0 | Y60: 0
... A104: 103 | B104: Journal of Medical Ultrasonics | C104: ☑️ | D104: ZJY | E104: 45286 | F104: 1.8 | G104: Q4 | H104: Springer | I104: Japan | J104: 4 | K104: Y | L104: Hybird | M104: https://www.springer.com/journal/10396 | N104: Japan Society of Ultrasonics in Medicine. | O104: https://www.springer.com/journal/10396/submission-guidelines | P104: 0 | Q104: 0 | R104: 0 | S104: 0 | T104: 0 | U104: 0 | V104: 0 | W104: 0 | X104: 0 | Y104: 0
A105: 104 | B105: ROFO-FORTSCHRITTE AUF DEM GEBIET DER RONTGENSTRAHLEN UND DER BILDGEBENDEN VERFAHREN | C105: German | D105: N/a | E105: N/a | F105: 1.8 | G105: Q4 | H105: N/a | I105: N/a | J105: N/a | K105: N/a | L105: N/a | M105: N/a | N105: N/a | O105: N/a | P105: N/a | Q105: N/a | R105: N/a | S105: N/a | T105: N/a | U105: N/a | V105: N/a | W105: N/a | X105: N/a | Y105: N/a
A106: 105 | B106: INTERVENTIONAL NEURORADIOLOGY | C106: ☑️ | D106: ZJY | E106: 45287 | F106: 1.7 | G106: Q4 | H106: SAGE | I106: Italy | J106: 4 | K106: N | L106: Hybird | M106: https://journals.sagepub.com/home/ine | N106: None | O106: https://journals.sagepub.com/author-instructions/INE | P106: 1 | Q106: 1 | R106: 1 | S106: 1 | T106: 1 | U106: 1 | V106: 0 | W106: 1 | X106: 1 | Y106: 1
A107: 106 | B107: Medical Ultrasonography | C107: ☑️ | D107: ZJY | E107: 45287 | F107: 1.7 | G107: Q4 | H107: Society | I107: Romania | J107: 4 | K107: N | L107: Open | M107: https://www.medultrason.ro/medultrason/index.php/medultrason | N107: Romanian Society for Ultrasonography in Medicine and Biology | O107: https://www.medultrason.ro/medultrason/index.php/medultrason/about/submissions#authorGuidelines | P107: 0 | Q107: 0 | R107: 0 | S107: 0 | T107: 0 | U107: 0 | V107: 0 | W107: 0 | X107: 0 | Y107: 0
A108: 107 | B108: RADIATION AND ENVIRONMENTAL BIOPHYSICS | C108: ☑️ | D108: ZJY | E108: 45286 | F108: 1.7 | G108: Q4 | H108: Springer | I108: Germany | J108: 4 | K108: N | L108: Hybird | M108: https://www.springer.com/journal/411 | N108: None | O108: https://www.springer.com/journal/411/submission-guidelines | P108: 0 | Q108: 0 | R108: 0 | S108: 0 | T108: 0 | U108: 0 | V108: 0 | W108: 0 | X108: 0 | Y108: 0
A109: 108 | B109: Applied Radiation and Isotopes | C109: ☑️ | D109: ZJY | E109: 45286 | F109: 1.6 | G109: Q4 | H109: Elsevier | I109: USA | J109: 12 | K109: N | L109: Hybird | M109: https://www.sciencedirect.com/journal/applied-radiation-and-isotopes | N109: None | O109: https://www.elsevier.com/journals/applied-radiation-and-isotopes/0969-8043/guide-for-authors | P109: 1 | Q109: 1 | R109: 1 | S109: 1 | T109: 1 | U109: 1 | V109: 0 | W109: 1 | X109: 1 | Y109: 0
A110: 109 | B110: Journal of Medical Imaging and Radiation Oncology | C110: ☑️ | D110: ZJY | E110: 45287 | F110: 1.6 | G110: Q4 | H110: Wiley | I110: Australia | J110: 8 | K110: Y | L110: Hybird | M110: https://onlinelibrary.wiley.com/journal/17549485/ | N110: Royal Australian and New Zealand College of Radiologists | O110: https://onlinelibrary.wiley.com/page/journal/17549485/homepage/forauthors.html | P110: 0 | Q110: 0 | R110: 0 | S110: 0 | T110: 0 | U110: 0 | V110: 0 | W110: 0 | X110: 0 | Y110: 0
A111: 110 | B111: Magnetic Resonance Imaging Clinics of North America | C111: ☑️ | D111: ZJY | E111: 45286 | F111: 1.6 | G111: Q4 | H111: Elsevier | I111: USA | J111: 4 | K111: Y | L111: Hybird | M111: https://www.mri.theclinics.com | N111: None | O111: https://www.theclinics.com/authorinformation | P111: 1 | Q111: 1 | R111: 1 | S111: 1 | T111: 1 | U111: 1 | V111: 0 | W111: 1 | X111: 1 | Y111: 0
A112: 111 | B112: Hellenic Journal of Nuclear Medicine | C112: ☑️ | D112: ZJY | E112: 45287 | F112: 1.5 | G112: Q4 | H112: Society | I112: Greece | J112: 3 | K112: Y | L112: Open | M112: https://www.nuclmed.gr/about/ | N112: Hellenic Society of Nuclear Medicine | O112: https://www.nuclmed.gr/wp/wp-content/uploads/2017/04/instructions-to-authors-en.pdf | P112: 0 | Q112: 0 | R112: 0 | S112: 0 | T112: 0 | U112: 0 | V112: 0 | W112: 0 | X112: 0 | Y112: 0
A113: 112 | B113: JOURNAL OF RADIOLOGICAL PROTECTION | C113: ☑️ | D113: ZJY | E113: 45287 | F113: 1.5 | G113: Q4 | H113: IOP | I113: England | J113: 4 | K113: N | L113: Hybird | M113: https://iopscience.iop.org/journal/0952-4746 | N113: Society for Radiological Protection | O113: https://publishingsupport.iopscience.iop.org/journals/journal-of-radiological-protection/ | P113: 0 | Q113: 0 | R113: 0 | S113: 0 | T113: 0 | U113: 0 | V113: 0 | W113: 0 | X113: 0 | Y113: 0
A114: 113 | B114: NUCLEAR MEDICINE COMMUNICATIONS | C114: ☑️ | D114: ZJY | E114: 45287 | F114: 1.5 | G114: Q4 | H114: Lippincott Williams & Wilkins | I114: USA | J114: 12 | K114: Y | L114: Hybird | M114: https://journals.lww.com/nuclearmedicinecomm/Pages/default.aspx | N114: British Nuclear Medicine Society | O114: https://edmgr.ovid.com/nmc/accounts/ifauth.htm | P114: 0 | Q114: 0 | R114: 0 | S114: 0 | T114: 0 | U114: 0 | V114: 0 | W114: 0 | X114: 0 | Y114: 0
A115: 114 | B115: NUKLEARMEDIZIN-NUCLEAR MEDICINE | C115: German | D115: N/a | E115: N/a | F115: 1.5 | G115: Q4 | H115: N/a | I115: N/a | J115: N/a | K115: N/a | L115: N/a | M115: N/a | N115: N/a | O115: N/a | P115: N/a | Q115: N/a | R115: N/a | S115: N/a | T115: N/a | U115: N/a | V115: N/a | W115: N/a | X115: N/a | Y115: N/a
A116: 115 | B116: QUARTERLY JOURNAL OF NUCLEAR MEDICINE AND MOLECULAR IMAGING | C116: ☑️ | D116: ZJY | E116: 45287 | F116: 1.5 | G116: Q4 | H116: Edizioni Minerva Medica | I116: Italy | J116: 4 | K116: Y | L116: Hybird | M116: https://www.minervamedica.it/en/journals/nuclear-med-molecular-imaging/index.php | N116: Society of Radiopharmaceutical Sciences | O116: https://www.minervamedica.it/en/journals/nuclear-med-molecular-imaging/notice-to-authors.php | P116: 0 | Q116: 0 | R116: 0 | S116: 0 | T116: 0 | U116: 0 | V116: 0 | W116: 0 | X116: 0 | Y116: 0
A117: 116 | B117: Current Medical Imaging | C117: ☑️ | D117: ZJY | E117: 45287 | F117: 1.4 | G117: Q4 | H117: Bentham | I117: United Arab Emirates | J117: 6 | K117: Y | L117: Open | M117: https://www.eurekaselect.com/journal/33 | N117: None | O117: https://www.eurekaselect.com/pages/author-guidelines | P117: 1 | Q117: 1 | R117: 0 | S117: 0 | T117: 1 | U117: 1 | V117: 0 | W117: 0 | X117: 1 | Y117: 0
A118: 117 | B118: Journal of Contemporary Brachytherapy | C118: ☑️ | D118: ZJY | E118: 45287 | F118: 1.4 | G118: Q4 | H118: Termedia Publishing House | I118: Poland | J118: 4 | K118: N | L118: Open | M118: https://www.termedia.pl/Journal/-54 | N118: Polish Brachytherapy Society and Indian Brachytherapy Society | O118: https://www.termedia.pl/Journal/Journal_of_Contemporary_Brachytherapy-54/Strona-774 | P118: 0 | Q118: 0 | R118: 0 | S118: 0 | T118: 0 | U118: 0 | V118: 0 | W118: 0 | X118: 0 | Y118: 0
A119: 118 | B119: SEMINARS IN INTERVENTIONAL RADIOLOGY | C119: ☑️ | D119: ZJY | E119: 45287 | F119: 1.4 | G119: Q4 | H119: Thieme | I119: USA | J119: 4 | K119: Y | L119: Hybird | M119: https://www.thiemechina.com/Index/show/catid/124/id/362.html | N119: None | O119: https://web.thieme.com/media/ita/pubid2048889311.pdf | P119: 0 | Q119: 0 | R119: 0 | S119: 0 | T119: 0 | U119: 0 | V119: 0 | W119: 0 | X119: 0 | Y119: 0
A120: 119 | B120: SEMINARS IN MUSCULOSKELETAL RADIOLOGY | C120: ☑️ | D120: ZJY | E120: 45287 | F120: 1.4 | G120: Q4 | H120: Thieme | I120: USA | J120: 5 | K120: Y | L120: Hybird | M120: https://www.thiemechina.com/Index/show/catid/124/id/363.html | N120: None | O120: https://web.thieme.com/media/ita/pubid393203678.pdf | P120: 0 | Q120: 0 | R120: 0 | S120: 0 | T120: 0 | U120: 0 | V120: 0 | W120: 0 | X120: 0 | Y120: 0
A121: 120 | B121: SURGICAL AND RADIOLOGIC ANATOMY | C121: ☑️ | D121: ZJY | E121: 45286 | F121: 1.4 | G121: Q4 | H121: Springer | I121: France | J121: 10 | K121: N | L121: Hybird | M121: https://www.springer.com/journal/276 | N121: None | O121: https://www.springer.com/journal/276/submission-guidelines | P121: 0 | Q121: 0 | R121: 0 | S121: 0 | T121: 0 | U121: 0 | V121: 0 | W121: 0 | X121: 0 | Y121: 0
A122: 121 | B122: ACTA RADIOLOGICA | C122: ☑️ | D122: ZJY | E122: 45287 | F122: 1.3 | G122: Q4 | H122: SAGE | I122: England | J122: 12 | K122: Y | L122: Hybird | M122: https://journals.sagepub.com/home/acr | N122: Societies of medical radiology in Denmark, Finland, Iceland, Norway and Sweden | O122: https://journals.sagepub.com/author-instructions/ACR | P122: 1 | Q122: 1 | R122: 1 | S122: 1 | T122: 1 | U122: 1 | V122: 0 | W122: 1 | X122: 1 | Y122: 1
A123: 122 | B123: Cancer Radiotherapie | C123: French | D123: N/a | E123: N/a | F123: 1.3 | G123: Q4 | H123: N/a | I123: N/a | J123: N/a | K123: N/a | L123: N/a | M123: N/a | N123: N/a | O123: N/a | P123: N/a | Q123: N/a | R123: N/a | S123: N/a | T123: N/a | U123: N/a | V123: N/a | W123: N/a | X123: N/a | Y123: N/a
A124: 123 | B124: JOURNAL OF COMPUTER ASSISTED TOMOGRAPHY | C124: ☑️ | D124: ZJY | E124: 45287 | F124: 1.3 | G124: Q4 | H124: Lippincott Williams & Wilkins | I124: USA | J124: 6 | K124: Y | L124: Hybird | M124: https://journals.lww.com/jcat/pages/default.aspx | N124: None | O124: https://journals.lww.com/jcat/Pages/informationforauthors.aspx | P124: 0 | Q124: 0 | R124: 0 | S124: 0 | T124: 0 | U124: 0 | V124: 0 | W124: 0 | X124: 0 | Y124: 0
A125: 124 | B125: Ultrasound Quarterly | C125: ☑️ | D125: ZJY | E125: 45287 | F125: 1.3 | G125: Q4 | H125: Lippincott Williams & Wilkins | I125: USA | J125: 4 | K125: Y | L125: Hybird | M125: https://journals.lww.com/ultrasound-quarterly/pages/default.aspx | N125: Society of Radiologists in Ultrasound | O125: https://edmgr.ovid.com/usq/accounts/ifauth.htm | P125: 0 | Q125: 0 | R125: 0 | S125: 0 | T125: 0 | U125: 0 | V125: 0 | W125: 0 | X125: 0 | Y125: 0
A126: 125 | B126: Medical Dosimetry | C126: ☑️ | D126: ZJY | E126: 45286 | F126: 1.2 | G126: Q4 | H126: Elsevier | I126: USA | J126: 4 | K126: N | L126: Hybird | M126: https://www.sciencedirect.com/journal/medical-dosimetry | N126: American Association of Medical Dosimetrists | O126: https://www.elsevier.com/journals/medical-dosimetry/0958-3947/guide-for-authors | P126: 1 | Q126: 1 | R126: 1 | S126: 1 | T126: 1 | U126: 1 | V126: 0 | W126: 1 | X126: 1 | Y126: 0
A127: 126 | B127: Revista Espanola de Medicina Nuclear e Imagen Molecular | C127: Spanish | D127: N/a | E127: N/a | F127: 1.2 | G127: Q4 | H127: N/a | I127: N/a | J127: N/a | K127: N/a | L127: N/a | M127: N/a | N127: N/a | O127: N/a | P127: N/a | Q127: N/a | R127: N/a | S127: N/a | T127: N/a | U127: N/a | V127: N/a | W127: N/a | X127: N/a | Y127: N/a
A128: 127 | B128: RADIOPROTECTION | C128: French | D128: N/a | E128: N/a | F128: 1.1 | G128: Q4 | H128: N/a | I128: N/a | J128: N/a | K128: N/a | L128: N/a | M128: N/a | N128: N/a | O128: N/a | P128: N/a | Q128: N/a | R128: N/a | S128: N/a | T128: N/a | U128: N/a | V128: N/a | W128: N/a | X128: N/a | Y128: N/a
A129: 128 | B129: SEMINARS IN ULTRASOUND CT AND MRI | C129: Not avaliable document | D129: ZJY | E129: 45286 | F129: 1.1 | G129: Q4 | H129: Elsevier | I129: USA | J129: 6 | K129: Y | L129: Hybird | M129: https://www.sciencedirect.com/journal/seminars-in-ultrasound-ct-and-mri | N129: None | O129: https://www.sciencedirect.com/journal/seminars-in-ultrasound-ct-and-mri/publish/guide-for-authors | P129: N/a | Q129: N/a | R129: N/a | S129: N/a | T129: N/a | U129: N/a | V129: N/a | W129: N/a | X129: N/a | Y129: N/a
A130: 129 | B130: RADIATION PROTECTION DOSIMETRY | C130: ☑️ | D130: ZJY | E130: 45286 | F130: 1 | G130: Q4 | H130: Oxford | I130: England | J130: 20 | K130: N | L130: Hybird | M130: https://academic.oup.com/rpd | N130: None | O130: https://academic.oup.com/rpd/pages/General_Instructions | P130: 0 | Q130: 0 | R130: 0 | S130: 0 | T130: 0 | U130: 0 | V130: 0 | W130: 0 | X130: 0 | Y130: 0
A131: 130 | B131: JOURNAL OF CLINICAL ULTRASOUND | C131: ☑️ | D131: ZJY | E131: 45287 | F131: 0.9 | G131: Q4 | H131: Wiley | I131: USA | J131: 9 | K131: N | L131: Hybird | M131: https://onlinelibrary.wiley.com/journal/10970096 | N131: None | O131: https://onlinelibrary.wiley.com/page/journal/10970096/homepage/forauthors.html | P131: 0 | Q131: 0 | R131: 0 | S131: 0 | T131: 0 | U131: 0 | V131: 0 | W131: 0 | X131: 0 | Y131: 0
A132: 131 | B132: Radiologie | C132: German | D132: N/a | E132: N/a | F132: 0.7 | G132: Q4 | H132: N/a | I132: N/a | J132: N/a | K132: N/a | L132: N/a | M132: N/a | N132: N/a | O132: N/a | P132: N/a | Q132: N/a | R132: N/a | S132: N/a | T132: N/a | U132: N/a | V132: N/a | W132: N/a | X132: N/a | Y132: N/a
A133: 132 | B133: CONCEPTS IN MAGNETIC RESONANCE PART A | C133: ☑️ | D133: ZJY | E133: 45287 | F133: 0.6 | G133: Q4 | H133: Hindawi | I133: USA | J133: 1 | K133: N | L133: Hybird | M133: https://www.hindawi.com/journals/cmra/ | N133: None | O133: https://www.hindawi.com/journals/cmra/guidelines/ | P133: 0 | Q133: 0 | R133: 0 | S133: 0 | T133: 0 | U133: 0 | V133: 0 | W133: 0 | X133: 0 | Y133: 0
A134: 133 | B134: International Journal of Radiation Research | C134: ☑️ | D134: ZJY | E134: 45287 | F134: 0.6 | G134: Q4 | H134: Baresh-e-Danesh | I134: Iran | J134: 4 | K134: Y | L134: Open | M134: http://ijrr.com/page.php?slct_pg_id=12&sid=1&slc_lang=en | N134: None | O134: http://ijrr.com/page/18/Submission-Instructions | P134: 0 | Q134: 0 | R134: 0 | S134: 0 | T134: 0 | U134: 0 | V134: 0 | W134: 0 | X134: 0 | Y134: 0
A135: 134 | B135: SEMINARS IN ROENTGENOLOGY | C135: ☑️ | D135: ZJY | E135: 45286 | F135: 0.4 | G135: Q4 | H135: Elsevier | I135: USA | J135: 4 | K135: Y | L135: Hybird | M135: https://www.sciencedirect.com/journal/seminars-in-roentgenology | N135: None | O135: https://www.sciencedirect.com/journal/seminars-in-roentgenology/publish/guide-for-authors | P135: 1 | Q135: 1 | R135: 1 | S135: 1 | T135: 1 | U135: 1 | V135: 0 | W135: 1 | X135: 1 | Y135: 0
A136: 135 | B136: Iranian Journal of Radiology | C136: Not avaliable | D136: N/a | E136: N/a | F136: 0.3 | G136: Q4 | H136: N/a | I136: N/a | J136: N/a | K136: N/a | L136: N/a | M136: N/a | N136: N/a | O136: N/a | P136: N/a | Q136: N/a | R136: N/a | S136: N/a | T136: N/a | U136: N/a | V136: N/a | W136: N/a | X136: N/a | Y136: N/a
A137: 136 | B137: Journal of Medical Imaging | C137: ☑️ | D137: ZJY | E137: 45287 | F137: 2.4 | G137: N. a. | H137: Society | I137: USA | J137: 4 | K137: Y | L137: Hybird | M137: https://www.spiedigitallibrary.org/journals/journal-of-medical-imaging?SSO=1 | N137: Society of Photo-Optical Instrumentation Engineers | O137: https://www.spiedigitallibrary.org/journals/journal-of-medical-imaging/author-guidelines#navBarAnchor | P137: 1 | Q137: 1 | R137: 0 | S137: 0 | T137: 1 | U137: 1 | V137: 0 | W137: 0 | X137: 1 | Y137: 0
A138: 137 | B138: Radiography | C138: ☑️ | D138: ZJY | E138: 45286 | F138: 2.6 | G138: N. a. | H138: Elsevier | I138: England | J138: 4 | K138: Y | L138: Hybird | M138: https://www.sciencedirect.com/journal/radiography/ | N138: Society and College of Radiographers and the European Federation of Radiographer Societies | O138: https://www.sciencedirect.com/journal/radiography/publish/guide-for-authors | P138: 1 | Q138: 1 | R138: 1 | S138: 1 | T138: 1 | U138: 1 | V138: 0 | W138: 1 | X138: 1 | Y138: 0
A139: 138 | B139: Emergency Radiology | C139: ☑️ | D139: ZJY | E139: 45286 | F139: 2.2 | G139: N. a. | H139: Springer | I139: Germany | J139: 6 | K139: Y | L139: Hybird | M139: https://link.springer.com/journal/10140 | N139: American Society of Emergency Radiology | O139: https://link.springer.com/journal/10140/submission-guidelines | P139: 0 | Q139: 0 | R139: 0 | S139: 0 | T139: 0 | U139: 0 | V139: 0 | W139: 0 | X139: 0 | Y139: 0
A140: 139 | B140: Advances in Radiation Oncology | C140: ☑️ | D140: ZJY | E140: 45286 | F140: 2.3 | G140: N. a. | H140: Elsevier | I140: USA | J140: 4 | K140: N | L140: Open | M140: https://www.sciencedirect.com/journal/advances-in-radiation-oncology | N140: American Society for Radiation Oncology | O140: https://www.astro.org/News-and-Publications/Journals/Advances-in-Radiation-Oncology/Advances-Instructions-for-Authors | P140: 1 | Q140: 1 | R140: 1 | S140: 1 | T140: 1 | U140: 1 | V140: 0 | W140: 1 | X140: 1 | Y140: 0
A141: 140 | B141: Biomedical Physics & Engineering Express | C141: ☑️ | D141: ZJY | E141: 45287 | F141: 1.4 | G141: N. a. | H141: IOP | I141: England | J141: 6 | K141: Y | L141: Hybird | M141: https://iopscience.iop.org/journal/2057-1976 | N141: None | O141: https://publishingsupport.iopscience.iop.org/journals/biomedical-physics-engineering-express/ | P141: 0 | Q141: 0 | R141: 0 | S141: 0 | T141: 0 | U141: 0 | V141: 0 | W141: 0 | X141: 0 | Y141: 0
A142: 141 | B142: Radiology-Artificial Intelligence | C142: ☑️ | D142: ZJY | E142: 45287 | F142: 9.8 | G142: N. a. | H142: Society | I142: USA | J142: 6 | K142: N | L142: Hybird | M142: https://pubs.rsna.org/journal/ai | N142: Radiological Society of North America | O142: https://pubs.rsna.org/page/ai/author-instructions | P142: 1 | Q142: 1 | R142: 1 | S142: 0 | T142: 1 | U142: 1 | V142: 0 | W142: 1 | X142: 1 | Y142: 0
A143: 142 | B143: World Journal of Radiology | C143: ☑️ | D143: ZJY | E143: 45287 | F143: 2.5 | G143: N. a. | H143: Baishideng | I143: USA | J143: 12 | K143: Y | L143: Open | M143: https://www.wjgnet.com/1949-8470/about.htm | N143: None | O143: https://www.wjgnet.com/bpg/gerinfo/204 | P143: 0 | Q143: 0 | R143: 0 | S143: 0 | T143: 0 | U143: 0 | V143: 0 | W143: 0 | X143: 0 | Y143: 0
A144: 143 | B144: IEEE Transactions on Radiation and Plasma Medical Sciences | C144: ☑️ | D144: ZJY | E144: 45287 | F144: 4.4 | G144: N. a. | H144: IEEE | I144: USA | J144: 6 | K144: Y | L144: Hybird | M144: https://ieeexplore.ieee.org/xpl/RecentIssue.jsp?punumber=7433213 | N144: Nuclear and Plasma Science Society | O144: https://journals.ieeeauthorcenter.ieee.org/submit-your-article-for-peer-review/the-ieee-article-submission-process/ | P144: 0 | Q144: 0 | R144: 0 | S144: 0 | T144: 0 | U144: 0 | V144: 0 | W144: 0 | X144: 0 | Y144: 0
A145: 144 | B145: Radiology-Cardiothoracic Imaging | C145: ☑️ | D145: ZJY | E145: 45287 | F145: 7 | G145: N. a. | H145: Society | I145: USA | J145: 6 | K145: Y | L145: Hybird | M145: https://pubs.rsna.org/journal/cardiothoracic | N145: Radiological Society of North America | O145: https://pubs.rsna.org/page/cardiothoracic/author-instructions | P145: 1 | Q145: 1 | R145: 1 | S145: 0 | T145: 1 | U145: 1 | V145: 0 | W145: 1 | X145: 1 | Y145: 0
A146: 145 | B146: Journal of Ultrasound | C146: ☑️ | D146: ZJY | E146: 45286 | F146: 2 | G146: N. a. | H146: Springer | I146: Netherlands | J146: 4 | K146: Y | L146: Hybird | M146: https://link.springer.com/journal/40477 | N146: Italian Society for Ultrasound in Medicine and Biology | O146: https://link.springer.com/journal/40477/submission-guidelines | P146: 0 | Q146: 0 | R146: 0 | S146: 0 | T146: 0 | U146: 0 | V146: 0 | W146: 0 | X146: 0 | Y146: 0
A147: 146 | B147: Reports of Practical Oncology and Radiotherapy | C147: ☑️ | D147: ZJY | E147: 45287 | F147: 1.2 | G147: N. a. | H147: Via Medica | I147: Poland | J147: 6 | K147: N | L147: Hybird | M147: https://journals.viamedica.pl/rpor/index | N147: Polish Society of Radiation Oncology | O147: https://journals.viamedica.pl/rpor/about | P147: 0 | Q147: 0 | R147: 0 | S147: 0 | T147: 0 | U147: 0 | V147: 0 | W147: 0 | X147: 0 | Y147: 0
A148: 147 | B148: Current Problems in Diagnostic Radiology | C148: ☑️ | D148: ZJY | E148: 45286 | F148: 1.4 | G148: N. a. | H148: Elsevier | I148: USA | J148: 6 | K148: Y | L148: Hybird | M148: https://www.sciencedirect.com/journal/current-problems-in-diagnostic-radiology | N148: None | O148: https://www.sciencedirect.com/journal/current-problems-in-diagnostic-radiology/publish/guide-for-authors | P148: 1 | Q148: 1 | R148: 1 | S148: 1 | T148: 1 | U148: 1 | V148: 0 | W148: 1 | X148: 1 | Y148: 0
... A196: 195 | B196: Journal of Radiation Protection and Research | C196: ☑️ | D196: ZJY | E196: 45287 | F196: 0.5 | G196: N. a. | H196: Society | I196: South Korea | J196: 4 | K196: N | L196: Open | M196: https://www.jrpr.org | N196: Korean Association for Radiation Protection, Japan Health Physics Society, and Australasian Radiation Protection Society | O196: https://www.jrpr.org/authors/authors.php | P196: 0 | Q196: 0 | R196: 0 | S196: 0 | T196: 0 | U196: 0 | V196: 0 | W196: 0 | X196: 0 | Y196: 0
A197: 196 | B197: Polish Journal of Medical Physics and Engineering | C197: Not avaliable | D197: N/a | E197: N/a | F197: 0.4 | G197: N. a. | H197: N/a | I197: N/a | J197: N/a | K197: N/a | L197: N/a | M197: N/a | N197: N/a | O197: N/a | P197: N/a | Q197: N/a | R197: N/a | S197: N/a | T197: N/a | U197: N/a | V197: N/a | W197: N/a | X197: N/a | Y197: N/a
A198: 197 | B198: Iranian Journal of Nuclear Medicine | C198: Not avaliable | D198: N/a | E198: N/a | F198: 0.3 | G198: N. a. | H198: N/a | I198: N/a | J198: N/a | K198: N/a | L198: N/a | M198: N/a | N198: N/a | O198: N/a | P198: N/a | Q198: N/a | R198: N/a | S198: N/a | T198: N/a | U198: N/a | V198: N/a | W198: N/a | X198: N/a | Y198: N/a
A199: 198 | B199: Sonography | C199: ☑️ | D199: ZJY | E199: 45287 | F199: 0.4 | G199: N. a. | H199: Wiley | I199: Australia | J199: 4 | K199: Y | L199: Hybird | M199: https://onlinelibrary.wiley.com/journal/20546750 | N199: Australasian Sonographers Association | O199: https://onlinelibrary.wiley.com/page/journal/20546750/homepage/forauthors.html | P199: 1 | Q199: 1 | R199: 0 | S199: 0 | T199: 1 | U199: 1 | V199: 0 | W199: 0 | X199: 1 | Y199: 0
A200: 199 | B200: Hong Kong Journal of Radiology | C200: ☑️ | D200: ZJY | E200: 45287 | F200: 0.2 | G200: N. a. | H200: Society | I200: Hong Kong | J200: 4 | K200: Y | L200: Open | M200: https://www.hkjr.org/page/home-page | N200: Hong Kong College of Radiologists | O200: https://www.hkjr.org/page/information-authors | P200: 0 | Q200: 0 | R200: 0 | S200: 0 | T200: 0 | U200: 0 | V200: 0 | W200: 0 | X200: 0 | Y200: 0
A201: 200 | B201: West African Journal of Radiology | C201: ☑️ | D201: ZJY | E201: 45287 | F201: <0.1 | G201: N. a. | H201: Lippincott Williams & Wilkins | I201: Nigeria | J201: 2 | K201: Y | L201: Open | M201: https://journals.lww.com/wajr/pages/default.aspx | N201: Association of Radiologists of West Africa | O201: https://journals.lww.com/wajr/Pages/informationforauthors.aspx | P201: 0 | Q201: 0 | R201: 0 | S201: 0 | T201: 0 | U201: 0 | V201: 0 | W201: 0 | X201: 0 | Y201: 0
A202: 201 | B202: Imagerie de la Femme | C202: French | D202: N/a | E202: N/a | F202: 0.1 | G202: N. a. | H202: N/a | I202: N/a | J202: N/a | K202: N/a | L202: N/a | M202: N/a | N202: N/a | O202: N/a | P202: N/a | Q202: N/a | R202: N/a | S202: N/a | T202: N/a | U202: N/a | V202: N/a | W202: N/a | X202: N/a | Y202: N/a
A203: 202 | B203: Contemporary Diagnostic Radiology | C203: ☑️ | D203: ZJY | E203: 45287 | F203: 0.1 | G203: N. a. | H203: Lippincott Williams & Wilkins | I203: USA | J203: 26 | K203: Y | L203: Hybird | M203: https://journals.lww.com/cdronline/pages/default.aspx | N203: None | O203: https://journals.lww.com/cdronline/Pages/informationforauthors.aspx | P203: 0 | Q203: 0 | R203: 0 | S203: 0 | T203: 0 | U203: 0 | V203: 0 | W203: 0 | X203: 0 | Y203: 0
A204: 203 | B204: Imagen Diagnostica | C204: Spanish | D204: N/a | E204: N/a | F204: <0.1 | G204: N. a. | H204: N/a | I204: N/a | J204: N/a | K204: N/a | L204: N/a | M204: N/a | N204: N/a | O204: N/a | P204: N/a | Q204: N/a | R204: N/a | S204: N/a | T204: N/a | U204: N/a | V204: N/a | W204: N/a | X204: N/a | Y204: N/a

Sheet R_2
A1: No | B1: Journal name | C1: Inclusion | D1: R_2 | E1: Date | F1: 2022 JIF | G1: JIF Quartile | H1: Publisher | I1: Region | J1: Publication frequency | K1: Only in Radiology | L1: Publication model | M1: Homepage | N1: Offical Journal | O1: Submission Guideline | P1: Present | Q1: Author | R1: Reviewer | S1: Editor | T1: 1.Use | U1: 2.Tool | V1: 3.Section | W1: 4.Role | X1: 5.Verification | Y1: 6.Influence
A2: 1 | B2: RADIOLOGY | C2: ☑️ | D2: XY | E2: 45289 | F2: 19.7 | G2: Q1 | H2: Society | I2: USA | J2: 12 | K2: Y | L2: Hybird | M2: https://pubs.rsna.org/journal/radiology | N2: Radiological Society of North America | O2: https://pubs.rsna.org/page/radiology/author-instructions | P2: 1 | Q2: 1 | R2: 1 | S2: 0 | T2: 1 | U2: 1 | V2: 0 | W2: 1 | X2: 1 | Y2: 0
A3: 2 | B3: JACC-Cardiovascular Imaging | C3: ☑️ | D3: XY | E3: 45289 | F3: 14 | G3: Q1 | H3: Elsevier | I3: USA | J3: 12 | K3: N | L3: Hybird | M3: https://www.jacc.org/journal/imaging | N3: American College of Cardiology | O3: https://www.jacc.org/pb-assets/documents/author-instructions-jacc-imaging-1688567245837.pdf | P3: 1 | Q3: 1 | R3: 0 | S3: 0 | T3: 1 | U3: 0 | V3: 0 | W3: 1 | X3: 0 | Y3: 0
A4: 3 | B4: MEDICAL IMAGE ANALYSIS | C4: ☑️ | D4: XY | E4: 45289 | F4: 10.9 | G4: Q1 | H4: Elsevier | I4: Netherlands | J4: 8 | K4: N | L4: Hybird | M4: https://www.sciencedirect.com/journal/medical-image-analysis/ | N4: The Medical Image Computing and Computer Assisted Intervention Society | O4: https://www.elsevier.com/journals/medical-image-analysis/1361-8415/guide-for-authors | P4: 1 | Q4: 1 | R4: 0 | S4: 1 | T4: 1 | U4: 1 | V4: 0 | W4: 1 | X4: 0 | Y4: 0
A5: 4 | B5: CLINICAL NUCLEAR MEDICINE | C5: ☑️ | D5: XY | E5: 45289 | F5: 10.6 | G5: Q1 | H5: Lippincott Williams & Wilkins | I5: USA | J5: 12 | K5: Y | L5: Hybird | M5: https://journals.lww.com/nuclearmed/pages/default.aspx | N5: American College of Nuclear Medicine | O5: https://edmgr.ovid.com/cnm/accounts/ifauth.htm | P5: 0 | Q5: 0 | R5: 0 | S5: 0 | T5: 0 | U5: 0 | V5: 0 | W5: 0 | X5: 0 | Y5: 0
A6: 5 | B6: IEEE TRANSACTIONS ON MEDICAL IMAGING | C6: ☑️ | D6: XY | E6: 45289 | F6: 10.6 | G6: Q1 | H6: Society | I6: USA | J6: 12 | K6: N | L6: Hybird | M6: https://www.embs.org/tmi/ | N6: IEEE Engineering in Medicine and Biology Society | O6: https://ieeetmi.org/authors-instructions | P6: 0 | Q6: 0 | R6: 0 | S6: 0 | T6: 0 | U6: 0 | V6: 0 | W6: 0 | X6: 0 | Y6: 0
A7: 6 | B7: JOURNAL OF NUCLEAR MEDICINE | C7: ☑️ | D7: XY | E7: 45289 | F7: 9.3 | G7: Q1 | H7: Society | I7: USA | J7: 12 | K7: Y | L7: Hybird | M7: https://jnm.snmjournals.org | N7: Society of Nuclear Medicine and Molecular Imaging | O7: https://jnm.snmjournals.org/sites/default/files/additional-assets/JNMInfoforAuthors_11082022.pdf | P7: 0 | Q7: 0 | R7: 0 | S7: 0 | T7: 0 | U7: 0 | V7: 0 | W7: 0 | X7: 0 | Y7: 0
A8: 7 | B8: EUROPEAN JOURNAL OF NUCLEAR MEDICINE AND MOLECULAR IMAGING | C8: ☑️ | D8: XY | E8: 45289 | F8: 9.1 | G8: Q1 | H8: Springer | I8: Germany | J8: 12 | K8: Y | L8: Hybird | M8: https://www.springer.com/journal/259 | N8: European Association of Nuclear Medicine | O8: https://www.springer.com/journal/259/submission-guidelines | P8: 0 | Q8: 0 | R8: 0 | S8: 0 | T8: 0 | U8: 0 | V8: 0 | W8: 0 | X8: 0 | Y8: 0
A9: 8 | B9: Radiologia Medica | C9: ☑️ | D9: XY | E9: 45289 | F9: 8.9 | G9: Q1 | H9: Springer | I9: Italy | J9: 12 | K9: Y | L9: Hybird | M9: https://www.springer.com/journal/11547 | N9: Italian Society of Medical and Interventional Radiology | O9: https://www.springer.com/journal/11547/submission-guidelines | P9: 0 | Q9: 0 | R9: 0 | S9: 0 | T9: 0 | U9: 0 | V9: 0 | W9: 0 | X9: 0 | Y9: 0
A10: 9 | B10: Photoacoustics | C10: ☑️ | D10: XY | E10: 45289 | F10: 7.9 | G10: Q1 | H10: Elsevier | I10: Netherlands | J10: 4 | K10: N | L10: Open | M10: https://www.sciencedirect.com/journal/photoacoustics | N10: None | O10: https://www.elsevier.com/journals/photoacoustics/2213-5979/guide-for-authors | P10: 1 | Q10: 1 | R10: 0 | S10: 1 | T10: 1 | U10: 1 | V10: 0 | W10: 1 | X10: 0 | Y10: 0
A11: 10 | B11: Circulation-Cardiovascular Imaging | C11: ☑️ | D11: XY | E11: 45289 | F11: 7.5 | G11: Q1 | H11: Lippincott Williams & Wilkins | I11: USA | J11: 12 | K11: N | L11: Hybird | M11: https://www.ahajournals.org/journal/circimaging | N11: American Heart Association | O11: https://www.ahajournals.org/circimaging/author-instructions | P11: 0 | Q11: 0 | R11: 0 | S11: 0 | T11: 0 | U11: 0 | V11: 0 | W11: 0 | X11: 0 | Y11: 0
A12: 11 | B12: ULTRASOUND IN OBSTETRICS & GYNECOLOGY | C12: ☑️ | D12: XY | E12: 45289 | F12: 7.1 | G12: Q1 | H12: Wiley | I12: USA | J12: 12 | K12: N | L12: Hybird | M12: https://obgyn.onlinelibrary.wiley.com/journal/14690705/ | N12: International Society of Ultrasound in Obstetrics and Gynecology | O12: https://obgyn.onlinelibrary.wiley.com/hub/journal/14690705/about/author-guidelines | P12: 0 | Q12: 0 | R12: 0 | S12: 0 | T12: 0 | U12: 0 | V12: 0 | W12: 0 | X12: 0 | Y12: 0
A13: 12 | B13: INTERNATIONAL JOURNAL OF RADIATION ONCOLOGY BIOLOGY PHYSICS | C13: ☑️ | D13: XY | E13: 45289 | F13: 7 | G13: Q1 | H13: Elsevier | I13: USA | J13: 15 | K13: N | L13: Hybird | M13: https://www.sciencedirect.com/journal/international-journal-of-radiation-oncology-biology-physics | N13: American Society for Radiation Oncology | O13: https://www.astro.org/News-and-Publications/Journals/Author-Instructions | P13: 1 | Q13: 1 | R13: 0 | S13: 1 | T13: 1 | U13: 1 | V13: 0 | W13: 1 | X13: 0 | Y13: 0
... A42: 41 | B42: PHYSICS IN MEDICINE AND BIOLOGY | C42: ☑️ | D42: XY | E42: 45289 | F42: 3.5 | G42: Q2 | H42: IOP | I42: England | J42: 24 | K42: N | L42: Hybird | M42: https://iopscience.iop.org/journal/0031-9155 | N42: Institute of Physics and Engineering in Medicine | O42: https://publishingsupport.iopscience.iop.org/journals/physics-in-medicine-biology/ | P42: 0 | Q42: 0 | R42: 0 | S42: 0 | T42: 0 | U42: 0 | V42: 0 | W42: 0 | X42: 0 | Y42: 0
A43: 42 | B43: SEMINARS IN RADIATION ONCOLOGY | C43: Not avaliable document | D43: XY | E43: 45289 | F43: 3.5 | G43: Q2 | H43: Elsevier | I43: USA | J43: 4 | K43: N | L43: Hybird | M43: https://www.sciencedirect.com/journal/seminars-in-radiation-oncology | N43: None | O43: https://www.sciencedirect.com/journal/seminars-in-radiation-oncology/publish/guide-for-authors | P43: N/a | Q43: N/a | R43: N/a | S43: N/a | T43: N/a | U43: N/a | V43: N/a | W43: N/a | X43: N/a | Y43: N/a
A44: 43 | B44: Biomedical Optics Express | C44: ☑️ | D44: XY | E44: 45289 | F44: 3.4 | G44: Q2 | H44: Optica Publishing Group | I44: USA | J44: 12 | K44: N | L44: Open | M44: https://opg.optica.org/boe/home.cfm | N44: None | O44: https://opg.optica.org/boe/author/author.cfm | P44: 0 | Q44: 0 | R44: 0 | S44: 0 | T44: 0 | U44: 0 | V44: 0 | W44: 0 | X44: 0 | Y44: 0
A45: 44 | B45: CANCER BIOTHERAPY AND RADIOPHARMACEUTICALS | C45: ☑️ | D45: XY | E45: 45289 | F45: 3.4 | G45: Q2 | H45: Mary Ann Libert | I45: USA | J45: 10 | K45: N | L45: Hybird | M45: https://home.liebertpub.com/publications/cancer-biotherapy-and-radiopharmaceuticals/8/ | N45: None | O45: https://home.liebertpub.com/publications/cancer-biotherapy-and-radiopharmaceuticals/8/for-authors#policies | P45: 0 | Q45: 0 | R45: 0 | S45: 0 | T45: 0 | U45: 0 | V45: 0 | W45: 0 | X45: 0 | Y45: 0
A46: 45 | B46: Physica Medica-European Journal of Medical Physics | C46: ☑️ | D46: XY | E46: 45289 | F46: 3.4 | G46: Q2 | H46: Elsevier | I46: Italy | J46: 8 | K46: Y | L46: Hybird | M46: https://www.physicamedica.com | N46: International Organization for Medical Physics | O46: https://www.physicamedica.com/content/authorinfo | P46: 1 | Q46: 1 | R46: 0 | S46: 1 | T46: 1 | U46: 1 | V46: 0 | W46: 1 | X46: 0 | Y46: 0
A47: 46 | B47: RADIATION RESEARCH | C47: ☑️ | D47: XY | E47: 45289 | F47: 3.4 | G47: Q2 | H47: Society | I47: USA | J47: 12 | K47: N | L47: Hybird | M47: https://meridian.allenpress.com/radiation-research | N47: Radiation Research Society | O47: https://meridian.allenpress.com/DocumentLibrary/RADE/RARE_Info_for_Authors_5-30-2018.pdf | P47: 0 | Q47: 0 | R47: 0 | S47: 0 | T47: 0 | U47: 0 | V47: 0 | W47: 0 | X47: 0 | Y47: 0
A48: 47 | B48: ULTRASCHALL IN DER MEDIZIN | C48: German | D48: N/a | E48: N/a | F48: 3.4 | G48: Q2 | H48: N/a | I48: N/a | J48: N/a | K48: N/a | L48: N/a | M48: N/a | N48: N/a | O48: N/a | P48: N/a | Q48: N/a | R48: N/a | S48: N/a | T48: N/a | U48: N/a | V48: N/a | W48: N/a | X48: N/a | Y48: N/a
A49: 48 | B49: DENTOMAXILLOFACIAL RADIOLOGY | C49: ☑️ | D49: XY | E49: 45289 | F49: 3.3 | G49: Q2 | H49: Society | I49: England | J49: 8 | K49: N | L49: Hybird | M49: https://www.birpublications.org/journal/dmfr | N49: British Institute of Radiology | O49: https://www.birpublications.org/page/ifa/dmfr | P49: 0 | Q49: 0 | R49: 0 | S49: 0 | T49: 0 | U49: 0 | V49: 0 | W49: 0 | X49: 0 | Y49: 0
A50: 49 | B50: EUROPEAN JOURNAL OF RADIOLOGY | C50: ☑️ | D50: XY | E50: 45289 | F50: 3.3 | G50: Q2 | H50: Elsevier | I50: Ireland | J50: 12 | K50: Y | L50: Hybird | M50: https://www.sciencedirect.com/journal/european-journal-of-radiology | N50: None | O50: https://www.elsevier.com/journals/european-journal-of-radiology/0720-048X/guide-for-authors | P50: 1 | Q50: 1 | R50: 0 | S50: 1 | T50: 1 | U50: 1 | V50: 0 | W50: 1 | X50: 0 | Y50: 0
A51: 50 | B51: JOURNAL OF THORACIC IMAGING | C51: ☑️ | D51: XY | E51: 45289 | F51: 3.3 | G51: Q2 | H51: Lippincott Williams & Wilkins | I51: USA | J51: 6 | K51: Y | L51: Hybird | M51: https://journals.lww.com/thoracicimaging/pages/default.aspx | N51: Society of Thoracic Radiology | O51: https://edmgr.ovid.com/jti/accounts/ifauth.htm | P51: 0 | Q51: 0 | R51: 0 | S51: 0 | T51: 0 | U51: 0 | V51: 0 | W51: 0 | X51: 0 | Y51: 0
A52: 51 | B52: MAGNETIC RESONANCE IN MEDICINE | C52: ☑️ | D52: XY | E52: 45289 | F52: 3.3 | G52: Q2 | H52: Wiley | I52: USA | J52: 12 | K52: Y | L52: Hybird | M52: https://onlinelibrary.wiley.com/journal/15222594 | N52: International Society for Magnetic Resonance in Medicine: | O52: https://onlinelibrary.wiley.com/pb-assets/assets/15222594/authorguidelinesdec22-1671206311.pdf | P52: 0 | Q52: 0 | R52: 0 | S52: 0 | T52: 0 | U52: 0 | V52: 0 | W52: 0 | X52: 0 | Y52: 0
A53: 52 | B53: Practical Radiation Oncology | C53: ☑️ | D53: XY | E53: 45289 | F53: 3.3 | G53: Q2 | H53: Elsevier | I53: USA | J53: 6 | K53: N | L53: Hybird | M53: https://www.practicalradonc.org | N53: American Society for Radiation Oncology | O53: https://www.astro.org/News-and-Publications/Journals/Author-Instructions | P53: 1 | Q53: 1 | R53: 0 | S53: 1 | T53: 1 | U53: 1 | V53: 0 | W53: 1 | X53: 0 | Y53: 0
A54: 53 | B54: EJNMMI Research | C54: ☑️ | D54: XY | E54: 45289 | F54: 3.2 | G54: Q2 | H54: Springer | I54: Germany | J54: 1 | K54: Y | L54: Open | M54: https://ejnmmires.springeropen.com | N54: American College of Nuclear Medicine | O54: https://ejnmmires.springeropen.com/submission-guidelines | P54: 0 | Q54: 0 | R54: 0 | S54: 0 | T54: 0 | U54: 0 | V54: 0 | W54: 0 | X54: 0 | Y54: 0
A55: 54 | B55: CANADIAN ASSOCIATION OF RADIOLOGISTS JOURNAL-JOURNAL DE L ASSOCIATION CANADIENNE DES RADIOLOGISTES | C55: ☑️ | D55: XY | E55: 45289 | F55: 3.1 | G55: Q2 | H55: SAGE | I55: Canada | J55: 1 | K55: Y | L55: Hybird | M55: https://journals.sagepub.com/home/caj | N55: Canadian Association of Radiologists | O55: https://journals.sagepub.com/author-instructions/CAJ | P55: 1 | Q55: 1 | R55: 1 | S55: 1 | T55: 1 | U55: 1 | V55: 0 | W55: 0 | X55: 1 | Y55: 0
A56: 55 | B56: Clinical and Translational Radiation Oncology | C56: ☑️ | D56: XY | E56: 45289 | F56: 3.1 | G56: Q2 | H56: Elsevier | I56: Ireland | J56: 6 | K56: N | L56: Open | M56: https://www.sciencedirect.com/journal/clinical-and-translational-radiation-oncology?utm_medium=SRCH&dgcid=STMJ_1648021317_SC&utm_source=B&utm_campaign=STMJ_1648021317_SC | N56: European Society for Radiotherapy & Oncology | O56: https://www.elsevier.com/journals/clinical-and-translational-radiation-oncology/2405-6308/guide-for-authors | P56: 1 | Q56: 1 | R56: 0 | S56: 1 | T56: 1 | U56: 1 | V56: 0 | W56: 1 | X56: 0 | Y56: 0
A57: 56 | B57: INTERNATIONAL JOURNAL OF HYPERTHERMIA | C57: ☑️ | D57: XY | E57: 45289 | F57: 3.1 | G57: Q2 | H57: Taylor & Francis | I57: England | J57: 8 | K57: N | L57: Open | M57: https://www.tandfonline.com/journals/ihyt20?utm_source=TFO&utm_medium=cms&utm_campaign=JRA25531 | N57: Society for Thermal Medicine | O57: https://www.tandfonline.com/action/authorSubmission?show=instructions&journalCode=ihyt20 | P57: 0 | Q57: 0 | R57: 0 | S57: 0 | T57: 0 | U57: 0 | V57: 0 | W57: 0 | X57: 0 | Y57: 0
A58: 57 | B58: MOLECULAR IMAGING AND BIOLOGY | C58: ☑️ | D58: XY | E58: 45289 | F58: 3.1 | G58: Q2 | H58: Springer | I58: USA | J58: 6 | K58: Y | L58: Hybird | M58: https://www.springer.com/journal/11307 | N58: World Molecular Imaging Society | O58: https://www.springer.com/journal/11307/submission-guidelines | P58: 0 | Q58: 0 | R58: 0 | S58: 0 | T58: 0 | U58: 0 | V58: 0 | W58: 0 | X58: 0 | Y58: 0
A59: 58 | B59: NUCLEAR MEDICINE AND BIOLOGY | C59: ☑️ | D59: XY | E59: 45289 | F59: 3.1 | G59: Q2 | H59: Elsevier | I59: USA | J59: 8 | K59: Y | L59: Hybird | M59: https://www.sciencedirect.com/journal/nuclear-medicine-and-biology | N59: Society of Radiopharmaceutical Sciences | O59: https://www.elsevier.com/journals/nuclear-medicine-and-biology/0969-8051/guide-for-authors | P59: 1 | Q59: 1 | R59: 0 | S59: 1 | T59: 1 | U59: 1 | V59: 0 | W59: 1 | X59: 0 | Y59: 0
A60: 59 | B60: STRAHLENTHERAPIE UND ONKOLOGIE | C60: ☑️ | D60: XY | E60: 45289 | F60: 3.1 | G60: Q2 | H60: Springer | I60: Germany | J60: 12 | K60: N | L60: Hybird | M60: https://www.springer.com/journal/66 | N60: German Society of Radiation Oncology | O60: https://www.springer.com/journal/66/submission-guidelines | P60: 0 | Q60: 0 | R60: 0 | S60: 0 | T60: 0 | U60: 0 | V60: 0 | W60: 0 | X60: 0 | Y60: 0
... A104: 103 | B104: Journal of Medical Ultrasonics | C104: ☑️ | D104: XY | E104: 45290 | F104: 1.8 | G104: Q4 | H104: Springer | I104: Japan | J104: 4 | K104: Y | L104: Hybird | M104: https://www.springer.com/journal/10396 | N104: Japan Society of Ultrasonics in Medicine. | O104: https://www.springer.com/journal/10396/submission-guidelines | P104: 0 | Q104: 0 | R104: 0 | S104: 0 | T104: 0 | U104: 0 | V104: 0 | W104: 0 | X104: 0 | Y104: 0
A105: 104 | B105: ROFO-FORTSCHRITTE AUF DEM GEBIET DER RONTGENSTRAHLEN UND DER BILDGEBENDEN VERFAHREN | C105: German | D105: N/a | E105: N/a | F105: 1.8 | G105: Q4 | H105: N/a | I105: N/a | J105: N/a | K105: N/a | L105: N/a | M105: N/a | N105: N/a | O105: N/a | P105: N/a | Q105: N/a | R105: N/a | S105: N/a | T105: N/a | U105: N/a | V105: N/a | W105: N/a | X105: N/a | Y105: N/a
A106: 105 | B106: INTERVENTIONAL NEURORADIOLOGY | C106: ☑️ | D106: XY | E106: 45290 | F106: 1.7 | G106: Q4 | H106: SAGE | I106: Italy | J106: 4 | K106: N | L106: Hybird | M106: https://journals.sagepub.com/home/ine | N106: None | O106: https://journals.sagepub.com/author-instructions/INE | P106: 1 | Q106: 1 | R106: 1 | S106: 1 | T106: 1 | U106: 1 | V106: 0 | W106: 0 | X106: 1 | Y106: 0
A107: 106 | B107: Medical Ultrasonography | C107: ☑️ | D107: XY | E107: 45290 | F107: 1.7 | G107: Q4 | H107: Society | I107: Romania | J107: 4 | K107: N | L107: Open | M107: https://www.medultrason.ro/medultrason/index.php/medultrason | N107: Romanian Society for Ultrasonography in Medicine and Biology | O107: https://www.medultrason.ro/medultrason/index.php/medultrason/about/submissions#authorGuidelines | P107: 0 | Q107: 0 | R107: 0 | S107: 0 | T107: 0 | U107: 0 | V107: 0 | W107: 0 | X107: 0 | Y107: 0
A108: 107 | B108: RADIATION AND ENVIRONMENTAL BIOPHYSICS | C108: ☑️ | D108: XY | E108: 45290 | F108: 1.7 | G108: Q4 | H108: Springer | I108: Germany | J108: 4 | K108: N | L108: Hybird | M108: https://www.springer.com/journal/411 | N108: None | O108: https://www.springer.com/journal/411/submission-guidelines | P108: 0 | Q108: 0 | R108: 0 | S108: 0 | T108: 0 | U108: 0 | V108: 0 | W108: 0 | X108: 0 | Y108: 0
A109: 108 | B109: Applied Radiation and Isotopes | C109: ☑️ | D109: XY | E109: 45290 | F109: 1.6 | G109: Q4 | H109: Elsevier | I109: USA | J109: 12 | K109: N | L109: Hybird | M109: https://www.sciencedirect.com/journal/applied-radiation-and-isotopes | N109: None | O109: https://www.elsevier.com/journals/applied-radiation-and-isotopes/0969-8043/guide-for-authors | P109: 1 | Q109: 1 | R109: 0 | S109: 1 | T109: 1 | U109: 1 | V109: 0 | W109: 1 | X109: 0 | Y109: 0
A110: 109 | B110: Journal of Medical Imaging and Radiation Oncology | C110: ☑️ | D110: XY | E110: 45290 | F110: 1.6 | G110: Q4 | H110: Wiley | I110: Australia | J110: 8 | K110: Y | L110: Hybird | M110: https://onlinelibrary.wiley.com/journal/17549485/ | N110: Royal Australian and New Zealand College of Radiologists | O110: https://onlinelibrary.wiley.com/page/journal/17549485/homepage/forauthors.html | P110: 0 | Q110: 0 | R110: 0 | S110: 0 | T110: 0 | U110: 0 | V110: 0 | W110: 0 | X110: 0 | Y110: 0
A111: 110 | B111: Magnetic Resonance Imaging Clinics of North America | C111: ☑️ | D111: XY | E111: 45290 | F111: 1.6 | G111: Q4 | H111: Elsevier | I111: USA | J111: 4 | K111: Y | L111: Hybird | M111: https://www.mri.theclinics.com | N111: None | O111: https://www.theclinics.com/authorinformation | P111: 1 | Q111: 1 | R111: 0 | S111: 1 | T111: 1 | U111: 1 | V111: 0 | W111: 1 | X111: 0 | Y111: 0
A112: 111 | B112: Hellenic Journal of Nuclear Medicine | C112: ☑️ | D112: XY | E112: 45290 | F112: 1.5 | G112: Q4 | H112: Society | I112: Greece | J112: 3 | K112: Y | L112: Open | M112: https://www.nuclmed.gr/about/ | N112: Hellenic Society of Nuclear Medicine | O112: https://www.nuclmed.gr/wp/wp-content/uploads/2017/04/instructions-to-authors-en.pdf | P112: 0 | Q112: 0 | R112: 0 | S112: 0 | T112: 0 | U112: 0 | V112: 0 | W112: 0 | X112: 0 | Y112: 0
A113: 112 | B113: JOURNAL OF RADIOLOGICAL PROTECTION | C113: ☑️ | D113: XY | E113: 45290 | F113: 1.5 | G113: Q4 | H113: IOP | I113: England | J113: 4 | K113: N | L113: Hybird | M113: https://iopscience.iop.org/journal/0952-4746 | N113: Society for Radiological Protection | O113: https://publishingsupport.iopscience.iop.org/journals/journal-of-radiological-protection/ | P113: 0 | Q113: 0 | R113: 0 | S113: 0 | T113: 0 | U113: 0 | V113: 0 | W113: 0 | X113: 0 | Y113: 0
A114: 113 | B114: NUCLEAR MEDICINE COMMUNICATIONS | C114: ☑️ | D114: XY | E114: 45290 | F114: 1.5 | G114: Q4 | H114: Lippincott Williams & Wilkins | I114: USA | J114: 12 | K114: Y | L114: Hybird | M114: https://journals.lww.com/nuclearmedicinecomm/Pages/default.aspx | N114: British Nuclear Medicine Society | O114: https://edmgr.ovid.com/nmc/accounts/ifauth.htm | P114: 1 | Q114: 1 | R114: 0 | S114: 0 | T114: 1 | U114: 0 | V114: 0 | W114: 0 | X114: 0 | Y114: 0
A115: 114 | B115: NUKLEARMEDIZIN-NUCLEAR MEDICINE | C115: German | D115: N/a | E115: N/a | F115: 1.5 | G115: Q4 | H115: N/a | I115: N/a | J115: N/a | K115: N/a | L115: N/a | M115: N/a | N115: N/a | O115: N/a | P115: N/a | Q115: N/a | R115: N/a | S115: N/a | T115: N/a | U115: N/a | V115: N/a | W115: N/a | X115: N/a | Y115: N/a
A116: 115 | B116: QUARTERLY JOURNAL OF NUCLEAR MEDICINE AND MOLECULAR IMAGING | C116: ☑️ | D116: XY | E116: 45290 | F116: 1.5 | G116: Q4 | H116: Edizioni Minerva Medica | I116: Italy | J116: 4 | K116: Y | L116: Hybird | M116: https://www.minervamedica.it/en/journals/nuclear-med-molecular-imaging/index.php | N116: Society of Radiopharmaceutical Sciences | O116: https://www.minervamedica.it/en/journals/nuclear-med-molecular-imaging/notice-to-authors.php | P116: 0 | Q116: 0 | R116: 0 | S116: 0 | T116: 0 | U116: 0 | V116: 0 | W116: 0 | X116: 0 | Y116: 0
A117: 116 | B117: Current Medical Imaging | C117: ☑️ | D117: XY | E117: 45290 | F117: 1.4 | G117: Q4 | H117: Bentham | I117: United Arab Emirates | J117: 6 | K117: Y | L117: Open | M117: https://www.eurekaselect.com/journal/33 | N117: None | O117: https://www.eurekaselect.com/pages/author-guidelines | P117: 1 | Q117: 1 | R117: 0 | S117: 0 | T117: 1 | U117: 0 | V117: 0 | W117: 0 | X117: 0 | Y117: 0
A118: 117 | B118: Journal of Contemporary Brachytherapy | C118: ☑️ | D118: XY | E118: 45290 | F118: 1.4 | G118: Q4 | H118: Termedia Publishing House | I118: Poland | J118: 4 | K118: N | L118: Open | M118: https://www.termedia.pl/Journal/-54 | N118: Polish Brachytherapy Society and Indian Brachytherapy Society | O118: https://www.termedia.pl/Journal/Journal_of_Contemporary_Brachytherapy-54/Strona-774 | P118: 0 | Q118: 0 | R118: 0 | S118: 0 | T118: 0 | U118: 0 | V118: 0 | W118: 0 | X118: 0 | Y118: 0
A119: 118 | B119: SEMINARS IN INTERVENTIONAL RADIOLOGY | C119: ☑️ | D119: XY | E119: 45290 | F119: 1.4 | G119: Q4 | H119: Thieme | I119: USA | J119: 4 | K119: Y | L119: Hybird | M119: https://www.thiemechina.com/Index/show/catid/124/id/362.html | N119: None | O119: https://web.thieme.com/media/ita/pubid2048889311.pdf | P119: 0 | Q119: 0 | R119: 0 | S119: 0 | T119: 0 | U119: 0 | V119: 0 | W119: 0 | X119: 0 | Y119: 0
A120: 119 | B120: SEMINARS IN MUSCULOSKELETAL RADIOLOGY | C120: ☑️ | D120: XY | E120: 45290 | F120: 1.4 | G120: Q4 | H120: Thieme | I120: USA | J120: 5 | K120: Y | L120: Hybird | M120: https://www.thiemechina.com/Index/show/catid/124/id/363.html | N120: None | O120: https://web.thieme.com/media/ita/pubid393203678.pdf | P120: 0 | Q120: 0 | R120: 0 | S120: 0 | T120: 0 | U120: 0 | V120: 0 | W120: 0 | X120: 0 | Y120: 0
A121: 120 | B121: SURGICAL AND RADIOLOGIC ANATOMY | C121: ☑️ | D121: XY | E121: 45290 | F121: 1.4 | G121: Q4 | H121: Springer | I121: France | J121: 10 | K121: N | L121: Hybird | M121: https://www.springer.com/journal/276 | N121: None | O121: https://www.springer.com/journal/276/submission-guidelines | P121: 0 | Q121: 0 | R121: 0 | S121: 0 | T121: 0 | U121: 0 | V121: 0 | W121: 0 | X121: 0 | Y121: 0
A122: 121 | B122: ACTA RADIOLOGICA | C122: ☑️ | D122: XY | E122: 45290 | F122: 1.3 | G122: Q4 | H122: SAGE | I122: England | J122: 12 | K122: Y | L122: Hybird | M122: https://journals.sagepub.com/home/acr | N122: Societies of medical radiology in Denmark, Finland, Iceland, Norway and Sweden | O122: https://journals.sagepub.com/author-instructions/ACR | P122: 1 | Q122: 1 | R122: 1 | S122: 1 | T122: 1 | U122: 1 | V122: 0 | W122: 0 | X122: 1 | Y122: 0
A123: 122 | B123: Cancer Radiotherapie | C123: French | D123: N/a | E123: N/a | F123: 1.3 | G123: Q4 | H123: N/a | I123: N/a | J123: N/a | K123: N/a | L123: N/a | M123: N/a | N123: N/a | O123: N/a | P123: N/a | Q123: N/a | R123: N/a | S123: N/a | T123: N/a | U123: N/a | V123: N/a | W123: N/a | X123: N/a | Y123: N/a
A124: 123 | B124: JOURNAL OF COMPUTER ASSISTED TOMOGRAPHY | C124: ☑️ | D124: XY | E124: 45290 | F124: 1.3 | G124: Q4 | H124: Lippincott Williams & Wilkins | I124: USA | J124: 6 | K124: Y | L124: Hybird | M124: https://journals.lww.com/jcat/pages/default.aspx | N124: None | O124: https://journals.lww.com/jcat/Pages/informationforauthors.aspx | P124: 0 | Q124: 0 | R124: 0 | S124: 0 | T124: 0 | U124: 0 | V124: 0 | W124: 0 | X124: 0 | Y124: 0
A125: 124 | B125: Ultrasound Quarterly | C125: ☑️ | D125: XY | E125: 45290 | F125: 1.3 | G125: Q4 | H125: Lippincott Williams & Wilkins | I125: USA | J125: 4 | K125: Y | L125: Hybird | M125: https://journals.lww.com/ultrasound-quarterly/pages/default.aspx | N125: Society of Radiologists in Ultrasound | O125: https://edmgr.ovid.com/usq/accounts/ifauth.htm | P125: 0 | Q125: 0 | R125: 0 | S125: 0 | T125: 0 | U125: 0 | V125: 0 | W125: 0 | X125: 0 | Y125: 0
A126: 125 | B126: Medical Dosimetry | C126: ☑️ | D126: XY | E126: 45290 | F126: 1.2 | G126: Q4 | H126: Elsevier | I126: USA | J126: 4 | K126: N | L126: Hybird | M126: https://www.sciencedirect.com/journal/medical-dosimetry | N126: American Association of Medical Dosimetrists | O126: https://www.elsevier.com/journals/medical-dosimetry/0958-3947/guide-for-authors | P126: 1 | Q126: 1 | R126: 0 | S126: 1 | T126: 1 | U126: 1 | V126: 0 | W126: 1 | X126: 0 | Y126: 0
A127: 126 | B127: Revista Espanola de Medicina Nuclear e Imagen Molecular | C127: Spanish | D127: N/a | E127: N/a | F127: 1.2 | G127: Q4 | H127: N/a | I127: N/a | J127: N/a | K127: N/a | L127: N/a | M127: N/a | N127: N/a | O127: N/a | P127: N/a | Q127: N/a | R127: N/a | S127: N/a | T127: N/a | U127: N/a | V127: N/a | W127: N/a | X127: N/a | Y127: N/a
A128: 127 | B128: RADIOPROTECTION | C128: French | D128: N/a | E128: N/a | F128: 1.1 | G128: Q4 | H128: N/a | I128: N/a | J128: N/a | K128: N/a | L128: N/a | M128: N/a | N128: N/a | O128: N/a | P128: N/a | Q128: N/a | R128: N/a | S128: N/a | T128: N/a | U128: N/a | V128: N/a | W128: N/a | X128: N/a | Y128: N/a
A129: 128 | B129: SEMINARS IN ULTRASOUND CT AND MRI | C129: Not avaliable document | D129: XY | E129: 45290 | F129: 1.1 | G129: Q4 | H129: Elsevier | I129: USA | J129: 6 | K129: Y | L129: Hybird | M129: https://www.sciencedirect.com/journal/seminars-in-ultrasound-ct-and-mri | N129: None | O129: https://www.sciencedirect.com/journal/seminars-in-ultrasound-ct-and-mri/publish/guide-for-authors | P129: N/a | Q129: N/a | R129: N/a | S129: N/a | T129: N/a | U129: N/a | V129: N/a | W129: N/a | X129: N/a | Y129: N/a
A130: 129 | B130: RADIATION PROTECTION DOSIMETRY | C130: ☑️ | D130: XY | E130: 45290 | F130: 1 | G130: Q4 | H130: Oxford | I130: England | J130: 20 | K130: N | L130: Hybird | M130: https://academic.oup.com/rpd | N130: None | O130: https://academic.oup.com/rpd/pages/General_Instructions | P130: 0 | Q130: 0 | R130: 0 | S130: 0 | T130: 0 | U130: 0 | V130: 0 | W130: 0 | X130: 0 | Y130: 0
A131: 130 | B131: JOURNAL OF CLINICAL ULTRASOUND | C131: ☑️ | D131: XY | E131: 45290 | F131: 0.9 | G131: Q4 | H131: Wiley | I131: USA | J131: 9 | K131: N | L131: Hybird | M131: https://onlinelibrary.wiley.com/journal/10970096 | N131: None | O131: https://onlinelibrary.wiley.com/page/journal/10970096/homepage/forauthors.html | P131: 0 | Q131: 0 | R131: 0 | S131: 0 | T131: 0 | U131: 0 | V131: 0 | W131: 0 | X131: 0 | Y131: 0
A132: 131 | B132: Radiologie | C132: German | D132: N/a | E132: N/a | F132: 0.7 | G132: Q4 | H132: N/a | I132: N/a | J132: N/a | K132: N/a | L132: N/a | M132: N/a | N132: N/a | O132: N/a | P132: N/a | Q132: N/a | R132: N/a | S132: N/a | T132: N/a | U132: N/a | V132: N/a | W132: N/a | X132: N/a | Y132: N/a
A133: 132 | B133: CONCEPTS IN MAGNETIC RESONANCE PART A | C133: ☑️ | D133: XY | E133: 45290 | F133: 0.6 | G133: Q4 | H133: Hindawi | I133: USA | J133: 1 | K133: N | L133: Hybird | M133: https://www.hindawi.com/journals/cmra/ | N133: None | O133: https://www.hindawi.com/journals/cmra/guidelines/ | P133: 0 | Q133: 0 | R133: 0 | S133: 0 | T133: 0 | U133: 0 | V133: 0 | W133: 0 | X133: 0 | Y133: 0
A134: 133 | B134: International Journal of Radiation Research | C134: ☑️ | D134: XY | E134: 45290 | F134: 0.6 | G134: Q4 | H134: Baresh-e-Danesh | I134: Iran | J134: 4 | K134: Y | L134: Open | M134: http://ijrr.com/page.php?slct_pg_id=12&sid=1&slc_lang=en | N134: None | O134: http://ijrr.com/page/18/Submission-Instructions | P134: 0 | Q134: 0 | R134: 0 | S134: 0 | T134: 0 | U134: 0 | V134: 0 | W134: 0 | X134: 0 | Y134: 0
A135: 134 | B135: SEMINARS IN ROENTGENOLOGY | C135: ☑️ | D135: XY | E135: 45290 | F135: 0.4 | G135: Q4 | H135: Elsevier | I135: USA | J135: 4 | K135: Y | L135: Hybird | M135: https://www.sciencedirect.com/journal/seminars-in-roentgenology | N135: None | O135: https://www.sciencedirect.com/journal/seminars-in-roentgenology/publish/guide-for-authors | P135: 1 | Q135: 1 | R135: 0 | S135: 1 | T135: 1 | U135: 1 | V135: 0 | W135: 1 | X135: 0 | Y135: 0
A136: 135 | B136: Iranian Journal of Radiology | C136: Not avaliable | D136: N/a | E136: N/a | F136: 0.3 | G136: Q4 | H136: N/a | I136: N/a | J136: N/a | K136: N/a | L136: N/a | M136: N/a | N136: N/a | O136: N/a | P136: N/a | Q136: N/a | R136: N/a | S136: N/a | T136: N/a | U136: N/a | V136: N/a | W136: N/a | X136: N/a | Y136: N/a
A137: 136 | B137: Journal of Medical Imaging | C137: ☑️ | D137: XY | E137: 45290 | F137: 2.4 | G137: N. a. | H137: Society | I137: USA | J137: 4 | K137: Y | L137: Hybird | M137: https://www.spiedigitallibrary.org/journals/journal-of-medical-imaging?SSO=1 | N137: Society of Photo-Optical Instrumentation Engineers | O137: https://www.spiedigitallibrary.org/journals/journal-of-medical-imaging/author-guidelines#navBarAnchor | P137: 1 | Q137: 1 | R137: 0 | S137: 0 | T137: 1 | U137: 0 | V137: 0 | W137: 0 | X137: 0 | Y137: 0
A138: 137 | B138: Radiography | C138: ☑️ | D138: XY | E138: 45290 | F138: 2.6 | G138: N. a. | H138: Elsevier | I138: England | J138: 4 | K138: Y | L138: Hybird | M138: https://www.sciencedirect.com/journal/radiography/ | N138: Society and College of Radiographers and the European Federation of Radiographer Societies | O138: https://www.sciencedirect.com/journal/radiography/publish/guide-for-authors | P138: 1 | Q138: 1 | R138: 0 | S138: 1 | T138: 1 | U138: 1 | V138: 0 | W138: 1 | X138: 0 | Y138: 0
A139: 138 | B139: Emergency Radiology | C139: ☑️ | D139: XY | E139: 45290 | F139: 2.2 | G139: N. a. | H139: Springer | I139: Germany | J139: 6 | K139: Y | L139: Hybird | M139: https://link.springer.com/journal/10140 | N139: American Society of Emergency Radiology | O139: https://link.springer.com/journal/10140/submission-guidelines | P139: 0 | Q139: 0 | R139: 0 | S139: 0 | T139: 0 | U139: 0 | V139: 0 | W139: 0 | X139: 0 | Y139: 0
A140: 139 | B140: Advances in Radiation Oncology | C140: ☑️ | D140: XY | E140: 45290 | F140: 2.3 | G140: N. a. | H140: Elsevier | I140: USA | J140: 4 | K140: N | L140: Open | M140: https://www.sciencedirect.com/journal/advances-in-radiation-oncology | N140: American Society for Radiation Oncology | O140: https://www.astro.org/News-and-Publications/Journals/Advances-in-Radiation-Oncology/Advances-Instructions-for-Authors | P140: 1 | Q140: 1 | R140: 0 | S140: 1 | T140: 1 | U140: 1 | V140: 0 | W140: 1 | X140: 0 | Y140: 0
A141: 140 | B141: Biomedical Physics & Engineering Express | C141: ☑️ | D141: XY | E141: 45290 | F141: 1.4 | G141: N. a. | H141: IOP | I141: England | J141: 6 | K141: Y | L141: Hybird | M141: https://iopscience.iop.org/journal/2057-1976 | N141: None | O141: https://publishingsupport.iopscience.iop.org/journals/biomedical-physics-engineering-express/ | P141: 0 | Q141: 0 | R141: 0 | S141: 0 | T141: 0 | U141: 0 | V141: 0 | W141: 0 | X141: 0 | Y141: 0
A142: 141 | B142: Radiology-Artificial Intelligence | C142: ☑️ | D142: XY | E142: 45290 | F142: 9.8 | G142: N. a. | H142: Society | I142: USA | J142: 6 | K142: N | L142: Hybird | M142: https://pubs.rsna.org/journal/ai | N142: Radiological Society of North America | O142: https://pubs.rsna.org/page/ai/author-instructions | P142: 1 | Q142: 1 | R142: 1 | S142: 0 | T142: 1 | U142: 1 | V142: 0 | W142: 1 | X142: 1 | Y142: 0
A143: 142 | B143: World Journal of Radiology | C143: ☑️ | D143: XY | E143: 45290 | F143: 2.5 | G143: N. a. | H143: Baishideng | I143: USA | J143: 12 | K143: Y | L143: Open | M143: https://www.wjgnet.com/1949-8470/about.htm | N143: None | O143: https://www.wjgnet.com/bpg/gerinfo/204 | P143: 0 | Q143: 0 | R143: 0 | S143: 0 | T143: 0 | U143: 0 | V143: 0 | W143: 0 | X143: 0 | Y143: 0
A144: 143 | B144: IEEE Transactions on Radiation and Plasma Medical Sciences | C144: ☑️ | D144: XY | E144: 45290 | F144: 4.4 | G144: N. a. | H144: IEEE | I144: USA | J144: 6 | K144: Y | L144: Hybird | M144: https://ieeexplore.ieee.org/xpl/RecentIssue.jsp?punumber=7433213 | N144: Nuclear and Plasma Science Society | O144: https://journals.ieeeauthorcenter.ieee.org/submit-your-article-for-peer-review/the-ieee-article-submission-process/ | P144: 0 | Q144: 0 | R144: 0 | S144: 0 | T144: 0 | U144: 0 | V144: 0 | W144: 0 | X144: 0 | Y144: 0
A145: 144 | B145: Radiology-Cardiothoracic Imaging | C145: ☑️ | D145: XY | E145: 45290 | F145: 7 | G145: N. a. | H145: Society | I145: USA | J145: 6 | K145: Y | L145: Hybird | M145: https://pubs.rsna.org/journal/cardiothoracic | N145: Radiological Society of North America | O145: https://pubs.rsna.org/page/cardiothoracic/author-instructions | P145: 1 | Q145: 1 | R145: 1 | S145: 0 | T145: 1 | U145: 1 | V145: 0 | W145: 1 | X145: 1 | Y145: 0
A146: 145 | B146: Journal of Ultrasound | C146: ☑️ | D146: XY | E146: 45290 | F146: 2 | G146: N. a. | H146: Springer | I146: Netherlands | J146: 4 | K146: Y | L146: Hybird | M146: https://link.springer.com/journal/40477 | N146: Italian Society for Ultrasound in Medicine and Biology | O146: https://link.springer.com/journal/40477/submission-guidelines | P146: 0 | Q146: 0 | R146: 0 | S146: 0 | T146: 0 | U146: 0 | V146: 0 | W146: 0 | X146: 0 | Y146: 0
A147: 146 | B147: Reports of Practical Oncology and Radiotherapy | C147: ☑️ | D147: XY | E147: 45290 | F147: 1.2 | G147: N. a. | H147: Via Medica | I147: Poland | J147: 6 | K147: N | L147: Hybird | M147: https://journals.viamedica.pl/rpor/index | N147: Polish Society of Radiation Oncology | O147: https://journals.viamedica.pl/rpor/about | P147: 0 | Q147: 0 | R147: 0 | S147: 0 | T147: 0 | U147: 0 | V147: 0 | W147: 0 | X147: 0 | Y147: 0
A148: 147 | B148: Current Problems in Diagnostic Radiology | C148: ☑️ | D148: XY | E148: 45290 | F148: 1.4 | G148: N. a. | H148: Elsevier | I148: USA | J148: 6 | K148: Y | L148: Hybird | M148: https://www.sciencedirect.com/journal/current-problems-in-diagnostic-radiology | N148: None | O148: https://www.sciencedirect.com/journal/current-problems-in-diagnostic-radiology/publish/guide-for-authors | P148: 1 | Q148: 1 | R148: 0 | S148: 1 | T148: 1 | U148: 1 | V148: 0 | W148: 1 | X148: 0 | Y148: 0
... A196: 195 | B196: Journal of Radiation Protection and Research | C196: ☑️ | D196: XY | E196: 45290 | F196: 0.5 | G196: N. a. | H196: Society | I196: South Korea | J196: 4 | K196: N | L196: Open | M196: https://www.jrpr.org | N196: Korean Association for Radiation Protection, Japan Health Physics Society, and Australasian Radiation Protection Society | O196: https://www.jrpr.org/authors/authors.php | P196: 0 | Q196: 0 | R196: 0 | S196: 0 | T196: 0 | U196: 0 | V196: 0 | W196: 0 | X196: 0 | Y196: 0
A197: 196 | B197: Polish Journal of Medical Physics and Engineering | C197: Not avaliable | D197: N/a | E197: N/a | F197: 0.4 | G197: N. a. | H197: N/a | I197: N/a | J197: N/a | K197: N/a | L197: N/a | M197: N/a | N197: N/a | O197: N/a | P197: N/a | Q197: N/a | R197: N/a | S197: N/a | T197: N/a | U197: N/a | V197: N/a | W197: N/a | X197: N/a | Y197: N/a
A198: 197 | B198: Iranian Journal of Nuclear Medicine | C198: Not avaliable | D198: N/a | E198: N/a | F198: 0.3 | G198: N. a. | H198: N/a | I198: N/a | J198: N/a | K198: N/a | L198: N/a | M198: N/a | N198: N/a | O198: N/a | P198: N/a | Q198: N/a | R198: N/a | S198: N/a | T198: N/a | U198: N/a | V198: N/a | W198: N/a | X198: N/a | Y198: N/a
A199: 198 | B199: Sonography | C199: ☑️ | D199: XY | E199: 45290 | F199: 0.4 | G199: N. a. | H199: Wiley | I199: Australia | J199: 4 | K199: Y | L199: Hybird | M199: https://onlinelibrary.wiley.com/journal/20546750 | N199: Australasian Sonographers Association | O199: https://onlinelibrary.wiley.com/page/journal/20546750/homepage/forauthors.html | P199: 0 | Q199: 0 | R199: 0 | S199: 0 | T199: 0 | U199: 0 | V199: 0 | W199: 0 | X199: 0 | Y199: 0
A200: 199 | B200: Hong Kong Journal of Radiology | C200: ☑️ | D200: XY | E200: 45290 | F200: 0.2 | G200: N. a. | H200: Society | I200: Hong Kong | J200: 4 | K200: Y | L200: Open | M200: https://www.hkjr.org/page/home-page | N200: Hong Kong College of Radiologists | O200: https://www.hkjr.org/page/information-authors | P200: 0 | Q200: 0 | R200: 0 | S200: 0 | T200: 0 | U200: 0 | V200: 0 | W200: 0 | X200: 0 | Y200: 0
A201: 200 | B201: West African Journal of Radiology | C201: ☑️ | D201: XY | E201: 45290 | F201: <0.1 | G201: N. a. | H201: Lippincott Williams & Wilkins | I201: Nigeria | J201: 2 | K201: Y | L201: Open | M201: https://journals.lww.com/wajr/pages/default.aspx | N201: Association of Radiologists of West Africa | O201: https://journals.lww.com/wajr/Pages/informationforauthors.aspx | P201: 0 | Q201: 0 | R201: 0 | S201: 0 | T201: 0 | U201: 0 | V201: 0 | W201: 0 | X201: 0 | Y201: 0
A202: 201 | B202: Imagerie de la Femme | C202: French | D202: N/a | E202: N/a | F202: 0.1 | G202: N. a. | H202: N/a | I202: N/a | J202: N/a | K202: N/a | L202: N/a | M202: N/a | N202: N/a | O202: N/a | P202: N/a | Q202: N/a | R202: N/a | S202: N/a | T202: N/a | U202: N/a | V202: N/a | W202: N/a | X202: N/a | Y202: N/a
A203: 202 | B203: Contemporary Diagnostic Radiology | C203: ☑️ | D203: XY | E203: 45290 | F203: 0.1 | G203: N. a. | H203: Lippincott Williams & Wilkins | I203: USA | J203: 26 | K203: Y | L203: Hybird | M203: https://journals.lww.com/cdronline/pages/default.aspx | N203: None | O203: https://journals.lww.com/cdronline/Pages/informationforauthors.aspx | P203: 0 | Q203: 0 | R203: 0 | S203: 0 | T203: 0 | U203: 0 | V203: 0 | W203: 0 | X203: 0 | Y203: 0
A204: 203 | B204: Imagen Diagnostica | C204: Spanish | D204: N/a | E204: N/a | F204: <0.1 | G204: N. a. | H204: N/a | I204: N/a | J204: N/a | K204: N/a | L204: N/a | M204: N/a | N204: N/a | O204: N/a | P204: N/a | Q204: N/a | R204: N/a | S204: N/a | T204: N/a | U204: N/a | V204: N/a | W204: N/a | X204: N/a | Y204: N/a

Sheet Cross_check
A1: No | B1: Journal name | C1: Inclusion | D1: X-check | E1: 2022 JIF | F1: JIF Quartile | G1: Publisher | H1: Region | I1: Publication frequency | J1: Only in Radiology | K1: Publication model | L1: Homepage | M1: Offical Journal | N1: Submission Guideline | O1: Present | P1: Author | Q1: Reviewer | R1: Editor | S1: 1.Use | T1: 2.Tool | U1: 3.Section | V1: 4.Role | W1: 5.Verification | X1: 6.Influence
A2: 1 | B2: RADIOLOGY | C2: ☑️ | D2: =IF(R_1!D2=R_2!D2,"Re-check","Pass") -> Pass | E2: 19.7 | F2: Q1 | G2: Society | H2: USA | I2: 12 | J2: Y | K2: Hybird | L2: https://pubs.rsna.org/journal/radiology | M2: Radiological Society of North America | N2: https://pubs.rsna.org/page/radiology/author-instructions | O2: =IF(OR(R_1!P2=R_2!P2,R_1!P2=1),R_1!P2,-1) -> 1 | P2: =IF(OR(R_1!Q2=R_2!Q2,R_1!Q2=1),R_1!Q2,-1) -> 1 | Q2: =IF(OR(R_1!R2=R_2!R2,R_1!R2=1),R_1!R2,-1) -> 1 | R2: =IF(OR(R_1!S2=R_2!S2,R_1!S2=1),R_1!S2,-1) -> 0 | S2: =IF(OR(R_1!T2=R_2!T2,R_1!T2=1),R_1!T2,-1) -> 1 | T2: =IF(OR(R_1!U2=R_2!U2,R_1!U2=1),R_1!U2,-1) -> 1 | U2: =IF(OR(R_1!V2=R_2!V2,R_1!V2=1),R_1!V2,-1) -> 0 | V2: =IF(OR(R_1!W2=R_2!W2,R_1!W2=1),R_1!W2,-1) -> 1 | ... X2: =IF(OR(R_1!Y2=R_2!Y2,R_1!Y2=1),R_1!Y2,-1) -> 0
A3: 2 | B3: JACC-Cardiovascular Imaging | C3: ☑️ | D3: =IF(R_1!D3=R_2!D3,"Re-check","Pass") -> Pass | E3: 14 | F3: Q1 | G3: Elsevier | H3: USA | I3: 12 | J3: N | K3: Hybird | L3: https://www.jacc.org/journal/imaging | M3: American College of Cardiology | N3: https://www.jacc.org/pb-assets/documents/author-instructions-jacc-imaging-1688567245837.pdf | O3: 1 | P3: 1 | Q3: =IF(OR(R_1!R3=R_2!R3,R_1!R3=1),R_1!R3,-1) -> 0 | R3: =IF(OR(R_1!S3=R_2!S3,R_1!S3=1),R_1!S3,-1) -> 0 | S3: 1 | T3: =IF(OR(R_1!U3=R_2!U3,R_1!U3=1),R_1!U3,-1) -> 0 | U3: =IF(OR(R_1!V3=R_2!V3,R_1!V3=1),R_1!V3,-1) -> 0 | V3: 1 | W3: =IF(OR(R_1!X3=R_2!X3,R_1!X3=1),R_1!X3,-1) -> 0 | X3: =IF(OR(R_1!Y3=R_2!Y3,R_1!Y3=1),R_1!Y3,-1) -> 0
A4: 3 | B4: MEDICAL IMAGE ANALYSIS | C4: ☑️ | D4: =IF(R_1!D4=R_2!D4,"Re-check","Pass") -> Pass | E4: 10.9 | F4: Q1 | G4: Elsevier | H4: Netherlands | I4: 8 | J4: N | K4: Hybird | L4: https://www.sciencedirect.com/journal/medical-image-analysis/ | M4: The Medical Image Computing and Computer Assisted Intervention Society | N4: https://www.elsevier.com/journals/medical-image-analysis/1361-8415/guide-for-authors | O4: =IF(OR(R_1!P4=R_2!P4,R_1!P4=1),R_1!P4,-1) -> 1 | P4: =IF(OR(R_1!Q4=R_2!Q4,R_1!Q4=1),R_1!Q4,-1) -> 1 | Q4: =IF(OR(R_1!R4=R_2!R4,R_1!R4=1),R_1!R4,-1) -> 1 | R4: =IF(OR(R_1!S4=R_2!S4,R_1!S4=1),R_1!S4,-1) -> 1 | S4: =IF(OR(R_1!T4=R_2!T4,R_1!T4=1),R_1!T4,-1) -> 1 | T4: =IF(OR(R_1!U4=R_2!U4,R_1!U4=1),R_1!U4,-1) -> 1 | U4: =IF(OR(R_1!V4=R_2!V4,R_1!V4=1),R_1!V4,-1) -> 0 | V4: =IF(OR(R_1!W4=R_2!W4,R_1!W4=1),R_1!W4,-1) -> 1 | ... X4: =IF(OR(R_1!Y4=R_2!Y4,R_1!Y4=1),R_1!Y4,-1) -> 0
A5: 4 | B5: CLINICAL NUCLEAR MEDICINE | C5: ☑️ | D5: =IF(R_1!D5=R_2!D5,"Re-check","Pass") -> Pass | E5: 10.6 | F5: Q1 | G5: Lippincott Williams & Wilkins | H5: USA | I5: 12 | J5: Y | K5: Hybird | L5: https://journals.lww.com/nuclearmed/pages/default.aspx | M5: American College of Nuclear Medicine | N5: https://edmgr.ovid.com/cnm/accounts/ifauth.htm | O5: =IF(OR(R_1!P5=R_2!P5,R_1!P5=1),R_1!P5,-1) -> 0 | P5: =IF(OR(R_1!Q5=R_2!Q5,R_1!Q5=1),R_1!Q5,-1) -> 0 | Q5: =IF(OR(R_1!R5=R_2!R5,R_1!R5=1),R_1!R5,-1) -> 0 | R5: =IF(OR(R_1!S5=R_2!S5,R_1!S5=1),R_1!S5,-1) -> 0 | S5: =IF(OR(R_1!T5=R_2!T5,R_1!T5=1),R_1!T5,-1) -> 0 | T5: =IF(OR(R_1!U5=R_2!U5,R_1!U5=1),R_1!U5,-1) -> 0 | U5: =IF(OR(R_1!V5=R_2!V5,R_1!V5=1),R_1!V5,-1) -> 0 | V5: =IF(OR(R_1!W5=R_2!W5,R_1!W5=1),R_1!W5,-1) -> 0 | ... X5: =IF(OR(R_1!Y5=R_2!Y5,R_1!Y5=1),R_1!Y5,-1) -> 0
A6: 5 | B6: IEEE TRANSACTIONS ON MEDICAL IMAGING | C6: ☑️ | D6: =IF(R_1!D6=R_2!D6,"Re-check","Pass") -> Pass | E6: 10.6 | F6: Q1 | G6: Society | H6: USA | I6: 12 | J6: N | K6: Hybird | L6: https://www.embs.org/tmi/ | M6: IEEE Engineering in Medicine and Biology Society | N6: https://ieeetmi.org/authors-instructions | O6: =IF(OR(R_1!P6=R_2!P6,R_1!P6=1),R_1!P6,-1) -> 0 | P6: =IF(OR(R_1!Q6=R_2!Q6,R_1!Q6=1),R_1!Q6,-1) -> 0 | Q6: =IF(OR(R_1!R6=R_2!R6,R_1!R6=1),R_1!R6,-1) -> 0 | R6: =IF(OR(R_1!S6=R_2!S6,R_1!S6=1),R_1!S6,-1) -> 0 | S6: =IF(OR(R_1!T6=R_2!T6,R_1!T6=1),R_1!T6,-1) -> 0 | T6: =IF(OR(R_1!U6=R_2!U6,R_1!U6=1),R_1!U6,-1) -> 0 | U6: =IF(OR(R_1!V6=R_2!V6,R_1!V6=1),R_1!V6,-1) -> 0 | V6: =IF(OR(R_1!W6=R_2!W6,R_1!W6=1),R_1!W6,-1) -> 0 | ... X6: =IF(OR(R_1!Y6=R_2!Y6,R_1!Y6=1),R_1!Y6,-1) -> 0
A7: 6 | B7: JOURNAL OF NUCLEAR MEDICINE | C7: ☑️ | D7: =IF(R_1!D7=R_2!D7,"Re-check","Pass") -> Pass | E7: 9.3 | F7: Q1 | G7: Society | H7: USA | I7: 12 | J7: Y | K7: Hybird | L7: https://jnm.snmjournals.org | M7: Society of Nuclear Medicine and Molecular Imaging | N7: https://jnm.snmjournals.org/sites/default/files/additional-assets/JNMInfoforAuthors_11082022.pdf | O7: =IF(OR(R_1!P7=R_2!P7,R_1!P7=1),R_1!P7,-1) -> 0 | P7: =IF(OR(R_1!Q7=R_2!Q7,R_1!Q7=1),R_1!Q7,-1) -> 0 | Q7: =IF(OR(R_1!R7=R_2!R7,R_1!R7=1),R_1!R7,-1) -> 0 | R7: =IF(OR(R_1!S7=R_2!S7,R_1!S7=1),R_1!S7,-1) -> 0 | S7: =IF(OR(R_1!T7=R_2!T7,R_1!T7=1),R_1!T7,-1) -> 0 | T7: =IF(OR(R_1!U7=R_2!U7,R_1!U7=1),R_1!U7,-1) -> 0 | U7: =IF(OR(R_1!V7=R_2!V7,R_1!V7=1),R_1!V7,-1) -> 0 | V7: =IF(OR(R_1!W7=R_2!W7,R_1!W7=1),R_1!W7,-1) -> 0 | ... X7: =IF(OR(R_1!Y7=R_2!Y7,R_1!Y7=1),R_1!Y7,-1) -> 0
A8: 7 | B8: EUROPEAN JOURNAL OF NUCLEAR MEDICINE AND MOLECULAR IMAGING | C8: ☑️ | D8: =IF(R_1!D8=R_2!D8,"Re-check","Pass") -> Pass | E8: 9.1 | F8: Q1 | G8: Springer | H8: Germany | I8: 12 | J8: Y | K8: Hybird | L8: https://www.springer.com/journal/259 | M8: European Association of Nuclear Medicine | N8: https://www.springer.com/journal/259/submission-guidelines | O8: =IF(OR(R_1!P8=R_2!P8,R_1!P8=1),R_1!P8,-1) -> 0 | P8: =IF(OR(R_1!Q8=R_2!Q8,R_1!Q8=1),R_1!Q8,-1) -> 0 | Q8: =IF(OR(R_1!R8=R_2!R8,R_1!R8=1),R_1!R8,-1) -> 0 | R8: =IF(OR(R_1!S8=R_2!S8,R_1!S8=1),R_1!S8,-1) -> 0 | S8: =IF(OR(R_1!T8=R_2!T8,R_1!T8=1),R_1!T8,-1) -> 0 | T8: =IF(OR(R_1!U8=R_2!U8,R_1!U8=1),R_1!U8,-1) -> 0 | U8: =IF(OR(R_1!V8=R_2!V8,R_1!V8=1),R_1!V8,-1) -> 0 | V8: =IF(OR(R_1!W8=R_2!W8,R_1!W8=1),R_1!W8,-1) -> 0 | ... X8: =IF(OR(R_1!Y8=R_2!Y8,R_1!Y8=1),R_1!Y8,-1) -> 0
A9: 8 | B9: Radiologia Medica | C9: ☑️ | D9: =IF(R_1!D9=R_2!D9,"Re-check","Pass") -> Pass | E9: 8.9 | F9: Q1 | G9: Springer | H9: Italy | I9: 12 | J9: Y | K9: Hybird | L9: https://www.springer.com/journal/11547 | M9: Italian Society of Medical and Interventional Radiology | N9: https://www.springer.com/journal/11547/submission-guidelines | O9: =IF(OR(R_1!P9=R_2!P9,R_1!P9=1),R_1!P9,-1) -> 0 | P9: =IF(OR(R_1!Q9=R_2!Q9,R_1!Q9=1),R_1!Q9,-1) -> 0 | Q9: =IF(OR(R_1!R9=R_2!R9,R_1!R9=1),R_1!R9,-1) -> 0 | R9: =IF(OR(R_1!S9=R_2!S9,R_1!S9=1),R_1!S9,-1) -> 0 | S9: =IF(OR(R_1!T9=R_2!T9,R_1!T9=1),R_1!T9,-1) -> 0 | T9: =IF(OR(R_1!U9=R_2!U9,R_1!U9=1),R_1!U9,-1) -> 0 | U9: =IF(OR(R_1!V9=R_2!V9,R_1!V9=1),R_1!V9,-1) -> 0 | V9: =IF(OR(R_1!W9=R_2!W9,R_1!W9=1),R_1!W9,-1) -> 0 | ... X9: =IF(OR(R_1!Y9=R_2!Y9,R_1!Y9=1),R_1!Y9,-1) -> 0
A10: 9 | B10: Photoacoustics | C10: ☑️ | D10: =IF(R_1!D10=R_2!D10,"Re-check","Pass") -> Pass | E10: 7.9 | F10: Q1 | G10: Elsevier | H10: Netherlands | I10: 4 | J10: N | K10: Open | L10: https://www.sciencedirect.com/journal/photoacoustics | M10: None | N10: https://www.elsevier.com/journals/photoacoustics/2213-5979/guide-for-authors | O10: =IF(OR(R_1!P10=R_2!P10,R_1!P10=1),R_1!P10,-1) -> 1 | P10: =IF(OR(R_1!Q10=R_2!Q10,R_1!Q10=1),R_1!Q10,-1) -> 1 | Q10: =IF(OR(R_1!R10=R_2!R10,R_1!R10=1),R_1!R10,-1) -> 1 | R10: =IF(OR(R_1!S10=R_2!S10,R_1!S10=1),R_1!S10,-1) -> 1 | S10: =IF(OR(R_1!T10=R_2!T10,R_1!T10=1),R_1!T10,-1) -> 1 | T10: =IF(OR(R_1!U10=R_2!U10,R_1!U10=1),R_1!U10,-1) -> 1 | U10: =IF(OR(R_1!V10=R_2!V10,R_1!V10=1),R_1!V10,-1) -> 0 | V10: =IF(OR(R_1!W10=R_2!W10,R_1!W10=1),R_1!W10,-1) -> 1 | ... X10: =IF(OR(R_1!Y10=R_2!Y10,R_1!Y10=1),R_1!Y10,-1) -> 0
A11: 10 | B11: Circulation-Cardiovascular Imaging | C11: ☑️ | D11: =IF(R_1!D11=R_2!D11,"Re-check","Pass") -> Pass | E11: 7.5 | F11: Q1 | G11: Lippincott Williams & Wilkins | H11: USA | I11: 12 | J11: N | K11: Hybird | L11: https://www.ahajournals.org/journal/circimaging | M11: American Heart Association | N11: https://www.ahajournals.org/circimaging/author-instructions | O11: =IF(OR(R_1!P11=R_2!P11,R_1!P11=1),R_1!P11,-1) -> 0 | P11: =IF(OR(R_1!Q11=R_2!Q11,R_1!Q11=1),R_1!Q11,-1) -> 0 | Q11: =IF(OR(R_1!R11=R_2!R11,R_1!R11=1),R_1!R11,-1) -> 0 | R11: =IF(OR(R_1!S11=R_2!S11,R_1!S11=1),R_1!S11,-1) -> 0 | S11: =IF(OR(R_1!T11=R_2!T11,R_1!T11=1),R_1!T11,-1) -> 0 | T11: =IF(OR(R_1!U11=R_2!U11,R_1!U11=1),R_1!U11,-1) -> 0 | U11: =IF(OR(R_1!V11=R_2!V11,R_1!V11=1),R_1!V11,-1) -> 0 | V11: =IF(OR(R_1!W11=R_2!W11,R_1!W11=1),R_1!W11,-1) -> 0 | ... X11: =IF(OR(R_1!Y11=R_2!Y11,R_1!Y11=1),R_1!Y11,-1) -> 0
A12: 11 | B12: ULTRASOUND IN OBSTETRICS & GYNECOLOGY | C12: ☑️ | D12: =IF(R_1!D12=R_2!D12,"Re-check","Pass") -> Pass | E12: 7.1 | F12: Q1 | G12: Wiley | H12: USA | I12: 12 | J12: N | K12: Hybird | L12: https://obgyn.onlinelibrary.wiley.com/journal/14690705/ | M12: International Society of Ultrasound in Obstetrics and Gynecology | N12: https://obgyn.onlinelibrary.wiley.com/hub/journal/14690705/about/author-guidelines | O12: =IF(OR(R_1!P12=R_2!P12,R_1!P12=1),R_1!P12,-1) -> 0 | P12: =IF(OR(R_1!Q12=R_2!Q12,R_1!Q12=1),R_1!Q12,-1) -> 0 | Q12: =IF(OR(R_1!R12=R_2!R12,R_1!R12=1),R_1!R12,-1) -> 0 | R12: =IF(OR(R_1!S12=R_2!S12,R_1!S12=1),R_1!S12,-1) -> 0 | S12: =IF(OR(R_1!T12=R_2!T12,R_1!T12=1),R_1!T12,-1) -> 0 | T12: =IF(OR(R_1!U12=R_2!U12,R_1!U12=1),R_1!U12,-1) -> 0 | U12: =IF(OR(R_1!V12=R_2!V12,R_1!V12=1),R_1!V12,-1) -> 0 | V12: =IF(OR(R_1!W12=R_2!W12,R_1!W12=1),R_1!W12,-1) -> 0 | ... X12: =IF(OR(R_1!Y12=R_2!Y12,R_1!Y12=1),R_1!Y12,-1) -> 0
A13: 12 | B13: INTERNATIONAL JOURNAL OF RADIATION ONCOLOGY BIOLOGY PHYSICS | C13: ☑️ | D13: =IF(R_1!D13=R_2!D13,"Re-check","Pass") -> Pass | E13: 7 | F13: Q1 | G13: Elsevier | H13: USA | I13: 15 | J13: N | K13: Hybird | L13: https://www.sciencedirect.com/journal/international-journal-of-radiation-oncology-biology-physics | M13: American Society for Radiation Oncology | N13: https://www.astro.org/News-and-Publications/Journals/Author-Instructions | O13: =IF(OR(R_1!P13=R_2!P13,R_1!P13=1),R_1!P13,-1) -> 1 | P13: =IF(OR(R_1!Q13=R_2!Q13,R_1!Q13=1),R_1!Q13,-1) -> 1 | Q13: =IF(OR(R_1!R13=R_2!R13,R_1!R13=1),R_1!R13,-1) -> 1 | R13: =IF(OR(R_1!S13=R_2!S13,R_1!S13=1),R_1!S13,-1) -> 1 | S13: =IF(OR(R_1!T13=R_2!T13,R_1!T13=1),R_1!T13,-1) -> 1 | T13: =IF(OR(R_1!U13=R_2!U13,R_1!U13=1),R_1!U13,-1) -> 1 | U13: =IF(OR(R_1!V13=R_2!V13,R_1!V13=1),R_1!V13,-1) -> 0 | V13: =IF(OR(R_1!W13=R_2!W13,R_1!W13=1),R_1!W13,-1) -> 1 | ... X13: =IF(OR(R_1!Y13=R_2!Y13,R_1!Y13=1),R_1!Y13,-1) -> 0
A14: 13 | B14: INVESTIGATIVE RADIOLOGY | C14: ☑️ | D14: =IF(R_1!D14=R_2!D14,"Re-check","Pass") -> Pass | E14: 6.7 | F14: Q1 | G14: Lippincott Williams & Wilkins | H14: USA | I14: 12 | J14: Y | K14: Hybird | L14: https://journals.lww.com/investigativeradiology/pages/default.aspx | M14: None | N14: https://edmgr.ovid.com/ir/accounts/ifauth.htm | O14: =IF(OR(R_1!P14=R_2!P14,R_1!P14=1),R_1!P14,-1) -> 0 | P14: =IF(OR(R_1!Q14=R_2!Q14,R_1!Q14=1),R_1!Q14,-1) -> 0 | Q14: =IF(OR(R_1!R14=R_2!R14,R_1!R14=1),R_1!R14,-1) -> 0 | R14: =IF(OR(R_1!S14=R_2!S14,R_1!S14=1),R_1!S14,-1) -> 0 | S14: =IF(OR(R_1!T14=R_2!T14,R_1!T14=1),R_1!T14,-1) -> 0 | T14: =IF(OR(R_1!U14=R_2!U14,R_1!U14=1),R_1!U14,-1) -> 0 | U14: =IF(OR(R_1!V14=R_2!V14,R_1!V14=1),R_1!V14,-1) -> 0 | V14: =IF(OR(R_1!W14=R_2!W14,R_1!W14=1),R_1!W14,-1) -> 0 | ... X14: =IF(OR(R_1!Y14=R_2!Y14,R_1!Y14=1),R_1!Y14,-1) -> 0
A15: 14 | B15: JOURNAL OF CARDIOVASCULAR MAGNETIC RESONANCE | C15: ☑️ | D15: =IF(R_1!D15=R_2!D15,"Re-check","Pass") -> Pass | E15: 6.4 | F15: Q1 | G15: BMC | H15: USA | I15: 1 | J15: N | K15: Open | L15: https://jcmr-online.biomedcentral.com | M15: Society for Cardiovascular Magnetic Resonance. | N15: https://jcmr-online.biomedcentral.com/submission-guidelines | O15: =IF(OR(R_1!P15=R_2!P15,R_1!P15=1),R_1!P15,-1) -> 1 | P15: =IF(OR(R_1!Q15=R_2!Q15,R_1!Q15=1),R_1!Q15,-1) -> 1 | Q15: =IF(OR(R_1!R15=R_2!R15,R_1!R15=1),R_1!R15,-1) -> 0 | R15: =IF(OR(R_1!S15=R_2!S15,R_1!S15=1),R_1!S15,-1) -> 0 | S15: =IF(OR(R_1!T15=R_2!T15,R_1!T15=1),R_1!T15,-1) -> 1 | T15: =IF(OR(R_1!U15=R_2!U15,R_1!U15=1),R_1!U15,-1) -> 0 | U15: =IF(OR(R_1!V15=R_2!V15,R_1!V15=1),R_1!V15,-1) -> 0 | V15: =IF(OR(R_1!W15=R_2!W15,R_1!W15=1),R_1!W15,-1) -> 0 | ... X15: =IF(OR(R_1!Y15=R_2!Y15,R_1!Y15=1),R_1!Y15,-1) -> 0
... A36: 35 | B36: EJNMMI Physics | C36: ☑️ | D36: =IF(R_1!D36=R_2!D36,"Re-check","Pass") -> Pass | E36: 4 | F36: Q2 | G36: Springer | H36: Germany | I36: 1 | J36: Y | K36: Open | L36: https://ejnmmiphys.springeropen.com | M36: European Association of Nuclear Medicine | N36: https://ejnmmiphys.springeropen.com/submission-guidelines | O36: =IF(OR(R_1!P36=R_2!P36,R_1!P36=1),R_1!P36,-1) -> 1 | P36: =IF(OR(R_1!Q36=R_2!Q36,R_1!Q36=1),R_1!Q36,-1) -> 1 | Q36: =IF(OR(R_1!R36=R_2!R36,R_1!R36=1),R_1!R36,-1) -> 0 | R36: =IF(OR(R_1!S36=R_2!S36,R_1!S36=1),R_1!S36,-1) -> 0 | S36: =IF(OR(R_1!T36=R_2!T36,R_1!T36=1),R_1!T36,-1) -> 1 | T36: =IF(OR(R_1!U36=R_2!U36,R_1!U36=1),R_1!U36,-1) -> 0 | U36: =IF(OR(R_1!V36=R_2!V36,R_1!V36=1),R_1!V36,-1) -> 0 | V36: =IF(OR(R_1!W36=R_2!W36,R_1!W36=1),R_1!W36,-1) -> 0 | ... X36: =IF(OR(R_1!Y36=R_2!Y36,R_1!Y36=1),R_1!Y36,-1) -> 0
A37: 36 | B37: MEDICAL PHYSICS | C37: ☑️ | D37: =IF(R_1!D37=R_2!D37,"Re-check","Pass") -> Pass | E37: 3.8 | F37: Q2 | G37: Wiley | H37: USA | I37: 12 | J37: Y | K37: Hybird | L37: https://www.medphys.org | M37: American Association of Physicists in Medicine | N37: https://aapm.onlinelibrary.wiley.com/hub/journal/24734209/about/author-guidelines | O37: 1 | P37: 1 | Q37: =IF(OR(R_1!R37=R_2!R37,R_1!R37=1),R_1!R37,-1) -> 0 | R37: =IF(OR(R_1!S37=R_2!S37,R_1!S37=1),R_1!S37,-1) -> 0 | S37: 1 | T37: =IF(OR(R_1!U37=R_2!U37,R_1!U37=1),R_1!U37,-1) -> 0 | U37: 0 | V37: =IF(OR(R_1!W37=R_2!W37,R_1!W37=1),R_1!W37,-1) -> 0 | W37: =IF(OR(R_1!X37=R_2!X37,R_1!X37=1),R_1!X37,-1) -> 0 | X37: =IF(OR(R_1!Y37=R_2!Y37,R_1!Y37=1),R_1!Y37,-1) -> 0
A38: 37 | B38: Radiation Oncology | C38: ☑️ | D38: =IF(R_1!D38=R_2!D38,"Re-check","Pass") -> Pass | E38: 3.6 | F38: Q2 | G38: BMC | H38: England | I38: 1 | J38: N | K38: Open | L38: https://ro-journal.biomedcentral.com | M38: None | N38: https://ro-journal.biomedcentral.com/submission-guidelines | O38: =IF(OR(R_1!P38=R_2!P38,R_1!P38=1),R_1!P38,-1) -> 1 | P38: =IF(OR(R_1!Q38=R_2!Q38,R_1!Q38=1),R_1!Q38,-1) -> 1 | Q38: =IF(OR(R_1!R38=R_2!R38,R_1!R38=1),R_1!R38,-1) -> 0 | R38: =IF(OR(R_1!S38=R_2!S38,R_1!S38=1),R_1!S38,-1) -> 0 | S38: =IF(OR(R_1!T38=R_2!T38,R_1!T38=1),R_1!T38,-1) -> 1 | T38: =IF(OR(R_1!U38=R_2!U38,R_1!U38=1),R_1!U38,-1) -> 0 | U38: =IF(OR(R_1!V38=R_2!V38,R_1!V38=1),R_1!V38,-1) -> 0 | V38: =IF(OR(R_1!W38=R_2!W38,R_1!W38=1),R_1!W38,-1) -> 0 | ... X38: =IF(OR(R_1!Y38=R_2!Y38,R_1!Y38=1),R_1!Y38,-1) -> 0
A39: 38 | B39: AMERICAN JOURNAL OF NEURORADIOLOGY | C39: ☑️ | D39: =IF(R_1!D39=R_2!D39,"Re-check","Pass") -> Pass | E39: 3.5 | F39: Q2 | G39: Society | H39: USA | I39: 12 | J39: N | K39: Hybird | L39: https://www.ajnr.org | M39: American Society of Neuroradiology | N39: https://www.ajnr.org/page/content/Information-for-Authors | O39: =IF(OR(R_1!P39=R_2!P39,R_1!P39=1),R_1!P39,-1) -> 1 | P39: =IF(OR(R_1!Q39=R_2!Q39,R_1!Q39=1),R_1!Q39,-1) -> 1 | Q39: =IF(OR(R_1!R39=R_2!R39,R_1!R39=1),R_1!R39,-1) -> 0 | R39: =IF(OR(R_1!S39=R_2!S39,R_1!S39=1),R_1!S39,-1) -> 0 | S39: =IF(OR(R_1!T39=R_2!T39,R_1!T39=1),R_1!T39,-1) -> 1 | T39: =IF(OR(R_1!U39=R_2!U39,R_1!U39=1),R_1!U39,-1) -> 1 | U39: =IF(OR(R_1!V39=R_2!V39,R_1!V39=1),R_1!V39,-1) -> 0 | V39: =IF(OR(R_1!W39=R_2!W39,R_1!W39=1),R_1!W39,-1) -> 1 | ... X39: =IF(OR(R_1!Y39=R_2!Y39,R_1!Y39=1),R_1!Y39,-1) -> 0
A40: 39 | B40: JOURNAL OF BIOMEDICAL OPTICS | C40: ☑️ | D40: =IF(R_1!D40=R_2!D40,"Re-check","Pass") -> Pass | E40: 3.5 | F40: Q2 | G40: Society | H40: USA | I40: 12 | J40: N | K40: Open | L40: https://www.spiedigitallibrary.org/journals/journal-of-biomedical-optics?SSO=1 | M40: Society of Photo-Optical Instrumentation Engineers | N40: https://www.spiedigitallibrary.org/journals/journal-of-biomedical-optics/author-guidelines#navBarAnchor | O40: =IF(OR(R_1!P40=R_2!P40,R_1!P40=1),R_1!P40,-1) -> 1 | P40: =IF(OR(R_1!Q40=R_2!Q40,R_1!Q40=1),R_1!Q40,-1) -> 1 | Q40: =IF(OR(R_1!R40=R_2!R40,R_1!R40=1),R_1!R40,-1) -> 0 | R40: =IF(OR(R_1!S40=R_2!S40,R_1!S40=1),R_1!S40,-1) -> 0 | S40: =IF(OR(R_1!T40=R_2!T40,R_1!T40=1),R_1!T40,-1) -> 1 | T40: =IF(OR(R_1!U40=R_2!U40,R_1!U40=1),R_1!U40,-1) -> 1 | U40: =IF(OR(R_1!V40=R_2!V40,R_1!V40=1),R_1!V40,-1) -> 0 | V40: =IF(OR(R_1!W40=R_2!W40,R_1!W40=1),R_1!W40,-1) -> 0 | ... X40: =IF(OR(R_1!Y40=R_2!Y40,R_1!Y40=1),R_1!Y40,-1) -> 0
A41: 40 | B41: JOURNAL OF NEURORADIOLOGY | C41: ☑️ | D41: =IF(R_1!D41=R_2!D41,"Re-check","Pass") -> Pass | E41: 3.5 | F41: Q2 | G41: Elsevier | H41: France | I41: 5 | J41: N | K41: Hybird | L41: https://www.sciencedirect.com/journal/journal-of-neuroradiology | M41: French Society of Neuroradiology | N41: https://www.elsevier.com/journals/journal-of-neuroradiology/0150-9861/guide-for-authors | O41: =IF(OR(R_1!P41=R_2!P41,R_1!P41=1),R_1!P41,-1) -> 1 | P41: =IF(OR(R_1!Q41=R_2!Q41,R_1!Q41=1),R_1!Q41,-1) -> 1 | Q41: =IF(OR(R_1!R41=R_2!R41,R_1!R41=1),R_1!R41,-1) -> 1 | R41: =IF(OR(R_1!S41=R_2!S41,R_1!S41=1),R_1!S41,-1) -> 1 | S41: =IF(OR(R_1!T41=R_2!T41,R_1!T41=1),R_1!T41,-1) -> 1 | T41: =IF(OR(R_1!U41=R_2!U41,R_1!U41=1),R_1!U41,-1) -> 1 | U41: =IF(OR(R_1!V41=R_2!V41,R_1!V41=1),R_1!V41,-1) -> 0 | V41: =IF(OR(R_1!W41=R_2!W41,R_1!W41=1),R_1!W41,-1) -> 1 | ... X41: =IF(OR(R_1!Y41=R_2!Y41,R_1!Y41=1),R_1!Y41,-1) -> 0
A42: 41 | B42: PHYSICS IN MEDICINE AND BIOLOGY | C42: ☑️ | D42: =IF(R_1!D42=R_2!D42,"Re-check","Pass") -> Pass | E42: 3.5 | F42: Q2 | G42: IOP | H42: England | I42: 24 | J42: N | K42: Hybird | L42: https://iopscience.iop.org/journal/0031-9155 | M42: Institute of Physics and Engineering in Medicine | N42: https://publishingsupport.iopscience.iop.org/journals/physics-in-medicine-biology/ | O42: =IF(OR(R_1!P42=R_2!P42,R_1!P42=1),R_1!P42,-1) -> 0 | P42: =IF(OR(R_1!Q42=R_2!Q42,R_1!Q42=1),R_1!Q42,-1) -> 0 | Q42: =IF(OR(R_1!R42=R_2!R42,R_1!R42=1),R_1!R42,-1) -> 0 | R42: =IF(OR(R_1!S42=R_2!S42,R_1!S42=1),R_1!S42,-1) -> 0 | S42: =IF(OR(R_1!T42=R_2!T42,R_1!T42=1),R_1!T42,-1) -> 0 | T42: =IF(OR(R_1!U42=R_2!U42,R_1!U42=1),R_1!U42,-1) -> 0 | U42: =IF(OR(R_1!V42=R_2!V42,R_1!V42=1),R_1!V42,-1) -> 0 | V42: =IF(OR(R_1!W42=R_2!W42,R_1!W42=1),R_1!W42,-1) -> 0 | ... X42: =IF(OR(R_1!Y42=R_2!Y42,R_1!Y42=1),R_1!Y42,-1) -> 0
A43: 42 | B43: SEMINARS IN RADIATION ONCOLOGY | C43: Not avaliable document | D43: =IF(R_1!D43=R_2!D43,"Re-check","Pass") -> Pass | E43: 3.5 | F43: Q2 | G43: Elsevier | H43: USA | I43: 4 | J43: N | K43: Hybird | L43: https://www.sciencedirect.com/journal/seminars-in-radiation-oncology | M43: None | N43: https://www.sciencedirect.com/journal/seminars-in-radiation-oncology/publish/guide-for-authors | O43: =IF(OR(R_1!P43=R_2!P43,R_1!P43=1),R_1!P43,-1) -> N/a | P43: =IF(OR(R_1!Q43=R_2!Q43,R_1!Q43=1),R_1!Q43,-1) -> N/a | Q43: =IF(OR(R_1!R43=R_2!R43,R_1!R43=1),R_1!R43,-1) -> N/a | R43: =IF(OR(R_1!S43=R_2!S43,R_1!S43=1),R_1!S43,-1) -> N/a | S43: =IF(OR(R_1!T43=R_2!T43,R_1!T43=1),R_1!T43,-1) -> N/a | T43: =IF(OR(R_1!U43=R_2!U43,R_1!U43=1),R_1!U43,-1) -> N/a | U43: =IF(OR(R_1!V43=R_2!V43,R_1!V43=1),R_1!V43,-1) -> N/a | V43: =IF(OR(R_1!W43=R_2!W43,R_1!W43=1),R_1!W43,-1) -> N/a | ... X43: =IF(OR(R_1!Y43=R_2!Y43,R_1!Y43=1),R_1!Y43,-1) -> N/a
A44: 43 | B44: Biomedical Optics Express | C44: ☑️ | D44: =IF(R_1!D44=R_2!D44,"Re-check","Pass") -> Pass | E44: 3.4 | F44: Q2 | G44: Optica Publishing Group | H44: USA | I44: 12 | J44: N | K44: Open | L44: https://opg.optica.org/boe/home.cfm | M44: None | N44: https://opg.optica.org/boe/author/author.cfm | O44: =IF(OR(R_1!P44=R_2!P44,R_1!P44=1),R_1!P44,-1) -> 0 | P44: =IF(OR(R_1!Q44=R_2!Q44,R_1!Q44=1),R_1!Q44,-1) -> 0 | Q44: =IF(OR(R_1!R44=R_2!R44,R_1!R44=1),R_1!R44,-1) -> 0 | R44: =IF(OR(R_1!S44=R_2!S44,R_1!S44=1),R_1!S44,-1) -> 0 | S44: =IF(OR(R_1!T44=R_2!T44,R_1!T44=1),R_1!T44,-1) -> 0 | T44: =IF(OR(R_1!U44=R_2!U44,R_1!U44=1),R_1!U44,-1) -> 0 | U44: =IF(OR(R_1!V44=R_2!V44,R_1!V44=1),R_1!V44,-1) -> 0 | V44: =IF(OR(R_1!W44=R_2!W44,R_1!W44=1),R_1!W44,-1) -> 0 | ... X44: =IF(OR(R_1!Y44=R_2!Y44,R_1!Y44=1),R_1!Y44,-1) -> 0
A45: 44 | B45: CANCER BIOTHERAPY AND RADIOPHARMACEUTICALS | C45: ☑️ | D45: =IF(R_1!D45=R_2!D45,"Re-check","Pass") -> Pass | E45: 3.4 | F45: Q2 | G45: Mary Ann Libert | H45: USA | I45: 10 | J45: N | K45: Hybird | L45: https://home.liebertpub.com/publications/cancer-biotherapy-and-radiopharmaceuticals/8/ | M45: None | N45: https://home.liebertpub.com/publications/cancer-biotherapy-and-radiopharmaceuticals/8/for-authors#policies | O45: =IF(OR(R_1!P45=R_2!P45,R_1!P45=1),R_1!P45,-1) -> 0 | P45: =IF(OR(R_1!Q45=R_2!Q45,R_1!Q45=1),R_1!Q45,-1) -> 0 | Q45: =IF(OR(R_1!R45=R_2!R45,R_1!R45=1),R_1!R45,-1) -> 0 | R45: =IF(OR(R_1!S45=R_2!S45,R_1!S45=1),R_1!S45,-1) -> 0 | S45: =IF(OR(R_1!T45=R_2!T45,R_1!T45=1),R_1!T45,-1) -> 0 | T45: =IF(OR(R_1!U45=R_2!U45,R_1!U45=1),R_1!U45,-1) -> 0 | U45: =IF(OR(R_1!V45=R_2!V45,R_1!V45=1),R_1!V45,-1) -> 0 | V45: =IF(OR(R_1!W45=R_2!W45,R_1!W45=1),R_1!W45,-1) -> 0 | ... X45: =IF(OR(R_1!Y45=R_2!Y45,R_1!Y45=1),R_1!Y45,-1) -> 0
A46: 45 | B46: Physica Medica-European Journal of Medical Physics | C46: ☑️ | D46: =IF(R_1!D46=R_2!D46,"Re-check","Pass") -> Pass | E46: 3.4 | F46: Q2 | G46: Elsevier | H46: Italy | I46: 8 | J46: Y | K46: Hybird | L46: https://www.physicamedica.com | M46: International Organization for Medical Physics | N46: https://www.physicamedica.com/content/authorinfo | O46: =IF(OR(R_1!P46=R_2!P46,R_1!P46=1),R_1!P46,-1) -> 1 | P46: =IF(OR(R_1!Q46=R_2!Q46,R_1!Q46=1),R_1!Q46,-1) -> 1 | Q46: =IF(OR(R_1!R46=R_2!R46,R_1!R46=1),R_1!R46,-1) -> 1 | R46: =IF(OR(R_1!S46=R_2!S46,R_1!S46=1),R_1!S46,-1) -> 1 | S46: =IF(OR(R_1!T46=R_2!T46,R_1!T46=1),R_1!T46,-1) -> 1 | T46: =IF(OR(R_1!U46=R_2!U46,R_1!U46=1),R_1!U46,-1) -> 1 | U46: =IF(OR(R_1!V46=R_2!V46,R_1!V46=1),R_1!V46,-1) -> 0 | V46: =IF(OR(R_1!W46=R_2!W46,R_1!W46=1),R_1!W46,-1) -> 1 | ... X46: =IF(OR(R_1!Y46=R_2!Y46,R_1!Y46=1),R_1!Y46,-1) -> 0
A47: 46 | B47: RADIATION RESEARCH | C47: ☑️ | D47: =IF(R_1!D47=R_2!D47,"Re-check","Pass") -> Pass | E47: 3.4 | F47: Q2 | G47: Society | H47: USA | I47: 12 | J47: N | K47: Hybird | L47: https://meridian.allenpress.com/radiation-research | M47: Radiation Research Society | N47: https://meridian.allenpress.com/DocumentLibrary/RADE/RARE_Info_for_Authors_5-30-2018.pdf | O47: =IF(OR(R_1!P47=R_2!P47,R_1!P47=1),R_1!P47,-1) -> 0 | P47: =IF(OR(R_1!Q47=R_2!Q47,R_1!Q47=1),R_1!Q47,-1) -> 0 | Q47: =IF(OR(R_1!R47=R_2!R47,R_1!R47=1),R_1!R47,-1) -> 0 | R47: =IF(OR(R_1!S47=R_2!S47,R_1!S47=1),R_1!S47,-1) -> 0 | S47: =IF(OR(R_1!T47=R_2!T47,R_1!T47=1),R_1!T47,-1) -> 0 | T47: =IF(OR(R_1!U47=R_2!U47,R_1!U47=1),R_1!U47,-1) -> 0 | U47: =IF(OR(R_1!V47=R_2!V47,R_1!V47=1),R_1!V47,-1) -> 0 | V47: =IF(OR(R_1!W47=R_2!W47,R_1!W47=1),R_1!W47,-1) -> 0 | ... X47: =IF(OR(R_1!Y47=R_2!Y47,R_1!Y47=1),R_1!Y47,-1) -> 0
A48: 47 | B48: ULTRASCHALL IN DER MEDIZIN | C48: German | D48: N/a | E48: 3.4 | F48: Q2 | G48: N/a | H48: N/a | I48: N/a | J48: N/a | K48: N/a | L48: N/a | M48: N/a | N48: N/a | O48: =IF(OR(R_1!P48=R_2!P48,R_1!P48=1),R_1!P48,-1) -> N/a | P48: =IF(OR(R_1!Q48=R_2!Q48,R_1!Q48=1),R_1!Q48,-1) -> N/a | Q48: =IF(OR(R_1!R48=R_2!R48,R_1!R48=1),R_1!R48,-1) -> N/a | R48: =IF(OR(R_1!S48=R_2!S48,R_1!S48=1),R_1!S48,-1) -> N/a | S48: =IF(OR(R_1!T48=R_2!T48,R_1!T48=1),R_1!T48,-1) -> N/a | T48: =IF(OR(R_1!U48=R_2!U48,R_1!U48=1),R_1!U48,-1) -> N/a | U48: =IF(OR(R_1!V48=R_2!V48,R_1!V48=1),R_1!V48,-1) -> N/a | V48: =IF(OR(R_1!W48=R_2!W48,R_1!W48=1),R_1!W48,-1) -> N/a | ... X48: =IF(OR(R_1!Y48=R_2!Y48,R_1!Y48=1),R_1!Y48,-1) -> N/a
A49: 48 | B49: DENTOMAXILLOFACIAL RADIOLOGY | C49: ☑️ | D49: =IF(R_1!D49=R_2!D49,"Re-check","Pass") -> Pass | E49: 3.3 | F49: Q2 | G49: Society | H49: England | I49: 8 | J49: N | K49: Hybird | L49: https://www.birpublications.org/journal/dmfr | M49: British Institute of Radiology | N49: https://www.birpublications.org/page/ifa/dmfr | O49: =IF(OR(R_1!P49=R_2!P49,R_1!P49=1),R_1!P49,-1) -> 0 | P49: =IF(OR(R_1!Q49=R_2!Q49,R_1!Q49=1),R_1!Q49,-1) -> 0 | Q49: =IF(OR(R_1!R49=R_2!R49,R_1!R49=1),R_1!R49,-1) -> 0 | R49: =IF(OR(R_1!S49=R_2!S49,R_1!S49=1),R_1!S49,-1) -> 0 | S49: =IF(OR(R_1!T49=R_2!T49,R_1!T49=1),R_1!T49,-1) -> 0 | T49: =IF(OR(R_1!U49=R_2!U49,R_1!U49=1),R_1!U49,-1) -> 0 | U49: =IF(OR(R_1!V49=R_2!V49,R_1!V49=1),R_1!V49,-1) -> 0 | V49: =IF(OR(R_1!W49=R_2!W49,R_1!W49=1),R_1!W49,-1) -> 0 | ... X49: =IF(OR(R_1!Y49=R_2!Y49,R_1!Y49=1),R_1!Y49,-1) -> 0
A50: 49 | B50: EUROPEAN JOURNAL OF RADIOLOGY | C50: ☑️ | D50: =IF(R_1!D50=R_2!D50,"Re-check","Pass") -> Pass | E50: 3.3 | F50: Q2 | G50: Elsevier | H50: Ireland | I50: 12 | J50: Y | K50: Hybird | L50: https://www.sciencedirect.com/journal/european-journal-of-radiology | M50: None | N50: https://www.elsevier.com/journals/european-journal-of-radiology/0720-048X/guide-for-authors | O50: =IF(OR(R_1!P50=R_2!P50,R_1!P50=1),R_1!P50,-1) -> 1 | P50: =IF(OR(R_1!Q50=R_2!Q50,R_1!Q50=1),R_1!Q50,-1) -> 1 | Q50: =IF(OR(R_1!R50=R_2!R50,R_1!R50=1),R_1!R50,-1) -> 1 | R50: =IF(OR(R_1!S50=R_2!S50,R_1!S50=1),R_1!S50,-1) -> 1 | S50: =IF(OR(R_1!T50=R_2!T50,R_1!T50=1),R_1!T50,-1) -> 1 | T50: =IF(OR(R_1!U50=R_2!U50,R_1!U50=1),R_1!U50,-1) -> 1 | U50: =IF(OR(R_1!V50=R_2!V50,R_1!V50=1),R_1!V50,-1) -> 0 | V50: =IF(OR(R_1!W50=R_2!W50,R_1!W50=1),R_1!W50,-1) -> 1 | ... X50: =IF(OR(R_1!Y50=R_2!Y50,R_1!Y50=1),R_1!Y50,-1) -> 0
A51: 50 | B51: JOURNAL OF THORACIC IMAGING | C51: ☑️ | D51: =IF(R_1!D51=R_2!D51,"Re-check","Pass") -> Pass | E51: 3.3 | F51: Q2 | G51: Lippincott Williams & Wilkins | H51: USA | I51: 6 | J51: Y | K51: Hybird | L51: https://journals.lww.com/thoracicimaging/pages/default.aspx | M51: Society of Thoracic Radiology | N51: https://edmgr.ovid.com/jti/accounts/ifauth.htm | O51: =IF(OR(R_1!P51=R_2!P51,R_1!P51=1),R_1!P51,-1) -> 0 | P51: =IF(OR(R_1!Q51=R_2!Q51,R_1!Q51=1),R_1!Q51,-1) -> 0 | Q51: =IF(OR(R_1!R51=R_2!R51,R_1!R51=1),R_1!R51,-1) -> 0 | R51: =IF(OR(R_1!S51=R_2!S51,R_1!S51=1),R_1!S51,-1) -> 0 | S51: =IF(OR(R_1!T51=R_2!T51,R_1!T51=1),R_1!T51,-1) -> 0 | T51: =IF(OR(R_1!U51=R_2!U51,R_1!U51=1),R_1!U51,-1) -> 0 | U51: =IF(OR(R_1!V51=R_2!V51,R_1!V51=1),R_1!V51,-1) -> 0 | V51: =IF(OR(R_1!W51=R_2!W51,R_1!W51=1),R_1!W51,-1) -> 0 | ... X51: =IF(OR(R_1!Y51=R_2!Y51,R_1!Y51=1),R_1!Y51,-1) -> 0
A52: 51 | B52: MAGNETIC RESONANCE IN MEDICINE | C52: ☑️ | D52: =IF(R_1!D52=R_2!D52,"Re-check","Pass") -> Pass | E52: 3.3 | F52: Q2 | G52: Wiley | H52: USA | I52: 12 | J52: Y | K52: Hybird | L52: https://onlinelibrary.wiley.com/journal/15222594 | M52: International Society for Magnetic Resonance in Medicine: | N52: https://onlinelibrary.wiley.com/pb-assets/assets/15222594/authorguidelinesdec22-1671206311.pdf | O52: =IF(OR(R_1!P52=R_2!P52,R_1!P52=1),R_1!P52,-1) -> 0 | P52: =IF(OR(R_1!Q52=R_2!Q52,R_1!Q52=1),R_1!Q52,-1) -> 0 | Q52: =IF(OR(R_1!R52=R_2!R52,R_1!R52=1),R_1!R52,-1) -> 0 | R52: =IF(OR(R_1!S52=R_2!S52,R_1!S52=1),R_1!S52,-1) -> 0 | S52: =IF(OR(R_1!T52=R_2!T52,R_1!T52=1),R_1!T52,-1) -> 0 | T52: =IF(OR(R_1!U52=R_2!U52,R_1!U52=1),R_1!U52,-1) -> 0 | U52: =IF(OR(R_1!V52=R_2!V52,R_1!V52=1),R_1!V52,-1) -> 0 | V52: =IF(OR(R_1!W52=R_2!W52,R_1!W52=1),R_1!W52,-1) -> 0 | ... X52: =IF(OR(R_1!Y52=R_2!Y52,R_1!Y52=1),R_1!Y52,-1) -> 0
A53: 52 | B53: Practical Radiation Oncology | C53: ☑️ | D53: =IF(R_1!D53=R_2!D53,"Re-check","Pass") -> Pass | E53: 3.3 | F53: Q2 | G53: Elsevier | H53: USA | I53: 6 | J53: N | K53: Hybird | L53: https://www.practicalradonc.org | M53: American Society for Radiation Oncology | N53: https://www.astro.org/News-and-Publications/Journals/Author-Instructions | O53: =IF(OR(R_1!P53=R_2!P53,R_1!P53=1),R_1!P53,-1) -> 1 | P53: =IF(OR(R_1!Q53=R_2!Q53,R_1!Q53=1),R_1!Q53,-1) -> 1 | Q53: =IF(OR(R_1!R53=R_2!R53,R_1!R53=1),R_1!R53,-1) -> 1 | R53: =IF(OR(R_1!S53=R_2!S53,R_1!S53=1),R_1!S53,-1) -> 1 | S53: =IF(OR(R_1!T53=R_2!T53,R_1!T53=1),R_1!T53,-1) -> 1 | T53: =IF(OR(R_1!U53=R_2!U53,R_1!U53=1),R_1!U53,-1) -> 1 | U53: =IF(OR(R_1!V53=R_2!V53,R_1!V53=1),R_1!V53,-1) -> 0 | V53: =IF(OR(R_1!W53=R_2!W53,R_1!W53=1),R_1!W53,-1) -> 1 | ... X53: =IF(OR(R_1!Y53=R_2!Y53,R_1!Y53=1),R_1!Y53,-1) -> 0
A54: 53 | B54: EJNMMI Research | C54: ☑️ | D54: =IF(R_1!D54=R_2!D54,"Re-check","Pass") -> Pass | E54: 3.2 | F54: Q2 | G54: Springer | H54: Germany | I54: 1 | J54: Y | K54: Open | L54: https://ejnmmires.springeropen.com | M54: American College of Nuclear Medicine | N54: https://ejnmmires.springeropen.com/submission-guidelines | O54: =IF(OR(R_1!P54=R_2!P54,R_1!P54=1),R_1!P54,-1) -> 1 | P54: =IF(OR(R_1!Q54=R_2!Q54,R_1!Q54=1),R_1!Q54,-1) -> 1 | Q54: =IF(OR(R_1!R54=R_2!R54,R_1!R54=1),R_1!R54,-1) -> 0 | R54: =IF(OR(R_1!S54=R_2!S54,R_1!S54=1),R_1!S54,-1) -> 0 | S54: =IF(OR(R_1!T54=R_2!T54,R_1!T54=1),R_1!T54,-1) -> 1 | T54: =IF(OR(R_1!U54=R_2!U54,R_1!U54=1),R_1!U54,-1) -> 0 | U54: =IF(OR(R_1!V54=R_2!V54,R_1!V54=1),R_1!V54,-1) -> 0 | V54: =IF(OR(R_1!W54=R_2!W54,R_1!W54=1),R_1!W54,-1) -> 0 | ... X54: =IF(OR(R_1!Y54=R_2!Y54,R_1!Y54=1),R_1!Y54,-1) -> 0
A55: 54 | B55: CANADIAN ASSOCIATION OF RADIOLOGISTS JOURNAL-JOURNAL DE L ASSOCIATION CANADIENNE DES RADIOLOGISTES | C55: ☑️ | D55: =IF(R_1!D55=R_2!D55,"Re-check","Pass") -> Pass | E55: 3.1 | F55: Q2 | G55: SAGE | H55: Canada | I55: 1 | J55: Y | K55: Hybird | L55: https://journals.sagepub.com/home/caj | M55: Canadian Association of Radiologists | N55: https://journals.sagepub.com/author-instructions/CAJ | O55: =IF(OR(R_1!P55=R_2!P55,R_1!P55=1),R_1!P55,-1) -> 1 | P55: =IF(OR(R_1!Q55=R_2!Q55,R_1!Q55=1),R_1!Q55,-1) -> 1 | Q55: =IF(OR(R_1!R55=R_2!R55,R_1!R55=1),R_1!R55,-1) -> 1 | R55: =IF(OR(R_1!S55=R_2!S55,R_1!S55=1),R_1!S55,-1) -> 1 | S55: =IF(OR(R_1!T55=R_2!T55,R_1!T55=1),R_1!T55,-1) -> 1 | T55: =IF(OR(R_1!U55=R_2!U55,R_1!U55=1),R_1!U55,-1) -> 1 | U55: =IF(OR(R_1!V55=R_2!V55,R_1!V55=1),R_1!V55,-1) -> 0 | V55: 1 | W55: =IF(OR(R_1!X55=R_2!X55,R_1!X55=1),R_1!X55,-1) -> 1 | X55: =IF(OR(R_1!Y55=R_2!Y55,R_1!Y55=1),R_1!Y55,-1) -> 1
A56: 55 | B56: Clinical and Translational Radiation Oncology | C56: ☑️ | D56: =IF(R_1!D56=R_2!D56,"Re-check","Pass") -> Pass | E56: 3.1 | F56: Q2 | G56: Elsevier | H56: Ireland | I56: 6 | J56: N | K56: Open | L56: https://www.sciencedirect.com/journal/clinical-and-translational-radiation-oncology?utm_medium=SRCH&dgcid=STMJ_1648021317_SC&utm_source=B&utm_campaign=STMJ_1648021317_SC | M56: European Society for Radiotherapy & Oncology | N56: https://www.elsevier.com/journals/clinical-and-translational-radiation-oncology/2405-6308/guide-for-authors | O56: =IF(OR(R_1!P56=R_2!P56,R_1!P56=1),R_1!P56,-1) -> 1 | P56: =IF(OR(R_1!Q56=R_2!Q56,R_1!Q56=1),R_1!Q56,-1) -> 1 | Q56: =IF(OR(R_1!R56=R_2!R56,R_1!R56=1),R_1!R56,-1) -> 1 | R56: =IF(OR(R_1!S56=R_2!S56,R_1!S56=1),R_1!S56,-1) -> 1 | S56: =IF(OR(R_1!T56=R_2!T56,R_1!T56=1),R_1!T56,-1) -> 1 | T56: =IF(OR(R_1!U56=R_2!U56,R_1!U56=1),R_1!U56,-1) -> 1 | U56: =IF(OR(R_1!V56=R_2!V56,R_1!V56=1),R_1!V56,-1) -> 0 | V56: =IF(OR(R_1!W56=R_2!W56,R_1!W56=1),R_1!W56,-1) -> 1 | ... X56: =IF(OR(R_1!Y56=R_2!Y56,R_1!Y56=1),R_1!Y56,-1) -> 0
A57: 56 | B57: INTERNATIONAL JOURNAL OF HYPERTHERMIA | C57: ☑️ | D57: =IF(R_1!D57=R_2!D57,"Re-check","Pass") -> Pass | E57: 3.1 | F57: Q2 | G57: Taylor & Francis | H57: England | I57: 8 | J57: N | K57: Open | L57: https://www.tandfonline.com/journals/ihyt20?utm_source=TFO&utm_medium=cms&utm_campaign=JRA25531 | M57: Society for Thermal Medicine | N57: https://www.tandfonline.com/action/authorSubmission?show=instructions&journalCode=ihyt20 | O57: =IF(OR(R_1!P57=R_2!P57,R_1!P57=1),R_1!P57,-1) -> 0 | P57: =IF(OR(R_1!Q57=R_2!Q57,R_1!Q57=1),R_1!Q57,-1) -> 0 | Q57: =IF(OR(R_1!R57=R_2!R57,R_1!R57=1),R_1!R57,-1) -> 0 | R57: =IF(OR(R_1!S57=R_2!S57,R_1!S57=1),R_1!S57,-1) -> 0 | S57: =IF(OR(R_1!T57=R_2!T57,R_1!T57=1),R_1!T57,-1) -> 0 | T57: =IF(OR(R_1!U57=R_2!U57,R_1!U57=1),R_1!U57,-1) -> 0 | U57: =IF(OR(R_1!V57=R_2!V57,R_1!V57=1),R_1!V57,-1) -> 0 | V57: =IF(OR(R_1!W57=R_2!W57,R_1!W57=1),R_1!W57,-1) -> 0 | ... X57: =IF(OR(R_1!Y57=R_2!Y57,R_1!Y57=1),R_1!Y57,-1) -> 0
A58: 57 | B58: MOLECULAR IMAGING AND BIOLOGY | C58: ☑️ | D58: =IF(R_1!D58=R_2!D58,"Re-check","Pass") -> Pass | E58: 3.1 | F58: Q2 | G58: Springer | H58: USA | I58: 6 | J58: Y | K58: Hybird | L58: https://www.springer.com/journal/11307 | M58: World Molecular Imaging Society | N58: https://www.springer.com/journal/11307/submission-guidelines | O58: =IF(OR(R_1!P58=R_2!P58,R_1!P58=1),R_1!P58,-1) -> 0 | P58: =IF(OR(R_1!Q58=R_2!Q58,R_1!Q58=1),R_1!Q58,-1) -> 0 | Q58: =IF(OR(R_1!R58=R_2!R58,R_1!R58=1),R_1!R58,-1) -> 0 | R58: =IF(OR(R_1!S58=R_2!S58,R_1!S58=1),R_1!S58,-1) -> 0 | S58: =IF(OR(R_1!T58=R_2!T58,R_1!T58=1),R_1!T58,-1) -> 0 | T58: =IF(OR(R_1!U58=R_2!U58,R_1!U58=1),R_1!U58,-1) -> 0 | U58: =IF(OR(R_1!V58=R_2!V58,R_1!V58=1),R_1!V58,-1) -> 0 | V58: =IF(OR(R_1!W58=R_2!W58,R_1!W58=1),R_1!W58,-1) -> 0 | ... X58: =IF(OR(R_1!Y58=R_2!Y58,R_1!Y58=1),R_1!Y58,-1) -> 0
A59: 58 | B59: NUCLEAR MEDICINE AND BIOLOGY | C59: ☑️ | D59: =IF(R_1!D59=R_2!D59,"Re-check","Pass") -> Pass | E59: 3.1 | F59: Q2 | G59: Elsevier | H59: USA | I59: 8 | J59: Y | K59: Hybird | L59: https://www.sciencedirect.com/journal/nuclear-medicine-and-biology | M59: Society of Radiopharmaceutical Sciences | N59: https://www.elsevier.com/journals/nuclear-medicine-and-biology/0969-8051/guide-for-authors | O59: =IF(OR(R_1!P59=R_2!P59,R_1!P59=1),R_1!P59,-1) -> 1 | P59: =IF(OR(R_1!Q59=R_2!Q59,R_1!Q59=1),R_1!Q59,-1) -> 1 | Q59: =IF(OR(R_1!R59=R_2!R59,R_1!R59=1),R_1!R59,-1) -> 1 | R59: =IF(OR(R_1!S59=R_2!S59,R_1!S59=1),R_1!S59,-1) -> 1 | S59: =IF(OR(R_1!T59=R_2!T59,R_1!T59=1),R_1!T59,-1) -> 1 | T59: =IF(OR(R_1!U59=R_2!U59,R_1!U59=1),R_1!U59,-1) -> 1 | U59: =IF(OR(R_1!V59=R_2!V59,R_1!V59=1),R_1!V59,-1) -> 0 | V59: =IF(OR(R_1!W59=R_2!W59,R_1!W59=1),R_1!W59,-1) -> 1 | ... X59: =IF(OR(R_1!Y59=R_2!Y59,R_1!Y59=1),R_1!Y59,-1) -> 0
A60: 59 | B60: STRAHLENTHERAPIE UND ONKOLOGIE | C60: ☑️ | D60: =IF(R_1!D60=R_2!D60,"Re-check","Pass") -> Pass | E60: 3.1 | F60: Q2 | G60: Springer | H60: Germany | I60: 12 | J60: N | K60: Hybird | L60: https://www.springer.com/journal/66 | M60: German Society of Radiation Oncology | N60: https://www.springer.com/journal/66/submission-guidelines | O60: =IF(OR(R_1!P60=R_2!P60,R_1!P60=1),R_1!P60,-1) -> 0 | P60: =IF(OR(R_1!Q60=R_2!Q60,R_1!Q60=1),R_1!Q60,-1) -> 0 | Q60: =IF(OR(R_1!R60=R_2!R60,R_1!R60=1),R_1!R60,-1) -> 0 | R60: =IF(OR(R_1!S60=R_2!S60,R_1!S60=1),R_1!S60,-1) -> 0 | S60: =IF(OR(R_1!T60=R_2!T60,R_1!T60=1),R_1!T60,-1) -> 0 | T60: =IF(OR(R_1!U60=R_2!U60,R_1!U60=1),R_1!U60,-1) -> 0 | U60: =IF(OR(R_1!V60=R_2!V60,R_1!V60=1),R_1!V60,-1) -> 0 | V60: =IF(OR(R_1!W60=R_2!W60,R_1!W60=1),R_1!W60,-1) -> 0 | ... X60: =IF(OR(R_1!Y60=R_2!Y60,R_1!Y60=1),R_1!Y60,-1) -> 0
A61: 60 | B61: Ultrasonography | C61: ☑️ | D61: =IF(R_1!D61=R_2!D61,"Re-check","Pass") -> Pass | E61: 3.1 | F61: Q2 | G61: Society | H61: South Korea | I61: 4 | J61: Y | K61: Open | L61: https://www.e-ultrasonography.org | M61: Korean Society of Ultrasound Medicine | N61: https://www.e-ultrasonography.org/authors/authors.php | O61: =IF(OR(R_1!P61=R_2!P61,R_1!P61=1),R_1!P61,-1) -> 0 | P61: =IF(OR(R_1!Q61=R_2!Q61,R_1!Q61=1),R_1!Q61,-1) -> 0 | Q61: =IF(OR(R_1!R61=R_2!R61,R_1!R61=1),R_1!R61,-1) -> 0 | R61: =IF(OR(R_1!S61=R_2!S61,R_1!S61=1),R_1!S61,-1) -> 0 | S61: =IF(OR(R_1!T61=R_2!T61,R_1!T61=1),R_1!T61,-1) -> 0 | T61: =IF(OR(R_1!U61=R_2!U61,R_1!U61=1),R_1!U61,-1) -> 0 | U61: =IF(OR(R_1!V61=R_2!V61,R_1!V61=1),R_1!V61,-1) -> 0 | V61: =IF(OR(R_1!W61=R_2!W61,R_1!W61=1),R_1!W61,-1) -> 0 | ... X61: =IF(OR(R_1!Y61=R_2!Y61,R_1!Y61=1),R_1!Y61,-1) -> 0
A62: 61 | B62: International Journal of Computer Assisted Radiology and Surgery | C62: ☑️ | D62: =IF(R_1!D62=R_2!D62,"Re-check","Pass") -> Pass | E62: 3 | F62: Q2 | G62: Springer | H62: Germany | I62: 6 | J62: N | K62: Hybird | L62: https://www.springer.com/journal/11548 | M62: International Foundation for Computer Assisted Radiology and Surgery | N62: https://www.springer.com/journal/11548/submission-guidelines | O62: =IF(OR(R_1!P62=R_2!P62,R_1!P62=1),R_1!P62,-1) -> 0 | P62: =IF(OR(R_1!Q62=R_2!Q62,R_1!Q62=1),R_1!Q62,-1) -> 0 | Q62: =IF(OR(R_1!R62=R_2!R62,R_1!R62=1),R_1!R62,-1) -> 0 | R62: =IF(OR(R_1!S62=R_2!S62,R_1!S62=1),R_1!S62,-1) -> 0 | S62: =IF(OR(R_1!T62=R_2!T62,R_1!T62=1),R_1!T62,-1) -> 0 | T62: =IF(OR(R_1!U62=R_2!U62,R_1!U62=1),R_1!U62,-1) -> 0 | U62: =IF(OR(R_1!V62=R_2!V62,R_1!V62=1),R_1!V62,-1) -> 0 | V62: =IF(OR(R_1!W62=R_2!W62,R_1!W62=1),R_1!W62,-1) -> 0 | ... X62: =IF(OR(R_1!Y62=R_2!Y62,R_1!Y62=1),R_1!Y62,-1) -> 0
A63: 62 | B63: Magnetic Resonance in Medical Sciences | C63: ☑️ | D63: =IF(R_1!D63=R_2!D63,"Re-check","Pass") -> Pass | E63: 3 | F63: Q2 | G63: Society | H63: Japan | I63: 4 | J63: Y | K63: Open | L63: https://www.jstage.jst.go.jp/browse/mrms | M63: Japanese Society of Magnetic Resonance | N63: https://www.jsmrm.jp/modules/mrms/index.php?content_id=1 | O63: =IF(OR(R_1!P63=R_2!P63,R_1!P63=1),R_1!P63,-1) -> 0 | P63: =IF(OR(R_1!Q63=R_2!Q63,R_1!Q63=1),R_1!Q63,-1) -> 0 | Q63: =IF(OR(R_1!R63=R_2!R63,R_1!R63=1),R_1!R63,-1) -> 0 | R63: =IF(OR(R_1!S63=R_2!S63,R_1!S63=1),R_1!S63,-1) -> 0 | S63: =IF(OR(R_1!T63=R_2!T63,R_1!T63=1),R_1!T63,-1) -> 0 | T63: =IF(OR(R_1!U63=R_2!U63,R_1!U63=1),R_1!U63,-1) -> 0 | U63: =IF(OR(R_1!V63=R_2!V63,R_1!V63=1),R_1!V63,-1) -> 0 | V63: =IF(OR(R_1!W63=R_2!W63,R_1!W63=1),R_1!W63,-1) -> 0 | ... X63: =IF(OR(R_1!Y63=R_2!Y63,R_1!Y63=1),R_1!Y63,-1) -> 0
A64: 63 | B64: CARDIOVASCULAR AND INTERVENTIONAL RADIOLOGY | C64: ☑️ | D64: =IF(R_1!D64=R_2!D64,"Re-check","Pass") -> Pass | E64: 2.9 | F64: Q2 | G64: Springer | H64: USA | I64: 12 | J64: N | K64: Hybird | L64: https://www.springer.com/journal/270 | M64: Cardiovascular and Interventional Radiological Society of Europe | N64: https://www.springer.com/journal/270/submission-guidelines | O64: =IF(OR(R_1!P64=R_2!P64,R_1!P64=1),R_1!P64,-1) -> 0 | P64: =IF(OR(R_1!Q64=R_2!Q64,R_1!Q64=1),R_1!Q64,-1) -> 0 | Q64: =IF(OR(R_1!R64=R_2!R64,R_1!R64=1),R_1!R64,-1) -> 0 | R64: =IF(OR(R_1!S64=R_2!S64,R_1!S64=1),R_1!S64,-1) -> 0 | S64: =IF(OR(R_1!T64=R_2!T64,R_1!T64=1),R_1!T64,-1) -> 0 | T64: =IF(OR(R_1!U64=R_2!U64,R_1!U64=1),R_1!U64,-1) -> 0 | U64: =IF(OR(R_1!V64=R_2!V64,R_1!V64=1),R_1!V64,-1) -> 0 | V64: =IF(OR(R_1!W64=R_2!W64,R_1!W64=1),R_1!W64,-1) -> 0 | ... X64: =IF(OR(R_1!Y64=R_2!Y64,R_1!Y64=1),R_1!Y64,-1) -> 0
A65: 64 | B65: JOURNAL OF VASCULAR AND INTERVENTIONAL RADIOLOGY | C65: ☑️ | D65: =IF(R_1!D65=R_2!D65,"Re-check","Pass") -> Pass | E65: 2.9 | F65: Q2 | G65: Elsevier | H65: USA | I65: 12 | J65: N | K65: Hybird | L65: https://www.sciencedirect.com/journal/journal-of-vascular-and-interventional-radiology | M65: Society of Interventional Radiology | N65: https://www.elsevier.com/journals/journal-of-vascular-and-interventional-radiology/1051-0443/guide-for-authors | O65: =IF(OR(R_1!P65=R_2!P65,R_1!P65=1),R_1!P65,-1) -> 1 | P65: =IF(OR(R_1!Q65=R_2!Q65,R_1!Q65=1),R_1!Q65,-1) -> 1 | Q65: =IF(OR(R_1!R65=R_2!R65,R_1!R65=1),R_1!R65,-1) -> 1 | R65: =IF(OR(R_1!S65=R_2!S65,R_1!S65=1),R_1!S65,-1) -> 1 | S65: =IF(OR(R_1!T65=R_2!T65,R_1!T65=1),R_1!T65,-1) -> 1 | T65: =IF(OR(R_1!U65=R_2!U65,R_1!U65=1),R_1!U65,-1) -> 1 | U65: =IF(OR(R_1!V65=R_2!V65,R_1!V65=1),R_1!V65,-1) -> 0 | V65: =IF(OR(R_1!W65=R_2!W65,R_1!W65=1),R_1!W65,-1) -> 1 | ... X65: =IF(OR(R_1!Y65=R_2!Y65,R_1!Y65=1),R_1!Y65,-1) -> 0
A66: 65 | B66: NMR IN BIOMEDICINE | C66: ☑️ | D66: =IF(R_1!D66=R_2!D66,"Re-check","Pass") -> Pass | E66: 2.9 | F66: Q2 | G66: Wiley | H66: England | I66: 12 | J66: N | K66: Hybird | L66: https://analyticalsciencejournals.onlinelibrary.wiley.com/journal/10991492/?utm_medium=referral&utm_source=baidu_scholar&utm_campaign=RWA17109&utm_content=Global_Marketing_PS_NMR_in_Biomedicine | M66: None | N66: https://analyticalsciencejournals.onlinelibrary.wiley.com/hub/journal/10991492/homepage/forauthors.html | O66: =IF(OR(R_1!P66=R_2!P66,R_1!P66=1),R_1!P66,-1) -> 0 | P66: =IF(OR(R_1!Q66=R_2!Q66,R_1!Q66=1),R_1!Q66,-1) -> 0 | Q66: =IF(OR(R_1!R66=R_2!R66,R_1!R66=1),R_1!R66,-1) -> 0 | R66: =IF(OR(R_1!S66=R_2!S66,R_1!S66=1),R_1!S66,-1) -> 0 | S66: =IF(OR(R_1!T66=R_2!T66,R_1!T66=1),R_1!T66,-1) -> 0 | T66: =IF(OR(R_1!U66=R_2!U66,R_1!U66=1),R_1!U66,-1) -> 0 | U66: =IF(OR(R_1!V66=R_2!V66,R_1!V66=1),R_1!V66,-1) -> 0 | V66: =IF(OR(R_1!W66=R_2!W66,R_1!W66=1),R_1!W66,-1) -> 0 | ... X66: =IF(OR(R_1!Y66=R_2!Y66,R_1!Y66=1),R_1!Y66,-1) -> 0
A67: 66 | B67: ULTRASOUND IN MEDICINE AND BIOLOGY | C67: ☑️ | D67: =IF(R_1!D67=R_2!D67,"Re-check","Pass") -> Pass | E67: 2.9 | F67: Q2 | G67: Elsevier | H67: England | I67: 12 | J67: N | K67: Hybird | L67: https://www.sciencedirect.com/journal/ultrasound-in-medicine-and-biology | M67: World Federation for Ultrasound in Medicine and Biology | N67: https://www.elsevier.com/journals/ultrasound-in-medicine-and-biology/0301-5629/guide-for-authors | O67: =IF(OR(R_1!P67=R_2!P67,R_1!P67=1),R_1!P67,-1) -> 1 | P67: =IF(OR(R_1!Q67=R_2!Q67,R_1!Q67=1),R_1!Q67,-1) -> 1 | Q67: =IF(OR(R_1!R67=R_2!R67,R_1!R67=1),R_1!R67,-1) -> 1 | R67: =IF(OR(R_1!S67=R_2!S67,R_1!S67=1),R_1!S67,-1) -> 1 | S67: =IF(OR(R_1!T67=R_2!T67,R_1!T67=1),R_1!T67,-1) -> 1 | T67: =IF(OR(R_1!U67=R_2!U67,R_1!U67=1),R_1!U67,-1) -> 1 | U67: =IF(OR(R_1!V67=R_2!V67,R_1!V67=1),R_1!V67,-1) -> 0 | V67: =IF(OR(R_1!W67=R_2!W67,R_1!W67=1),R_1!W67,-1) -> 1 | ... X67: =IF(OR(R_1!Y67=R_2!Y67,R_1!Y67=1),R_1!Y67,-1) -> 0
... A76: 75 | B76: INTERNATIONAL JOURNAL OF RADIATION BIOLOGY | C76: ☑️ | D76: =IF(R_1!D76=R_2!D76,"Re-check","Pass") -> Pass | E76: 2.6 | F76: Q3 | G76: Taylor & Francis | H76: England | I76: 12 | J76: N | K76: Hybird | L76: https://www.tandfonline.com/journals/irab20 | M76: None | N76: https://www.tandfonline.com/action/authorSubmission?show=instructions&journalCode=irab20 | O76: =IF(OR(R_1!P76=R_2!P76,R_1!P76=1),R_1!P76,-1) -> 0 | P76: =IF(OR(R_1!Q76=R_2!Q76,R_1!Q76=1),R_1!Q76,-1) -> 0 | Q76: =IF(OR(R_1!R76=R_2!R76,R_1!R76=1),R_1!R76,-1) -> 0 | R76: =IF(OR(R_1!S76=R_2!S76,R_1!S76=1),R_1!S76,-1) -> 0 | S76: =IF(OR(R_1!T76=R_2!T76,R_1!T76=1),R_1!T76,-1) -> 0 | T76: =IF(OR(R_1!U76=R_2!U76,R_1!U76=1),R_1!U76,-1) -> 0 | U76: =IF(OR(R_1!V76=R_2!V76,R_1!V76=1),R_1!V76,-1) -> 0 | V76: =IF(OR(R_1!W76=R_2!W76,R_1!W76=1),R_1!W76,-1) -> 0 | ... X76: =IF(OR(R_1!Y76=R_2!Y76,R_1!Y76=1),R_1!Y76,-1) -> 0
A77: 76 | B77: Dose-Response | C77: ☑️ | D77: =IF(R_1!D77=R_2!D77,"Re-check","Pass") -> Pass | E77: 2.5 | F77: Q3 | G77: SAGE | H77: USA | I77: 4 | J77: N | K77: Open | L77: https://journals.sagepub.com/home/dosb | M77: International Dose-Response Society | N77: https://journals.sagepub.com/author-instructions/DOS | O77: =IF(OR(R_1!P77=R_2!P77,R_1!P77=1),R_1!P77,-1) -> 1 | P77: =IF(OR(R_1!Q77=R_2!Q77,R_1!Q77=1),R_1!Q77,-1) -> 1 | Q77: =IF(OR(R_1!R77=R_2!R77,R_1!R77=1),R_1!R77,-1) -> 1 | R77: =IF(OR(R_1!S77=R_2!S77,R_1!S77=1),R_1!S77,-1) -> 1 | S77: =IF(OR(R_1!T77=R_2!T77,R_1!T77=1),R_1!T77,-1) -> 1 | T77: =IF(OR(R_1!U77=R_2!U77,R_1!U77=1),R_1!U77,-1) -> 1 | U77: =IF(OR(R_1!V77=R_2!V77,R_1!V77=1),R_1!V77,-1) -> 0 | V77: 1 | W77: =IF(OR(R_1!X77=R_2!X77,R_1!X77=1),R_1!X77,-1) -> 1 | X77: =IF(OR(R_1!Y77=R_2!Y77,R_1!Y77=1),R_1!Y77,-1) -> 1
A78: 77 | B78: Journal of Innovative Optical Health Sciences | C78: ☑️ | D78: =IF(R_1!D78=R_2!D78,"Re-check","Pass") -> Pass | E78: 2.5 | F78: Q3 | G78: World Scientific Publishing | H78: China | I78: 6 | J78: N | K78: Open | L78: https://www.worldscientific.com/worldscinet/jiohs | M78: None | N78: https://www.worldscientific.com/page/jiohs/submission-guidelines | O78: =IF(OR(R_1!P78=R_2!P78,R_1!P78=1),R_1!P78,-1) -> 0 | P78: =IF(OR(R_1!Q78=R_2!Q78,R_1!Q78=1),R_1!Q78,-1) -> 0 | Q78: =IF(OR(R_1!R78=R_2!R78,R_1!R78=1),R_1!R78,-1) -> 0 | R78: =IF(OR(R_1!S78=R_2!S78,R_1!S78=1),R_1!S78,-1) -> 0 | S78: =IF(OR(R_1!T78=R_2!T78,R_1!T78=1),R_1!T78,-1) -> 0 | T78: =IF(OR(R_1!U78=R_2!U78,R_1!U78=1),R_1!U78,-1) -> 0 | U78: =IF(OR(R_1!V78=R_2!V78,R_1!V78=1),R_1!V78,-1) -> 0 | V78: =IF(OR(R_1!W78=R_2!W78,R_1!W78=1),R_1!W78,-1) -> 0 | ... X78: =IF(OR(R_1!Y78=R_2!Y78,R_1!Y78=1),R_1!Y78,-1) -> 0
A79: 78 | B79: MAGNETIC RESONANCE IMAGING | C79: ☑️ | D79: =IF(R_1!D79=R_2!D79,"Re-check","Pass") -> Pass | E79: 2.5 | F79: Q3 | G79: Elsevier | H79: USA | I79: 10 | J79: Y | K79: Hybird | L79: https://www.sciencedirect.com/journal/magnetic-resonance-imaging | M79: None | N79: https://www.elsevier.com/journals/magnetic-resonance-imaging/0730-725x/guide-for-authors | O79: =IF(OR(R_1!P79=R_2!P79,R_1!P79=1),R_1!P79,-1) -> 1 | P79: =IF(OR(R_1!Q79=R_2!Q79,R_1!Q79=1),R_1!Q79,-1) -> 1 | Q79: =IF(OR(R_1!R79=R_2!R79,R_1!R79=1),R_1!R79,-1) -> 1 | R79: =IF(OR(R_1!S79=R_2!S79,R_1!S79=1),R_1!S79,-1) -> 1 | S79: =IF(OR(R_1!T79=R_2!T79,R_1!T79=1),R_1!T79,-1) -> 1 | T79: =IF(OR(R_1!U79=R_2!U79,R_1!U79=1),R_1!U79,-1) -> 1 | U79: =IF(OR(R_1!V79=R_2!V79,R_1!V79=1),R_1!V79,-1) -> 0 | V79: =IF(OR(R_1!W79=R_2!W79,R_1!W79=1),R_1!W79,-1) -> 1 | ... X79: =IF(OR(R_1!Y79=R_2!Y79,R_1!Y79=1),R_1!Y79,-1) -> 0
A80: 79 | B80: Abdominal Radiology | C80: ☑️ | D80: =IF(R_1!D80=R_2!D80,"Re-check","Pass") -> Pass | E80: 2.4 | F80: Q3 | G80: Springer | H80: USA | I80: 12 | J80: Y | K80: Hybird | L80: https://www.springer.com/journal/261 | M80: Society of Abdominal Radiology | N80: https://www.springer.com/journal/261/submission-guidelines | O80: =IF(OR(R_1!P80=R_2!P80,R_1!P80=1),R_1!P80,-1) -> 0 | P80: =IF(OR(R_1!Q80=R_2!Q80,R_1!Q80=1),R_1!Q80,-1) -> 0 | Q80: =IF(OR(R_1!R80=R_2!R80,R_1!R80=1),R_1!R80,-1) -> 0 | R80: =IF(OR(R_1!S80=R_2!S80,R_1!S80=1),R_1!S80,-1) -> 0 | S80: =IF(OR(R_1!T80=R_2!T80,R_1!T80=1),R_1!T80,-1) -> 0 | T80: =IF(OR(R_1!U80=R_2!U80,R_1!U80=1),R_1!U80,-1) -> 0 | U80: =IF(OR(R_1!V80=R_2!V80,R_1!V80=1),R_1!V80,-1) -> 0 | V80: =IF(OR(R_1!W80=R_2!W80,R_1!W80=1),R_1!W80,-1) -> 0 | ... X80: =IF(OR(R_1!Y80=R_2!Y80,R_1!Y80=1),R_1!Y80,-1) -> 0
A81: 80 | B81: JOURNAL OF NEUROIMAGING | C81: ☑️ | D81: =IF(R_1!D81=R_2!D81,"Re-check","Pass") -> Pass | E81: 2.4 | F81: Q3 | G81: Wiley | H81: USA | I81: 6 | J81: N | K81: Hybird | L81: https://onlinelibrary.wiley.com/journal/15526569 | M81: American Society of Neuroimaging | N81: https://onlinelibrary.wiley.com/page/journal/15526569/homepage/forauthors.html | O81: =IF(OR(R_1!P81=R_2!P81,R_1!P81=1),R_1!P81,-1) -> 0 | P81: =IF(OR(R_1!Q81=R_2!Q81,R_1!Q81=1),R_1!Q81,-1) -> 0 | Q81: =IF(OR(R_1!R81=R_2!R81,R_1!R81=1),R_1!R81,-1) -> 0 | R81: =IF(OR(R_1!S81=R_2!S81,R_1!S81=1),R_1!S81,-1) -> 0 | S81: =IF(OR(R_1!T81=R_2!T81,R_1!T81=1),R_1!T81,-1) -> 0 | T81: =IF(OR(R_1!U81=R_2!U81,R_1!U81=1),R_1!U81,-1) -> 0 | U81: =IF(OR(R_1!V81=R_2!V81,R_1!V81=1),R_1!V81,-1) -> 0 | V81: =IF(OR(R_1!W81=R_2!W81,R_1!W81=1),R_1!W81,-1) -> 0 | ... X81: =IF(OR(R_1!Y81=R_2!Y81,R_1!Y81=1),R_1!Y81,-1) -> 0
A82: 81 | B82: JOURNAL OF NUCLEAR CARDIOLOGY | C82: ☑️ | D82: =IF(R_1!D82=R_2!D82,"Re-check","Pass") -> Pass | E82: 2.4 | F82: Q3 | G82: Springer | H82: USA | I82: 6 | J82: N | K82: Hybird | L82: https://www.springer.com/journal/12350 | M82: American Society of Nuclear Cardiology | N82: https://www.springer.com/journal/12350/submission-guidelines | O82: =IF(OR(R_1!P82=R_2!P82,R_1!P82=1),R_1!P82,-1) -> 0 | P82: =IF(OR(R_1!Q82=R_2!Q82,R_1!Q82=1),R_1!Q82,-1) -> 0 | Q82: =IF(OR(R_1!R82=R_2!R82,R_1!R82=1),R_1!R82,-1) -> 0 | R82: =IF(OR(R_1!S82=R_2!S82,R_1!S82=1),R_1!S82,-1) -> 0 | S82: =IF(OR(R_1!T82=R_2!T82,R_1!T82=1),R_1!T82,-1) -> 0 | T82: =IF(OR(R_1!U82=R_2!U82,R_1!U82=1),R_1!U82,-1) -> 0 | U82: =IF(OR(R_1!V82=R_2!V82,R_1!V82=1),R_1!V82,-1) -> 0 | V82: =IF(OR(R_1!W82=R_2!W82,R_1!W82=1),R_1!W82,-1) -> 0 | ... X82: =IF(OR(R_1!Y82=R_2!Y82,R_1!Y82=1),R_1!Y82,-1) -> 0
A83: 82 | B83: Radiology and Oncology | C83: ☑️ | D83: =IF(R_1!D83=R_2!D83,"Re-check","Pass") -> Pass | E83: 2.4 | F83: Q3 | G83: Walter de Gruyter | H83: Slovenia | I83: 4 | J83: N | K83: Open | L83: https://www.radioloncol.com/index.php/ro | M83: Association of Radiology and Oncology | N83: https://www.radioloncol.com/index.php/ro/about/submissions#authorGuidelines | O83: 1 | P83: 1 | Q83: =IF(OR(R_1!R83=R_2!R83,R_1!R83=1),R_1!R83,-1) -> 0 | R83: =IF(OR(R_1!S83=R_2!S83,R_1!S83=1),R_1!S83,-1) -> 0 | S83: 1 | T83: 1 | U83: =IF(OR(R_1!V83=R_2!V83,R_1!V83=1),R_1!V83,-1) -> 0 | V83: 1 | W83: 1 | X83: =IF(OR(R_1!Y83=R_2!Y83,R_1!Y83=1),R_1!Y83,-1) -> 0
A84: 83 | B84: Current Radiopharmaceuticals | C84: ☑️ | D84: =IF(R_1!D84=R_2!D84,"Re-check","Pass") -> Pass | E84: 2.3 | F84: Q3 | G84: Bentham | H84: Netherlands | I84: 4 | J84: N | K84: Hybird | L84: https://www.eurekaselect.com/journal/95 | M84: None | N84: https://www.eurekaselect.com/journal/95/ifa | O84: =IF(OR(R_1!P84=R_2!P84,R_1!P84=1),R_1!P84,-1) -> 1 | P84: =IF(OR(R_1!Q84=R_2!Q84,R_1!Q84=1),R_1!Q84,-1) -> 1 | Q84: =IF(OR(R_1!R84=R_2!R84,R_1!R84=1),R_1!R84,-1) -> 0 | R84: =IF(OR(R_1!S84=R_2!S84,R_1!S84=1),R_1!S84,-1) -> 0 | S84: =IF(OR(R_1!T84=R_2!T84,R_1!T84=1),R_1!T84,-1) -> 1 | T84: =IF(OR(R_1!U84=R_2!U84,R_1!U84=1),R_1!U84,-1) -> 1 | U84: =IF(OR(R_1!V84=R_2!V84,R_1!V84=1),R_1!V84,-1) -> 0 | V84: =IF(OR(R_1!W84=R_2!W84,R_1!W84=1),R_1!W84,-1) -> 0 | W84: 0 | X84: =IF(OR(R_1!Y84=R_2!Y84,R_1!Y84=1),R_1!Y84,-1) -> 0
A85: 84 | B85: JOURNAL OF ULTRASOUND IN MEDICINE | C85: ☑️ | D85: =IF(R_1!D85=R_2!D85,"Re-check","Pass") -> Pass | E85: 2.3 | F85: Q3 | G85: Wiley | H85: USA | I85: 12 | J85: N | K85: Hybird | L85: https://onlinelibrary.wiley.com/journal/15509613 | M85: American Institute of Ultrasound in Medicine | N85: https://onlinelibrary.wiley.com/page/journal/15509613/homepage/guidelinesforauthors.html | O85: =IF(OR(R_1!P85=R_2!P85,R_1!P85=1),R_1!P85,-1) -> 0 | P85: =IF(OR(R_1!Q85=R_2!Q85,R_1!Q85=1),R_1!Q85,-1) -> 0 | Q85: =IF(OR(R_1!R85=R_2!R85,R_1!R85=1),R_1!R85,-1) -> 0 | R85: =IF(OR(R_1!S85=R_2!S85,R_1!S85=1),R_1!S85,-1) -> 0 | S85: =IF(OR(R_1!T85=R_2!T85,R_1!T85=1),R_1!T85,-1) -> 0 | T85: =IF(OR(R_1!U85=R_2!U85,R_1!U85=1),R_1!U85,-1) -> 0 | U85: =IF(OR(R_1!V85=R_2!V85,R_1!V85=1),R_1!V85,-1) -> 0 | V85: =IF(OR(R_1!W85=R_2!W85,R_1!W85=1),R_1!W85,-1) -> 0 | ... X85: =IF(OR(R_1!Y85=R_2!Y85,R_1!Y85=1),R_1!Y85,-1) -> 0
A86: 85 | B86: MAGNETIC RESONANCE MATERIALS IN PHYSICS BIOLOGY AND MEDICINE | C86: ☑️ | D86: =IF(R_1!D86=R_2!D86,"Re-check","Pass") -> Pass | E86: 2.3 | F86: Q3 | G86: Springer | H86: USA | I86: 6 | J86: Y | K86: Hybird | L86: https://www.springer.com/journal/10334 | M86: European Society for Magnetic Resonance in Medicine and Biology | N86: https://www.springer.com/journal/10334/submission-guidelines | O86: =IF(OR(R_1!P86=R_2!P86,R_1!P86=1),R_1!P86,-1) -> 0 | P86: =IF(OR(R_1!Q86=R_2!Q86,R_1!Q86=1),R_1!Q86,-1) -> 0 | Q86: =IF(OR(R_1!R86=R_2!R86,R_1!R86=1),R_1!R86,-1) -> 0 | R86: =IF(OR(R_1!S86=R_2!S86,R_1!S86=1),R_1!S86,-1) -> 0 | S86: =IF(OR(R_1!T86=R_2!T86,R_1!T86=1),R_1!T86,-1) -> 0 | T86: =IF(OR(R_1!U86=R_2!U86,R_1!U86=1),R_1!U86,-1) -> 0 | U86: =IF(OR(R_1!V86=R_2!V86,R_1!V86=1),R_1!V86,-1) -> 0 | V86: =IF(OR(R_1!W86=R_2!W86,R_1!W86=1),R_1!W86,-1) -> 0 | ... X86: =IF(OR(R_1!Y86=R_2!Y86,R_1!Y86=1),R_1!Y86,-1) -> 0
A87: 86 | B87: NEUROIMAGING CLINICS OF NORTH AMERICA | C87: ☑️ | D87: =IF(R_1!D87=R_2!D87,"Re-check","Pass") -> Pass | E87: 2.3 | F87: Q3 | G87: Elsevier | H87: USA | I87: 4 | J87: N | K87: Hybird | L87: https://www.neuroimaging.theclinics.com | M87: None | N87: https://www.theclinics.com/authorinformation | O87: =IF(OR(R_1!P87=R_2!P87,R_1!P87=1),R_1!P87,-1) -> 1 | P87: =IF(OR(R_1!Q87=R_2!Q87,R_1!Q87=1),R_1!Q87,-1) -> 1 | Q87: =IF(OR(R_1!R87=R_2!R87,R_1!R87=1),R_1!R87,-1) -> 1 | R87: =IF(OR(R_1!S87=R_2!S87,R_1!S87=1),R_1!S87,-1) -> 1 | S87: =IF(OR(R_1!T87=R_2!T87,R_1!T87=1),R_1!T87,-1) -> 1 | T87: =IF(OR(R_1!U87=R_2!U87,R_1!U87=1),R_1!U87,-1) -> 1 | U87: =IF(OR(R_1!V87=R_2!V87,R_1!V87=1),R_1!V87,-1) -> 0 | V87: =IF(OR(R_1!W87=R_2!W87,R_1!W87=1),R_1!W87,-1) -> 1 | ... X87: =IF(OR(R_1!Y87=R_2!Y87,R_1!Y87=1),R_1!Y87,-1) -> 0
A88: 87 | B88: PEDIATRIC RADIOLOGY | C88: ☑️ | D88: =IF(R_1!D88=R_2!D88,"Re-check","Pass") -> Pass | E88: 2.3 | F88: Q3 | G88: Springer | H88: USA | I88: 13 | J88: N | K88: Hybird | L88: https://www.springer.com/journal/247 | M88: European Society of Paediatric Radiology | N88: https://www.springer.com/journal/247/submission-guidelines | O88: =IF(OR(R_1!P88=R_2!P88,R_1!P88=1),R_1!P88,-1) -> 0 | P88: =IF(OR(R_1!Q88=R_2!Q88,R_1!Q88=1),R_1!Q88,-1) -> 0 | Q88: =IF(OR(R_1!R88=R_2!R88,R_1!R88=1),R_1!R88,-1) -> 0 | R88: =IF(OR(R_1!S88=R_2!S88,R_1!S88=1),R_1!S88,-1) -> 0 | S88: =IF(OR(R_1!T88=R_2!T88,R_1!T88=1),R_1!T88,-1) -> 0 | T88: =IF(OR(R_1!U88=R_2!U88,R_1!U88=1),R_1!U88,-1) -> 0 | U88: =IF(OR(R_1!V88=R_2!V88,R_1!V88=1),R_1!V88,-1) -> 0 | V88: =IF(OR(R_1!W88=R_2!W88,R_1!W88=1),R_1!W88,-1) -> 0 | ... X88: =IF(OR(R_1!Y88=R_2!Y88,R_1!Y88=1),R_1!Y88,-1) -> 0
A89: 88 | B89: ULTRASONIC IMAGING | C89: ☑️ | D89: =IF(R_1!D89=R_2!D89,"Re-check","Pass") -> Pass | E89: 2.3 | F89: Q3 | G89: SAGE | H89: USA | I89: 4 | J89: N | K89: Hybird | L89: https://journals.sagepub.com/home/uix | M89: None | N89: https://journals.sagepub.com/author-instructions/UIX | O89: =IF(OR(R_1!P89=R_2!P89,R_1!P89=1),R_1!P89,-1) -> 1 | P89: =IF(OR(R_1!Q89=R_2!Q89,R_1!Q89=1),R_1!Q89,-1) -> 1 | Q89: =IF(OR(R_1!R89=R_2!R89,R_1!R89=1),R_1!R89,-1) -> 1 | R89: =IF(OR(R_1!S89=R_2!S89,R_1!S89=1),R_1!S89,-1) -> 1 | S89: =IF(OR(R_1!T89=R_2!T89,R_1!T89=1),R_1!T89,-1) -> 1 | T89: =IF(OR(R_1!U89=R_2!U89,R_1!U89=1),R_1!U89,-1) -> 1 | U89: =IF(OR(R_1!V89=R_2!V89,R_1!V89=1),R_1!V89,-1) -> 0 | V89: 1 | W89: =IF(OR(R_1!X89=R_2!X89,R_1!X89=1),R_1!X89,-1) -> 1 | X89: =IF(OR(R_1!Y89=R_2!Y89,R_1!Y89=1),R_1!Y89,-1) -> 1
A90: 89 | B90: HEALTH PHYSICS | C90: ☑️ | D90: =IF(R_1!D90=R_2!D90,"Re-check","Pass") -> Pass | E90: 2.2 | F90: Q3 | G90: Lippincott Williams & Wilkins | H90: USA | I90: 6 | J90: N | K90: Hybird | L90: https://journals.lww.com/health-physics/pages/default.aspx | M90: Health Physics Society | N90: https://journals.lww.com/health-physics/Pages/Information-for-Authors.aspx | O90: =IF(OR(R_1!P90=R_2!P90,R_1!P90=1),R_1!P90,-1) -> 0 | P90: =IF(OR(R_1!Q90=R_2!Q90,R_1!Q90=1),R_1!Q90,-1) -> 0 | Q90: =IF(OR(R_1!R90=R_2!R90,R_1!R90=1),R_1!R90,-1) -> 0 | R90: =IF(OR(R_1!S90=R_2!S90,R_1!S90=1),R_1!S90,-1) -> 0 | S90: =IF(OR(R_1!T90=R_2!T90,R_1!T90=1),R_1!T90,-1) -> 0 | T90: =IF(OR(R_1!U90=R_2!U90,R_1!U90=1),R_1!U90,-1) -> 0 | U90: =IF(OR(R_1!V90=R_2!V90,R_1!V90=1),R_1!V90,-1) -> 0 | V90: =IF(OR(R_1!W90=R_2!W90,R_1!W90=1),R_1!W90,-1) -> 0 | ... X90: =IF(OR(R_1!Y90=R_2!Y90,R_1!Y90=1),R_1!Y90,-1) -> 0
A91: 90 | B91: Clinical and Translational Imaging | C91: ☑️ | D91: =IF(R_1!D91=R_2!D91,"Re-check","Pass") -> Pass | E91: 2.1 | F91: Q3 | G91: Springer | H91: Italy | I91: 6 | J91: Y | K91: Hybird | L91: https://www.springer.com/journal/40336/aims-and-scope | M91: Italian Association of Nuclear Medicine and Molecular Imaging | N91: https://www.springer.com/journal/40336/submission-guidelines | O91: =IF(OR(R_1!P91=R_2!P91,R_1!P91=1),R_1!P91,-1) -> 0 | P91: =IF(OR(R_1!Q91=R_2!Q91,R_1!Q91=1),R_1!Q91,-1) -> 0 | Q91: =IF(OR(R_1!R91=R_2!R91,R_1!R91=1),R_1!R91,-1) -> 0 | R91: =IF(OR(R_1!S91=R_2!S91,R_1!S91=1),R_1!S91,-1) -> 0 | S91: =IF(OR(R_1!T91=R_2!T91,R_1!T91=1),R_1!T91,-1) -> 0 | T91: =IF(OR(R_1!U91=R_2!U91,R_1!U91=1),R_1!U91,-1) -> 0 | U91: =IF(OR(R_1!V91=R_2!V91,R_1!V91=1),R_1!V91,-1) -> 0 | V91: =IF(OR(R_1!W91=R_2!W91,R_1!W91=1),R_1!W91,-1) -> 0 | ... X91: =IF(OR(R_1!Y91=R_2!Y91,R_1!Y91=1),R_1!Y91,-1) -> 0
A92: 91 | B92: Clinical Imaging | C92: ☑️ | D92: =IF(R_1!D92=R_2!D92,"Re-check","Pass") -> Pass | E92: 2.1 | F92: Q3 | G92: Elsevier | H92: USA | I92: 6 | J92: Y | K92: Hybird | L92: https://www.sciencedirect.com/journal/clinical-imaging/ | M92: None | N92: https://www.elsevier.com/journals/clinical-imaging/0899-7071/guide-for-authors | O92: =IF(OR(R_1!P92=R_2!P92,R_1!P92=1),R_1!P92,-1) -> 1 | P92: =IF(OR(R_1!Q92=R_2!Q92,R_1!Q92=1),R_1!Q92,-1) -> 1 | Q92: =IF(OR(R_1!R92=R_2!R92,R_1!R92=1),R_1!R92,-1) -> 1 | R92: =IF(OR(R_1!S92=R_2!S92,R_1!S92=1),R_1!S92,-1) -> 1 | S92: =IF(OR(R_1!T92=R_2!T92,R_1!T92=1),R_1!T92,-1) -> 1 | T92: =IF(OR(R_1!U92=R_2!U92,R_1!U92=1),R_1!U92,-1) -> 1 | U92: =IF(OR(R_1!V92=R_2!V92,R_1!V92=1),R_1!V92,-1) -> 0 | V92: =IF(OR(R_1!W92=R_2!W92,R_1!W92=1),R_1!W92,-1) -> 1 | ... X92: =IF(OR(R_1!Y92=R_2!Y92,R_1!Y92=1),R_1!Y92,-1) -> 0
A93: 92 | B93: Diagnostic and Interventional Radiology | C93: ☑️ | D93: =IF(R_1!D93=R_2!D93,"Re-check","Pass") -> Pass | E93: 2.1 | F93: Q3 | G93: Galenos | H93: Turkey | I93: 6 | J93: Y | K93: Open | L93: https://www.dirjournal.org | M93: Turkish Society of Radiology | N93: https://www.dirjournal.org/instructions-to-authors | O93: =IF(OR(R_1!P93=R_2!P93,R_1!P93=1),R_1!P93,-1) -> 0 | P93: =IF(OR(R_1!Q93=R_2!Q93,R_1!Q93=1),R_1!Q93,-1) -> 0 | Q93: =IF(OR(R_1!R93=R_2!R93,R_1!R93=1),R_1!R93,-1) -> 0 | R93: =IF(OR(R_1!S93=R_2!S93,R_1!S93=1),R_1!S93,-1) -> 0 | S93: =IF(OR(R_1!T93=R_2!T93,R_1!T93=1),R_1!T93,-1) -> 0 | T93: =IF(OR(R_1!U93=R_2!U93,R_1!U93=1),R_1!U93,-1) -> 0 | U93: =IF(OR(R_1!V93=R_2!V93,R_1!V93=1),R_1!V93,-1) -> 0 | V93: =IF(OR(R_1!W93=R_2!W93,R_1!W93=1),R_1!W93,-1) -> 0 | ... X93: =IF(OR(R_1!Y93=R_2!Y93,R_1!Y93=1),R_1!Y93,-1) -> 0
A94: 93 | B94: INTERNATIONAL JOURNAL OF CARDIOVASCULAR IMAGING | C94: ☑️ | D94: =IF(R_1!D94=R_2!D94,"Re-check","Pass") -> Pass | E94: 2.1 | F94: Q3 | G94: Springer | H94: USA | I94: 6 | J94: N | K94: Hybird | L94: https://www.springer.com/journal/10554 | M94: None | N94: https://www.springer.com/journal/10554/submission-guidelines | O94: =IF(OR(R_1!P94=R_2!P94,R_1!P94=1),R_1!P94,-1) -> 0 | P94: =IF(OR(R_1!Q94=R_2!Q94,R_1!Q94=1),R_1!Q94,-1) -> 0 | Q94: =IF(OR(R_1!R94=R_2!R94,R_1!R94=1),R_1!R94,-1) -> 0 | R94: =IF(OR(R_1!S94=R_2!S94,R_1!S94=1),R_1!S94,-1) -> 0 | S94: =IF(OR(R_1!T94=R_2!T94,R_1!T94=1),R_1!T94,-1) -> 0 | T94: =IF(OR(R_1!U94=R_2!U94,R_1!U94=1),R_1!U94,-1) -> 0 | U94: =IF(OR(R_1!V94=R_2!V94,R_1!V94=1),R_1!V94,-1) -> 0 | V94: =IF(OR(R_1!W94=R_2!W94,R_1!W94=1),R_1!W94,-1) -> 0 | ... X94: =IF(OR(R_1!Y94=R_2!Y94,R_1!Y94=1),R_1!Y94,-1) -> 0
A95: 94 | B95: Japanese Journal of Radiology | C95: ☑️ | D95: =IF(R_1!D95=R_2!D95,"Re-check","Pass") -> Pass | E95: 2.1 | F95: Q3 | G95: Springer | H95: Japan | I95: 10 | J95: Y | K95: Hybird | L95: https://www.springer.com/journal/11604 | M95: Japan Radiological Society | N95: https://www.springer.com/journal/11604/submission-guidelines | O95: =IF(OR(R_1!P95=R_2!P95,R_1!P95=1),R_1!P95,-1) -> 0 | P95: =IF(OR(R_1!Q95=R_2!Q95,R_1!Q95=1),R_1!Q95,-1) -> 0 | Q95: =IF(OR(R_1!R95=R_2!R95,R_1!R95=1),R_1!R95,-1) -> 0 | R95: =IF(OR(R_1!S95=R_2!S95,R_1!S95=1),R_1!S95,-1) -> 0 | S95: =IF(OR(R_1!T95=R_2!T95,R_1!T95=1),R_1!T95,-1) -> 0 | T95: =IF(OR(R_1!U95=R_2!U95,R_1!U95=1),R_1!U95,-1) -> 0 | U95: =IF(OR(R_1!V95=R_2!V95,R_1!V95=1),R_1!V95,-1) -> 0 | V95: =IF(OR(R_1!W95=R_2!W95,R_1!W95=1),R_1!W95,-1) -> 0 | ... X95: =IF(OR(R_1!Y95=R_2!Y95,R_1!Y95=1),R_1!Y95,-1) -> 0
A96: 95 | B96: Journal of Applied Clinical Medical Physics | C96: ☑️ | D96: =IF(R_1!D96=R_2!D96,"Re-check","Pass") -> Pass | E96: 2.1 | F96: Q3 | G96: Wiley | H96: USA | I96: 6 | J96: Y | K96: Open | L96: https://aapm.onlinelibrary.wiley.com/journal/15269914/ | M96: American Association of Physicists in Medicine | N96: https://aapm.onlinelibrary.wiley.com/hub/journal/15269914/about/author-guidelines | O96: 1 | P96: 1 | Q96: =IF(OR(R_1!R96=R_2!R96,R_1!R96=1),R_1!R96,-1) -> 0 | R96: =IF(OR(R_1!S96=R_2!S96,R_1!S96=1),R_1!S96,-1) -> 0 | S96: 1 | T96: =IF(OR(R_1!U96=R_2!U96,R_1!U96=1),R_1!U96,-1) -> 0 | U96: =IF(OR(R_1!V96=R_2!V96,R_1!V96=1),R_1!V96,-1) -> 0 | V96: =IF(OR(R_1!W96=R_2!W96,R_1!W96=1),R_1!W96,-1) -> 0 | W96: =IF(OR(R_1!X96=R_2!X96,R_1!X96=1),R_1!X96,-1) -> 0 | X96: =IF(OR(R_1!Y96=R_2!Y96,R_1!Y96=1),R_1!Y96,-1) -> 0
A97: 96 | B97: SKELETAL RADIOLOGY | C97: ☑️ | D97: =IF(R_1!D97=R_2!D97,"Re-check","Pass") -> Pass | E97: 2.1 | F97: Q3 | G97: Springer | H97: USA | I97: 12 | J97: N | K97: Hybird | L97: https://www.springer.com/journal/256 | M97: International Skeletal Society | N97: https://www.springer.com/journal/256/submission-guidelines | O97: =IF(OR(R_1!P97=R_2!P97,R_1!P97=1),R_1!P97,-1) -> 0 | P97: =IF(OR(R_1!Q97=R_2!Q97,R_1!Q97=1),R_1!Q97,-1) -> 0 | Q97: =IF(OR(R_1!R97=R_2!R97,R_1!R97=1),R_1!R97,-1) -> 0 | R97: =IF(OR(R_1!S97=R_2!S97,R_1!S97=1),R_1!S97,-1) -> 0 | S97: =IF(OR(R_1!T97=R_2!T97,R_1!T97=1),R_1!T97,-1) -> 0 | T97: =IF(OR(R_1!U97=R_2!U97,R_1!U97=1),R_1!U97,-1) -> 0 | U97: =IF(OR(R_1!V97=R_2!V97,R_1!V97=1),R_1!V97,-1) -> 0 | V97: =IF(OR(R_1!W97=R_2!W97,R_1!W97=1),R_1!W97,-1) -> 0 | ... X97: =IF(OR(R_1!Y97=R_2!Y97,R_1!Y97=1),R_1!Y97,-1) -> 0
A98: 97 | B98: JOURNAL OF RADIATION RESEARCH | C98: ☑️ | D98: =IF(R_1!D98=R_2!D98,"Re-check","Pass") -> Pass | E98: 2 | F98: Q3 | G98: Elsevier | H98: Japan | I98: 6 | J98: N | K98: Open | L98: https://www.sciencedirect.com/journal/journal-of-radiation-research-and-applied-sciences | M98: None | N98: https://www.elsevier.com/journals/journal-of-radiation-research-and-applied-sciences/1687-8507/guide-for-authors | O98: =IF(OR(R_1!P98=R_2!P98,R_1!P98=1),R_1!P98,-1) -> 1 | P98: =IF(OR(R_1!Q98=R_2!Q98,R_1!Q98=1),R_1!Q98,-1) -> 1 | Q98: =IF(OR(R_1!R98=R_2!R98,R_1!R98=1),R_1!R98,-1) -> 1 | R98: =IF(OR(R_1!S98=R_2!S98,R_1!S98=1),R_1!S98,-1) -> 1 | S98: =IF(OR(R_1!T98=R_2!T98,R_1!T98=1),R_1!T98,-1) -> 1 | T98: =IF(OR(R_1!U98=R_2!U98,R_1!U98=1),R_1!U98,-1) -> 1 | U98: =IF(OR(R_1!V98=R_2!V98,R_1!V98=1),R_1!V98,-1) -> 0 | V98: =IF(OR(R_1!W98=R_2!W98,R_1!W98=1),R_1!W98,-1) -> 1 | ... X98: =IF(OR(R_1!Y98=R_2!Y98,R_1!Y98=1),R_1!Y98,-1) -> 0
A99: 98 | B99: Journal of the Belgian Society of Radiology | C99: ☑️ | D99: =IF(R_1!D99=R_2!D99,"Re-check","Pass") -> Pass | E99: 2 | F99: Q3 | G99: Ubiquity | H99: Belgium | I99: 1 | J99: Y | K99: Open | L99: https://jbsr.be | M99: Belgian Society of Radiology | N99: https://jbsr.be/about/submissions | O99: =IF(OR(R_1!P99=R_2!P99,R_1!P99=1),R_1!P99,-1) -> 0 | P99: =IF(OR(R_1!Q99=R_2!Q99,R_1!Q99=1),R_1!Q99,-1) -> 0 | Q99: =IF(OR(R_1!R99=R_2!R99,R_1!R99=1),R_1!R99,-1) -> 0 | R99: =IF(OR(R_1!S99=R_2!S99,R_1!S99=1),R_1!S99,-1) -> 0 | S99: =IF(OR(R_1!T99=R_2!T99,R_1!T99=1),R_1!T99,-1) -> 0 | T99: =IF(OR(R_1!U99=R_2!U99,R_1!U99=1),R_1!U99,-1) -> 0 | U99: =IF(OR(R_1!V99=R_2!V99,R_1!V99=1),R_1!V99,-1) -> 0 | V99: =IF(OR(R_1!W99=R_2!W99,R_1!W99=1),R_1!W99,-1) -> 0 | ... X99: =IF(OR(R_1!Y99=R_2!Y99,R_1!Y99=1),R_1!Y99,-1) -> 0
A100: 99 | B100: Zeitschrift fur Medizinische Physik | C100: ☑️ | D100: =IF(R_1!D100=R_2!D100,"Re-check","Pass") -> Pass | E100: 2 | F100: Q3 | G100: Elsevier | H100: Germany | I100: 4 | J100: Y | K100: Open | L100: https://www.sciencedirect.com/journal/zeitschrift-fur-medizinische-physik/ | M100: German and Austrian Society of Medical Physics and the Swiss Society of Radiobiology and Medical Physics | N100: https://www.elsevier.com/journals/zeitschrift-fur-medizinische-physik/0939-3889/guide-for-authors | O100: =IF(OR(R_1!P100=R_2!P100,R_1!P100=1),R_1!P100,-1) -> 1 | P100: =IF(OR(R_1!Q100=R_2!Q100,R_1!Q100=1),R_1!Q100,-1) -> 1 | Q100: =IF(OR(R_1!R100=R_2!R100,R_1!R100=1),R_1!R100,-1) -> 1 | R100: =IF(OR(R_1!S100=R_2!S100,R_1!S100=1),R_1!S100,-1) -> 1 | S100: =IF(OR(R_1!T100=R_2!T100,R_1!T100=1),R_1!T100,-1) -> 1 | T100: =IF(OR(R_1!U100=R_2!U100,R_1!U100=1),R_1!U100,-1) -> 1 | U100: =IF(OR(R_1!V100=R_2!V100,R_1!V100=1),R_1!V100,-1) -> 0 | V100: =IF(OR(R_1!W100=R_2!W100,R_1!W100=1),R_1!W100,-1) -> 1 | ... X100: =IF(OR(R_1!Y100=R_2!Y100,R_1!Y100=1),R_1!Y100,-1) -> 0
A101: 100 | B101: Brachytherapy | C101: ☑️ | D101: =IF(R_1!D101=R_2!D101,"Re-check","Pass") -> Pass | E101: 1.9 | F101: Q3 | G101: Elsevier | H101: USA | I101: 4 | J101: N | K101: Hybird | L101: https://www.sciencedirect.com/journal/brachytherapy | M101: American Brachytherapy Society | N101: https://www.elsevier.com/journals/brachytherapy/1538-4721/guide-for-authors | O101: =IF(OR(R_1!P101=R_2!P101,R_1!P101=1),R_1!P101,-1) -> 1 | P101: =IF(OR(R_1!Q101=R_2!Q101,R_1!Q101=1),R_1!Q101,-1) -> 1 | Q101: =IF(OR(R_1!R101=R_2!R101,R_1!R101=1),R_1!R101,-1) -> 1 | R101: =IF(OR(R_1!S101=R_2!S101,R_1!S101=1),R_1!S101,-1) -> 1 | S101: =IF(OR(R_1!T101=R_2!T101,R_1!T101=1),R_1!T101,-1) -> 1 | T101: =IF(OR(R_1!U101=R_2!U101,R_1!U101=1),R_1!U101,-1) -> 1 | U101: =IF(OR(R_1!V101=R_2!V101,R_1!V101=1),R_1!V101,-1) -> 0 | V101: =IF(OR(R_1!W101=R_2!W101,R_1!W101=1),R_1!W101,-1) -> 1 | ... X101: =IF(OR(R_1!Y101=R_2!Y101,R_1!Y101=1),R_1!Y101,-1) -> 0
A102: 101 | B102: RADIOLOGIC CLINICS OF NORTH AMERICA | C102: ☑️ | D102: =IF(R_1!D102=R_2!D102,"Re-check","Pass") -> Pass | E102: 1.9 | F102: Q3 | G102: Elsevier | H102: USA | I102: 6 | J102: Y | K102: Hybird | L102: https://www.radiologic.theclinics.com | M102: None | N102: https://www.theclinics.com/authorinformation | O102: =IF(OR(R_1!P102=R_2!P102,R_1!P102=1),R_1!P102,-1) -> 1 | P102: =IF(OR(R_1!Q102=R_2!Q102,R_1!Q102=1),R_1!Q102,-1) -> 1 | Q102: =IF(OR(R_1!R102=R_2!R102,R_1!R102=1),R_1!R102,-1) -> 1 | R102: =IF(OR(R_1!S102=R_2!S102,R_1!S102=1),R_1!S102,-1) -> 1 | S102: =IF(OR(R_1!T102=R_2!T102,R_1!T102=1),R_1!T102,-1) -> 1 | T102: =IF(OR(R_1!U102=R_2!U102,R_1!U102=1),R_1!U102,-1) -> 1 | U102: =IF(OR(R_1!V102=R_2!V102,R_1!V102=1),R_1!V102,-1) -> 0 | V102: =IF(OR(R_1!W102=R_2!W102,R_1!W102=1),R_1!W102,-1) -> 1 | ... X102: =IF(OR(R_1!Y102=R_2!Y102,R_1!Y102=1),R_1!Y102,-1) -> 0
A103: 102 | B103: Tomography | C103: ☑️ | D103: =IF(R_1!D103=R_2!D103,"Re-check","Pass") -> Pass | E103: 1.9 | F103: Q3 | G103: MDPI | H103: Switzerland | I103: 6 | J103: Y | K103: Open | L103: https://www.mdpi.com/journal/tomography | M103: None | N103: https://www.mdpi.com/journal/tomography/instructions | O103: =IF(OR(R_1!P103=R_2!P103,R_1!P103=1),R_1!P103,-1) -> 0 | P103: =IF(OR(R_1!Q103=R_2!Q103,R_1!Q103=1),R_1!Q103,-1) -> 0 | Q103: =IF(OR(R_1!R103=R_2!R103,R_1!R103=1),R_1!R103,-1) -> 0 | R103: =IF(OR(R_1!S103=R_2!S103,R_1!S103=1),R_1!S103,-1) -> 0 | S103: =IF(OR(R_1!T103=R_2!T103,R_1!T103=1),R_1!T103,-1) -> 0 | T103: =IF(OR(R_1!U103=R_2!U103,R_1!U103=1),R_1!U103,-1) -> 0 | U103: =IF(OR(R_1!V103=R_2!V103,R_1!V103=1),R_1!V103,-1) -> 0 | V103: =IF(OR(R_1!W103=R_2!W103,R_1!W103=1),R_1!W103,-1) -> 0 | ... X103: =IF(OR(R_1!Y103=R_2!Y103,R_1!Y103=1),R_1!Y103,-1) -> 0
A104: 103 | B104: Journal of Medical Ultrasonics | C104: ☑️ | D104: =IF(R_1!D104=R_2!D104,"Re-check","Pass") -> Pass | E104: 1.8 | F104: Q4 | G104: Springer | H104: Japan | I104: 4 | J104: Y | K104: Hybird | L104: https://www.springer.com/journal/10396 | M104: Japan Society of Ultrasonics in Medicine. | N104: https://www.springer.com/journal/10396/submission-guidelines | O104: =IF(OR(R_1!P104=R_2!P104,R_1!P104=1),R_1!P104,-1) -> 0 | P104: =IF(OR(R_1!Q104=R_2!Q104,R_1!Q104=1),R_1!Q104,-1) -> 0 | Q104: =IF(OR(R_1!R104=R_2!R104,R_1!R104=1),R_1!R104,-1) -> 0 | R104: =IF(OR(R_1!S104=R_2!S104,R_1!S104=1),R_1!S104,-1) -> 0 | S104: =IF(OR(R_1!T104=R_2!T104,R_1!T104=1),R_1!T104,-1) -> 0 | T104: =IF(OR(R_1!U104=R_2!U104,R_1!U104=1),R_1!U104,-1) -> 0 | U104: =IF(OR(R_1!V104=R_2!V104,R_1!V104=1),R_1!V104,-1) -> 0 | V104: =IF(OR(R_1!W104=R_2!W104,R_1!W104=1),R_1!W104,-1) -> 0 | ... X104: =IF(OR(R_1!Y104=R_2!Y104,R_1!Y104=1),R_1!Y104,-1) -> 0
A105: 104 | B105: ROFO-FORTSCHRITTE AUF DEM GEBIET DER RONTGENSTRAHLEN UND DER BILDGEBENDEN VERFAHREN | C105: German | D105: N/a | E105: 1.8 | F105: Q4 | G105: N/a | H105: N/a | I105: N/a | J105: N/a | K105: N/a | L105: N/a | M105: N/a | N105: N/a | O105: =IF(OR(R_1!P105=R_2!P105,R_1!P105=1),R_1!P105,-1) -> N/a | P105: =IF(OR(R_1!Q105=R_2!Q105,R_1!Q105=1),R_1!Q105,-1) -> N/a | Q105: =IF(OR(R_1!R105=R_2!R105,R_1!R105=1),R_1!R105,-1) -> N/a | R105: =IF(OR(R_1!S105=R_2!S105,R_1!S105=1),R_1!S105,-1) -> N/a | S105: =IF(OR(R_1!T105=R_2!T105,R_1!T105=1),R_1!T105,-1) -> N/a | T105: =IF(OR(R_1!U105=R_2!U105,R_1!U105=1),R_1!U105,-1) -> N/a | U105: =IF(OR(R_1!V105=R_2!V105,R_1!V105=1),R_1!V105,-1) -> N/a | V105: =IF(OR(R_1!W105=R_2!W105,R_1!W105=1),R_1!W105,-1) -> N/a | ... X105: =IF(OR(R_1!Y105=R_2!Y105,R_1!Y105=1),R_1!Y105,-1) -> N/a
A106: 105 | B106: INTERVENTIONAL NEURORADIOLOGY | C106: ☑️ | D106: =IF(R_1!D106=R_2!D106,"Re-check","Pass") -> Pass | E106: 1.7 | F106: Q4 | G106: SAGE | H106: Italy | I106: 4 | J106: N | K106: Hybird | L106: https://journals.sagepub.com/home/ine | M106: None | N106: https://journals.sagepub.com/author-instructions/INE | O106: =IF(OR(R_1!P106=R_2!P106,R_1!P106=1),R_1!P106,-1) -> 1 | P106: =IF(OR(R_1!Q106=R_2!Q106,R_1!Q106=1),R_1!Q106,-1) -> 1 | Q106: =IF(OR(R_1!R106=R_2!R106,R_1!R106=1),R_1!R106,-1) -> 1 | R106: =IF(OR(R_1!S106=R_2!S106,R_1!S106=1),R_1!S106,-1) -> 1 | S106: =IF(OR(R_1!T106=R_2!T106,R_1!T106=1),R_1!T106,-1) -> 1 | T106: =IF(OR(R_1!U106=R_2!U106,R_1!U106=1),R_1!U106,-1) -> 1 | U106: =IF(OR(R_1!V106=R_2!V106,R_1!V106=1),R_1!V106,-1) -> 0 | V106: 1 | W106: =IF(OR(R_1!X106=R_2!X106,R_1!X106=1),R_1!X106,-1) -> 1 | X106: =IF(OR(R_1!Y106=R_2!Y106,R_1!Y106=1),R_1!Y106,-1) -> 1
A107: 106 | B107: Medical Ultrasonography | C107: ☑️ | D107: =IF(R_1!D107=R_2!D107,"Re-check","Pass") -> Pass | E107: 1.7 | F107: Q4 | G107: Society | H107: Romania | I107: 4 | J107: N | K107: Open | L107: https://www.medultrason.ro/medultrason/index.php/medultrason | M107: Romanian Society for Ultrasonography in Medicine and Biology | N107: https://www.medultrason.ro/medultrason/index.php/medultrason/about/submissions#authorGuidelines | O107: =IF(OR(R_1!P107=R_2!P107,R_1!P107=1),R_1!P107,-1) -> 0 | P107: =IF(OR(R_1!Q107=R_2!Q107,R_1!Q107=1),R_1!Q107,-1) -> 0 | Q107: =IF(OR(R_1!R107=R_2!R107,R_1!R107=1),R_1!R107,-1) -> 0 | R107: =IF(OR(R_1!S107=R_2!S107,R_1!S107=1),R_1!S107,-1) -> 0 | S107: =IF(OR(R_1!T107=R_2!T107,R_1!T107=1),R_1!T107,-1) -> 0 | T107: =IF(OR(R_1!U107=R_2!U107,R_1!U107=1),R_1!U107,-1) -> 0 | U107: =IF(OR(R_1!V107=R_2!V107,R_1!V107=1),R_1!V107,-1) -> 0 | V107: =IF(OR(R_1!W107=R_2!W107,R_1!W107=1),R_1!W107,-1) -> 0 | ... X107: =IF(OR(R_1!Y107=R_2!Y107,R_1!Y107=1),R_1!Y107,-1) -> 0
A108: 107 | B108: RADIATION AND ENVIRONMENTAL BIOPHYSICS | C108: ☑️ | D108: =IF(R_1!D108=R_2!D108,"Re-check","Pass") -> Pass | E108: 1.7 | F108: Q4 | G108: Springer | H108: Germany | I108: 4 | J108: N | K108: Hybird | L108: https://www.springer.com/journal/411 | M108: None | N108: https://www.springer.com/journal/411/submission-guidelines | O108: =IF(OR(R_1!P108=R_2!P108,R_1!P108=1),R_1!P108,-1) -> 0 | P108: =IF(OR(R_1!Q108=R_2!Q108,R_1!Q108=1),R_1!Q108,-1) -> 0 | Q108: =IF(OR(R_1!R108=R_2!R108,R_1!R108=1),R_1!R108,-1) -> 0 | R108: =IF(OR(R_1!S108=R_2!S108,R_1!S108=1),R_1!S108,-1) -> 0 | S108: =IF(OR(R_1!T108=R_2!T108,R_1!T108=1),R_1!T108,-1) -> 0 | T108: =IF(OR(R_1!U108=R_2!U108,R_1!U108=1),R_1!U108,-1) -> 0 | U108: =IF(OR(R_1!V108=R_2!V108,R_1!V108=1),R_1!V108,-1) -> 0 | V108: =IF(OR(R_1!W108=R_2!W108,R_1!W108=1),R_1!W108,-1) -> 0 | ... X108: =IF(OR(R_1!Y108=R_2!Y108,R_1!Y108=1),R_1!Y108,-1) -> 0
A109: 108 | B109: Applied Radiation and Isotopes | C109: ☑️ | D109: =IF(R_1!D109=R_2!D109,"Re-check","Pass") -> Pass | E109: 1.6 | F109: Q4 | G109: Elsevier | H109: USA | I109: 12 | J109: N | K109: Hybird | L109: https://www.sciencedirect.com/journal/applied-radiation-and-isotopes | M109: None | N109: https://www.elsevier.com/journals/applied-radiation-and-isotopes/0969-8043/guide-for-authors | O109: =IF(OR(R_1!P109=R_2!P109,R_1!P109=1),R_1!P109,-1) -> 1 | P109: =IF(OR(R_1!Q109=R_2!Q109,R_1!Q109=1),R_1!Q109,-1) -> 1 | Q109: =IF(OR(R_1!R109=R_2!R109,R_1!R109=1),R_1!R109,-1) -> 1 | R109: =IF(OR(R_1!S109=R_2!S109,R_1!S109=1),R_1!S109,-1) -> 1 | S109: =IF(OR(R_1!T109=R_2!T109,R_1!T109=1),R_1!T109,-1) -> 1 | T109: =IF(OR(R_1!U109=R_2!U109,R_1!U109=1),R_1!U109,-1) -> 1 | U109: =IF(OR(R_1!V109=R_2!V109,R_1!V109=1),R_1!V109,-1) -> 0 | V109: =IF(OR(R_1!W109=R_2!W109,R_1!W109=1),R_1!W109,-1) -> 1 | ... X109: =IF(OR(R_1!Y109=R_2!Y109,R_1!Y109=1),R_1!Y109,-1) -> 0
A110: 109 | B110: Journal of Medical Imaging and Radiation Oncology | C110: ☑️ | D110: =IF(R_1!D110=R_2!D110,"Re-check","Pass") -> Pass | E110: 1.6 | F110: Q4 | G110: Wiley | H110: Australia | I110: 8 | J110: Y | K110: Hybird | L110: https://onlinelibrary.wiley.com/journal/17549485/ | M110: Royal Australian and New Zealand College of Radiologists | N110: https://onlinelibrary.wiley.com/page/journal/17549485/homepage/forauthors.html | O110: =IF(OR(R_1!P110=R_2!P110,R_1!P110=1),R_1!P110,-1) -> 0 | P110: =IF(OR(R_1!Q110=R_2!Q110,R_1!Q110=1),R_1!Q110,-1) -> 0 | Q110: =IF(OR(R_1!R110=R_2!R110,R_1!R110=1),R_1!R110,-1) -> 0 | R110: =IF(OR(R_1!S110=R_2!S110,R_1!S110=1),R_1!S110,-1) -> 0 | S110: =IF(OR(R_1!T110=R_2!T110,R_1!T110=1),R_1!T110,-1) -> 0 | T110: =IF(OR(R_1!U110=R_2!U110,R_1!U110=1),R_1!U110,-1) -> 0 | U110: =IF(OR(R_1!V110=R_2!V110,R_1!V110=1),R_1!V110,-1) -> 0 | V110: =IF(OR(R_1!W110=R_2!W110,R_1!W110=1),R_1!W110,-1) -> 0 | ... X110: =IF(OR(R_1!Y110=R_2!Y110,R_1!Y110=1),R_1!Y110,-1) -> 0
A111: 110 | B111: Magnetic Resonance Imaging Clinics of North America | C111: ☑️ | D111: =IF(R_1!D111=R_2!D111,"Re-check","Pass") -> Pass | E111: 1.6 | F111: Q4 | G111: Elsevier | H111: USA | I111: 4 | J111: Y | K111: Hybird | L111: https://www.mri.theclinics.com | M111: None | N111: https://www.theclinics.com/authorinformation | O111: =IF(OR(R_1!P111=R_2!P111,R_1!P111=1),R_1!P111,-1) -> 1 | P111: =IF(OR(R_1!Q111=R_2!Q111,R_1!Q111=1),R_1!Q111,-1) -> 1 | Q111: =IF(OR(R_1!R111=R_2!R111,R_1!R111=1),R_1!R111,-1) -> 1 | R111: =IF(OR(R_1!S111=R_2!S111,R_1!S111=1),R_1!S111,-1) -> 1 | S111: =IF(OR(R_1!T111=R_2!T111,R_1!T111=1),R_1!T111,-1) -> 1 | T111: =IF(OR(R_1!U111=R_2!U111,R_1!U111=1),R_1!U111,-1) -> 1 | U111: =IF(OR(R_1!V111=R_2!V111,R_1!V111=1),R_1!V111,-1) -> 0 | V111: =IF(OR(R_1!W111=R_2!W111,R_1!W111=1),R_1!W111,-1) -> 1 | ... X111: =IF(OR(R_1!Y111=R_2!Y111,R_1!Y111=1),R_1!Y111,-1) -> 0
A112: 111 | B112: Hellenic Journal of Nuclear Medicine | C112: ☑️ | D112: =IF(R_1!D112=R_2!D112,"Re-check","Pass") -> Pass | E112: 1.5 | F112: Q4 | G112: Society | H112: Greece | I112: 3 | J112: Y | K112: Open | L112: https://www.nuclmed.gr/about/ | M112: Hellenic Society of Nuclear Medicine | N112: https://www.nuclmed.gr/wp/wp-content/uploads/2017/04/instructions-to-authors-en.pdf | O112: =IF(OR(R_1!P112=R_2!P112,R_1!P112=1),R_1!P112,-1) -> 0 | P112: =IF(OR(R_1!Q112=R_2!Q112,R_1!Q112=1),R_1!Q112,-1) -> 0 | Q112: =IF(OR(R_1!R112=R_2!R112,R_1!R112=1),R_1!R112,-1) -> 0 | R112: =IF(OR(R_1!S112=R_2!S112,R_1!S112=1),R_1!S112,-1) -> 0 | S112: =IF(OR(R_1!T112=R_2!T112,R_1!T112=1),R_1!T112,-1) -> 0 | T112: =IF(OR(R_1!U112=R_2!U112,R_1!U112=1),R_1!U112,-1) -> 0 | U112: =IF(OR(R_1!V112=R_2!V112,R_1!V112=1),R_1!V112,-1) -> 0 | V112: =IF(OR(R_1!W112=R_2!W112,R_1!W112=1),R_1!W112,-1) -> 0 | ... X112: =IF(OR(R_1!Y112=R_2!Y112,R_1!Y112=1),R_1!Y112,-1) -> 0
A113: 112 | B113: JOURNAL OF RADIOLOGICAL PROTECTION | C113: ☑️ | D113: =IF(R_1!D113=R_2!D113,"Re-check","Pass") -> Pass | E113: 1.5 | F113: Q4 | G113: IOP | H113: England | I113: 4 | J113: N | K113: Hybird | L113: https://iopscience.iop.org/journal/0952-4746 | M113: Society for Radiological Protection | N113: https://publishingsupport.iopscience.iop.org/journals/journal-of-radiological-protection/ | O113: =IF(OR(R_1!P113=R_2!P113,R_1!P113=1),R_1!P113,-1) -> 0 | P113: =IF(OR(R_1!Q113=R_2!Q113,R_1!Q113=1),R_1!Q113,-1) -> 0 | Q113: =IF(OR(R_1!R113=R_2!R113,R_1!R113=1),R_1!R113,-1) -> 0 | R113: =IF(OR(R_1!S113=R_2!S113,R_1!S113=1),R_1!S113,-1) -> 0 | S113: =IF(OR(R_1!T113=R_2!T113,R_1!T113=1),R_1!T113,-1) -> 0 | T113: =IF(OR(R_1!U113=R_2!U113,R_1!U113=1),R_1!U113,-1) -> 0 | U113: =IF(OR(R_1!V113=R_2!V113,R_1!V113=1),R_1!V113,-1) -> 0 | V113: =IF(OR(R_1!W113=R_2!W113,R_1!W113=1),R_1!W113,-1) -> 0 | ... X113: =IF(OR(R_1!Y113=R_2!Y113,R_1!Y113=1),R_1!Y113,-1) -> 0
A114: 113 | B114: NUCLEAR MEDICINE COMMUNICATIONS | C114: ☑️ | D114: =IF(R_1!D114=R_2!D114,"Re-check","Pass") -> Pass | E114: 1.5 | F114: Q4 | G114: Lippincott Williams & Wilkins | H114: USA | I114: 12 | J114: Y | K114: Hybird | L114: https://journals.lww.com/nuclearmedicinecomm/Pages/default.aspx | M114: British Nuclear Medicine Society | N114: https://edmgr.ovid.com/nmc/accounts/ifauth.htm | O114: 1 | P114: 1 | Q114: =IF(OR(R_1!R114=R_2!R114,R_1!R114=1),R_1!R114,-1) -> 0 | R114: =IF(OR(R_1!S114=R_2!S114,R_1!S114=1),R_1!S114,-1) -> 0 | S114: 1 | T114: 0 | U114: =IF(OR(R_1!V114=R_2!V114,R_1!V114=1),R_1!V114,-1) -> 0 | V114: =IF(OR(R_1!W114=R_2!W114,R_1!W114=1),R_1!W114,-1) -> 0 | W114: =IF(OR(R_1!X114=R_2!X114,R_1!X114=1),R_1!X114,-1) -> 0 | X114: =IF(OR(R_1!Y114=R_2!Y114,R_1!Y114=1),R_1!Y114,-1) -> 0
A115: 114 | B115: NUKLEARMEDIZIN-NUCLEAR MEDICINE | C115: German | D115: N/a | E115: 1.5 | F115: Q4 | G115: N/a | H115: N/a | I115: N/a | J115: N/a | K115: N/a | L115: N/a | M115: N/a | N115: N/a | O115: =IF(OR(R_1!P115=R_2!P115,R_1!P115=1),R_1!P115,-1) -> N/a | P115: =IF(OR(R_1!Q115=R_2!Q115,R_1!Q115=1),R_1!Q115,-1) -> N/a | Q115: =IF(OR(R_1!R115=R_2!R115,R_1!R115=1),R_1!R115,-1) -> N/a | R115: =IF(OR(R_1!S115=R_2!S115,R_1!S115=1),R_1!S115,-1) -> N/a | S115: =IF(OR(R_1!T115=R_2!T115,R_1!T115=1),R_1!T115,-1) -> N/a | T115: =IF(OR(R_1!U115=R_2!U115,R_1!U115=1),R_1!U115,-1) -> N/a | U115: =IF(OR(R_1!V115=R_2!V115,R_1!V115=1),R_1!V115,-1) -> N/a | V115: =IF(OR(R_1!W115=R_2!W115,R_1!W115=1),R_1!W115,-1) -> N/a | ... X115: =IF(OR(R_1!Y115=R_2!Y115,R_1!Y115=1),R_1!Y115,-1) -> N/a
A116: 115 | B116: QUARTERLY JOURNAL OF NUCLEAR MEDICINE AND MOLECULAR IMAGING | C116: ☑️ | D116: =IF(R_1!D116=R_2!D116,"Re-check","Pass") -> Pass | E116: 1.5 | F116: Q4 | G116: Edizioni Minerva Medica | H116: Italy | I116: 4 | J116: Y | K116: Hybird | L116: https://www.minervamedica.it/en/journals/nuclear-med-molecular-imaging/index.php | M116: Society of Radiopharmaceutical Sciences | N116: https://www.minervamedica.it/en/journals/nuclear-med-molecular-imaging/notice-to-authors.php | O116: =IF(OR(R_1!P116=R_2!P116,R_1!P116=1),R_1!P116,-1) -> 0 | P116: =IF(OR(R_1!Q116=R_2!Q116,R_1!Q116=1),R_1!Q116,-1) -> 0 | Q116: =IF(OR(R_1!R116=R_2!R116,R_1!R116=1),R_1!R116,-1) -> 0 | R116: =IF(OR(R_1!S116=R_2!S116,R_1!S116=1),R_1!S116,-1) -> 0 | S116: =IF(OR(R_1!T116=R_2!T116,R_1!T116=1),R_1!T116,-1) -> 0 | T116: =IF(OR(R_1!U116=R_2!U116,R_1!U116=1),R_1!U116,-1) -> 0 | U116: =IF(OR(R_1!V116=R_2!V116,R_1!V116=1),R_1!V116,-1) -> 0 | V116: =IF(OR(R_1!W116=R_2!W116,R_1!W116=1),R_1!W116,-1) -> 0 | ... X116: =IF(OR(R_1!Y116=R_2!Y116,R_1!Y116=1),R_1!Y116,-1) -> 0
A117: 116 | B117: Current Medical Imaging | C117: ☑️ | D117: =IF(R_1!D117=R_2!D117,"Re-check","Pass") -> Pass | E117: 1.4 | F117: Q4 | G117: Bentham | H117: United Arab Emirates | I117: 6 | J117: Y | K117: Open | L117: https://www.eurekaselect.com/journal/33 | M117: None | N117: https://www.eurekaselect.com/pages/author-guidelines | O117: =IF(OR(R_1!P117=R_2!P117,R_1!P117=1),R_1!P117,-1) -> 1 | P117: =IF(OR(R_1!Q117=R_2!Q117,R_1!Q117=1),R_1!Q117,-1) -> 1 | Q117: =IF(OR(R_1!R117=R_2!R117,R_1!R117=1),R_1!R117,-1) -> 0 | R117: =IF(OR(R_1!S117=R_2!S117,R_1!S117=1),R_1!S117,-1) -> 0 | S117: =IF(OR(R_1!T117=R_2!T117,R_1!T117=1),R_1!T117,-1) -> 1 | T117: =IF(OR(R_1!U117=R_2!U117,R_1!U117=1),R_1!U117,-1) -> 1 | U117: =IF(OR(R_1!V117=R_2!V117,R_1!V117=1),R_1!V117,-1) -> 0 | V117: =IF(OR(R_1!W117=R_2!W117,R_1!W117=1),R_1!W117,-1) -> 0 | W117: 0 | X117: =IF(OR(R_1!Y117=R_2!Y117,R_1!Y117=1),R_1!Y117,-1) -> 0
A118: 117 | B118: Journal of Contemporary Brachytherapy | C118: ☑️ | D118: =IF(R_1!D118=R_2!D118,"Re-check","Pass") -> Pass | E118: 1.4 | F118: Q4 | G118: Termedia Publishing House | H118: Poland | I118: 4 | J118: N | K118: Open | L118: https://www.termedia.pl/Journal/-54 | M118: Polish Brachytherapy Society and Indian Brachytherapy Society | N118: https://www.termedia.pl/Journal/Journal_of_Contemporary_Brachytherapy-54/Strona-774 | O118: =IF(OR(R_1!P118=R_2!P118,R_1!P118=1),R_1!P118,-1) -> 0 | P118: =IF(OR(R_1!Q118=R_2!Q118,R_1!Q118=1),R_1!Q118,-1) -> 0 | Q118: =IF(OR(R_1!R118=R_2!R118,R_1!R118=1),R_1!R118,-1) -> 0 | R118: =IF(OR(R_1!S118=R_2!S118,R_1!S118=1),R_1!S118,-1) -> 0 | S118: =IF(OR(R_1!T118=R_2!T118,R_1!T118=1),R_1!T118,-1) -> 0 | T118: =IF(OR(R_1!U118=R_2!U118,R_1!U118=1),R_1!U118,-1) -> 0 | U118: =IF(OR(R_1!V118=R_2!V118,R_1!V118=1),R_1!V118,-1) -> 0 | V118: =IF(OR(R_1!W118=R_2!W118,R_1!W118=1),R_1!W118,-1) -> 0 | ... X118: =IF(OR(R_1!Y118=R_2!Y118,R_1!Y118=1),R_1!Y118,-1) -> 0
A119: 118 | B119: SEMINARS IN INTERVENTIONAL RADIOLOGY | C119: ☑️ | D119: =IF(R_1!D119=R_2!D119,"Re-check","Pass") -> Pass | E119: 1.4 | F119: Q4 | G119: Thieme | H119: USA | I119: 4 | J119: Y | K119: Hybird | L119: https://www.thiemechina.com/Index/show/catid/124/id/362.html | M119: None | N119: https://web.thieme.com/media/ita/pubid2048889311.pdf | O119: =IF(OR(R_1!P119=R_2!P119,R_1!P119=1),R_1!P119,-1) -> 0 | P119: =IF(OR(R_1!Q119=R_2!Q119,R_1!Q119=1),R_1!Q119,-1) -> 0 | Q119: =IF(OR(R_1!R119=R_2!R119,R_1!R119=1),R_1!R119,-1) -> 0 | R119: =IF(OR(R_1!S119=R_2!S119,R_1!S119=1),R_1!S119,-1) -> 0 | S119: =IF(OR(R_1!T119=R_2!T119,R_1!T119=1),R_1!T119,-1) -> 0 | T119: =IF(OR(R_1!U119=R_2!U119,R_1!U119=1),R_1!U119,-1) -> 0 | U119: =IF(OR(R_1!V119=R_2!V119,R_1!V119=1),R_1!V119,-1) -> 0 | V119: =IF(OR(R_1!W119=R_2!W119,R_1!W119=1),R_1!W119,-1) -> 0 | ... X119: =IF(OR(R_1!Y119=R_2!Y119,R_1!Y119=1),R_1!Y119,-1) -> 0
A120: 119 | B120: SEMINARS IN MUSCULOSKELETAL RADIOLOGY | C120: ☑️ | D120: =IF(R_1!D120=R_2!D120,"Re-check","Pass") -> Pass | E120: 1.4 | F120: Q4 | G120: Thieme | H120: USA | I120: 5 | J120: Y | K120: Hybird | L120: https://www.thiemechina.com/Index/show/catid/124/id/363.html | M120: None | N120: https://web.thieme.com/media/ita/pubid393203678.pdf | O120: =IF(OR(R_1!P120=R_2!P120,R_1!P120=1),R_1!P120,-1) -> 0 | P120: =IF(OR(R_1!Q120=R_2!Q120,R_1!Q120=1),R_1!Q120,-1) -> 0 | Q120: =IF(OR(R_1!R120=R_2!R120,R_1!R120=1),R_1!R120,-1) -> 0 | R120: =IF(OR(R_1!S120=R_2!S120,R_1!S120=1),R_1!S120,-1) -> 0 | S120: =IF(OR(R_1!T120=R_2!T120,R_1!T120=1),R_1!T120,-1) -> 0 | T120: =IF(OR(R_1!U120=R_2!U120,R_1!U120=1),R_1!U120,-1) -> 0 | U120: =IF(OR(R_1!V120=R_2!V120,R_1!V120=1),R_1!V120,-1) -> 0 | V120: =IF(OR(R_1!W120=R_2!W120,R_1!W120=1),R_1!W120,-1) -> 0 | ... X120: =IF(OR(R_1!Y120=R_2!Y120,R_1!Y120=1),R_1!Y120,-1) -> 0
A121: 120 | B121: SURGICAL AND RADIOLOGIC ANATOMY | C121: ☑️ | D121: =IF(R_1!D121=R_2!D121,"Re-check","Pass") -> Pass | E121: 1.4 | F121: Q4 | G121: Springer | H121: France | I121: 10 | J121: N | K121: Hybird | L121: https://www.springer.com/journal/276 | M121: None | N121: https://www.springer.com/journal/276/submission-guidelines | O121: =IF(OR(R_1!P121=R_2!P121,R_1!P121=1),R_1!P121,-1) -> 0 | P121: =IF(OR(R_1!Q121=R_2!Q121,R_1!Q121=1),R_1!Q121,-1) -> 0 | Q121: =IF(OR(R_1!R121=R_2!R121,R_1!R121=1),R_1!R121,-1) -> 0 | R121: =IF(OR(R_1!S121=R_2!S121,R_1!S121=1),R_1!S121,-1) -> 0 | S121: =IF(OR(R_1!T121=R_2!T121,R_1!T121=1),R_1!T121,-1) -> 0 | T121: =IF(OR(R_1!U121=R_2!U121,R_1!U121=1),R_1!U121,-1) -> 0 | U121: =IF(OR(R_1!V121=R_2!V121,R_1!V121=1),R_1!V121,-1) -> 0 | V121: =IF(OR(R_1!W121=R_2!W121,R_1!W121=1),R_1!W121,-1) -> 0 | ... X121: =IF(OR(R_1!Y121=R_2!Y121,R_1!Y121=1),R_1!Y121,-1) -> 0
A122: 121 | B122: ACTA RADIOLOGICA | C122: ☑️ | D122: =IF(R_1!D122=R_2!D122,"Re-check","Pass") -> Pass | E122: 1.3 | F122: Q4 | G122: SAGE | H122: England | I122: 12 | J122: Y | K122: Hybird | L122: https://journals.sagepub.com/home/acr | M122: Societies of medical radiology in Denmark, Finland, Iceland, Norway and Sweden | N122: https://journals.sagepub.com/author-instructions/ACR | O122: =IF(OR(R_1!P122=R_2!P122,R_1!P122=1),R_1!P122,-1) -> 1 | P122: =IF(OR(R_1!Q122=R_2!Q122,R_1!Q122=1),R_1!Q122,-1) -> 1 | Q122: =IF(OR(R_1!R122=R_2!R122,R_1!R122=1),R_1!R122,-1) -> 1 | R122: =IF(OR(R_1!S122=R_2!S122,R_1!S122=1),R_1!S122,-1) -> 1 | S122: =IF(OR(R_1!T122=R_2!T122,R_1!T122=1),R_1!T122,-1) -> 1 | T122: =IF(OR(R_1!U122=R_2!U122,R_1!U122=1),R_1!U122,-1) -> 1 | U122: =IF(OR(R_1!V122=R_2!V122,R_1!V122=1),R_1!V122,-1) -> 0 | V122: 1 | W122: =IF(OR(R_1!X122=R_2!X122,R_1!X122=1),R_1!X122,-1) -> 1 | X122: =IF(OR(R_1!Y122=R_2!Y122,R_1!Y122=1),R_1!Y122,-1) -> 1
A123: 122 | B123: Cancer Radiotherapie | C123: French | D123: N/a | E123: 1.3 | F123: Q4 | G123: N/a | H123: N/a | I123: N/a | J123: N/a | K123: N/a | L123: N/a | M123: N/a | N123: N/a | O123: =IF(OR(R_1!P123=R_2!P123,R_1!P123=1),R_1!P123,-1) -> N/a | P123: =IF(OR(R_1!Q123=R_2!Q123,R_1!Q123=1),R_1!Q123,-1) -> N/a | Q123: =IF(OR(R_1!R123=R_2!R123,R_1!R123=1),R_1!R123,-1) -> N/a | R123: =IF(OR(R_1!S123=R_2!S123,R_1!S123=1),R_1!S123,-1) -> N/a | S123: =IF(OR(R_1!T123=R_2!T123,R_1!T123=1),R_1!T123,-1) -> N/a | T123: =IF(OR(R_1!U123=R_2!U123,R_1!U123=1),R_1!U123,-1) -> N/a | U123: =IF(OR(R_1!V123=R_2!V123,R_1!V123=1),R_1!V123,-1) -> N/a | V123: =IF(OR(R_1!W123=R_2!W123,R_1!W123=1),R_1!W123,-1) -> N/a | ... X123: =IF(OR(R_1!Y123=R_2!Y123,R_1!Y123=1),R_1!Y123,-1) -> N/a
A124: 123 | B124: JOURNAL OF COMPUTER ASSISTED TOMOGRAPHY | C124: ☑️ | D124: =IF(R_1!D124=R_2!D124,"Re-check","Pass") -> Pass | E124: 1.3 | F124: Q4 | G124: Lippincott Williams & Wilkins | H124: USA | I124: 6 | J124: Y | K124: Hybird | L124: https://journals.lww.com/jcat/pages/default.aspx | M124: None | N124: https://journals.lww.com/jcat/Pages/informationforauthors.aspx | O124: =IF(OR(R_1!P124=R_2!P124,R_1!P124=1),R_1!P124,-1) -> 0 | P124: =IF(OR(R_1!Q124=R_2!Q124,R_1!Q124=1),R_1!Q124,-1) -> 0 | Q124: =IF(OR(R_1!R124=R_2!R124,R_1!R124=1),R_1!R124,-1) -> 0 | R124: =IF(OR(R_1!S124=R_2!S124,R_1!S124=1),R_1!S124,-1) -> 0 | S124: =IF(OR(R_1!T124=R_2!T124,R_1!T124=1),R_1!T124,-1) -> 0 | T124: =IF(OR(R_1!U124=R_2!U124,R_1!U124=1),R_1!U124,-1) -> 0 | U124: =IF(OR(R_1!V124=R_2!V124,R_1!V124=1),R_1!V124,-1) -> 0 | V124: =IF(OR(R_1!W124=R_2!W124,R_1!W124=1),R_1!W124,-1) -> 0 | ... X124: =IF(OR(R_1!Y124=R_2!Y124,R_1!Y124=1),R_1!Y124,-1) -> 0
A125: 124 | B125: Ultrasound Quarterly | C125: ☑️ | D125: =IF(R_1!D125=R_2!D125,"Re-check","Pass") -> Pass | E125: 1.3 | F125: Q4 | G125: Lippincott Williams & Wilkins | H125: USA | I125: 4 | J125: Y | K125: Hybird | L125: https://journals.lww.com/ultrasound-quarterly/pages/default.aspx | M125: Society of Radiologists in Ultrasound | N125: https://edmgr.ovid.com/usq/accounts/ifauth.htm | O125: =IF(OR(R_1!P125=R_2!P125,R_1!P125=1),R_1!P125,-1) -> 0 | P125: =IF(OR(R_1!Q125=R_2!Q125,R_1!Q125=1),R_1!Q125,-1) -> 0 | Q125: =IF(OR(R_1!R125=R_2!R125,R_1!R125=1),R_1!R125,-1) -> 0 | R125: =IF(OR(R_1!S125=R_2!S125,R_1!S125=1),R_1!S125,-1) -> 0 | S125: =IF(OR(R_1!T125=R_2!T125,R_1!T125=1),R_1!T125,-1) -> 0 | T125: =IF(OR(R_1!U125=R_2!U125,R_1!U125=1),R_1!U125,-1) -> 0 | U125: =IF(OR(R_1!V125=R_2!V125,R_1!V125=1),R_1!V125,-1) -> 0 | V125: =IF(OR(R_1!W125=R_2!W125,R_1!W125=1),R_1!W125,-1) -> 0 | ... X125: =IF(OR(R_1!Y125=R_2!Y125,R_1!Y125=1),R_1!Y125,-1) -> 0
A126: 125 | B126: Medical Dosimetry | C126: ☑️ | D126: =IF(R_1!D126=R_2!D126,"Re-check","Pass") -> Pass | E126: 1.2 | F126: Q4 | G126: Elsevier | H126: USA | I126: 4 | J126: N | K126: Hybird | L126: https://www.sciencedirect.com/journal/medical-dosimetry | M126: American Association of Medical Dosimetrists | N126: https://www.elsevier.com/journals/medical-dosimetry/0958-3947/guide-for-authors | O126: =IF(OR(R_1!P126=R_2!P126,R_1!P126=1),R_1!P126,-1) -> 1 | P126: =IF(OR(R_1!Q126=R_2!Q126,R_1!Q126=1),R_1!Q126,-1) -> 1 | Q126: =IF(OR(R_1!R126=R_2!R126,R_1!R126=1),R_1!R126,-1) -> 1 | R126: =IF(OR(R_1!S126=R_2!S126,R_1!S126=1),R_1!S126,-1) -> 1 | S126: =IF(OR(R_1!T126=R_2!T126,R_1!T126=1),R_1!T126,-1) -> 1 | T126: =IF(OR(R_1!U126=R_2!U126,R_1!U126=1),R_1!U126,-1) -> 1 | U126: =IF(OR(R_1!V126=R_2!V126,R_1!V126=1),R_1!V126,-1) -> 0 | V126: =IF(OR(R_1!W126=R_2!W126,R_1!W126=1),R_1!W126,-1) -> 1 | ... X126: =IF(OR(R_1!Y126=R_2!Y126,R_1!Y126=1),R_1!Y126,-1) -> 0
A127: 126 | B127: Revista Espanola de Medicina Nuclear e Imagen Molecular | C127: Spanish | D127: N/a | E127: 1.2 | F127: Q4 | G127: N/a | H127: N/a | I127: N/a | J127: N/a | K127: N/a | L127: N/a | M127: N/a | N127: N/a | O127: =IF(OR(R_1!P127=R_2!P127,R_1!P127=1),R_1!P127,-1) -> N/a | P127: =IF(OR(R_1!Q127=R_2!Q127,R_1!Q127=1),R_1!Q127,-1) -> N/a | Q127: =IF(OR(R_1!R127=R_2!R127,R_1!R127=1),R_1!R127,-1) -> N/a | R127: =IF(OR(R_1!S127=R_2!S127,R_1!S127=1),R_1!S127,-1) -> N/a | S127: =IF(OR(R_1!T127=R_2!T127,R_1!T127=1),R_1!T127,-1) -> N/a | T127: =IF(OR(R_1!U127=R_2!U127,R_1!U127=1),R_1!U127,-1) -> N/a | U127: =IF(OR(R_1!V127=R_2!V127,R_1!V127=1),R_1!V127,-1) -> N/a | V127: =IF(OR(R_1!W127=R_2!W127,R_1!W127=1),R_1!W127,-1) -> N/a | ... X127: =IF(OR(R_1!Y127=R_2!Y127,R_1!Y127=1),R_1!Y127,-1) -> N/a
A128: 127 | B128: RADIOPROTECTION | C128: French | D128: N/a | E128: 1.1 | F128: Q4 | G128: N/a | H128: N/a | I128: N/a | J128: N/a | K128: N/a | L128: N/a | M128: N/a | N128: N/a | O128: =IF(OR(R_1!P128=R_2!P128,R_1!P128=1),R_1!P128,-1) -> N/a | P128: =IF(OR(R_1!Q128=R_2!Q128,R_1!Q128=1),R_1!Q128,-1) -> N/a | Q128: =IF(OR(R_1!R128=R_2!R128,R_1!R128=1),R_1!R128,-1) -> N/a | R128: =IF(OR(R_1!S128=R_2!S128,R_1!S128=1),R_1!S128,-1) -> N/a | S128: =IF(OR(R_1!T128=R_2!T128,R_1!T128=1),R_1!T128,-1) -> N/a | T128: =IF(OR(R_1!U128=R_2!U128,R_1!U128=1),R_1!U128,-1) -> N/a | U128: =IF(OR(R_1!V128=R_2!V128,R_1!V128=1),R_1!V128,-1) -> N/a | V128: =IF(OR(R_1!W128=R_2!W128,R_1!W128=1),R_1!W128,-1) -> N/a | ... X128: =IF(OR(R_1!Y128=R_2!Y128,R_1!Y128=1),R_1!Y128,-1) -> N/a
...

Sheet Analysis
A1: No | B1: Journal name | C1: Inclusion | D1: 2022 JIF | E1: Total Citations | F1: Citable Items | G1: JIF Quartile | H1: JIF Quartile-2 | I1: Publisher | J1: Publisher_2 | K1: Publisher_3 | L1: Region | M1: Region_2 | N1: Region_3 | O1: Publication frequency | P1: Publication frequency_2 | Q1: Publication frequency_3 | R1: Only in Radiology | S1: Only in Radiology_2 | T1: Publication model | U1: Publication model_2 | V1: Offical Journal | W1: Offical Journal_2 | X1: Offical Journal_3 | Y1: Present | Z1: Author | AA1: Reviewer | AB1: Editor | AC1: 1.Use | AD1: 2.Tool | AE1: 3.Section | AF1: 4.Role | AG1: 5.Verification | AH1: 6.Influence | AI1: Location | AJ1: Location_2
A2: 1 | B2: RADIOLOGY | C2: ☑️ | D2: 19.7 | E2: 64735 | F2: 265 | G2: Q1 | H2: 1 | I2: Society | J2: Society | K2: 3 | L2: USA | M2: North America | N2: 1 | O2: 12 | P2: ≥ 12 | Q2: 3 | R2: Y | S2: 1 | T2: Hybird | U2: 1 | V2: Radiological Society of North America | W2: Y | X2: 1 | Y2: 1 | Z2: 1 | AA2: 1 | AB2: 0 | AC2: 1 | AD2: 1 | AE2: 0 | AF2: 1 | AG2: 1 | AH2: 0 | AI2: Website + Editorial | AJ2: 1
A3: 2 | B3: JACC-Cardiovascular Imaging | C3: ☑️ | D3: 14 | E3: 16914 | F3: 115 | G3: Q1 | H3: 1 | I3: Elsevier | J3: Elsevier | K3: 2 | L3: USA | M3: North America | N3: 1 | O3: 12 | P3: ≥ 12 | Q3: 3 | R3: N | S3: 2 | T3: Hybird | U3: 1 | V3: American College of Cardiology | W3: Y | X3: 1 | Y3: 1 | Z3: 1 | AA3: 0 | AB3: 0 | AC3: 1 | AD3: 0 | AE3: 0 | AF3: 1 | AG3: 0 | AH3: 0 | AI3: Website + Editorial | AJ3: 2
A4: 3 | B4: MEDICAL IMAGE ANALYSIS | C4: ☑️ | D4: 10.9 | E4: 19500 | F4: 274 | G4: Q1 | H4: 1 | I4: Elsevier | J4: Elsevier | K4: 2 | L4: Netherlands | M4: Europe | N4: 2 | O4: 8 | P4: 6–12 | Q4: 2 | R4: N | S4: 2 | T4: Hybird | U4: 1 | V4: The Medical Image Computing and Computer Assisted Intervention Society | W4: Y | X4: 1 | Y4: 1 | Z4: 1 | AA4: 1 | AB4: 1 | AC4: 1 | AD4: 1 | AE4: 0 | AF4: 1 | AG4: 1 | AH4: 0 | AI4: Hyperlink | AJ4: 3
A5: 4 | B5: CLINICAL NUCLEAR MEDICINE | C5: ☑️ | D5: 10.6 | E5: 6883 | F5: 84 | G5: Q1 | H5: 1 | I5: Lippincott Williams & Wilkins | J5: Lippincott Williams & Wilkins | K5: 5 | L5: USA | M5: North America | N5: 1 | O5: 12 | P5: ≥ 12 | Q5: 3 | R5: Y | S5: 1 | T5: Hybird | U5: 1 | V5: American College of Nuclear Medicine | W5: Y | X5: 1 | Y5: 0 | Z5: 0 | AA5: 0 | AB5: 0 | AC5: 0 | AD5: 0 | AE5: 0 | AF5: 0 | AG5: 0 | AH5: 0 | AI5: N/a | AJ5: N/a
A6: 5 | B6: IEEE TRANSACTIONS ON MEDICAL IMAGING | C6: ☑️ | D6: 10.6 | E6: 34640 | F6: 319 | G6: Q1 | H6: 1 | I6: Society | J6: Society | K6: 3 | L6: USA | M6: North America | N6: 1 | O6: 12 | P6: ≥ 12 | Q6: 3 | R6: N | S6: 2 | T6: Hybird | U6: 1 | V6: IEEE Engineering in Medicine and Biology Society | W6: Y | X6: 1 | Y6: 0 | Z6: 0 | AA6: 0 | AB6: 0 | AC6: 0 | AD6: 0 | AE6: 0 | AF6: 0 | AG6: 0 | AH6: 0 | AI6: N/a | AJ6: N/a
A7: 6 | B7: JOURNAL OF NUCLEAR MEDICINE | C7: ☑️ | D7: 9.3 | E7: 31896 | F7: 266 | G7: Q1 | H7: 1 | I7: Society | J7: Society | K7: 3 | L7: USA | M7: North America | N7: 1 | O7: 12 | P7: ≥ 12 | Q7: 3 | R7: Y | S7: 1 | T7: Hybird | U7: 1 | V7: Society of Nuclear Medicine and Molecular Imaging | W7: Y | X7: 1 | Y7: 0 | Z7: 0 | AA7: 0 | AB7: 0 | AC7: 0 | AD7: 0 | AE7: 0 | AF7: 0 | AG7: 0 | AH7: 0 | AI7: N/a | AJ7: N/a
A8: 7 | B8: EUROPEAN JOURNAL OF NUCLEAR MEDICINE AND MOLECULAR IMAGING | C8: ☑️ | D8: 9.1 | E8: 23232 | F8: 318 | G8: Q1 | H8: 1 | I8: Springer | J8: Springer | K8: 1 | L8: Germany | M8: Europe | N8: 2 | O8: 12 | P8: ≥ 12 | Q8: 3 | R8: Y | S8: 1 | T8: Hybird | U8: 1 | V8: European Association of Nuclear Medicine | W8: Y | X8: 1 | Y8: 0 | Z8: 0 | AA8: 0 | AB8: 0 | AC8: 0 | AD8: 0 | AE8: 0 | AF8: 0 | AG8: 0 | AH8: 0 | AI8: N/a | AJ8: N/a
A9: 8 | B9: Radiologia Medica | C9: ☑️ | D9: 8.9 | E9: 5396 | F9: 136 | G9: Q1 | H9: 1 | I9: Springer | J9: Springer | K9: 1 | L9: Italy | M9: Europe | N9: 2 | O9: 12 | P9: ≥ 12 | Q9: 3 | R9: Y | S9: 1 | T9: Hybird | U9: 1 | V9: Italian Society of Medical and Interventional Radiology | W9: Y | X9: 1 | Y9: 0 | Z9: 0 | AA9: 0 | AB9: 0 | AC9: 0 | AD9: 0 | AE9: 0 | AF9: 0 | AG9: 0 | AH9: 0 | AI9: N/a | AJ9: N/a
A10: 9 | B10: Photoacoustics | C10: ☑️ | D10: 7.9 | E10: 2551 | F10: 94 | G10: Q1 | H10: 1 | I10: Elsevier | J10: Elsevier | K10: 2 | L10: Netherlands | M10: Europe | N10: 2 | O10: 4 | P10: < 6 | Q10: 1 | R10: N | S10: 2 | T10: Open | U10: 2 | V10: None | W10: N | X10: 2 | Y10: 1 | Z10: 1 | AA10: 1 | AB10: 1 | AC10: 1 | AD10: 1 | AE10: 0 | AF10: 1 | AG10: 1 | AH10: 0 | AI10: Hyperlink | AJ10: 3
A11: 10 | B11: Circulation-Cardiovascular Imaging | C11: ☑️ | D11: 7.5 | E11: 8076 | F11: 53 | G11: Q1 | H11: 1 | I11: Lippincott Williams & Wilkins | J11: Lippincott Williams & Wilkins | K11: 5 | L11: USA | M11: North America | N11: 1 | O11: 12 | P11: ≥ 12 | Q11: 3 | R11: N | S11: 2 | T11: Hybird | U11: 1 | V11: American Heart Association | W11: Y | X11: 1 | Y11: 0 | Z11: 0 | AA11: 0 | AB11: 0 | AC11: 0 | AD11: 0 | AE11: 0 | AF11: 0 | AG11: 0 | AH11: 0 | AI11: N/a | AJ11: N/a
A12: 11 | B12: ULTRASOUND IN OBSTETRICS & GYNECOLOGY | C12: ☑️ | D12: 7.1 | E12: 17581 | F12: 160 | G12: Q1 | H12: 1 | I12: Wiley | J12: Wiley | K12: 4 | L12: USA | M12: North America | N12: 1 | O12: 12 | P12: ≥ 12 | Q12: 3 | R12: N | S12: 2 | T12: Hybird | U12: 1 | V12: International Society of Ultrasound in Obstetrics and Gynecology | W12: Y | X12: 1 | Y12: 0 | Z12: 0 | AA12: 0 | AB12: 0 | AC12: 0 | AD12: 0 | AE12: 0 | AF12: 0 | AG12: 0 | AH12: 0 | AI12: N/a | AJ12: N/a
A13: 12 | B13: INTERNATIONAL JOURNAL OF RADIATION ONCOLOGY BIOLOGY PHYSICS | C13: ☑️ | D13: 7 | E13: 46275 | F13: 280 | G13: Q1 | H13: 1 | I13: Elsevier | J13: Elsevier | K13: 2 | L13: USA | M13: North America | N13: 1 | O13: 15 | P13: ≥ 12 | Q13: 3 | R13: N | S13: 2 | T13: Hybird | U13: 1 | V13: American Society for Radiation Oncology | W13: Y | X13: 1 | Y13: 1 | Z13: 1 | AA13: 1 | AB13: 1 | AC13: 1 | AD13: 1 | AE13: 0 | AF13: 1 | AG13: 1 | AH13: 0 | AI13: Hyperlink | AJ13: 3
A14: 13 | B14: INVESTIGATIVE RADIOLOGY | C14: ☑️ | D14: 6.7 | E14: 6838 | F14: 87 | G14: Q1 | H14: 1 | I14: Lippincott Williams & Wilkins | J14: Lippincott Williams & Wilkins | K14: 5 | L14: USA | M14: North America | N14: 1 | O14: 12 | P14: ≥ 12 | Q14: 3 | R14: Y | S14: 1 | T14: Hybird | U14: 1 | V14: None | W14: N | X14: 2 | Y14: 0 | Z14: 0 | AA14: 0 | AB14: 0 | AC14: 0 | AD14: 0 | AE14: 0 | AF14: 0 | AG14: 0 | AH14: 0 | AI14: N/a | AJ14: N/a
