Workbook

Sheet JCR_Data
A1: No | B1: Journal name | C1: JCR Abbreviation | D1: ISSN | E1: eISSN | F1: Category | G1: Total Citations | H1: 2022 JIF | I1: JIF Quartile | J1: 2022 JCI | K1: % of OA Gold | L1: JIF Rank | M1: 5 Year JIF | N1: 5 Year JIF Quartile | O1: JIF Without Self Cites | P1: Immediacy Index | Q1: JCI Rank | R1: JCI Quartile | S1: JCI Percentile | T1: Eigenfactor | U1: Normalized Eigenfactor | V1: Article Influence Score | W1: JIF Percentile | X1: AIS Quartile | Y1: Total Articles | Z1: Citing Half-Life | AA1: Cited Half-Life | AB1: % of Articles in Citable items | AC1: Citable Items
A2: 1 | B2: RADIOLOGY | C2: RADIOLOGY | D2: 0033-8419 | E2: N/A | F2: RADIOLOGY, NUCLEAR MEDICINE & MEDICAL IMAGING - SCIE | G2: 64,735 | H2: 19.7 | I2: Q1 | J2: 5.34 | K2: 2.15% | L2: 1/135 | M2: 14.1 | N2: Q1 | O2: 19.1 | P2: 4.6 | Q2: 1/203 | R2: Q1 | S2: 99.75 | T2: 0.05179 | U2: 11.27167 | V2: 3.740 | W2: 99.6 | X2: Q1 | Y2: 237 | Z2: 5.6 | AA2: 9.1 | AB2: 89.43% | AC2: 265
A3: 2 | B3: JACC-Cardiovascular Imaging | C3: JACC-CARDIOVASC IMAG | D3: 1936-878X | E3: 1876-7591 | F3: RADIOLOGY, NUCLEAR MEDICINE & MEDICAL IMAGING - SCIE | G3: 16,914 | H3: 14.0 | I3: Q1 | J3: 3.25 | K3: 67.87% | L3: 2/135 | M3: 14.6 | N3: Q1 | O3: 13.2 | P3: 6.2 | Q3: 2/203 | R3: Q1 | S3: 99.26 | T3: 0.03173 | U3: 6.90688 | V3: 5.327 | W3: 98.9 | X3: Q1 | Y3: 106 | Z3: 5.8 | AA3: 4.6 | AB3: 92.17% | AC3: 115
A4: 3 | B4: MEDICAL IMAGE ANALYSIS | C4: MED IMAGE ANAL | D4: 1361-8415 | E4: 1361-8423 | F4: RADIOLOGY, NUCLEAR MEDICINE & MEDICAL IMAGING - SCIE | G4: 19,500 | H4: 10.9 | I4: Q1 | J4: 2.65 | K4: 30.57% | L4: 3/135 | M4: 13.7 | N4: Q1 | O4: 10.2 | P4: 1.7 | Q4: 3/203 | R4: Q1 | S4: 98.77 | T4: 0.02640 | U4: 5.74560 | V4: 3.026 | W4: 98.1 | X4: Q1 | Y4: 269 | Z4: 4.6 | AA4: 4.1 | AB4: 98.18% | AC4: 274
A5: 4 | B5: CLINICAL NUCLEAR MEDICINE | C5: CLIN NUCL MED | D5: 0363-9762 | E5: 1536-0229 | F5: RADIOLOGY, NUCLEAR MEDICINE & MEDICAL IMAGING - SCIE | G5: 6,883 | H5: 10.6 | I5: Q1 | J5: 1.16 | K5: 11.02% | L5: 4/135 | M5: 8.0 | N5: Q1 | O5: 7.3 | P5: 4.3 | Q5: 33/203 | R5: Q1 | S5: 83.99 | T5: 0.00562 | U5: 1.22509 | V5: 1.507 | W5: 97.4 | X5: Q1 | Y5: 81 | Z5: 6.3 | AA5: 5.4 | AB5: 96.43% | AC5: 84
A6: 5 | B6: IEEE TRANSACTIONS ON MEDICAL IMAGING | C6: IEEE T MED IMAGING | D6: 0278-0062 | E6: 1558-254X | F6: RADIOLOGY, NUCLEAR MEDICINE & MEDICAL IMAGING - SCIE | G6: 34,640 | H6: 10.6 | I6: Q1 | J6: 2.38 | K6: 15.81% | L6: 4/135 | M6: 11.7 | N6: Q1 | O6: 10.0 | P6: 2.1 | Q6: 6/203 | R6: Q1 | S6: 97.29 | T6: 0.03376 | U6: 7.34782 | V6: 2.661 | W6: 97.4 | X6: Q1 | Y6: 319 | Z6: 5.2 | AA6: 5.8 | AB6: 100.00% | AC6: 319
A7: 6 | B7: JOURNAL OF NUCLEAR MEDICINE | C7: J NUCL MED | D7: 0161-5505 | E7: 1535-5667 | F7: RADIOLOGY, NUCLEAR MEDICINE & MEDICAL IMAGING - SCIE | G7: 31,896 | H7: 9.3 | I7: Q1 | J7: 2.57 | K7: 13.49% | L7: 6/135 | M7: 9.0 | N7: Q1 | O7: 8.5 | P7: 4.6 | Q7: 4/203 | R7: Q1 | S7: 98.28 | T7: 0.02644 | U7: 5.75609 | V7: 2.261 | W7: 95.9 | X7: Q1 | Y7: 262 | Z7: 5.6 | AA7: 7.5 | AB7: 98.50% | AC7: 266
A8: 7 | B8: EUROPEAN JOURNAL OF NUCLEAR MEDICINE AND MOLECULAR IMAGING | C8: EUR J NUCL MED MOL I | D8: 1619-7070 | E8: 1619-7089 | F8: RADIOLOGY, NUCLEAR MEDICINE & MEDICAL IMAGING - SCIE | G8: 23,232 | H8: 9.1 | I8: Q1 | J8: 2.39 | K8: 44.86% | L8: 7/135 | M8: 8.7 | N8: Q1 | O8: 8.2 | P8: 2.0 | Q8: 5/203 | R8: Q1 | S8: 97.78 | T8: 0.02656 | U8: 5.78205 | V8: 2.055 | W8: 95.2 | X8: Q1 | Y8: 294 | Z8: 5.1 | AA8: 4.9 | AB8: 92.45% | AC8: 318
A9: 8 | B9: Radiologia Medica | C9: RADIOL MED | D9: 0033-8362 | E9: 1826-6983 | F9: RADIOLOGY, NUCLEAR MEDICINE & MEDICAL IMAGING - SCIE | G9: 5,396 | H9: 8.9 | I9: Q1 | J9: 1.76 | K9: 21.15% | L9: 8/135 | M9: 5.5 | N9: Q1 | O9: 8.2 | P9: 1.0 | Q9: 11/203 | R9: Q1 | S9: 94.83 | T9: 0.00520 | U9: 1.13317 | V9: 0.843 | W9: 94.4 | X9: Q2 | Y9: 122 | Z9: 5.5 | AA9: 2.8 | AB9: 89.71% | AC9: 136
A10: 9 | B10: Photoacoustics | C10: PHOTOACOUSTICS | D10: 2213-5979 | E10: 2213-5979 | F10: RADIOLOGY, NUCLEAR MEDICINE & MEDICAL IMAGING - SCIE | G10: 2,551 | H10: 7.9 | I10: Q1 | J10: 2.14 | K10: 88.57% | L10: 9/135 | M10: 8.6 | N10: Q1 | O10: 6.6 | P10: 2.4 | Q10: 9/203 | R10: Q1 | S10: 95.81 | T10: 0.00360 | U10: 0.78366 | V10: 1.729 | W10: 93.7 | X10: Q1 | Y10: 92 | Z10: 5.8 | AA10: 2.7 | AB10: 97.87% | AC10: 94
A11: 10 | B11: Circulation-Cardiovascular Imaging | C11: CIRC-CARDIOVASC IMAG | D11: 1941-9651 | E11: 1942-0080 | F11: RADIOLOGY, NUCLEAR MEDICINE & MEDICAL IMAGING - SCIE | G11: 8,076 | H11: 7.5 | I11: Q1 | J11: 1.59 | K11: 13.09% | L11: 10/135 | M11: 8.6 | N11: Q1 | O11: 7.3 | P11: 1.9 | Q11: 15/203 | R11: Q1 | S11: 92.86 | T11: 0.01104 | U11: 2.40453 | V11: 3.175 | W11: 93.0 | X11: Q1 | Y11: 53 | Z11: 8.0 | AA11: 6.5 | AB11: 100.00% | AC11: 53
A12: 11 | B12: ULTRASOUND IN OBSTETRICS & GYNECOLOGY | C12: ULTRASOUND OBST GYN | D12: 0960-7692 | E12: 1469-0705 | F12: RADIOLOGY, NUCLEAR MEDICINE & MEDICAL IMAGING - SCIE | G12: 17,581 | H12: 7.1 | I12: Q1 | J12: 2.24 | K12: 17.61% | L12: 11/135 | M12: 7.1 | N12: Q1 | O12: 6.1 | P12: 2.4 | Q12: 7/203 | R12: Q1 | S12: 96.80 | T12: 0.01696 | U12: 3.69185 | V12: 2.074 | W12: 92.2 | X12: Q1 | Y12: 140 | Z12: 7.1 | AA12: 7.6 | AB12: 87.50% | AC12: 160
A13: 12 | B13: INTERNATIONAL JOURNAL OF RADIATION ONCOLOGY BIOLOGY PHYSICS | C13: INT J RADIAT ONCOL | D13: 0360-3016 | E13: 1879-355X | F13: RADIOLOGY, NUCLEAR MEDICINE & MEDICAL IMAGING - SCIE | G13: 46,275 | H13: 7.0 | I13: Q1 | J13: 1.57 | K13: 16.54% | L13: 12/135 | M13: 6.6 | N13: Q1 | O13: 6.5 | P13: 2.2 | Q13: 16/203 | R13: Q1 | S13: 92.36 | T13: 0.03240 | U13: 7.05196 | V13: 1.965 | W13: 91.5 | X13: Q1 | Y13: 264 | Z13: 6.1 | AA13: 10.8 | AB13: 94.29% | AC13: 280
... A204: 203 | B204: Imagen Diagnostica | C204: IMAGEN DIAGN | D204: 2171-3669 | E204: 2171-9705 | F204: RADIOLOGY, NUCLEAR MEDICINE & MEDICAL IMAGING - ESCI | G204: 10 | H204: <0.1 | I204: N/A | J204: 0.01 | K204: 0.00% | L204: N/A | M204: 0.1 | N204: N/A | O204: <0.1 | P204: <0.1 | Q204: 202/203 | R204: Q4 | S204: 0.74 | T204: 0.00000 | U204: 0.00214 | V204: 0.033 | W204: N/A | X204: Q4 | Y204: 6 | Z204: N/A | AA204: N/A | AB204: 100.00% | AC204: 6

Sheet Screen
A1: No | B1: Journal name | C1: Inclusion | D1: 2022 JIF | E1: JIF Quartile | F1: Publisher | G1: Region | H1: Publication frequency | I1: Only in Radiology | J1: Publication model | K1: Homepage | L1: Offical Journal | M1: Submission Guideline
A2: 1 | B2: RADIOLOGY | C2: ☑️ | D2: 19.7 | E2: Q1 | F2: Society | G2: USA | H2: 12 | I2: Y | J2: Hybird | K2: https://pubs.rsna.org/journal/radiology | L2: Radiological Society of North America | M2: https://pubs.rsna.org/page/radiology/author-instructions
A3: 2 | B3: JACC-Cardiovascular Imaging | C3: ☑️ | D3: 14 | E3: Q1 | F3: Elsevier | G3: USA | H3: 12 | I3: N | J3: Hybird | K3: https://www.jacc.org/journal/imaging | L3: American College of Cardiology | M3: https://www.jacc.org/pb-assets/documents/author-instructions-jacc-imaging-1688567245837.pdf
A4: 3 | B4: MEDICAL IMAGE ANALYSIS | C4: ☑️ | D4: 10.9 | E4: Q1 | F4: Elsevier | G4: Netherlands | H4: 8 | I4: N | J4: Hybird | K4: https://www.sciencedirect.com/journal/medical-image-analysis/ | L4: The Medical Image Computing and Computer Assisted Intervention Society | M4: https://www.elsevier.com/journals/medical-image-analysis/1361-8415/guide-for-authors
A5: 4 | B5: CLINICAL NUCLEAR MEDICINE | C5: ☑️ | D5: 10.6 | E5: Q1 | F5: Lippincott Williams & Wilkins | G5: USA | H5: 12 | I5: Y | J5: Hybird | K5: https://journals.lww.com/nuclearmed/pages/default.aspx | L5: American College of Nuclear Medicine | M5: https://edmgr.ovid.com/cnm/accounts/ifauth.htm
A6: 5 | B6: IEEE TRANSACTIONS ON MEDICAL IMAGING | C6: ☑️ | D6: 10.6 | E6: Q1 | F6: Society | G6: USA | H6: 12 | I6: N | J6: Hybird | K6: https://www.embs.org/tmi/ | L6: IEEE Engineering in Medicine and Biology Society | M6: https://ieeetmi.org/authors-instructions
A7: 6 | B7: JOURNAL OF NUCLEAR MEDICINE | C7: ☑️ | D7: 9.3 | E7: Q1 | F7: Society | G7: USA | H7: 12 | I7: Y | J7: Hybird | K7: https://jnm.snmjournals.org | L7: Society of Nuclear Medicine and Molecular Imaging | M7: https://jnm.snmjournals.org/sites/default/files/additional-assets/JNMInfoforAuthors_11082022.pdf
A8: 7 | B8: EUROPEAN JOURNAL OF NUCLEAR MEDICINE AND MOLECULAR IMAGING | C8: ☑️ | D8: 9.1 | E8: Q1 | F8: Springer | G8: Germany | H8: 12 | I8: Y | J8: Hybird | K8: https://www.springer.com/journal/259 | L8: European Association of Nuclear Medicine | M8: https://www.springer.com/journal/259/submission-guidelines
A9: 8 | B9: Radiologia Medica | C9: ☑️ | D9: 8.9 | E9: Q1 | F9: Springer | G9: Italy | H9: 12 | I9: Y | J9: Hybird | K9: https://www.springer.com/journal/11547 | L9: Italian Society of Medical and Interventional Radiology | M9: https://www.springer.com/journal/11547/submission-guidelines
A10: 9 | B10: Photoacoustics | C10: ☑️ | D10: 7.9 | E10: Q1 | F10: Elsevier | G10: Netherlands | H10: 4 | I10: N | J10: Open | K10: https://www.sciencedirect.com/journal/photoacoustics | L10: None | M10: https://www.elsevier.com/journals/photoacoustics/2213-5979/guide-for-authors
A11: 10 | B11: Circulation-Cardiovascular Imaging | C11: ☑️ | D11: 7.5 | E11: Q1 | F11: Lippincott Williams & Wilkins | G11: USA | H11: 12 | I11: N | J11: Hybird | K11: https://www.ahajournals.org/journal/circimaging | L11: American Heart Association | M11: https://www.ahajournals.org/circimaging/author-instructions
A12: 11 | B12: ULTRASOUND IN OBSTETRICS & GYNECOLOGY | C12: ☑️ | D12: 7.1 | E12: Q1 | F12: Wiley | G12: USA | H12: 12 | I12: N | J12: Hybird | K12: https://obgyn.onlinelibrary.wiley.com/journal/14690705/ | L12: International Society of Ultrasound in Obstetrics and Gynecology | M12: https://obgyn.onlinelibrary.wiley.com/hub/journal/14690705/about/author-guidelines
A13: 12 | B13: INTERNATIONAL JOURNAL OF RADIATION ONCOLOGY BIOLOGY PHYSICS | C13: ☑️ | D13: 7 | E13: Q1 | F13: Elsevier | G13: USA | H13: 15 | I13: N | J13: Hybird | K13: https://www.sciencedirect.com/journal/international-journal-of-radiation-oncology-biology-physics | L13: American Society for Radiation Oncology | M13: https://www.astro.org/News-and-Publications/Journals/Author-Instructions
... A47: 46 | B47: RADIATION RESEARCH | C47: ☑️ | D47: 3.4 | E47: Q2 | F47: Society | G47: USA | H47: 12 | I47: N | J47: Hybird | K47: https://meridian.allenpress.com/radiation-research | L47: Radiation Research Society | M47: https://meridian.allenpress.com/DocumentLibrary/RADE/RARE_Info_for_Authors_5-30-2018.pdf
A48: 47 | B48: ULTRASCHALL IN DER MEDIZIN | C48: German | D48: 3.4 | E48: Q2 | F48: N/a | G48: N/a | H48: N/a | I48: N/a | J48: N/a | K48: N/a | L48: N/a | M48: N/a
A49: 48 | B49: DENTOMAXILLOFACIAL RADIOLOGY | C49: ☑️ | D49: 3.3 | E49: Q2 | F49: Society | G49: England | H49: 8 | I49: N | J49: Hybird | K49: https://www.birpublications.org/journal/dmfr | L49: British Institute of Radiology | M49: https://www.birpublications.org/page/ifa/dmfr
A50: 49 | B50: EUROPEAN JOURNAL OF RADIOLOGY | C50: ☑️ | D50: 3.3 | E50: Q2 | F50: Elsevier | G50: Ireland | H50: 12 | I50: Y | J50: Hybird | K50: https://www.sciencedirect.com/journal/european-journal-of-radiology | L50: None | M50: https://www.elsevier.com/journals/european-journal-of-radiology/0720-048X/guide-for-authors
A51: 50 | B51: JOURNAL OF THORACIC IMAGING | C51: ☑️ | D51: 3.3 | E51: Q2 | F51: Lippincott Williams & Wilkins | G51: USA | H51: 6 | I51: Y | J51: Hybird | K51: https://journals.lww.com/thoracicimaging/pages/default.aspx | L51: Society of Thoracic Radiology | M51: https://edmgr.ovid.com/jti/accounts/ifauth.htm
A52: 51 | B52: MAGNETIC RESONANCE IN MEDICINE | C52: ☑️ | D52: 3.3 | E52: Q2 | F52: Wiley | G52: USA | H52: 12 | I52: Y | J52: Hybird | K52: https://onlinelibrary.wiley.com/journal/15222594 | L52: International Society for Magnetic Resonance in Medicine: | M52: https://onlinelibrary.wiley.com/pb-assets/assets/15222594/authorguidelinesdec22-1671206311.pdf
A53: 52 | B53: Practical Radiation Oncology | C53: ☑️ | D53: 3.3 | E53: Q2 | F53: Elsevier | G53: USA | H53: 6 | I53: N | J53: Hybird | K53: https://www.practicalradonc.org | L53: American Society for Radiation Oncology | M53: https://www.astro.org/News-and-Publications/Journals/Author-Instructions
A54: 53 | B54: EJNMMI Research | C54: ☑️ | D54: 3.2 | E54: Q2 | F54: Springer | G54: Germany | H54: 1 | I54: Y | J54: Open | K54: https://ejnmmires.springeropen.com | L54: American College of Nuclear Medicine | M54: https://ejnmmires.springeropen.com/submission-guidelines
A55: 54 | B55: CANADIAN ASSOCIATION OF RADIOLOGISTS JOURNAL-JOURNAL DE L ASSOCIATION CANADIENNE DES RADIOLOGISTES | C55: ☑️ | D55: 3.1 | E55: Q2 | F55: SAGE | G55: Canada | H55: 1 | I55: Y | J55: Hybird | K55: https://journals.sagepub.com/home/caj | L55: Canadian Association of Radiologists | M55: https://journals.sagepub.com/author-instructions/CAJ
A56: 55 | B56: Clinical and Translational Radiation Oncology | C56: ☑️ | D56: 3.1 | E56: Q2 | F56: Elsevier | G56: Ireland | H56: 6 | I56: N | J56: Open | K56: https://www.sciencedirect.com/journal/clinical-and-translational-radiation-oncology?utm_medium=SRCH&dgcid=STMJ_1648021317_SC&utm_source=B&utm_campaign=STMJ_1648021317_SC | L56: European Society for Radiotherapy & Oncology | M56: https://www.elsevier.com/journals/clinical-and-translational-radiation-oncology/2405-6308/guide-for-authors
A57: 56 | B57: INTERNATIONAL JOURNAL OF HYPERTHERMIA | C57: ☑️ | D57: 3.1 | E57: Q2 | F57: Taylor & Francis | G57: England | H57: 8 | I57: N | J57: Open | K57: https://www.tandfonline.com/journals/ihyt20?utm_source=TFO&utm_medium=cms&utm_campaign=JRA25531 | L57: Society for Thermal Medicine | M57: https://www.tandfonline.com/action/authorSubmission?show=instructions&journalCode=ihyt20
A58: 57 | B58: MOLECULAR IMAGING AND BIOLOGY | C58: ☑️ | D58: 3.1 | E58: Q2 | F58: Springer | G58: USA | H58: 6 | I58: Y | J58: Hybird | K58: https://www.springer.com/journal/11307 | L58: World Molecular Imaging Society | M58: https://www.springer.com/journal/11307/submission-guidelines
A59: 58 | B59: NUCLEAR MEDICINE AND BIOLOGY | C59: ☑️ | D59: 3.1 | E59: Q2 | F59: Elsevier | G59: USA | H59: 8 | I59: Y | J59: Hybird | K59: https://www.sciencedirect.com/journal/nuclear-medicine-and-biology | L59: Society of Radiopharmaceutical Sciences | M59: https://www.elsevier.com/journals/nuclear-medicine-and-biology/0969-8051/guide-for-authors
A60: 59 | B60: STRAHLENTHERAPIE UND ONKOLOGIE | C60: ☑️ | D60: 3.1 | E60: Q2 | F60: Springer | G60: Germany | H60: 12 | I60: N | J60: Hybird | K60: https://www.springer.com/journal/66 | L60: German Society of Radiation Oncology | M60: https://www.springer.com/journal/66/submission-guidelines
... A104: 103 | B104: Journal of Medical Ultrasonics | C104: ☑️ | D104: 1.8 | E104: Q4 | F104: Springer | G104: Japan | H104: 4 | I104: Y | J104: Hybird | K104: https://www.springer.com/journal/10396 | L104: Japan Society of Ultrasonics in Medicine. | M104: https://www.springer.com/journal/10396/submission-guidelines
A105: 104 | B105: ROFO-FORTSCHRITTE AUF DEM GEBIET DER RONTGENSTRAHLEN UND DER BILDGEBENDEN VERFAHREN | C105: German | D105: 1.8 | E105: Q4 | F105: N/a | G105: N/a | H105: N/a | I105: N/a | J105: N/a | K105: N/a | L105: N/a | M105: N/a
A106: 105 | B106: INTERVENTIONAL NEURORADIOLOGY | C106: ☑️ | D106: 1.7 | E106: Q4 | F106: SAGE | G106: Italy | H106: 4 | I106: N | J106: Hybird | K106: https://journals.sagepub.com/home/ine | L106: None | M106: https://journals.sagepub.com/author-instructions/INE
A107: 106 | B107: Medical Ultrasonography | C107: ☑️ | D107: 1.7 | E107: Q4 | F107: Society | G107: Romania | H107: 4 | I107: N | J107: Open | K107: https://www.medultrason.ro/medultrason/index.php/medultrason | L107: Romanian Society for Ultrasonography in Medicine and Biology | M107: https://www.medultrason.ro/medultrason/index.php/medultrason/about/submissions#authorGuidelines
A108: 107 | B108: RADIATION AND ENVIRONMENTAL BIOPHYSICS | C108: ☑️ | D108: 1.7 | E108: Q4 | F108: Springer | G108: Germany | H108: 4 | I108: N | J108: Hybird | K108: https://www.springer.com/journal/411 | L108: None | M108: https://www.springer.com/journal/411/submission-guidelines
A109: 108 | B109: Applied Radiation and Isotopes | C109: ☑️ | D109: 1.6 | E109: Q4 | F109: Elsevier | G109: USA | H109: 12 | I109: N | J109: Hybird | K109: https://www.sciencedirect.com/journal/applied-radiation-and-isotopes | L109: None | M109: https://www.elsevier.com/journals/applied-radiation-and-isotopes/0969-8043/guide-for-authors
A110: 109 | B110: Journal of Medical Imaging and Radiation Oncology | C110: ☑️ | D110: 1.6 | E110: Q4 | F110: Wiley | G110: Australia | H110: 8 | I110: Y | J110: Hybird | K110: https://onlinelibrary.wiley.com/journal/17549485/ | L110: Royal Australian and New Zealand College of Radiologists | M110: https://onlinelibrary.wiley.com/page/journal/17549485/homepage/forauthors.html
A111: 110 | B111: Magnetic Resonance Imaging Clinics of North America | C111: ☑️ | D111: 1.6 | E111: Q4 | F111: Elsevier | G111: USA | H111: 4 | I111: Y | J111: Hybird | K111: https://www.mri.theclinics.com | L111: None | M111: https://www.theclinics.com/authorinformation
A112: 111 | B112: Hellenic Journal of Nuclear Medicine | C112: ☑️ | D112: 1.5 | E112: Q4 | F112: Society | G112: Greece | H112: 3 | I112: Y | J112: Open | K112: https://www.nuclmed.gr/about/ | L112: Hellenic Society of Nuclear Medicine | M112: https://www.nuclmed.gr/wp/wp-content/uploads/2017/04/instructions-to-authors-en.pdf
A113: 112 | B113: JOURNAL OF RADIOLOGICAL PROTECTION | C113: ☑️ | D113: 1.5 | E113: Q4 | F113: IOP | G113: England | H113: 4 | I113: N | J113: Hybird | K113: https://iopscience.iop.org/journal/0952-4746 | L113: Society for Radiological Protection | M113: https://publishingsupport.iopscience.iop.org/journals/journal-of-radiological-protection/
A114: 113 | B114: NUCLEAR MEDICINE COMMUNICATIONS | C114: ☑️ | D114: 1.5 | E114: Q4 | F114: Lippincott Williams & Wilkins | G114: USA | H114: 12 | I114: Y | J114: Hybird | K114: https://journals.lww.com/nuclearmedicinecomm/Pages/default.aspx | L114: British Nuclear Medicine Society | M114: https://edmgr.ovid.com/nmc/accounts/ifauth.htm
A115: 114 | B115: NUKLEARMEDIZIN-NUCLEAR MEDICINE | C115: German | D115: 1.5 | E115: Q4 | F115: N/a | G115: N/a | H115: N/a | I115: N/a | J115: N/a | K115: N/a | L115: N/a | M115: N/a
A116: 115 | B116: QUARTERLY JOURNAL OF NUCLEAR MEDICINE AND MOLECULAR IMAGING | C116: ☑️ | D116: 1.5 | E116: Q4 | F116: Edizioni Minerva Medica | G116: Italy | H116: 4 | I116: Y | J116: Hybird | K116: https://www.minervamedica.it/en/journals/nuclear-med-molecular-imaging/index.php | L116: Society of Radiopharmaceutical Sciences | M116: https://www.minervamedica.it/en/journals/nuclear-med-molecular-imaging/notice-to-authors.php
...

Sheet R_1
A1: No | B1: Journal name | C1: Inclusion | D1: R_1 | E1: Date | F1: 2022 JIF | G1: JIF Quartile | H1: Publisher | I1: Region | J1: Publication frequency | K1: Only in Radiology | L1: Publication model | M1: Homepage | N1: Offical Journal | O1: Submission Guideline | P1: Present | Q1: Author | R1: Reviewer | S1: Editor | T1: 1.Use | U1: 2.Tool | V1: 3.Section | W1: 4.Role | X1: 5.Verification | Y1: 6.Influence
A2: 1 | B2: RADIOLOGY | C2: ☑️ | D2: ZJY | E2: 45287 | F2: 19.7 | G2: Q1 | H2: Society | I2: USA | J2: 12 | K2: Y | L2: Hybird | M2: https://pubs.rsna.org/journal/radiology | N2: Radiological Society of North America | O2: https://pubs.rsna.org/page/radiology/author-instructions | P2: 1 | Q2: 1 | R2: 1 | S2: 0 | T2: 1 | U2: 1 | V2: 0 | W2: 1 | X2: 1 | Y2: 0
A3: 2 | B3: JACC-Cardiovascular Imaging | C3: ☑️ | D3: ZJY | E3: 45286 | F3: 14 | G3: Q1 | H3: Elsevier | I3: USA | J3: 12 | K3: N | L3: Hybird | M3: https://www.jacc.org/journal/imaging | N3: American College of Cardiology | O3: https://www.jacc.org/pb-assets/documents/author-instructions-jacc-imaging-1688567245837.pdf | P3: 0 | Q3: 0 | R3: 0 | S3: 0 | T3: 0 | U3: 0 | V3: 0 | W3: 0 | X3: 0 | Y3: 0
A4: 3 | B4: MEDICAL IMAGE ANALYSIS | C4: ☑️ | D4: ZJY | E4: 45286 | F4: 10.9 | G4: Q1 | H4: Elsevier | I4: Netherlands | J4: 8 | K4: N | L4: Hybird | M4: https://www.sciencedirect.com/journal/medical-image-analysis/ | N4: The Medical Image Computing and Computer Assisted Intervention Society | O4: https://www.elsevier.com/journals/medical-image-analysis/1361-8415/guide-for-authors | P4: 1 | Q4: 1 | R4: 1 | S4: 1 | T4: 1 | U4: 1 | V4: 0 | W4: 1 | X4: 1 | Y4: 0
A5: 4 | B5: CLINICAL NUCLEAR MEDICINE | C5: ☑️ | D5: ZJY | E5: 45287 | F5: 10.6 | G5: Q1 | H5: Lippincott Williams & Wilkins | I5: USA | J5: 12 | K5: Y | L5: Hybird | M5: https://journals.lww.com/nuclearmed/pages/default.aspx | N5: American College of Nuclear Medicine | O5: https://edmgr.ovid.com/cnm/accounts/ifauth.htm | P5: 0 | Q5: 0 | R5: 0 | S5: 0 | T5: 0 | U5: 0 | V5: 0 | W5: 0 | X5: 0 | Y5: 0
A6: 5 | B6: IEEE TRANSACTIONS ON MEDICAL IMAGING | C6: ☑️ | D6: ZJY | E6: 45287 | F6: 10.6 | G6: Q1 | H6: Society | I6: USA | J6: 12 | K6: N | L6: Hybird | M6: https://www.embs.org/tmi/ | N6: IEEE Engineering in Medicine and Biology Society | O6: https://ieeetmi.org/authors-instructions | P6: 0 | Q6: 0 | R6: 0 | S6: 0 | T6: 0 | U6: 0 | V6: 0 | W6: 0 | X6: 0 | Y6: 0
A7: 6 | B7: JOURNAL OF NUCLEAR MEDICINE | C7: ☑️ | D7: ZJY | E7: 45287 | F7: 9.3 | G7: Q1 | H7: Society | I7: USA | J7: 12 | K7: Y | L7: Hybird | M7: https://jnm.snmjournals.org | N7: Society of Nuclear Medicine and Molecular Imaging | O7: https://jnm.snmjournals.org/sites/default/files/additional-assets/JNMInfoforAuthors_11082022.pdf | P7: 0 | Q7: 0 | R7: 0 | S7: 0 | T7: 0 | U7: 0 | V7: 0 | W7: 0 | X7: 0 | Y7: 0
A8: 7 | B8: EUROPEAN JOURNAL OF NUCLEAR MEDICINE AND MOLECULAR IMAGING | C8: ☑️ | D8: ZJY | E8: 45286 | F8: 9.1 | G8: Q1 | H8: Springer | I8: Germany | J8: 12 | K8: Y | L8: Hybird | M8: https://www.springer.com/journal/259 | N8: European Association of Nuclear Medicine | O8: https://www.springer.com/journal/259/submission-guidelines | P8: 0 | Q8: 0 | R8: 0 | S8: 0 | T8: 0 | U8: 0 | V8: 0 | W8: 0 | X8: 0 | Y8: 0
A9: 8 | B9: Radiologia Medica | C9: ☑️ | D9: ZJY | E9: 45286 | F9: 8.9 | G9: Q1 | H9: Springer | I9: Italy | J9: 12 | K9: Y | L9: Hybird | M9: https://www.springer.com/journal/11547 | N9: Italian Society of Medical and Interventional Radiology | O9: https://www.springer.com/journal/11547/submission-guidelines | P9: 0 | Q9: 0 | R9: 0 | S9: 0 | T9: 0 | U9: 0 | V9: 0 | W9: 0 | X9: 0 | Y9: 0
A10: 9 | B10: Photoacoustics | C10: ☑️ | D10: ZJY | E10: 45286 | F10: 7.9 | G10: Q1 | H10: Elsevier | I10: Netherlands | J10: 4 | K10: N | L10: Open | M10: https://www.sciencedirect.com/journal/photoacoustics | N10: None | O10: https://www.elsevier.com/journals/photoacoustics/2213-5979/guide-for-authors | P10: 1 | Q10: 1 | R10: 1 | S10: 1 | T10: 1 | U10: 1 | V10: 0 | W10: 1 | X10: 1 | Y10: 0
A11: 10 | B11: Circulation-Cardiovascular Imaging | C11: ☑️ | D11: ZJY | E11: 45287 | F11: 7.5 | G11: Q1 | H11: Lippincott Williams & Wilkins | I11: USA | J11: 12 | K11: N | L11: Hybird | M11: https://www.ahajournals.org/journal/circimaging | N11: American Heart Association | O11: https://www.ahajournals.org/circimaging/author-instructions | P11: 0 | Q11: 0 | R11: 0 | S11: 0 | T11: 0 | U11: 0 | V11: 0 | W11: 0 | X11: 0 | Y11: 0
A12: 11 | B12: ULTRASOUND IN OBSTETRICS & GYNECOLOGY | C12: ☑️ | D12: ZJY | E12: 45287 | F12: 7.1 | G12: Q1 | H12: Wiley | I12: USA | J12: 12 | K12: N | L12: Hybird | M12: https://obgyn.onlinelibrary.wiley.com/journal/14690705/ | N12: International Society of Ultrasound in Obstetrics and Gynecology | O12: https://obgyn.onlinelibrary.wiley.com/hub/journal/14690705/about/author-guidelines | P12: 0 | Q12: 0 | R12: 0 | S12: 0 | T12: 0 | U12: 0 | V12: 0 | W12: 0 | X12: 0 | Y12: 0
A13: 12 | B13: INTERNATIONAL JOURNAL OF RADIATION ONCOLOGY BIOLOGY PHYSICS | C13: ☑️ | D13: ZJY | E13: 45286 | F13: 7 | G13: Q1 | H13: Elsevier | I13: USA | J13: 15 | K13: N | L13: Hybird | M13: https://www.sciencedirect.com/journal/international-journal-of-radiation-oncology-biology-physics | N13: American Society for Radiation Oncology | O13: https://www.astro.org/News-and-Publications/Journals/Author-Instructions | P13: 1 | Q13: 1 | R13: 1 | S13: 1 | T13: 1 | U13: 1 | V13: 0 | W13: 1 | X13: 1 | Y13: 0
... A42: 41 | B42: PHYSICS IN MEDICINE AND BIOLOGY | C42: ☑️ | D42: ZJY | E42: 45287 | F42: 3.5 | G42: Q2 | H42: IOP | I42: England | J42: 24 | K42: N | L42: Hybird | M42: https://iopscience.iop.org/journal/0031-9155 | N42: Institute of Physics and Engineering in Medicine | O42: https://publishingsupport.iopscience.iop.org/journals/physics-in-medicine-biology/ | P42: 0 | Q42: 0 | R42: 0 | S42: 0 | T42: 0 | U42: 0 | V42: 0 | W42: 0 | X42: 0 | Y42: 0
A43: 42 | B43: SEMINARS IN RADIATION ONCOLOGY | C43: Not avaliable document | D43: ZJY | E43: 45286 | F43: 3.5 | G43: Q2 | H43: Elsevier | I43: USA | J43: 4 | K43: N | L43: Hybird | M43: https://www.sciencedirect.com/journal/seminars-in-radiation-oncology | N43: None | O43: https://www.sciencedirect.com/journal/seminars-in-radiation-oncology/publish/guide-for-authors | P43: N/a | Q43: N/a | R43: N/a | S43: N/a | T43: N/a | U43: N/a | V43: N/a | W43: N/a | X43: N/a | Y43: N/a
A44: 43 | B44: Biomedical Optics Express | C44: ☑️ | D44: ZJY | E44: 45287 | F44: 3.4 | G44: Q2 | H44: Optica Publishing Group | I44: USA | J44: 12 | K44: N | L44: Open | M44: https://opg.optica.org/boe/home.cfm | N44: None | O44: https://opg.optica.org/boe/author/author.cfm | P44: 0 | Q44: 0 | R44: 0 | S44: 0 | T44: 0 | U44: 0 | V44: 0 | W44: 0 | X44: 0 | Y44: 0
A45: 44 | B45: CANCER BIOTHERAPY AND RADIOPHARMACEUTICALS | C45: ☑️ | D45: ZJY | E45: 45287 | F45: 3.4 | G45: Q2 | H45: Mary Ann Libert | I45: USA | J45: 10 | K45: N | L45: Hybird | M45: https://home.liebertpub.com/publications/cancer-biotherapy-and-radiopharmaceuticals/8/ | N45: None | O45: https://home.liebertpub.com/publications/cancer-biotherapy-and-radiopharmaceuticals/8/for-authors#policies | P45: 0 | Q45: 0 | R45: 0 | S45: 0 | T45: 0 | U45: 0 | V45: 0 | W45: 0 | X45: 0 | Y45: 0
A46: 45 | B46: Physica Medica-European Journal of Medical Physics | C46: ☑️ | D46: ZJY | E46: 45286 | F46: 3.4 | G46: Q2 | H46: Elsevier | I46: Italy | J46: 8 | K46: Y | L46: Hybird | M46: https://www.physicamedica.com | N46: International Organization for Medical Physics | O46: https://www.physicamedica.com/content/authorinfo | P46: 1 | Q46: 1 | R46: 1 | S46: 1 | T46: 1 | U46: 1 | V46: 0 | W46: 1 | X46: 1 | Y46: 0
A47: 46 | B47: RADIATION RESEARCH | C47: ☑️ | D47: ZJY | E47: 45287 | F47: 3.4 | G47: Q2 | H47: Society | I47: USA | J47: 12 | K47: N | L47: Hybird | M47: https://meridian.allenpress.com/radiation-research | N47: Radiation Research Society | O47: https://meridian.allenpress.com/DocumentLibrary/RADE/RARE_Info_for_Authors_5-30-2018.pdf | P47: 0 | Q47: 0 | R47: 0 | S47: 0 | T47: 0 | U47: 0 | V47: 0 | W47: 0 | X47: 0 | Y47: 0
A48: 47 | B48: ULTRASCHALL IN DER MEDIZIN | C48: German | D48: N/a | E48: N/a | F48: 3.4 | G48: Q2 | H48: N/a | I48: N/a | J48: N/a | K48: N/a | L48: N/a | M48: N/a | N48: N/a | O48: N/a | P48: N/a | Q48: N/a | R48: N/a | S48: N/a | T48: N/a | U48: N/a | V48: N/a | W48: N/a | X48: N/a | Y48: N/a
A49: 48 | B49: DENTOMAXILLOFACIAL RADIOLOGY | C49: ☑️ | D49: ZJY | E49: 45287 | F49: 3.3 | G49: Q2 | H49: Society | I49: England | J49: 8 | K49: N | L49: Hybird | M49: https://www.birpublications.org/journal/dmfr | N49: British Institute of Radiology | O49: https://www.birpublications.org/page/ifa/dmfr | P49: 0 | Q49: 0 | R49: 0 | S49: 0 | T49: 0 | U49: 0 | V49: 0 | W49: 0 | X49: 0 | Y49: 0
A50: 49 | B50: EUROPEAN JOURNAL OF RADIOLOGY | C50: ☑️ | D50: ZJY | E50: 45286 | F50: 3.3 | G50: Q2 | H50: Elsevier | I50: Ireland | J50: 12 | K50: Y | L50: Hybird | M50: https://www.sciencedirect.com/journal/european-journal-of-radiology | N50: None | O50: https://www.elsevier.com/journals/european-journal-of-radiology/0720-048X/guide-for-authors | P50: 1 | Q50: 1 | R50: 1 | S50: 1 | T50: 1 | U50: 1 | V50: 0 | W50: 1 | X50: 1 | Y50: 0
A51: 50 | B51: JOURNAL OF THORACIC IMAGING | C51: ☑️ | D51: ZJY | E51: 45287 | F51: 3.3 | G51: Q2 | H51: Lippincott Williams & Wilkins | I51: USA | J51: 6 | K51: Y | L51: Hybird | M51: https://journals.lww.com/thoracicimaging/pages/default.aspx | N51: Society of Thoracic Radiology | O51: https://edmgr.ovid.com/jti/accounts/ifauth.htm | P51: 0 | Q51: 0 | R51: 0 | S51: 0 | T51: 0 | U51: 0 | V51: 0 | W51: 0 | X51: 0 | Y51: 0
A52: 51 | B52: MAGNETIC RESONANCE IN MEDICINE | C52: ☑️ | D52: ZJY | E52: 45287 | F52: 3.3 | G52: Q2 | H52: Wiley | I52: USA | J52: 12 | K52: Y | L52: Hybird | M52: https://onlinelibrary.wiley.com/journal/15222594 | N52: International Society for Magnetic Resonance in Medicine: | O52: https://onlinelibrary.wiley.com/pb-assets/assets/15222594/authorguidelinesdec22-1671206311.pdf | P52: 0 | Q52: 0 | R52: 0 | S52: 0 | T52: 0 | U52: 0 | V52: 0 | W52: 0 | X52: 0 | Y52: 0
A53: 52 | B53: Practical Radiation Oncology | C53: ☑️ | D53: ZJY | E53: 45286 | F53: 3.3 | G53: Q2 | H53: Elsevier | I53: USA | J53: 6 | K53: N | L53: Hybird | M53: https://www.practicalradonc.org | N53: American Society for Radiation Oncology | O53: https://www.astro.org/News-and-Publications/Journals/Author-Instructions | P53: 1 | Q53: 1 | R53: 1 | S53: 1 | T53: 1 | U53: 1 | V53: 0 | W53: 1 | X53: 1 | Y53: 0
A54: 53 | B54: EJNMMI Research | C54: ☑️ | D54: ZJY | E54: 45286 | F54: 3.2 | G54: Q2 | H54: Springer | I54: Germany | J54: 1 | K54: Y | L54: Open | M54: https://ejnmmires.springeropen.com | N54: American College of Nuclear Medicine | O54: https://ejnmmires.springeropen.com/submission-guidelines | P54: 1 | Q54: 1 | R54: 0 | S54: 0 | T54: 1 | U54: 0 | V54: 0 | W54: 0 | X54: 0 | Y54: 0
A55: 54 | B55: CANADIAN ASSOCIATION OF RADIOLOGISTS JOURNAL-JOURNAL DE L ASSOCIATION CANADIENNE DES RADIOLOGISTES | C55: ☑️ | D55: ZJY | E55: 45287 | F55: 3.1 | G55: Q2 | H55: SAGE | I55: Canada | J55: 1 | K55: Y | L55: Hybird | M55: https://journals.sagepub.com/home/caj | N55: Canadian Association of Radiologists | O55: https://journals.sagepub.com/author-instructions/CAJ | P55: 1 | Q55: 1 | R55: 1 | S55: 1 | T55: 1 | U55: 1 | V55: 0 | W55: 1 | X55: 1 | Y55: 1
A56: 55 | B56: Clinical and Translational Radiation Oncology | C56: ☑️ | D56: ZJY | E56: 45286 | F56: 3.1 | G56: Q2 | H56: Elsevier | I56: Ireland | J56: 6 | K56: N | L56: Open | M56: https://www.sciencedirect.com/journal/clinical-and-translational-radiation-oncology?utm_medium=SRCH&dgcid=STMJ_1648021317_SC&utm_source=B&utm_campaign=STMJ_1648021317_SC | N56: European Society for Radiotherapy & Oncology | O56: https://www.elsevier.com/journals/clinical-and-translational-radiation-oncology/2405-6308/guide-for-authors | P56: 1 | Q56: 1 | R56: 1 | S56: 1 | T56: 1 | U56: 1 | V56: 0 | W56: 1 | X56: 1 | Y56: 0
A57: 56 | B57: INTERNATIONAL JOURNAL OF HYPERTHERMIA | C57: ☑️ | D57: ZJY | E57: 45287 | F57: 3.1 | G57: Q2 | H57: Taylor & Francis | I57: England | J57: 8 | K57: N | L57: Open | M57: https://www.tandfonline.com/journals/ihyt20?utm_source=TFO&utm_medium=cms&utm_campaign=JRA25531 | N57: Society for Thermal Medicine | O57: https://www.tandfonline.com/action/authorSubmission?show=instructions&journalCode=ihyt20 | P57: 0 | Q57: 0 | R57: 0 | S57: 0 | T57: 0 | U57: 0 | V57: 0 | W57: 0 | X57: 0 | Y57: 0
A58: 57 | B58: MOLECULAR IMAGING AND BIOLOGY | C58: ☑️ | D58: ZJY | E58: 45286 | F58: 3.1 | G58: Q2 | H58: Springer | I58: USA | J58: 6 | K58: Y | L58: Hybird | M58: https://www.springer.com/journal/11307 | N58: World Molecular Imaging Society | O58: https://www.springer.com/journal/11307/submission-guidelines | P58: 0 | Q58: 0 | R58: 0 | S58: 0 | T58: 0 | U58: 0 | V58: 0 | W58: 0 | X58: 0 | Y58: 0
A59: 58 | B59: NUCLEAR MEDICINE AND BIOLOGY | C59: ☑️ | D59: ZJY | E59: 45286 | F59: 3.1 | G59: Q2 | H59: Elsevier | I59: USA | J59: 8 | K59: Y | L59: Hybird | M59: https://www.sciencedirect.com/journal/nuclear-medicine-and-biology | N59: Society of Radiopharmaceutical Sciences | O59: https://www.elsevier.com/journals/nuclear-medicine-and-biology/0969-8051/guide-for-authors | P59: 1 | Q59: 1 | R59: 1 | S59: 1 | T59: 1 | U59: 1 | V59: 0 | W59: 1 | X59: 1 | Y59: 0
A60: 59 | B60: STRAHLENTHERAPIE UND ONKOLOGIE | C60: ☑️ | D60: ZJY | E60: 45286 | F60: 3.1 | G60: Q2 | H60: Springer | I60: Germany | J60: 12 | K60: N | L60: Hybird | M60: https://www.springer.com/journal/66 | N60: German Society of Radiation Oncology | O60: https://www.springer.com/journal/66/submission-guidelines | P60: 0 | Q60: 0 | R60: 0 | S60: 0 | T60: 0 | U60: 0 | V60: 0 | W60: 0 | X60: 0 | Y60: 0
... A104: 103 | B104: Journal of Medical Ultrasonics | C104: ☑️ | D104: ZJY | E104: 45286 | F104: 1.8 | G104: Q4 | H104: Springer | I104: Japan | J104: 4 | K104: Y | L104: Hybird | M104: https://www.springer.com/journal/10396 | N104: Japan Society of Ultrasonics in Medicine. | O104: https://www.springer.com/journal/10396/submission-guidelines | P104: 0 | Q104: 0 | R104: 0 | S104: 0 | T104: 0 | U104: 0 | V104: 0 | W104: 0 | X104: 0 | Y104: 0
A105: 104 | B105: ROFO-FORTSCHRITTE AUF DEM GEBIET DER RONTGENSTRAHLEN UND DER BILDGEBENDEN VERFAHREN | C105: German | D105: N/a | E105: N/a | F105: 1.8 | G105: Q4 | H105: N/a | I105: N/a | J105: N/a | K105: N/a | L105: N/a | M105: N/a | N105: N/a | O105: N/a | P105: N/a | Q105: N/a | R105: N/a | S105: N/a | T105: N/a | U105: N/a | V105: N/a | W105: N/a | X105: N/a | Y105: N/a
A106: 105 | B106: INTERVENTIONAL NEURORADIOLOGY | C106: ☑️ | D106: ZJY | E106: 45287 | F106: 1.7 | G106: Q4 | H106: SAGE | I106: Italy | J106: 4 | K106: N | L106: Hybird | M106: https://journals.sagepub.com/home/ine | N106: None | O106: https://journals.sagepub.com/author-instructions/INE | P106: 1 | Q106: 1 | R106: 1 | S106: 1 | T106: 1 | U106: 1 | V106: 0 | W106: 1 | X106: 1 | Y106: 1
A107: 106 | B107: Medical Ultrasonography | C107: ☑️ | D107: ZJY | E107: 45287 | F107: 1.7 | G107: Q4 | H107: Society | I107: Romania | J107: 4 | K107: N | L107: Open | M107: https://www.medultrason.ro/medultrason/index.php/medultrason | N107: Romanian Society for Ultrasonography in Medicine and Biology | O107: https://www.medultrason.ro/medultrason/index.php/medultrason/about/submissions#authorGuidelines | P107: 0 | Q107: 0 | R107: 0 | S107: 0 | T107: 0 | U107: 0 | V107: 0 | W107: 0 | X107: 0 | Y107: 0
A108: 107 | B108: RADIATION AND ENVIRONMENTAL BIOPHYSICS | C108: ☑️ | D108: ZJY | E108: 45286 | F108: 1.7 | G108: Q4 | H108: Springer | I108: Germany | J108: 4 | K108: N | L108: Hybird | M108: https://www.springer.com/journal/411 | N108: None | O108: https://www.springer.com/journal/411/submission-guidelines | P108: 0 | Q108: 0 | R108: 0 | S108: 0 | T108: 0 | U108: 0 | V108: 0 | W108: 0 | X108: 0 | Y108: 0
A109: 108 | B109: Applied Radiation and Isotopes | C109: ☑️ | D109: ZJY | E109: 45286 | F109: 1.6 | G109: Q4 | H109: Elsevier | I109: USA | J109: 12 | K109: N | L109: Hybird | M109: https://www.sciencedirect.com/journal/applied-radiation-and-isotopes | N109: None | O109: https://www.elsevier.com/journals/applied-radiation-and-isotopes/0969-8043/guide-for-authors | P109: 1 | Q109: 1 | R109: 1 | S109: 1 | T109: 1 | U109: 1 | V109: 0 | W109: 1 | X109: 1 | Y109: 0
A110: 109 | B110: Journal of Medical Imaging and Radiation Oncology | C110: ☑️ | D110: ZJY | E110: 45287 | F110: 1.6 | G110: Q4 | H110: Wiley | I110: Australia | J110: 8 | K110: Y | L110: Hybird | M110: https://onlinelibrary.wiley.com/journal/17549485/ | N110: Royal Australian and New Zealand College of Radiologists | O110: https://onlinelibrary.wiley.com/page/journal/17549485/homepage/forauthors.html | P110: 0 | Q110: 0 | R110: 0 | S110: 0 | T110: 0 | U110: 0 | V110: 0 | W110: 0 | X110: 0 | Y110: 0
A111: 110 | B111: Magnetic Resonance Imaging Clinics of North America | C111: ☑️ | D111: ZJY | E111: 45286 | F111: 1.6 | G111: Q4 | H111: Elsevier | I111: USA | J111: 4 | K111: Y | L111: Hybird | M111: https://www.mri.theclinics.com | N111: None | O111: https://www.theclinics.com/authorinformation | P111: 1 | Q111: 1 | R111: 1 | S111: 1 | T111: 1 | U111: 1 | V111: 0 | W111: 1 | X111: 1 | Y111: 0
...

Sheet R_2
A1: No | B1: Journal name | C1: Inclusion | D1: R_2 | E1: Date | F1: 2022 JIF | G1: JIF Quartile | H1: Publisher | I1: Region | J1: Publication frequency | K1: Only in Radiology | L1: Publication model | M1: Homepage | N1: Offical Journal | O1: Submission Guideline | P1: Present | Q1: Author | R1: Reviewer | S1: Editor | T1: 1.Use | U1: 2.Tool | V1: 3.Section | W1: 4.Role | X1: 5.Verification | Y1: 6.Influence
A2: 1 | B2: RADIOLOGY | C2: ☑️ | D2: XY | E2: 45289 | F2: 19.7 | G2: Q1 | H2: Society | I2: USA | J2: 12 | K2: Y | L2: Hybird | M2: https://pubs.rsna.org/journal/radiology | N2: Radiological Society of North America | O2: https://pubs.rsna.org/page/radiology/author-instructions | P2: 1 | Q2: 1 | R2: 1 | S2: 0 | T2: 1 | U2: 1 | V2: 0 | W2: 1 | X2: 1 | Y2: 0
A3: 2 | B3: JACC-Cardiovascular Imaging | C3: ☑️ | D3: XY | E3: 45289 | F3: 14 | G3: Q1 | H3: Elsevier | I3: USA | J3: 12 | K3: N | L3: Hybird | M3: https://www.jacc.org/journal/imaging | N3: American College of Cardiology | O3: https://www.jacc.org/pb-assets/documents/author-instructions-jacc-imaging-1688567245837.pdf | P3: 1 | Q3: 1 | R3: 0 | S3: 0 | T3: 1 | U3: 0 | V3: 0 | W3: 1 | X3: 0 | Y3: 0
A4: 3 | B4: MEDICAL IMAGE ANALYSIS | C4: ☑️ | D4: XY | E4: 45289 | F4: 10.9 | G4: Q1 | H4: Elsevier | I4: Netherlands | J4: 8 | K4: N | L4: Hybird | M4: https://www.sciencedirect.com/journal/medical-image-analysis/ | N4: The Medical Image Computing and Computer Assisted Intervention Society | O4: https://www.elsevier.com/journals/medical-image-analysis/1361-8415/guide-for-authors | P4: 1 | Q4: 1 | R4: 0 | S4: 1 | T4: 1 | U4: 1 | V4: 0 | W4: 1 | X4: 0 | Y4: 0
A5: 4 | B5: CLINICAL NUCLEAR MEDICINE | C5: ☑️ | D5: XY | E5: 45289 | F5: 10.6 | G5: Q1 | H5: Lippincott Williams & Wilkins | I5: USA | J5: 12 | K5: Y | L5: Hybird | M5: https://journals.lww.com/nuclearmed/pages/default.aspx | N5: American College of Nuclear Medicine | O5: https://edmgr.ovid.com/cnm/accounts/ifauth.htm | P5: 0 | Q5: 0 | R5: 0 | S5: 0 | T5: 0 | U5: 0 | V5: 0 | W5: 0 | X5: 0 | Y5: 0
A6: 5 | B6: IEEE TRANSACTIONS ON MEDICAL IMAGING | C6: ☑️ | D6: XY | E6: 45289 | F6: 10.6 | G6: Q1 | H6: Society | I6: USA | J6: 12 | K6: N | L6: Hybird | M6: https://www.embs.org/tmi/ | N6: IEEE Engineering in Medicine and Biology Society | O6: https://ieeetmi.org/authors-instructions | P6: 0 | Q6: 0 | R6: 0 | S6: 0 | T6: 0 | U6: 0 | V6: 0 | W6: 0 | X6: 0 | Y6: 0
A7: 6 | B7: JOURNAL OF NUCLEAR MEDICINE | C7: ☑️ | D7: XY | E7: 45289 | F7: 9.3 | G7: Q1 | H7: Society | I7: USA | J7: 12 | K7: Y | L7: Hybird | M7: https://jnm.snmjournals.org | N7: Society of Nuclear Medicine and Molecular Imaging | O7: https://jnm.snmjournals.org/sites/default/files/additional-assets/JNMInfoforAuthors_11082022.pdf | P7: 0 | Q7: 0 | R7: 0 | S7: 0 | T7: 0 | U7: 0 | V7: 0 | W7: 0 | X7: 0 | Y7: 0
A8: 7 | B8: EUROPEAN JOURNAL OF NUCLEAR MEDICINE AND MOLECULAR IMAGING | C8: ☑️ | D8: XY | E8: 45289 | F8: 9.1 | G8: Q1 | H8: Springer | I8: Germany | J8: 12 | K8: Y | L8: Hybird | M8: https://www.springer.com/journal/259 | N8: European Association of Nuclear Medicine | O8: https://www.springer.com/journal/259/submission-guidelines | P8: 0 | Q8: 0 | R8: 0 | S8: 0 | T8: 0 | U8: 0 | V8: 0 | W8: 0 | X8: 0 | Y8: 0
A9: 8 | B9: Radiologia Medica | C9: ☑️ | D9: XY | E9: 45289 | F9: 8.9 | G9: Q1 | H9: Springer | I9: Italy | J9: 12 | K9: Y | L9: Hybird | M9: https://www.springer.com/journal/11547 | N9: Italian Society of Medical and Interventional Radiology | O9: https://www.springer.com/journal/11547/submission-guidelines | P9: 0 | Q9: 0 | R9: 0 | S9: 0 | T9: 0 | U9: 0 | V9: 0 | W9: 0 | X9: 0 | Y9: 0
A10: 9 | B10: Photoacoustics | C10: ☑️ | D10: XY | E10: 45289 | F10: 7.9 | G10: Q1 | H10: Elsevier | I10: Netherlands | J10: 4 | K10: N | L10: Open | M10: https://www.sciencedirect.com/journal/photoacoustics | N10: None | O10: https://www.elsevier.com/journals/photoacoustics/2213-5979/guide-for-authors | P10: 1 | Q10: 1 | R10: 0 | S10: 1 | T10: 1 | U10: 1 | V10: 0 | W10: 1 | X10: 0 | Y10: 0
A11: 10 | B11: Circulation-Cardiovascular Imaging | C11: ☑️ | D11: XY | E11: 45289 | F11: 7.5 | G11: Q1 | H11: Lippincott Williams & Wilkins | I11: USA | J11: 12 | K11: N | L11: Hybird | M11: https://www.ahajournals.org/journal/circimaging | N11: American Heart Association | O11: https://www.ahajournals.org/circimaging/author-instructions | P11: 0 | Q11: 0 | R11: 0 | S11: 0 | T11: 0 | U11: 0 | V11: 0 | W11: 0 | X11: 0 | Y11: 0
A12: 11 | B12: ULTRASOUND IN OBSTETRICS & GYNECOLOGY | C12: ☑️ | D12: XY | E12: 45289 | F12: 7.1 | G12: Q1 | H12: Wiley | I12: USA | J12: 12 | K12: N | L12: Hybird | M12: https://obgyn.onlinelibrary.wiley.com/journal/14690705/ | N12: International Society of Ultrasound in Obstetrics and Gynecology | O12: https://obgyn.onlinelibrary.wiley.com/hub/journal/14690705/about/author-guidelines | P12: 0 | Q12: 0 | R12: 0 | S12: 0 | T12: 0 | U12: 0 | V12: 0 | W12: 0 | X12: 0 | Y12: 0
A13: 12 | B13: INTERNATIONAL JOURNAL OF RADIATION ONCOLOGY BIOLOGY PHYSICS | C13: ☑️ | D13: XY | E13: 45289 | F13: 7 | G13: Q1 | H13: Elsevier | I13: USA | J13: 15 | K13: N | L13: Hybird | M13: https://www.sciencedirect.com/journal/international-journal-of-radiation-oncology-biology-physics | N13: American Society for Radiation Oncology | O13: https://www.astro.org/News-and-Publications/Journals/Author-Instructions | P13: 1 | Q13: 1 | R13: 0 | S13: 1 | T13: 1 | U13: 1 | V13: 0 | W13: 1 | X13: 0 | Y13: 0
... A42: 41 | B42: PHYSICS IN MEDICINE AND BIOLOGY | C42: ☑️ | D42: XY | E42: 45289 | F42: 3.5 | G42: Q2 | H42: IOP | I42: England | J42: 24 | K42: N | L42: Hybird | M42: https://iopscience.iop.org/journal/0031-9155 | N42: Institute of Physics and Engineering in Medicine | O42: https://publishingsupport.iopscience.iop.org/journals/physics-in-medicine-biology/ | P42: 0 | Q42: 0 | R42: 0 | S42: 0 | T42: 0 | U42: 0 | V42: 0 | W42: 0 | X42: 0 | Y42: 0
A43: 42 | B43: SEMINARS IN RADIATION ONCOLOGY | C43: Not avaliable document | D43: XY | E43: 45289 | F43: 3.5 | G43: Q2 | H43: Elsevier | I43: USA | J43: 4 | K43: N | L43: Hybird | M43: https://www.sciencedirect.com/journal/seminars-in-radiation-oncology | N43: None | O43: https://www.sciencedirect.com/journal/seminars-in-radiation-oncology/publish/guide-for-authors | P43: N/a | Q43: N/a | R43: N/a | S43: N/a | T43: N/a | U43: N/a | V43: N/a | W43: N/a | X43: N/a | Y43: N/a
A44: 43 | B44: Biomedical Optics Express | C44: ☑️ | D44: XY | E44: 45289 | F44: 3.4 | G44: Q2 | H44: Optica Publishing Group | I44: USA | J44: 12 | K44: N | L44: Open | M44: https://opg.optica.org/boe/home.cfm | N44: None | O44: https://opg.optica.org/boe/author/author.cfm | P44: 0 | Q44: 0 | R44: 0 | S44: 0 | T44: 0 | U44: 0 | V44: 0 | W44: 0 | X44: 0 | Y44: 0
A45: 44 | B45: CANCER BIOTHERAPY AND RADIOPHARMACEUTICALS | C45: ☑️ | D45: XY | E45: 45289 | F45: 3.4 | G45: Q2 | H45: Mary Ann Libert | I45: USA | J45: 10 | K45: N | L45: Hybird | M45: https://home.liebertpub.com/publications/cancer-biotherapy-and-radiopharmaceuticals/8/ | N45: None | O45: https://home.liebertpub.com/publications/cancer-biotherapy-and-radiopharmaceuticals/8/for-authors#policies | P45: 0 | Q45: 0 | R45: 0 | S45: 0 | T45: 0 | U45: 0 | V45: 0 | W45: 0 | X45: 0 | Y45: 0
A46: 45 | B46: Physica Medica-European Journal of Medical Physics | C46: ☑️ | D46: XY | E46: 45289 | F46: 3.4 | G46: Q2 | H46: Elsevier | I46: Italy | J46: 8 | K46: Y | L46: Hybird | M46: https://www.physicamedica.com | N46: International Organization for Medical Physics | O46: https://www.physicamedica.com/content/authorinfo | P46: 1 | Q46: 1 | R46: 0 | S46: 1 | T46: 1 | U46: 1 | V46: 0 | W46: 1 | X46: 0 | Y46: 0
A47: 46 | B47: RADIATION RESEARCH | C47: ☑️ | D47: XY | E47: 45289 | F47: 3.4 | G47: Q2 | H47: Society | I47: USA | J47: 12 | K47: N | L47: Hybird | M47: https://meridian.allenpress.com/radiation-research | N47: Radiation Research Society | O47: https://meridian.allenpress.com/DocumentLibrary/RADE/RARE_Info_for_Authors_5-30-2018.pdf | P47: 0 | Q47: 0 | R47: 0 | S47: 0 | T47: 0 | U47: 0 | V47: 0 | W47: 0 | X47: 0 | Y47: 0
A48: 47 | B48: ULTRASCHALL IN DER MEDIZIN | C48: German | D48: N/a | E48: N/a | F48: 3.4 | G48: Q2 | H48: N/a | I48: N/a | J48: N/a | K48: N/a | L48: N/a | M48: N/a | N48: N/a | O48: N/a | P48: N/a | Q48: N/a | R48: N/a | S48: N/a | T48: N/a | U48: N/a | V48: N/a | W48: N/a | X48: N/a | Y48: N/a
A49: 48 | B49: DENTOMAXILLOFACIAL RADIOLOGY | C49: ☑️ | D49: XY | E49: 45289 | F49: 3.3 | G49: Q2 | H49: Society | I49: England | J49: 8 | K49: N | L49: Hybird | M49: https://www.birpublications.org/journal/dmfr | N49: British Institute of Radiology | O49: https://www.birpublications.org/page/ifa/dmfr | P49: 0 | Q49: 0 | R49: 0 | S49: 0 | T49: 0 | U49: 0 | V49: 0 | W49: 0 | X49: 0 | Y49: 0
A50: 49 | B50: EUROPEAN JOURNAL OF RADIOLOGY | C50: ☑️ | D50: XY | E50: 45289 | F50: 3.3 | G50: Q2 | H50: Elsevier | I50: Ireland | J50: 12 | K50: Y | L50: Hybird | M50: https://www.sciencedirect.com/journal/european-journal-of-radiology | N50: None | O50: https://www.elsevier.com/journals/european-journal-of-radiology/0720-048X/guide-for-authors | P50: 1 | Q50: 1 | R50: 0 | S50: 1 | T50: 1 | U50: 1 | V50: 0 | W50: 1 | X50: 0 | Y50: 0
A51: 50 | B51: JOURNAL OF THORACIC IMAGING | C51: ☑️ | D51: XY | E51: 45289 | F51: 3.3 | G51: Q2 | H51: Lippincott Williams & Wilkins | I51: USA | J51: 6 | K51: Y | L51: Hybird | M51: https://journals.lww.com/thoracicimaging/pages/default.aspx | N51: Society of Thoracic Radiology | O51: https://edmgr.ovid.com/jti/accounts/ifauth.htm | P51: 0 | Q51: 0 | R51: 0 | S51: 0 | T51: 0 | U51: 0 | V51: 0 | W51: 0 | X51: 0 | Y51: 0
A52: 51 | B52: MAGNETIC RESONANCE IN MEDICINE | C52: ☑️ | D52: XY | E52: 45289 | F52: 3.3 | G52: Q2 | H52: Wiley | I52: USA | J52: 12 | K52: Y | L52: Hybird | M52: https://onlinelibrary.wiley.com/journal/15222594 | N52: International Society for Magnetic Resonance in Medicine: | O52: https://onlinelibrary.wiley.com/pb-assets/assets/15222594/authorguidelinesdec22-1671206311.pdf | P52: 0 | Q52: 0 | R52: 0 | S52: 0 | T52: 0 | U52: 0 | V52: 0 | W52: 0 | X52: 0 | Y52: 0
A53: 52 | B53: Practical Radiation Oncology | C53: ☑️ | D53: XY | E53: 45289 | F53: 3.3 | G53: Q2 | H53: Elsevier | I53: USA | J53: 6 | K53: N | L53: Hybird | M53: https://www.practicalradonc.org | N53: American Society for Radiation Oncology | O53: https://www.astro.org/News-and-Publications/Journals/Author-Instructions | P53: 1 | Q53: 1 | R53: 0 | S53: 1 | T53: 1 | U53: 1 | V53: 0 | W53: 1 | X53: 0 | Y53: 0
A54: 53 | B54: EJNMMI Research | C54: ☑️ | D54: XY | E54: 45289 | F54: 3.2 | G54: Q2 | H54: Springer | I54: Germany | J54: 1 | K54: Y | L54: Open | M54: https://ejnmmires.springeropen.com | N54: American College of Nuclear Medicine | O54: https://ejnmmires.springeropen.com/submission-guidelines | P54: 0 | Q54: 0 | R54: 0 | S54: 0 | T54: 0 | U54: 0 | V54: 0 | W54: 0 | X54: 0 | Y54: 0
A55: 54 | B55: CANADIAN ASSOCIATION OF RADIOLOGISTS JOURNAL-JOURNAL DE L ASSOCIATION CANADIENNE DES RADIOLOGISTES | C55: ☑️ | D55: XY | E55: 45289 | F55: 3.1 | G55: Q2 | H55: SAGE | I55: Canada | J55: 1 | K55: Y | L55: Hybird | M55: https://journals.sagepub.com/home/caj | N55: Canadian Association of Radiologists | O55: https://journals.sagepub.com/author-instructions/CAJ | P55: 1 | Q55: 1 | R55: 1 | S55: 1 | T55: 1 | U55: 1 | V55: 0 | W55: 0 | X55: 1 | Y55: 0
A56: 55 | B56: Clinical and Translational Radiation Oncology | C56: ☑️ | D56: XY | E56: 45289 | F56: 3.1 | G56: Q2 | H56: Elsevier | I56: Ireland | J56: 6 | K56: N | L56: Open | M56: https://www.sciencedirect.com/journal/clinical-and-translational-radiation-oncology?utm_medium=SRCH&dgcid=STMJ_1648021317_SC&utm_source=B&utm_campaign=STMJ_1648021317_SC | N56: European Society for Radiotherapy & Oncology | O56: https://www.elsevier.com/journals/clinical-and-translational-radiation-oncology/2405-6308/guide-for-authors | P56: 1 | Q56: 1 | R56: 0 | S56: 1 | T56: 1 | U56: 1 | V56: 0 | W56: 1 | X56: 0 | Y56: 0
A57: 56 | B57: INTERNATIONAL JOURNAL OF HYPERTHERMIA | C57: ☑️ | D57: XY | E57: 45289 | F57: 3.1 | G57: Q2 | H57: Taylor & Francis | I57: England | J57: 8 | K57: N | L57: Open | M57: https://www.tandfonline.com/journals/ihyt20?utm_source=TFO&utm_medium=cms&utm_campaign=JRA25531 | N57: Society for Thermal Medicine | O57: https://www.tandfonline.com/action/authorSubmission?show=instructions&journalCode=ihyt20 | P57: 0 | Q57: 0 | R57: 0 | S57: 0 | T57: 0 | U57: 0 | V57: 0 | W57: 0 | X57: 0 | Y57: 0
A58: 57 | B58: MOLECULAR IMAGING AND BIOLOGY | C58: ☑️ | D58: XY | E58: 45289 | F58: 3.1 | G58: Q2 | H58: Springer | I58: USA | J58: 6 | K58: Y | L58: Hybird | M58: https://www.springer.com/journal/11307 | N58: World Molecular Imaging Society | O58: https://www.springer.com/journal/11307/submission-guidelines | P58: 0 | Q58: 0 | R58: 0 | S58: 0 | T58: 0 | U58: 0 | V58: 0 | W58: 0 | X58: 0 | Y58: 0
A59: 58 | B59: NUCLEAR MEDICINE AND BIOLOGY | C59: ☑️ | D59: XY | E59: 45289 | F59: 3.1 | G59: Q2 | H59: Elsevier | I59: USA | J59: 8 | K59: Y | L59: Hybird | M59: https://www.sciencedirect.com/journal/nuclear-medicine-and-biology | N59: Society of Radiopharmaceutical Sciences | O59: https://www.elsevier.com/journals/nuclear-medicine-and-biology/0969-8051/guide-for-authors | P59: 1 | Q59: 1 | R59: 0 | S59: 1 | T59: 1 | U59: 1 | V59: 0 | W59: 1 | X59: 0 | Y59: 0
A60: 59 | B60: STRAHLENTHERAPIE UND ONKOLOGIE | C60: ☑️ | D60: XY | E60: 45289 | F60: 3.1 | G60: Q2 | H60: Springer | I60: Germany | J60: 12 | K60: N | L60: Hybird | M60: https://www.springer.com/journal/66 | N60: German Society of Radiation Oncology | O60: https://www.springer.com/journal/66/submission-guidelines | P60: 0 | Q60: 0 | R60: 0 | S60: 0 | T60: 0 | U60: 0 | V60: 0 | W60: 0 | X60: 0 | Y60: 0
... A104: 103 | B104: Journal of Medical Ultrasonics | C104: ☑️ | D104: XY | E104: 45290 | F104: 1.8 | G104: Q4 | H104: Springer | I104: Japan | J104: 4 | K104: Y | L104: Hybird | M104: https://www.springer.com/journal/10396 | N104: Japan Society of Ultrasonics in Medicine. | O104: https://www.springer.com/journal/10396/submission-guidelines | P104: 0 | Q104: 0 | R104: 0 | S104: 0 | T104: 0 | U104: 0 | V104: 0 | W104: 0 | X104: 0 | Y104: 0
A105: 104 | B105: ROFO-FORTSCHRITTE AUF DEM GEBIET DER RONTGENSTRAHLEN UND DER BILDGEBENDEN VERFAHREN | C105: German | D105: N/a | E105: N/a | F105: 1.8 | G105: Q4 | H105: N/a | I105: N/a | J105: N/a | K105: N/a | L105: N/a | M105: N/a | N105: N/a | O105: N/a | P105: N/a | Q105: N/a | R105: N/a | S105: N/a | T105: N/a | U105: N/a | V105: N/a | W105: N/a | X105: N/a | Y105: N/a
A106: 105 | B106: INTERVENTIONAL NEURORADIOLOGY | C106: ☑️ | D106: XY | E106: 45290 | F106: 1.7 | G106: Q4 | H106: SAGE | I106: Italy | J106: 4 | K106: N | L106: Hybird | M106: https://journals.sagepub.com/home/ine | N106: None | O106: https://journals.sagepub.com/author-instructions/INE | P106: 1 | Q106: 1 | R106: 1 | S106: 1 | T106: 1 | U106: 1 | V106: 0 | W106: 0 | X106: 1 | Y106: 0
A107: 106 | B107: Medical Ultrasonography | C107: ☑️ | D107: XY | E107: 45290 | F107: 1.7 | G107: Q4 | H107: Society | I107: Romania | J107: 4 | K107: N | L107: Open | M107: https://www.medultrason.ro/medultrason/index.php/medultrason | N107: Romanian Society for Ultrasonography in Medicine and Biology | O107: https://www.medultrason.ro/medultrason/index.php/medultrason/about/submissions#authorGuidelines | P107: 0 | Q107: 0 | R107: 0 | S107: 0 | T107: 0 | U107: 0 | V107: 0 | W107: 0 | X107: 0 | Y107: 0
A108: 107 | B108: RADIATION AND ENVIRONMENTAL BIOPHYSICS | C108: ☑️ | D108: XY | E108: 45290 | F108: 1.7 | G108: Q4 | H108: Springer | I108: Germany | J108: 4 | K108: N | L108: Hybird | M108: https://www.springer.com/journal/411 | N108: None | O108: https://www.springer.com/journal/411/submission-guidelines | P108: 0 | Q108: 0 | R108: 0 | S108: 0 | T108: 0 | U108: 0 | V108: 0 | W108: 0 | X108: 0 | Y108: 0
A109: 108 | B109: Applied Radiation and Isotopes | C109: ☑️ | D109: XY | E109: 45290 | F109: 1.6 | G109: Q4 | H109: Elsevier | I109: USA | J109: 12 | K109: N | L109: Hybird | M109: https://www.sciencedirect.com/journal/applied-radiation-and-isotopes | N109: None | O109: https://www.elsevier.com/journals/applied-radiation-and-isotopes/0969-8043/guide-for-authors | P109: 1 | Q109: 1 | R109: 0 | S109: 1 | T109: 1 | U109: 1 | V109: 0 | W109: 1 | X109: 0 | Y109: 0
A110: 109 | B110: Journal of Medical Imaging and Radiation Oncology | C110: ☑️ | D110: XY | E110: 45290 | F110: 1.6 | G110: Q4 | H110: Wiley | I110: Australia | J110: 8 | K110: Y | L110: Hybird | M110: https://onlinelibrary.wiley.com/journal/17549485/ | N110: Royal Australian and New Zealand College of Radiologists | O110: https://onlinelibrary.wiley.com/page/journal/17549485/homepage/forauthors.html | P110: 0 | Q110: 0 | R110: 0 | S110: 0 | T110: 0 | U110: 0 | V110: 0 | W110: 0 | X110: 0 | Y110: 0
A111: 110 | B111: Magnetic Resonance Imaging Clinics of North America | C111: ☑️ | D111: XY | E111: 45290 | F111: 1.6 | G111: Q4 | H111: Elsevier | I111: USA | J111: 4 | K111: Y | L111: Hybird | M111: https://www.mri.theclinics.com | N111: None | O111: https://www.theclinics.com/authorinformation | P111: 1 | Q111: 1 | R111: 0 | S111: 1 | T111: 1 | U111: 1 | V111: 0 | W111: 1 | X111: 0 | Y111: 0
...

Sheet Cross_check
A1: No | B1: Journal name | C1: Inclusion | D1: X-check | E1: 2022 JIF | F1: JIF Quartile | G1: Publisher | H1: Region | I1: Publication frequency | J1: Only in Radiology | K1: Publication model | L1: Homepage | M1: Offical Journal | N1: Submission Guideline | O1: Present | P1: Author | Q1: Reviewer | R1: Editor | S1: 1.Use | T1: 2.Tool | U1: 3.Section | V1: 4.Role | W1: 5.Verification | X1: 6.Influence
A2: 1 | B2: RADIOLOGY | C2: ☑️ | D2: =IF(R_1!D2=R_2!D2,"Re-check","Pass") -> Pass | E2: 19.7 | F2: Q1 | G2: Society | H2: USA | I2: 12 | J2: Y | K2: Hybird | L2: https://pubs.rsna.org/journal/radiology | M2: Radiological Society of North America | N2: https://pubs.rsna.org/page/radiology/author-instructions | O2: =IF(OR(R_1!P2=R_2!P2,R_1!P2=1),R_1!P2,-1) -> 1 | P2: =IF(OR(R_1!Q2=R_2!Q2,R_1!Q2=1),R_1!Q2,-1) -> 1 | Q2: =IF(OR(R_1!R2=R_2!R2,R_1!R2=1),R_1!R2,-1) -> 1 | R2: =IF(OR(R_1!S2=R_2!S2,R_1!S2=1),R_1!S2,-1) -> 0 | S2: =IF(OR(R_1!T2=R_2!T2,R_1!T2=1),R_1!T2,-1) -> 1 | T2: =IF(OR(R_1!U2=R_2!U2,R_1!U2=1),R_1!U2,-1) -> 1 | U2: =IF(OR(R_1!V2=R_2!V2,R_1!V2=1),R_1!V2,-1) -> 0 | V2: =IF(OR(R_1!W2=R_2!W2,R_1!W2=1),R_1!W2,-1) -> 1 | ... X2: =IF(OR(R_1!Y2=R_2!Y2,R_1!Y2=1),R_1!Y2,-1) -> 0
A3: 2 | B3: JACC-Cardiovascular Imaging | C3: ☑️ | D3: =IF(R_1!D3=R_2!D3,"Re-check","Pass") -> Pass | E3: 14 | F3: Q1 | G3: Elsevier | H3: USA | I3: 12 | J3: N | K3: Hybird | L3: https://www.jacc.org/journal/imaging | M3: American College of Cardiology | N3: https://www.jacc.org/pb-assets/documents/author-instructions-jacc-imaging-1688567245837.pdf | O3: 1 | P3: 1 | Q3: =IF(OR(R_1!R3=R_2!R3,R_1!R3=1),R_1!R3,-1) -> 0 | R3: =IF(OR(R_1!S3=R_2!S3,R_1!S3=1),R_1!S3,-1) -> 0 | S3: 1 | T3: =IF(OR(R_1!U3=R_2!U3,R_1!U3=1),R_1!U3,-1) -> 0 | U3: =IF(OR(R_1!V3=R_2!V3,R_1!V3=1),R_1!V3,-1) -> 0 | V3: 1 | W3: =IF(OR(R_1!X3=R_2!X3,R_1!X3=1),R_1!X3,-1) -> 0 | X3: =IF(OR(R_1!Y3=R_2!Y3,R_1!Y3=1),R_1!Y3,-1) -> 0
A4: 3 | B4: MEDICAL IMAGE ANALYSIS | C4: ☑️ | D4: =IF(R_1!D4=R_2!D4,"Re-check","Pass") -> Pass | E4: 10.9 | F4: Q1 | G4: Elsevier | H4: Netherlands | I4: 8 | J4: N | K4: Hybird | L4: https://www.sciencedirect.com/journal/medical-image-analysis/ | M4: The Medical Image Computing and Computer Assisted Intervention Society | N4: https://www.elsevier.com/journals/medical-image-analysis/1361-8415/guide-for-authors | O4: =IF(OR(R_1!P4=R_2!P4,R_1!P4=1),R_1!P4,-1) -> 1 | P4: =IF(OR(R_1!Q4=R_2!Q4,R_1!Q4=1),R_1!Q4,-1) -> 1 | Q4: =IF(OR(R_1!R4=R_2!R4,R_1!R4=1),R_1!R4,-1) -> 1 | R4: =IF(OR(R_1!S4=R_2!S4,R_1!S4=1),R_1!S4,-1) -> 1 | S4: =IF(OR(R_1!T4=R_2!T4,R_1!T4=1),R_1!T4,-1) -> 1 | T4: =IF(OR(R_1!U4=R_2!U4,R_1!U4=1),R_1!U4,-1) -> 1 | U4: =IF(OR(R_1!V4=R_2!V4,R_1!V4=1),R_1!V4,-1) -> 0 | V4: =IF(OR(R_1!W4=R_2!W4,R_1!W4=1),R_1!W4,-1) -> 1 | ... X4: =IF(OR(R_1!Y4=R_2!Y4,R_1!Y4=1),R_1!Y4,-1) -> 0
A5: 4 | B5: CLINICAL NUCLEAR MEDICINE | C5: ☑️ | D5: =IF(R_1!D5=R_2!D5,"Re-check","Pass") -> Pass | E5: 10.6 | F5: Q1 | G5: Lippincott Williams & Wilkins | H5: USA | I5: 12 | J5: Y | K5: Hybird | L5: https://journals.lww.com/nuclearmed/pages/default.aspx | M5: American College of Nuclear Medicine | N5: https://edmgr.ovid.com/cnm/accounts/ifauth.htm | O5: =IF(OR(R_1!P5=R_2!P5,R_1!P5=1),R_1!P5,-1) -> 0 | P5: =IF(OR(R_1!Q5=R_2!Q5,R_1!Q5=1),R_1!Q5,-1) -> 0 | Q5: =IF(OR(R_1!R5=R_2!R5,R_1!R5=1),R_1!R5,-1) -> 0 | R5: =IF(OR(R_1!S5=R_2!S5,R_1!S5=1),R_1!S5,-1) -> 0 | S5: =IF(OR(R_1!T5=R_2!T5,R_1!T5=1),R_1!T5,-1) -> 0 | T5: =IF(OR(R_1!U5=R_2!U5,R_1!U5=1),R_1!U5,-1) -> 0 | U5: =IF(OR(R_1!V5=R_2!V5,R_1!V5=1),R_1!V5,-1) -> 0 | V5: =IF(OR(R_1!W5=R_2!W5,R_1!W5=1),R_1!W5,-1) -> 0 | ... X5: =IF(OR(R_1!Y5=R_2!Y5,R_1!Y5=1),R_1!Y5,-1) -> 0
A6: 5 | B6: IEEE TRANSACTIONS ON MEDICAL IMAGING | C6: ☑️ | D6: =IF(R_1!D6=R_2!D6,"Re-check","Pass") -> Pass | E6: 10.6 | F6: Q1 | G6: Society | H6: USA | I6: 12 | J6: N | K6: Hybird | L6: https://www.embs.org/tmi/ | M6: IEEE Engineering in Medicine and Biology Society | N6: https://ieeetmi.org/authors-instructions | O6: =IF(OR(R_1!P6=R_2!P6,R_1!P6=1),R_1!P6,-1) -> 0 | P6: =IF(OR(R_1!Q6=R_2!Q6,R_1!Q6=1),R_1!Q6,-1) -> 0 | Q6: =IF(OR(R_1!R6=R_2!R6,R_1!R6=1),R_1!R6,-1) -> 0 | R6: =IF(OR(R_1!S6=R_2!S6,R_1!S6=1),R_1!S6,-1) -> 0 | S6: =IF(OR(R_1!T6=R_2!T6,R_1!T6=1),R_1!T6,-1) -> 0 | T6: =IF(OR(R_1!U6=R_2!U6,R_1!U6=1),R_1!U6,-1) -> 0 | U6: =IF(OR(R_1!V6=R_2!V6,R_1!V6=1),R_1!V6,-1) -> 0 | V6: =IF(OR(R_1!W6=R_2!W6,R_1!W6=1),R_1!W6,-1) -> 0 | ... X6: =IF(OR(R_1!Y6=R_2!Y6,R_1!Y6=1),R_1!Y6,-1) -> 0
A7: 6 | B7: JOURNAL OF NUCLEAR MEDICINE | C7: ☑️ | D7: =IF(R_1!D7=R_2!D7,"Re-check","Pass") -> Pass | E7: 9.3 | F7: Q1 | G7: Society | H7: USA | I7: 12 | J7: Y | K7: Hybird | L7: https://jnm.snmjournals.org | M7: Society of Nuclear Medicine and Molecular Imaging | N7: https://jnm.snmjournals.org/sites/default/files/additional-assets/JNMInfoforAuthors_11082022.pdf | O7: =IF(OR(R_1!P7=R_2!P7,R_1!P7=1),R_1!P7,-1) -> 0 | P7: =IF(OR(R_1!Q7=R_2!Q7,R_1!Q7=1),R_1!Q7,-1) -> 0 | Q7: =IF(OR(R_1!R7=R_2!R7,R_1!R7=1),R_1!R7,-1) -> 0 | R7: =IF(OR(R_1!S7=R_2!S7,R_1!S7=1),R_1!S7,-1) -> 0 | S7: =IF(OR(R_1!T7=R_2!T7,R_1!T7=1),R_1!T7,-1) -> 0 | T7: =IF(OR(R_1!U7=R_2!U7,R_1!U7=1),R_1!U7,-1) -> 0 | U7: =IF(OR(R_1!V7=R_2!V7,R_1!V7=1),R_1!V7,-1) -> 0 | V7: =IF(OR(R_1!W7=R_2!W7,R_1!W7=1),R_1!W7,-1) -> 0 | ... X7: =IF(OR(R_1!Y7=R_2!Y7,R_1!Y7=1),R_1!Y7,-1) -> 0
A8: 7 | B8: EUROPEAN JOURNAL OF NUCLEAR MEDICINE AND MOLECULAR IMAGING | C8: ☑️ | D8: =IF(R_1!D8=R_2!D8,"Re-check","Pass") -> Pass | E8: 9.1 | F8: Q1 | G8: Springer | H8: Germany | I8: 12 | J8: Y | K8: Hybird | L8: https://www.springer.com/journal/259 | M8: European Association of Nuclear Medicine | N8: https://www.springer.com/journal/259/submission-guidelines | O8: =IF(OR(R_1!P8=R_2!P8,R_1!P8=1),R_1!P8,-1) -> 0 | P8: =IF(OR(R_1!Q8=R_2!Q8,R_1!Q8=1),R_1!Q8,-1) -> 0 | Q8: =IF(OR(R_1!R8=R_2!R8,R_1!R8=1),R_1!R8,-1) -> 0 | R8: =IF(OR(R_1!S8=R_2!S8,R_1!S8=1),R_1!S8,-1) -> 0 | S8: =IF(OR(R_1!T8=R_2!T8,R_1!T8=1),R_1!T8,-1) -> 0 | T8: =IF(OR(R_1!U8=R_2!U8,R_1!U8=1),R_1!U8,-1) -> 0 | U8: =IF(OR(R_1!V8=R_2!V8,R_1!V8=1),R_1!V8,-1) -> 0 | V8: =IF(OR(R_1!W8=R_2!W8,R_1!W8=1),R_1!W8,-1) -> 0 | ... X8: =IF(OR(R_1!Y8=R_2!Y8,R_1!Y8=1),R_1!Y8,-1) -> 0
