Workbook

Sheet train_R2
A1: dim- | B1: modelname- | C1: BDE-BindingEnergy | D1: Kraken-sterimol_B5 | E1: Kraken-sterimol_L | F1: Kraken-sterimol_burB5 | G1: Kraken-sterimol_burL | H1: tmQMg-gibbs_energy | I1: tmQMg-homo_lumo_gap_delta | J1: tmQMg-tzvp_dipole_moment
A2: 0 | B2: XGBoost | C2: 0.998±0.001 | D2: 0.996±0.002 | E2: 0.99±0.002 | F2: 0.994±0.003 | G2: 0.945±0.052 | H2: 0.986±0.011 | I2: 0.935±0.047 | J2: 0.886±0.079
A3: 2 | B3: ChemProp | C3: 0.943±0.007 | D3: 0.93±0.023 | E3: 0.87±0.038 | F3: 0.891±0.024 | G3: 0.796±0.12 | H3: 0.893±0.006 | I3: 0.705±0.003 | J3: 0.441±0.011
A4: 2 | B4: ChemProp_double | D4: 0.972±0.013 | E4: 0.906±0.014 | F4: 0.93±0.003 | G4: 0.906±0.024
A5: 2 | B5: ChemProp_half | D5: 0.838±0.039 | E5: 0.76±0.035 | F5: 0.834±0.011 | G5: 0.633±0.029
A6: 2 | B6: GT | C6: 0.99±0.002 | D6: 0.95±0.048 | E6: 0.699±0.034 | F6: 0.89±0.04 | G6: 0.462±0.156 | H6: 0.998±0.001 | I6: 0.989±0.002 | J6: 0.984±0.002
A7: 2 | B7: GT_double | D7: 0.978±0.003 | E7: 0.792±0.031 | F7: 0.798±0.248 | G7: 0.472±0.167
A8: 2 | B8: GT_half | D8: 0.931±0.068 | E8: 0.639±0.113 | F8: 0.754±0.232 | G8: 0.359±0.12
A9: 2 | B9: GTmulti | D9: 0.864±0.014 | E9: 0.71±0.018 | F9: 0.783±0.022 | G9: 0.513±0.067 | H9: 0.997±0.001 | I9: 0.918±0.036 | J9: 0.893±0.046
A10: 2 | B10: GTpretrain | C10: 0.986±0.001 | D10: 0.99±0.003 | E10: 0.94±0.016 | F10: 0.944±0.042 | G10: 0.979±0.001 | H10: 0.999±0.0 | I10: 0.993±0.0 | J10: 0.977±0.007
A11: 2 | B11: GTpretrain_all | D11: 0.978±0.014 | E11: 0.863±0.068 | F11: 0.916±0.009 | G11: 0.646±0.078
A12: 2 | B12: GTpretrain_half | D12: 0.975±0.005 | E12: 0.905±0.053 | F12: 0.931±0.032 | G12: 0.642±0.048
A13: 2 | B13: GTpretrainmulti | D13: 0.959±0.01 | E13: 0.9±0.03 | F13: 0.923±0.028 | G13: 0.925±0.013 | H13: 0.997±0.0 | I13: 0.915±0.005 | J13: 0.908±0.003
A14: 2 | B14: GIN-VN | C14: 0.909±0.018 | D14: 0.994±0.004 | E14: 0.988±0.001 | F14: 0.991±0.003 | G14: 0.991±0.004 | H14: 0.98±0.006 | I14: 0.972±0.005 | J14: 0.961±0.002
A15: 2 | B15: GIN-VN_double | D15: 0.995±0.002 | E15: 0.993±0.001 | F15: 0.996±0.002 | G15: 0.984±0.006
A16: 2 | B16: GIN-VN_half | D16: 0.989±0.004 | E16: 0.976±0.009 | F16: 0.972±0.009 | G16: 0.975±0.005
A17: 3 | B17: ChIRo | C17: 0.966±0.002 | D17: 0.767±0.026 | E17: 0.77±0.016 | F17: 0.676±0.097 | G17: 0.636±0.055 | H17: 0.982±0.0 | I17: 0.656±0.003 | J17: 0.388±0.043
A18: 3 | B18: GT | C18: 0.997±0.001 | D18: 0.965±0.017 | E18: 0.811±0.098 | F18: 0.888±0.041 | G18: 0.906±0.049 | H18: 0.999±0.0 | I18: 0.991±0.0 | J18: 0.983±0.004
A19: 3 | B19: GT_double | D19: 0.975±0.013 | E19: 0.946±0.032 | F19: 0.936±0.047 | G19: 0.961±0.025
A20: 3 | B20: GT_half | D20: 0.945±0.018 | E20: 0.86±0.066 | F20: 0.902±0.031 | G20: 0.89±0.064
A21: 3 | B21: GTmulti | D21: 0.968±0.007 | E21: 0.956±0.01 | F21: 0.963±0.011 | G21: 0.932±0.015 | H21: 0.998±0.0 | I21: 0.915±0.055 | J21: 0.896±0.074
A22: 3 | B22: GTpretrain | C22: 0.997±0.001 | D22: 0.983±0.009 | E22: 0.983±0.005 | F22: 0.983±0.01 | G22: 0.977±0.018 | H22: 0.998±0.001 | I22: 0.993±0.001 | J22: 0.985±0.006
A23: 3 | B23: GTpretrain_all | D23: 0.977±0.006 | E23: 0.985±0.007 | F23: 0.968±0.016 | G23: 0.974±0.001
A24: 3 | B24: GTpretrain_half | D24: 0.979±0.007 | E24: 0.975±0.01 | F24: 0.985±0.008 | G24: 0.986±0.003
A25: 3 | B25: GTpretrainmulti | D25: 0.981±0.009 | E25: 0.979±0.007 | F25: 0.98±0.009 | G25: 0.975±0.01 | H25: 0.995±0.002 | I25: 0.94±0.02 | J25: 0.922±0.024
A26: 3 | B26: PaiNN | C26: 0.999±0.0 | D26: 0.951±0.014 | E26: 0.939±0.012 | F26: 0.949±0.025 | G26: -0.095±0.119 | H26: 1.0±0.0 | I26: 0.912±0.143 | J26: 0.871±0.203
A27: 3 | B27: PaiNN_double | D27: 0.718±0.471 | E27: 0.737±0.376 | F27: 0.13±0.303 | G27: -0.06±0.122
A28: 3 | B28: PaiNN_half | D28: 0.937±0.032 | E28: 0.758±0.287 | F28: 0.923±0.064 | G28: 0.835±0.069
A29: 3 | B29: SchNet | C29: 0.975±0.011 | D29: 0.8±0.036 | E29: 0.655±0.032 | F29: 0.733±0.105 | G29: 0.457±0.07 | H29: 0.998±0.0 | I29: 0.656±0.043 | J29: 0.482±0.03
A30: 3 | B30: SchNet_double | D30: 0.856±0.022 | E30: 0.681±0.05 | F30: 0.823±0.024 | G30: 0.517±0.076
A31: 3 | B31: SchNet_half | D31: 0.8±0.039 | E31: 0.654±0.025 | F31: 0.783±0.032 | G31: 0.467±0.066
A32: 4 | B32: GT | C32: 0.991±0.009 | D32: 0.993±0.001 | E32: 0.978±0.015 | F32: 0.988±0.006 | G32: 0.985±0.007
A33: 4 | B33: GTmulti | D33: 0.981±0.01 | E33: 0.969±0.031 | F33: 0.978±0.015 | G33: 0.958±0.041
A34: 4 | B34: GTpretrain | C34: 0.992±0.005 | D34: 0.988±0.005 | E34: 0.981±0.012 | F34: 0.992±0.002 | G34: 0.993±0.002
A35: 4 | B35: GTpretrainmulti | D35: 0.988±0.007 | E35: 0.989±0.008 | F35: 0.983±0.014 | G35: 0.983±0.01
A36: 4 | B36: PaiNN | C36: 1.0±0.0 | D36: 0.997±0.001 | E36: 0.989±0.013 | F36: 0.997±0.001 | G36: 0.992±0.006
A37: 4 | B37: SchNet | C37: 0.994±0.001 | D37: 0.98±0.011 | E37: 0.843±0.063 | F37: 0.839±0.151 | G37: 0.743±0.289

Sheet train_MAPE
A1: dim- | B1: modelname- | C1: BDE-BindingEnergy | D1: Kraken-sterimol_B5 | E1: Kraken-sterimol_L | F1: Kraken-sterimol_burB5 | G1: Kraken-sterimol_burL | H1: tmQMg-gibbs_energy | I1: tmQMg-homo_lumo_gap_delta | J1: tmQMg-tzvp_dipole_moment
A2: 0 | B2: XGBoost | C2: 0.117±0.043 | D2: 0.275±0.101 | E2: 0.332±0.098 | F2: 0.523±0.181 | G2: 1.008±0.339 | H2: 1.208±0.802 | I2: 1.159±0.566 | J2: 1.865±0.819
A3: 2 | B3: ChemProp | C3: 0.522±0.032 | D3: 1.077±0.151 | E3: 1.444±0.21 | F3: 1.908±0.591 | G3: 1.967±0.82 | H3: 2.428±0.983 | I3: 2.419±0.102 | J3: 4.634±0.658
A4: 2 | B4: ChemProp_double | D4: 0.809±0.313 | E4: 1.179±0.1 | F4: 1.368±0.169 | G4: 1.485±0.141
A5: 2 | B5: ChemProp_half | D5: 1.852±0.169 | E5: 1.73±0.332 | F5: 2.309±0.189 | G5: 2.656±0.196
A6: 2 | B6: GT | C6: 0.226±0.032 | D6: 1.04±0.581 | E6: 1.873±0.343 | F6: 2.483±0.671 | G6: 3.211±0.419 | H6: 0.215±0.06 | I6: 0.543±0.058 | J6: 0.708±0.064
A7: 2 | B7: GT_double | D7: 0.692±0.031 | E7: 2.453±0.958 | F7: 2.689±1.394 | G7: 3.482±1.523
A8: 2 | B8: GT_half | D8: 1.184±0.648 | E8: 1.907±0.195 | F8: 2.661±1.339 | G8: 3.131±0.176
A9: 2 | B9: GTmulti | D9: 1.686±0.093 | E9: 1.992±0.132 | F9: 2.26±0.647 | G9: 2.284±0.778 | H9: 0.305±0.068 | I9: 1.246±0.158 | J9: 2.288±0.571
A10: 2 | B10: GTpretrain | C10: 0.351±0.051 | D10: 0.462±0.099 | E10: 1.445±0.312 | F10: 1.505±0.945 | G10: 0.764±0.042 | H10: 0.171±0.06 | I10: 0.438±0.012 | J10: 1.058±0.312
A11: 2 | B11: GTpretrain_all | D11: 0.708±0.349 | E11: 1.433±0.123 | F11: 1.619±0.295 | G11: 2.457±0.962
A12: 2 | B12: GTpretrain_half | D12: 0.842±0.077 | E12: 1.498±0.332 | F12: 1.685±0.498 | G12: 2.73±0.511
A13: 2 | B13: GTpretrainmulti | D13: 0.821±0.054 | E13: 1.149±0.088 | F13: 1.267±0.252 | G13: 0.863±0.044 | H13: 0.185±0.033 | I13: 1.238±0.131 | J13: 1.688±0.03
A14: 2 | B14: GIN-VN | C14: 0.551±0.094 | D14: 0.331±0.132 | E14: 0.493±0.145 | F14: 0.578±0.105 | G14: 0.35±0.064 | H14: 0.344±0.017 | I14: 0.629±0.078 | J14: 1.231±0.118
A15: 2 | B15: GIN-VN_double | D15: 0.331±0.104 | E15: 0.237±0.062 | F15: 0.215±0.073 | G15: 0.646±0.444
A16: 2 | B16: GIN-VN_half | D16: 0.473±0.136 | E16: 0.886±0.314 | F16: 1.075±0.264 | G16: 0.983±0.06
A17: 3 | B17: ChIRo | C17: 0.551±0.038 | D17: 1.884±0.228 | E17: 2.361±0.203 | F17: 2.553±0.54 | G17: 2.46±0.134 | H17: 1.391±0.749 | I17: 2.489±0.112 | J17: 3.808±0.117
A18: 3 | B18: GT | C18: 0.133±0.035 | D18: 0.771±0.272 | E18: 1.797±0.302 | F18: 1.99±0.631 | G18: 1.445±0.627 | H18: 0.172±0.073 | I18: 0.449±0.008 | J18: 0.774±0.264
A19: 3 | B19: GT_double | D19: 0.86±0.255 | E19: 1.453±0.324 | F19: 1.4±0.415 | G19: 1.031±0.439
A20: 3 | B20: GT_half | D20: 0.989±0.043 | E20: 1.767±0.255 | F20: 1.895±0.417 | G20: 1.874±0.512
A21: 3 | B21: GTmulti | D21: 0.667±0.116 | E21: 1.19±0.257 | F21: 0.837±0.176 | G21: 1.092±0.36 | H21: 0.263±0.013 | I21: 1.253±0.47 | J21: 2.046±1.003
A22: 3 | B22: GTpretrain | C22: 0.177±0.02 | D22: 0.521±0.081 | E22: 0.848±0.348 | F22: 0.609±0.217 | G22: 0.628±0.219 | H22: 0.204±0.083 | I22: 0.373±0.037 | J22: 0.586±0.129
A23: 3 | B23: GTpretrain_all | D23: 0.688±0.113 | E23: 0.557±0.179 | F23: 1.097±0.494 | G23: 0.943±0.053
A24: 3 | B24: GTpretrain_half | D24: 0.55±0.196 | E24: 0.698±0.19 | F24: 0.683±0.247 | G24: 0.697±0.144
A25: 3 | B25: GTpretrainmulti | D25: 0.43±0.129 | E25: 0.683±0.058 | F25: 0.731±0.297 | G25: 0.666±0.091 | H25: 0.25±0.069 | I25: 0.977±0.197 | J25: 1.713±0.283
A26: 3 | B26: PaiNN | C26: 0.054±0.009 | D26: 1.377±0.406 | E26: 1.358±0.247 | F26: 1.071±0.313 | G26: 6.161±0.743 | H26: 0.019±0.009 | I26: 1.082±1.176 | J26: 1.82±1.713
A27: 3 | B27: PaiNN_double | D27: 2.186±3.071 | E27: 1.704±1.123 | F27: 5.645±0.22 | G27: 6.182±2.151
A28: 3 | B28: PaiNN_half | D28: 1.296±0.339 | E28: 1.985±0.362 | F28: 1.756±1.186 | G28: 1.614±0.442
A29: 3 | B29: SchNet | C29: 0.54±0.148 | D29: 1.787±0.14 | E29: 2.174±0.341 | F29: 3.51±0.584 | G29: 3.822±0.453 | H29: 0.262±0.013 | I29: 2.291±0.077 | J29: 3.701±0.448
A30: 3 | B30: SchNet_double | D30: 1.621±0.214 | E30: 1.835±0.454 | F30: 2.906±0.666 | G30: 3.286±0.752
A31: 3 | B31: SchNet_half | D31: 1.817±0.065 | E31: 2.362±0.183 | F31: 3.287±0.899 | G31: 3.573±0.547
A32: 4 | B32: GT | C32: 0.234±0.143 | D32: 0.328±0.048 | E32: 0.708±0.356 | F32: 0.47±0.125 | G32: 0.507±0.195
A33: 4 | B33: GTmulti | D33: 0.403±0.131 | E33: 0.684±0.399 | F33: 0.757±0.345 | G33: 0.543±0.315
A34: 4 | B34: GTpretrain | C34: 0.264±0.033 | D34: 0.479±0.112 | E34: 0.713±0.261 | F34: 0.433±0.047 | G34: 0.29±0.051
A35: 4 | B35: GTpretrainmulti | D35: 0.432±0.122 | E35: 0.732±0.403 | F35: 0.848±0.476 | G35: 0.495±0.347
A36: 4 | B36: PaiNN | C36: 0.037±0.006 | D36: 0.171±0.012 | E36: 0.314±0.246 | F36: 0.232±0.068 | G36: 0.298±0.128
A37: 4 | B37: SchNet | C37: 0.213±0.015 | D37: 0.571±0.138 | E37: 1.914±0.465 | F37: 2.867±1.709 | G37: 2.253±1.135

Sheet valid_R2
A1: dim- | B1: modelname- | C1: BDE-BindingEnergy | D1: Kraken-sterimol_B5 | E1: Kraken-sterimol_L | F1: Kraken-sterimol_burB5 | G1: Kraken-sterimol_burL | H1: tmQMg-gibbs_energy | I1: tmQMg-homo_lumo_gap_delta | J1: tmQMg-tzvp_dipole_moment
A2: 0 | B2: XGBoost | C2: 0.965±0.002 | D2: 0.803±0.005 | E2: 0.771±0.005 | F2: 0.799±0.012 | G2: 0.621±0.012 | H2: 0.878±0.001 | I2: 0.661±0.011 | J2: 0.509±0.015
A3: 2 | B3: ChemProp | C3: 0.93±0.011 | D3: 0.877±0.016 | E3: 0.717±0.015 | F3: 0.85±0.017 | G3: 0.551±0.117 | H3: 0.909±0.008 | I3: 0.686±0.011 | J3: 0.422±0.015
A4: 2 | B4: ChemProp_double | D4: 0.899±0.016 | E4: 0.709±0.004 | F4: 0.875±0.006 | G4: 0.658±0.026
A5: 2 | B5: ChemProp_half | D5: 0.796±0.024 | E5: 0.712±0.023 | F5: 0.821±0.013 | G5: 0.412±0.087
A6: 2 | B6: GT | C6: 0.956±0.001 | D6: 0.872±0.043 | E6: 0.689±0.016 | F6: 0.727±0.029 | G6: 0.479±0.024 | H6: 0.998±0.001 | I6: 0.651±0.022 | J6: 0.426±0.039
A7: 2 | B7: GT_double | D7: 0.884±0.029 | E7: 0.736±0.033 | F7: 0.746±0.09 | G7: 0.524±0.009
A8: 2 | B8: GT_half | D8: 0.842±0.064 | E8: 0.696±0.044 | F8: 0.756±0.077 | G8: 0.48±0.021
A9: 2 | B9: GTmulti | D9: 0.798±0.024 | E9: 0.636±0.035 | F9: 0.741±0.012 | G9: 0.436±0.04 | H9: 0.995±0.001 | I9: 0.614±0.024 | J9: 0.4±0.034
A10: 2 | B10: GTpretrain | C10: 0.964±0.001 | D10: 0.902±0.021 | E10: 0.772±0.018 | F10: 0.868±0.024 | G10: 0.585±0.035 | H10: 0.999±0.001 | I10: 0.731±0.006 | J10: 0.545±0.013
A11: 2 | B11: GTpretrain_all | D11: 0.901±0.014 | E11: 0.705±0.02 | F11: 0.86±0.024 | G11: 0.451±0.033
A12: 2 | B12: GTpretrain_half | D12: 0.911±0.01 | E12: 0.68±0.008 | F12: 0.836±0.024 | G12: 0.471±0.032
A13: 2 | B13: GTpretrainmulti | D13: 0.895±0.026 | E13: 0.697±0.06 | F13: 0.836±0.021 | G13: 0.607±0.009 | H13: 0.996±0.001 | I13: 0.697±0.004 | J13: 0.517±0.008
A14: 2 | B14: GIN-VN | C14: 0.891±0.018 | D14: 0.856±0.011 | E14: 0.772±0.027 | F14: 0.729±0.094 | G14: 0.612±0.038 | H14: 0.978±0.006 | I14: 0.681±0.016 | J14: 0.47±0.003
A15: 2 | B15: GIN-VN_double | D15: 0.855±0.031 | E15: 0.78±0.033 | F15: 0.707±0.086 | G15: 0.627±0.045
A16: 2 | B16: GIN-VN_half | D16: 0.82±0.032 | E16: 0.693±0.007 | F16: 0.672±0.095 | G16: 0.595±0.037
A17: 3 | B17: ChIRo | C17: 0.951±0.001 | D17: 0.686±0.018 | E17: 0.694±0.012 | F17: 0.618±0.059 | G17: 0.477±0.066 | H17: 0.989±0.002 | I17: 0.643±0.016 | J17: 0.374±0.044
A18: 3 | B18: GT | C18: 0.977±0.0 | D18: 0.865±0.037 | E18: 0.715±0.046 | F18: 0.82±0.014 | G18: 0.608±0.047 | H18: 0.999±0.0 | I18: 0.661±0.002 | J18: 0.408±0.017
A19: 3 | B19: GT_double | D19: 0.888±0.006 | E19: 0.725±0.062 | F19: 0.823±0.022 | G19: 0.617±0.053
A20: 3 | B20: GT_half | D20: 0.861±0.022 | E20: 0.734±0.067 | F20: 0.816±0.029 | G20: 0.541±0.037
A21: 3 | B21: GTmulti | D21: 0.876±0.014 | E21: 0.724±0.029 | F21: 0.843±0.005 | G21: 0.587±0.021 | H21: 0.998±0.0 | I21: 0.633±0.022 | J21: 0.398±0.039
A22: 3 | B22: GTpretrain | C22: 0.977±0.001 | D22: 0.91±0.01 | E22: 0.738±0.021 | F22: 0.833±0.011 | G22: 0.692±0.035 | H22: 0.998±0.001 | I22: 0.714±0.016 | J22: 0.489±0.022
A23: 3 | B23: GTpretrain_all | D23: 0.903±0.009 | E23: 0.753±0.014 | F23: 0.801±0.017 | G23: 0.629±0.018
A24: 3 | B24: GTpretrain_half | D24: 0.877±0.003 | E24: 0.709±0.019 | F24: 0.796±0.019 | G24: 0.635±0.035
A25: 3 | B25: GTpretrainmulti | D25: 0.91±0.013 | E25: 0.767±0.02 | F25: 0.856±0.009 | G25: 0.701±0.012 | H25: 0.996±0.001 | I25: 0.675±0.018 | J25: 0.435±0.026
A26: 3 | B26: PaiNN | C26: 0.985±0.001 | D26: 0.842±0.046 | E26: 0.765±0.063 | F26: 0.829±0.052 | G26: -0.086±0.17 | H26: 1.0±0.0 | I26: 0.511±0.003 | J26: 0.309±0.011
A27: 3 | B27: PaiNN_double | D27: 0.677±0.406 | E27: 0.645±0.263 | F27: 0.263±0.218 | G27: 0.164±0.076
A28: 3 | B28: PaiNN_half | D28: 0.804±0.062 | E28: 0.622±0.157 | F28: 0.797±0.047 | G28: 0.611±0.055
A29: 3 | B29: SchNet | C29: 0.966±0.006 | D29: 0.573±0.343 | E29: 0.587±0.05 | F29: 0.74±0.094 | G29: 0.491±0.086 | H29: 0.996±0.0 | I29: 0.492±0.001 | J29: 0.26±0.03
A30: 3 | B30: SchNet_double | D30: 0.717±0.17 | E30: 0.639±0.052 | F30: 0.822±0.01 | G30: 0.54±0.029
A31: 3 | B31: SchNet_half | D31: 0.737±0.088 | E31: 0.616±0.033 | F31: 0.786±0.018 | G31: 0.496±0.033
A32: 4 | B32: GT | C32: 0.974±0.005 | D32: 0.911±0.001 | E32: 0.75±0.043 | F32: 0.851±0.003 | G32: 0.682±0.047
A33: 4 | B33: GTmulti | D33: 0.905±0.003 | E33: 0.768±0.015 | F33: 0.865±0.022 | G33: 0.652±0.038
A34: 4 | B34: GTpretrain | C34: 0.971±0.002 | D34: 0.922±0.011 | E34: 0.778±0.016 | F34: 0.879±0.005 | G34: 0.721±0.007
A35: 4 | B35: GTpretrainmulti | D35: 0.927±0.013 | E35: 0.756±0.018 | F35: 0.866±0.039 | G35: 0.721±0.011
A36: 4 | B36: PaiNN | C36: 0.982±0.0 | D36: 0.936±0.003 | E36: 0.847±0.01 | F36: 0.908±0.003 | G36: 0.717±0.028
A37: 4 | B37: SchNet | C37: 0.973±0.001 | D37: 0.903±0.006 | E37: 0.683±0.01 | F37: 0.734±0.226 | G37: 0.551±0.059

Sheet valid_MAPE
A1: dim- | B1: modelname- | C1: BDE-BindingEnergy | D1: Kraken-sterimol_B5 | E1: Kraken-sterimol_L | F1: Kraken-sterimol_burB5 | G1: Kraken-sterimol_burL | H1: tmQMg-gibbs_energy | I1: tmQMg-homo_lumo_gap_delta | J1: tmQMg-tzvp_dipole_moment
A2: 0 | B2: XGBoost | C2: 0.529±0.065 | D2: 1.327±0.103 | E2: 1.195±0.08 | F2: 1.473±0.041 | G2: 1.016±0.072 | H2: 1.37±0.114 | I2: 1.823±0.179 | J2: 7.619±1.084
A3: 2 | B3: ChemProp | C3: 0.681±0.042 | D3: 1.085±0.126 | E3: 1.195±0.093 | F3: 1.557±0.337 | G3: 1.638±0.048 | H3: 1.549±0.147 | I3: 2.424±0.394 | J3: 2.649±0.165
A4: 2 | B4: ChemProp_double | D4: 0.889±0.111 | E4: 1.128±0.266 | F4: 1.305±0.087 | G4: 1.348±0.098
A5: 2 | B5: ChemProp_half | D5: 1.348±0.122 | E5: 1.22±0.084 | F5: 1.807±0.109 | G5: 1.608±0.061
A6: 2 | B6: GT | C6: 0.855±0.068 | D6: 1.012±0.175 | E6: 1.092±0.045 | F6: 1.929±0.141 | G6: 1.746±0.179 | H6: 0.142±0.038 | I6: 2.228±0.187 | J6: 10.34±2.766
A7: 2 | B7: GT_double | D7: 0.875±0.037 | E7: 1.233±0.16 | F7: 1.969±0.886 | G7: 1.761±0.187
A8: 2 | B8: GT_half | D8: 1.014±0.128 | E8: 1.1±0.068 | F8: 1.95±0.383 | G8: 1.494±0.206
A9: 2 | B9: GTmulti | D9: 1.306±0.13 | E9: 1.222±0.103 | F9: 1.558±0.051 | G9: 1.737±0.087 | H9: 0.225±0.065 | I9: 2.429±0.238 | J9: 8.89±1.478
A10: 2 | B10: GTpretrain | C10: 0.548±0.048 | D10: 0.952±0.063 | E10: 1.368±0.177 | F10: 1.355±0.543 | G10: 1.438±0.177 | H10: 0.125±0.059 | I10: 2.019±0.064 | J10: 8.016±0.789
A11: 2 | B11: GTpretrain_all | D11: 0.647±0.018 | E11: 1.376±0.111 | F11: 1.368±0.141 | G11: 1.773±0.099
A12: 2 | B12: GTpretrain_half | D12: 0.866±0.089 | E12: 1.552±0.262 | F12: 1.335±0.155 | G12: 1.757±0.163
A13: 2 | B13: GTpretrainmulti | D13: 0.988±0.207 | E13: 1.286±0.088 | F13: 1.384±0.265 | G13: 1.584±0.202 | H13: 0.137±0.016 | I13: 2.154±0.165 | J13: 5.145±0.464
A14: 2 | B14: GIN-VN | C14: 0.663±0.081 | D14: 1.137±0.08 | E14: 1.131±0.082 | F14: 1.245±0.182 | G14: 1.198±0.204 | H14: 0.291±0.026 | I14: 1.919±0.058 | J14: 7.988±1.741
A15: 2 | B15: GIN-VN_double | D15: 1.172±0.103 | E15: 1.027±0.089 | F15: 1.182±0.164 | G15: 1.027±0.122
A16: 2 | B16: GIN-VN_half | D16: 1.172±0.113 | E16: 1.399±0.089 | F16: 1.689±0.158 | G16: 1.396±0.187
A17: 3 | B17: ChIRo | C17: 0.896±0.032 | D17: 1.496±0.044 | E17: 1.59±0.082 | F17: 1.9±0.187 | G17: 1.562±0.089 | H17: 0.612±0.13 | I17: 3.049±0.049 | J17: 2.853±0.231
A18: 3 | B18: GT | C18: 0.692±0.145 | D18: 0.858±0.104 | E18: 1.175±0.166 | F18: 1.569±0.115 | G18: 1.682±0.177 | H18: 0.107±0.04 | I18: 2.472±0.282 | J18: 7.538±1.883
A19: 3 | B19: GT_double | D19: 0.803±0.08 | E19: 1.106±0.181 | F19: 1.534±0.119 | G19: 1.348±0.298
A20: 3 | B20: GT_half | D20: 0.885±0.08 | E20: 1.134±0.047 | F20: 1.449±0.23 | G20: 1.476±0.313
A21: 3 | B21: GTmulti | D21: 0.742±0.013 | E21: 1.041±0.091 | F21: 1.442±0.258 | G21: 1.443±0.331 | H21: 0.174±0.019 | I21: 2.291±0.233 | J21: 9.423±1.591
A22: 3 | B22: GTpretrain | C22: 0.466±0.025 | D22: 0.702±0.078 | E22: 1.058±0.069 | F22: 1.014±0.152 | G22: 1.297±0.13 | H22: 0.138±0.052 | I22: 2.525±0.351 | J22: 9.646±1.634
A23: 3 | B23: GTpretrain_all | D23: 0.808±0.112 | E23: 1.052±0.098 | F23: 1.285±0.165 | G23: 1.344±0.121
A24: 3 | B24: GTpretrain_half | D24: 0.911±0.059 | E24: 1.131±0.145 | F24: 1.229±0.159 | G24: 1.322±0.047
A25: 3 | B25: GTpretrainmulti | D25: 0.806±0.078 | E25: 1.029±0.058 | F25: 0.922±0.105 | G25: 1.255±0.035 | H25: 0.176±0.04 | I25: 2.378±0.245 | J25: 7.949±1.089
A26: 3 | B26: PaiNN | C26: 0.513±0.071 | D26: 0.83±0.118 | E26: 1.6±0.246 | F26: 1.089±0.219 | G26: 3.823±0.156 | H26: 0.016±0.006 | I26: 3.397±0.404 | J26: 8.488±1.879
A27: 3 | B27: PaiNN_double | D27: 1.672±1.597 | E27: 1.619±0.248 | F27: 3.922±0.349 | G27: 3.15±1.008
A28: 3 | B28: PaiNN_half | D28: 0.979±0.098 | E28: 1.803±0.547 | F28: 1.487±0.433 | G28: 1.676±0.045
A29: 3 | B29: SchNet | C29: 1.055±0.121 | D29: 1.112±0.144 | E29: 1.241±0.144 | F29: 1.839±0.375 | G29: 1.835±0.272 | H29: 0.21±0.044 | I29: 3.014±0.492 | J29: 7.718±3.644
A30: 3 | B30: SchNet_double | D30: 1.018±0.083 | E30: 1.102±0.032 | F30: 1.655±0.41 | G30: 1.729±0.329
A31: 3 | B31: SchNet_half | D31: 1.113±0.044 | E31: 1.136±0.087 | F31: 1.873±0.164 | G31: 1.652±0.246
A32: 4 | B32: GT | C32: 0.65±0.188 | D32: 0.729±0.049 | E32: 1.077±0.095 | F32: 1.2±0.111 | G32: 1.322±0.285
A33: 4 | B33: GTmulti | D33: 0.634±0.035 | E33: 1.004±0.152 | F33: 1.187±0.188 | G33: 1.209±0.042
A34: 4 | B34: GTpretrain | C34: 0.375±0.094 | D34: 0.66±0.017 | E34: 0.908±0.109 | F34: 0.797±0.032 | G34: 1.143±0.014
A35: 4 | B35: GTpretrainmulti | D35: 0.728±0.069 | E35: 0.95±0.103 | F35: 0.924±0.277 | G35: 1.143±0.064
A36: 4 | B36: PaiNN | C36: 0.563±0.017 | D36: 0.631±0.028 | E36: 1.042±0.146 | F36: 0.902±0.096 | G36: 0.899±0.06
A37: 4 | B37: SchNet | C37: 0.808±0.089 | D37: 0.865±0.035 | E37: 1.221±0.084 | F37: 1.63±0.305 | G37: 1.614±0.051

Sheet test_R2
A1: dim- | B1: modelname- | C1: BDE-BindingEnergy | D1: Kraken-sterimol_B5 | E1: Kraken-sterimol_L | F1: Kraken-sterimol_burB5 | G1: Kraken-sterimol_burL | H1: tmQMg-gibbs_energy | I1: tmQMg-homo_lumo_gap_delta | J1: tmQMg-tzvp_dipole_moment
A2: 0 | B2: XGBoost | C2: 0.964±0.001 | D2: 0.804±0.004 | E2: 0.684±0.008 | F2: 0.706±0.011 | G2: 0.659±0.019 | H2: 0.887±0.002 | I2: 0.676±0.009 | J2: 0.499±0.014
A3: 2 | B3: ChemProp | C3: 0.925±0.007 | D3: 0.85±0.02 | E3: 0.706±0.031 | F3: 0.748±0.016 | G3: 0.513±0.054 | H3: 0.877±0.007 | I3: 0.688±0.006 | J3: 0.425±0.014
A4: 2 | B4: ChemProp_double | D4: 0.875±0.004 | E4: 0.699±0.012 | F4: 0.736±0.003 | G4: 0.552±0.027
A5: 2 | B5: ChemProp_half | D5: 0.781±0.036 | E5: 0.626±0.017 | F5: 0.749±0.015 | G5: 0.471±0.021
A6: 2 | B6: GT | C6: 0.956±0.005 | D6: 0.822±0.066 | E6: 0.43±0.074 | F6: 0.676±0.019 | G6: 0.182±0.023 | H6: 0.998±0.0 | I6: 0.682±0.015 | J6: 0.4±0.028
A7: 2 | B7: GT_double | D7: 0.842±0.029 | E7: 0.581±0.043 | F7: 0.572±0.198 | G7: 0.072±0.033
A8: 2 | B8: GT_half | D8: 0.806±0.083 | E8: 0.388±0.117 | F8: 0.563±0.241 | G8: 0.111±0.047
A9: 2 | B9: GTmulti | D9: 0.78±0.014 | E9: 0.527±0.033 | F9: 0.62±0.035 | G9: 0.248±0.093 | H9: 0.996±0.001 | I9: 0.642±0.022 | J9: 0.388±0.032
A10: 2 | B10: GTpretrain | C10: 0.965±0.002 | D10: 0.867±0.011 | E10: 0.603±0.03 | F10: 0.707±0.03 | G10: 0.489±0.022 | H10: 0.999±0.001 | I10: 0.745±0.001 | J10: 0.527±0.022
A11: 2 | B11: GTpretrain_all | D11: 0.843±0.028 | E11: 0.639±0.023 | F11: 0.675±0.032 | G11: 0.313±0.038
A12: 2 | B12: GTpretrain_half | D12: 0.847±0.004 | E12: 0.568±0.025 | F12: 0.668±0.009 | G12: 0.278±0.05
A13: 2 | B13: GTpretrainmulti | D13: 0.847±0.008 | E13: 0.527±0.025 | F13: 0.698±0.021 | G13: 0.519±0.026 | H13: 0.996±0.001 | I13: 0.719±0.002 | J13: 0.507±0.001
A14: 2 | B14: GIN-VN | C14: 0.879±0.02 | D14: 0.861±0.019 | E14: 0.654±0.022 | F14: 0.726±0.018 | G14: 0.54±0.026 | H14: 0.981±0.005 | I14: 0.707±0.011 | J14: 0.501±0.006
A15: 2 | B15: GIN-VN_double | D15: 0.876±0.013 | E15: 0.678±0.009 | F15: 0.765±0.02 | G15: 0.597±0.013
A16: 2 | B16: GIN-VN_half | D16: 0.808±0.021 | E16: 0.585±0.011 | F16: 0.677±0.02 | G16: 0.494±0.072
A17: 3 | B17: ChIRo | C17: 0.942±0.002 | D17: 0.693±0.016 | E17: 0.598±0.004 | F17: 0.627±0.035 | G17: 0.45±0.004 | H17: 0.983±0.0 | I17: 0.634±0.006 | J17: 0.371±0.037
A18: 3 | B18: GT | C18: 0.973±0.002 | D18: 0.838±0.01 | E18: 0.609±0.08 | F18: 0.71±0.025 | G18: 0.414±0.034 | H18: 0.999±0.0 | I18: 0.689±0.006 | J18: 0.392±0.018
A19: 3 | B19: GT_double | D19: 0.865±0.013 | E19: 0.671±0.003 | F19: 0.719±0.037 | G19: 0.383±0.073
A20: 3 | B20: GT_half | D20: 0.828±0.01 | E20: 0.646±0.025 | F20: 0.712±0.018 | G20: 0.384±0.036
A21: 3 | B21: GTmulti | D21: 0.858±0.006 | E21: 0.674±0.014 | F21: 0.735±0.023 | G21: 0.473±0.039 | H21: 0.998±0.0 | I21: 0.657±0.012 | J21: 0.362±0.046
A22: 3 | B22: GTpretrain | C22: 0.977±0.001 | D22: 0.891±0.011 | E22: 0.723±0.008 | F22: 0.767±0.015 | G22: 0.582±0.03 | H22: 0.998±0.001 | I22: 0.726±0.004 | J22: 0.469±0.01
A23: 3 | B23: GTpretrain_all | D23: 0.877±0.001 | E23: 0.726±0.014 | F23: 0.732±0.007 | G23: 0.518±0.026
A24: 3 | B24: GTpretrain_half | D24: 0.875±0.008 | E24: 0.667±0.008 | F24: 0.761±0.011 | G24: 0.491±0.041
A25: 3 | B25: GTpretrainmulti | D25: 0.883±0.015 | E25: 0.702±0.046 | F25: 0.766±0.023 | G25: 0.575±0.035 | H25: 0.995±0.001 | I25: 0.692±0.013 | J25: 0.421±0.029
A26: 3 | B26: PaiNN | C26: 0.983±0.001 | D26: 0.847±0.02 | E26: 0.717±0.005 | F26: 0.76±0.02 | G26: -0.063±0.078 | H26: 1.0±0.0 | I26: 0.529±0.005 | J26: 0.291±0.012
A27: 3 | B27: PaiNN_double | D27: 0.655±0.405 | E27: 0.588±0.241 | F27: 0.112±0.357 | G27: -0.078±0.131
A28: 3 | B28: PaiNN_half | D28: 0.816±0.016 | E28: 0.556±0.247 | F28: 0.753±0.053 | G28: 0.561±0.01
A29: 3 | B29: SchNet | C29: 0.962±0.008 | D29: 0.729±0.054 | E29: 0.558±0.033 | F29: 0.66±0.1 | G29: 0.392±0.053 | H29: 0.989±0.006 | I29: 0.526±0.008 | J29: 0.254±0.006
A30: 3 | B30: SchNet_double | D30: 0.775±0.008 | E30: 0.583±0.074 | F30: 0.714±0.015 | G30: 0.419±0.017
A31: 3 | B31: SchNet_half | D31: 0.727±0.033 | E31: 0.54±0.021 | F31: 0.7±0.013 | G31: 0.365±0.026
A32: 4 | B32: GT | C32: 0.969±0.004 | D32: 0.886±0.01 | E32: 0.68±0.055 | F32: 0.737±0.03 | G32: 0.464±0.028
A33: 4 | B33: GTmulti | D33: 0.868±0.001 | E33: 0.664±0.014 | F33: 0.758±0.019 | G33: 0.434±0.047
A34: 4 | B34: GTpretrain | C34: 0.97±0.004 | D34: 0.871±0.012 | E34: 0.754±0.016 | F34: 0.779±0.005 | G34: 0.59±0.028
A35: 4 | B35: GTpretrainmulti | D35: 0.904±0.003 | E35: 0.725±0.014 | F35: 0.774±0.02 | G35: 0.585±0.007
A36: 4 | B36: PaiNN | C36: 0.979±0.0 | D36: 0.906±0.005 | E36: 0.795±0.005 | F36: 0.84±0.009 | G36: 0.685±0.007
A37: 4 | B37: SchNet | C37: 0.97±0.001 | D37: 0.832±0.008 | E37: 0.587±0.042 | F37: 0.69±0.065 | G37: 0.445±0.06

Sheet test_MAPE
A1: dim- | B1: modelname- | C1: BDE-BindingEnergy | D1: Kraken-sterimol_B5 | E1: Kraken-sterimol_L | F1: Kraken-sterimol_burB5 | G1: Kraken-sterimol_burL | H1: tmQMg-gibbs_energy | I1: tmQMg-homo_lumo_gap_delta | J1: tmQMg-tzvp_dipole_moment
A2: 0 | B2: XGBoost | C2: 0.465±0.014 | D2: 1.31±0.028 | E2: 1.963±0.193 | F2: 0.99±0.014 | G2: 1.355±0.814 | H2: 1.257±0.163 | I2: 2.553±0.104 | J2: 3.269±0.313
A3: 2 | B3: ChemProp | C3: 0.488±0.021 | D3: 0.953±0.039 | E3: 2.108±0.132 | F3: 1.505±0.286 | G3: 3.173±1.013 | H3: 1.546±0.075 | I3: 2.545±0.183 | J3: 3.327±0.207
A4: 2 | B4: ChemProp_double | D4: 0.913±0.108 | E4: 2.134±0.253 | F4: 1.278±0.113 | G4: 3.04±0.796
A5: 2 | B5: ChemProp_half | D5: 1.325±0.067 | E5: 2.093±0.342 | F5: 1.744±0.039 | G5: 2.783±0.318
A6: 2 | B6: GT | C6: 0.445±0.02 | D6: 1.189±0.263 | E6: 2.144±0.183 | F6: 2.266±0.258 | G6: 2.682±0.592 | H6: 0.139±0.021 | I6: 2.654±0.287 | J6: 3.857±0.772
A7: 2 | B7: GT_double | D7: 1.157±0.074 | E7: 1.873±0.482 | F7: 2.153±0.378 | G7: 2.649±1.238
A8: 2 | B8: GT_half | D8: 1.326±0.486 | E8: 2.469±0.593 | F8: 2.166±0.246 | G8: 2.131±0.134
A9: 2 | B9: GTmulti | D9: 1.875±0.041 | E9: 2.119±0.065 | F9: 1.595±0.151 | G9: 2.473±0.845 | H9: 0.195±0.051 | I9: 3.193±0.683 | J9: 3.516±0.339
A10: 2 | B10: GTpretrain | C10: 0.412±0.01 | D10: 0.987±0.117 | E10: 2.272±0.276 | F10: 1.662±0.406 | G10: 5.722±1.445 | H10: 0.132±0.051 | I10: 2.17±0.04 | J10: 3.339±0.652
A11: 2 | B11: GTpretrain_all | D11: 1.325±0.091 | E11: 2.034±0.107 | F11: 2.606±0.11 | G11: 2.329±0.244
A12: 2 | B12: GTpretrain_half | D12: 1.196±0.087 | E12: 1.923±0.132 | F12: 1.835±0.274 | G12: 2.261±0.396
A13: 2 | B13: GTpretrainmulti | D13: 1.235±0.11 | E13: 2.354±0.053 | F13: 1.086±0.163 | G13: 3.735±0.406 | H13: 0.141±0.007 | I13: 2.491±0.1 | J13: 3.246±0.345
A14: 2 | B14: GIN-VN | C14: 0.546±0.054 | D14: 0.919±0.049 | E14: 1.572±0.171 | F14: 1.208±0.052 | G14: 3.819±1.731 | H14: 0.33±0.017 | I14: 2.64±0.229 | J14: 3.986±0.293
A15: 2 | B15: GIN-VN_double | D15: 0.886±0.054 | E15: 1.644±0.072 | F15: 1.358±0.08 | G15: 3.56±1.948
A16: 2 | B16: GIN-VN_half | D16: 1.105±0.121 | E16: 1.984±0.355 | F16: 1.623±0.415 | G16: 3.246±0.903
A17: 3 | B17: ChIRo | C17: 0.452±0.006 | D17: 1.348±0.092 | E17: 1.835±0.205 | F17: 1.695±0.215 | G17: 2.647±0.638 | H17: 0.503±0.092 | I17: 2.757±0.117 | J17: 3.781±0.15
A18: 3 | B18: GT | C18: 0.367±0.032 | D18: 1.044±0.147 | E18: 1.853±0.126 | F18: 1.56±0.246 | G18: 2.538±0.907 | H18: 0.105±0.021 | I18: 2.958±0.176 | J18: 3.903±0.799
A19: 3 | B19: GT_double | D19: 1.102±0.062 | E19: 2.234±0.488 | F19: 1.566±0.522 | G19: 4.177±1.392
A20: 3 | B20: GT_half | D20: 1.149±0.131 | E20: 1.98±0.409 | F20: 1.526±0.188 | G20: 3.336±1.126
A21: 3 | B21: GTmulti | D21: 1.06±0.129 | E21: 1.954±0.437 | F21: 1.258±0.291 | G21: 5.581±1.839 | H21: 0.158±0.006 | I21: 3.257±0.115 | J21: 4.845±1.32
A22: 3 | B22: GTpretrain | C22: 0.319±0.032 | D22: 0.895±0.111 | E22: 1.738±0.069 | F22: 1.131±0.152 | G22: 2.104±0.726 | H22: 0.144±0.08 | I22: 2.681±0.05 | J22: 4.134±0.225
A23: 3 | B23: GTpretrain_all | D23: 0.922±0.125 | E23: 2.025±0.047 | F23: 1.135±0.13 | G23: 2.148±0.968
A24: 3 | B24: GTpretrain_half | D24: 1.017±0.143 | E24: 1.8±0.059 | F24: 1.225±0.032 | G24: 3.626±2.815
A25: 3 | B25: GTpretrainmulti | D25: 0.744±0.15 | E25: 2.254±0.076 | F25: 1.032±0.156 | G25: 2.487±1.311 | H25: 0.15±0.021 | I25: 2.948±0.255 | J25: 4.371±0.445
A26: 3 | B26: PaiNN | C26: 0.283±0.009 | D26: 0.982±0.086 | E26: 2.065±0.303 | F26: 1.045±0.308 | G26: 7.455±3.768 | H26: 0.014±0.001 | I26: 3.719±0.102 | J26: 5.522±0.283
A27: 3 | B27: PaiNN_double | D27: 2.215±2.367 | E27: 1.842±0.579 | F27: 3.82±0.531 | G27: 6.517±1.976
A28: 3 | B28: PaiNN_half | D28: 1.13±0.226 | E28: 2.461±0.953 | F28: 1.204±0.286 | G28: 6.792±2.853
A29: 3 | B29: SchNet | C29: 0.459±0.07 | D29: 1.502±0.038 | E29: 2.046±0.136 | F29: 1.785±0.457 | G29: 1.97±0.347 | H29: 0.188±0.013 | I29: 3.157±0.257 | J29: 4.608±0.294
A30: 3 | B30: SchNet_double | D30: 1.395±0.292 | E30: 1.64±0.161 | F30: 1.646±0.248 | G30: 3.681±1.204
A31: 3 | B31: SchNet_half | D31: 1.434±0.124 | E31: 1.713±0.132 | F31: 1.898±0.236 | G31: 2.198±0.079
A32: 4 | B32: GT | C32: 0.361±0.021 | D32: 0.722±0.057 | E32: 1.535±0.181 | F32: 1.202±0.159 | G32: 3.444±0.762
A33: 4 | B33: GTmulti | D33: 0.845±0.053 | E33: 1.764±0.124 | F33: 1.143±0.183 | G33: 2.779±0.802
A34: 4 | B34: GTpretrain | C34: 0.339±0.018 | D34: 0.809±0.052 | E34: 1.771±0.256 | F34: 0.91±0.089 | G34: 4.367±0.558
A35: 4 | B35: GTpretrainmulti | D35: 0.667±0.088 | E35: 1.808±0.34 | F35: 1.047±0.123 | G35: 3.965±1.164
A36: 4 | B36: PaiNN | C36: 0.325±0.009 | D36: 0.722±0.038 | E36: 1.171±0.103 | F36: 0.886±0.11 | G36: 1.901±0.73
A37: 4 | B37: SchNet | C37: 0.407±0.026 | D37: 1.318±0.157 | E37: 2.36±0.507 | F37: 1.75±0.403 | G37: 2.512±0.284

Sheet DELTA_MAPE
A1: dim- | B1: modelname- | C1: BDE-BindingEnergy | D1: Kraken-sterimol_B5 | E1: Kraken-sterimol_L | F1: Kraken-sterimol_burB5 | G1: Kraken-sterimol_burL | H1: tmQMg-gibbs_energy | I1: tmQMg-homo_lumo_gap_delta | J1: tmQMg-tzvp_dipole_moment
A2: 0 | B2: XGBoost | C2: =LEFT(train_MAPE!C2, SEARCH("±", train_MAPE!C2) - 1)-LEFT(test_MAPE!C2, SEARCH("±", test_MAPE!C2) - 1) -> -0.348 | D2: =LEFT(train_MAPE!D2, SEARCH("±", train_MAPE!D2) - 1)-LEFT(test_MAPE!D2, SEARCH("±", test_MAPE!D2) - 1) -> -1.035 | E2: =LEFT(train_MAPE!E2, SEARCH("±", train_MAPE!E2) - 1)-LEFT(test_MAPE!E2, SEARCH("±", test_MAPE!E2) - 1) -> -1.631 | F2: =LEFT(train_MAPE!F2, SEARCH("±", train_MAPE!F2) - 1)-LEFT(test_MAPE!F2, SEARCH("±", test_MAPE!F2) - 1) -> -0.467 | G2: =LEFT(train_MAPE!G2, SEARCH("±", train_MAPE!G2) - 1)-LEFT(test_MAPE!G2, SEARCH("±", test_MAPE!G2) - 1) -> -0.347 | H2: =LEFT(train_MAPE!H2, SEARCH("±", train_MAPE!H2) - 1)-LEFT(test_MAPE!H2, SEARCH("±", test_MAPE!H2) - 1) -> -0.049 | I2: =LEFT(train_MAPE!I2, SEARCH("±", train_MAPE!I2) - 1)-LEFT(test_MAPE!I2, SEARCH("±", test_MAPE!I2) - 1) -> -1.394 | J2: =LEFT(train_MAPE!J2, SEARCH("±", train_MAPE!J2) - 1)-LEFT(test_MAPE!J2, SEARCH("±", test_MAPE!J2) - 1) -> -1.404
A3: 2 | B3: ChemProp | C3: =LEFT(train_MAPE!C3, SEARCH("±", train_MAPE!C3) - 1)-LEFT(test_MAPE!C3, SEARCH("±", test_MAPE!C3) - 1) -> 0.034 | D3: =LEFT(train_MAPE!D3, SEARCH("±", train_MAPE!D3) - 1)-LEFT(test_MAPE!D3, SEARCH("±", test_MAPE!D3) - 1) -> 0.124 | E3: =LEFT(train_MAPE!E3, SEARCH("±", train_MAPE!E3) - 1)-LEFT(test_MAPE!E3, SEARCH("±", test_MAPE!E3) - 1) -> -0.664 | F3: =LEFT(train_MAPE!F3, SEARCH("±", train_MAPE!F3) - 1)-LEFT(test_MAPE!F3, SEARCH("±", test_MAPE!F3) - 1) -> 0.403 | G3: =LEFT(train_MAPE!G3, SEARCH("±", train_MAPE!G3) - 1)-LEFT(test_MAPE!G3, SEARCH("±", test_MAPE!G3) - 1) -> -1.206 | H3: =LEFT(train_MAPE!H3, SEARCH("±", train_MAPE!H3) - 1)-LEFT(test_MAPE!H3, SEARCH("±", test_MAPE!H3) - 1) -> 0.882 | I3: =LEFT(train_MAPE!I3, SEARCH("±", train_MAPE!I3) - 1)-LEFT(test_MAPE!I3, SEARCH("±", test_MAPE!I3) - 1) -> -0.126 | J3: =LEFT(train_MAPE!J3, SEARCH("±", train_MAPE!J3) - 1)-LEFT(test_MAPE!J3, SEARCH("±", test_MAPE!J3) - 1) -> 1.307
A4: 2 | B4: ChemProp_double | C4: =LEFT(train_MAPE!C4, SEARCH("±", train_MAPE!C4) - 1)-LEFT(test_MAPE!C4, SEARCH("±", test_MAPE!C4) - 1) -> #VALUE! | D4: =LEFT(train_MAPE!D4, SEARCH("±", train_MAPE!D4) - 1)-LEFT(test_MAPE!D4, SEARCH("±", test_MAPE!D4) - 1) -> -0.104 | E4: =LEFT(train_MAPE!E4, SEARCH("±", train_MAPE!E4) - 1)-LEFT(test_MAPE!E4, SEARCH("±", test_MAPE!E4) - 1) -> -0.955 | F4: =LEFT(train_MAPE!F4, SEARCH("±", train_MAPE!F4) - 1)-LEFT(test_MAPE!F4, SEARCH("±", test_MAPE!F4) - 1) -> 0.09 | G4: =LEFT(train_MAPE!G4, SEARCH("±", train_MAPE!G4) - 1)-LEFT(test_MAPE!G4, SEARCH("±", test_MAPE!G4) - 1) -> -1.555 | H4: =LEFT(train_MAPE!H4, SEARCH("±", train_MAPE!H4) - 1)-LEFT(test_MAPE!H4, SEARCH("±", test_MAPE!H4) - 1) -> #VALUE! | I4: =LEFT(train_MAPE!I4, SEARCH("±", train_MAPE!I4) - 1)-LEFT(test_MAPE!I4, SEARCH("±", test_MAPE!I4) - 1) -> #VALUE! | J4: =LEFT(train_MAPE!J4, SEARCH("±", train_MAPE!J4) - 1)-LEFT(test_MAPE!J4, SEARCH("±", test_MAPE!J4) - 1) -> #VALUE!
A5: 2 | B5: ChemProp_half | C5: =LEFT(train_MAPE!C5, SEARCH("±", train_MAPE!C5) - 1)-LEFT(test_MAPE!C5, SEARCH("±", test_MAPE!C5) - 1) -> #VALUE! | D5: =LEFT(train_MAPE!D5, SEARCH("±", train_MAPE!D5) - 1)-LEFT(test_MAPE!D5, SEARCH("±", test_MAPE!D5) - 1) -> 0.527 | E5: =LEFT(train_MAPE!E5, SEARCH("±", train_MAPE!E5) - 1)-LEFT(test_MAPE!E5, SEARCH("±", test_MAPE!E5) - 1) -> -0.363 | F5: =LEFT(train_MAPE!F5, SEARCH("±", train_MAPE!F5) - 1)-LEFT(test_MAPE!F5, SEARCH("±", test_MAPE!F5) - 1) -> 0.565 | G5: =LEFT(train_MAPE!G5, SEARCH("±", train_MAPE!G5) - 1)-LEFT(test_MAPE!G5, SEARCH("±", test_MAPE!G5) - 1) -> -0.127 | H5: =LEFT(train_MAPE!H5, SEARCH("±", train_MAPE!H5) - 1)-LEFT(test_MAPE!H5, SEARCH("±", test_MAPE!H5) - 1) -> #VALUE! | I5: =LEFT(train_MAPE!I5, SEARCH("±", train_MAPE!I5) - 1)-LEFT(test_MAPE!I5, SEARCH("±", test_MAPE!I5) - 1) -> #VALUE! | J5: =LEFT(train_MAPE!J5, SEARCH("±", train_MAPE!J5) - 1)-LEFT(test_MAPE!J5, SEARCH("±", test_MAPE!J5) - 1) -> #VALUE!
A6: 2 | B6: GT | C6: =LEFT(train_MAPE!C6, SEARCH("±", train_MAPE!C6) - 1)-LEFT(test_MAPE!C6, SEARCH("±", test_MAPE!C6) - 1) -> -0.219 | D6: =LEFT(train_MAPE!D6, SEARCH("±", train_MAPE!D6) - 1)-LEFT(test_MAPE!D6, SEARCH("±", test_MAPE!D6) - 1) -> -0.149 | E6: =LEFT(train_MAPE!E6, SEARCH("±", train_MAPE!E6) - 1)-LEFT(test_MAPE!E6, SEARCH("±", test_MAPE!E6) - 1) -> -0.271 | F6: =LEFT(train_MAPE!F6, SEARCH("±", train_MAPE!F6) - 1)-LEFT(test_MAPE!F6, SEARCH("±", test_MAPE!F6) - 1) -> 0.217 | G6: =LEFT(train_MAPE!G6, SEARCH("±", train_MAPE!G6) - 1)-LEFT(test_MAPE!G6, SEARCH("±", test_MAPE!G6) - 1) -> 0.529 | H6: =LEFT(train_MAPE!H6, SEARCH("±", train_MAPE!H6) - 1)-LEFT(test_MAPE!H6, SEARCH("±", test_MAPE!H6) - 1) -> 0.076 | I6: =LEFT(train_MAPE!I6, SEARCH("±", train_MAPE!I6) - 1)-LEFT(test_MAPE!I6, SEARCH("±", test_MAPE!I6) - 1) -> -2.111 | J6: =LEFT(train_MAPE!J6, SEARCH("±", train_MAPE!J6) - 1)-LEFT(test_MAPE!J6, SEARCH("±", test_MAPE!J6) - 1) -> -3.149
A7: 2 | B7: GT_double | C7: =LEFT(train_MAPE!C7, SEARCH("±", train_MAPE!C7) - 1)-LEFT(test_MAPE!C7, SEARCH("±", test_MAPE!C7) - 1) -> #VALUE! | D7: =LEFT(train_MAPE!D7, SEARCH("±", train_MAPE!D7) - 1)-LEFT(test_MAPE!D7, SEARCH("±", test_MAPE!D7) - 1) -> -0.465 | E7: =LEFT(train_MAPE!E7, SEARCH("±", train_MAPE!E7) - 1)-LEFT(test_MAPE!E7, SEARCH("±", test_MAPE!E7) - 1) -> 0.58 | F7: =LEFT(train_MAPE!F7, SEARCH("±", train_MAPE!F7) - 1)-LEFT(test_MAPE!F7, SEARCH("±", test_MAPE!F7) - 1) -> 0.536 | G7: =LEFT(train_MAPE!G7, SEARCH("±", train_MAPE!G7) - 1)-LEFT(test_MAPE!G7, SEARCH("±", test_MAPE!G7) - 1) -> 0.833 | H7: =LEFT(train_MAPE!H7, SEARCH("±", train_MAPE!H7) - 1)-LEFT(test_MAPE!H7, SEARCH("±", test_MAPE!H7) - 1) -> #VALUE! | I7: =LEFT(train_MAPE!I7, SEARCH("±", train_MAPE!I7) - 1)-LEFT(test_MAPE!I7, SEARCH("±", test_MAPE!I7) - 1) -> #VALUE! | J7: =LEFT(train_MAPE!J7, SEARCH("±", train_MAPE!J7) - 1)-LEFT(test_MAPE!J7, SEARCH("±", test_MAPE!J7) - 1) -> #VALUE!
A8: 2 | B8: GT_half | C8: =LEFT(train_MAPE!C8, SEARCH("±", train_MAPE!C8) - 1)-LEFT(test_MAPE!C8, SEARCH("±", test_MAPE!C8) - 1) -> #VALUE! | D8: =LEFT(train_MAPE!D8, SEARCH("±", train_MAPE!D8) - 1)-LEFT(test_MAPE!D8, SEARCH("±", test_MAPE!D8) - 1) -> -0.142 | E8: =LEFT(train_MAPE!E8, SEARCH("±", train_MAPE!E8) - 1)-LEFT(test_MAPE!E8, SEARCH("±", test_MAPE!E8) - 1) -> -0.562 | F8: =LEFT(train_MAPE!F8, SEARCH("±", train_MAPE!F8) - 1)-LEFT(test_MAPE!F8, SEARCH("±", test_MAPE!F8) - 1) -> 0.495 | G8: =LEFT(train_MAPE!G8, SEARCH("±", train_MAPE!G8) - 1)-LEFT(test_MAPE!G8, SEARCH("±", test_MAPE!G8) - 1) -> 1 | H8: =LEFT(train_MAPE!H8, SEARCH("±", train_MAPE!H8) - 1)-LEFT(test_MAPE!H8, SEARCH("±", test_MAPE!H8) - 1) -> #VALUE! | I8: =LEFT(train_MAPE!I8, SEARCH("±", train_MAPE!I8) - 1)-LEFT(test_MAPE!I8, SEARCH("±", test_MAPE!I8) - 1) -> #VALUE! | J8: =LEFT(train_MAPE!J8, SEARCH("±", train_MAPE!J8) - 1)-LEFT(test_MAPE!J8, SEARCH("±", test_MAPE!J8) - 1) -> #VALUE!
A9: 2 | B9: GTmulti | C9: =LEFT(train_MAPE!C9, SEARCH("±", train_MAPE!C9) - 1)-LEFT(test_MAPE!C9, SEARCH("±", test_MAPE!C9) - 1) -> #VALUE! | D9: =LEFT(train_MAPE!D9, SEARCH("±", train_MAPE!D9) - 1)-LEFT(test_MAPE!D9, SEARCH("±", test_MAPE!D9) - 1) -> -0.189 | E9: =LEFT(train_MAPE!E9, SEARCH("±", train_MAPE!E9) - 1)-LEFT(test_MAPE!E9, SEARCH("±", test_MAPE!E9) - 1) -> -0.127 | F9: =LEFT(train_MAPE!F9, SEARCH("±", train_MAPE!F9) - 1)-LEFT(test_MAPE!F9, SEARCH("±", test_MAPE!F9) - 1) -> 0.665 | G9: =LEFT(train_MAPE!G9, SEARCH("±", train_MAPE!G9) - 1)-LEFT(test_MAPE!G9, SEARCH("±", test_MAPE!G9) - 1) -> -0.189 | H9: =LEFT(train_MAPE!H9, SEARCH("±", train_MAPE!H9) - 1)-LEFT(test_MAPE!H9, SEARCH("±", test_MAPE!H9) - 1) -> 0.11 | I9: =LEFT(train_MAPE!I9, SEARCH("±", train_MAPE!I9) - 1)-LEFT(test_MAPE!I9, SEARCH("±", test_MAPE!I9) - 1) -> -1.947 | J9: =LEFT(train_MAPE!J9, SEARCH("±", train_MAPE!J9) - 1)-LEFT(test_MAPE!J9, SEARCH("±", test_MAPE!J9) - 1) -> -1.228
A10: 2 | B10: GTpretrain | C10: =LEFT(train_MAPE!C10, SEARCH("±", train_MAPE!C10) - 1)-LEFT(test_MAPE!C10, SEARCH("±", test_MAPE!C10) - 1) -> -0.061 | D10: =LEFT(train_MAPE!D10, SEARCH("±", train_MAPE!D10) - 1)-LEFT(test_MAPE!D10, SEARCH("±", test_MAPE!D10) - 1) -> -0.525 | E10: =LEFT(train_MAPE!E10, SEARCH("±", train_MAPE!E10) - 1)-LEFT(test_MAPE!E10, SEARCH("±", test_MAPE!E10) - 1) -> -0.827 | F10: =LEFT(train_MAPE!F10, SEARCH("±", train_MAPE!F10) - 1)-LEFT(test_MAPE!F10, SEARCH("±", test_MAPE!F10) - 1) -> -0.157 | G10: =LEFT(train_MAPE!G10, SEARCH("±", train_MAPE!G10) - 1)-LEFT(test_MAPE!G10, SEARCH("±", test_MAPE!G10) - 1) -> -4.958 | H10: =LEFT(train_MAPE!H10, SEARCH("±", train_MAPE!H10) - 1)-LEFT(test_MAPE!H10, SEARCH("±", test_MAPE!H10) - 1) -> 0.039 | I10: =LEFT(train_MAPE!I10, SEARCH("±", train_MAPE!I10) - 1)-LEFT(test_MAPE!I10, SEARCH("±", test_MAPE!I10) - 1) -> -1.732 | J10: =LEFT(train_MAPE!J10, SEARCH("±", train_MAPE!J10) - 1)-LEFT(test_MAPE!J10, SEARCH("±", test_MAPE!J10) - 1) -> -2.281
A11: 2 | B11: GTpretrain_all | C11: =LEFT(train_MAPE!C11, SEARCH("±", train_MAPE!C11) - 1)-LEFT(test_MAPE!C11, SEARCH("±", test_MAPE!C11) - 1) -> #VALUE! | D11: =LEFT(train_MAPE!D11, SEARCH("±", train_MAPE!D11) - 1)-LEFT(test_MAPE!D11, SEARCH("±", test_MAPE!D11) - 1) -> -0.617 | E11: =LEFT(train_MAPE!E11, SEARCH("±", train_MAPE!E11) - 1)-LEFT(test_MAPE!E11, SEARCH("±", test_MAPE!E11) - 1) -> -0.601 | F11: =LEFT(train_MAPE!F11, SEARCH("±", train_MAPE!F11) - 1)-LEFT(test_MAPE!F11, SEARCH("±", test_MAPE!F11) - 1) -> -0.987 | G11: =LEFT(train_MAPE!G11, SEARCH("±", train_MAPE!G11) - 1)-LEFT(test_MAPE!G11, SEARCH("±", test_MAPE!G11) - 1) -> 0.128 | H11: =LEFT(train_MAPE!H11, SEARCH("±", train_MAPE!H11) - 1)-LEFT(test_MAPE!H11, SEARCH("±", test_MAPE!H11) - 1) -> #VALUE! | I11: =LEFT(train_MAPE!I11, SEARCH("±", train_MAPE!I11) - 1)-LEFT(test_MAPE!I11, SEARCH("±", test_MAPE!I11) - 1) -> #VALUE! | J11: =LEFT(train_MAPE!J11, SEARCH("±", train_MAPE!J11) - 1)-LEFT(test_MAPE!J11, SEARCH("±", test_MAPE!J11) - 1) -> #VALUE!
A12: 2 | B12: GTpretrain_half | C12: =LEFT(train_MAPE!C12, SEARCH("±", train_MAPE!C12) - 1)-LEFT(test_MAPE!C12, SEARCH("±", test_MAPE!C12) - 1) -> #VALUE! | D12: =LEFT(train_MAPE!D12, SEARCH("±", train_MAPE!D12) - 1)-LEFT(test_MAPE!D12, SEARCH("±", test_MAPE!D12) - 1) -> -0.354 | E12: =LEFT(train_MAPE!E12, SEARCH("±", train_MAPE!E12) - 1)-LEFT(test_MAPE!E12, SEARCH("±", test_MAPE!E12) - 1) -> -0.425 | F12: =LEFT(train_MAPE!F12, SEARCH("±", train_MAPE!F12) - 1)-LEFT(test_MAPE!F12, SEARCH("±", test_MAPE!F12) - 1) -> -0.15 | G12: =LEFT(train_MAPE!G12, SEARCH("±", train_MAPE!G12) - 1)-LEFT(test_MAPE!G12, SEARCH("±", test_MAPE!G12) - 1) -> 0.469 | H12: =LEFT(train_MAPE!H12, SEARCH("±", train_MAPE!H12) - 1)-LEFT(test_MAPE!H12, SEARCH("±", test_MAPE!H12) - 1) -> #VALUE! | I12: =LEFT(train_MAPE!I12, SEARCH("±", train_MAPE!I12) - 1)-LEFT(test_MAPE!I12, SEARCH("±", test_MAPE!I12) - 1) -> #VALUE! | J12: =LEFT(train_MAPE!J12, SEARCH("±", train_MAPE!J12) - 1)-LEFT(test_MAPE!J12, SEARCH("±", test_MAPE!J12) - 1) -> #VALUE!
A13: 2 | B13: GTpretrainmulti | C13: =LEFT(train_MAPE!C13, SEARCH("±", train_MAPE!C13) - 1)-LEFT(test_MAPE!C13, SEARCH("±", test_MAPE!C13) - 1) -> #VALUE! | D13: =LEFT(train_MAPE!D13, SEARCH("±", train_MAPE!D13) - 1)-LEFT(test_MAPE!D13, SEARCH("±", test_MAPE!D13) - 1) -> -0.414 | E13: =LEFT(train_MAPE!E13, SEARCH("±", train_MAPE!E13) - 1)-LEFT(test_MAPE!E13, SEARCH("±", test_MAPE!E13) - 1) -> -1.205 | F13: =LEFT(train_MAPE!F13, SEARCH("±", train_MAPE!F13) - 1)-LEFT(test_MAPE!F13, SEARCH("±", test_MAPE!F13) - 1) -> 0.181 | G13: =LEFT(train_MAPE!G13, SEARCH("±", train_MAPE!G13) - 1)-LEFT(test_MAPE!G13, SEARCH("±", test_MAPE!G13) - 1) -> -2.872 | H13: =LEFT(train_MAPE!H13, SEARCH("±", train_MAPE!H13) - 1)-LEFT(test_MAPE!H13, SEARCH("±", test_MAPE!H13) - 1) -> 0.044 | I13: =LEFT(train_MAPE!I13, SEARCH("±", train_MAPE!I13) - 1)-LEFT(test_MAPE!I13, SEARCH("±", test_MAPE!I13) - 1) -> -1.253 | J13: =LEFT(train_MAPE!J13, SEARCH("±", train_MAPE!J13) - 1)-LEFT(test_MAPE!J13, SEARCH("±", test_MAPE!J13) - 1) -> -1.558
... A37: 4 | B37: SchNet | C37: =LEFT(train_MAPE!C37, SEARCH("±", train_MAPE!C37) - 1)-LEFT(test_MAPE!C37, SEARCH("±", test_MAPE!C37) - 1) -> -0.194 | D37: =LEFT(train_MAPE!D37, SEARCH("±", train_MAPE!D37) - 1)-LEFT(test_MAPE!D37, SEARCH("±", test_MAPE!D37) - 1) -> -0.747 | E37: =LEFT(train_MAPE!E37, SEARCH("±", train_MAPE!E37) - 1)-LEFT(test_MAPE!E37, SEARCH("±", test_MAPE!E37) - 1) -> -0.446 | F37: =LEFT(train_MAPE!F37, SEARCH("±", train_MAPE!F37) - 1)-LEFT(test_MAPE!F37, SEARCH("±", test_MAPE!F37) - 1) -> 1.117 | G37: =LEFT(train_MAPE!G37, SEARCH("±", train_MAPE!G37) - 1)-LEFT(test_MAPE!G37, SEARCH("±", test_MAPE!G37) - 1) -> -0.259 | H37: =LEFT(train_MAPE!H37, SEARCH("±", train_MAPE!H37) - 1)-LEFT(test_MAPE!H37, SEARCH("±", test_MAPE!H37) - 1) -> #VALUE! | I37: =LEFT(train_MAPE!I37, SEARCH("±", train_MAPE!I37) - 1)-LEFT(test_MAPE!I37, SEARCH("±", test_MAPE!I37) - 1) -> #VALUE! | J37: =LEFT(train_MAPE!J37, SEARCH("±", train_MAPE!J37) - 1)-LEFT(test_MAPE!J37, SEARCH("±", test_MAPE!J37) - 1) -> #VALUE!

Sheet DELTAR2
A1: dim- | B1: modelname- | C1: BDE-BindingEnergy | D1: Kraken-sterimol_B5 | E1: Kraken-sterimol_L | F1: Kraken-sterimol_burB5 | G1: Kraken-sterimol_burL | H1: tmQMg-gibbs_energy | I1: tmQMg-homo_lumo_gap_delta | J1: tmQMg-tzvp_dipole_moment
A2: 0 | B2: XGBoost | C2: =LEFT(train_R2!C2, SEARCH("±", train_R2!C2) - 1)-LEFT(test_R2!C2, SEARCH("±", test_R2!C2) - 1) -> 0.034 | D2: =LEFT(train_R2!D2, SEARCH("±", train_R2!D2) - 1)-LEFT(test_R2!D2, SEARCH("±", test_R2!D2) - 1) -> 0.192 | E2: =LEFT(train_R2!E2, SEARCH("±", train_R2!E2) - 1)-LEFT(test_R2!E2, SEARCH("±", test_R2!E2) - 1) -> 0.306 | F2: =LEFT(train_R2!F2, SEARCH("±", train_R2!F2) - 1)-LEFT(test_R2!F2, SEARCH("±", test_R2!F2) - 1) -> 0.288 | G2: =LEFT(train_R2!G2, SEARCH("±", train_R2!G2) - 1)-LEFT(test_R2!G2, SEARCH("±", test_R2!G2) - 1) -> 0.286 | H2: =LEFT(train_R2!H2, SEARCH("±", train_R2!H2) - 1)-LEFT(test_R2!H2, SEARCH("±", test_R2!H2) - 1) -> 0.099 | I2: =LEFT(train_R2!I2, SEARCH("±", train_R2!I2) - 1)-LEFT(test_R2!I2, SEARCH("±", test_R2!I2) - 1) -> 0.259 | J2: =LEFT(train_R2!J2, SEARCH("±", train_R2!J2) - 1)-LEFT(test_R2!J2, SEARCH("±", test_R2!J2) - 1) -> 0.387
A3: 2 | B3: ChemProp | C3: =LEFT(train_R2!C3, SEARCH("±", train_R2!C3) - 1)-LEFT(test_R2!C3, SEARCH("±", test_R2!C3) - 1) -> 0.018 | D3: =LEFT(train_R2!D3, SEARCH("±", train_R2!D3) - 1)-LEFT(test_R2!D3, SEARCH("±", test_R2!D3) - 1) -> 0.08 | E3: =LEFT(train_R2!E3, SEARCH("±", train_R2!E3) - 1)-LEFT(test_R2!E3, SEARCH("±", test_R2!E3) - 1) -> 0.164 | F3: =LEFT(train_R2!F3, SEARCH("±", train_R2!F3) - 1)-LEFT(test_R2!F3, SEARCH("±", test_R2!F3) - 1) -> 0.143 | G3: =LEFT(train_R2!G3, SEARCH("±", train_R2!G3) - 1)-LEFT(test_R2!G3, SEARCH("±", test_R2!G3) - 1) -> 0.283 | H3: =LEFT(train_R2!H3, SEARCH("±", train_R2!H3) - 1)-LEFT(test_R2!H3, SEARCH("±", test_R2!H3) - 1) -> 0.016 | I3: =LEFT(train_R2!I3, SEARCH("±", train_R2!I3) - 1)-LEFT(test_R2!I3, SEARCH("±", test_R2!I3) - 1) -> 0.017 | J3: =LEFT(train_R2!J3, SEARCH("±", train_R2!J3) - 1)-LEFT(test_R2!J3, SEARCH("±", test_R2!J3) - 1) -> 0.016
A4: 2 | B4: ChemProp_double | D4: =LEFT(train_R2!D4, SEARCH("±", train_R2!D4) - 1)-LEFT(test_R2!D4, SEARCH("±", test_R2!D4) - 1) -> 0.097 | E4: =LEFT(train_R2!E4, SEARCH("±", train_R2!E4) - 1)-LEFT(test_R2!E4, SEARCH("±", test_R2!E4) - 1) -> 0.207 | F4: =LEFT(train_R2!F4, SEARCH("±", train_R2!F4) - 1)-LEFT(test_R2!F4, SEARCH("±", test_R2!F4) - 1) -> 0.194 | G4: =LEFT(train_R2!G4, SEARCH("±", train_R2!G4) - 1)-LEFT(test_R2!G4, SEARCH("±", test_R2!G4) - 1) -> 0.354
A5: 2 | B5: ChemProp_half | D5: =LEFT(train_R2!D5, SEARCH("±", train_R2!D5) - 1)-LEFT(test_R2!D5, SEARCH("±", test_R2!D5) - 1) -> 0.057 | E5: =LEFT(train_R2!E5, SEARCH("±", train_R2!E5) - 1)-LEFT(test_R2!E5, SEARCH("±", test_R2!E5) - 1) -> 0.134 | F5: =LEFT(train_R2!F5, SEARCH("±", train_R2!F5) - 1)-LEFT(test_R2!F5, SEARCH("±", test_R2!F5) - 1) -> 0.085 | G5: =LEFT(train_R2!G5, SEARCH("±", train_R2!G5) - 1)-LEFT(test_R2!G5, SEARCH("±", test_R2!G5) - 1) -> 0.162
A6: 2 | B6: GIN-VN | C6: =LEFT(train_R2!C14, SEARCH("±", train_R2!C14) - 1)-LEFT(test_R2!C14, SEARCH("±", test_R2!C14) - 1) -> 0.03 | D6: =LEFT(train_R2!D14, SEARCH("±", train_R2!D14) - 1)-LEFT(test_R2!D14, SEARCH("±", test_R2!D14) - 1) -> 0.133 | E6: =LEFT(train_R2!E14, SEARCH("±", train_R2!E14) - 1)-LEFT(test_R2!E14, SEARCH("±", test_R2!E14) - 1) -> 0.334 | F6: =LEFT(train_R2!F14, SEARCH("±", train_R2!F14) - 1)-LEFT(test_R2!F14, SEARCH("±", test_R2!F14) - 1) -> 0.265 | G6: =LEFT(train_R2!G14, SEARCH("±", train_R2!G14) - 1)-LEFT(test_R2!G14, SEARCH("±", test_R2!G14) - 1) -> 0.451 | H6: =LEFT(train_R2!H14, SEARCH("±", train_R2!H14) - 1)-LEFT(test_R2!H14, SEARCH("±", test_R2!H14) - 1) -> -0.001 | I6: =LEFT(train_R2!I14, SEARCH("±", train_R2!I14) - 1)-LEFT(test_R2!I14, SEARCH("±", test_R2!I14) - 1) -> 0.265 | J6: =LEFT(train_R2!J14, SEARCH("±", train_R2!J14) - 1)-LEFT(test_R2!J14, SEARCH("±", test_R2!J14) - 1) -> 0.46
A7: 2 | B7: GIN-VN_double | D7: =LEFT(train_R2!D15, SEARCH("±", train_R2!D15) - 1)-LEFT(test_R2!D15, SEARCH("±", test_R2!D15) - 1) -> 0.119 | E7: =LEFT(train_R2!E15, SEARCH("±", train_R2!E15) - 1)-LEFT(test_R2!E15, SEARCH("±", test_R2!E15) - 1) -> 0.315 | F7: =LEFT(train_R2!F15, SEARCH("±", train_R2!F15) - 1)-LEFT(test_R2!F15, SEARCH("±", test_R2!F15) - 1) -> 0.231 | G7: =LEFT(train_R2!G15, SEARCH("±", train_R2!G15) - 1)-LEFT(test_R2!G15, SEARCH("±", test_R2!G15) - 1) -> 0.387
A8: 2 | B8: GIN-VN_half | D8: =LEFT(train_R2!D16, SEARCH("±", train_R2!D16) - 1)-LEFT(test_R2!D16, SEARCH("±", test_R2!D16) - 1) -> 0.181 | E8: =LEFT(train_R2!E16, SEARCH("±", train_R2!E16) - 1)-LEFT(test_R2!E16, SEARCH("±", test_R2!E16) - 1) -> 0.391 | F8: =LEFT(train_R2!F16, SEARCH("±", train_R2!F16) - 1)-LEFT(test_R2!F16, SEARCH("±", test_R2!F16) - 1) -> 0.295 | G8: =LEFT(train_R2!G16, SEARCH("±", train_R2!G16) - 1)-LEFT(test_R2!G16, SEARCH("±", test_R2!G16) - 1) -> 0.481
A10: 2 | B10: GT | C10: =LEFT(train_R2!C6, SEARCH("±", train_R2!C6) - 1)-LEFT(test_R2!C6, SEARCH("±", test_R2!C6) - 1) -> 0.034 | D10: =LEFT(train_R2!D6, SEARCH("±", train_R2!D6) - 1)-LEFT(test_R2!D6, SEARCH("±", test_R2!D6) - 1) -> 0.128 | E10: =LEFT(train_R2!E6, SEARCH("±", train_R2!E6) - 1)-LEFT(test_R2!E6, SEARCH("±", test_R2!E6) - 1) -> 0.269 | F10: =LEFT(train_R2!F6, SEARCH("±", train_R2!F6) - 1)-LEFT(test_R2!F6, SEARCH("±", test_R2!F6) - 1) -> 0.214 | G10: =LEFT(train_R2!G6, SEARCH("±", train_R2!G6) - 1)-LEFT(test_R2!G6, SEARCH("±", test_R2!G6) - 1) -> 0.28 | H10: =LEFT(train_R2!H6, SEARCH("±", train_R2!H6) - 1)-LEFT(test_R2!H6, SEARCH("±", test_R2!H6) - 1) -> 0 | I10: =LEFT(train_R2!I6, SEARCH("±", train_R2!I6) - 1)-LEFT(test_R2!I6, SEARCH("±", test_R2!I6) - 1) -> 0.307 | J10: =LEFT(train_R2!J6, SEARCH("±", train_R2!J6) - 1)-LEFT(test_R2!J6, SEARCH("±", test_R2!J6) - 1) -> 0.584
A11: 2 | B11: GT_double | D11: =LEFT(train_R2!D7, SEARCH("±", train_R2!D7) - 1)-LEFT(test_R2!D7, SEARCH("±", test_R2!D7) - 1) -> 0.136 | E11: =LEFT(train_R2!E7, SEARCH("±", train_R2!E7) - 1)-LEFT(test_R2!E7, SEARCH("±", test_R2!E7) - 1) -> 0.211 | F11: =LEFT(train_R2!F7, SEARCH("±", train_R2!F7) - 1)-LEFT(test_R2!F7, SEARCH("±", test_R2!F7) - 1) -> 0.226 | G11: =LEFT(train_R2!G7, SEARCH("±", train_R2!G7) - 1)-LEFT(test_R2!G7, SEARCH("±", test_R2!G7) - 1) -> 0.4
A12: 2 | B12: GT_half | D12: =LEFT(train_R2!D8, SEARCH("±", train_R2!D8) - 1)-LEFT(test_R2!D8, SEARCH("±", test_R2!D8) - 1) -> 0.125 | E12: =LEFT(train_R2!E8, SEARCH("±", train_R2!E8) - 1)-LEFT(test_R2!E8, SEARCH("±", test_R2!E8) - 1) -> 0.251 | F12: =LEFT(train_R2!F8, SEARCH("±", train_R2!F8) - 1)-LEFT(test_R2!F8, SEARCH("±", test_R2!F8) - 1) -> 0.191 | G12: =LEFT(train_R2!G8, SEARCH("±", train_R2!G8) - 1)-LEFT(test_R2!G8, SEARCH("±", test_R2!G8) - 1) -> 0.248
A13: 2 | B13: GTmulti | D13: =LEFT(train_R2!D9, SEARCH("±", train_R2!D9) - 1)-LEFT(test_R2!D9, SEARCH("±", test_R2!D9) - 1) -> 0.084 | E13: =LEFT(train_R2!E9, SEARCH("±", train_R2!E9) - 1)-LEFT(test_R2!E9, SEARCH("±", test_R2!E9) - 1) -> 0.183 | F13: =LEFT(train_R2!F9, SEARCH("±", train_R2!F9) - 1)-LEFT(test_R2!F9, SEARCH("±", test_R2!F9) - 1) -> 0.163 | G13: =LEFT(train_R2!G9, SEARCH("±", train_R2!G9) - 1)-LEFT(test_R2!G9, SEARCH("±", test_R2!G9) - 1) -> 0.265 | H13: =LEFT(train_R2!H9, SEARCH("±", train_R2!H9) - 1)-LEFT(test_R2!H9, SEARCH("±", test_R2!H9) - 1) -> 0.001 | I13: =LEFT(train_R2!I9, SEARCH("±", train_R2!I9) - 1)-LEFT(test_R2!I9, SEARCH("±", test_R2!I9) - 1) -> 0.276 | J13: =LEFT(train_R2!J9, SEARCH("±", train_R2!J9) - 1)-LEFT(test_R2!J9, SEARCH("±", test_R2!J9) - 1) -> 0.505
A14: 2 | B14: GTpretrain | C14: =LEFT(train_R2!C10, SEARCH("±", train_R2!C10) - 1)-LEFT(test_R2!C10, SEARCH("±", test_R2!C10) - 1) -> 0.021 | D14: =LEFT(train_R2!D10, SEARCH("±", train_R2!D10) - 1)-LEFT(test_R2!D10, SEARCH("±", test_R2!D10) - 1) -> 0.123 | E14: =LEFT(train_R2!E10, SEARCH("±", train_R2!E10) - 1)-LEFT(test_R2!E10, SEARCH("±", test_R2!E10) - 1) -> 0.337 | F14: =LEFT(train_R2!F10, SEARCH("±", train_R2!F10) - 1)-LEFT(test_R2!F10, SEARCH("±", test_R2!F10) - 1) -> 0.237 | G14: =LEFT(train_R2!G10, SEARCH("±", train_R2!G10) - 1)-LEFT(test_R2!G10, SEARCH("±", test_R2!G10) - 1) -> 0.49 | H14: =LEFT(train_R2!H10, SEARCH("±", train_R2!H10) - 1)-LEFT(test_R2!H10, SEARCH("±", test_R2!H10) - 1) -> 0 | I14: =LEFT(train_R2!I10, SEARCH("±", train_R2!I10) - 1)-LEFT(test_R2!I10, SEARCH("±", test_R2!I10) - 1) -> 0.248 | J14: =LEFT(train_R2!J10, SEARCH("±", train_R2!J10) - 1)-LEFT(test_R2!J10, SEARCH("±", test_R2!J10) - 1) -> 0.45
A15: 2 | B15: GTpretrain_all | D15: =LEFT(train_R2!D11, SEARCH("±", train_R2!D11) - 1)-LEFT(test_R2!D11, SEARCH("±", test_R2!D11) - 1) -> 0.135 | E15: =LEFT(train_R2!E11, SEARCH("±", train_R2!E11) - 1)-LEFT(test_R2!E11, SEARCH("±", test_R2!E11) - 1) -> 0.224 | F15: =LEFT(train_R2!F11, SEARCH("±", train_R2!F11) - 1)-LEFT(test_R2!F11, SEARCH("±", test_R2!F11) - 1) -> 0.241 | G15: =LEFT(train_R2!G11, SEARCH("±", train_R2!G11) - 1)-LEFT(test_R2!G11, SEARCH("±", test_R2!G11) - 1) -> 0.333
A16: 2 | B16: GTpretrain_half | D16: =LEFT(train_R2!D12, SEARCH("±", train_R2!D12) - 1)-LEFT(test_R2!D12, SEARCH("±", test_R2!D12) - 1) -> 0.128 | E16: =LEFT(train_R2!E12, SEARCH("±", train_R2!E12) - 1)-LEFT(test_R2!E12, SEARCH("±", test_R2!E12) - 1) -> 0.337 | F16: =LEFT(train_R2!F12, SEARCH("±", train_R2!F12) - 1)-LEFT(test_R2!F12, SEARCH("±", test_R2!F12) - 1) -> 0.263 | G16: =LEFT(train_R2!G12, SEARCH("±", train_R2!G12) - 1)-LEFT(test_R2!G12, SEARCH("±", test_R2!G12) - 1) -> 0.364
A17: 2 | B17: GTpretrainmulti | D17: =LEFT(train_R2!D13, SEARCH("±", train_R2!D13) - 1)-LEFT(test_R2!D13, SEARCH("±", test_R2!D13) - 1) -> 0.112 | E17: =LEFT(train_R2!E13, SEARCH("±", train_R2!E13) - 1)-LEFT(test_R2!E13, SEARCH("±", test_R2!E13) - 1) -> 0.373 | F17: =LEFT(train_R2!F13, SEARCH("±", train_R2!F13) - 1)-LEFT(test_R2!F13, SEARCH("±", test_R2!F13) - 1) -> 0.225 | G17: =LEFT(train_R2!G13, SEARCH("±", train_R2!G13) - 1)-LEFT(test_R2!G13, SEARCH("±", test_R2!G13) - 1) -> 0.406 | H17: =LEFT(train_R2!H13, SEARCH("±", train_R2!H13) - 1)-LEFT(test_R2!H13, SEARCH("±", test_R2!H13) - 1) -> 0.001 | I17: =LEFT(train_R2!I13, SEARCH("±", train_R2!I13) - 1)-LEFT(test_R2!I13, SEARCH("±", test_R2!I13) - 1) -> 0.196 | J17: =LEFT(train_R2!J13, SEARCH("±", train_R2!J13) - 1)-LEFT(test_R2!J13, SEARCH("±", test_R2!J13) - 1) -> 0.401
A20: 3 | B20: ChIRo | C20: =LEFT(train_R2!C17, SEARCH("±", train_R2!C17) - 1)-LEFT(test_R2!C17, SEARCH("±", test_R2!C17) - 1) -> 0.024 | D20: =LEFT(train_R2!D17, SEARCH("±", train_R2!D17) - 1)-LEFT(test_R2!D17, SEARCH("±", test_R2!D17) - 1) -> 0.074 | E20: =LEFT(train_R2!E17, SEARCH("±", train_R2!E17) - 1)-LEFT(test_R2!E17, SEARCH("±", test_R2!E17) - 1) -> 0.172 | F20: =LEFT(train_R2!F17, SEARCH("±", train_R2!F17) - 1)-LEFT(test_R2!F17, SEARCH("±", test_R2!F17) - 1) -> 0.049 | G20: =LEFT(train_R2!G17, SEARCH("±", train_R2!G17) - 1)-LEFT(test_R2!G17, SEARCH("±", test_R2!G17) - 1) -> 0.186 | H20: =LEFT(train_R2!H17, SEARCH("±", train_R2!H17) - 1)-LEFT(test_R2!H17, SEARCH("±", test_R2!H17) - 1) -> -0.001 | I20: =LEFT(train_R2!I17, SEARCH("±", train_R2!I17) - 1)-LEFT(test_R2!I17, SEARCH("±", test_R2!I17) - 1) -> 0.022 | J20: =LEFT(train_R2!J17, SEARCH("±", train_R2!J17) - 1)-LEFT(test_R2!J17, SEARCH("±", test_R2!J17) - 1) -> 0.017
A21: 3 | B21: PaiNN | C21: =LEFT(train_R2!C26, SEARCH("±", train_R2!C26) - 1)-LEFT(test_R2!C26, SEARCH("±", test_R2!C26) - 1) -> 0.016 | D21: =LEFT(train_R2!D26, SEARCH("±", train_R2!D26) - 1)-LEFT(test_R2!D26, SEARCH("±", test_R2!D26) - 1) -> 0.104 | E21: =LEFT(train_R2!E26, SEARCH("±", train_R2!E26) - 1)-LEFT(test_R2!E26, SEARCH("±", test_R2!E26) - 1) -> 0.222 | F21: =LEFT(train_R2!F26, SEARCH("±", train_R2!F26) - 1)-LEFT(test_R2!F26, SEARCH("±", test_R2!F26) - 1) -> 0.189 | G21: =LEFT(train_R2!G26, SEARCH("±", train_R2!G26) - 1)-LEFT(test_R2!G26, SEARCH("±", test_R2!G26) - 1) -> -0.032 | H21: =LEFT(train_R2!H26, SEARCH("±", train_R2!H26) - 1)-LEFT(test_R2!H26, SEARCH("±", test_R2!H26) - 1) -> 0 | I21: =LEFT(train_R2!I26, SEARCH("±", train_R2!I26) - 1)-LEFT(test_R2!I26, SEARCH("±", test_R2!I26) - 1) -> 0.383 | J21: =LEFT(train_R2!J26, SEARCH("±", train_R2!J26) - 1)-LEFT(test_R2!J26, SEARCH("±", test_R2!J26) - 1) -> 0.58
A22: 3 | B22: PaiNN_double | D22: =LEFT(train_R2!D27, SEARCH("±", train_R2!D27) - 1)-LEFT(test_R2!D27, SEARCH("±", test_R2!D27) - 1) -> 0.063 | E22: =LEFT(train_R2!E27, SEARCH("±", train_R2!E27) - 1)-LEFT(test_R2!E27, SEARCH("±", test_R2!E27) - 1) -> 0.149 | F22: =LEFT(train_R2!F27, SEARCH("±", train_R2!F27) - 1)-LEFT(test_R2!F27, SEARCH("±", test_R2!F27) - 1) -> 0.018 | G22: =LEFT(train_R2!G27, SEARCH("±", train_R2!G27) - 1)-LEFT(test_R2!G27, SEARCH("±", test_R2!G27) - 1) -> 0.018
A23: 3 | B23: PaiNN_half | D23: =LEFT(train_R2!D28, SEARCH("±", train_R2!D28) - 1)-LEFT(test_R2!D28, SEARCH("±", test_R2!D28) - 1) -> 0.121 | E23: =LEFT(train_R2!E28, SEARCH("±", train_R2!E28) - 1)-LEFT(test_R2!E28, SEARCH("±", test_R2!E28) - 1) -> 0.202 | F23: =LEFT(train_R2!F28, SEARCH("±", train_R2!F28) - 1)-LEFT(test_R2!F28, SEARCH("±", test_R2!F28) - 1) -> 0.17 | G23: =LEFT(train_R2!G28, SEARCH("±", train_R2!G28) - 1)-LEFT(test_R2!G28, SEARCH("±", test_R2!G28) - 1) -> 0.274
A24: 3 | B24: SchNet | C24: =LEFT(train_R2!C29, SEARCH("±", train_R2!C29) - 1)-LEFT(test_R2!C29, SEARCH("±", test_R2!C29) - 1) -> 0.013 | D24: =LEFT(train_R2!D29, SEARCH("±", train_R2!D29) - 1)-LEFT(test_R2!D29, SEARCH("±", test_R2!D29) - 1) -> 0.071 | E24: =LEFT(train_R2!E29, SEARCH("±", train_R2!E29) - 1)-LEFT(test_R2!E29, SEARCH("±", test_R2!E29) - 1) -> 0.097 | F24: =LEFT(train_R2!F29, SEARCH("±", train_R2!F29) - 1)-LEFT(test_R2!F29, SEARCH("±", test_R2!F29) - 1) -> 0.073 | G24: =LEFT(train_R2!G29, SEARCH("±", train_R2!G29) - 1)-LEFT(test_R2!G29, SEARCH("±", test_R2!G29) - 1) -> 0.065 | H24: =LEFT(train_R2!H29, SEARCH("±", train_R2!H29) - 1)-LEFT(test_R2!H29, SEARCH("±", test_R2!H29) - 1) -> 0.009 | I24: =LEFT(train_R2!I29, SEARCH("±", train_R2!I29) - 1)-LEFT(test_R2!I29, SEARCH("±", test_R2!I29) - 1) -> 0.13 | J24: =LEFT(train_R2!J29, SEARCH("±", train_R2!J29) - 1)-LEFT(test_R2!J29, SEARCH("±", test_R2!J29) - 1) -> 0.228
A25: 3 | B25: SchNet_double | D25: =LEFT(train_R2!D30, SEARCH("±", train_R2!D30) - 1)-LEFT(test_R2!D30, SEARCH("±", test_R2!D30) - 1) -> 0.081 | E25: =LEFT(train_R2!E30, SEARCH("±", train_R2!E30) - 1)-LEFT(test_R2!E30, SEARCH("±", test_R2!E30) - 1) -> 0.098 | F25: =LEFT(train_R2!F30, SEARCH("±", train_R2!F30) - 1)-LEFT(test_R2!F30, SEARCH("±", test_R2!F30) - 1) -> 0.109 | G25: =LEFT(train_R2!G30, SEARCH("±", train_R2!G30) - 1)-LEFT(test_R2!G30, SEARCH("±", test_R2!G30) - 1) -> 0.098
A26: 3 | B26: SchNet_half | D26: =LEFT(train_R2!D31, SEARCH("±", train_R2!D31) - 1)-LEFT(test_R2!D31, SEARCH("±", test_R2!D31) - 1) -> 0.073 | E26: =LEFT(train_R2!E31, SEARCH("±", train_R2!E31) - 1)-LEFT(test_R2!E31, SEARCH("±", test_R2!E31) - 1) -> 0.114 | F26: =LEFT(train_R2!F31, SEARCH("±", train_R2!F31) - 1)-LEFT(test_R2!F31, SEARCH("±", test_R2!F31) - 1) -> 0.083 | G26: =LEFT(train_R2!G31, SEARCH("±", train_R2!G31) - 1)-LEFT(test_R2!G31, SEARCH("±", test_R2!G31) - 1) -> 0.102
A28: 3 | B28: GT | C28: =LEFT(train_R2!C18, SEARCH("±", train_R2!C18) - 1)-LEFT(test_R2!C18, SEARCH("±", test_R2!C18) - 1) -> 0.024 | D28: =LEFT(train_R2!D18, SEARCH("±", train_R2!D18) - 1)-LEFT(test_R2!D18, SEARCH("±", test_R2!D18) - 1) -> 0.127 | E28: =LEFT(train_R2!E18, SEARCH("±", train_R2!E18) - 1)-LEFT(test_R2!E18, SEARCH("±", test_R2!E18) - 1) -> 0.202 | F28: =LEFT(train_R2!F18, SEARCH("±", train_R2!F18) - 1)-LEFT(test_R2!F18, SEARCH("±", test_R2!F18) - 1) -> 0.178 | G28: =LEFT(train_R2!G18, SEARCH("±", train_R2!G18) - 1)-LEFT(test_R2!G18, SEARCH("±", test_R2!G18) - 1) -> 0.492 | H28: =LEFT(train_R2!H18, SEARCH("±", train_R2!H18) - 1)-LEFT(test_R2!H18, SEARCH("±", test_R2!H18) - 1) -> 0 | I28: =LEFT(train_R2!I18, SEARCH("±", train_R2!I18) - 1)-LEFT(test_R2!I18, SEARCH("±", test_R2!I18) - 1) -> 0.302 | J28: =LEFT(train_R2!J18, SEARCH("±", train_R2!J18) - 1)-LEFT(test_R2!J18, SEARCH("±", test_R2!J18) - 1) -> 0.591
A29: 3 | B29: GT_double | D29: =LEFT(train_R2!D19, SEARCH("±", train_R2!D19) - 1)-LEFT(test_R2!D19, SEARCH("±", test_R2!D19) - 1) -> 0.11 | E29: =LEFT(train_R2!E19, SEARCH("±", train_R2!E19) - 1)-LEFT(test_R2!E19, SEARCH("±", test_R2!E19) - 1) -> 0.275 | F29: =LEFT(train_R2!F19, SEARCH("±", train_R2!F19) - 1)-LEFT(test_R2!F19, SEARCH("±", test_R2!F19) - 1) -> 0.217 | G29: =LEFT(train_R2!G19, SEARCH("±", train_R2!G19) - 1)-LEFT(test_R2!G19, SEARCH("±", test_R2!G19) - 1) -> 0.578
A30: 3 | B30: GT_half | D30: =LEFT(train_R2!D20, SEARCH("±", train_R2!D20) - 1)-LEFT(test_R2!D20, SEARCH("±", test_R2!D20) - 1) -> 0.117 | E30: =LEFT(train_R2!E20, SEARCH("±", train_R2!E20) - 1)-LEFT(test_R2!E20, SEARCH("±", test_R2!E20) - 1) -> 0.214 | F30: =LEFT(train_R2!F20, SEARCH("±", train_R2!F20) - 1)-LEFT(test_R2!F20, SEARCH("±", test_R2!F20) - 1) -> 0.19 | G30: =LEFT(train_R2!G20, SEARCH("±", train_R2!G20) - 1)-LEFT(test_R2!G20, SEARCH("±", test_R2!G20) - 1) -> 0.506
A31: 3 | B31: GTmulti | D31: =LEFT(train_R2!D21, SEARCH("±", train_R2!D21) - 1)-LEFT(test_R2!D21, SEARCH("±", test_R2!D21) - 1) -> 0.11 | E31: =LEFT(train_R2!E21, SEARCH("±", train_R2!E21) - 1)-LEFT(test_R2!E21, SEARCH("±", test_R2!E21) - 1) -> 0.282 | F31: =LEFT(train_R2!F21, SEARCH("±", train_R2!F21) - 1)-LEFT(test_R2!F21, SEARCH("±", test_R2!F21) - 1) -> 0.228 | G31: =LEFT(train_R2!G21, SEARCH("±", train_R2!G21) - 1)-LEFT(test_R2!G21, SEARCH("±", test_R2!G21) - 1) -> 0.459 | H31: =LEFT(train_R2!H21, SEARCH("±", train_R2!H21) - 1)-LEFT(test_R2!H21, SEARCH("±", test_R2!H21) - 1) -> 0 | I31: =LEFT(train_R2!I21, SEARCH("±", train_R2!I21) - 1)-LEFT(test_R2!I21, SEARCH("±", test_R2!I21) - 1) -> 0.258 | J31: =LEFT(train_R2!J21, SEARCH("±", train_R2!J21) - 1)-LEFT(test_R2!J21, SEARCH("±", test_R2!J21) - 1) -> 0.534
A32: 3 | B32: GTpretrain | C32: =LEFT(train_R2!C22, SEARCH("±", train_R2!C22) - 1)-LEFT(test_R2!C22, SEARCH("±", test_R2!C22) - 1) -> 0.02 | D32: =LEFT(train_R2!D22, SEARCH("±", train_R2!D22) - 1)-LEFT(test_R2!D22, SEARCH("±", test_R2!D22) - 1) -> 0.092 | E32: =LEFT(train_R2!E22, SEARCH("±", train_R2!E22) - 1)-LEFT(test_R2!E22, SEARCH("±", test_R2!E22) - 1) -> 0.26 | F32: =LEFT(train_R2!F22, SEARCH("±", train_R2!F22) - 1)-LEFT(test_R2!F22, SEARCH("±", test_R2!F22) - 1) -> 0.216 | G32: =LEFT(train_R2!G22, SEARCH("±", train_R2!G22) - 1)-LEFT(test_R2!G22, SEARCH("±", test_R2!G22) - 1) -> 0.395 | H32: =LEFT(train_R2!H22, SEARCH("±", train_R2!H22) - 1)-LEFT(test_R2!H22, SEARCH("±", test_R2!H22) - 1) -> 0 | I32: =LEFT(train_R2!I22, SEARCH("±", train_R2!I22) - 1)-LEFT(test_R2!I22, SEARCH("±", test_R2!I22) - 1) -> 0.267 | J32: =LEFT(train_R2!J22, SEARCH("±", train_R2!J22) - 1)-LEFT(test_R2!J22, SEARCH("±", test_R2!J22) - 1) -> 0.516
A33: 3 | B33: GTpretrain_all | D33: =LEFT(train_R2!D23, SEARCH("±", train_R2!D23) - 1)-LEFT(test_R2!D23, SEARCH("±", test_R2!D23) - 1) -> 0.1 | E33: =LEFT(train_R2!E23, SEARCH("±", train_R2!E23) - 1)-LEFT(test_R2!E23, SEARCH("±", test_R2!E23) - 1) -> 0.259 | F33: =LEFT(train_R2!F23, SEARCH("±", train_R2!F23) - 1)-LEFT(test_R2!F23, SEARCH("±", test_R2!F23) - 1) -> 0.236 | G33: =LEFT(train_R2!G23, SEARCH("±", train_R2!G23) - 1)-LEFT(test_R2!G23, SEARCH("±", test_R2!G23) - 1) -> 0.456
A34: 3 | B34: GTpretrain_half | D34: =LEFT(train_R2!D24, SEARCH("±", train_R2!D24) - 1)-LEFT(test_R2!D24, SEARCH("±", test_R2!D24) - 1) -> 0.104 | E34: =LEFT(train_R2!E24, SEARCH("±", train_R2!E24) - 1)-LEFT(test_R2!E24, SEARCH("±", test_R2!E24) - 1) -> 0.308 | F34: =LEFT(train_R2!F24, SEARCH("±", train_R2!F24) - 1)-LEFT(test_R2!F24, SEARCH("±", test_R2!F24) - 1) -> 0.224 | G34: =LEFT(train_R2!G24, SEARCH("±", train_R2!G24) - 1)-LEFT(test_R2!G24, SEARCH("±", test_R2!G24) - 1) -> 0.495
A35: 3 | B35: GTpretrainmulti | D35: =LEFT(train_R2!D25, SEARCH("±", train_R2!D25) - 1)-LEFT(test_R2!D25, SEARCH("±", test_R2!D25) - 1) -> 0.098 | E35: =LEFT(train_R2!E25, SEARCH("±", train_R2!E25) - 1)-LEFT(test_R2!E25, SEARCH("±", test_R2!E25) - 1) -> 0.277 | F35: =LEFT(train_R2!F25, SEARCH("±", train_R2!F25) - 1)-LEFT(test_R2!F25, SEARCH("±", test_R2!F25) - 1) -> 0.214 | G35: =LEFT(train_R2!G25, SEARCH("±", train_R2!G25) - 1)-LEFT(test_R2!G25, SEARCH("±", test_R2!G25) - 1) -> 0.4 | H35: =LEFT(train_R2!H25, SEARCH("±", train_R2!H25) - 1)-LEFT(test_R2!H25, SEARCH("±", test_R2!H25) - 1) -> 0 | I35: =LEFT(train_R2!I25, SEARCH("±", train_R2!I25) - 1)-LEFT(test_R2!I25, SEARCH("±", test_R2!I25) - 1) -> 0.248 | J35: =LEFT(train_R2!J25, SEARCH("±", train_R2!J25) - 1)-LEFT(test_R2!J25, SEARCH("±", test_R2!J25) - 1) -> 0.501
A38: 4 | B38: PaiNN | C38: =LEFT(train_R2!C36, SEARCH("±", train_R2!C36) - 1)-LEFT(test_R2!C36, SEARCH("±", test_R2!C36) - 1) -> 0.021 | D38: =LEFT(train_R2!D36, SEARCH("±", train_R2!D36) - 1)-LEFT(test_R2!D36, SEARCH("±", test_R2!D36) - 1) -> 0.091 | E38: =LEFT(train_R2!E36, SEARCH("±", train_R2!E36) - 1)-LEFT(test_R2!E36, SEARCH("±", test_R2!E36) - 1) -> 0.194 | F38: =LEFT(train_R2!F36, SEARCH("±", train_R2!F36) - 1)-LEFT(test_R2!F36, SEARCH("±", test_R2!F36) - 1) -> 0.157 | G38: =LEFT(train_R2!G36, SEARCH("±", train_R2!G36) - 1)-LEFT(test_R2!G36, SEARCH("±", test_R2!G36) - 1) -> 0.307
A39: 4 | B39: SchNet | C39: =LEFT(train_R2!C37, SEARCH("±", train_R2!C37) - 1)-LEFT(test_R2!C37, SEARCH("±", test_R2!C37) - 1) -> 0.024 | D39: =LEFT(train_R2!D37, SEARCH("±", train_R2!D37) - 1)-LEFT(test_R2!D37, SEARCH("±", test_R2!D37) - 1) -> 0.148 | E39: =LEFT(train_R2!E37, SEARCH("±", train_R2!E37) - 1)-LEFT(test_R2!E37, SEARCH("±", test_R2!E37) - 1) -> 0.256 | F39: =LEFT(train_R2!F37, SEARCH("±", train_R2!F37) - 1)-LEFT(test_R2!F37, SEARCH("±", test_R2!F37) - 1) -> 0.149 | G39: =LEFT(train_R2!G37, SEARCH("±", train_R2!G37) - 1)-LEFT(test_R2!G37, SEARCH("±", test_R2!G37) - 1) -> 0.298
A41: 4 | B41: GT | C41: =LEFT(train_R2!C32, SEARCH("±", train_R2!C32) - 1)-LEFT(test_R2!C32, SEARCH("±", test_R2!C32) - 1) -> 0.022 | D41: =LEFT(train_R2!D32, SEARCH("±", train_R2!D32) - 1)-LEFT(test_R2!D32, SEARCH("±", test_R2!D32) - 1) -> 0.107 | E41: =LEFT(train_R2!E32, SEARCH("±", train_R2!E32) - 1)-LEFT(test_R2!E32, SEARCH("±", test_R2!E32) - 1) -> 0.298 | F41: =LEFT(train_R2!F32, SEARCH("±", train_R2!F32) - 1)-LEFT(test_R2!F32, SEARCH("±", test_R2!F32) - 1) -> 0.251 | G41: =LEFT(train_R2!G32, SEARCH("±", train_R2!G32) - 1)-LEFT(test_R2!G32, SEARCH("±", test_R2!G32) - 1) -> 0.521
A42: 4 | B42: GTmulti | D42: =LEFT(train_R2!D33, SEARCH("±", train_R2!D33) - 1)-LEFT(test_R2!D33, SEARCH("±", test_R2!D33) - 1) -> 0.113 | E42: =LEFT(train_R2!E33, SEARCH("±", train_R2!E33) - 1)-LEFT(test_R2!E33, SEARCH("±", test_R2!E33) - 1) -> 0.305 | F42: =LEFT(train_R2!F33, SEARCH("±", train_R2!F33) - 1)-LEFT(test_R2!F33, SEARCH("±", test_R2!F33) - 1) -> 0.22 | G42: =LEFT(train_R2!G33, SEARCH("±", train_R2!G33) - 1)-LEFT(test_R2!G33, SEARCH("±", test_R2!G33) - 1) -> 0.524
A43: 4 | B43: GTpretrain | C43: =LEFT(train_R2!C34, SEARCH("±", train_R2!C34) - 1)-LEFT(test_R2!C34, SEARCH("±", test_R2!C34) - 1) -> 0.022 | D43: =LEFT(train_R2!D34, SEARCH("±", train_R2!D34) - 1)-LEFT(test_R2!D34, SEARCH("±", test_R2!D34) - 1) -> 0.117 | E43: =LEFT(train_R2!E34, SEARCH("±", train_R2!E34) - 1)-LEFT(test_R2!E34, SEARCH("±", test_R2!E34) - 1) -> 0.227 | F43: =LEFT(train_R2!F34, SEARCH("±", train_R2!F34) - 1)-LEFT(test_R2!F34, SEARCH("±", test_R2!F34) - 1) -> 0.213 | G43: =LEFT(train_R2!G34, SEARCH("±", train_R2!G34) - 1)-LEFT(test_R2!G34, SEARCH("±", test_R2!G34) - 1) -> 0.403
A44: 4 | B44: GTpretrainmulti | D44: =LEFT(train_R2!D35, SEARCH("±", train_R2!D35) - 1)-LEFT(test_R2!D35, SEARCH("±", test_R2!D35) - 1) -> 0.084 | E44: =LEFT(train_R2!E35, SEARCH("±", train_R2!E35) - 1)-LEFT(test_R2!E35, SEARCH("±", test_R2!E35) - 1) -> 0.264 | F44: =LEFT(train_R2!F35, SEARCH("±", train_R2!F35) - 1)-LEFT(test_R2!F35, SEARCH("±", test_R2!F35) - 1) -> 0.209 | G44: =LEFT(train_R2!G35, SEARCH("±", train_R2!G35) - 1)-LEFT(test_R2!G35, SEARCH("±", test_R2!G35) - 1) -> 0.398

Sheet Sheet3
D1: GNN | E1: GT | H1: GNN | I1: GT
A2: 2D | B2: BDE-BindingEnergy | C2: XGBoost | D2: =LEFT(train_R2!C2, SEARCH("±", train_R2!C2) - 1)-LEFT(test_R2!C2, SEARCH("±", test_R2!C2) - 1) -> 0.034 | E2: =LEFT(train_R2!C6, SEARCH("±", train_R2!C6) - 1)-LEFT(test_R2!C6, SEARCH("±", test_R2!C6) - 1) -> 0.034 | F2: GT | G2: ChIRo | H2: =LEFT(train_R2!C17, SEARCH("±", train_R2!C17) - 1)-LEFT(test_R2!C17, SEARCH("±", test_R2!C17) - 1) -> 0.024 | I2: =LEFT(train_R2!C18, SEARCH("±", train_R2!C18) - 1)-LEFT(test_R2!C18, SEARCH("±", test_R2!C18) - 1) -> 0.024 | J2: GT
A3: 2D | B3: BDE-BindingEnergy | C3: ChemProp | D3: =LEFT(train_R2!C3, SEARCH("±", train_R2!C3) - 1)-LEFT(test_R2!C3, SEARCH("±", test_R2!C3) - 1) -> 0.018 | F3: GT_double | G3: PaiNN | H3: =LEFT(train_R2!C26, SEARCH("±", train_R2!C26) - 1)-LEFT(test_R2!C26, SEARCH("±", test_R2!C26) - 1) -> 0.016 | J3: GT_double
A4: 2D | B4: BDE-BindingEnergy | C4: ChemProp_double | F4: GT_half | G4: PaiNN_double | J4: GT_half
A5: 2D | B5: BDE-BindingEnergy | C5: ChemProp_half | F5: GTmulti | G5: PaiNN_half | J5: GTmulti
A6: 2D | B6: BDE-BindingEnergy | C6: GIN-VN | D6: =LEFT(train_R2!C14, SEARCH("±", train_R2!C14) - 1)-LEFT(test_R2!C14, SEARCH("±", test_R2!C14) - 1) -> 0.03 | E6: =LEFT(train_R2!C10, SEARCH("±", train_R2!C10) - 1)-LEFT(test_R2!C10, SEARCH("±", test_R2!C10) - 1) -> 0.021 | F6: GTpretrain | G6: SchNet | H6: =LEFT(train_R2!C29, SEARCH("±", train_R2!C29) - 1)-LEFT(test_R2!C29, SEARCH("±", test_R2!C29) - 1) -> 0.013 | I6: =LEFT(train_R2!C22, SEARCH("±", train_R2!C22) - 1)-LEFT(test_R2!C22, SEARCH("±", test_R2!C22) - 1) -> 0.02 | J6: GTpretrain
A7: 2D | B7: BDE-BindingEnergy | C7: GIN-VN_double | F7: GTpretrain_all | G7: SchNet_double | J7: GTpretrain_all
A8: 2D | B8: BDE-BindingEnergy | C8: GIN-VN_half | F8: GTpretrain_half | G8: SchNet_half | J8: GTpretrain_half
F9: GTpretrainmulti | J9: GTpretrainmulti
A10: 2D | B10: Kraken-sterimol_B5 | C10: XGBoost | D10: =LEFT(train_R2!D2, SEARCH("±", train_R2!D2) - 1)-LEFT(test_R2!D2, SEARCH("±", test_R2!D2) - 1) -> 0.192 | E10: =LEFT(train_R2!D6, SEARCH("±", train_R2!D6) - 1)-LEFT(test_R2!D6, SEARCH("±", test_R2!D6) - 1) -> 0.128 | F10: GT | G10: ChIRo | H10: =LEFT(train_R2!D17, SEARCH("±", train_R2!D17) - 1)-LEFT(test_R2!D17, SEARCH("±", test_R2!D17) - 1) -> 0.074 | I10: =LEFT(train_R2!D18, SEARCH("±", train_R2!D18) - 1)-LEFT(test_R2!D18, SEARCH("±", test_R2!D18) - 1) -> 0.127 | J10: GT
A11: 2D | B11: Kraken-sterimol_B5 | C11: ChemProp | D11: =LEFT(train_R2!D3, SEARCH("±", train_R2!D3) - 1)-LEFT(test_R2!D3, SEARCH("±", test_R2!D3) - 1) -> 0.08 | E11: =LEFT(train_R2!D7, SEARCH("±", train_R2!D7) - 1)-LEFT(test_R2!D7, SEARCH("±", test_R2!D7) - 1) -> 0.136 | F11: GT_double | G11: PaiNN | H11: =LEFT(train_R2!D26, SEARCH("±", train_R2!D26) - 1)-LEFT(test_R2!D26, SEARCH("±", test_R2!D26) - 1) -> 0.104 | I11: =LEFT(train_R2!D19, SEARCH("±", train_R2!D19) - 1)-LEFT(test_R2!D19, SEARCH("±", test_R2!D19) - 1) -> 0.11 | J11: GT_double
A12: 2D | B12: Kraken-sterimol_B5 | C12: ChemProp_double | D12: =LEFT(train_R2!D4, SEARCH("±", train_R2!D4) - 1)-LEFT(test_R2!D4, SEARCH("±", test_R2!D4) - 1) -> 0.097 | E12: =LEFT(train_R2!D8, SEARCH("±", train_R2!D8) - 1)-LEFT(test_R2!D8, SEARCH("±", test_R2!D8) - 1) -> 0.125 | F12: GT_half | G12: PaiNN_double | H12: =LEFT(train_R2!D27, SEARCH("±", train_R2!D27) - 1)-LEFT(test_R2!D27, SEARCH("±", test_R2!D27) - 1) -> 0.063 | I12: =LEFT(train_R2!D20, SEARCH("±", train_R2!D20) - 1)-LEFT(test_R2!D20, SEARCH("±", test_R2!D20) - 1) -> 0.117 | J12: GT_half
A13: 2D | B13: Kraken-sterimol_B5 | C13: ChemProp_half | D13: =LEFT(train_R2!D5, SEARCH("±", train_R2!D5) - 1)-LEFT(test_R2!D5, SEARCH("±", test_R2!D5) - 1) -> 0.057 | E13: =LEFT(train_R2!D9, SEARCH("±", train_R2!D9) - 1)-LEFT(test_R2!D9, SEARCH("±", test_R2!D9) - 1) -> 0.084 | F13: GTmulti | G13: PaiNN_half | H13: =LEFT(train_R2!D28, SEARCH("±", train_R2!D28) - 1)-LEFT(test_R2!D28, SEARCH("±", test_R2!D28) - 1) -> 0.121 | I13: =LEFT(train_R2!D21, SEARCH("±", train_R2!D21) - 1)-LEFT(test_R2!D21, SEARCH("±", test_R2!D21) - 1) -> 0.11 | J13: GTmulti
A14: 2D | B14: Kraken-sterimol_B5 | C14: GIN-VN | D14: =LEFT(train_R2!D14, SEARCH("±", train_R2!D14) - 1)-LEFT(test_R2!D14, SEARCH("±", test_R2!D14) - 1) -> 0.133 | E14: =LEFT(train_R2!D10, SEARCH("±", train_R2!D10) - 1)-LEFT(test_R2!D10, SEARCH("±", test_R2!D10) - 1) -> 0.123 | F14: GTpretrain | G14: SchNet | H14: =LEFT(train_R2!D29, SEARCH("±", train_R2!D29) - 1)-LEFT(test_R2!D29, SEARCH("±", test_R2!D29) - 1) -> 0.071 | I14: =LEFT(train_R2!D22, SEARCH("±", train_R2!D22) - 1)-LEFT(test_R2!D22, SEARCH("±", test_R2!D22) - 1) -> 0.092 | J14: GTpretrain
A15: 2D | B15: Kraken-sterimol_B5 | C15: GIN-VN_double | D15: =LEFT(train_R2!D15, SEARCH("±", train_R2!D15) - 1)-LEFT(test_R2!D15, SEARCH("±", test_R2!D15) - 1) -> 0.119 | E15: =LEFT(train_R2!D11, SEARCH("±", train_R2!D11) - 1)-LEFT(test_R2!D11, SEARCH("±", test_R2!D11) - 1) -> 0.135 | F15: GTpretrain_all | G15: SchNet_double | H15: =LEFT(train_R2!D30, SEARCH("±", train_R2!D30) - 1)-LEFT(test_R2!D30, SEARCH("±", test_R2!D30) - 1) -> 0.081 | I15: =LEFT(train_R2!D23, SEARCH("±", train_R2!D23) - 1)-LEFT(test_R2!D23, SEARCH("±", test_R2!D23) - 1) -> 0.1 | J15: GTpretrain_all
A16: 2D | B16: Kraken-sterimol_B5 | C16: GIN-VN_half | D16: =LEFT(train_R2!D16, SEARCH("±", train_R2!D16) - 1)-LEFT(test_R2!D16, SEARCH("±", test_R2!D16) - 1) -> 0.181 | E16: =LEFT(train_R2!D12, SEARCH("±", train_R2!D12) - 1)-LEFT(test_R2!D12, SEARCH("±", test_R2!D12) - 1) -> 0.128 | F16: GTpretrain_half | G16: SchNet_half | H16: =LEFT(train_R2!D31, SEARCH("±", train_R2!D31) - 1)-LEFT(test_R2!D31, SEARCH("±", test_R2!D31) - 1) -> 0.073 | I16: =LEFT(train_R2!D24, SEARCH("±", train_R2!D24) - 1)-LEFT(test_R2!D24, SEARCH("±", test_R2!D24) - 1) -> 0.104 | J16: GTpretrain_half
E17: =LEFT(train_R2!D13, SEARCH("±", train_R2!D13) - 1)-LEFT(test_R2!D13, SEARCH("±", test_R2!D13) - 1) -> 0.112 | F17: GTpretrainmulti | I17: =LEFT(train_R2!D25, SEARCH("±", train_R2!D25) - 1)-LEFT(test_R2!D25, SEARCH("±", test_R2!D25) - 1) -> 0.098 | J17: GTpretrainmulti
A18: 2D | B18: Kraken-sterimol_L | C18: XGBoost | D18: =LEFT(train_R2!E2, SEARCH("±", train_R2!E2) - 1)-LEFT(test_R2!E2, SEARCH("±", test_R2!E2) - 1) -> 0.306 | E18: =LEFT(train_R2!E6, SEARCH("±", train_R2!E6) - 1)-LEFT(test_R2!E6, SEARCH("±", test_R2!E6) - 1) -> 0.269 | F18: GT | G18: ChIRo | H18: =LEFT(train_R2!E17, SEARCH("±", train_R2!E17) - 1)-LEFT(test_R2!E17, SEARCH("±", test_R2!E17) - 1) -> 0.172 | I18: =LEFT(train_R2!E18, SEARCH("±", train_R2!E18) - 1)-LEFT(test_R2!E18, SEARCH("±", test_R2!E18) - 1) -> 0.202 | J18: GT
A19: 2D | B19: Kraken-sterimol_L | C19: ChemProp | D19: =LEFT(train_R2!E3, SEARCH("±", train_R2!E3) - 1)-LEFT(test_R2!E3, SEARCH("±", test_R2!E3) - 1) -> 0.164 | E19: =LEFT(train_R2!E7, SEARCH("±", train_R2!E7) - 1)-LEFT(test_R2!E7, SEARCH("±", test_R2!E7) - 1) -> 0.211 | F19: GT_double | G19: PaiNN | H19: =LEFT(train_R2!E26, SEARCH("±", train_R2!E26) - 1)-LEFT(test_R2!E26, SEARCH("±", test_R2!E26) - 1) -> 0.222 | I19: =LEFT(train_R2!E19, SEARCH("±", train_R2!E19) - 1)-LEFT(test_R2!E19, SEARCH("±", test_R2!E19) - 1) -> 0.275 | J19: GT_double
A20: 2D | B20: Kraken-sterimol_L | C20: ChemProp_double | D20: =LEFT(train_R2!E4, SEARCH("±", train_R2!E4) - 1)-LEFT(test_R2!E4, SEARCH("±", test_R2!E4) - 1) -> 0.207 | E20: =LEFT(train_R2!E8, SEARCH("±", train_R2!E8) - 1)-LEFT(test_R2!E8, SEARCH("±", test_R2!E8) - 1) -> 0.251 | F20: GT_half | G20: PaiNN_double | H20: =LEFT(train_R2!E27, SEARCH("±", train_R2!E27) - 1)-LEFT(test_R2!E27, SEARCH("±", test_R2!E27) - 1) -> 0.149 | I20: =LEFT(train_R2!E20, SEARCH("±", train_R2!E20) - 1)-LEFT(test_R2!E20, SEARCH("±", test_R2!E20) - 1) -> 0.214 | J20: GT_half
A21: 2D | B21: Kraken-sterimol_L | C21: ChemProp_half | D21: =LEFT(train_R2!E5, SEARCH("±", train_R2!E5) - 1)-LEFT(test_R2!E5, SEARCH("±", test_R2!E5) - 1) -> 0.134 | E21: =LEFT(train_R2!E9, SEARCH("±", train_R2!E9) - 1)-LEFT(test_R2!E9, SEARCH("±", test_R2!E9) - 1) -> 0.183 | F21: GTmulti | G21: PaiNN_half | H21: =LEFT(train_R2!E28, SEARCH("±", train_R2!E28) - 1)-LEFT(test_R2!E28, SEARCH("±", test_R2!E28) - 1) -> 0.202 | I21: =LEFT(train_R2!E21, SEARCH("±", train_R2!E21) - 1)-LEFT(test_R2!E21, SEARCH("±", test_R2!E21) - 1) -> 0.282 | J21: GTmulti
A22: 2D | B22: Kraken-sterimol_L | C22: GIN-VN | D22: =LEFT(train_R2!E14, SEARCH("±", train_R2!E14) - 1)-LEFT(test_R2!E14, SEARCH("±", test_R2!E14) - 1) -> 0.334 | E22: =LEFT(train_R2!E10, SEARCH("±", train_R2!E10) - 1)-LEFT(test_R2!E10, SEARCH("±", test_R2!E10) - 1) -> 0.337 | F22: GTpretrain | G22: SchNet | H22: =LEFT(train_R2!E29, SEARCH("±", train_R2!E29) - 1)-LEFT(test_R2!E29, SEARCH("±", test_R2!E29) - 1) -> 0.097 | I22: =LEFT(train_R2!E22, SEARCH("±", train_R2!E22) - 1)-LEFT(test_R2!E22, SEARCH("±", test_R2!E22) - 1) -> 0.26 | J22: GTpretrain
A23: 2D | B23: Kraken-sterimol_L | C23: GIN-VN_double | D23: =LEFT(train_R2!E15, SEARCH("±", train_R2!E15) - 1)-LEFT(test_R2!E15, SEARCH("±", test_R2!E15) - 1) -> 0.315 | E23: =LEFT(train_R2!E11, SEARCH("±", train_R2!E11) - 1)-LEFT(test_R2!E11, SEARCH("±", test_R2!E11) - 1) -> 0.224 | F23: GTpretrain_all | G23: SchNet_double | H23: =LEFT(train_R2!E30, SEARCH("±", train_R2!E30) - 1)-LEFT(test_R2!E30, SEARCH("±", test_R2!E30) - 1) -> 0.098 | I23: =LEFT(train_R2!E23, SEARCH("±", train_R2!E23) - 1)-LEFT(test_R2!E23, SEARCH("±", test_R2!E23) - 1) -> 0.259 | J23: GTpretrain_all
A24: 2D | B24: Kraken-sterimol_L | C24: GIN-VN_half | D24: =LEFT(train_R2!E16, SEARCH("±", train_R2!E16) - 1)-LEFT(test_R2!E16, SEARCH("±", test_R2!E16) - 1) -> 0.391 | E24: =LEFT(train_R2!E12, SEARCH("±", train_R2!E12) - 1)-LEFT(test_R2!E12, SEARCH("±", test_R2!E12) - 1) -> 0.337 | F24: GTpretrain_half | G24: SchNet_half | H24: =LEFT(train_R2!E31, SEARCH("±", train_R2!E31) - 1)-LEFT(test_R2!E31, SEARCH("±", test_R2!E31) - 1) -> 0.114 | I24: =LEFT(train_R2!E24, SEARCH("±", train_R2!E24) - 1)-LEFT(test_R2!E24, SEARCH("±", test_R2!E24) - 1) -> 0.308 | J24: GTpretrain_half
E25: =LEFT(train_R2!E13, SEARCH("±", train_R2!E13) - 1)-LEFT(test_R2!E13, SEARCH("±", test_R2!E13) - 1) -> 0.373 | F25: GTpretrainmulti | I25: =LEFT(train_R2!E25, SEARCH("±", train_R2!E25) - 1)-LEFT(test_R2!E25, SEARCH("±", test_R2!E25) - 1) -> 0.277 | J25: GTpretrainmulti
A26: 2D | B26: Kraken-sterimol_burB5 | C26: XGBoost | D26: =LEFT(train_R2!F2, SEARCH("±", train_R2!F2) - 1)-LEFT(test_R2!F2, SEARCH("±", test_R2!F2) - 1) -> 0.288 | E26: =LEFT(train_R2!F6, SEARCH("±", train_R2!F6) - 1)-LEFT(test_R2!F6, SEARCH("±", test_R2!F6) - 1) -> 0.214 | F26: GT | G26: ChIRo | H26: =LEFT(train_R2!F17, SEARCH("±", train_R2!F17) - 1)-LEFT(test_R2!F17, SEARCH("±", test_R2!F17) - 1) -> 0.049 | I26: =LEFT(train_R2!F18, SEARCH("±", train_R2!F18) - 1)-LEFT(test_R2!F18, SEARCH("±", test_R2!F18) - 1) -> 0.178 | J26: GT
A27: 2D | B27: Kraken-sterimol_burB5 | C27: ChemProp | D27: =LEFT(train_R2!F3, SEARCH("±", train_R2!F3) - 1)-LEFT(test_R2!F3, SEARCH("±", test_R2!F3) - 1) -> 0.143 | E27: =LEFT(train_R2!F7, SEARCH("±", train_R2!F7) - 1)-LEFT(test_R2!F7, SEARCH("±", test_R2!F7) - 1) -> 0.226 | F27: GT_double | G27: PaiNN | H27: =LEFT(train_R2!F26, SEARCH("±", train_R2!F26) - 1)-LEFT(test_R2!F26, SEARCH("±", test_R2!F26) - 1) -> 0.189 | I27: =LEFT(train_R2!F19, SEARCH("±", train_R2!F19) - 1)-LEFT(test_R2!F19, SEARCH("±", test_R2!F19) - 1) -> 0.217 | J27: GT_double
A28: 2D | B28: Kraken-sterimol_burB5 | C28: ChemProp_double | D28: =LEFT(train_R2!F4, SEARCH("±", train_R2!F4) - 1)-LEFT(test_R2!F4, SEARCH("±", test_R2!F4) - 1) -> 0.194 | E28: =LEFT(train_R2!F8, SEARCH("±", train_R2!F8) - 1)-LEFT(test_R2!F8, SEARCH("±", test_R2!F8) - 1) -> 0.191 | F28: GT_half | G28: PaiNN_double | H28: =LEFT(train_R2!F27, SEARCH("±", train_R2!F27) - 1)-LEFT(test_R2!F27, SEARCH("±", test_R2!F27) - 1) -> 0.018 | I28: =LEFT(train_R2!F20, SEARCH("±", train_R2!F20) - 1)-LEFT(test_R2!F20, SEARCH("±", test_R2!F20) - 1) -> 0.19 | J28: GT_half
A29: 2D | B29: Kraken-sterimol_burB5 | C29: ChemProp_half | D29: =LEFT(train_R2!F5, SEARCH("±", train_R2!F5) - 1)-LEFT(test_R2!F5, SEARCH("±", test_R2!F5) - 1) -> 0.085 | E29: =LEFT(train_R2!F9, SEARCH("±", train_R2!F9) - 1)-LEFT(test_R2!F9, SEARCH("±", test_R2!F9) - 1) -> 0.163 | F29: GTmulti | G29: PaiNN_half | H29: =LEFT(train_R2!F28, SEARCH("±", train_R2!F28) - 1)-LEFT(test_R2!F28, SEARCH("±", test_R2!F28) - 1) -> 0.17 | I29: =LEFT(train_R2!F21, SEARCH("±", train_R2!F21) - 1)-LEFT(test_R2!F21, SEARCH("±", test_R2!F21) - 1) -> 0.228 | J29: GTmulti
A30: 2D | B30: Kraken-sterimol_burB5 | C30: GIN-VN | D30: =LEFT(train_R2!F14, SEARCH("±", train_R2!F14) - 1)-LEFT(test_R2!F14, SEARCH("±", test_R2!F14) - 1) -> 0.265 | E30: =LEFT(train_R2!F10, SEARCH("±", train_R2!F10) - 1)-LEFT(test_R2!F10, SEARCH("±", test_R2!F10) - 1) -> 0.237 | F30: GTpretrain | G30: SchNet | H30: =LEFT(train_R2!F29, SEARCH("±", train_R2!F29) - 1)-LEFT(test_R2!F29, SEARCH("±", test_R2!F29) - 1) -> 0.073 | I30: =LEFT(train_R2!F22, SEARCH("±", train_R2!F22) - 1)-LEFT(test_R2!F22, SEARCH("±", test_R2!F22) - 1) -> 0.216 | J30: GTpretrain
A31: 2D | B31: Kraken-sterimol_burB5 | C31: GIN-VN_double | D31: =LEFT(train_R2!F15, SEARCH("±", train_R2!F15) - 1)-LEFT(test_R2!F15, SEARCH("±", test_R2!F15) - 1) -> 0.231 | E31: =LEFT(train_R2!F11, SEARCH("±", train_R2!F11) - 1)-LEFT(test_R2!F11, SEARCH("±", test_R2!F11) - 1) -> 0.241 | F31: GTpretrain_all | G31: SchNet_double | H31: =LEFT(train_R2!F30, SEARCH("±", train_R2!F30) - 1)-LEFT(test_R2!F30, SEARCH("±", test_R2!F30) - 1) -> 0.109 | I31: =LEFT(train_R2!F23, SEARCH("±", train_R2!F23) - 1)-LEFT(test_R2!F23, SEARCH("±", test_R2!F23) - 1) -> 0.236 | J31: GTpretrain_all
A32: 2D | B32: Kraken-sterimol_burB5 | C32: GIN-VN_half | D32: =LEFT(train_R2!F16, SEARCH("±", train_R2!F16) - 1)-LEFT(test_R2!F16, SEARCH("±", test_R2!F16) - 1) -> 0.295 | E32: =LEFT(train_R2!F12, SEARCH("±", train_R2!F12) - 1)-LEFT(test_R2!F12, SEARCH("±", test_R2!F12) - 1) -> 0.263 | F32: GTpretrain_half | G32: SchNet_half | H32: =LEFT(train_R2!F31, SEARCH("±", train_R2!F31) - 1)-LEFT(test_R2!F31, SEARCH("±", test_R2!F31) - 1) -> 0.083 | I32: =LEFT(train_R2!F24, SEARCH("±", train_R2!F24) - 1)-LEFT(test_R2!F24, SEARCH("±", test_R2!F24) - 1) -> 0.224 | J32: GTpretrain_half
E33: =LEFT(train_R2!F13, SEARCH("±", train_R2!F13) - 1)-LEFT(test_R2!F13, SEARCH("±", test_R2!F13) - 1) -> 0.225 | F33: GTpretrainmulti | I33: =LEFT(train_R2!F25, SEARCH("±", train_R2!F25) - 1)-LEFT(test_R2!F25, SEARCH("±", test_R2!F25) - 1) -> 0.214 | J33: GTpretrainmulti
A34: 2D | B34: Kraken-sterimol_burL | C34: XGBoost | D34: =LEFT(train_R2!G2, SEARCH("±", train_R2!G2) - 1)-LEFT(test_R2!G2, SEARCH("±", test_R2!G2) - 1) -> 0.286 | E34: =LEFT(train_R2!G6, SEARCH("±", train_R2!G6) - 1)-LEFT(test_R2!G6, SEARCH("±", test_R2!G6) - 1) -> 0.28 | F34: GT | G34: ChIRo | H34: =LEFT(train_R2!G17, SEARCH("±", train_R2!G17) - 1)-LEFT(test_R2!G17, SEARCH("±", test_R2!G17) - 1) -> 0.186 | I34: =LEFT(train_R2!G18, SEARCH("±", train_R2!G18) - 1)-LEFT(test_R2!G18, SEARCH("±", test_R2!G18) - 1) -> 0.492 | J34: GT
A35: 2D | B35: Kraken-sterimol_burL | C35: ChemProp | D35: =LEFT(train_R2!G3, SEARCH("±", train_R2!G3) - 1)-LEFT(test_R2!G3, SEARCH("±", test_R2!G3) - 1) -> 0.283 | E35: =LEFT(train_R2!G7, SEARCH("±", train_R2!G7) - 1)-LEFT(test_R2!G7, SEARCH("±", test_R2!G7) - 1) -> 0.4 | F35: GT_double | G35: PaiNN | H35: =LEFT(train_R2!G26, SEARCH("±", train_R2!G26) - 1)-LEFT(test_R2!G26, SEARCH("±", test_R2!G26) - 1) -> -0.032 | I35: =LEFT(train_R2!G19, SEARCH("±", train_R2!G19) - 1)-LEFT(test_R2!G19, SEARCH("±", test_R2!G19) - 1) -> 0.578 | J35: GT_double
A36: 2D | B36: Kraken-sterimol_burL | C36: ChemProp_double | D36: =LEFT(train_R2!G4, SEARCH("±", train_R2!G4) - 1)-LEFT(test_R2!G4, SEARCH("±", test_R2!G4) - 1) -> 0.354 | E36: =LEFT(train_R2!G8, SEARCH("±", train_R2!G8) - 1)-LEFT(test_R2!G8, SEARCH("±", test_R2!G8) - 1) -> 0.248 | F36: GT_half | G36: PaiNN_double | H36: =LEFT(train_R2!G27, SEARCH("±", train_R2!G27) - 1)-LEFT(test_R2!G27, SEARCH("±", test_R2!G27) - 1) -> 0.018 | I36: =LEFT(train_R2!G20, SEARCH("±", train_R2!G20) - 1)-LEFT(test_R2!G20, SEARCH("±", test_R2!G20) - 1) -> 0.506 | J36: GT_half
A37: 2D | B37: Kraken-sterimol_burL | C37: ChemProp_half | D37: =LEFT(train_R2!G5, SEARCH("±", train_R2!G5) - 1)-LEFT(test_R2!G5, SEARCH("±", test_R2!G5) - 1) -> 0.162 | E37: =LEFT(train_R2!G9, SEARCH("±", train_R2!G9) - 1)-LEFT(test_R2!G9, SEARCH("±", test_R2!G9) - 1) -> 0.265 | F37: GTmulti | G37: PaiNN_half | H37: =LEFT(train_R2!G28, SEARCH("±", train_R2!G28) - 1)-LEFT(test_R2!G28, SEARCH("±", test_R2!G28) - 1) -> 0.274 | I37: =LEFT(train_R2!G21, SEARCH("±", train_R2!G21) - 1)-LEFT(test_R2!G21, SEARCH("±", test_R2!G21) - 1) -> 0.459 | J37: GTmulti
A38: 2D | B38: Kraken-sterimol_burL | C38: GIN-VN | D38: =LEFT(train_R2!G14, SEARCH("±", train_R2!G14) - 1)-LEFT(test_R2!G14, SEARCH("±", test_R2!G14) - 1) -> 0.451 | E38: =LEFT(train_R2!G10, SEARCH("±", train_R2!G10) - 1)-LEFT(test_R2!G10, SEARCH("±", test_R2!G10) - 1) -> 0.49 | F38: GTpretrain | G38: SchNet | H38: =LEFT(train_R2!G29, SEARCH("±", train_R2!G29) - 1)-LEFT(test_R2!G29, SEARCH("±", test_R2!G29) - 1) -> 0.065 | I38: =LEFT(train_R2!G22, SEARCH("±", train_R2!G22) - 1)-LEFT(test_R2!G22, SEARCH("±", test_R2!G22) - 1) -> 0.395 | J38: GTpretrain
A39: 2D | B39: Kraken-sterimol_burL | C39: GIN-VN_double | D39: =LEFT(train_R2!G15, SEARCH("±", train_R2!G15) - 1)-LEFT(test_R2!G15, SEARCH("±", test_R2!G15) - 1) -> 0.387 | E39: =LEFT(train_R2!G11, SEARCH("±", train_R2!G11) - 1)-LEFT(test_R2!G11, SEARCH("±", test_R2!G11) - 1) -> 0.333 | F39: GTpretrain_all | G39: SchNet_double | H39: =LEFT(train_R2!G30, SEARCH("±", train_R2!G30) - 1)-LEFT(test_R2!G30, SEARCH("±", test_R2!G30) - 1) -> 0.098 | I39: =LEFT(train_R2!G23, SEARCH("±", train_R2!G23) - 1)-LEFT(test_R2!G23, SEARCH("±", test_R2!G23) - 1) -> 0.456 | J39: GTpretrain_all
A40: 2D | B40: Kraken-sterimol_burL | C40: GIN-VN_half | D40: =LEFT(train_R2!G16, SEARCH("±", train_R2!G16) - 1)-LEFT(test_R2!G16, SEARCH("±", test_R2!G16) - 1) -> 0.481 | E40: =LEFT(train_R2!G12, SEARCH("±", train_R2!G12) - 1)-LEFT(test_R2!G12, SEARCH("±", test_R2!G12) - 1) -> 0.364 | F40: GTpretrain_half | G40: SchNet_half | H40: =LEFT(train_R2!G31, SEARCH("±", train_R2!G31) - 1)-LEFT(test_R2!G31, SEARCH("±", test_R2!G31) - 1) -> 0.102 | I40: =LEFT(train_R2!G24, SEARCH("±", train_R2!G24) - 1)-LEFT(test_R2!G24, SEARCH("±", test_R2!G24) - 1) -> 0.495 | J40: GTpretrain_half
E41: =LEFT(train_R2!G13, SEARCH("±", train_R2!G13) - 1)-LEFT(test_R2!G13, SEARCH("±", test_R2!G13) - 1) -> 0.406 | F41: GTpretrainmulti | I41: =LEFT(train_R2!G25, SEARCH("±", train_R2!G25) - 1)-LEFT(test_R2!G25, SEARCH("±", test_R2!G25) - 1) -> 0.4 | J41: GTpretrainmulti
A42: 2D | B42: tmQMg-gibbs_energy | C42: XGBoost | D42: =LEFT(train_R2!H2, SEARCH("±", train_R2!H2) - 1)-LEFT(test_R2!H2, SEARCH("±", test_R2!H2) - 1) -> 0.099 | E42: =LEFT(train_R2!H6, SEARCH("±", train_R2!H6) - 1)-LEFT(test_R2!H6, SEARCH("±", test_R2!H6) - 1) -> 0 | F42: GT | G42: ChIRo | H42: =LEFT(train_R2!H17, SEARCH("±", train_R2!H17) - 1)-LEFT(test_R2!H17, SEARCH("±", test_R2!H17) - 1) -> -0.001 | I42: =LEFT(train_R2!H18, SEARCH("±", train_R2!H18) - 1)-LEFT(test_R2!H18, SEARCH("±", test_R2!H18) - 1) -> 0 | J42: GT
A43: 2D | B43: tmQMg-gibbs_energy | C43: ChemProp | D43: =LEFT(train_R2!H3, SEARCH("±", train_R2!H3) - 1)-LEFT(test_R2!H3, SEARCH("±", test_R2!H3) - 1) -> 0.016 | F43: GT_double | G43: PaiNN | H43: =LEFT(train_R2!H26, SEARCH("±", train_R2!H26) - 1)-LEFT(test_R2!H26, SEARCH("±", test_R2!H26) - 1) -> 0 | J43: GT_double
A44: 2D | B44: tmQMg-gibbs_energy | C44: ChemProp_double | F44: GT_half | G44: PaiNN_double | J44: GT_half
A45: 2D | B45: tmQMg-gibbs_energy | C45: ChemProp_half | E45: =LEFT(train_R2!H9, SEARCH("±", train_R2!H9) - 1)-LEFT(test_R2!H9, SEARCH("±", test_R2!H9) - 1) -> 0.001 | F45: GTmulti | G45: PaiNN_half | I45: =LEFT(train_R2!H21, SEARCH("±", train_R2!H21) - 1)-LEFT(test_R2!H21, SEARCH("±", test_R2!H21) - 1) -> 0 | J45: GTmulti
A46: 2D | B46: tmQMg-gibbs_energy | C46: GIN-VN | D46: =LEFT(train_R2!H14, SEARCH("±", train_R2!H14) - 1)-LEFT(test_R2!H14, SEARCH("±", test_R2!H14) - 1) -> -0.001 | E46: =LEFT(train_R2!H10, SEARCH("±", train_R2!H10) - 1)-LEFT(test_R2!H10, SEARCH("±", test_R2!H10) - 1) -> 0 | F46: GTpretrain | G46: SchNet | H46: =LEFT(train_R2!H29, SEARCH("±", train_R2!H29) - 1)-LEFT(test_R2!H29, SEARCH("±", test_R2!H29) - 1) -> 0.009 | I46: =LEFT(train_R2!H22, SEARCH("±", train_R2!H22) - 1)-LEFT(test_R2!H22, SEARCH("±", test_R2!H22) - 1) -> 0 | J46: GTpretrain
A47: 2D | B47: tmQMg-gibbs_energy | C47: GIN-VN_double | F47: GTpretrain_all | G47: SchNet_double | J47: GTpretrain_all
A48: 2D | B48: tmQMg-gibbs_energy | C48: GIN-VN_half | F48: GTpretrain_half | G48: SchNet_half | J48: GTpretrain_half
E49: =LEFT(train_R2!H13, SEARCH("±", train_R2!H13) - 1)-LEFT(test_R2!H13, SEARCH("±", test_R2!H13) - 1) -> 0.001 | F49: GTpretrainmulti | I49: =LEFT(train_R2!H25, SEARCH("±", train_R2!H25) - 1)-LEFT(test_R2!H25, SEARCH("±", test_R2!H25) - 1) -> 0 | J49: GTpretrainmulti
A50: 2D | B50: tmQMg-homo_lumo_gap_delta | C50: XGBoost | D50: =LEFT(train_R2!I2, SEARCH("±", train_R2!I2) - 1)-LEFT(test_R2!I2, SEARCH("±", test_R2!I2) - 1) -> 0.259 | E50: =LEFT(train_R2!I6, SEARCH("±", train_R2!I6) - 1)-LEFT(test_R2!I6, SEARCH("±", test_R2!I6) - 1) -> 0.307 | F50: GT | G50: ChIRo | H50: =LEFT(train_R2!I17, SEARCH("±", train_R2!I17) - 1)-LEFT(test_R2!I17, SEARCH("±", test_R2!I17) - 1) -> 0.022 | I50: =LEFT(train_R2!I18, SEARCH("±", train_R2!I18) - 1)-LEFT(test_R2!I18, SEARCH("±", test_R2!I18) - 1) -> 0.302 | J50: GT
A51: 2D | B51: tmQMg-homo_lumo_gap_delta | C51: ChemProp | D51: =LEFT(train_R2!I3, SEARCH("±", train_R2!I3) - 1)-LEFT(test_R2!I3, SEARCH("±", test_R2!I3) - 1) -> 0.017 | F51: GT_double | G51: PaiNN | H51: =LEFT(train_R2!I26, SEARCH("±", train_R2!I26) - 1)-LEFT(test_R2!I26, SEARCH("±", test_R2!I26) - 1) -> 0.383 | J51: GT_double
A52: 2D | B52: tmQMg-homo_lumo_gap_delta | C52: ChemProp_double | F52: GT_half | G52: PaiNN_double | J52: GT_half
A53: 2D | B53: tmQMg-homo_lumo_gap_delta | C53: ChemProp_half | E53: =LEFT(train_R2!I9, SEARCH("±", train_R2!I9) - 1)-LEFT(test_R2!I9, SEARCH("±", test_R2!I9) - 1) -> 0.276 | F53: GTmulti | G53: PaiNN_half | I53: =LEFT(train_R2!I21, SEARCH("±", train_R2!I21) - 1)-LEFT(test_R2!I21, SEARCH("±", test_R2!I21) - 1) -> 0.258 | J53: GTmulti
A54: 2D | B54: tmQMg-homo_lumo_gap_delta | C54: GIN-VN | D54: =LEFT(train_R2!I14, SEARCH("±", train_R2!I14) - 1)-LEFT(test_R2!I14, SEARCH("±", test_R2!I14) - 1) -> 0.265 | E54: =LEFT(train_R2!I10, SEARCH("±", train_R2!I10) - 1)-LEFT(test_R2!I10, SEARCH("±", test_R2!I10) - 1) -> 0.248 | F54: GTpretrain | G54: SchNet | H54: =LEFT(train_R2!I29, SEARCH("±", train_R2!I29) - 1)-LEFT(test_R2!I29, SEARCH("±", test_R2!I29) - 1) -> 0.13 | I54: =LEFT(train_R2!I22, SEARCH("±", train_R2!I22) - 1)-LEFT(test_R2!I22, SEARCH("±", test_R2!I22) - 1) -> 0.267 | J54: GTpretrain
A55: 2D | B55: tmQMg-homo_lumo_gap_delta | C55: GIN-VN_double | F55: GTpretrain_all | G55: SchNet_double | J55: GTpretrain_all
A56: 2D | B56: tmQMg-homo_lumo_gap_delta | C56: GIN-VN_half | F56: GTpretrain_half | G56: SchNet_half | J56: GTpretrain_half
E57: =LEFT(train_R2!I13, SEARCH("±", train_R2!I13) - 1)-LEFT(test_R2!I13, SEARCH("±", test_R2!I13) - 1) -> 0.196 | F57: GTpretrainmulti | I57: =LEFT(train_R2!I25, SEARCH("±", train_R2!I25) - 1)-LEFT(test_R2!I25, SEARCH("±", test_R2!I25) - 1) -> 0.248 | J57: GTpretrainmulti
A58: 2D | B58: tmQMg-tzvp_dipole_moment | C58: XGBoost | D58: =LEFT(train_R2!J2, SEARCH("±", train_R2!J2) - 1)-LEFT(test_R2!J2, SEARCH("±", test_R2!J2) - 1) -> 0.387 | E58: =LEFT(train_R2!J6, SEARCH("±", train_R2!J6) - 1)-LEFT(test_R2!J6, SEARCH("±", test_R2!J6) - 1) -> 0.584 | F58: GT | G58: ChIRo | H58: =LEFT(train_R2!J17, SEARCH("±", train_R2!J17) - 1)-LEFT(test_R2!J17, SEARCH("±", test_R2!J17) - 1) -> 0.017 | I58: =LEFT(train_R2!J18, SEARCH("±", train_R2!J18) - 1)-LEFT(test_R2!J18, SEARCH("±", test_R2!J18) - 1) -> 0.591 | J58: GT
A59: 2D | B59: tmQMg-tzvp_dipole_moment | C59: ChemProp | D59: =LEFT(train_R2!J3, SEARCH("±", train_R2!J3) - 1)-LEFT(test_R2!J3, SEARCH("±", test_R2!J3) - 1) -> 0.016 | F59: GT_double | G59: PaiNN | H59: =LEFT(train_R2!J26, SEARCH("±", train_R2!J26) - 1)-LEFT(test_R2!J26, SEARCH("±", test_R2!J26) - 1) -> 0.58 | J59: GT_double
A60: 2D | B60: tmQMg-tzvp_dipole_moment | C60: ChemProp_double | F60: GT_half | G60: PaiNN_double | J60: GT_half
A61: 2D | B61: tmQMg-tzvp_dipole_moment | C61: ChemProp_half | E61: =LEFT(train_R2!J9, SEARCH("±", train_R2!J9) - 1)-LEFT(test_R2!J9, SEARCH("±", test_R2!J9) - 1) -> 0.505 | F61: GTmulti | G61: PaiNN_half | I61: =LEFT(train_R2!J21, SEARCH("±", train_R2!J21) - 1)-LEFT(test_R2!J21, SEARCH("±", test_R2!J21) - 1) -> 0.534 | J61: GTmulti
A62: 2D | B62: tmQMg-tzvp_dipole_moment | C62: GIN-VN | D62: =LEFT(train_R2!J14, SEARCH("±", train_R2!J14) - 1)-LEFT(test_R2!J14, SEARCH("±", test_R2!J14) - 1) -> 0.46 | E62: =LEFT(train_R2!J10, SEARCH("±", train_R2!J10) - 1)-LEFT(test_R2!J10, SEARCH("±", test_R2!J10) - 1) -> 0.45 | F62: GTpretrain | G62: SchNet | H62: =LEFT(train_R2!J29, SEARCH("±", train_R2!J29) - 1)-LEFT(test_R2!J29, SEARCH("±", test_R2!J29) - 1) -> 0.228 | I62: =LEFT(train_R2!J22, SEARCH("±", train_R2!J22) - 1)-LEFT(test_R2!J22, SEARCH("±", test_R2!J22) - 1) -> 0.516 | J62: GTpretrain
A63: 2D | B63: tmQMg-tzvp_dipole_moment | C63: GIN-VN_double | F63: GTpretrain_all | G63: SchNet_double | J63: GTpretrain_all
A64: 2D | B64: tmQMg-tzvp_dipole_moment | C64: GIN-VN_half | F64: GTpretrain_half | G64: SchNet_half | J64: GTpretrain_half
E65: =LEFT(train_R2!J13, SEARCH("±", train_R2!J13) - 1)-LEFT(test_R2!J13, SEARCH("±", test_R2!J13) - 1) -> 0.401 | F65: GTpretrainmulti | I65: =LEFT(train_R2!J25, SEARCH("±", train_R2!J25) - 1)-LEFT(test_R2!J25, SEARCH("±", test_R2!J25) - 1) -> 0.501 | J65: GTpretrainmulti

Sheet Sheet4
A1: Dim | B1: Model | C1: BDE-BindingEnergy | D1: Kraken-sterimol_B5 | E1: Kraken-sterimol_L | F1: Kraken-sterimol_burB5 | G1: Kraken-sterimol_burL | H1: tmQMg-gibbs_energy | I1: tmQMg-homo_lumo_gap_delta | J1: tmQMg-tzvp_dipole_moment
A2: 0 | B2: XGBoost | C2: 0.964±0.001 | D2: 0.804±0.004 | E2: 0.684±0.008 | F2: 0.706±0.011 | G2: 0.659±0.019 | H2: 0.887±0.002 | I2: 0.676±0.009 | J2: 0.499±0.014
A3: 2 | B3: ChemProp | C3: 0.925±0.007 | D3: 0.85±0.02 | E3: 0.706±0.031 | F3: 0.748±0.016 | G3: 0.513±0.054 | H3: 0.877±0.007 | I3: 0.688±0.006 | J3: 0.425±0.014
A4: 2 | B4: GIN-VN | C4: 0.879±0.02 | D4: 0.861±0.019 | E4: 0.654±0.022 | F4: 0.726±0.018 | G4: 0.54±0.026 | H4: 0.981±0.005 | I4: 0.707±0.011 | J4: 0.501±0.006
A5: 2 | B5: GT | C5: 0.956±0.005 | D5: 0.822±0.066 | E5: 0.43±0.074 | F5: 0.676±0.019 | G5: 0.182±0.023 | H5: 0.998±0.0 | I5: 0.682±0.015 | J5: 0.4±0.028
A6: 2 | B6: GT-m | D6: 0.78±0.014 | E6: 0.527±0.033 | F6: 0.62±0.035 | G6: 0.248±0.093 | H6: 0.996±0.001 | I6: 0.642±0.022 | J6: 0.388±0.032
A7: 2 | B7: GT-pre | C7: 0.965±0.002 | D7: 0.867±0.011 | E7: 0.603±0.03 | F7: 0.707±0.03 | G7: 0.489±0.022 | H7: 0.999±0.001 | I7: 0.745±0.001 | J7: 0.527±0.022
A8: 2 | B8: GT-pre-m | D8: 0.847±0.008 | E8: 0.527±0.025 | F8: 0.698±0.021 | G8: 0.519±0.026 | H8: 0.996±0.001 | I8: 0.719±0.002 | J8: 0.507±0.001
A9: 3 | B9: ChIRo | C9: 0.942±0.002 | D9: 0.693±0.016 | E9: 0.598±0.004 | F9: 0.627±0.035 | G9: 0.45±0.004 | H9: 0.983±0.0 | I9: 0.634±0.006 | J9: 0.371±0.037
A10: 3 | B10: PaiNN | C10: 0.983±0.001 | D10: 0.847±0.02 | E10: 0.717±0.005 | F10: 0.76±0.02 | G10: -0.063±0.078 | H10: 1.0±0.0 | I10: 0.529±0.005 | J10: 0.291±0.012
A11: 3 | B11: SchNet | C11: 0.962±0.008 | D11: 0.729±0.054 | E11: 0.558±0.033 | F11: 0.66±0.1 | G11: 0.392±0.053 | H11: 0.989±0.006 | I11: 0.526±0.008 | J11: 0.254±0.006
A12: 3 | B12: GT | C12: 0.973±0.002 | D12: 0.838±0.01 | E12: 0.609±0.08 | F12: 0.71±0.025 | G12: 0.414±0.034 | H12: 0.999±0.0 | I12: 0.689±0.006 | J12: 0.392±0.018
A13: 3 | B13: GT-m | D13: 0.858±0.006 | E13: 0.674±0.014 | F13: 0.735±0.023 | G13: 0.473±0.039 | H13: 0.998±0.0 | I13: 0.657±0.012 | J13: 0.362±0.046
A14: 3 | B14: GT-pre | C14: 0.977±0.001 | D14: 0.891±0.011 | E14: 0.723±0.008 | F14: 0.767±0.015 | G14: 0.582±0.03 | H14: 0.998±0.001 | I14: 0.726±0.004 | J14: 0.469±0.01
A15: 3 | B15: GT-pre-m | D15: 0.883±0.015 | E15: 0.702±0.046 | F15: 0.766±0.023 | G15: 0.575±0.035 | H15: 0.995±0.001 | I15: 0.692±0.013 | J15: 0.421±0.029
A16: 4 | B16: PaiNN | C16: 0.983±0.001 | D16: 0.847±0.02 | E16: 0.717±0.005 | F16: 0.76±0.02 | G16: -0.063±0.078
A17: 4 | B17: SchNet | C17: 0.962±0.008 | D17: 0.729±0.054 | E17: 0.558±0.033 | F17: 0.66±0.1 | G17: 0.392±0.053
A18: 4 | B18: GT | C18: 0.969±0.004 | D18: 0.886±0.01 | E18: 0.68±0.055 | F18: 0.737±0.03 | G18: 0.464±0.028
A19: 4 | B19: GT-m | D19: 0.868±0.001 | E19: 0.664±0.014 | F19: 0.758±0.019 | G19: 0.434±0.047
A20: 4 | B20: GT-pre | C20: 0.97±0.004 | D20: 0.871±0.012 | E20: 0.754±0.016 | F20: 0.779±0.005 | G20: 0.59±0.028
A21: 4 | B21: GT-pre-m | D21: 0.904±0.003 | E21: 0.725±0.014 | F21: 0.774±0.02 | G21: 0.585±0.007

Sheet Sheet5
A1: dim- | B1: modelname- | C1: Kraken-sterimol_B5 | D1: Kraken-sterimol_L | E1: Kraken-sterimol_burB5 | F1: Kraken-sterimol_burL | G1: tmQMg-homo_lumo_gap_delta | H1: tmQMg-gibbs_energy | I1: tmQMg-tzvp_dipole_moment | J1: BDE-BindingEnergy
A2: 0 | B2: XGBoost | C2: =_xlfn.CONCAT(LEFT(test_R2!D2, SEARCH("±", test_R2!D2) - 1),"/",LEFT(test_MAPE!D2, SEARCH("±", test_MAPE!D2) - 1)) -> 0.804/1.31 | D2: =_xlfn.CONCAT(LEFT(test_R2!E2, SEARCH("±", test_R2!E2) - 1),"/",LEFT(test_MAPE!E2, SEARCH("±", test_MAPE!E2) - 1)) -> 0.684/1.963 | E2: =_xlfn.CONCAT(LEFT(test_R2!F2, SEARCH("±", test_R2!F2) - 1),"/",LEFT(test_MAPE!F2, SEARCH("±", test_MAPE!F2) - 1)) -> 0.706/0.99 | F2: =_xlfn.CONCAT(LEFT(test_R2!G2, SEARCH("±", test_R2!G2) - 1),"/",LEFT(test_MAPE!G2, SEARCH("±", test_MAPE!G2) - 1)) -> 0.659/1.355 | G2: =_xlfn.CONCAT(LEFT(test_R2!I2, SEARCH("±", test_R2!I2) - 1),"/",LEFT(test_MAPE!I2, SEARCH("±", test_MAPE!I2) - 1)) -> 0.676/2.553 | H2: =_xlfn.CONCAT(LEFT(test_R2!H2, SEARCH("±", test_R2!H2) - 1),"/",LEFT(test_MAPE!H2, SEARCH("±", test_MAPE!H2) - 1)) -> 0.887/1.257 | I2: =_xlfn.CONCAT(LEFT(test_R2!J2, SEARCH("±", test_R2!J2) - 1),"/",LEFT(test_MAPE!J2, SEARCH("±", test_MAPE!J2) - 1)) -> 0.499/3.269 | J2: =_xlfn.CONCAT(LEFT(test_R2!C2, SEARCH("±", test_R2!C2) - 1),"/",LEFT(test_MAPE!C2, SEARCH("±", test_MAPE!C2) - 1)) -> 0.964/0.465
A3: 2 | B3: ChemProp | C3: =_xlfn.CONCAT(LEFT(test_R2!D3, SEARCH("±", test_R2!D3) - 1),"/",LEFT(test_MAPE!D3, SEARCH("±", test_MAPE!D3) - 1)) -> 0.85/0.953 | D3: =_xlfn.CONCAT(LEFT(test_R2!E3, SEARCH("±", test_R2!E3) - 1),"/",LEFT(test_MAPE!E3, SEARCH("±", test_MAPE!E3) - 1)) -> 0.706/2.108 | E3: =_xlfn.CONCAT(LEFT(test_R2!F3, SEARCH("±", test_R2!F3) - 1),"/",LEFT(test_MAPE!F3, SEARCH("±", test_MAPE!F3) - 1)) -> 0.748/1.505 | F3: =_xlfn.CONCAT(LEFT(test_R2!G3, SEARCH("±", test_R2!G3) - 1),"/",LEFT(test_MAPE!G3, SEARCH("±", test_MAPE!G3) - 1)) -> 0.513/3.173 | G3: =_xlfn.CONCAT(LEFT(test_R2!I3, SEARCH("±", test_R2!I3) - 1),"/",LEFT(test_MAPE!I3, SEARCH("±", test_MAPE!I3) - 1)) -> 0.688/2.545 | H3: =_xlfn.CONCAT(LEFT(test_R2!H3, SEARCH("±", test_R2!H3) - 1),"/",LEFT(test_MAPE!H3, SEARCH("±", test_MAPE!H3) - 1)) -> 0.877/1.546 | I3: =_xlfn.CONCAT(LEFT(test_R2!J3, SEARCH("±", test_R2!J3) - 1),"/",LEFT(test_MAPE!J3, SEARCH("±", test_MAPE!J3) - 1)) -> 0.425/3.327 | J3: =_xlfn.CONCAT(LEFT(test_R2!C3, SEARCH("±", test_R2!C3) - 1),"/",LEFT(test_MAPE!C3, SEARCH("±", test_MAPE!C3) - 1)) -> 0.925/0.488
A4: 2 | B4: GIN-VN | C4: =_xlfn.CONCAT(LEFT(test_R2!D14, SEARCH("±", test_R2!D14) - 1),"/",LEFT(test_MAPE!D14, SEARCH("±", test_MAPE!D14) - 1)) -> 0.861/0.919 | D4: =_xlfn.CONCAT(LEFT(test_R2!E14, SEARCH("±", test_R2!E14) - 1),"/",LEFT(test_MAPE!E14, SEARCH("±", test_MAPE!E14) - 1)) -> 0.654/1.572 | E4: =_xlfn.CONCAT(LEFT(test_R2!F14, SEARCH("±", test_R2!F14) - 1),"/",LEFT(test_MAPE!F14, SEARCH("±", test_MAPE!F14) - 1)) -> 0.726/1.208 | F4: =_xlfn.CONCAT(LEFT(test_R2!G14, SEARCH("±", test_R2!G14) - 1),"/",LEFT(test_MAPE!G14, SEARCH("±", test_MAPE!G14) - 1)) -> 0.54/3.819 | G4: =_xlfn.CONCAT(LEFT(test_R2!I14, SEARCH("±", test_R2!I14) - 1),"/",LEFT(test_MAPE!I14, SEARCH("±", test_MAPE!I14) - 1)) -> 0.707/2.64 | H4: =_xlfn.CONCAT(LEFT(test_R2!H14, SEARCH("±", test_R2!H14) - 1),"/",LEFT(test_MAPE!H14, SEARCH("±", test_MAPE!H14) - 1)) -> 0.981/0.33 | I4: =_xlfn.CONCAT(LEFT(test_R2!J14, SEARCH("±", test_R2!J14) - 1),"/",LEFT(test_MAPE!J14, SEARCH("±", test_MAPE!J14) - 1)) -> 0.501/3.986 | J4: =_xlfn.CONCAT(LEFT(test_R2!C14, SEARCH("±", test_R2!C14) - 1),"/",LEFT(test_MAPE!C14, SEARCH("±", test_MAPE!C14) - 1)) -> 0.879/0.546
A5: 2 | B5: GT | C5: =_xlfn.CONCAT(LEFT(test_R2!D6, SEARCH("±", test_R2!D6) - 1),"/",LEFT(test_MAPE!D6, SEARCH("±", test_MAPE!D6) - 1)) -> 0.822/1.189 | D5: =_xlfn.CONCAT(LEFT(test_R2!E6, SEARCH("±", test_R2!E6) - 1),"/",LEFT(test_MAPE!E6, SEARCH("±", test_MAPE!E6) - 1)) -> 0.43/2.144 | E5: =_xlfn.CONCAT(LEFT(test_R2!F6, SEARCH("±", test_R2!F6) - 1),"/",LEFT(test_MAPE!F6, SEARCH("±", test_MAPE!F6) - 1)) -> 0.676/2.266 | F5: =_xlfn.CONCAT(LEFT(test_R2!G6, SEARCH("±", test_R2!G6) - 1),"/",LEFT(test_MAPE!G6, SEARCH("±", test_MAPE!G6) - 1)) -> 0.182/2.682 | G5: =_xlfn.CONCAT(LEFT(test_R2!I6, SEARCH("±", test_R2!I6) - 1),"/",LEFT(test_MAPE!I6, SEARCH("±", test_MAPE!I6) - 1)) -> 0.682/2.654 | H5: =_xlfn.CONCAT(LEFT(test_R2!H6, SEARCH("±", test_R2!H6) - 1),"/",LEFT(test_MAPE!H6, SEARCH("±", test_MAPE!H6) - 1)) -> 0.998/0.139 | I5: =_xlfn.CONCAT(LEFT(test_R2!J6, SEARCH("±", test_R2!J6) - 1),"/",LEFT(test_MAPE!J6, SEARCH("±", test_MAPE!J6) - 1)) -> 0.4/3.857 | J5: =_xlfn.CONCAT(LEFT(test_R2!C6, SEARCH("±", test_R2!C6) - 1),"/",LEFT(test_MAPE!C6, SEARCH("±", test_MAPE!C6) - 1)) -> 0.956/0.445
A6: 2 | B6: GT-m | C6: =_xlfn.CONCAT(LEFT(test_R2!D9, SEARCH("±", test_R2!D9) - 1),"/",LEFT(test_MAPE!D9, SEARCH("±", test_MAPE!D9) - 1)) -> 0.78/1.875 | D6: =_xlfn.CONCAT(LEFT(test_R2!E9, SEARCH("±", test_R2!E9) - 1),"/",LEFT(test_MAPE!E9, SEARCH("±", test_MAPE!E9) - 1)) -> 0.527/2.119 | E6: =_xlfn.CONCAT(LEFT(test_R2!F9, SEARCH("±", test_R2!F9) - 1),"/",LEFT(test_MAPE!F9, SEARCH("±", test_MAPE!F9) - 1)) -> 0.62/1.595 | F6: =_xlfn.CONCAT(LEFT(test_R2!G9, SEARCH("±", test_R2!G9) - 1),"/",LEFT(test_MAPE!G9, SEARCH("±", test_MAPE!G9) - 1)) -> 0.248/2.473 | G6: =_xlfn.CONCAT(LEFT(test_R2!I9, SEARCH("±", test_R2!I9) - 1),"/",LEFT(test_MAPE!I9, SEARCH("±", test_MAPE!I9) - 1)) -> 0.642/3.193 | H6: =_xlfn.CONCAT(LEFT(test_R2!H9, SEARCH("±", test_R2!H9) - 1),"/",LEFT(test_MAPE!H9, SEARCH("±", test_MAPE!H9) - 1)) -> 0.996/0.195 | I6: =_xlfn.CONCAT(LEFT(test_R2!J9, SEARCH("±", test_R2!J9) - 1),"/",LEFT(test_MAPE!J9, SEARCH("±", test_MAPE!J9) - 1)) -> 0.388/3.516 | J6: -
A7: 2 | B7: GT-pre | C7: =_xlfn.CONCAT(LEFT(test_R2!D10, SEARCH("±", test_R2!D10) - 1),"/",LEFT(test_MAPE!D10, SEARCH("±", test_MAPE!D10) - 1)) -> 0.867/0.987 | D7: =_xlfn.CONCAT(LEFT(test_R2!E10, SEARCH("±", test_R2!E10) - 1),"/",LEFT(test_MAPE!E10, SEARCH("±", test_MAPE!E10) - 1)) -> 0.603/2.272 | E7: =_xlfn.CONCAT(LEFT(test_R2!F10, SEARCH("±", test_R2!F10) - 1),"/",LEFT(test_MAPE!F10, SEARCH("±", test_MAPE!F10) - 1)) -> 0.707/1.662 | F7: =_xlfn.CONCAT(LEFT(test_R2!G10, SEARCH("±", test_R2!G10) - 1),"/",LEFT(test_MAPE!G10, SEARCH("±", test_MAPE!G10) - 1)) -> 0.489/5.722 | G7: =_xlfn.CONCAT(LEFT(test_R2!I10, SEARCH("±", test_R2!I10) - 1),"/",LEFT(test_MAPE!I10, SEARCH("±", test_MAPE!I10) - 1)) -> 0.745/2.17 | H7: =_xlfn.CONCAT(LEFT(test_R2!H10, SEARCH("±", test_R2!H10) - 1),"/",LEFT(test_MAPE!H10, SEARCH("±", test_MAPE!H10) - 1)) -> 0.999/0.132 | I7: =_xlfn.CONCAT(LEFT(test_R2!J10, SEARCH("±", test_R2!J10) - 1),"/",LEFT(test_MAPE!J10, SEARCH("±", test_MAPE!J10) - 1)) -> 0.527/3.339 | J7: =_xlfn.CONCAT(LEFT(test_R2!C10, SEARCH("±", test_R2!C10) - 1),"/",LEFT(test_MAPE!C10, SEARCH("±", test_MAPE!C10) - 1)) -> 0.965/0.412
A8: 2 | B8: GT-pre-m | C8: =_xlfn.CONCAT(LEFT(test_R2!D13, SEARCH("±", test_R2!D13) - 1),"/",LEFT(test_MAPE!D13, SEARCH("±", test_MAPE!D13) - 1)) -> 0.847/1.235 | D8: =_xlfn.CONCAT(LEFT(test_R2!E13, SEARCH("±", test_R2!E13) - 1),"/",LEFT(test_MAPE!E13, SEARCH("±", test_MAPE!E13) - 1)) -> 0.527/2.354 | E8: =_xlfn.CONCAT(LEFT(test_R2!F13, SEARCH("±", test_R2!F13) - 1),"/",LEFT(test_MAPE!F13, SEARCH("±", test_MAPE!F13) - 1)) -> 0.698/1.086 | F8: =_xlfn.CONCAT(LEFT(test_R2!G13, SEARCH("±", test_R2!G13) - 1),"/",LEFT(test_MAPE!G13, SEARCH("±", test_MAPE!G13) - 1)) -> 0.519/3.735 | G8: =_xlfn.CONCAT(LEFT(test_R2!I13, SEARCH("±", test_R2!I13) - 1),"/",LEFT(test_MAPE!I13, SEARCH("±", test_MAPE!I13) - 1)) -> 0.719/2.491 | H8: =_xlfn.CONCAT(LEFT(test_R2!H13, SEARCH("±", test_R2!H13) - 1),"/",LEFT(test_MAPE!H13, SEARCH("±", test_MAPE!H13) - 1)) -> 0.996/0.141 | I8: =_xlfn.CONCAT(LEFT(test_R2!J13, SEARCH("±", test_R2!J13) - 1),"/",LEFT(test_MAPE!J13, SEARCH("±", test_MAPE!J13) - 1)) -> 0.507/3.246 | J8: -
A9: 3 | B9: ChIRo | C9: =_xlfn.CONCAT(LEFT(test_R2!D17, SEARCH("±", test_R2!D17) - 1),"/",LEFT(test_MAPE!D17, SEARCH("±", test_MAPE!D17) - 1)) -> 0.693/1.348 | D9: =_xlfn.CONCAT(LEFT(test_R2!E17, SEARCH("±", test_R2!E17) - 1),"/",LEFT(test_MAPE!E17, SEARCH("±", test_MAPE!E17) - 1)) -> 0.598/1.835 | E9: =_xlfn.CONCAT(LEFT(test_R2!F17, SEARCH("±", test_R2!F17) - 1),"/",LEFT(test_MAPE!F17, SEARCH("±", test_MAPE!F17) - 1)) -> 0.627/1.695 | F9: =_xlfn.CONCAT(LEFT(test_R2!G17, SEARCH("±", test_R2!G17) - 1),"/",LEFT(test_MAPE!G17, SEARCH("±", test_MAPE!G17) - 1)) -> 0.45/2.647 | G9: =_xlfn.CONCAT(LEFT(test_R2!I17, SEARCH("±", test_R2!I17) - 1),"/",LEFT(test_MAPE!I17, SEARCH("±", test_MAPE!I17) - 1)) -> 0.634/2.757 | H9: =_xlfn.CONCAT(LEFT(test_R2!H17, SEARCH("±", test_R2!H17) - 1),"/",LEFT(test_MAPE!H17, SEARCH("±", test_MAPE!H17) - 1)) -> 0.983/0.503 | I9: =_xlfn.CONCAT(LEFT(test_R2!J17, SEARCH("±", test_R2!J17) - 1),"/",LEFT(test_MAPE!J17, SEARCH("±", test_MAPE!J17) - 1)) -> 0.371/3.781 | J9: =_xlfn.CONCAT(LEFT(test_R2!C17, SEARCH("±", test_R2!C17) - 1),"/",LEFT(test_MAPE!C17, SEARCH("±", test_MAPE!C17) - 1)) -> 0.942/0.452
A10: 3 | B10: PaiNN | C10: =_xlfn.CONCAT(LEFT(test_R2!D26, SEARCH("±", test_R2!D26) - 1),"/",LEFT(test_MAPE!D26, SEARCH("±", test_MAPE!D26) - 1)) -> 0.847/0.982 | D10: =_xlfn.CONCAT(LEFT(test_R2!E26, SEARCH("±", test_R2!E26) - 1),"/",LEFT(test_MAPE!E26, SEARCH("±", test_MAPE!E26) - 1)) -> 0.717/2.065 | E10: =_xlfn.CONCAT(LEFT(test_R2!F26, SEARCH("±", test_R2!F26) - 1),"/",LEFT(test_MAPE!F26, SEARCH("±", test_MAPE!F26) - 1)) -> 0.76/1.045 | F10: =_xlfn.CONCAT(LEFT(test_R2!G26, SEARCH("±", test_R2!G26) - 1),"/",LEFT(test_MAPE!G26, SEARCH("±", test_MAPE!G26) - 1)) -> -0.063/7.455 | G10: =_xlfn.CONCAT(LEFT(test_R2!I26, SEARCH("±", test_R2!I26) - 1),"/",LEFT(test_MAPE!I26, SEARCH("±", test_MAPE!I26) - 1)) -> 0.529/3.719 | H10: =_xlfn.CONCAT(LEFT(test_R2!H26, SEARCH("±", test_R2!H26) - 1),"/",LEFT(test_MAPE!H26, SEARCH("±", test_MAPE!H26) - 1)) -> 1.0/0.014 | I10: =_xlfn.CONCAT(LEFT(test_R2!J26, SEARCH("±", test_R2!J26) - 1),"/",LEFT(test_MAPE!J26, SEARCH("±", test_MAPE!J26) - 1)) -> 0.291/5.522 | J10: =_xlfn.CONCAT(LEFT(test_R2!C26, SEARCH("±", test_R2!C26) - 1),"/",LEFT(test_MAPE!C26, SEARCH("±", test_MAPE!C26) - 1)) -> 0.983/0.283
A11: 3 | B11: SchNet | C11: =_xlfn.CONCAT(LEFT(test_R2!D29, SEARCH("±", test_R2!D29) - 1),"/",LEFT(test_MAPE!D29, SEARCH("±", test_MAPE!D29) - 1)) -> 0.729/1.502 | D11: =_xlfn.CONCAT(LEFT(test_R2!E29, SEARCH("±", test_R2!E29) - 1),"/",LEFT(test_MAPE!E29, SEARCH("±", test_MAPE!E29) - 1)) -> 0.558/2.046 | E11: =_xlfn.CONCAT(LEFT(test_R2!F29, SEARCH("±", test_R2!F29) - 1),"/",LEFT(test_MAPE!F29, SEARCH("±", test_MAPE!F29) - 1)) -> 0.66/1.785 | F11: =_xlfn.CONCAT(LEFT(test_R2!G29, SEARCH("±", test_R2!G29) - 1),"/",LEFT(test_MAPE!G29, SEARCH("±", test_MAPE!G29) - 1)) -> 0.392/1.97 | G11: =_xlfn.CONCAT(LEFT(test_R2!I29, SEARCH("±", test_R2!I29) - 1),"/",LEFT(test_MAPE!I29, SEARCH("±", test_MAPE!I29) - 1)) -> 0.526/3.157 | H11: =_xlfn.CONCAT(LEFT(test_R2!H29, SEARCH("±", test_R2!H29) - 1),"/",LEFT(test_MAPE!H29, SEARCH("±", test_MAPE!H29) - 1)) -> 0.989/0.188 | I11: =_xlfn.CONCAT(LEFT(test_R2!J29, SEARCH("±", test_R2!J29) - 1),"/",LEFT(test_MAPE!J29, SEARCH("±", test_MAPE!J29) - 1)) -> 0.254/4.608 | J11: =_xlfn.CONCAT(LEFT(test_R2!C29, SEARCH("±", test_R2!C29) - 1),"/",LEFT(test_MAPE!C29, SEARCH("±", test_MAPE!C29) - 1)) -> 0.962/0.459
A12: 3 | B12: GT | C12: =_xlfn.CONCAT(LEFT(test_R2!D18, SEARCH("±", test_R2!D18) - 1),"/",LEFT(test_MAPE!D18, SEARCH("±", test_MAPE!D18) - 1)) -> 0.838/1.044 | D12: =_xlfn.CONCAT(LEFT(test_R2!E18, SEARCH("±", test_R2!E18) - 1),"/",LEFT(test_MAPE!E18, SEARCH("±", test_MAPE!E18) - 1)) -> 0.609/1.853 | E12: =_xlfn.CONCAT(LEFT(test_R2!F18, SEARCH("±", test_R2!F18) - 1),"/",LEFT(test_MAPE!F18, SEARCH("±", test_MAPE!F18) - 1)) -> 0.71/1.56 | F12: =_xlfn.CONCAT(LEFT(test_R2!G18, SEARCH("±", test_R2!G18) - 1),"/",LEFT(test_MAPE!G18, SEARCH("±", test_MAPE!G18) - 1)) -> 0.414/2.538 | G12: =_xlfn.CONCAT(LEFT(test_R2!I18, SEARCH("±", test_R2!I18) - 1),"/",LEFT(test_MAPE!I18, SEARCH("±", test_MAPE!I18) - 1)) -> 0.689/2.958 | H12: =_xlfn.CONCAT(LEFT(test_R2!H18, SEARCH("±", test_R2!H18) - 1),"/",LEFT(test_MAPE!H18, SEARCH("±", test_MAPE!H18) - 1)) -> 0.999/0.105 | I12: =_xlfn.CONCAT(LEFT(test_R2!J18, SEARCH("±", test_R2!J18) - 1),"/",LEFT(test_MAPE!J18, SEARCH("±", test_MAPE!J18) - 1)) -> 0.392/3.903 | J12: =_xlfn.CONCAT(LEFT(test_R2!C18, SEARCH("±", test_R2!C18) - 1),"/",LEFT(test_MAPE!C18, SEARCH("±", test_MAPE!C18) - 1)) -> 0.973/0.367
A13: 3 | B13: GT-m | C13: =_xlfn.CONCAT(LEFT(test_R2!D21, SEARCH("±", test_R2!D21) - 1),"/",LEFT(test_MAPE!D21, SEARCH("±", test_MAPE!D21) - 1)) -> 0.858/1.06 | D13: =_xlfn.CONCAT(LEFT(test_R2!E21, SEARCH("±", test_R2!E21) - 1),"/",LEFT(test_MAPE!E21, SEARCH("±", test_MAPE!E21) - 1)) -> 0.674/1.954 | E13: =_xlfn.CONCAT(LEFT(test_R2!F21, SEARCH("±", test_R2!F21) - 1),"/",LEFT(test_MAPE!F21, SEARCH("±", test_MAPE!F21) - 1)) -> 0.735/1.258 | F13: =_xlfn.CONCAT(LEFT(test_R2!G21, SEARCH("±", test_R2!G21) - 1),"/",LEFT(test_MAPE!G21, SEARCH("±", test_MAPE!G21) - 1)) -> 0.473/5.581 | G13: =_xlfn.CONCAT(LEFT(test_R2!I21, SEARCH("±", test_R2!I21) - 1),"/",LEFT(test_MAPE!I21, SEARCH("±", test_MAPE!I21) - 1)) -> 0.657/3.257 | H13: =_xlfn.CONCAT(LEFT(test_R2!H21, SEARCH("±", test_R2!H21) - 1),"/",LEFT(test_MAPE!H21, SEARCH("±", test_MAPE!H21) - 1)) -> 0.998/0.158 | I13: =_xlfn.CONCAT(LEFT(test_R2!J21, SEARCH("±", test_R2!J21) - 1),"/",LEFT(test_MAPE!J21, SEARCH("±", test_MAPE!J21) - 1)) -> 0.362/4.845 | J13: -
A14: 3 | B14: GT-pre | C14: =_xlfn.CONCAT(LEFT(test_R2!D22, SEARCH("±", test_R2!D22) - 1),"/",LEFT(test_MAPE!D22, SEARCH("±", test_MAPE!D22) - 1)) -> 0.891/0.895 | D14: =_xlfn.CONCAT(LEFT(test_R2!E22, SEARCH("±", test_R2!E22) - 1),"/",LEFT(test_MAPE!E22, SEARCH("±", test_MAPE!E22) - 1)) -> 0.723/1.738 | E14: =_xlfn.CONCAT(LEFT(test_R2!F22, SEARCH("±", test_R2!F22) - 1),"/",LEFT(test_MAPE!F22, SEARCH("±", test_MAPE!F22) - 1)) -> 0.767/1.131 | F14: =_xlfn.CONCAT(LEFT(test_R2!G22, SEARCH("±", test_R2!G22) - 1),"/",LEFT(test_MAPE!G22, SEARCH("±", test_MAPE!G22) - 1)) -> 0.582/2.104 | G14: =_xlfn.CONCAT(LEFT(test_R2!I22, SEARCH("±", test_R2!I22) - 1),"/",LEFT(test_MAPE!I22, SEARCH("±", test_MAPE!I22) - 1)) -> 0.726/2.681 | H14: =_xlfn.CONCAT(LEFT(test_R2!H22, SEARCH("±", test_R2!H22) - 1),"/",LEFT(test_MAPE!H22, SEARCH("±", test_MAPE!H22) - 1)) -> 0.998/0.144 | I14: =_xlfn.CONCAT(LEFT(test_R2!J22, SEARCH("±", test_R2!J22) - 1),"/",LEFT(test_MAPE!J22, SEARCH("±", test_MAPE!J22) - 1)) -> 0.469/4.134 | J14: =_xlfn.CONCAT(LEFT(test_R2!C22, SEARCH("±", test_R2!C22) - 1),"/",LEFT(test_MAPE!C22, SEARCH("±", test_MAPE!C22) - 1)) -> 0.977/0.319
A15: 3 | B15: GT-pre-m | C15: =_xlfn.CONCAT(LEFT(test_R2!D25, SEARCH("±", test_R2!D25) - 1),"/",LEFT(test_MAPE!D25, SEARCH("±", test_MAPE!D25) - 1)) -> 0.883/0.744 | D15: =_xlfn.CONCAT(LEFT(test_R2!E25, SEARCH("±", test_R2!E25) - 1),"/",LEFT(test_MAPE!E25, SEARCH("±", test_MAPE!E25) - 1)) -> 0.702/2.254 | E15: =_xlfn.CONCAT(LEFT(test_R2!F25, SEARCH("±", test_R2!F25) - 1),"/",LEFT(test_MAPE!F25, SEARCH("±", test_MAPE!F25) - 1)) -> 0.766/1.032 | F15: =_xlfn.CONCAT(LEFT(test_R2!G25, SEARCH("±", test_R2!G25) - 1),"/",LEFT(test_MAPE!G25, SEARCH("±", test_MAPE!G25) - 1)) -> 0.575/2.487 | G15: =_xlfn.CONCAT(LEFT(test_R2!I25, SEARCH("±", test_R2!I25) - 1),"/",LEFT(test_MAPE!I25, SEARCH("±", test_MAPE!I25) - 1)) -> 0.692/2.948 | H15: =_xlfn.CONCAT(LEFT(test_R2!H25, SEARCH("±", test_R2!H25) - 1),"/",LEFT(test_MAPE!H25, SEARCH("±", test_MAPE!H25) - 1)) -> 0.995/0.15 | I15: =_xlfn.CONCAT(LEFT(test_R2!J25, SEARCH("±", test_R2!J25) - 1),"/",LEFT(test_MAPE!J25, SEARCH("±", test_MAPE!J25) - 1)) -> 0.421/4.371 | J15: -
A16: 4 | B16: PaiNN | C16: =_xlfn.CONCAT(LEFT(test_R2!D36, SEARCH("±", test_R2!D36) - 1),"/",LEFT(test_MAPE!D36, SEARCH("±", test_MAPE!D36) - 1)) -> 0.906/0.722 | D16: =_xlfn.CONCAT(LEFT(test_R2!E36, SEARCH("±", test_R2!E36) - 1),"/",LEFT(test_MAPE!E36, SEARCH("±", test_MAPE!E36) - 1)) -> 0.795/1.171 | E16: =_xlfn.CONCAT(LEFT(test_R2!F36, SEARCH("±", test_R2!F36) - 1),"/",LEFT(test_MAPE!F36, SEARCH("±", test_MAPE!F36) - 1)) -> 0.84/0.886 | F16: =_xlfn.CONCAT(LEFT(test_R2!G36, SEARCH("±", test_R2!G36) - 1),"/",LEFT(test_MAPE!G36, SEARCH("±", test_MAPE!G36) - 1)) -> 0.685/1.901 | G16: - | H16: - | I16: - | J16: =_xlfn.CONCAT(LEFT(test_R2!C36, SEARCH("±", test_R2!C36) - 1),"/",LEFT(test_MAPE!C36, SEARCH("±", test_MAPE!C36) - 1)) -> 0.979/0.325
A17: 4 | B17: SchNet | C17: =_xlfn.CONCAT(LEFT(test_R2!D37, SEARCH("±", test_R2!D37) - 1),"/",LEFT(test_MAPE!D37, SEARCH("±", test_MAPE!D37) - 1)) -> 0.832/1.318 | D17: =_xlfn.CONCAT(LEFT(test_R2!E37, SEARCH("±", test_R2!E37) - 1),"/",LEFT(test_MAPE!E37, SEARCH("±", test_MAPE!E37) - 1)) -> 0.587/2.36 | E17: =_xlfn.CONCAT(LEFT(test_R2!F37, SEARCH("±", test_R2!F37) - 1),"/",LEFT(test_MAPE!F37, SEARCH("±", test_MAPE!F37) - 1)) -> 0.69/1.75 | F17: =_xlfn.CONCAT(LEFT(test_R2!G37, SEARCH("±", test_R2!G37) - 1),"/",LEFT(test_MAPE!G37, SEARCH("±", test_MAPE!G37) - 1)) -> 0.445/2.512 | G17: - | H17: - | I17: - | J17: =_xlfn.CONCAT(LEFT(test_R2!C37, SEARCH("±", test_R2!C37) - 1),"/",LEFT(test_MAPE!C37, SEARCH("±", test_MAPE!C37) - 1)) -> 0.97/0.407
A18: 4 | B18: GT | C18: =_xlfn.CONCAT(LEFT(test_R2!D32, SEARCH("±", test_R2!D32) - 1),"/",LEFT(test_MAPE!D32, SEARCH("±", test_MAPE!D32) - 1)) -> 0.886/0.722 | D18: =_xlfn.CONCAT(LEFT(test_R2!E32, SEARCH("±", test_R2!E32) - 1),"/",LEFT(test_MAPE!E32, SEARCH("±", test_MAPE!E32) - 1)) -> 0.68/1.535 | E18: =_xlfn.CONCAT(LEFT(test_R2!F32, SEARCH("±", test_R2!F32) - 1),"/",LEFT(test_MAPE!F32, SEARCH("±", test_MAPE!F32) - 1)) -> 0.737/1.202 | F18: =_xlfn.CONCAT(LEFT(test_R2!G32, SEARCH("±", test_R2!G32) - 1),"/",LEFT(test_MAPE!G32, SEARCH("±", test_MAPE!G32) - 1)) -> 0.464/3.444 | G18: - | H18: - | I18: - | J18: =_xlfn.CONCAT(LEFT(test_R2!C32, SEARCH("±", test_R2!C32) - 1),"/",LEFT(test_MAPE!C32, SEARCH("±", test_MAPE!C32) - 1)) -> 0.969/0.361
A19: 4 | B19: GT-m | C19: =_xlfn.CONCAT(LEFT(test_R2!D33, SEARCH("±", test_R2!D33) - 1),"/",LEFT(test_MAPE!D33, SEARCH("±", test_MAPE!D33) - 1)) -> 0.868/0.845 | D19: =_xlfn.CONCAT(LEFT(test_R2!E33, SEARCH("±", test_R2!E33) - 1),"/",LEFT(test_MAPE!E33, SEARCH("±", test_MAPE!E33) - 1)) -> 0.664/1.764 | E19: =_xlfn.CONCAT(LEFT(test_R2!F33, SEARCH("±", test_R2!F33) - 1),"/",LEFT(test_MAPE!F33, SEARCH("±", test_MAPE!F33) - 1)) -> 0.758/1.143 | F19: =_xlfn.CONCAT(LEFT(test_R2!G33, SEARCH("±", test_R2!G33) - 1),"/",LEFT(test_MAPE!G33, SEARCH("±", test_MAPE!G33) - 1)) -> 0.434/2.779 | G19: - | H19: - | I19: - | J19: -
A20: 4 | B20: GT-pre | C20: =_xlfn.CONCAT(LEFT(test_R2!D34, SEARCH("±", test_R2!D34) - 1),"/",LEFT(test_MAPE!D34, SEARCH("±", test_MAPE!D34) - 1)) -> 0.871/0.809 | D20: =_xlfn.CONCAT(LEFT(test_R2!E34, SEARCH("±", test_R2!E34) - 1),"/",LEFT(test_MAPE!E34, SEARCH("±", test_MAPE!E34) - 1)) -> 0.754/1.771 | E20: =_xlfn.CONCAT(LEFT(test_R2!F34, SEARCH("±", test_R2!F34) - 1),"/",LEFT(test_MAPE!F34, SEARCH("±", test_MAPE!F34) - 1)) -> 0.779/0.91 | F20: =_xlfn.CONCAT(LEFT(test_R2!G34, SEARCH("±", test_R2!G34) - 1),"/",LEFT(test_MAPE!G34, SEARCH("±", test_MAPE!G34) - 1)) -> 0.59/4.367 | G20: - | H20: - | I20: - | J20: =_xlfn.CONCAT(LEFT(test_R2!C34, SEARCH("±", test_R2!C34) - 1),"/",LEFT(test_MAPE!C34, SEARCH("±", test_MAPE!C34) - 1)) -> 0.97/0.339
A21: 4 | B21: GT-pre-m | C21: =_xlfn.CONCAT(LEFT(test_R2!D35, SEARCH("±", test_R2!D35) - 1),"/",LEFT(test_MAPE!D35, SEARCH("±", test_MAPE!D35) - 1)) -> 0.904/0.667 | D21: =_xlfn.CONCAT(LEFT(test_R2!E35, SEARCH("±", test_R2!E35) - 1),"/",LEFT(test_MAPE!E35, SEARCH("±", test_MAPE!E35) - 1)) -> 0.725/1.808 | E21: =_xlfn.CONCAT(LEFT(test_R2!F35, SEARCH("±", test_R2!F35) - 1),"/",LEFT(test_MAPE!F35, SEARCH("±", test_MAPE!F35) - 1)) -> 0.774/1.047 | F21: =_xlfn.CONCAT(LEFT(test_R2!G35, SEARCH("±", test_R2!G35) - 1),"/",LEFT(test_MAPE!G35, SEARCH("±", test_MAPE!G35) - 1)) -> 0.585/3.965 | G21: - | H21: - | I21: - | J21: -
