Workbook

Sheet Recap table
A1: Category | B1: Product/activity | C1: Consumption* | D1: Process-based LCA** | E1: EIO-LCA | F1: Hybrid-LCA
A2: Medical devices | B2: Gloves | C2: 90.698276 | D2: 1.8149637 | E2: 0.93562897 | H2: LCA = Life Cycle Assessment, EIO = Economic Input-Output IV = intravenous * Datas are expressed as number of units per patient-day ** For medications process-based LCA, active pharmaceuticals and excipients production was not taken into account, because of the lack of reliable data
B3: Syringes | C3: 14.6 | D3: 1.132299 | E3: 0.83755607
B4: Pads | C4: 36.362069 | D4: 0.37336093 | E4: 0.16277919
B5: Needles | C5: 10.431034 | D5: 0.04711488 | E5: 0.047315172
B6: IV Tubings | C6: 7.1255172 | D6: 0.98105151 | E6: 1.1966229
B7: Electrodes | C7: 6.3586207 | D7: 0.055172926 | E7: 0.099675276
B8: Aspiration tubes | C8: 4.4655172 | D8: 0.13566224 | E8: 0.10831253
B9: Moutch care devices | C9: 4.4137931 | D9: 0.024485405 | E9: 0.23089109 | H9: TOTAL GHG EMISSIONs ESTIMATION (kgCO2e - patient-day)
B10: Dressings | C10: 3.6389655 | D10: 0.059058385 | E10: 0.17387006 | H10: Main analysis process-based for MD EIO analysis for pharmaceuticals hybrid LCA for other sources | I10: Process based/hybrid -LCA | J10: EIO/hybrid -LCA
B11: Other devices | C11: 23.584828 | D11: 0.48429602 | E11: 0.95652929 | H11: =D12+E29+F32+F35+F36+F39+F42 -> 61.139354 | I11: =SUM(D12,D29,F32,F35,F36,F37:F38,F40:F41) -> 41.061411 | J11: =E12+E29+F32+F35+F36+F37+F38+F40+F41 -> 60.781069
B12: Total Medical Devices | C12: 201.67862 | D12: 5.107465 | E12: 4.7491805
A13: Medications | B13: Water for injection (IV) (10-20mL) | C13: =SUM(' Medications'!D4,' Medications'!D6)/5800 -> 8.7708621 | D13: =SUM(' Medications'!M4,' Medications'!M6) -> 0.066582416 | E13: =SUM(' Medications'!O4,' Medications'!O6) -> 0.46655198
B14: Propofol (IV) (200 mg/20mL) | C14: =' Medications'!D5/5800 -> 5.2594828 | D14: 0.12927504 | E14: =' Medications'!O5 -> 1.7540428
B15: Sodium Chlorure 0,9% (IV) (10-1000mL) | C15: =SUM(' Medications'!D7,' Medications'!D9,' Medications'!D41:D42,' Medications'!D49,' Medications'!D51:D52)/5800 -> 5.5465517 | D15: =SUM(' Medications'!M7,' Medications'!M9,' Medications'!M41,' Medications'!M42,' Medications'!M49,' Medications'!M51:M52) -> 0.24435278 | E15: =SUM(' Medications'!O7,' Medications'!O9,' Medications'!O41,' Medications'!O42,' Medications'!O49,' Medications'!O51,' Medications'!O52) -> 0.7119799
B16: Glucose 5% (IV) (10-1000mL) | C16: =SUM(' Medications'!D40,' Medications'!D43,' Medications'!D45,' Medications'!D46,' Medications'!D48)/5800 -> 2.7474138 | D16: =SUM(' Medications'!M40,' Medications'!M43,' Medications'!M45,' Medications'!M46,' Medications'!M48) -> 0.34566902 | E16: =SUM(' Medications'!O40,' Medications'!O43,' Medications'!O45,' Medications'!O48,' Medications'!O46) -> 0.76284205
B17: Paracetamol 500 mg (enteral) | C17: =(' Medications'!D67+' Medications'!D68)/5800 -> 2.1993103 | D17: =SUM(' Medications'!M67:M68) -> 0.0058422305 | E17: =SUM(' Medications'!O67:O68) -> 0.023340608
B18: Salbutamol (inhaled) 5mg/nebulization | C18: =' Medications'!D66/5800 -> 2.0706897 | D18: =' Medications'!M66 -> 0.011983967 | E18: =' Medications'!O66 -> 0.12183731
B19: Potassium Chlorure (IV) (1g/10mL) | C19: =' Medications'!D8/5800 -> 1.9946552 | D19: =' Medications'!M8 -> 0.018939569 | E19: =' Medications'!O8 -> 0.097910641
B20: Anti-infectious (IV) | C20: =SUM(' Medications'!D16,' Medications'!D23,' Medications'!D27,' Medications'!D29,' Medications'!D31:D33,' Medications'!D39)/5800 -> 1.8925862 | D20: =SUM(' Medications'!M16,' Medications'!M23,' Medications'!M27,' Medications'!M29,' Medications'!M31:M33,' Medications'!M39) -> 0.081732687 | E20: =SUM(' Medications'!O16,' Medications'!O23,' Medications'!O27,' Medications'!O29,' Medications'!O31:O33,' Medications'!O39) -> 2.7204648
B21: Paracetamol (IV) (1g/100mL) | C21: =' Medications'!D18/5800 -> 0.50293103 | D21: =' Medications'!M18 -> 0.034713947 | E21: =' Medications'!O18 -> 0.16988784
B22: Nutrition (enteral) (500mL) | C22: =SUM(' Medications'!D44,' Medications'!D47,' Medications'!D53,' Medications'!D56,' Medications'!D59,' Medications'!D62,' Medications'!D64)/5800 -> 1.082931 | D22: =SUM(' Medications'!M44,' Medications'!M47,' Medications'!M53,' Medications'!M56,' Medications'!M59,' Medications'!M62,' Medications'!M64) -> 0.084125174 | E22: =SUM(' Medications'!O44,' Medications'!O47,' Medications'!O53,' Medications'!O56,' Medications'!O59,' Medications'!O62,' Medications'!O64) -> 0.49508056
B23: Nutrition (IV) (1000-2000mL) | C23: =SUM(' Medications'!D55,' Medications'!D57:D58,' Medications'!D61,' Medications'!D63)/5800 -> 0.1787931 | D23: =SUM(' Medications'!M55,' Medications'!M57:M58,' Medications'!M61,' Medications'!M63) -> 0.075406458 | E23: =SUM(' Medications'!O55,' Medications'!O57:O58,' Medications'!O61,' Medications'!O63) -> 1.6637099
B24: Potassium (enteral) (600 mg) | C24: =' Medications'!D74/5800 -> 0.28275862 | D24: =' Medications'!M74 -> 0.00047983771 | E24: =' Medications'!O74 -> 0.0059014552
B25: Other medications (IV) | C25: =SUM(' Medications'!D10:D15,' Medications'!D17,' Medications'!D19:D22,' Medications'!D24:D26,' Medications'!D28,' Medications'!D30,' Medications'!D34:D38,' Medications'!D50,' Medications'!D54,' Medications'!D60,' Medications'!D65)/5800 -> 9.3846552 | D25: =SUM(' Medications'!M10:M15,' Medications'!M17,' Medications'!M19:M22,' Medications'!M24:M26,' Medications'!M28,' Medications'!M30,' Medications'!M34:M38,' Medications'!M50,' Medications'!M54,,' Medications'!M60,' Medications'!M65) -> 0.15898579 | E25: =SUM(' Medications'!O10:O15,' Medications'!O17,' Medications'!O19:O22,' Medications'!O24:O26,' Medications'!O28,' Medications'!O30,' Medications'!O34:O38,' Medications'!O50,' Medications'!O54,' Medications'!O60,' Medications'!O65) -> 6.9572064
B26: Other medications (enteral) | C26: =SUM(' Medications'!D69:D73,' Medications'!D75:D104)/5800 -> 5.2172414 | D26: =SUM(' Medications'!M69:M73,' Medications'!M75:M104) -> 0.15395243 | E26: =SUM(' Medications'!O69:O73,' Medications'!O75:O104) -> 5.539228
B27: Total medications (IV) | C27: =SUM(C13:C16,C23,C19:C21,C25) -> 36.277931 | D27: =SUM(D13:D16,D23,D19:D21,D25) -> 1.1556577 | E27: =SUM(E13:E16,E23,E19:E21,E25) -> 15.304596
B28: Total medications (enteral) | C28: =SUM(C17:C18,C22,C24,C26) -> 10.852931 | D28: =SUM(D17:D18,D22,D24,D26) -> 0.25638364 | E28: =SUM(E17:E18,E22,E24,E26) -> 6.1853879
B29: Total medications | C29: =SUM(C13:C26) -> 47.130862 | D29: =SUM(D13:D26) -> 1.4120413 | E29: =SUM(E13:E26) -> 21.489984
A30: Medical Gas | B30: Oxygen (L) | C30: 540.11009 | F30: 1.1303335
B31: Nitours oxide (L) | C31: 0.69 | F31: 0.18763
B32: Total | F32: =F31+F30 -> 1.3179635
A33: Energy | B33: Gas | C33: 71.177377 | F33: 15.160781
B34: Electricity | C34: 42.364478 | F34: 2.2029529
B35: Total Energy | C35: 113.54186 | F35: 17.363734
A36: Caregivers transport | F36: 8.2050957
A37: Alimentation | B37: Caregivers meals | C37: 2.5172414 | F37: 5.1603448
B38: Patients meals | C38: 1.1390034 | F38: 2.334957
B39: Total | F39: =F38+F37 -> 7.4953019
A40: Life support therapy | B40: Extra renal epuration support (number of session) | C40: 0.0051546392 | F40: 0.024966065
...

Sheet  Medications
F1: Process-based LCA | N1: EIO LCA
F2: CONTAINING | H2: PACKAGING | I2: ELIMINATION | J2: TRANSPORTATION | L2: TOTAL GHG emissions
B3: Category | C3: Product reference | D3: Consumption | E3: Price (per unit) (€) | F3: Weight (g) | G3: GHG emissions | H3: GHG emissions | I3: GHG emissions | J3: Site of production | K3: GHG emissions | L3: GHG emissions (for 1 unit) | M3: GHG emissions in 2022 (per patient-day) | N3: GHG emissions (for 1 unit) | O3: GHG emissions in 2022 (per patient-day)
A4: IV medications | B4: Electrolytes/nutrient | C4: EAU PPI 20 ML AMP INJ PROAMP | D4: 38910 | E4: 0.110995 | F4: 3 | G4: 0.006 | H4: 0.000624 | I4: 0.0007452 | J4: Champagne, France | K4: 0.00032306766 | L4: 0.0076922677 | M4: =L4*D4/5800 -> 0.051604506 | N4: 0.0554975 | O4: 0.37231168 | Q4: LCA = Life Cycle Assessment, EIO = Economic Input-output, IV = intravenous ; GHG emissions are expressed as Carbon Dioxide Equivalent (kgCO2e)
B5: Sedative | C5: PROPOFOL 200 MG/20 ML AMP INJ IV | D5: 30505 | E5: 0.667002 | F5: 10.5 | G5: 0.0096915 | H5: 0.00195 | I5: 0.0107115 | J5: Melsungen, Allemagne | K5: 0.00222642 | L5: 0.02457942 | M5: =L5*D5/5800 -> 0.12927504 | N5: 0.333501 | O5: 1.7540428
B6: Electrolytes/nutrient | C6: EAU PPI 10 ML AMP INJ PROAMP | D6: 11961 | E6: 0.091396 | F6: 3 | G6: 0.006 | H6: 0.0003549 | I6: 0.00063342 | J6: Champagne, France | K6: 0.00027460751 | L6: 0.0072629275 | M6: =L6*D6/5800 -> 0.01497791 | N6: 0.045698 | O6: 0.094240307
B7: Electrolytes/nutrient | C7: SODIUM CHLORURE 0,9 % 10 ML AMP INJ | D7: 11936 | E7: 0.060544 | F7: 3 | G7: 0.006 | H7: 0.00033345 | I7: 0.00062451 | J7: BERLIN Allemagne | K7: 0.00070187985 | L7: 0.0076598398 | M7: =L7*D7/5800 -> 0.015763422 | N7: 0.030272 | O7: 0.062297688
B8: Electrolytes/nutrient | C8: POTASSIUM CHLORURE 1G/10ML (10%) AMP INJ IV PERF | D8: 11569 | E8: 0.098173 | F8: 4 | G8: 0.008 | H8: 0.0003549 | I8: 0.00079542 | J8: Champagne, France | K8: 0.00034483961 | L8: 0.0094951596 | M8: =L8*D8/5800 -> 0.018939569 | N8: 0.0490865 | O8: 0.097910641
B9: Electrolytes/nutrient | C9: SODIUM CHLORURE 2G/10ML (20%) AMP INJ IV | D9: 7987 | E9: 0.194792 | F9: 3 | G9: 0.006 | H9: 0.00045825 | I9: 0.00067635 | J9: Rubi Espagne | K9: 0.0006217911 | L9: 0.0077563911 | M9: =L9*D9/5800 -> 0.010681085 | N9: 0.097396 | O9: 0.13412101
B10: Neuromuscular blockade agent | C10: CISATRACURIUM 20 MG/10 ML AMP INJ IV (ex NIMBEX) | D10: 7225 | E10: 2.995214 | F10: 6.5 | G10: 0.0059995 | H10: 0.0032828 | I10: 0.00669974 | J10: Barcelone, Espagne | K10: 0.0015036613 | L10: 0.017485701 | M10: =L10*D10/5800 -> 0.021781757 | N10: 1.497607 | O10: 1.8655535
B11: Vasopressive | C11: NORADRENALINE 8 MG/4 ML SS SULFITES AMP INJ IV PERF | D11: 5793 | E11: 0.372541 | F11: 3.5 | G11: 0.0032305 | H11: 0.002378 | I11: 0.0034949 | J11: Livron-sur-Drôme | K11: 0.00035074502 | L11: 0.009454145 | M11: =L11*D11/5800 -> 0.0094427348 | N11: 0.1862705 | O11: 0.18604569
B12: Electrolytes/nutrient | C12: GLUCOSE-1-PHOSPHATE DISODIQUE 10 ML AMP INJ IV PERF PHOCYTAN | D12: 4970 | E12: 3.9917 | F12: 6 | G12: 0.012 | H12: 0.0003627 | I12: 0.00112266 | J12: CHAMPAGNE, France | K12: 0.00048670845 | L12: 0.013972068 | M12: =L12*D12/5800 -> 0.011972617 | N12: 1.99585 | O12: 1.710237
B13: Antalgic | C13: NEFOPAM 20 MG/2 ML AMP INJ ACUPAN | D13: 4200 | E13: 0.388013 | F13: 1.375 | G13: 0.001269125 | H13: 0.001359 | I13: 0.001432705 | J13: Lyon, France | K13: 0.000148131 | L13: 0.004208961 | M13: =L13*D13/5800 -> 0.0030478683 | N13: 0.1940065 | O13: 0.14048747
B14: Antithrombotics | C14: HEPARINE SODIQUE 5000 UI/1ML AMP INJ IV | D14: 4044 | E14: 1.803 | F14: 1.5 | G14: 0.0013845 | H14: 0.0014323 | I14: 0.00156516 | J14: TRITTAU Allemagne | K14: 0.00040446378 | L14: 0.0047864238 | M14: =L14*D14/5800 -> 0.0033372927 | N14: 0.9015 | O14: 0.6285631
B15: Electrolytes/nutrient | C15: PYRIDOXINE (VIT B6) 250 MG/5 ML AMP INJ | D15: 3638 | E15: 0.265503 | F15: 4.5 | G15: 0.0041535 | H15: 0.0022362 | I15: 0.00450594 | J15: ITXASSOU, France | K15: 0.00037358683 | L15: 0.011269227 | M15: =L15*D15/5800 -> 0.0070685254 | N15: 0.1327515 | O15: 0.083267234
B16: Anti-infectious | C16: CEFOTAXIME 1 G FL INJ | D16: 3603 | E16: 1.325258 | F16: 28 | G16: 0.025844 | H16: 0.0007215 | I16: 0.0048357 | J16: brescia, Italie | K16: 0.0051414237 | L16: 0.036542624 | M16: =L16*D16/5800 -> 0.02270053 | N16: 0.662629 | O16: 0.4116297
... B65: Electrolytes/nutrient | C65: BICARBONATE SODIUM 1,4 % 500 ML FL INJ IV PERF | D65: 15 | E65: 1.4653 | F65: 224.5 | G65: 0.545535 | H65: 0 | I65: 0.036369 | J65: La Chaussee saint victor | K65: 0.007013582 | L65: 0.58891758 | M65: =L65*D65/5800 -> 0.0015230627 | N65: 0.73265 | O65: 0.0018947845
A66: Other medications | B66: Aerosols | C66: SALBUTAMOL 5 MG/2,5ML UNIDOSE NEBUL | D66: 12010 | E66: 0.117678 | F66: 1.3 | G66: 0.002483 | H66: 0.0028912 | I66: 0.00033426 | J66: Amiens | K66: 7.89681e-05 | L66: 0.0057874281 | M66: =L66*D66/5800 -> 0.011983967 | N66: 0.058839 | O66: 0.12183731
B67: Antalgic | C67: PARACETAMOL 500 MG GELULE DAFALGAN (ex DOLIPRANE) | D67: 8608 | E67: 0.025575 | F67: 0.2 | G67: 0.00156 | H67: 6.045e-05 | I67: 5.751e-05 | J67: Agen | K67: 1.9599869e-05 | L67: 0.0016975599 | M67: =L67*D67/5800 -> 0.002519413 | N67: 0.0127875 | O67: 0.018978414
B68: Antalgic | C68: PARACETAMOL 500 MG CP EFFERV SEC DAFALGAN | D68: 4148 | E68: 0.012199 | F68: 0.5 | G68: 0.0039 | H68: 0.0004095 | I68: 0.0002511 | J68: Agen | K68: 8.5576895e-05 | L68: 0.0046461769 | M68: =L68*D68/5800 -> 0.0033228175 | N68: 0.0060995 | O68: 0.0043621941
B69: others | C69: CARMELLOSE 4 MG/0,4 ML 1 % UNIDOSE COLLYRE CELLUVISC | D69: 2460 | E69: 0.068076 | F69: 1.3 | G69: 0.002483 | H69: 0.0029505667 | I69: 0.00032814 | J69: Westport Irlande | K69: 0.00030321716 | L69: 0.0060649238 | M69: =L69*D69/5800 -> 0.0025723642 | N69: 0.034038 | O69: 0.014436807
B70: Aerosols | C70: IPRATROPIUM ADULTE 0.5MG/2ML UNIDOSE NEBUL | D70: 2390 | E70: 0.102627 | F70: 1.4 | G70: 0.002674 | H70: 0.0033345 | I70: 0.00047304 | J70: 80084 Amiens | K70: 0.00011175453 | L70: 0.0065932945 | M70: =L70*D70/5800 -> 0.0027168921 | N70: 0.0513135 | O70: 0.021144701
B71: others | C71: LANSOPRAZOLE 15 MG CP ORODISPERSIBLE | D71: 2268 | E71: 0.082184 | F71: 0.3 | G71: 0.00234 | H71: 0.00011421429 | I71: 9.6042857e-05 | J71: Komarom Hongry | K71: 0.0001378215 | L71: 0.0026880786 | M71: =L71*D71/5800 -> 0.0010511314 | N71: 0.041092 | O71: 0.016068389
B72: Anti-infectious | C72: AMPHOTERICINE B+GENTAMICINE+COLISTINE BUV FL 60ML DECONT DIGEST SELECTIVE | D72: 2260 | E72: 22.678922 | F72: 70 | G72: 0.06461 | H72: 0 | I72: 0.01134 | J72: Gueret | K72: 0 | L72: 0.07595 | M72: =L72*D72/5800 -> 0.02959431 | N72: 11.339461 | O72: 4.4184796
B73: others | C73: MACROGOL 3350 13,125 G + ELECTROLYTES SACHET MOVICOL | D73: 1840 | E73: 0.09665 | F73: 2.5 | G73: 0.0195 | H73: 0.00052065 | I73: 0.00062127 | J73: Auxerre | K73: 0.0001746574 | L73: 0.020816577 | M73: =L73*D73/5800 -> 0.0066038797 | N73: 0.048325 | O73: 0.01533069
B74: Electrolytes/nutrient | C74: POTASSIUM CHLORURE 600 MG GELULE DIFFUK | D74: 1640 | E74: 0.041742 | F74: 0.2 | G74: 0.00156 | H74: 6.5325e-05 | I74: 5.9535e-05 | J74: Limay | K74: 1.2127022e-05 | L74: 0.001696987 | M74: =L74*D74/5800 -> 0.00047983771 | N74: 0.020871 | O74: 0.0059014552
B75: Sedative | C75: ZOPICLONE 7,5MG CP SEC | D75: 1410 | E75: 0.030201 | F75: 0.2 | G75: 0.00156 | H75: 5.85e-05 | I75: 5.67e-05 | J75: Lyon | K75: 2.3406705e-05 | L75: 0.0016986067 | M75: =L75*D75/5800 -> 0.00041293715 | N75: 0.0151005 | O75: 0.0036709836
B76: Antiseptics | C76: CHLORHEXIDINE ALCOOL + COLORANT 0,5% SOL APPL CUT FL 125ML | D76: 1252 | E76: 1.48203 | F76: 34.4 | G76: 0.065704 | H76: 0 | I76: 0.0055728 | J76: Herouville Saint Clair | K76: 0 | L76: 0.0712768 | M76: =L76*D76/5800 -> 0.015385958 | N76: 0.741015 | O76: 0.15995703
B77: Antiseptics | C77: GEL HYDROALCOOLIQUE ANIOSGEL 800 500ML 2550748UG | D77: 1207 | E77: 1.663167 | F77: 63.8 | G77: 0.121858 | H77: 0.00755625 | I77: 0.01347435 | J77: Lezennes | K77: 0.0040738034 | L77: 0.1469624 | M77: =L77*D77/5800 -> 0.030583383 | N77: 0.8315835 | O77: 0.17305539
B78: others | C78: PANTOPRAZOLE 20 MG CP | D78: 1180 | E78: 0.022811 | F78: 0.2 | G78: 0.00156 | H78: 5.07e-05 | I78: 5.346e-05 | J78: Malte | K78: 0.00010842239 | L78: 0.0017725824 | M78: =L78*D78/5800 -> 0.00036062883 | N78: 0.0114055 | O78: 0.0023204293
... B104: Antiseptics | C104: CHLORHEXIDINE 4% SOL MOUSSANTE FL 125ML HIBISCRUB | D104: 323 | E104: 1.747126 | F104: 29.1 | G104: 0.055581 | H104: 0.00217035 | I104: 0.00561573 | J104: Alloga arras | K104: 0.0015787481 | L104: 0.064945828 | M104: =L104*D104/5800 -> 0.0036168108 | N104: 0.873563 | O104: 0.048648422
A105: TOTAL | D105: =SUM(D4:D104) -> 273359 | F105: =SUM(F4:F104) -> 1812.33 | G105: =SUM(G4:G104) -> 5.3339094 | H105: =SUM(H4:H104) -> 0.6240421 | I105: =SUM(I4:I104) -> 0.54388082 | K105: =SUM(K4:K104) -> 0.19689803 | M105: =SUM(M4:M104) -> 1.4120413 | O105: =SUM(O4:O104) -> 21.489984

Sheet Medical devices
E1: Process-based LCA | M1: EIO LCA
E2: COMPONENTS | G2: PACKAGING | H2: ELIMINATION | I2: TRANSPORTATION | K2: TOTAL GHG emissions
B3: Product reference | C3: Consumption | D3: Price (per unit) (€) | E3: Weight | F3: GHG emissions | G3: GHG emissions | H3: GHG emissions | I3: Production site | J3: GHG emissions | K3: GHG emissions (for 1 unit) | L3: GHG emissions in 2022 (per patient-day) | M3: GHG emissions (for 1 unit) | N3: GHG emissions in 2022 (per patient-day)
A4: IV related and other medical devices | B4: COMPRESSE NON TISSE N/STER 7.5X7.5CM 113 | C4: 155000 | D4: 0.005841 | E4: 0.856 | F4: 0.0092234 | G4: 2.6271e-05 | H4: 0.000148878 | I4: Paris | J4: 0.00018177379 | K4: 0.0095803228 | L4: =K4*C4/5800 -> 0.25602587 | M4: 0.001839915 | N4: 0.049170142 | P4: LCA = Life Cycle Assessment, EIO = Economic Input-output, IV = intravenous, PPE = Personal Protective Equipment ; GHG emissions are expressed as Carbon Dioxide Equivalent (kgCO2e)
B5: AIG HYPODERMIQUE 18GX40MM 303262 | C5: 60500 | D5: 0.0144 | E5: 0.4 | F5: 0.002864 | G5: 0.00046039 | H5: 0.000523162 | I5: Fraga, Espagne | J5: 0.0006692464 | K5: 0.0045167984 | L5: =K5*C5/5800 -> 0.04711488 | M5: 0.004536 | N5: 0.047315172
B6: SERINGUE 3 PIECES LUER LOCK 50/60ML POUSSE-SERING 300865 | C6: 37680 | D6: 0.198905 | E6: 28.4 | F6: 0.067228 | G6: 0.006953 | H6: 0.0306977 | I6: Mardid, Espagne | J6: 0.03619697 | K6: 0.14107567 | L6: =K6*C6/5800 -> 0.91650539 | M6: 0.062655075 | N6: 0.40704194
B7: ELECTRODE ECG SURV AD MICROPORE E-T601 | C7: 32280 | D7: 0.054755 | E7: 0.3 | F7: 0.00598 | G7: 0.000884 | H7: 0.00080516 | I7: Innsburk, Autriche | J7: 0.00099411716 | K7: 0.0086632772 | L7: =K7*C7/5800 -> 0.048215618 | M7: 0.017247825 | N7: 0.095993067
B8: COMPRESSE NON TISSE STER 7.5X7.5CM COMP/2 113S0250 | C8: 30600 | D8: 0.027875 | E8: 0.856 | F8: 0.0092234 | G8: 0.001528 | H8: 0.000936808 | I8: Paris | J8: 0.00099608485 | K8: 0.012684293 | L8: =K8*C8/5800 -> 0.06692058 | M8: 0.008780625 | N8: 0.046325366
B9: AUTOPIQUEUR EXTRA 21GX1.8MM SILKTOUCH AJCL2118 | C9: 29700 | D9: 0.0421 | E9: 1.025 | F9: 0.00205 | G9: 4.446e-05 | H9: 0.000985043 | I9: Tianjin, chine | J9: 0.0013202673 | K9: 0.0043997703 | L9: =K9*C9/5800 -> 0.022529858 | M9: 0.0132615 | N9: 0.067908026
B10: SONDE ASPIRATION TRACHEALE CH14 01951451 (SC101453) | C10: 25900 | D10: 0.077001 | E10: 4.7 | F10: 0.011272 | G10: 0.00509646 | H10: 0.006259668 | I10: Istabul, Turquie | J10: 0.0077518326 | K10: 0.030379961 | L10: =K10*C10/5800 -> 0.13566224 | M10: 0.024255315 | N10: 0.10831253
B11: COMPRESSE NON TISSE STER 7.5X7.5CM COMP/5 113S0550 | C11: 22700 | D11: 0.044913 | E11: 0.856 | F11: 0.0092234 | G11: 0.0006112 | H11: 0.000859048 | I11: Paris | J11: 0.00090114316 | K11: 0.011594791 | L11: =K11*C11/5800 -> 0.045379614 | M11: 0.014147595 | N11: 0.05537076
B12: SOINS DE BOUCHE BATONNET MOUSSE CONIQUE CV203 | C12: 22100 | D12: 0.1818 | E12: 1.5 | F12: 0.00151605 | G12: 0.0006112 | H12: 0.00174924 | I12: Saint Jean de la Neuveille | J12: 0.0018053074 | K12: 0.0056817974 | L12: =K12*C12/5800 -> 0.021649607 | M12: 0.057267 | N12: 0.21820702
B13: PERFUSEUR 1 VOIE SANS SITE INJECTION INFU-1X | C13: 18340 | D13: 0.198 | E13: 13.4 | F13: 0.064948 | G13: 0.07007 | H13: 0.0365335 | I13: Jaipur, Inde | J13: 0.044205445 | K13: 0.21575695 | L13: =K13*C13/5800 -> 0.68223834 | M13: 0.06237 | N13: 0.19721824
B14: PROLONGATEUR M/F D 1MM 200CM PB3120R | C14: 16322 | D14: 0.28929 | E14: 9.5 | F14: 0.023686 | G14: 0.005921 | H14: 0.012384 | I14: Lissieu, France | J14: 0.013420159 | K14: 0.055411159 | L14: =K14*C14/5800 -> 0.15593464 | M14: 0.09112635 | N14: 0.25644212
B15: SERINGUE 2 PIECES 10ML SER2P10D | C15: 15600 | D15: 0.043767 | E15: 3.3 | F15: 0.012139 | G15: 0.002292 | H15: 0.006041 | I15: Jiangsu, Chine | J15: 0.0083679936 | K15: 0.028839994 | L15: =K15*C15/5800 -> 0.077569638 | M15: 0.013786605 | N15: 0.037081213
B16: SERINGUE 2 PIECES 20ML SER2P20D | C16: 12100 | D16: 0.072752 | E16: 5 | F16: 0.01955 | G16: 0.003247 | H16: 0.0097054 | I16: Jiangsu, Chine | J16: 0.013384566 | K16: 0.045886966 | L16: =K16*C16/5800 -> 0.095729704 | M16: 0.02291688 | N16: 0.047809353
... B36: CISEAUX METALLIQUES STERILES 478167/5 | C36: 2300 | D36: 0.376488 | E36: 5.5 | F36: 0.033279 | G36: 0.0090244 | H36: 0.01125002 | I36: heidenheim, germany | J36: 0.013433701 | K36: 0.066987121 | L36: =K36*C36/5800 -> 0.026563858 | M36: 0.11859372 | N36: 0.047028544
A37: PPE | B37: GANT EXAMEN VINYLE N/STERILE EXANYL 7/8 447004 (107116PM) | C37: 272000 | D37: 0.03051192 | E37: 4.5 | F37: 0.01512 | G37: 0.00021384167 | H37: 0.0040482723 | J37: 0.0005607796 | K37: 0.019942894 | L37: =K37*C37/5800 -> 0.93525294 | M37: 0.0096112547 | N37: 0.4507347
B38: GANT EXAMEN VINYLE N/STERILE EXANYL 8/9 447005 (107117PM) | C38: 155000 | D38: 0.030883605 | E38: 4.5 | F38: 0.01512 | G38: 0.00021384167 | H38: 0.0040482723 | J38: 0.0005607796 | K38: 0.019942894 | L38: =K38*C38/5800 -> 0.53295664 | M38: 0.0097283357 | N38: 0.25998139
B39: GANT EXAMEN VINYLE N/STERILE EXANYL 6/7 447003 (GVA1200PM) | C39: 78000 | D39: 0.033963566 | E39: 4.5 | F39: 0.01512 | G39: 0.00021384167 | H39: 0.0040482723 | J39: 0.0005607796 | K39: 0.019942894 | L39: =K39*C39/5800 -> 0.26819753 | M39: 0.010698523 | N39: 0.14387669
B40: MASQUE CHIRURGICAL A ELASTIQUES IIR | C40: 51650 | D40: 0.07414259 | E40: 2.45 | F40: 0.0064 | G40: 0.0032901 | H40: 0.00307395 | J40: 0.000199969 | K40: 0.012964019 | L40: =K40*C40/5800 -> 0.11544682 | M40: 0.023354916 | N40: 0.20797955
B41: CHARLOTTE UU | C41: 22550 | D41: 0.030826672 | E41: 6.8 | F41: 0.013804 | G41: 0.00033984167 | H41: 0.0069498 | J41: 0.0008156196 | K41: 0.021909261 | L41: =K41*C41/5800 -> 0.085181697 | M41: 0.0097104018 | N41: 0.037753372
B42: GANT EXAMEN VINYLE N/STERILE EXANYL 9/10 447005XG (107118PM) | C42: 8000 | D42: 0.030826672 | E42: 4.5 | F42: 0.01512 | G42: 0.00021384167 | H42: 0.0040482723 | J42: 0.0005607796 | K42: 0.019942894 | L42: =K42*C42/5800 -> 0.027507439 | M42: 0.0097104018 | N42: 0.013393658
B43: GANT PROTECTION NITRILE N/STERILE 7/8 127552 ( MX98897) | C43: 7000 | D43: 0.090830909 | E43: 4.5 | F43: 0.01904 | G43: 0.00022724167 | H43: 0.0031572723 | J43: 0.00026401011 | K43: 0.022688524 | L43: =K43*C43/5800 -> 0.027382701 | M43: 0.028611736 | N43: 0.034531406
B44: GANT PROTECTION NITRILE N/STERILE 8/9 127553 (MX98898) | C44: 5200 | D44: 0.091153095 | E44: 4.5 | F44: 0.01904 | G44: 0.00022724167 | H44: 0.0031572723 | J44: 0.00026401011 | K44: 0.022688524 | L44: =K44*C44/5800 -> 0.020341435 | M44: 0.028713225 | N44: 0.025742891
B45: CALOT U BLOC (magasin) | C45: 500 | D45: 0.12857647 | E45: 6.8 | F45: 0.013804 | G45: 0.00033984167 | H45: 0.0069498 | J45: 0.0008156196 | K45: 0.021909261 | L45: =K45*C45/5800 -> 0.0018887294 | M45: 0.040501588 | N45: 0.0034915162
B46: GANT PROTECTION NITRILE N/STERILE 400MM 7/8 127546 | C46: 450 | D46: 0.22069805 | E46: 4.5 | F46: 0.01904 | G46: 0.00022724167 | H46: 0.0031572723 | J46: 0.00026401011 | K46: 0.022688524 | L46: =K46*C46/5800 -> 0.0017603165 | M46: 0.069519886 | N46: 0.0053937843
B47: GANT DE TOILETTE UU | C47: 450 | D47: 0.024846933 | F47: 0.03046 | G47: 3.2841667e-05 | H47: 0.0022662723 | J47: 0.0003391796 | K47: 0.033098294 | L47: =K47*C47/5800 -> 0.002567971 | M47: 0.0078267838 | N47: 0.00060725047
B48: GANT PROTECTION NITRILE N/STERILE 6/7 127551 | C48: 400 | D48: 0.090887452 | E48: 4.5 | F48: 0.01904 | G48: 0.00022724167 | H48: 0.0031572723 | J48: 0.00026401011 | K48: 0.022688524 | L48: =K48*C48/5800 -> 0.0015647258 | M48: 0.028629547 | N48: 0.0019744515
A49: TOTAL | C49: =SUM(C4:C48) -> 1169736 | E49: =SUM(E4:E48) -> 214.499 | F49: =SUM(F4:F48) -> 0.77546785 | G49: =SUM(G4:G48) -> 0.15831459 | H49: =SUM(H4:H48) -> 0.28403896 | J49: =SUM(J4:J48) -> 0.41138584 | K49: =SUM(K4:K48) -> 1.6292072 | L49: =SUM(L4:L48) -> 5.107465 | M49: =SUM(M4:M48) -> 3.0462346 | N49: =SUM(N4:N48) -> 4.7491805
C50: =C49/5800 -> 201.67862

Sheet Caregivers transportation
A1: Agent | B1: Distance trajet | C1: Transport 1 | D1: Transport 2 | E1: Proportion 1 | F1: Proportion2 | G1: Ouest go | H1: FMD | I1: Facteur impact transport 1 | J1: Facteur impact transport 2 | K1: Impact mobilité par jour travaillé | N1: Nombre de répondants | O1: Nombre de soignants dans le service | P1: % répondant | Q1: Impact annuel (eq.kg.co2)
A2: AS | B2: 40 | C2: voiture | D2: covoit | E2: 0.9 | F2: 0.1 | G2: 1 | H2: 1 | I2: 0.149 | J2: 0.0745 | K2: =(B2*E2*I2+B2*F2*J2)*2 -> 11.324 | M2: AS | N2: 11 | O2: 31 | P2: 0.35483871 | Q2: 11972.895
A3: AS | B3: 7 | C3: voiture | D3: covoit | E3: 0.5 | F3: 0.5 | G3: 0 | H3: 1 | I3: 0.149 | J3: 0.0745 | K3: =(B3*E3*I3+B3*F3*J3)*2 -> 1.5645 | M3: IDE | N3: 20 | O3: 47 | P3: 0.42553191 | Q3: 24685.933
A4: Ide | B4: 25 | C4: electrique voiture | D4: covoit | E4: 0.85 | F4: 0.15 | G4: 0 | H4: 0 | I4: 0.0953 | J4: 0.0745 | K4: =(B4*E4*I4+B4*F4*J4)*2 -> 4.609 | M4: MED | N4: 6 | O4: 9 | P4: 0.66666667 | Q4: 798.07125
A5: Secretaire | B5: 17.5 | C5: voiture | E5: 1 | F5: 0 | G5: 0 | H5: 1 | I5: 0.149 | K5: =(B5*E5*I5+B5*F5*J5)*2 -> 5.215 | M5: Interne | N5: 4 | O5: 8 | P5: 0.5 | Q5: 211.47975
A6: IDE | B6: 20 | C6: voiture | E6: 1 | F6: 0 | G6: 0 | H6: 1 | I6: 0.149 | K6: =(B6*E6*I6+B6*F6*J6)*2 -> 5.96 | M6: Administratif | N6: 2 | O6: 4 | P6: 0.5 | Q6: 9034.0935
A7: IDE | B7: 35 | C7: voiture | E7: 1 | F7: 0 | G7: 0 | H7: 0 | I7: 0.149 | K7: =(B7*E7*I7+B7*F7*J7)*2 -> 10.43 | M7: Elève | N7: 4 | O7: 6 | P7: 0.66666667 | Q7: 887.08267
A8: IDE | B8: 30 | C8: voiture | E8: 1 | F8: 0 | G8: 0 | H8: 1 | I8: 0.149 | K8: =(B8*E8*I8+B8*F8*J8)*2 -> 8.94 | N8: =SUM(N2:N7) -> 47 | O8: =SUM(O2:O7) -> 105 | Q8: 47589.555
A9: Med | B9: 16.5 | C9: voiture | E9: 1 | F9: 0 | G9: 0 | H9: 0 | I9: 0.149 | K9: =(B9*E9*I9+B9*F9*J9)*2 -> 4.917
A10: Med | B10: 8 | C10: velo | E10: 1 | F10: 0 | G10: 1 | H10: 1 | I10: 0.011 | K10: =(B10*E10*I10+B10*F10*J10)*2 -> 0.176
A11: Med | B11: 25 | C11: velo | D11: covoit | E11: 0.9 | F11: 0.1 | G11: 1 | H11: 1 | I11: 0.011 | J11: 0.0745 | K11: =(B11*E11*I11+B11*F11*J11)*2 -> 0.8675
A12: Med | B12: 8 | C12: velo | E12: 1 | F12: 0 | G12: 1 | H12: 1 | I12: 0.011 | K12: =(B12*E12*I12+B12*F12*J12)*2 -> 0.176
A13: AS | B13: 5 | C13: voiture | D13: covoit | E13: 0.8 | F13: 0.2 | G13: 0 | H13: 1 | I13: 0.149 | J13: 0.0745 | K13: =(B13*E13*I13+B13*F13*J13)*2 -> 1.341
A14: IDE | B14: 18 | C14: voiture | D14: covoit | E14: 0.8 | F14: 0.2 | G14: 0 | H14: 1 | I14: 0.149 | J14: 0.0745 | K14: =(B14*E14*I14+B14*F14*J14)*2 -> 4.8276
A15: AS | B15: 15 | C15: voiture | E15: 1 | F15: 0 | G15: 1 | H15: 0 | I15: 0.149 | K15: =(B15*E15*I15+B15*F15*J15)*2 -> 4.47
A16: IDE | B16: 20 | C16: voiture | E16: 1 | F16: 0 | G16: 1 | H16: 1 | I16: 0.149 | K16: =(B16*E16*I16+B16*F16*J16)*2 -> 5.96
A17: Elève AS | B17: 4 | C17: voiture | E17: 1 | F17: 0 | G17: 0 | H17: 0 | I17: 0.149 | K17: =(B17*E17*I17+B17*F17*J17)*2 -> 1.192
A18: AS | B18: 23 | C18: voiture | D18: covoit | E18: 0.8 | F18: 0.2 | G18: 1 | H18: 0 | I18: 0.149 | J18: 0.0745 | K18: =(B18*E18*I18+B18*F18*J18)*2 -> 6.1686
A19: AS | B19: 12 | C19: voiture | E19: 1 | F19: 0 | G19: 0 | H19: 0 | I19: 0.149 | K19: =(B19*E19*I19+B19*F19*J19)*2 -> 3.576
A20: IDE | B20: 1 | C20: velo | E20: 1 | F20: 0 | G20: 0 | H20: 1 | I20: 0.011 | K20: =(B20*E20*I20+B20*F20*J20)*2 -> 0.022
A21: Med | B21: 9 | C21: velo | E21: 1 | F21: 0 | G21: 1 | H21: 1 | I21: 0.011 | K21: =(B21*E21*I21+B21*F21*J21)*2 -> 0.198
A22: interne | B22: 3 | C22: voiture | D22: velo | E22: 0.2 | F22: 0.8 | G22: 0 | H22: 0 | I22: 0.149 | J22: 0.011 | K22: =(B22*E22*I22+B22*F22*J22)*2 -> 0.2316
A23: IDE | B23: 11 | C23: electrique voiture | D23: velo | E23: 0.95 | F23: 0.05 | G23: 1 | H23: 1 | I23: 0.0953 | J23: 0.011 | K23: =(B23*E23*I23+B23*F23*J23)*2 -> 2.00387
A24: IDE | B24: 25 | C24: voiture | D24: covoit | E24: 0.95 | F24: 0.05 | G24: 0 | H24: 1 | I24: 0.149 | J24: 0.0745 | K24: =(B24*E24*I24+B24*F24*J24)*2 -> 7.26375
A25: AS | B25: 6 | C25: trotinette | E25: 1 | F25: 0 | G25: 0 | H25: 1 | I25: 0.01 | K25: =(B25*E25*I25+B25*F25*J25)*2 -> 0.12
A26: IDE | B26: 12 | C26: voiture | D26: covoit | E26: 0.9 | F26: 0.1 | G26: 0 | H26: 1 | I26: 0.149 | J26: 0.0745 | K26: =(B26*E26*I26+B26*F26*J26)*2 -> 3.3972
A27: IDE | B27: 16 | C27: voiture | E27: 1 | F27: 0 | G27: 1 | H27: 1 | I27: 0.149 | K27: =(B27*E27*I27+B27*F27*J27)*2 -> 4.768
A28: Cadre | B28: 24 | C28: voiture | E28: 1 | F28: 0 | G28: 1 | H28: 1 | I28: 0.149 | K28: =(B28*E28*I28+B28*F28*J28)*2 -> 7.152
A29: Elève AS | B29: 5 | C29: voiture | D29: covoit | E29: 0.66 | F29: 0.34 | G29: 1 | H29: 1 | I29: 0.149 | J29: 0.0745 | K29: =(B29*E29*I29+B29*F29*J29)*2 -> 1.2367
A30: AS | B30: 5 | C30: voiture | D30: covoit | E30: 0.9 | F30: 0.1 | G30: 1 | H30: 1 | I30: 0.149 | J30: 0.0745 | K30: =(B30*E30*I30+B30*F30*J30)*2 -> 1.4155
A31: Med | B31: 2.5 | C31: voiture | D31: velo | E31: 0.9 | F31: 0.1 | G31: 0 | H31: 0 | I31: 0.149 | J31: 0.011 | K31: =(B31*E31*I31+B31*F31*J31)*2 -> 0.676
A32: IDE | B32: 13 | C32: voiture | D32: covoit | E32: 0.95 | F32: 0.05 | G32: 0 | H32: 1 | I32: 0.149 | J32: 0.0745 | K32: =(B32*E32*I32+B32*F32*J32)*2 -> 3.77715
A33: IDE | B33: 1 | C33: voiture | D33: velo | E33: 0.25 | F33: 0.75 | G33: 0 | H33: 1 | I33: 0.149 | J33: 0.011 | K33: =(B33*E33*I33+B33*F33*J33)*2 -> 0.091
A34: Kine | B34: 25 | C34: voiture | D34: covoit | E34: 0.5 | F34: 0.5 | G34: 0 | H34: 1 | I34: 0.149 | J34: 0.0745 | K34: =(B34*E34*I34+B34*F34*J34)*2 -> 5.5875
A35: IDE | B35: 27 | C35: voiture | D35: covoit | E35: 0.4 | F35: 0.6 | G35: 0 | H35: 1 | I35: 0.149 | J35: 0.0745 | K35: =(B35*E35*I35+B35*F35*J35)*2 -> 5.6322
A36: interne | B36: 0 | C36: pied | E36: 1 | F36: 0 | G36: 1 | H36: 1 | I36: 0 | K36: =(B36*E36*I36+B36*F36*J36)*2 -> 0
A37: Interne | B37: 0 | C37: pied | E37: 1 | F37: 0 | G37: 0 | H37: 0 | I37: 0 | K37: =(B37*E37*I37+B37*F37*J37)*2 -> 0
A38: interne | B38: 37.5 | C38: electrique voiture | E38: 1 | F38: 0 | G38: 0 | H38: 1 | I38: 0.0953 | K38: =(B38*E38*I38+B38*F38*J38)*2 -> 7.1475
A39: AS | B39: 13 | C39: voiture | E39: 1 | F39: 0 | G39: 0 | H39: 0 | I39: 0.149 | K39: =(B39*E39*I39+B39*F39*J39)*2 -> 3.874
A40: IDE | B40: 25 | C40: voiture | D40: covoit | E40: 0.5 | F40: 0.5 | G40: 1 | H40: 1 | I40: 0.149 | J40: 0.0745 | K40: =(B40*E40*I40+B40*F40*J40)*2 -> 5.5875
...

Sheet Energy
A1: Areas
A2: Réanimation + Locaux communs + Circ | B2: 1219.99
A3: USC | B3: 203
A4: ICU Total Area | B4: =B2+B3 -> 1422.99
A5: Hospital total area | B5: 76611
A6: Consumption | B6: Gas (kWh) | C6: Electricity (kWh) | D6: Water (m3)
A7: Part Réa et locaux communs | B7: 353935.72 | C7: 210661.07 | D7: 1594.5655
A8: Part USC | B8: 58893.066 | C8: 35052.907 | D8: 265.32742
A9: Total Consumption | B9: =B7+B8 -> 412828.79 | C9: =C7+C8 -> 245713.97 | D9: =D7+D8 -> 1859.8929
A10: Total Consumption per patient-day | B10: =B9/5800 -> 71.177377 | C10: =C9/5800 -> 42.364478 | D10: =D9/5800 -> 0.3206712
A11: GHG emissions | B11: Gas (kgCO2e) | C11: Electricity (kgCO2e) | D11: Water (kgCO2e)
A12: Part Réa et locaux communs | B12: 75388.309 | C12: 10954.375 | D12: 628.25881
A13: Part USC | B13: 12544.223 | C13: 1822.7512 | D13: 104.539
A14: 2022 Energy GHG emissions | B14: =B12+B13 -> 87932.532 | C14: =C12+C13 -> 12777.127 | D14: =D12+D13 -> 732.79782
A15: 2022 Energy GHG emissions per patient-day | B15: =B14/5800 -> 15.160781 | C15: =C14/5800 -> 2.2029529 | D15: =D14/5800 -> 0.12634445

Sheet ECMO and CRRT
B3: Consumables | C3: Number of circuit | D3: Number of days with therapy | E3: Weight (kg per year) | F3: Estimated GHG per year | G3: GHG per patient-days
B4: ECMO | C4: 7 | D4: 30 | E4: =4.75*C4 -> 33.25 | F4: =4.37*E4 -> 145.3025 | G4: =F4/5820 -> 0.024966065
B5: CRRT | C5: 245 | D5: 391 | E5: =0.733*C5 -> 179.585 | F5: =4.37*E5 -> 784.78645 | G5: =F5/5820 -> 0.13484303
B7: Devices | C7: Number of devices | D7: Life expectancy | E7: Weight (kg per device) | F7: Estimated GHG per year | G7: GHG per patient-days
B8: ECMO | C8: 1 | D8: 10 years | E8: 12 | F8: =5.5*E8*C8/10 -> 6.6 | G8: =F8/5820 -> 0.0011340206
B9: CRRT | C9: 4 | D9: 10 years | E9: 125 | F9: =5.5*E9*C9/10 -> 275 | G9: =F9/5820 -> 0.047250859
B11: Total | C11: Estimated GHG per year | D11: GHG per patient-days
B12: ECMO | C12: =F4 -> 145.3025 | D12: =G4 -> 0.024966065
B13: CRRT | C13: =F5 -> 784.78645 | D13: =G5 -> 0.13484303

Sheet Oxygen
C1: Total Hospital | D1: ICU
B2: Surface (m3) | C2: 76 611 | D2: 1423 | E2: =1423/76611 -> 0.018574356 | G2: Europe GP 100 O2 (kgCO2e/kg) | H2: 0.62
B3: Mural Oxygen Consumption (m3) | C3: =161009 -> 161009 | D3: =C3*E2 -> 2990.6385 | G3: CO2e (kgCO2e/m3)
B4: Bootles Oxygen Consumption (m3) | C4: NC | D4: =142 -> 142
B5: Oxygen Consumption (L) | C5: =C3*1000 -> 161009000 | D5: =(D3+D4)*1000 -> 3132638.5
B6: Oxygen consumption (L/per patient-day) | D6: =D5/5800 -> 540.11009
B7: Oxygen emission factor (kgCO2e/L) | C7: 0.0021
B8: CO2e emissions related | C8: =C5*C7 -> 338118.9 | D8: =D5*C7 -> 6578.5409
B9: CO2e emissions related per patient-day | D9: =D8/5820 -> 1.1303335
