Workbook

Sheet Overall
A3: very high | B3: not recommended | C3: 9 | D3: 10 | E3: 11 | F3: 12 | G3: 13 | H3: 14 | I3: 15 | J3: 16 | K3: 17 | L3: 18 | O3: Privacy | Q3: Security | S3: Service
B4: extreme high | C4: 8 | D4: 9 | E4: 10 | F4: 11 | G4: 12 | H4: 13 | I4: 14 | J4: 15 | K4: 16 | L4: 17 | N4: Lowest | O4: Iguana | P4: NEGLIGIBLE | Q4: Iguana | R4: NEGLIGIBLE | S4: Iguana | T4: NEGLIGIBLE
A5: high | B5: very high | C5: 7 | D5: 8 | E5: 9 | F5: 10 | G5: 11 | H5: 12 | I5: 13 | J5: 14 | K5: 15 | L5: 16 | N5: Average | O5: Otter | P5: EX LOW | Q5: Seal | R5: EX LOW | S5: Mouse | T5: EX LOW
B6: high | C6: 6 | D6: 7 | E6: 8 | F6: 9 | G6: 10 | H6: 11 | I6: 12 | J6: 13 | K6: 14 | L6: 15 | N6: Highest | O6: Gazelle | P6: LOW | Q6: Gazelle | R6: VERY LOW | S6: Gazelle | T6: VERY LOW
A7: medium | B7: above average | C7: 5 | D7: 6 | E7: 7 | F7: 8 | G7: 9 | H7: 10 | I7: 11 | J7: 12 | K7: 13 | L7: 14
B8: below average | C8: 4 | D8: 5 | E8: 6 | F8: 7 | G8: 8 | H8: 9 | I8: 10 | J8: 11 | K8: 12 | L8: 13 | O8: CSC1 (All Assets) | P8: CSC2 (All Important Assets) | Q8: CSC3 (Data and Service Assets) | R8: CSC4 (SME with Data Assets Only) | S8: CSC5 (Pers Data Only)
A9: low | B9: low | C9: 3 | D9: 4 | E9: 5 | F9: 6 | G9: 7 | H9: 8 | I9: 9 | J9: 10 | K9: 11 | L9: 12 | N9: Privacy | O9: 4.1052632 | P9: 3.7208533 | Q9: 3.3186223 | R9: 2.648781 | S9: 1.6327865
B10: very low | C10: 2 | D10: 3 | E10: 4 | F10: 5 | G10: 6 | H10: 7 | I10: 8 | J10: 9 | K10: 10 | L10: 11 | N10: Security | O10: 3.9090909 | P10: 3.2861915 | Q10: 2.8058556 | R10: 2.3482438 | S10: 1.4947117
A11: very low | B11: extreme low | C11: 1 | D11: 2 | E11: 3 | F11: 4 | G11: 5 | H11: 6 | I11: 7 | J11: 8 | K11: 9 | L11: 10 | N11: Service | O11: 3.9545455 | P11: 3.1965909 | Q11: 3.0001263 | R11: 1.9007035 | S11: 0.9116342
B12: negligible | C12: 0 | D12: 1 | E12: 2 | F12: 3 | G12: 4 | H12: 5 | I12: 6 | J12: 7 | K12: 8 | L12: 9 | N12: Privacy | O12: EXTREME HIGH | P12: VERY HIGH | Q12: HIGH | R12: ABOVE AVERAGE | S12: LOW
C13: negligible | D13: extreme | E13: very | F13: low | G13: below | H13: above | I13: high | J13: very | K13: extreme | L13: not | N13: Security | O13: VERY HIGH | P13: HIGH | Q13: ABOVE AVERAGE | R13: BELOW AVERAGE | S13: VERY LOW
C14: very low | E14: low | G14: medium | I14: high | K14: very high | N14: Service | O14: VERY HIGH | P14: HIGH | Q14: HIGH | R14: LOW | S14: EXTREME LOW
C16: lowest | D16: average | E16: highest | I16: lowest | J16: average | K16: highest | O16: lowest | P16: average | Q16: highest
A17: Privacy | B17: CSC1 | C17: 8 | D17: 9 | E17: 11 | G17: Security | H17: CSC1 | I17: 7 | J17: 8 | K17: 9 | M17: Service | N17: CSC1 | O17: 7 | P17: 8 | Q17: 9
B18: CSC2 | C18: 7 | D18: 8 | E18: 10 | H18: CSC2 | I18: 6 | J18: 7 | K18: 8 | N18: CSC2 | O18: 6 | P18: 7 | Q18: 8
B19: CSC3 | C19: 6 | D19: 7 | E19: 9 | H19: CSC3 | I19: 5 | J19: 6 | K19: 7 | N19: CSC3 | O19: 6 | P19: 7 | Q19: 8
B20: CSC4 | C20: 5 | D20: 6 | E20: 8 | H20: CSC4 | I20: 4 | J20: 5 | K20: 6 | N20: CSC4 | O20: 3 | P20: 4 | Q20: 5
B21: CSC5 | C21: 3 | D21: 4 | E21: 6 | H21: CSC5 | I21: 2 | J21: 3 | K21: 4 | N21: CSC5 | O21: 1 | P21: 2 | Q21: 3

Sheet GraphicsImpact

Sheet TotalImpact
B1: CSC1 (All Assets) | C1: CSC2 (All Important Assets) | D1: CSC3 (Data and Service Assets) | E1: CSC4 (SME with Data Assets Only) | F1: CSC5 (Pers Data Only)
A2: Privacy | B2: =AssetIndex!AL25 -> 4.1052632 | C2: =AssetIndex!AM25 -> 3.7208533 | D2: =AssetIndex!AN25 -> 3.3186223 | E2: =AssetIndex!AO25 -> 2.648781 | F2: =AssetIndex!AP25 -> 1.6327865
A3: Security | B3: =AssetIndex!AL26 -> 3.9090909 | C3: =AssetIndex!AM26 -> 3.2861915 | D3: =AssetIndex!AN26 -> 2.8058556 | E3: =AssetIndex!AO26 -> 2.3482438 | F3: =AssetIndex!AP26 -> 1.4947117
A4: Service | B4: =AssetIndex!AL27 -> 3.9545455 | C4: =AssetIndex!AM27 -> 3.1965909 | D4: =AssetIndex!AN27 -> 3.0001263 | E4: =AssetIndex!AO27 -> 1.9007035 | F4: =AssetIndex!AP27 -> 0.9116342
A5: Privacy | B5: =IF(B2>=4.5,"NOT RECOMMENDED",IF(B2>=4,"EXTREME HIGH",IF(B2>=3.5,"VERY HIGH",IF(B2>=3,"HIGH",IF(B2>=2.5,"ABOVE AVERAGE",IF(B2>=2,"BELOW AVERAGE",IF(B2>=1.5,"LOW",IF(B2>=1,"VERY LOW",IF(B2>=0.5,"EXTREME LOW","NEGLIGIBLE"))))))))) -> EXTREME HIGH | C5: =IF(C2>=4.5,"NOT RECOMMENDED",IF(C2>=4,"EXTREME HIGH",IF(C2>=3.5,"VERY HIGH",IF(C2>=3,"HIGH",IF(C2>=2.5,"ABOVE AVERAGE",IF(C2>=2,"BELOW AVERAGE",IF(C2>=1.5,"LOW",IF(C2>=1,"VERY LOW",IF(C2>=0.5,"EXTREME LOW","NEGLIGIBLE"))))))))) -> VERY HIGH | D5: =IF(D2>=4.5,"NOT RECOMMENDED",IF(D2>=4,"EXTREME HIGH",IF(D2>=3.5,"VERY HIGH",IF(D2>=3,"HIGH",IF(D2>=2.5,"ABOVE AVERAGE",IF(D2>=2,"BELOW AVERAGE",IF(D2>=1.5,"LOW",IF(D2>=1,"VERY LOW",IF(D2>=0.5,"EXTREME LOW","NEGLIGIBLE"))))))))) -> HIGH | E5: =IF(E2>=4.5,"NOT RECOMMENDED",IF(E2>=4,"EXTREME HIGH",IF(E2>=3.5,"VERY HIGH",IF(E2>=3,"HIGH",IF(E2>=2.5,"ABOVE AVERAGE",IF(E2>=2,"BELOW AVERAGE",IF(E2>=1.5,"LOW",IF(E2>=1,"VERY LOW",IF(E2>=0.5,"EXTREME LOW","NEGLIGIBLE"))))))))) -> ABOVE AVERAGE | F5: =IF(F2>=4.5,"NOT RECOMMENDED",IF(F2>=4,"EXTREME HIGH",IF(F2>=3.5,"VERY HIGH",IF(F2>=3,"HIGH",IF(F2>=2.5,"ABOVE AVERAGE",IF(F2>=2,"BELOW AVERAGE",IF(F2>=1.5,"LOW",IF(F2>=1,"VERY LOW",IF(F2>=0.5,"EXTREME LOW","NEGLIGIBLE"))))))))) -> LOW
A6: Security | B6: =IF(B3>=4.5,"NOT RECOMMENDED",IF(B3>=4,"EXTREME HIGH",IF(B3>=3.5,"VERY HIGH",IF(B3>=3,"HIGH",IF(B3>=2.5,"ABOVE AVERAGE",IF(B3>=2,"BELOW AVERAGE",IF(B3>=1.5,"LOW",IF(B3>=1,"VERY LOW",IF(B3>=0.5,"EXTREME LOW","NEGLIGIBLE"))))))))) -> VERY HIGH | C6: =IF(C3>=4.5,"NOT RECOMMENDED",IF(C3>=4,"EXTREME HIGH",IF(C3>=3.5,"VERY HIGH",IF(C3>=3,"HIGH",IF(C3>=2.5,"ABOVE AVERAGE",IF(C3>=2,"BELOW AVERAGE",IF(C3>=1.5,"LOW",IF(C3>=1,"VERY LOW",IF(C3>=0.5,"EXTREME LOW","NEGLIGIBLE"))))))))) -> HIGH | D6: =IF(D3>=4.5,"NOT RECOMMENDED",IF(D3>=4,"EXTREME HIGH",IF(D3>=3.5,"VERY HIGH",IF(D3>=3,"HIGH",IF(D3>=2.5,"ABOVE AVERAGE",IF(D3>=2,"BELOW AVERAGE",IF(D3>=1.5,"LOW",IF(D3>=1,"VERY LOW",IF(D3>=0.5,"EXTREME LOW","NEGLIGIBLE"))))))))) -> ABOVE AVERAGE | E6: =IF(E3>=4.5,"NOT RECOMMENDED",IF(E3>=4,"EXTREME HIGH",IF(E3>=3.5,"VERY HIGH",IF(E3>=3,"HIGH",IF(E3>=2.5,"ABOVE AVERAGE",IF(E3>=2,"BELOW AVERAGE",IF(E3>=1.5,"LOW",IF(E3>=1,"VERY LOW",IF(E3>=0.5,"EXTREME LOW","NEGLIGIBLE"))))))))) -> BELOW AVERAGE | F6: =IF(F3>=4.5,"NOT RECOMMENDED",IF(F3>=4,"EXTREME HIGH",IF(F3>=3.5,"VERY HIGH",IF(F3>=3,"HIGH",IF(F3>=2.5,"ABOVE AVERAGE",IF(F3>=2,"BELOW AVERAGE",IF(F3>=1.5,"LOW",IF(F3>=1,"VERY LOW",IF(F3>=0.5,"EXTREME LOW","NEGLIGIBLE"))))))))) -> VERY LOW
A7: Service | B7: =IF(B4>=4.5,"NOT RECOMMENDED",IF(B4>=4,"EXTREME HIGH",IF(B4>=3.5,"VERY HIGH",IF(B4>=3,"HIGH",IF(B4>=2.5,"ABOVE AVERAGE",IF(B4>=2,"BELOW AVERAGE",IF(B4>=1.5,"LOW",IF(B4>=1,"VERY LOW",IF(B4>=0.5,"EXTREME LOW","NEGLIGIBLE"))))))))) -> VERY HIGH | C7: =IF(C4>=4.5,"NOT RECOMMENDED",IF(C4>=4,"EXTREME HIGH",IF(C4>=3.5,"VERY HIGH",IF(C4>=3,"HIGH",IF(C4>=2.5,"ABOVE AVERAGE",IF(C4>=2,"BELOW AVERAGE",IF(C4>=1.5,"LOW",IF(C4>=1,"VERY LOW",IF(C4>=0.5,"EXTREME LOW","NEGLIGIBLE"))))))))) -> HIGH | D7: =IF(D4>=4.5,"NOT RECOMMENDED",IF(D4>=4,"EXTREME HIGH",IF(D4>=3.5,"VERY HIGH",IF(D4>=3,"HIGH",IF(D4>=2.5,"ABOVE AVERAGE",IF(D4>=2,"BELOW AVERAGE",IF(D4>=1.5,"LOW",IF(D4>=1,"VERY LOW",IF(D4>=0.5,"EXTREME LOW","NEGLIGIBLE"))))))))) -> HIGH | E7: =IF(E4>=4.5,"NOT RECOMMENDED",IF(E4>=4,"EXTREME HIGH",IF(E4>=3.5,"VERY HIGH",IF(E4>=3,"HIGH",IF(E4>=2.5,"ABOVE AVERAGE",IF(E4>=2,"BELOW AVERAGE",IF(E4>=1.5,"LOW",IF(E4>=1,"VERY LOW",IF(E4>=0.5,"EXTREME LOW","NEGLIGIBLE"))))))))) -> LOW | F7: =IF(F4>=4.5,"NOT RECOMMENDED",IF(F4>=4,"EXTREME HIGH",IF(F4>=3.5,"VERY HIGH",IF(F4>=3,"HIGH",IF(F4>=2.5,"ABOVE AVERAGE",IF(F4>=2,"BELOW AVERAGE",IF(F4>=1.5,"LOW",IF(F4>=1,"VERY LOW",IF(F4>=0.5,"EXTREME LOW","NEGLIGIBLE"))))))))) -> EXTREME LOW

Sheet AssetIndex
A1: Assets | B1: 1 | C1: 2 | D1: 3 | E1: 4 | F1: 5 | G1: 6 | H1: 7 | I1: 8 | J1: 9 | K1: 10 | L1: 11 | M1: 12 | N1: 13 | O1: 14 | P1: 15 | Q1: 16 | R1: 17 | S1: 18 | T1: 19 | U1: 20 | V1: 21 | W1: 22 | X1: 23 | Y1: 24 | Z1: 25 | AA1: 26 | AB1: 27 | AC1: 28 | AD1: 29 | AE1: 30 | AF1: 31 | AG1: 32 | AH1: 33 | AI1: 34 | AJ1: 35 | AK1: ALset% | AL1: CSC1 (All) | AM1: CSC2 (All important) | AN1: CSC3 (data and serv) | AO1: CSC4 (data only SME) | AP1: CSC5 (pers data only)
A2: A1. Company reputation | B2: 1 | C2: 1 | D2: 0 | E2: 1 | F2: 1 | G2: 1 | H2: 1 | I2: 1 | J2: 1 | K2: 1 | L2: 1 | M2: 1 | N2: 1 | O2: 0 | P2: 1 | Q2: 1 | R2: 0 | S2: 1 | T2: 0 | U2: 0 | V2: 1 | W2: 1 | X2: 1 | Y2: 1 | Z2: 0 | AA2: 1 | AB2: 1 | AC2: 0 | AD2: 1 | AE2: 0 | AF2: 0 | AG2: 1 | AH2: 1 | AI2: 0 | AJ2: 1 | AK2: =SUM(B2:AJ2)/35 -> 0.71428571 | AL2: 1 | AM2: 1 | AN2: 1 | AO2: 1 | AP2: 0
A3: A2. Customer trust | B3: 0 | C3: 1 | D3: 0 | E3: 0 | F3: 1 | G3: 1 | H3: 1 | I3: 1 | J3: 1 | K3: 1 | L3: 1 | M3: 1 | N3: 1 | O3: 0 | P3: 1 | Q3: 1 | R3: 0 | S3: 1 | T3: 0 | U3: 0 | V3: 1 | W3: 1 | X3: 1 | Y3: 0 | Z3: 0 | AA3: 1 | AB3: 1 | AC3: 0 | AD3: 1 | AE3: 0 | AF3: 0 | AG3: 1 | AH3: 1 | AI3: 0 | AJ3: 1 | AK3: =SUM(B3:AJ3)/35 -> 0.62857143 | AL3: 1 | AM3: 1 | AN3: 1 | AO3: 1 | AP3: 0
A4: A3. Employee loyalty and experience | B4: 0 | C4: 1 | D4: 0 | E4: 0 | F4: 1 | G4: 1 | H4: 0 | I4: 0 | J4: 0 | K4: 1 | L4: 0 | M4: 0 | N4: 1 | O4: 0 | P4: 0 | Q4: 0 | R4: 0 | S4: 0 | T4: 0 | U4: 0 | V4: 0 | W4: 0 | X4: 0 | Y4: 0 | Z4: 0 | AA4: 1 | AB4: 0 | AC4: 0 | AD4: 1 | AE4: 0 | AF4: 0 | AG4: 0 | AH4: 0 | AI4: 0 | AJ4: 0 | AK4: =SUM(B4:AJ4)/35 -> 0.2 | AL4: 1 | AM4: 1 | AN4: 0 | AO4: 0 | AP4: 0
A5: A4. Intellectual property | B5: 0 | C5: 0 | D5: 0 | E5: 0 | F5: 0 | G5: 1 | H5: 0 | I5: 0 | J5: 0 | K5: 1 | L5: 0 | M5: 1 | N5: 1 | O5: 0 | P5: 0 | Q5: 0 | R5: 1 | S5: 0 | T5: 0 | U5: 1 | V5: 0 | W5: 0 | X5: 0 | Y5: 0 | Z5: 0 | AA5: 0 | AB5: 0 | AC5: 0 | AD5: 1 | AE5: 0 | AF5: 0 | AG5: 0 | AH5: 0 | AI5: 0 | AJ5: 0 | AK5: =SUM(B5:AJ5)/35 -> 0.2 | AL5: 1 | AM5: 1 | AN5: 0 | AO5: 0 | AP5: 0
A6: A5. Personal sensitive data | B6: 1 | C6: 1 | D6: 0 | E6: 1 | F6: 0 | G6: 1 | H6: 1 | I6: 0 | J6: 1 | K6: 1 | L6: 1 | M6: 1 | N6: 1 | O6: 1 | P6: 0 | Q6: 0 | R6: 1 | S6: 0 | T6: 1 | U6: 1 | V6: 1 | W6: 1 | X6: 1 | Y6: 0 | Z6: 0 | AA6: 0 | AB6: 1 | AC6: 1 | AD6: 1 | AE6: 0 | AF6: 0 | AG6: 1 | AH6: 1 | AI6: 1 | AJ6: 1 | AK6: =SUM(B6:AJ6)/35 -> 0.68571429 | AL6: 1 | AM6: 1 | AN6: 1 | AO6: 1 | AP6: 1
A7: A6. Personal data | B7: 1 | C7: 1 | D7: 0 | E7: 1 | F7: 0 | G7: 1 | H7: 1 | I7: 0 | J7: 1 | K7: 1 | L7: 1 | M7: 1 | N7: 1 | O7: 1 | P7: 0 | Q7: 0 | R7: 1 | S7: 0 | T7: 1 | U7: 1 | V7: 1 | W7: 1 | X7: 1 | Y7: 0 | Z7: 0 | AA7: 0 | AB7: 1 | AC7: 1 | AD7: 1 | AE7: 0 | AF7: 0 | AG7: 1 | AH7: 1 | AI7: 1 | AJ7: 1 | AK7: =SUM(B7:AJ7)/35 -> 0.68571429 | AL7: 1 | AM7: 1 | AN7: 1 | AO7: 1 | AP7: 1
A8: A7. Personal data - critical | B8: 1 | C8: 1 | D8: 0 | E8: 1 | F8: 0 | G8: 1 | H8: 1 | I8: 0 | J8: 1 | K8: 1 | L8: 1 | M8: 1 | N8: 1 | O8: 1 | P8: 0 | Q8: 0 | R8: 1 | S8: 0 | T8: 1 | U8: 1 | V8: 1 | W8: 1 | X8: 1 | Y8: 0 | Z8: 0 | AA8: 0 | AB8: 1 | AC8: 1 | AD8: 1 | AE8: 0 | AF8: 0 | AG8: 1 | AH8: 1 | AI8: 1 | AJ8: 1 | AK8: =SUM(B8:AJ8)/35 -> 0.68571429 | AL8: 1 | AM8: 1 | AN8: 1 | AO8: 1 | AP8: 1
A9: A8. HR data | B9: 0 | C9: 0 | D9: 0 | E9: 0 | F9: 0 | G9: 1 | H9: 0 | I9: 0 | J9: 0 | K9: 1 | L9: 0 | M9: 1 | N9: 1 | O9: 0 | P9: 0 | Q9: 0 | R9: 1 | S9: 0 | T9: 1 | U9: 0 | V9: 0 | W9: 0 | X9: 0 | Y9: 0 | Z9: 0 | AA9: 0 | AB9: 0 | AC9: 1 | AD9: 1 | AE9: 0 | AF9: 0 | AG9: 1 | AH9: 1 | AI9: 1 | AJ9: 1 | AK9: =SUM(B9:AJ9)/35 -> 0.34285714 | AL9: 1 | AM9: 1 | AN9: 1 | AO9: 1 | AP9: 0
A10: A9. Service delivery – real time services | B10: 1 | C10: 1 | D10: 0 | E10: 1 | F10: 1 | G10: 1 | H10: 1 | I10: 0 | J10: 1 | K10: 1 | L10: 1 | M10: 0 | N10: 0 | O10: 0 | P10: 1 | Q10: 1 | R10: 0 | S10: 1 | T10: 1 | U10: 0 | V10: 1 | W10: 1 | X10: 1 | Y10: 1 | Z10: 1 | AA10: 1 | AB10: 1 | AC10: 0 | AD10: 0 | AE10: 0 | AF10: 0 | AG10: 1 | AH10: 0 | AI10: 0 | AJ10: 1 | AK10: =SUM(B10:AJ10)/35 -> 0.62857143 | AL10: 1 | AM10: 1 | AN10: 1 | AO10: 0 | AP10: 0
A11: A10. Service delivery | B11: 1 | C11: 1 | D11: 0 | E11: 1 | F11: 1 | G11: 1 | H11: 1 | I11: 1 | J11: 1 | K11: 1 | L11: 1 | M11: 0 | N11: 0 | O11: 0 | P11: 1 | Q11: 1 | R11: 0 | S11: 1 | T11: 1 | U11: 0 | V11: 1 | W11: 1 | X11: 1 | Y11: 0 | Z11: 1 | AA11: 1 | AB11: 1 | AC11: 0 | AD11: 0 | AE11: 0 | AF11: 0 | AG11: 1 | AH11: 0 | AI11: 0 | AJ11: 1 | AK11: =SUM(B11:AJ11)/35 -> 0.62857143 | AL11: 1 | AM11: 1 | AN11: 1 | AO11: 0 | AP11: 0
A12: A11. Access control / AuthenticALion / Authorization (root/admin v others) | B12: 0 | C12: 0 | D12: 0 | E12: 0 | F12: 0 | G12: 0 | H12: 0 | I12: 1 | J12: 0 | K12: 0 | L12: 0 | M12: 0 | N12: 0 | O12: 0 | P12: 0 | Q12: 0 | R12: 0 | S12: 0 | T12: 0 | U12: 0 | V12: 0 | W12: 0 | X12: 0 | Y12: 0 | Z12: 0 | AA12: 0 | AB12: 0 | AC12: 1 | AD12: 1 | AE12: 0 | AF12: 0 | AG12: 0 | AH12: 0 | AI12: 0 | AJ12: 0 | AK12: =SUM(B12:AJ12)/35 -> 0.085714286 | AL12: 1 | AM12: 0 | AN12: 0 | AO12: 0 | AP12: 0
A13: A12. Credentials | B13: 0 | C13: 0 | D13: 0 | E13: 0 | F13: 0 | G13: 0 | H13: 0 | I13: 0 | J13: 0 | K13: 0 | L13: 0 | M13: 0 | N13: 1 | O13: 1 | P13: 0 | Q13: 0 | R13: 1 | S13: 0 | T13: 0 | U13: 0 | V13: 0 | W13: 0 | X13: 0 | Y13: 0 | Z13: 0 | AA13: 0 | AB13: 0 | AC13: 0 | AD13: 1 | AE13: 0 | AF13: 0 | AG13: 0 | AH13: 0 | AI13: 0 | AJ13: 0 | AK13: =SUM(B13:AJ13)/35 -> 0.11428571 | AL13: 1 | AM13: 1 | AN13: 0 | AO13: 0 | AP13: 0
... A24: A23. Backup or Archive data | B24: 0 | C24: 0 | D24: 0 | E24: 0 | F24: 0 | G24: 0 | H24: 0 | I24: 0 | J24: 0 | K24: 0 | L24: 0 | M24: 1 | N24: 0 | O24: 0 | P24: 0 | Q24: 0 | R24: 0 | S24: 0 | T24: 0 | U24: 0 | V24: 0 | W24: 0 | X24: 0 | Y24: 0 | Z24: 0 | AA24: 0 | AB24: 0 | AC24: 0 | AD24: 0 | AE24: 0 | AF24: 0 | AG24: 1 | AH24: 1 | AI24: 0 | AJ24: 1 | AK24: =SUM(B24:AJ24)/35 -> 0.11428571 | AL24: 1 | AM24: 1 | AN24: 0 | AO24: 0 | AP24: 0
A25: Privacy | B25: 0 | C25: 1 | D25: 1 | E25: 0 | F25: 0 | G25: 1 | H25: 0 | I25: 0 | J25: 1 | K25: 1 | L25: 1 | M25: 1 | N25: 1 | O25: 1 | P25: 0 | Q25: 0 | R25: 1 | S25: 1 | T25: 1 | U25: 0 | V25: 1 | W25: 1 | X25: 1 | Y25: 0 | Z25: 0 | AA25: 0 | AB25: 0 | AC25: 1 | AD25: 0 | AE25: 0 | AF25: 0 | AG25: 1 | AH25: 1 | AI25: 1 | AJ25: 0 | AK25: =SUM(B25:AJ25) -> 19 | AL25: =((B25*B34)+(C25*C34)+(D25*D34)+(E25*E34)+(F25*F34)+(G25*G34)+(H25*H34)+(I25*I34)+(J25*J34)+(K25*K34)+(L25*L34)+(M25*M34)+(N25*N34)+(O25*O34)+(P25*P34)+(Q25*Q34)+(R25*R34)+(S25*S34)+(T25*T34)+(U25*U34)+(V25*V34)+(W25*W34)+(X25*X34)+(Y25*Y34)+(Z25*Z34)+(AA25*AA34)+(AB25*AB34)+(AC25*AC34)+(AD25*AD34)+(AE25*AE34)+(AF25*AF34)+(AG25*AG34)+(AH25*AH34)+(AI25*AI34)+(AJ25*AJ34))/AK25 -> 4.1052632 | AM25: =((B25*B35)+(C25*C35)+(D25*D35)+(E25*E35)+(F25*F35)+(G25*G35)+(H25*H35)+(I25*I35)+(J25*J35)+(K25*K35)+(L25*L35)+(M25*M35)+(N25*N35)+(O25*O35)+(P25*P35)+(Q25*Q35)+(R25*R35)+(S25*S35)+(T25*T35)+(U25*U35)+(V25*V35)+(W25*W35)+(X25*X35)+(Y25*Y35)+(Z25*Z35)+(AA25*AA35)+(AB25*AB35)+(AC25*AC35)+(AD25*AD35)+(AE25*AE35)+(AF25*AF35)+(AG25*AG35)+(AH25*AH35)+(AI25*AI35)+(AJ25*AJ35))/AK25 -> 3.7208533 | AN25: =((B25*B36)+(C25*C36)+(D25*D36)+(E25*E36)+(F25*F36)+(G25*G36)+(H25*H36)+(I25*I36)+(J25*J36)+(K25*K36)+(L25*L36)+(M25*M36)+(N25*N36)+(O25*O36)+(P25*P36)+(Q25*Q36)+(R25*R36)+(S25*S36)+(T25*T36)+(U25*U36)+(V25*V36)+(W25*W36)+(X25*X36)+(Y25*Y36)+(Z25*Z36)+(AA25*AA36)+(AB25*AB36)+(AC25*AC36)+(AD25*AD36)+(AE25*AE36)+(AF25*AF36)+(AG25*AG36)+(AH25*AH36)+(AI25*AI36)+(AJ25*AJ36))/AK25 -> 3.3186223 | AO25: =((B25*B37)+(C25*C37)+(D25*D37)+(E25*E37)+(F25*F37)+(G25*G37)+(H25*H37)+(I25*I37)+(J25*J37)+(K25*K37)+(L25*L37)+(M25*M37)+(N25*N37)+(O25*O37)+(P25*P37)+(Q25*Q37)+(R25*R37)+(S25*S37)+(T25*T37)+(U25*U37)+(V25*V37)+(W25*W37)+(X25*X37)+(Y25*Y37)+(Z25*Z37)+(AA25*AA37)+(AB25*AB37)+(AC25*AC37)+(AD25*AD37)+(AE25*AE37)+(AF25*AF37)+(AG25*AG37)+(AH25*AH37)+(AI25*AI37)+(AJ25*AJ37))/AK25 -> 2.648781 | AP25: =((B25*B38)+(C25*C38)+(D25*D38)+(E25*E38)+(F25*F38)+(G25*G38)+(H25*H38)+(I25*I38)+(J25*J38)+(K25*K38)+(L25*L38)+(M25*M38)+(N25*N38)+(O25*O38)+(P25*P38)+(Q25*Q38)+(R25*R38)+(S25*S38)+(T25*T38)+(U25*U38)+(V25*V38)+(W25*W38)+(X25*X38)+(Y25*Y38)+(Z25*Z38)+(AA25*AA38)+(AB25*AB38)+(AC25*AC38)+(AD25*AD38)+(AE25*AE38)+(AF25*AF38)+(AG25*AG38)+(AH25*AH38)+(AI25*AI38)+(AJ25*AJ38))/AK25 -> 1.6327865
A26: Security | B26: 0 | C26: 0 | D26: 1 | E26: 1 | F26: 0 | G26: 1 | H26: 0 | I26: 0 | J26: 1 | K26: 1 | L26: 1 | M26: 1 | N26: 1 | O26: 1 | P26: 0 | Q26: 0 | R26: 1 | S26: 1 | T26: 1 | U26: 1 | V26: 1 | W26: 0 | X26: 1 | Y26: 0 | Z26: 0 | AA26: 0 | AB26: 0 | AC26: 1 | AD26: 1 | AE26: 1 | AF26: 1 | AG26: 1 | AH26: 1 | AI26: 1 | AJ26: 0 | AK26: =SUM(B26:AJ26) -> 22 | AL26: =((B26*B34)+(C26*C34)+(D26*D34)+(E26*E34)+(F26*F34)+(G26*G34)+(H26*H34)+(I26*I34)+(J26*J34)+(K26*K34)+(L26*L34)+(M26*M34)+(N26*N34)+(O26*O34)+(P26*P34)+(Q26*Q34)+(R26*R34)+(S26*S34)+(T26*T34)+(U26*U34)+(V26*V34)+(W26*W34)+(X26*X34)+(Y26*Y34)+(Z26*Z34)+(AA26*AA34)+(AB26*AB34)+(AC26*AC34)+(AD26*AD34)+(AE26*AE34)+(AF26*AF34)+(AG26*AG34)+(AH26*AH34)+(AI26*AI34)+(AJ26*AJ34))/AK26 -> 3.9090909 | AM26: =((B26*B35)+(C26*C35)+(D26*D35)+(E26*E35)+(F26*F35)+(G26*G35)+(H26*H35)+(I26*I35)+(J26*J35)+(K26*K35)+(L26*L35)+(M26*M35)+(N26*N35)+(O26*O35)+(P26*P35)+(Q26*Q35)+(R26*R35)+(S26*S35)+(T26*T35)+(U26*U35)+(V26*V35)+(W26*W35)+(X26*X35)+(Y26*Y35)+(Z26*Z35)+(AA26*AA35)+(AB26*AB35)+(AC26*AC35)+(AD26*AD35)+(AE26*AE35)+(AF26*AF35)+(AG26*AG35)+(AH26*AH35)+(AI26*AI35)+(AJ26*AJ35))/AK26 -> 3.2861915 | AN26: =((B26*B36)+(C26*C36)+(D26*D36)+(E26*E36)+(F26*F36)+(G26*G36)+(H26*H36)+(I26*I36)+(J26*J36)+(K26*K36)+(L26*L36)+(M26*M36)+(N26*N36)+(O26*O36)+(P26*P36)+(Q26*Q36)+(R26*R36)+(S26*S36)+(T26*T36)+(U26*U36)+(V26*V36)+(W26*W36)+(X26*X36)+(Y26*Y36)+(Z26*Z36)+(AA26*AA36)+(AB26*AB36)+(AC26*AC36)+(AD26*AD36)+(AE26*AE36)+(AF26*AF36)+(AG26*AG36)+(AH26*AH36)+(AI26*AI36)+(AJ26*AJ36))/AK26 -> 2.8058556 | AO26: =((B26*B37)+(C26*C37)+(D26*D37)+(E26*E37)+(F26*F37)+(G26*G37)+(H26*H37)+(I26*I37)+(J26*J37)+(K26*K37)+(L26*L37)+(M26*M37)+(N26*N37)+(O26*O37)+(P26*P37)+(Q26*Q37)+(R26*R37)+(S26*S37)+(T26*T37)+(U26*U37)+(V26*V37)+(W26*W37)+(X26*X37)+(Y26*Y37)+(Z26*Z37)+(AA26*AA37)+(AB26*AB37)+(AC26*AC37)+(AD26*AD37)+(AE26*AE37)+(AF26*AF37)+(AG26*AG37)+(AH26*AH37)+(AI26*AI37)+(AJ26*AJ37))/AK26 -> 2.3482438 | AP26: =((B26*B38)+(C26*C38)+(D26*D38)+(E26*E38)+(F26*F38)+(G26*G38)+(H26*H38)+(I26*I38)+(J26*J38)+(K26*K38)+(L26*L38)+(M26*M38)+(N26*N38)+(O26*O38)+(P26*P38)+(Q26*Q38)+(R26*R38)+(S26*S38)+(T26*T38)+(U26*U38)+(V26*V38)+(W26*W38)+(X26*X38)+(Y26*Y38)+(Z26*Z38)+(AA26*AA38)+(AB26*AB38)+(AC26*AC38)+(AD26*AD38)+(AE26*AE38)+(AF26*AF38)+(AG26*AG38)+(AH26*AH38)+(AI26*AI38)+(AJ26*AJ38))/AK26 -> 1.4947117
A27: Service | B27: 1 | C27: 0 | D27: 1 | E27: 0 | F27: 1 | G27: 1 | H27: 1 | I27: 1 | J27: 0 | K27: 1 | L27: 1 | M27: 0 | N27: 0 | O27: 0 | P27: 1 | Q27: 1 | R27: 0 | S27: 0 | T27: 1 | U27: 0 | V27: 0 | W27: 1 | X27: 0 | Y27: 1 | Z27: 1 | AA27: 1 | AB27: 1 | AC27: 1 | AD27: 0 | AE27: 1 | AF27: 1 | AG27: 1 | AH27: 0 | AI27: 1 | AJ27: 1 | AK27: =SUM(B27:AJ27) -> 22 | AL27: =((B27*B34)+(C27*C34)+(D27*D34)+(E27*E34)+(F27*F34)+(G27*G34)+(H27*H34)+(I27*I34)+(J27*J34)+(K27*K34)+(L27*L34)+(M27*M34)+(N27*N34)+(O27*O34)+(P27*P34)+(Q27*Q34)+(R27*R34)+(S27*S34)+(T27*T34)+(U27*U34)+(V27*V34)+(W27*W34)+(X27*X34)+(Y27*Y34)+(Z27*Z34)+(AA27*AA34)+(AB27*AB34)+(AC27*AC34)+(AD27*AD34)+(AE27*AE34)+(AF27*AF34)+(AG27*AG34)+(AH27*AH34)+(AI27*AI34)+(AJ27*AJ34))/AK27 -> 3.9545455 | AM27: =((B27*B35)+(C27*C35)+(D27*D35)+(E27*E35)+(F27*F35)+(G27*G35)+(H27*H35)+(I27*I35)+(J27*J35)+(K27*K35)+(L27*L35)+(M27*M35)+(N27*N35)+(O27*O35)+(P27*P35)+(Q27*Q35)+(R27*R35)+(S27*S35)+(T27*T35)+(U27*U35)+(V27*V35)+(W27*W35)+(X27*X35)+(Y27*Y35)+(Z27*Z35)+(AA27*AA35)+(AB27*AB35)+(AC27*AC35)+(AD27*AD35)+(AE27*AE35)+(AF27*AF35)+(AG27*AG35)+(AH27*AH35)+(AI27*AI35)+(AJ27*AJ35))/AK27 -> 3.1965909 | AN27: =((B27*B36)+(C27*C36)+(D27*D36)+(E27*E36)+(F27*F36)+(G27*G36)+(H27*H36)+(I27*I36)+(J27*J36)+(K27*K36)+(L27*L36)+(M27*M36)+(N27*N36)+(O27*O36)+(P27*P36)+(Q27*Q36)+(R27*R36)+(S27*S36)+(T27*T36)+(U27*U36)+(V27*V36)+(W27*W36)+(X27*X36)+(Y27*Y36)+(Z27*Z36)+(AA27*AA36)+(AB27*AB36)+(AC27*AC36)+(AD27*AD36)+(AE27*AE36)+(AF27*AF36)+(AG27*AG36)+(AH27*AH36)+(AI27*AI36)+(AJ27*AJ36))/AK27 -> 3.0001263 | AO27: =((B27*B37)+(C27*C37)+(D27*D37)+(E27*E37)+(F27*F37)+(G27*G37)+(H27*H37)+(I27*I37)+(J27*J37)+(K27*K37)+(L27*L37)+(M27*M37)+(N27*N37)+(O27*O37)+(P27*P37)+(Q27*Q37)+(R27*R37)+(S27*S37)+(T27*T37)+(U27*U37)+(V27*V37)+(W27*W37)+(X27*X37)+(Y27*Y37)+(Z27*Z37)+(AA27*AA37)+(AB27*AB37)+(AC27*AC37)+(AD27*AD37)+(AE27*AE37)+(AF27*AF37)+(AG27*AG37)+(AH27*AH37)+(AI27*AI37)+(AJ27*AJ37))/AK27 -> 1.9007035 | AP27: =((B27*B38)+(C27*C38)+(D27*D38)+(E27*E38)+(F27*F38)+(G27*G38)+(H27*H38)+(I27*I38)+(J27*J38)+(K27*K38)+(L27*L38)+(M27*M38)+(N27*N38)+(O27*O38)+(P27*P38)+(Q27*Q38)+(R27*R38)+(S27*S38)+(T27*T38)+(U27*U38)+(V27*V38)+(W27*W38)+(X27*X38)+(Y27*Y38)+(Z27*Z38)+(AA27*AA38)+(AB27*AB38)+(AC27*AC38)+(AD27*AD38)+(AE27*AE38)+(AF27*AF38)+(AG27*AG38)+(AH27*AH38)+(AI27*AI38)+(AJ27*AJ38))/AK27 -> 0.9116342
A28: Impact Index (Ii) | B28: 3 | C28: 5 | D28: 4 | E28: 4 | F28: 5 | G28: 3 | H28: 3 | I28: 3 | J28: 5 | K28: 5 | L28: 5 | M28: 4 | N28: 3 | O28: 5 | P28: 4 | Q28: 4 | R28: 4 | S28: 3 | T28: 5 | U28: 3 | V28: 3 | W28: 4 | X28: 4 | Y28: 3 | Z28: 5 | AA28: 5 | AB28: 4 | AC28: 4 | AD28: 4 | AE28: 3 | AF28: 3 | AG28: 4 | AH28: 4 | AI28: 4 | AJ28: 4
A29: αi for CSC Type 1 (CSC1) | B29: =((B2*AL2)+(B3*AL3)+(B4*AL4)+(B5*AL5)+(B6*AL6)+(B7*AL7)+(B8*AL8)+(B9*AL9)+(B10*AL10)+(B11*AL11)+(B12*AL12)+(B13*AL13)+(B14*AL14)+(B15*AL15)+(B16*AL16)+(B17*AL17)+(B18*AL18)+(B19*AL19)+(B20*AL20)+(B21*AL21)+(B22*AL22)+(B23*AL23)+(B24*AL24))/SUM(B2:B24) -> 1 | C29: =((C2*AL2)+(C3*AL3)+(C4*AL4)+(C5*AL5)+(C6*AL6)+(C7*AL7)+(C8*AL8)+(C9*AL9)+(C10*AL10)+(C11*AL11)+(C12*AL12)+(C13*AL13)+(C14*AL14)+(C15*AL15)+(C16*AL16)+(C17*AL17)+(C18*AL18)+(C19*AL19)+(C20*AL20)+(C21*AL21)+(C22*AL22)+(C23*AL23)+(C24*AL24))/SUM(C2:C24) -> 1 | D29: =((D2*AL2)+(D3*AL3)+(D4*AL4)+(D5*AL5)+(D6*AL6)+(D7*AL7)+(D8*AL8)+(D9*AL9)+(D10*AL10)+(D11*AL11)+(D12*AL12)+(D13*AL13)+(D14*AL14)+(D15*AL15)+(D16*AL16)+(D17*AL17)+(D18*AL18)+(D19*AL19)+(D20*AL20)+(D21*AL21)+(D22*AL22)+(D23*AL23)+(D24*AL24))/SUM(D2:D24) -> 1 | E29: =((E2*AL2)+(E3*AL3)+(E4*AL4)+(E5*AL5)+(E6*AL6)+(E7*AL7)+(E8*AL8)+(E9*AL9)+(E10*AL10)+(E11*AL11)+(E12*AL12)+(E13*AL13)+(E14*AL14)+(E15*AL15)+(E16*AL16)+(E17*AL17)+(E18*AL18)+(E19*AL19)+(E20*AL20)+(E21*AL21)+(E22*AL22)+(E23*AL23)+(E24*AL24))/SUM(E2:E24) -> 1 | F29: =((F2*AL2)+(F3*AL3)+(F4*AL4)+(F5*AL5)+(F6*AL6)+(F7*AL7)+(F8*AL8)+(F9*AL9)+(F10*AL10)+(F11*AL11)+(F12*AL12)+(F13*AL13)+(F14*AL14)+(F15*AL15)+(F16*AL16)+(F17*AL17)+(F18*AL18)+(F19*AL19)+(F20*AL20)+(F21*AL21)+(F22*AL22)+(F23*AL23)+(F24*AL24))/SUM(F2:F24) -> 1 | G29: =((G2*AL2)+(G3*AL3)+(G4*AL4)+(G5*AL5)+(G6*AL6)+(G7*AL7)+(G8*AL8)+(G9*AL9)+(G10*AL10)+(G11*AL11)+(G12*AL12)+(G13*AL13)+(G14*AL14)+(G15*AL15)+(G16*AL16)+(G17*AL17)+(G18*AL18)+(G19*AL19)+(G20*AL20)+(G21*AL21)+(G22*AL22)+(G23*AL23)+(G24*AL24))/SUM(G2:G24) -> 1 | H29: =((H2*AL2)+(H3*AL3)+(H4*AL4)+(H5*AL5)+(H6*AL6)+(H7*AL7)+(H8*AL8)+(H9*AL9)+(H10*AL10)+(H11*AL11)+(H12*AL12)+(H13*AL13)+(H14*AL14)+(H15*AL15)+(H16*AL16)+(H17*AL17)+(H18*AL18)+(H19*AL19)+(H20*AL20)+(H21*AL21)+(H22*AL22)+(H23*AL23)+(H24*AL24))/SUM(H2:H24) -> 1 | I29: =((I2*AL2)+(I3*AL3)+(I4*AL4)+(I5*AL5)+(I6*AL6)+(I7*AL7)+(I8*AL8)+(I9*AL9)+(I10*AL10)+(I11*AL11)+(I12*AL12)+(I13*AL13)+(I14*AL14)+(I15*AL15)+(I16*AL16)+(I17*AL17)+(I18*AL18)+(I19*AL19)+(I20*AL20)+(I21*AL21)+(I22*AL22)+(I23*AL23)+(I24*AL24))/SUM(I2:I24) -> 1 | J29: =((J2*AL2)+(J3*AL3)+(J4*AL4)+(J5*AL5)+(J6*AL6)+(J7*AL7)+(J8*AL8)+(J9*AL9)+(J10*AL10)+(J11*AL11)+(J12*AL12)+(J13*AL13)+(J14*AL14)+(J15*AL15)+(J16*AL16)+(J17*AL17)+(J18*AL18)+(J19*AL19)+(J20*AL20)+(J21*AL21)+(J22*AL22)+(J23*AL23)+(J24*AL24))/SUM(J2:J24) -> 1 | K29: =((K2*AL2)+(K3*AL3)+(K4*AL4)+(K5*AL5)+(K6*AL6)+(K7*AL7)+(K8*AL8)+(K9*AL9)+(K10*AL10)+(K11*AL11)+(K12*AL12)+(K13*AL13)+(K14*AL14)+(K15*AL15)+(K16*AL16)+(K17*AL17)+(K18*AL18)+(K19*AL19)+(K20*AL20)+(K21*AL21)+(K22*AL22)+(K23*AL23)+(K24*AL24))/SUM(K2:K24) -> 1 | L29: =((L2*AL2)+(L3*AL3)+(L4*AL4)+(L5*AL5)+(L6*AL6)+(L7*AL7)+(L8*AL8)+(L9*AL9)+(L10*AL10)+(L11*AL11)+(L12*AL12)+(L13*AL13)+(L14*AL14)+(L15*AL15)+(L16*AL16)+(L17*AL17)+(L18*AL18)+(L19*AL19)+(L20*AL20)+(L21*AL21)+(L22*AL22)+(L23*AL23)+(L24*AL24))/SUM(L2:L24) -> 1 | M29: =((M2*AL2)+(M3*AL3)+(M4*AL4)+(M5*AL5)+(M6*AL6)+(M7*AL7)+(M8*AL8)+(M9*AL9)+(M10*AL10)+(M11*AL11)+(M12*AL12)+(M13*AL13)+(M14*AL14)+(M15*AL15)+(M16*AL16)+(M17*AL17)+(M18*AL18)+(M19*AL19)+(M20*AL20)+(M21*AL21)+(M22*AL22)+(M23*AL23)+(M24*AL24))/SUM(M2:M24) -> 1 | N29: =((N2*AL2)+(N3*AL3)+(N4*AL4)+(N5*AL5)+(N6*AL6)+(N7*AL7)+(N8*AL8)+(N9*AL9)+(N10*AL10)+(N11*AL11)+(N12*AL12)+(N13*AL13)+(N14*AL14)+(N15*AL15)+(N16*AL16)+(N17*AL17)+(N18*AL18)+(N19*AL19)+(N20*AL20)+(N21*AL21)+(N22*AL22)+(N23*AL23)+(N24*AL24))/SUM(N2:N24) -> 1 | O29: =((O2*AL2)+(O3*AL3)+(O4*AL4)+(O5*AL5)+(O6*AL6)+(O7*AL7)+(O8*AL8)+(O9*AL9)+(O10*AL10)+(O11*AL11)+(O12*AL12)+(O13*AL13)+(O14*AL14)+(O15*AL15)+(O16*AL16)+(O17*AL17)+(O18*AL18)+(O19*AL19)+(O20*AL20)+(O21*AL21)+(O22*AL22)+(O23*AL23)+(O24*AL24))/SUM(O2:O24) -> 1 | P29: =((P2*AL2)+(P3*AL3)+(P4*AL4)+(P5*AL5)+(P6*AL6)+(P7*AL7)+(P8*AL8)+(P9*AL9)+(P10*AL10)+(P11*AL11)+(P12*AL12)+(P13*AL13)+(P14*AL14)+(P15*AL15)+(P16*AL16)+(P17*AL17)+(P18*AL18)+(P19*AL19)+(P20*AL20)+(P21*AL21)+(P22*AL22)+(P23*AL23)+(P24*AL24))/SUM(P2:P24) -> 1 | Q29: =((Q2*AL2)+(Q3*AL3)+(Q4*AL4)+(Q5*AL5)+(Q6*AL6)+(Q7*AL7)+(Q8*AL8)+(Q9*AL9)+(Q10*AL10)+(Q11*AL11)+(Q12*AL12)+(Q13*AL13)+(Q14*AL14)+(Q15*AL15)+(Q16*AL16)+(Q17*AL17)+(Q18*AL18)+(Q19*AL19)+(Q20*AL20)+(Q21*AL21)+(Q22*AL22)+(Q23*AL23)+(Q24*AL24))/SUM(Q2:Q24) -> 1 | R29: =((R2*AL2)+(R3*AL3)+(R4*AL4)+(R5*AL5)+(R6*AL6)+(R7*AL7)+(R8*AL8)+(R9*AL9)+(R10*AL10)+(R11*AL11)+(R12*AL12)+(R13*AL13)+(R14*AL14)+(R15*AL15)+(R16*AL16)+(R17*AL17)+(R18*AL18)+(R19*AL19)+(R20*AL20)+(R21*AL21)+(R22*AL22)+(R23*AL23)+(R24*AL24))/SUM(R2:R24) -> 1 | S29: =((S2*AL2)+(S3*AL3)+(S4*AL4)+(S5*AL5)+(S6*AL6)+(S7*AL7)+(S8*AL8)+(S9*AL9)+(S10*AL10)+(S11*AL11)+(S12*AL12)+(S13*AL13)+(S14*AL14)+(S15*AL15)+(S16*AL16)+(S17*AL17)+(S18*AL18)+(S19*AL19)+(S20*AL20)+(S21*AL21)+(S22*AL22)+(S23*AL23)+(S24*AL24))/SUM(S2:S24) -> 1 | T29: =((T2*AL2)+(T3*AL3)+(T4*AL4)+(T5*AL5)+(T6*AL6)+(T7*AL7)+(T8*AL8)+(T9*AL9)+(T10*AL10)+(T11*AL11)+(T12*AL12)+(T13*AL13)+(T14*AL14)+(T15*AL15)+(T16*AL16)+(T17*AL17)+(T18*AL18)+(T19*AL19)+(T20*AL20)+(T21*AL21)+(T22*AL22)+(T23*AL23)+(T24*AL24))/SUM(T2:T24) -> 1 | U29: =((U2*AL2)+(U3*AL3)+(U4*AL4)+(U5*AL5)+(U6*AL6)+(U7*AL7)+(U8*AL8)+(U9*AL9)+(U10*AL10)+(U11*AL11)+(U12*AL12)+(U13*AL13)+(U14*AL14)+(U15*AL15)+(U16*AL16)+(U17*AL17)+(U18*AL18)+(U19*AL19)+(U20*AL20)+(U21*AL21)+(U22*AL22)+(U23*AL23)+(U24*AL24))/SUM(U2:U24) -> 1 | V29: =((V2*AL2)+(V3*AL3)+(V4*AL4)+(V5*AL5)+(V6*AL6)+(V7*AL7)+(V8*AL8)+(V9*AL9)+(V10*AL10)+(V11*AL11)+(V12*AL12)+(V13*AL13)+(V14*AL14)+(V15*AL15)+(V16*AL16)+(V17*AL17)+(V18*AL18)+(V19*AL19)+(V20*AL20)+(V21*AL21)+(V22*AL22)+(V23*AL23)+(V24*AL24))/SUM(V2:V24) -> 1 | W29: =((W2*AL2)+(W3*AL3)+(W4*AL4)+(W5*AL5)+(W6*AL6)+(W7*AL7)+(W8*AL8)+(W9*AL9)+(W10*AL10)+(W11*AL11)+(W12*AL12)+(W13*AL13)+(W14*AL14)+(W15*AL15)+(W16*AL16)+(W17*AL17)+(W18*AL18)+(W19*AL19)+(W20*AL20)+(W21*AL21)+(W22*AL22)+(W23*AL23)+(W24*AL24))/SUM(W2:W24) -> 1 | X29: =((X2*AL2)+(X3*AL3)+(X4*AL4)+(X5*AL5)+(X6*AL6)+(X7*AL7)+(X8*AL8)+(X9*AL9)+(X10*AL10)+(X11*AL11)+(X12*AL12)+(X13*AL13)+(X14*AL14)+(X15*AL15)+(X16*AL16)+(X17*AL17)+(X18*AL18)+(X19*AL19)+(X20*AL20)+(X21*AL21)+(X22*AL22)+(X23*AL23)+(X24*AL24))/SUM(X2:X24) -> 1 | Y29: =((Y2*AL2)+(Y3*AL3)+(Y4*AL4)+(Y5*AL5)+(Y6*AL6)+(Y7*AL7)+(Y8*AL8)+(Y9*AL9)+(Y10*AL10)+(Y11*AL11)+(Y12*AL12)+(Y13*AL13)+(Y14*AL14)+(Y15*AL15)+(Y16*AL16)+(Y17*AL17)+(Y18*AL18)+(Y19*AL19)+(Y20*AL20)+(Y21*AL21)+(Y22*AL22)+(Y23*AL23)+(Y24*AL24))/SUM(Y2:Y24) -> 1 | Z29: =((Z2*AL2)+(Z3*AL3)+(Z4*AL4)+(Z5*AL5)+(Z6*AL6)+(Z7*AL7)+(Z8*AL8)+(Z9*AL9)+(Z10*AL10)+(Z11*AL11)+(Z12*AL12)+(Z13*AL13)+(Z14*AL14)+(Z15*AL15)+(Z16*AL16)+(Z17*AL17)+(Z18*AL18)+(Z19*AL19)+(Z20*AL20)+(Z21*AL21)+(Z22*AL22)+(Z23*AL23)+(Z24*AL24))/SUM(Z2:Z24) -> 1 | AA29: =((AA2*AL2)+(AA3*AL3)+(AA4*AL4)+(AA5*AL5)+(AA6*AL6)+(AA7*AL7)+(AA8*AL8)+(AA9*AL9)+(AA10*AL10)+(AA11*AL11)+(AA12*AL12)+(AA13*AL13)+(AA14*AL14)+(AA15*AL15)+(AA16*AL16)+(AA17*AL17)+(AA18*AL18)+(AA19*AL19)+(AA20*AL20)+(AA21*AL21)+(AA22*AL22)+(AA23*AL23)+(AA24*AL24))/SUM(AA2:AA24) -> 1 | AB29: =((AB2*AL2)+(AB3*AL3)+(AB4*AL4)+(AB5*AL5)+(AB6*AL6)+(AB7*AL7)+(AB8*AL8)+(AB9*AL9)+(AB10*AL10)+(AB11*AL11)+(AB12*AL12)+(AB13*AL13)+(AB14*AL14)+(AB15*AL15)+(AB16*AL16)+(AB17*AL17)+(AB18*AL18)+(AB19*AL19)+(AB20*AL20)+(AB21*AL21)+(AB22*AL22)+(AB23*AL23)+(AB24*AL24))/SUM(AB2:AB24) -> 1 | AC29: =((AC2*AL2)+(AC3*AL3)+(AC4*AL4)+(AC5*AL5)+(AC6*AL6)+(AC7*AL7)+(AC8*AL8)+(AC9*AL9)+(AC10*AL10)+(AC11*AL11)+(AC12*AL12)+(AC13*AL13)+(AC14*AL14)+(AC15*AL15)+(AC16*AL16)+(AC17*AL17)+(AC18*AL18)+(AC19*AL19)+(AC20*AL20)+(AC21*AL21)+(AC22*AL22)+(AC23*AL23)+(AC24*AL24))/SUM(AC2:AC24) -> 1 | AD29: =((AD2*AL2)+(AD3*AL3)+(AD4*AL4)+(AD5*AL5)+(AD6*AL6)+(AD7*AL7)+(AD8*AL8)+(AD9*AL9)+(AD10*AL10)+(AD11*AL11)+(AD12*AL12)+(AD13*AL13)+(AD14*AL14)+(AD15*AL15)+(AD16*AL16)+(AD17*AL17)+(AD18*AL18)+(AD19*AL19)+(AD20*AL20)+(AD21*AL21)+(AD22*AL22)+(AD23*AL23)+(AD24*AL24))/SUM(AD2:AD24) -> 1 | AE29: =((AE2*AL2)+(AE3*AL3)+(AE4*AL4)+(AE5*AL5)+(AE6*AL6)+(AE7*AL7)+(AE8*AL8)+(AE9*AL9)+(AE10*AL10)+(AE11*AL11)+(AE12*AL12)+(AE13*AL13)+(AE14*AL14)+(AE15*AL15)+(AE16*AL16)+(AE17*AL17)+(AE18*AL18)+(AE19*AL19)+(AE20*AL20)+(AE21*AL21)+(AE22*AL22)+(AE23*AL23)+(AE24*AL24))/SUM(AE2:AE24) -> 1 | AF29: =((AF2*AL2)+(AF3*AL3)+(AF4*AL4)+(AF5*AL5)+(AF6*AL6)+(AF7*AL7)+(AF8*AL8)+(AF9*AL9)+(AF10*AL10)+(AF11*AL11)+(AF12*AL12)+(AF13*AL13)+(AF14*AL14)+(AF15*AL15)+(AF16*AL16)+(AF17*AL17)+(AF18*AL18)+(AF19*AL19)+(AF20*AL20)+(AF21*AL21)+(AF22*AL22)+(AF23*AL23)+(AF24*AL24))/SUM(AF2:AF24) -> 1 | AG29: =((AG2*AL2)+(AG3*AL3)+(AG4*AL4)+(AG5*AL5)+(AG6*AL6)+(AG7*AL7)+(AG8*AL8)+(AG9*AL9)+(AG10*AL10)+(AG11*AL11)+(AG12*AL12)+(AG13*AL13)+(AG14*AL14)+(AG15*AL15)+(AG16*AL16)+(AG17*AL17)+(AG18*AL18)+(AG19*AL19)+(AG20*AL20)+(AG21*AL21)+(AG22*AL22)+(AG23*AL23)+(AG24*AL24))/SUM(AG2:AG24) -> 1 | AH29: =((AH2*AL2)+(AH3*AL3)+(AH4*AL4)+(AH5*AL5)+(AH6*AL6)+(AH7*AL7)+(AH8*AL8)+(AH9*AL9)+(AH10*AL10)+(AH11*AL11)+(AH12*AL12)+(AH13*AL13)+(AH14*AL14)+(AH15*AL15)+(AH16*AL16)+(AH17*AL17)+(AH18*AL18)+(AH19*AL19)+(AH20*AL20)+(AH21*AL21)+(AH22*AL22)+(AH23*AL23)+(AH24*AL24))/SUM(AH2:AH24) -> 1 | AI29: =((AI2*AL2)+(AI3*AL3)+(AI4*AL4)+(AI5*AL5)+(AI6*AL6)+(AI7*AL7)+(AI8*AL8)+(AI9*AL9)+(AI10*AL10)+(AI11*AL11)+(AI12*AL12)+(AI13*AL13)+(AI14*AL14)+(AI15*AL15)+(AI16*AL16)+(AI17*AL17)+(AI18*AL18)+(AI19*AL19)+(AI20*AL20)+(AI21*AL21)+(AI22*AL22)+(AI23*AL23)+(AI24*AL24))/SUM(AI2:AI24) -> 1 | AJ29: =((AJ2*AL2)+(AJ3*AL3)+(AJ4*AL4)+(AJ5*AL5)+(AJ6*AL6)+(AJ7*AL7)+(AJ8*AL8)+(AJ9*AL9)+(AJ10*AL10)+(AJ11*AL11)+(AJ12*AL12)+(AJ13*AL13)+(AJ14*AL14)+(AJ15*AL15)+(AJ16*AL16)+(AJ17*AL17)+(AJ18*AL18)+(AJ19*AL19)+(AJ20*AL20)+(AJ21*AL21)+(AJ22*AL22)+(AJ23*AL23)+(AJ24*AL24))/SUM(AJ2:AJ24) -> 1 | AL29: No effect
A30: αi for CSC Type 2 (CSC2) | B30: =((B2*AM2)+(B3*AM3)+(B4*AM4)+(B5*AM5)+(B6*AM6)+(B7*AM7)+(B8*AM8)+(B9*AM9)+(B10*AM10)+(B11*AM11)+(B12*AM12)+(B13*AM13)+(B14*AM14)+(B15*AM15)+(B16*AM16)+(B17*AM17)+(B18*AM18)+(B19*AM19)+(B20*AM20)+(B21*AM21)+(B22*AM22)+(B23*AM23)+(B24*AM24))/SUM(B2:B24) -> 1 | C30: =((C2*AM2)+(C3*AM3)+(C4*AM4)+(C5*AM5)+(C6*AM6)+(C7*AM7)+(C8*AM8)+(C9*AM9)+(C10*AM10)+(C11*AM11)+(C12*AM12)+(C13*AM13)+(C14*AM14)+(C15*AM15)+(C16*AM16)+(C17*AM17)+(C18*AM18)+(C19*AM19)+(C20*AM20)+(C21*AM21)+(C22*AM22)+(C23*AM23)+(C24*AM24))/SUM(C2:C24) -> 1 | D30: =((D2*AM2)+(D3*AM3)+(D4*AM4)+(D5*AM5)+(D6*AM6)+(D7*AM7)+(D8*AM8)+(D9*AM9)+(D10*AM10)+(D11*AM11)+(D12*AM12)+(D13*AM13)+(D14*AM14)+(D15*AM15)+(D16*AM16)+(D17*AM17)+(D18*AM18)+(D19*AM19)+(D20*AM20)+(D21*AM21)+(D22*AM22)+(D23*AM23)+(D24*AM24))/SUM(D2:D24) -> 0 | E30: =((E3*AM3)+(E4*AM4)+(E5*AM5)+(E6*AM6)+(E7*AM7)+(E8*AM8)+(E9*AM9)+(E10*AM10)+(E11*AM11)+(E12*AM12)+(E13*AM13)+(E14*AM14)+(E15*AM15)+(E16*AM16)+(E17*AM17)+(E18*AM18)+(E19*AM19)+(E20*AM20)+(E21*AM21)+(E22*AM22)+(E23*AM23)+(E24*AM24)+(E2*AM2))/SUM(E2:E24) -> 1 | F30: =((F3*AM3)+(F4*AM4)+(F5*AM5)+(F6*AM6)+(F7*AM7)+(F8*AM8)+(F9*AM9)+(F10*AM10)+(F11*AM11)+(F12*AM12)+(F13*AM13)+(F14*AM14)+(F15*AM15)+(F16*AM16)+(F17*AM17)+(F18*AM18)+(F19*AM19)+(F20*AM20)+(F21*AM21)+(F22*AM22)+(F23*AM23)+(F24*AM24)+(F2*AM2))/SUM(F2:F24) -> 1 | G30: =((G3*AM3)+(G4*AM4)+(G5*AM5)+(G6*AM6)+(G7*AM7)+(G8*AM8)+(G9*AM9)+(G10*AM10)+(G11*AM11)+(G12*AM12)+(G13*AM13)+(G14*AM14)+(G15*AM15)+(G16*AM16)+(G17*AM17)+(G18*AM18)+(G19*AM19)+(G20*AM20)+(G21*AM21)+(G22*AM22)+(G23*AM23)+(G24*AM24)+(G2*AM2))/SUM(G2:G24) -> 1 | H30: =((H3*AM3)+(H4*AM4)+(H5*AM5)+(H6*AM6)+(H7*AM7)+(H8*AM8)+(H9*AM9)+(H10*AM10)+(H11*AM11)+(H12*AM12)+(H13*AM13)+(H14*AM14)+(H15*AM15)+(H16*AM16)+(H17*AM17)+(H18*AM18)+(H19*AM19)+(H20*AM20)+(H21*AM21)+(H22*AM22)+(H23*AM23)+(H24*AM24)+(H2*AM2))/SUM(H2:H24) -> 1 | I30: =((I3*AM3)+(I4*AM4)+(I5*AM5)+(I6*AM6)+(I7*AM7)+(I8*AM8)+(I9*AM9)+(I10*AM10)+(I11*AM11)+(I12*AM12)+(I13*AM13)+(I14*AM14)+(I15*AM15)+(I16*AM16)+(I17*AM17)+(I18*AM18)+(I19*AM19)+(I20*AM20)+(I21*AM21)+(I22*AM22)+(I23*AM23)+(I24*AM24)+(I2*AM2))/SUM(I2:I24) -> 0.75 | J30: =((J3*AM3)+(J4*AM4)+(J5*AM5)+(J6*AM6)+(J7*AM7)+(J8*AM8)+(J9*AM9)+(J10*AM10)+(J11*AM11)+(J12*AM12)+(J13*AM13)+(J14*AM14)+(J15*AM15)+(J16*AM16)+(J17*AM17)+(J18*AM18)+(J19*AM19)+(J20*AM20)+(J21*AM21)+(J22*AM22)+(J23*AM23)+(J24*AM24)+(J2*AM2))/SUM(J2:J24) -> 1 | K30: =((K3*AM3)+(K4*AM4)+(K5*AM5)+(K6*AM6)+(K7*AM7)+(K8*AM8)+(K9*AM9)+(K10*AM10)+(K11*AM11)+(K12*AM12)+(K13*AM13)+(K14*AM14)+(K15*AM15)+(K16*AM16)+(K17*AM17)+(K18*AM18)+(K19*AM19)+(K20*AM20)+(K21*AM21)+(K22*AM22)+(K23*AM23)+(K24*AM24)+(K2*AM2))/SUM(K2:K24) -> 1 | L30: =((L3*AM3)+(L4*AM4)+(L5*AM5)+(L6*AM6)+(L7*AM7)+(L8*AM8)+(L9*AM9)+(L10*AM10)+(L11*AM11)+(L12*AM12)+(L13*AM13)+(L14*AM14)+(L15*AM15)+(L16*AM16)+(L17*AM17)+(L18*AM18)+(L19*AM19)+(L20*AM20)+(L21*AM21)+(L22*AM22)+(L23*AM23)+(L24*AM24)+(L2*AM2))/SUM(L2:L24) -> 0.875 | M30: =((M3*AM3)+(M4*AM4)+(M5*AM5)+(M6*AM6)+(M7*AM7)+(M8*AM8)+(M9*AM9)+(M10*AM10)+(M11*AM11)+(M12*AM12)+(M13*AM13)+(M14*AM14)+(M15*AM15)+(M16*AM16)+(M17*AM17)+(M18*AM18)+(M19*AM19)+(M20*AM20)+(M21*AM21)+(M22*AM22)+(M23*AM23)+(M24*AM24)+(M2*AM2))/SUM(M2:M24) -> 1 | N30: =((N3*AM3)+(N4*AM4)+(N5*AM5)+(N6*AM6)+(N7*AM7)+(N8*AM8)+(N9*AM9)+(N10*AM10)+(N11*AM11)+(N12*AM12)+(N13*AM13)+(N14*AM14)+(N15*AM15)+(N16*AM16)+(N17*AM17)+(N18*AM18)+(N19*AM19)+(N20*AM20)+(N21*AM21)+(N22*AM22)+(N23*AM23)+(N24*AM24)+(N2*AM2))/SUM(N2:N24) -> 0.81818182 | O30: =((O3*AM3)+(O4*AM4)+(O5*AM5)+(O6*AM6)+(O7*AM7)+(O8*AM8)+(O9*AM9)+(O10*AM10)+(O11*AM11)+(O12*AM12)+(O13*AM13)+(O14*AM14)+(O15*AM15)+(O16*AM16)+(O17*AM17)+(O18*AM18)+(O19*AM19)+(O20*AM20)+(O21*AM21)+(O22*AM22)+(O23*AM23)+(O24*AM24)+(O2*AM2))/SUM(O2:O24) -> 1 | P30: =((P3*AM3)+(P4*AM4)+(P5*AM5)+(P6*AM6)+(P7*AM7)+(P8*AM8)+(P9*AM9)+(P10*AM10)+(P11*AM11)+(P12*AM12)+(P13*AM13)+(P14*AM14)+(P15*AM15)+(P16*AM16)+(P17*AM17)+(P18*AM18)+(P19*AM19)+(P20*AM20)+(P21*AM21)+(P22*AM22)+(P23*AM23)+(P24*AM24)+(P2*AM2))/SUM(P2:P24) -> 0.66666667 | Q30: =((Q3*AM3)+(Q4*AM4)+(Q5*AM5)+(Q6*AM6)+(Q7*AM7)+(Q8*AM8)+(Q9*AM9)+(Q10*AM10)+(Q11*AM11)+(Q12*AM12)+(Q13*AM13)+(Q14*AM14)+(Q15*AM15)+(Q16*AM16)+(Q17*AM17)+(Q18*AM18)+(Q19*AM19)+(Q20*AM20)+(Q21*AM21)+(Q22*AM22)+(Q23*AM23)+(Q24*AM24)+(Q2*AM2))/SUM(Q2:Q24) -> 1 | R30: =((R3*AM3)+(R4*AM4)+(R5*AM5)+(R6*AM6)+(R7*AM7)+(R8*AM8)+(R9*AM9)+(R10*AM10)+(R11*AM11)+(R12*AM12)+(R13*AM13)+(R14*AM14)+(R15*AM15)+(R16*AM16)+(R17*AM17)+(R18*AM18)+(R19*AM19)+(R20*AM20)+(R21*AM21)+(R22*AM22)+(R23*AM23)+(R24*AM24)+(R2*AM2))/SUM(R2:R24) -> 1 | S30: =((S3*AM3)+(S4*AM4)+(S5*AM5)+(S6*AM6)+(S7*AM7)+(S8*AM8)+(S9*AM9)+(S10*AM10)+(S11*AM11)+(S12*AM12)+(S13*AM13)+(S14*AM14)+(S15*AM15)+(S16*AM16)+(S17*AM17)+(S18*AM18)+(S19*AM19)+(S20*AM20)+(S21*AM21)+(S22*AM22)+(S23*AM23)+(S24*AM24)+(S2*AM2))/SUM(S2:S24) -> 1 | T30: =((T3*AM3)+(T4*AM4)+(T5*AM5)+(T6*AM6)+(T7*AM7)+(T8*AM8)+(T9*AM9)+(T10*AM10)+(T11*AM11)+(T12*AM12)+(T13*AM13)+(T14*AM14)+(T15*AM15)+(T16*AM16)+(T17*AM17)+(T18*AM18)+(T19*AM19)+(T20*AM20)+(T21*AM21)+(T22*AM22)+(T23*AM23)+(T24*AM24)+(T2*AM2))/SUM(T2:T24) -> 1 | U30: =((U3*AM3)+(U4*AM4)+(U5*AM5)+(U6*AM6)+(U7*AM7)+(U8*AM8)+(U9*AM9)+(U10*AM10)+(U11*AM11)+(U12*AM12)+(U13*AM13)+(U14*AM14)+(U15*AM15)+(U16*AM16)+(U17*AM17)+(U18*AM18)+(U19*AM19)+(U20*AM20)+(U21*AM21)+(U22*AM22)+(U23*AM23)+(U24*AM24)+(U2*AM2))/SUM(U2:U24) -> 1 | V30: =((V3*AM3)+(V4*AM4)+(V5*AM5)+(V6*AM6)+(V7*AM7)+(V8*AM8)+(V9*AM9)+(V10*AM10)+(V11*AM11)+(V12*AM12)+(V13*AM13)+(V14*AM14)+(V15*AM15)+(V16*AM16)+(V17*AM17)+(V18*AM18)+(V19*AM19)+(V20*AM20)+(V21*AM21)+(V22*AM22)+(V23*AM23)+(V24*AM24)+(V2*AM2))/SUM(V2:V24) -> 1 | W30: =((W3*AM3)+(W4*AM4)+(W5*AM5)+(W6*AM6)+(W7*AM7)+(W8*AM8)+(W9*AM9)+(W10*AM10)+(W11*AM11)+(W12*AM12)+(W13*AM13)+(W14*AM14)+(W15*AM15)+(W16*AM16)+(W17*AM17)+(W18*AM18)+(W19*AM19)+(W20*AM20)+(W21*AM21)+(W22*AM22)+(W23*AM23)+(W24*AM24)+(W2*AM2))/SUM(W2:W24) -> 1 | X30: =((X3*AM3)+(X4*AM4)+(X5*AM5)+(X6*AM6)+(X7*AM7)+(X8*AM8)+(X9*AM9)+(X10*AM10)+(X11*AM11)+(X12*AM12)+(X13*AM13)+(X14*AM14)+(X15*AM15)+(X16*AM16)+(X17*AM17)+(X18*AM18)+(X19*AM19)+(X20*AM20)+(X21*AM21)+(X22*AM22)+(X23*AM23)+(X24*AM24)+(X2*AM2))/SUM(X2:X24) -> 1 | Y30: =((Y3*AM3)+(Y4*AM4)+(Y5*AM5)+(Y6*AM6)+(Y7*AM7)+(Y8*AM8)+(Y9*AM9)+(Y10*AM10)+(Y11*AM11)+(Y12*AM12)+(Y13*AM13)+(Y14*AM14)+(Y15*AM15)+(Y16*AM16)+(Y17*AM17)+(Y18*AM18)+(Y19*AM19)+(Y20*AM20)+(Y21*AM21)+(Y22*AM22)+(Y23*AM23)+(Y24*AM24)+(Y2*AM2))/SUM(Y2:Y24) -> 0.66666667 | Z30: =((Z3*AM3)+(Z4*AM4)+(Z5*AM5)+(Z6*AM6)+(Z7*AM7)+(Z8*AM8)+(Z9*AM9)+(Z10*AM10)+(Z11*AM11)+(Z12*AM12)+(Z13*AM13)+(Z14*AM14)+(Z15*AM15)+(Z16*AM16)+(Z17*AM17)+(Z18*AM18)+(Z19*AM19)+(Z20*AM20)+(Z21*AM21)+(Z22*AM22)+(Z23*AM23)+(Z24*AM24)+(Z2*AM2))/SUM(Z2:Z24) -> 1 | AA30: =((AA3*AM3)+(AA4*AM4)+(AA5*AM5)+(AA6*AM6)+(AA7*AM7)+(AA8*AM8)+(AA9*AM9)+(AA10*AM10)+(AA11*AM11)+(AA12*AM12)+(AA13*AM13)+(AA14*AM14)+(AA15*AM15)+(AA16*AM16)+(AA17*AM17)+(AA18*AM18)+(AA19*AM19)+(AA20*AM20)+(AA21*AM21)+(AA22*AM22)+(AA23*AM23)+(AA24*AM24)+(AA2*AM2))/SUM(AA2:AA24) -> 0.83333333 | AB30: =((AB3*AM3)+(AB4*AM4)+(AB5*AM5)+(AB6*AM6)+(AB7*AM7)+(AB8*AM8)+(AB9*AM9)+(AB10*AM10)+(AB11*AM11)+(AB12*AM12)+(AB13*AM13)+(AB14*AM14)+(AB15*AM15)+(AB16*AM16)+(AB17*AM17)+(AB18*AM18)+(AB19*AM19)+(AB20*AM20)+(AB21*AM21)+(AB22*AM22)+(AB23*AM23)+(AB24*AM24)+(AB2*AM2))/SUM(AB2:AB24) -> 1 | AC30: =((AC3*AM3)+(AC4*AM4)+(AC5*AM5)+(AC6*AM6)+(AC7*AM7)+(AC8*AM8)+(AC9*AM9)+(AC10*AM10)+(AC11*AM11)+(AC12*AM12)+(AC13*AM13)+(AC14*AM14)+(AC15*AM15)+(AC16*AM16)+(AC17*AM17)+(AC18*AM18)+(AC19*AM19)+(AC20*AM20)+(AC21*AM21)+(AC22*AM22)+(AC23*AM23)+(AC24*AM24)+(AC2*AM2))/SUM(AC2:AC24) -> 0.66666667 | AD30: =((AD3*AM3)+(AD4*AM4)+(AD5*AM5)+(AD6*AM6)+(AD7*AM7)+(AD8*AM8)+(AD9*AM9)+(AD10*AM10)+(AD11*AM11)+(AD12*AM12)+(AD13*AM13)+(AD14*AM14)+(AD15*AM15)+(AD16*AM16)+(AD17*AM17)+(AD18*AM18)+(AD19*AM19)+(AD20*AM20)+(AD21*AM21)+(AD22*AM22)+(AD23*AM23)+(AD24*AM24)+(AD2*AM2))/SUM(AD2:AD24) -> 0.9 | AE30: =((AE3*AM3)+(AE4*AM4)+(AE5*AM5)+(AE6*AM6)+(AE7*AM7)+(AE8*AM8)+(AE9*AM9)+(AE10*AM10)+(AE11*AM11)+(AE12*AM12)+(AE13*AM13)+(AE14*AM14)+(AE15*AM15)+(AE16*AM16)+(AE17*AM17)+(AE18*AM18)+(AE19*AM19)+(AE20*AM20)+(AE21*AM21)+(AE22*AM22)+(AE23*AM23)+(AE24*AM24)+(AE2*AM2))/SUM(AE2:AE24) -> 0 | AF30: =((AF3*AM3)+(AF4*AM4)+(AF5*AM5)+(AF6*AM6)+(AF7*AM7)+(AF8*AM8)+(AF9*AM9)+(AF10*AM10)+(AF11*AM11)+(AF12*AM12)+(AF13*AM13)+(AF14*AM14)+(AF15*AM15)+(AF16*AM16)+(AF17*AM17)+(AF18*AM18)+(AF19*AM19)+(AF20*AM20)+(AF21*AM21)+(AF22*AM22)+(AF23*AM23)+(AF24*AM24)+(AF2*AM2))/SUM(AF2:AF24) -> 0 | AG30: =((AG3*AM3)+(AG4*AM4)+(AG5*AM5)+(AG6*AM6)+(AG7*AM7)+(AG8*AM8)+(AG9*AM9)+(AG10*AM10)+(AG11*AM11)+(AG12*AM12)+(AG13*AM13)+(AG14*AM14)+(AG15*AM15)+(AG16*AM16)+(AG17*AM17)+(AG18*AM18)+(AG19*AM19)+(AG20*AM20)+(AG21*AM21)+(AG22*AM22)+(AG23*AM23)+(AG24*AM24)+(AG2*AM2))/SUM(AG2:AG24) -> 1 | AH30: =((AH3*AM3)+(AH4*AM4)+(AH5*AM5)+(AH6*AM6)+(AH7*AM7)+(AH8*AM8)+(AH9*AM9)+(AH10*AM10)+(AH11*AM11)+(AH12*AM12)+(AH13*AM13)+(AH14*AM14)+(AH15*AM15)+(AH16*AM16)+(AH17*AM17)+(AH18*AM18)+(AH19*AM19)+(AH20*AM20)+(AH21*AM21)+(AH22*AM22)+(AH23*AM23)+(AH24*AM24)+(AH2*AM2))/SUM(AH2:AH24) -> 1 | AI30: =((AI3*AM3)+(AI4*AM4)+(AI5*AM5)+(AI6*AM6)+(AI7*AM7)+(AI8*AM8)+(AI9*AM9)+(AI10*AM10)+(AI11*AM11)+(AI12*AM12)+(AI13*AM13)+(AI14*AM14)+(AI15*AM15)+(AI16*AM16)+(AI17*AM17)+(AI18*AM18)+(AI19*AM19)+(AI20*AM20)+(AI21*AM21)+(AI22*AM22)+(AI23*AM23)+(AI24*AM24)+(AI2*AM2))/SUM(AI2:AI24) -> 0.8 | AJ30: =((AJ3*AM3)+(AJ4*AM4)+(AJ5*AM5)+(AJ6*AM6)+(AJ7*AM7)+(AJ8*AM8)+(AJ9*AM9)+(AJ10*AM10)+(AJ11*AM11)+(AJ12*AM12)+(AJ13*AM13)+(AJ14*AM14)+(AJ15*AM15)+(AJ16*AM16)+(AJ17*AM17)+(AJ18*AM18)+(AJ19*AM19)+(AJ20*AM20)+(AJ21*AM21)+(AJ22*AM22)+(AJ23*AM23)+(AJ24*AM24)+(AJ2*AM2))/SUM(AJ2:AJ24) -> 1 | AL30: minor affect <=10%
A31: αi for CSC Type 3 (CSC3) | B31: =((B2*AN2)+(B3*AN3)+(B4*AN4)+(B5*AN5)+(B6*AN6)+(B7*AN7)+(B8*AN8)+(B9*AN9)+(B10*AN10)+(B11*AN11)+(B12*AN12)+(B13*AN13)+(B14*AN14)+(B15*AN15)+(B16*AN16)+(B17*AN17)+(B18*AN18)+(B19*AN19)+(B20*AN20)+(B21*AN21)+(B22*AN22)+(B23*AN23)+(B24*AN24))/SUM(B2:B24) -> 1 | C31: =((C2*AN2)+(C3*AN3)+(C4*AN4)+(C5*AN5)+(C6*AN6)+(C7*AN7)+(C8*AN8)+(C9*AN9)+(C10*AN10)+(C11*AN11)+(C12*AN12)+(C13*AN13)+(C14*AN14)+(C15*AN15)+(C16*AN16)+(C17*AN17)+(C18*AN18)+(C19*AN19)+(C20*AN20)+(C21*AN21)+(C22*AN22)+(C23*AN23)+(C24*AN24))/SUM(C2:C24) -> 0.875 | D31: =((D2*AN2)+(D3*AN3)+(D4*AN4)+(D5*AN5)+(D6*AN6)+(D7*AN7)+(D8*AN8)+(D9*AN9)+(D10*AN10)+(D11*AN11)+(D12*AN12)+(D13*AN13)+(D14*AN14)+(D15*AN15)+(D16*AN16)+(D17*AN17)+(D18*AN18)+(D19*AN19)+(D20*AN20)+(D21*AN21)+(D22*AN22)+(D23*AN23)+(D24*AN24))/SUM(D2:D24) -> 0 | E31: =((E4*AN4)+(E5*AN5)+(E6*AN6)+(E7*AN7)+(E8*AN8)+(E9*AN9)+(E10*AN10)+(E11*AN11)+(E12*AN12)+(E13*AN13)+(E14*AN14)+(E15*AN15)+(E16*AN16)+(E17*AN17)+(E18*AN18)+(E19*AN19)+(E20*AN20)+(E21*AN21)+(E22*AN22)+(E23*AN23)+(E24*AN24)+(E2*AN2)+(E3*AN3))/SUM(E1:E24) -> 0.6 | F31: =((F4*AN4)+(F5*AN5)+(F6*AN6)+(F7*AN7)+(F8*AN8)+(F9*AN9)+(F10*AN10)+(F11*AN11)+(F12*AN12)+(F13*AN13)+(F14*AN14)+(F15*AN15)+(F16*AN16)+(F17*AN17)+(F18*AN18)+(F19*AN19)+(F20*AN20)+(F21*AN21)+(F22*AN22)+(F23*AN23)+(F24*AN24)+(F2*AN2)+(F3*AN3))/SUM(F2:F24) -> 0.8 | G31: =((G4*AN4)+(G5*AN5)+(G6*AN6)+(G7*AN7)+(G8*AN8)+(G9*AN9)+(G10*AN10)+(G11*AN11)+(G12*AN12)+(G13*AN13)+(G14*AN14)+(G15*AN15)+(G16*AN16)+(G17*AN17)+(G18*AN18)+(G19*AN19)+(G20*AN20)+(G21*AN21)+(G22*AN22)+(G23*AN23)+(G24*AN24)+(G2*AN2)+(G3*AN3))/SUM(G2:G24) -> 0.8 | H31: =((H4*AN4)+(H5*AN5)+(H6*AN6)+(H7*AN7)+(H8*AN8)+(H9*AN9)+(H10*AN10)+(H11*AN11)+(H12*AN12)+(H13*AN13)+(H14*AN14)+(H15*AN15)+(H16*AN16)+(H17*AN17)+(H18*AN18)+(H19*AN19)+(H20*AN20)+(H21*AN21)+(H22*AN22)+(H23*AN23)+(H24*AN24)+(H2*AN2)+(H3*AN3))/SUM(H2:H24) -> 1 | I31: =((I4*AN4)+(I5*AN5)+(I6*AN6)+(I7*AN7)+(I8*AN8)+(I9*AN9)+(I10*AN10)+(I11*AN11)+(I12*AN12)+(I13*AN13)+(I14*AN14)+(I15*AN15)+(I16*AN16)+(I17*AN17)+(I18*AN18)+(I19*AN19)+(I20*AN20)+(I21*AN21)+(I22*AN22)+(I23*AN23)+(I24*AN24)+(I2*AN2)+(I3*AN3))/SUM(I2:I24) -> 0.75 | J31: =((J4*AN4)+(J5*AN5)+(J6*AN6)+(J7*AN7)+(J8*AN8)+(J9*AN9)+(J10*AN10)+(J11*AN11)+(J12*AN12)+(J13*AN13)+(J14*AN14)+(J15*AN15)+(J16*AN16)+(J17*AN17)+(J18*AN18)+(J19*AN19)+(J20*AN20)+(J21*AN21)+(J22*AN22)+(J23*AN23)+(J24*AN24)+(J2*AN2)+(J3*AN3))/SUM(J2:J24) -> 1 | K31: =((K4*AN4)+(K5*AN5)+(K6*AN6)+(K7*AN7)+(K8*AN8)+(K9*AN9)+(K10*AN10)+(K11*AN11)+(K12*AN12)+(K13*AN13)+(K14*AN14)+(K15*AN15)+(K16*AN16)+(K17*AN17)+(K18*AN18)+(K19*AN19)+(K20*AN20)+(K21*AN21)+(K22*AN22)+(K23*AN23)+(K24*AN24)+(K2*AN2)+(K3*AN3))/SUM(K2:K24) -> 0.8 | L31: =((L4*AN4)+(L5*AN5)+(L6*AN6)+(L7*AN7)+(L8*AN8)+(L9*AN9)+(L10*AN10)+(L11*AN11)+(L12*AN12)+(L13*AN13)+(L14*AN14)+(L15*AN15)+(L16*AN16)+(L17*AN17)+(L18*AN18)+(L19*AN19)+(L20*AN20)+(L21*AN21)+(L22*AN22)+(L23*AN23)+(L24*AN24)+(L2*AN2)+(L3*AN3))/SUM(L2:L24) -> 0.875 | M31: =((M4*AN4)+(M5*AN5)+(M6*AN6)+(M7*AN7)+(M8*AN8)+(M9*AN9)+(M10*AN10)+(M11*AN11)+(M12*AN12)+(M13*AN13)+(M14*AN14)+(M15*AN15)+(M16*AN16)+(M17*AN17)+(M18*AN18)+(M19*AN19)+(M20*AN20)+(M21*AN21)+(M22*AN22)+(M23*AN23)+(M24*AN24)+(M2*AN2)+(M3*AN3))/SUM(M2:M24) -> 0.75 | N31: =((N4*AN4)+(N5*AN5)+(N6*AN6)+(N7*AN7)+(N8*AN8)+(N9*AN9)+(N10*AN10)+(N11*AN11)+(N12*AN12)+(N13*AN13)+(N14*AN14)+(N15*AN15)+(N16*AN16)+(N17*AN17)+(N18*AN18)+(N19*AN19)+(N20*AN20)+(N21*AN21)+(N22*AN22)+(N23*AN23)+(N24*AN24)+(N2*AN2)+(N3*AN3))/SUM(N2:N24) -> 0.54545455 | O31: =((O4*AN4)+(O5*AN5)+(O6*AN6)+(O7*AN7)+(O8*AN8)+(O9*AN9)+(O10*AN10)+(O11*AN11)+(O12*AN12)+(O13*AN13)+(O14*AN14)+(O15*AN15)+(O16*AN16)+(O17*AN17)+(O18*AN18)+(O19*AN19)+(O20*AN20)+(O21*AN21)+(O22*AN22)+(O23*AN23)+(O24*AN24)+(O2*AN2)+(O3*AN3))/SUM(O2:O24) -> 0.75 | P31: =((P4*AN4)+(P5*AN5)+(P6*AN6)+(P7*AN7)+(P8*AN8)+(P9*AN9)+(P10*AN10)+(P11*AN11)+(P12*AN12)+(P13*AN13)+(P14*AN14)+(P15*AN15)+(P16*AN16)+(P17*AN17)+(P18*AN18)+(P19*AN19)+(P20*AN20)+(P21*AN21)+(P22*AN22)+(P23*AN23)+(P24*AN24)+(P2*AN2)+(P3*AN3))/SUM(P2:P24) -> 0.66666667 | Q31: =((Q4*AN4)+(Q5*AN5)+(Q6*AN6)+(Q7*AN7)+(Q8*AN8)+(Q9*AN9)+(Q10*AN10)+(Q11*AN11)+(Q12*AN12)+(Q13*AN13)+(Q14*AN14)+(Q15*AN15)+(Q16*AN16)+(Q17*AN17)+(Q18*AN18)+(Q19*AN19)+(Q20*AN20)+(Q21*AN21)+(Q22*AN22)+(Q23*AN23)+(Q24*AN24)+(Q2*AN2)+(Q3*AN3))/SUM(Q2:Q24) -> 1 | R31: =((R4*AN4)+(R5*AN5)+(R6*AN6)+(R7*AN7)+(R8*AN8)+(R9*AN9)+(R10*AN10)+(R11*AN11)+(R12*AN12)+(R13*AN13)+(R14*AN14)+(R15*AN15)+(R16*AN16)+(R17*AN17)+(R18*AN18)+(R19*AN19)+(R20*AN20)+(R21*AN21)+(R22*AN22)+(R23*AN23)+(R24*AN24)+(R2*AN2)+(R3*AN3))/SUM(R2:R24) -> 0.66666667 | S31: =((S4*AN4)+(S5*AN5)+(S6*AN6)+(S7*AN7)+(S8*AN8)+(S9*AN9)+(S10*AN10)+(S11*AN11)+(S12*AN12)+(S13*AN13)+(S14*AN14)+(S15*AN15)+(S16*AN16)+(S17*AN17)+(S18*AN18)+(S19*AN19)+(S20*AN20)+(S21*AN21)+(S22*AN22)+(S23*AN23)+(S24*AN24)+(S2*AN2)+(S3*AN3))/SUM(S2:S24) -> 1 | T31: =((T4*AN4)+(T5*AN5)+(T6*AN6)+(T7*AN7)+(T8*AN8)+(T9*AN9)+(T10*AN10)+(T11*AN11)+(T12*AN12)+(T13*AN13)+(T14*AN14)+(T15*AN15)+(T16*AN16)+(T17*AN17)+(T18*AN18)+(T19*AN19)+(T20*AN20)+(T21*AN21)+(T22*AN22)+(T23*AN23)+(T24*AN24)+(T2*AN2)+(T3*AN3))/SUM(T2:T24) -> 1 | U31: =((U4*AN4)+(U5*AN5)+(U6*AN6)+(U7*AN7)+(U8*AN8)+(U9*AN9)+(U10*AN10)+(U11*AN11)+(U12*AN12)+(U13*AN13)+(U14*AN14)+(U15*AN15)+(U16*AN16)+(U17*AN17)+(U18*AN18)+(U19*AN19)+(U20*AN20)+(U21*AN21)+(U22*AN22)+(U23*AN23)+(U24*AN24)+(U2*AN2)+(U3*AN3))/SUM(U2:U24) -> 0.75 | V31: =((V4*AN4)+(V5*AN5)+(V6*AN6)+(V7*AN7)+(V8*AN8)+(V9*AN9)+(V10*AN10)+(V11*AN11)+(V12*AN12)+(V13*AN13)+(V14*AN14)+(V15*AN15)+(V16*AN16)+(V17*AN17)+(V18*AN18)+(V19*AN19)+(V20*AN20)+(V21*AN21)+(V22*AN22)+(V23*AN23)+(V24*AN24)+(V2*AN2)+(V3*AN3))/SUM(V2:V24) -> 1 | W31: =((W4*AN4)+(W5*AN5)+(W6*AN6)+(W7*AN7)+(W8*AN8)+(W9*AN9)+(W10*AN10)+(W11*AN11)+(W12*AN12)+(W13*AN13)+(W14*AN14)+(W15*AN15)+(W16*AN16)+(W17*AN17)+(W18*AN18)+(W19*AN19)+(W20*AN20)+(W21*AN21)+(W22*AN22)+(W23*AN23)+(W24*AN24)+(W2*AN2)+(W3*AN3))/SUM(W2:W24) -> 1 | X31: =((X4*AN4)+(X5*AN5)+(X6*AN6)+(X7*AN7)+(X8*AN8)+(X9*AN9)+(X10*AN10)+(X11*AN11)+(X12*AN12)+(X13*AN13)+(X14*AN14)+(X15*AN15)+(X16*AN16)+(X17*AN17)+(X18*AN18)+(X19*AN19)+(X20*AN20)+(X21*AN21)+(X22*AN22)+(X23*AN23)+(X24*AN24)+(X2*AN2)+(X3*AN3))/SUM(X2:X24) -> 1 | Y31: =((Y4*AN4)+(Y5*AN5)+(Y6*AN6)+(Y7*AN7)+(Y8*AN8)+(Y9*AN9)+(Y10*AN10)+(Y11*AN11)+(Y12*AN12)+(Y13*AN13)+(Y14*AN14)+(Y15*AN15)+(Y16*AN16)+(Y17*AN17)+(Y18*AN18)+(Y19*AN19)+(Y20*AN20)+(Y21*AN21)+(Y22*AN22)+(Y23*AN23)+(Y24*AN24)+(Y2*AN2)+(Y3*AN3))/SUM(Y2:Y24) -> 0.66666667 | Z31: =((Z4*AN4)+(Z5*AN5)+(Z6*AN6)+(Z7*AN7)+(Z8*AN8)+(Z9*AN9)+(Z10*AN10)+(Z11*AN11)+(Z12*AN12)+(Z13*AN13)+(Z14*AN14)+(Z15*AN15)+(Z16*AN16)+(Z17*AN17)+(Z18*AN18)+(Z19*AN19)+(Z20*AN20)+(Z21*AN21)+(Z22*AN22)+(Z23*AN23)+(Z24*AN24)+(Z2*AN2)+(Z3*AN3))/SUM(Z2:Z24) -> 1 | AA31: =((AA4*AN4)+(AA5*AN5)+(AA6*AN6)+(AA7*AN7)+(AA8*AN8)+(AA9*AN9)+(AA10*AN10)+(AA11*AN11)+(AA12*AN12)+(AA13*AN13)+(AA14*AN14)+(AA15*AN15)+(AA16*AN16)+(AA17*AN17)+(AA18*AN18)+(AA19*AN19)+(AA20*AN20)+(AA21*AN21)+(AA22*AN22)+(AA23*AN23)+(AA24*AN24)+(AA2*AN2)+(AA3*AN3))/SUM(AA2:AA24) -> 0.66666667 | AB31: =((AB4*AN4)+(AB5*AN5)+(AB6*AN6)+(AB7*AN7)+(AB8*AN8)+(AB9*AN9)+(AB10*AN10)+(AB11*AN11)+(AB12*AN12)+(AB13*AN13)+(AB14*AN14)+(AB15*AN15)+(AB16*AN16)+(AB17*AN17)+(AB18*AN18)+(AB19*AN19)+(AB20*AN20)+(AB21*AN21)+(AB22*AN22)+(AB23*AN23)+(AB24*AN24)+(AB2*AN2)+(AB3*AN3))/SUM(AB2:AB24) -> 1 | AC31: =((AC4*AN4)+(AC5*AN5)+(AC6*AN6)+(AC7*AN7)+(AC8*AN8)+(AC9*AN9)+(AC10*AN10)+(AC11*AN11)+(AC12*AN12)+(AC13*AN13)+(AC14*AN14)+(AC15*AN15)+(AC16*AN16)+(AC17*AN17)+(AC18*AN18)+(AC19*AN19)+(AC20*AN20)+(AC21*AN21)+(AC22*AN22)+(AC23*AN23)+(AC24*AN24)+(AC2*AN2)+(AC3*AN3))/SUM(AC2:AC24) -> 0.66666667 | AD31: =((AD4*AN4)+(AD5*AN5)+(AD6*AN6)+(AD7*AN7)+(AD8*AN8)+(AD9*AN9)+(AD10*AN10)+(AD11*AN11)+(AD12*AN12)+(AD13*AN13)+(AD14*AN14)+(AD15*AN15)+(AD16*AN16)+(AD17*AN17)+(AD18*AN18)+(AD19*AN19)+(AD20*AN20)+(AD21*AN21)+(AD22*AN22)+(AD23*AN23)+(AD24*AN24)+(AD2*AN2)+(AD3*AN3))/SUM(AD2:AD24) -> 0.6 | AE31: =((AE4*AN4)+(AE5*AN5)+(AE6*AN6)+(AE7*AN7)+(AE8*AN8)+(AE9*AN9)+(AE10*AN10)+(AE11*AN11)+(AE12*AN12)+(AE13*AN13)+(AE14*AN14)+(AE15*AN15)+(AE16*AN16)+(AE17*AN17)+(AE18*AN18)+(AE19*AN19)+(AE20*AN20)+(AE21*AN21)+(AE22*AN22)+(AE23*AN23)+(AE24*AN24)+(AE2*AN2)+(AE3*AN3))/SUM(AE2:AE24) -> 0 | AF31: =((AF4*AN4)+(AF5*AN5)+(AF6*AN6)+(AF7*AN7)+(AF8*AN8)+(AF9*AN9)+(AF10*AN10)+(AF11*AN11)+(AF12*AN12)+(AF13*AN13)+(AF14*AN14)+(AF15*AN15)+(AF16*AN16)+(AF17*AN17)+(AF18*AN18)+(AF19*AN19)+(AF20*AN20)+(AF21*AN21)+(AF22*AN22)+(AF23*AN23)+(AF24*AN24)+(AF2*AN2)+(AF3*AN3))/SUM(AF2:AF24) -> 0 | AG31: =((AG4*AN4)+(AG5*AN5)+(AG6*AN6)+(AG7*AN7)+(AG8*AN8)+(AG9*AN9)+(AG10*AN10)+(AG11*AN11)+(AG12*AN12)+(AG13*AN13)+(AG14*AN14)+(AG15*AN15)+(AG16*AN16)+(AG17*AN17)+(AG18*AN18)+(AG19*AN19)+(AG20*AN20)+(AG21*AN21)+(AG22*AN22)+(AG23*AN23)+(AG24*AN24)+(AG2*AN2)+(AG3*AN3))/SUM(AG2:AG24) -> 0.88888889 | AH31: =((AH4*AN4)+(AH5*AN5)+(AH6*AN6)+(AH7*AN7)+(AH8*AN8)+(AH9*AN9)+(AH10*AN10)+(AH11*AN11)+(AH12*AN12)+(AH13*AN13)+(AH14*AN14)+(AH15*AN15)+(AH16*AN16)+(AH17*AN17)+(AH18*AN18)+(AH19*AN19)+(AH20*AN20)+(AH21*AN21)+(AH22*AN22)+(AH23*AN23)+(AH24*AN24)+(AH2*AN2)+(AH3*AN3))/SUM(AH2:AH24) -> 0.85714286 | AI31: =((AI4*AN4)+(AI5*AN5)+(AI6*AN6)+(AI7*AN7)+(AI8*AN8)+(AI9*AN9)+(AI10*AN10)+(AI11*AN11)+(AI12*AN12)+(AI13*AN13)+(AI14*AN14)+(AI15*AN15)+(AI16*AN16)+(AI17*AN17)+(AI18*AN18)+(AI19*AN19)+(AI20*AN20)+(AI21*AN21)+(AI22*AN22)+(AI23*AN23)+(AI24*AN24)+(AI2*AN2)+(AI3*AN3))/SUM(AI2:AI24) -> 0.8 | AJ31: =((AJ4*AN4)+(AJ5*AN5)+(AJ6*AN6)+(AJ7*AN7)+(AJ8*AN8)+(AJ9*AN9)+(AJ10*AN10)+(AJ11*AN11)+(AJ12*AN12)+(AJ13*AN13)+(AJ14*AN14)+(AJ15*AN15)+(AJ16*AN16)+(AJ17*AN17)+(AJ18*AN18)+(AJ19*AN19)+(AJ20*AN20)+(AJ21*AN21)+(AJ22*AN22)+(AJ23*AN23)+(AJ24*AN24)+(AJ2*AN2)+(AJ3*AN3))/SUM(AJ2:AJ24) -> 0.88888889 | AL31: affects >10%
A32: αi for CSC Type 4 (CSC4) | B32: =((B2*AO2)+(B3*AO3)+(B4*AO4)+(B5*AO5)+(B6*AO6)+(B7*AO7)+(B8*AO8)+(B9*AO9)+(B10*AO10)+(B11*AO11)+(B12*AO12)+(B13*AO13)+(B14*AO14)+(B15*AO15)+(B16*AO16)+(B17*AO17)+(B18*AO18)+(B19*AO19)+(B20*AO20)+(B21*AO21)+(B22*AO22)+(B23*AO23)+(B24*AO24))/SUM(B2:B24) -> 0.66666667 | C32: =((C2*AO2)+(C3*AO3)+(C4*AO4)+(C5*AO5)+(C6*AO6)+(C7*AO7)+(C8*AO8)+(C9*AO9)+(C10*AO10)+(C11*AO11)+(C12*AO12)+(C13*AO13)+(C14*AO14)+(C15*AO15)+(C16*AO16)+(C17*AO17)+(C18*AO18)+(C19*AO19)+(C20*AO20)+(C21*AO21)+(C22*AO22)+(C23*AO23)+(C24*AO24))/SUM(C2:C24) -> 0.625 | D32: =((D2*AO2)+(D3*AO3)+(D4*AO4)+(D5*AO5)+(D6*AO6)+(D7*AO7)+(D8*AO8)+(D9*AO9)+(D10*AO10)+(D11*AO11)+(D12*AO12)+(D13*AO13)+(D14*AO14)+(D15*AO15)+(D16*AO16)+(D17*AO17)+(D18*AO18)+(D19*AO19)+(D20*AO20)+(D21*AO21)+(D22*AO22)+(D23*AO23)+(D24*AO24))/SUM(D2:D24) -> 0 | E32: =((E5*AO5)+(E6*AO6)+(E7*AO7)+(E8*AO8)+(E9*AO9)+(E10*AO10)+(E11*AO11)+(E12*AO12)+(E13*AO13)+(E14*AO14)+(E15*AO15)+(E16*AO16)+(E17*AO17)+(E18*AO18)+(E19*AO19)+(E20*AO20)+(E21*AO21)+(E22*AO22)+(E23*AO23)+(E24*AO24)+(E2*AO2)+(E3*AO3)+(E4*AO4))/SUM(E2:E24) -> 0.66666667 | F32: =((F5*AO5)+(F6*AO6)+(F7*AO7)+(F8*AO8)+(F9*AO9)+(F10*AO10)+(F11*AO11)+(F12*AO12)+(F13*AO13)+(F14*AO14)+(F15*AO15)+(F16*AO16)+(F17*AO17)+(F18*AO18)+(F19*AO19)+(F20*AO20)+(F21*AO21)+(F22*AO22)+(F23*AO23)+(F24*AO24)+(F2*AO2)+(F3*AO3)+(F4*AO4))/SUM(F2:F24) -> 0.4 | G32: =((G5*AO5)+(G6*AO6)+(G7*AO7)+(G8*AO8)+(G9*AO9)+(G10*AO10)+(G11*AO11)+(G12*AO12)+(G13*AO13)+(G14*AO14)+(G15*AO15)+(G16*AO16)+(G17*AO17)+(G18*AO18)+(G19*AO19)+(G20*AO20)+(G21*AO21)+(G22*AO22)+(G23*AO23)+(G24*AO24)+(G2*AO2)+(G3*AO3)+(G4*AO4))/SUM(G2:G24) -> 0.6 | H32: =((H5*AO5)+(H6*AO6)+(H7*AO7)+(H8*AO8)+(H9*AO9)+(H10*AO10)+(H11*AO11)+(H12*AO12)+(H13*AO13)+(H14*AO14)+(H15*AO15)+(H16*AO16)+(H17*AO17)+(H18*AO18)+(H19*AO19)+(H20*AO20)+(H21*AO21)+(H22*AO22)+(H23*AO23)+(H24*AO24)+(H2*AO2)+(H3*AO3)+(H4*AO4))/SUM(H2:H24) -> 0.71428571 | I32: =((I5*AO5)+(I6*AO6)+(I7*AO7)+(I8*AO8)+(I9*AO9)+(I10*AO10)+(I11*AO11)+(I12*AO12)+(I13*AO13)+(I14*AO14)+(I15*AO15)+(I16*AO16)+(I17*AO17)+(I18*AO18)+(I19*AO19)+(I20*AO20)+(I21*AO21)+(I22*AO22)+(I23*AO23)+(I24*AO24)+(I2*AO2)+(I3*AO3)+(I4*AO4))/SUM(I2:I24) -> 0.5 | J32: =((J5*AO5)+(J6*AO6)+(J7*AO7)+(J8*AO8)+(J9*AO9)+(J10*AO10)+(J11*AO11)+(J12*AO12)+(J13*AO13)+(J14*AO14)+(J15*AO15)+(J16*AO16)+(J17*AO17)+(J18*AO18)+(J19*AO19)+(J20*AO20)+(J21*AO21)+(J22*AO22)+(J23*AO23)+(J24*AO24)+(J2*AO2)+(J3*AO3)+(J4*AO4))/SUM(J2:J24) -> 0.71428571 | K32: =((K5*AO5)+(K6*AO6)+(K7*AO7)+(K8*AO8)+(K9*AO9)+(K10*AO10)+(K11*AO11)+(K12*AO12)+(K13*AO13)+(K14*AO14)+(K15*AO15)+(K16*AO16)+(K17*AO17)+(K18*AO18)+(K19*AO19)+(K20*AO20)+(K21*AO21)+(K22*AO22)+(K23*AO23)+(K24*AO24)+(K2*AO2)+(K3*AO3)+(K4*AO4))/SUM(K2:K24) -> 0.6 | L32: =((L5*AO5)+(L6*AO6)+(L7*AO7)+(L8*AO8)+(L9*AO9)+(L10*AO10)+(L11*AO11)+(L12*AO12)+(L13*AO13)+(L14*AO14)+(L15*AO15)+(L16*AO16)+(L17*AO17)+(L18*AO18)+(L19*AO19)+(L20*AO20)+(L21*AO21)+(L22*AO22)+(L23*AO23)+(L24*AO24)+(L2*AO2)+(L3*AO3)+(L4*AO4))/SUM(L2:L24) -> 0.625 | M32: =((M5*AO5)+(M6*AO6)+(M7*AO7)+(M8*AO8)+(M9*AO9)+(M10*AO10)+(M11*AO11)+(M12*AO12)+(M13*AO13)+(M14*AO14)+(M15*AO15)+(M16*AO16)+(M17*AO17)+(M18*AO18)+(M19*AO19)+(M20*AO20)+(M21*AO21)+(M22*AO22)+(M23*AO23)+(M24*AO24)+(M2*AO2)+(M3*AO3)+(M4*AO4))/SUM(M2:M24) -> 0.75 | N32: =((N5*AO5)+(N6*AO6)+(N7*AO7)+(N8*AO8)+(N9*AO9)+(N10*AO10)+(N11*AO11)+(N12*AO12)+(N13*AO13)+(N14*AO14)+(N15*AO15)+(N16*AO16)+(N17*AO17)+(N18*AO18)+(N19*AO19)+(N20*AO20)+(N21*AO21)+(N22*AO22)+(N23*AO23)+(N24*AO24)+(N2*AO2)+(N3*AO3)+(N4*AO4))/SUM(N2:N24) -> 0.54545455 | O32: =((O5*AO5)+(O6*AO6)+(O7*AO7)+(O8*AO8)+(O9*AO9)+(O10*AO10)+(O11*AO11)+(O12*AO12)+(O13*AO13)+(O14*AO14)+(O15*AO15)+(O16*AO16)+(O17*AO17)+(O18*AO18)+(O19*AO19)+(O20*AO20)+(O21*AO21)+(O22*AO22)+(O23*AO23)+(O24*AO24)+(O2*AO2)+(O3*AO3)+(O4*AO4))/SUM(O2:O24) -> 0.75 | P32: =((P5*AO5)+(P6*AO6)+(P7*AO7)+(P8*AO8)+(P9*AO9)+(P10*AO10)+(P11*AO11)+(P12*AO12)+(P13*AO13)+(P14*AO14)+(P15*AO15)+(P16*AO16)+(P17*AO17)+(P18*AO18)+(P19*AO19)+(P20*AO20)+(P21*AO21)+(P22*AO22)+(P23*AO23)+(P24*AO24)+(P2*AO2)+(P3*AO3)+(P4*AO4))/SUM(P2:P24) -> 0.33333333 | Q32: =((Q5*AO5)+(Q6*AO6)+(Q7*AO7)+(Q8*AO8)+(Q9*AO9)+(Q10*AO10)+(Q11*AO11)+(Q12*AO12)+(Q13*AO13)+(Q14*AO14)+(Q15*AO15)+(Q16*AO16)+(Q17*AO17)+(Q18*AO18)+(Q19*AO19)+(Q20*AO20)+(Q21*AO21)+(Q22*AO22)+(Q23*AO23)+(Q24*AO24)+(Q2*AO2)+(Q3*AO3)+(Q4*AO4))/SUM(Q2:Q24) -> 0.5 | R32: =((R5*AO5)+(R6*AO6)+(R7*AO7)+(R8*AO8)+(R9*AO9)+(R10*AO10)+(R11*AO11)+(R12*AO12)+(R13*AO13)+(R14*AO14)+(R15*AO15)+(R16*AO16)+(R17*AO17)+(R18*AO18)+(R19*AO19)+(R20*AO20)+(R21*AO21)+(R22*AO22)+(R23*AO23)+(R24*AO24)+(R2*AO2)+(R3*AO3)+(R4*AO4))/SUM(R2:R24) -> 0.66666667 | S32: =((S5*AO5)+(S6*AO6)+(S7*AO7)+(S8*AO8)+(S9*AO9)+(S10*AO10)+(S11*AO11)+(S12*AO12)+(S13*AO13)+(S14*AO14)+(S15*AO15)+(S16*AO16)+(S17*AO17)+(S18*AO18)+(S19*AO19)+(S20*AO20)+(S21*AO21)+(S22*AO22)+(S23*AO23)+(S24*AO24)+(S2*AO2)+(S3*AO3)+(S4*AO4))/SUM(S2:S24) -> 0.5 | T32: =((T5*AO5)+(T6*AO6)+(T7*AO7)+(T8*AO8)+(T9*AO9)+(T10*AO10)+(T11*AO11)+(T12*AO12)+(T13*AO13)+(T14*AO14)+(T15*AO15)+(T16*AO16)+(T17*AO17)+(T18*AO18)+(T19*AO19)+(T20*AO20)+(T21*AO21)+(T22*AO22)+(T23*AO23)+(T24*AO24)+(T2*AO2)+(T3*AO3)+(T4*AO4))/SUM(T2:T24) -> 0.66666667 | U32: =((U5*AO5)+(U6*AO6)+(U7*AO7)+(U8*AO8)+(U9*AO9)+(U10*AO10)+(U11*AO11)+(U12*AO12)+(U13*AO13)+(U14*AO14)+(U15*AO15)+(U16*AO16)+(U17*AO17)+(U18*AO18)+(U19*AO19)+(U20*AO20)+(U21*AO21)+(U22*AO22)+(U23*AO23)+(U24*AO24)+(U2*AO2)+(U3*AO3)+(U4*AO4))/SUM(U2:U24) -> 0.75 | V32: =((V5*AO5)+(V6*AO6)+(V7*AO7)+(V8*AO8)+(V9*AO9)+(V10*AO10)+(V11*AO11)+(V12*AO12)+(V13*AO13)+(V14*AO14)+(V15*AO15)+(V16*AO16)+(V17*AO17)+(V18*AO18)+(V19*AO19)+(V20*AO20)+(V21*AO21)+(V22*AO22)+(V23*AO23)+(V24*AO24)+(V2*AO2)+(V3*AO3)+(V4*AO4))/SUM(V2:V24) -> 0.71428571 | W32: =((W5*AO5)+(W6*AO6)+(W7*AO7)+(W8*AO8)+(W9*AO9)+(W10*AO10)+(W11*AO11)+(W12*AO12)+(W13*AO13)+(W14*AO14)+(W15*AO15)+(W16*AO16)+(W17*AO17)+(W18*AO18)+(W19*AO19)+(W20*AO20)+(W21*AO21)+(W22*AO22)+(W23*AO23)+(W24*AO24)+(W2*AO2)+(W3*AO3)+(W4*AO4))/SUM(W2:W24) -> 0.71428571 | X32: =((X5*AO5)+(X6*AO6)+(X7*AO7)+(X8*AO8)+(X9*AO9)+(X10*AO10)+(X11*AO11)+(X12*AO12)+(X13*AO13)+(X14*AO14)+(X15*AO15)+(X16*AO16)+(X17*AO17)+(X18*AO18)+(X19*AO19)+(X20*AO20)+(X21*AO21)+(X22*AO22)+(X23*AO23)+(X24*AO24)+(X2*AO2)+(X3*AO3)+(X4*AO4))/SUM(X2:X24) -> 0.71428571 | Y32: =((Y5*AO5)+(Y6*AO6)+(Y7*AO7)+(Y8*AO8)+(Y9*AO9)+(Y10*AO10)+(Y11*AO11)+(Y12*AO12)+(Y13*AO13)+(Y14*AO14)+(Y15*AO15)+(Y16*AO16)+(Y17*AO17)+(Y18*AO18)+(Y19*AO19)+(Y20*AO20)+(Y21*AO21)+(Y22*AO22)+(Y23*AO23)+(Y24*AO24)+(Y2*AO2)+(Y3*AO3)+(Y4*AO4))/SUM(Y2:Y24) -> 0.33333333 | Z32: =((Z5*AO5)+(Z6*AO6)+(Z7*AO7)+(Z8*AO8)+(Z9*AO9)+(Z10*AO10)+(Z11*AO11)+(Z12*AO12)+(Z13*AO13)+(Z14*AO14)+(Z15*AO15)+(Z16*AO16)+(Z17*AO17)+(Z18*AO18)+(Z19*AO19)+(Z20*AO20)+(Z21*AO21)+(Z22*AO22)+(Z23*AO23)+(Z24*AO24)+(Z2*AO2)+(Z3*AO3)+(Z4*AO4))/SUM(Z2:Z24) -> 0 | AA32: =((AA5*AO5)+(AA6*AO6)+(AA7*AO7)+(AA8*AO8)+(AA9*AO9)+(AA10*AO10)+(AA11*AO11)+(AA12*AO12)+(AA13*AO13)+(AA14*AO14)+(AA15*AO15)+(AA16*AO16)+(AA17*AO17)+(AA18*AO18)+(AA19*AO19)+(AA20*AO20)+(AA21*AO21)+(AA22*AO22)+(AA23*AO23)+(AA24*AO24)+(AA2*AO2)+(AA3*AO3)+(AA4*AO4))/SUM(AA2:AA24) -> 0.33333333 | AB32: =((AB5*AO5)+(AB6*AO6)+(AB7*AO7)+(AB8*AO8)+(AB9*AO9)+(AB10*AO10)+(AB11*AO11)+(AB12*AO12)+(AB13*AO13)+(AB14*AO14)+(AB15*AO15)+(AB16*AO16)+(AB17*AO17)+(AB18*AO18)+(AB19*AO19)+(AB20*AO20)+(AB21*AO21)+(AB22*AO22)+(AB23*AO23)+(AB24*AO24)+(AB2*AO2)+(AB3*AO3)+(AB4*AO4))/SUM(AB2:AB24) -> 0.71428571 | AC32: =((AC5*AO5)+(AC6*AO6)+(AC7*AO7)+(AC8*AO8)+(AC9*AO9)+(AC10*AO10)+(AC11*AO11)+(AC12*AO12)+(AC13*AO13)+(AC14*AO14)+(AC15*AO15)+(AC16*AO16)+(AC17*AO17)+(AC18*AO18)+(AC19*AO19)+(AC20*AO20)+(AC21*AO21)+(AC22*AO22)+(AC23*AO23)+(AC24*AO24)+(AC2*AO2)+(AC3*AO3)+(AC4*AO4))/SUM(AC2:AC24) -> 0.66666667 | AD32: =((AD5*AO5)+(AD6*AO6)+(AD7*AO7)+(AD8*AO8)+(AD9*AO9)+(AD10*AO10)+(AD11*AO11)+(AD12*AO12)+(AD13*AO13)+(AD14*AO14)+(AD15*AO15)+(AD16*AO16)+(AD17*AO17)+(AD18*AO18)+(AD19*AO19)+(AD20*AO20)+(AD21*AO21)+(AD22*AO22)+(AD23*AO23)+(AD24*AO24)+(AD2*AO2)+(AD3*AO3)+(AD4*AO4))/SUM(AD2:AD24) -> 0.6 | AE32: =((AE5*AO5)+(AE6*AO6)+(AE7*AO7)+(AE8*AO8)+(AE9*AO9)+(AE10*AO10)+(AE11*AO11)+(AE12*AO12)+(AE13*AO13)+(AE14*AO14)+(AE15*AO15)+(AE16*AO16)+(AE17*AO17)+(AE18*AO18)+(AE19*AO19)+(AE20*AO20)+(AE21*AO21)+(AE22*AO22)+(AE23*AO23)+(AE24*AO24)+(AE2*AO2)+(AE3*AO3)+(AE4*AO4))/SUM(AE2:AE24) -> 0 | AF32: =((AF5*AO5)+(AF6*AO6)+(AF7*AO7)+(AF8*AO8)+(AF9*AO9)+(AF10*AO10)+(AF11*AO11)+(AF12*AO12)+(AF13*AO13)+(AF14*AO14)+(AF15*AO15)+(AF16*AO16)+(AF17*AO17)+(AF18*AO18)+(AF19*AO19)+(AF20*AO20)+(AF21*AO21)+(AF22*AO22)+(AF23*AO23)+(AF24*AO24)+(AF2*AO2)+(AF3*AO3)+(AF4*AO4))/SUM(AF2:AF24) -> 0 | AG32: =((AG5*AO5)+(AG6*AO6)+(AG7*AO7)+(AG8*AO8)+(AG9*AO9)+(AG10*AO10)+(AG11*AO11)+(AG12*AO12)+(AG13*AO13)+(AG14*AO14)+(AG15*AO15)+(AG16*AO16)+(AG17*AO17)+(AG18*AO18)+(AG19*AO19)+(AG20*AO20)+(AG21*AO21)+(AG22*AO22)+(AG23*AO23)+(AG24*AO24)+(AG2*AO2)+(AG3*AO3)+(AG4*AO4))/SUM(AG2:AG24) -> 0.66666667 | AH32: =((AH5*AO5)+(AH6*AO6)+(AH7*AO7)+(AH8*AO8)+(AH9*AO9)+(AH10*AO10)+(AH11*AO11)+(AH12*AO12)+(AH13*AO13)+(AH14*AO14)+(AH15*AO15)+(AH16*AO16)+(AH17*AO17)+(AH18*AO18)+(AH19*AO19)+(AH20*AO20)+(AH21*AO21)+(AH22*AO22)+(AH23*AO23)+(AH24*AO24)+(AH2*AO2)+(AH3*AO3)+(AH4*AO4))/SUM(AH2:AH24) -> 0.85714286 | AI32: =((AI5*AO5)+(AI6*AO6)+(AI7*AO7)+(AI8*AO8)+(AI9*AO9)+(AI10*AO10)+(AI11*AO11)+(AI12*AO12)+(AI13*AO13)+(AI14*AO14)+(AI15*AO15)+(AI16*AO16)+(AI17*AO17)+(AI18*AO18)+(AI19*AO19)+(AI20*AO20)+(AI21*AO21)+(AI22*AO22)+(AI23*AO23)+(AI24*AO24)+(AI2*AO2)+(AI3*AO3)+(AI4*AO4))/SUM(AI2:AI24) -> 0.8 | AJ32: =((AJ5*AO5)+(AJ6*AO6)+(AJ7*AO7)+(AJ8*AO8)+(AJ9*AO9)+(AJ10*AO10)+(AJ11*AO11)+(AJ12*AO12)+(AJ13*AO13)+(AJ14*AO14)+(AJ15*AO15)+(AJ16*AO16)+(AJ17*AO17)+(AJ18*AO18)+(AJ19*AO19)+(AJ20*AO20)+(AJ21*AO21)+(AJ22*AO22)+(AJ23*AO23)+(AJ24*AO24)+(AJ2*AO2)+(AJ3*AO3)+(AJ4*AO4))/SUM(AJ2:AJ24) -> 0.66666667 | AL32: major affect >50%
