Workbook

Sheet Overall
A3: very high | B3: not recommended | C3: 9 | D3: 10 | E3: 11 | F3: 12 | G3: 13 | H3: 14 | I3: 15 | J3: 16 | K3: 17 | L3: 18 | O3: Privacy | Q3: Security | S3: Service
B4: extreme high | C4: 8 | D4: 9 | E4: 10 | F4: 11 | G4: 12 | H4: 13 | I4: 14 | J4: 15 | K4: 16 | L4: 17 | N4: Lowest | O4: Iguana | P4: NEGLIGIBLE | Q4: Iguana | R4: NEGLIGIBLE | S4: Iguana | T4: NEGLIGIBLE
A5: high | B5: very high | C5: 7 | D5: 8 | E5: 9 | F5: 10 | G5: 11 | H5: 12 | I5: 13 | J5: 14 | K5: 15 | L5: 16 | N5: Average | O5: Otter | P5: EX LOW | Q5: Seal | R5: EX LOW | S5: Mouse | T5: EX LOW
B6: high | C6: 6 | D6: 7 | E6: 8 | F6: 9 | G6: 10 | H6: 11 | I6: 12 | J6: 13 | K6: 14 | L6: 15 | N6: Highest | O6: Gazelle | P6: LOW | Q6: Gazelle | R6: VERY LOW | S6: Gazelle | T6: VERY LOW
A7: medium | B7: above average | C7: 5 | D7: 6 | E7: 7 | F7: 8 | G7: 9 | H7: 10 | I7: 11 | J7: 12 | K7: 13 | L7: 14
B8: below average | C8: 4 | D8: 5 | E8: 6 | F8: 7 | G8: 8 | H8: 9 | I8: 10 | J8: 11 | K8: 12 | L8: 13 | O8: CSC1 (All Assets) | P8: CSC2 (All Important Assets) | Q8: CSC3 (Data and Service Assets) | R8: CSC4 (SME with Data Assets Only) | S8: CSC5 (Pers Data Only)
A9: low | B9: low | C9: 3 | D9: 4 | E9: 5 | F9: 6 | G9: 7 | H9: 8 | I9: 9 | J9: 10 | K9: 11 | L9: 12 | N9: Privacy | O9: 4.1052632 | P9: 3.7208533 | Q9: 3.3186223 | R9: 2.648781 | S9: 1.6327865
B10: very low | C10: 2 | D10: 3 | E10: 4 | F10: 5 | G10: 6 | H10: 7 | I10: 8 | J10: 9 | K10: 10 | L10: 11 | N10: Security | O10: 3.9090909 | P10: 3.2861915 | Q10: 2.8058556 | R10: 2.3482438 | S10: 1.4947117
A11: very low | B11: extreme low | C11: 1 | D11: 2 | E11: 3 | F11: 4 | G11: 5 | H11: 6 | I11: 7 | J11: 8 | K11: 9 | L11: 10 | N11: Service | O11: 3.9545455 | P11: 3.1965909 | Q11: 3.0001263 | R11: 1.9007035 | S11: 0.9116342
B12: negligible | C12: 0 | D12: 1 | E12: 2 | F12: 3 | G12: 4 | H12: 5 | I12: 6 | J12: 7 | K12: 8 | L12: 9 | N12: Privacy | O12: EXTREME HIGH | P12: VERY HIGH | Q12: HIGH | R12: ABOVE AVERAGE | S12: LOW
C13: negligible | D13: extreme | E13: very | F13: low | G13: below | H13: above | I13: high | J13: very | K13: extreme | L13: not | N13: Security | O13: VERY HIGH | P13: HIGH | Q13: ABOVE AVERAGE | R13: BELOW AVERAGE | S13: VERY LOW
C14: very low | E14: low | G14: medium | I14: high | K14: very high | N14: Service | O14: VERY HIGH | P14: HIGH | Q14: HIGH | R14: LOW | S14: EXTREME LOW
C16: lowest | D16: average | E16: highest | I16: lowest | J16: average | K16: highest | O16: lowest | P16: average | Q16: highest
A17: Privacy | B17: CSC1 | C17: 8 | D17: 9 | E17: 11 | G17: Security | H17: CSC1 | I17: 7 | J17: 8 | K17: 9 | M17: Service | N17: CSC1 | O17: 7 | P17: 8 | Q17: 9
B18: CSC2 | C18: 7 | D18: 8 | E18: 10 | H18: CSC2 | I18: 6 | J18: 7 | K18: 8 | N18: CSC2 | O18: 6 | P18: 7 | Q18: 8
B19: CSC3 | C19: 6 | D19: 7 | E19: 9 | H19: CSC3 | I19: 5 | J19: 6 | K19: 7 | N19: CSC3 | O19: 6 | P19: 7 | Q19: 8
B20: CSC4 | C20: 5 | D20: 6 | E20: 8 | H20: CSC4 | I20: 4 | J20: 5 | K20: 6 | N20: CSC4 | O20: 3 | P20: 4 | Q20: 5
B21: CSC5 | C21: 3 | D21: 4 | E21: 6 | H21: CSC5 | I21: 2 | J21: 3 | K21: 4 | N21: CSC5 | O21: 1 | P21: 2 | Q21: 3

Sheet GraphicsImpact

Sheet TotalImpact
B1: CSC1 (All Assets) | C1: CSC2 (All Important Assets) | D1: CSC3 (Data and Service Assets) | E1: CSC4 (SME with Data Assets Only) | F1: CSC5 (Pers Data Only)
A2: Privacy | B2: =AssetIndex!AL25 -> 4.1052632 | C2: =AssetIndex!AM25 -> 3.7208533 | D2: =AssetIndex!AN25 -> 3.3186223 | E2: =AssetIndex!AO25 -> 2.648781 | F2: =AssetIndex!AP25 -> 1.6327865
A3: Security | B3: =AssetIndex!AL26 -> 3.9090909 | C3: =AssetIndex!AM26 -> 3.2861915 | D3: =AssetIndex!AN26 -> 2.8058556 | E3: =AssetIndex!AO26 -> 2.3482438 | F3: =AssetIndex!AP26 -> 1.4947117
A4: Service | B4: =AssetIndex!AL27 -> 3.9545455 | C4: =AssetIndex!AM27 -> 3.1965909 | D4: =AssetIndex!AN27 -> 3.0001263 | E4: =AssetIndex!AO27 -> 1.9007035 | F4: =AssetIndex!AP27 -> 0.9116342
A5: Privacy | B5: =IF(B2>=4.5,"NOT RECOMMENDED",IF(B2>=4,"EXTREME HIGH",IF(B2>=3.5,"VERY HIGH",IF(B2>=3,"HIGH",IF(B2>=2.5,"ABOVE AVERAGE",IF(B2>=2,"BELOW AVERAGE",IF(B2>=1.5,"LOW",IF(B2>=1,"VERY LOW",IF(B2>=0.5,"EXTREME LOW","NEGLIGIBLE"))))))))) -> EXTREME HIGH | C5: =IF(C2>=4.5,"NOT RECOMMENDED",IF(C2>=4,"EXTREME HIGH",IF(C2>=3.5,"VERY HIGH",IF(C2>=3,"HIGH",IF(C2>=2.5,"ABOVE AVERAGE",IF(C2>=2,"BELOW AVERAGE",IF(C2>=1.5,"LOW",IF(C2>=1,"VERY LOW",IF(C2>=0.5,"EXTREME LOW","NEGLIGIBLE"))))))))) -> VERY HIGH | D5: =IF(D2>=4.5,"NOT RECOMMENDED",IF(D2>=4,"EXTREME HIGH",IF(D2>=3.5,"VERY HIGH",IF(D2>=3,"HIGH",IF(D2>=2.5,"ABOVE AVERAGE",IF(D2>=2,"BELOW AVERAGE",IF(D2>=1.5,"LOW",IF(D2>=1,"VERY LOW",IF(D2>=0.5,"EXTREME LOW","NEGLIGIBLE"))))))))) -> HIGH | E5: =IF(E2>=4.5,"NOT RECOMMENDED",IF(E2>=4,"EXTREME HIGH",IF(E2>=3.5,"VERY HIGH",IF(E2>=3,"HIGH",IF(E2>=2.5,"ABOVE AVERAGE",IF(E2>=2,"BELOW AVERAGE",IF(E2>=1.5,"LOW",IF(E2>=1,"VERY LOW",IF(E2>=0.5,"EXTREME LOW","NEGLIGIBLE"))))))))) -> ABOVE AVERAGE | F5: =IF(F2>=4.5,"NOT RECOMMENDED",IF(F2>=4,"EXTREME HIGH",IF(F2>=3.5,"VERY HIGH",IF(F2>=3,"HIGH",IF(F2>=2.5,"ABOVE AVERAGE",IF(F2>=2,"BELOW AVERAGE",IF(F2>=1.5,"LOW",IF(F2>=1,"VERY LOW",IF(F2>=0.5,"EXTREME LOW","NEGLIGIBLE"))))))))) -> LOW
A6: Security | B6: =IF(B3>=4.5,"NOT RECOMMENDED",IF(B3>=4,"EXTREME HIGH",IF(B3>=3.5,"VERY HIGH",IF(B3>=3,"HIGH",IF(B3>=2.5,"ABOVE AVERAGE",IF(B3>=2,"BELOW AVERAGE",IF(B3>=1.5,"LOW",IF(B3>=1,"VERY LOW",IF(B3>=0.5,"EXTREME LOW","NEGLIGIBLE"))))))))) -> VERY HIGH | C6: =IF(C3>=4.5,"NOT RECOMMENDED",IF(C3>=4,"EXTREME HIGH",IF(C3>=3.5,"VERY HIGH",IF(C3>=3,"HIGH",IF(C3>=2.5,"ABOVE AVERAGE",IF(C3>=2,"BELOW AVERAGE",IF(C3>=1.5,"LOW",IF(C3>=1,"VERY LOW",IF(C3>=0.5,"EXTREME LOW","NEGLIGIBLE"))))))))) -> HIGH | D6: =IF(D3>=4.5,"NOT RECOMMENDED",IF(D3>=4,"EXTREME HIGH",IF(D3>=3.5,"VERY HIGH",IF(D3>=3,"HIGH",IF(D3>=2.5,"ABOVE AVERAGE",IF(D3>=2,"BELOW AVERAGE",IF(D3>=1.5,"LOW",IF(D3>=1,"VERY LOW",IF(D3>=0.5,"EXTREME LOW","NEGLIGIBLE"))))))))) -> ABOVE AVERAGE | E6: =IF(E3>=4.5,"NOT RECOMMENDED",IF(E3>=4,"EXTREME HIGH",IF(E3>=3.5,"VERY HIGH",IF(E3>=3,"HIGH",IF(E3>=2.5,"ABOVE AVERAGE",IF(E3>=2,"BELOW AVERAGE",IF(E3>=1.5,"LOW",IF(E3>=1,"VERY LOW",IF(E3>=0.5,"EXTREME LOW","NEGLIGIBLE"))))))))) -> BELOW AVERAGE | F6: =IF(F3>=4.5,"NOT RECOMMENDED",IF(F3>=4,"EXTREME HIGH",IF(F3>=3.5,"VERY HIGH",IF(F3>=3,"HIGH",IF(F3>=2.5,"ABOVE AVERAGE",IF(F3>=2,"BELOW AVERAGE",IF(F3>=1.5,"LOW",IF(F3>=1,"VERY LOW",IF(F3>=0.5,"EXTREME LOW","NEGLIGIBLE"))))))))) -> VERY LOW
A7: Service | B7: =IF(B4>=4.5,"NOT RECOMMENDED",IF(B4>=4,"EXTREME HIGH",IF(B4>=3.5,"VERY HIGH",IF(B4>=3,"HIGH",IF(B4>=2.5,"ABOVE AVERAGE",IF(B4>=2,"BELOW AVERAGE",IF(B4>=1.5,"LOW",IF(B4>=1,"VERY LOW",IF(B4>=0.5,"EXTREME LOW","NEGLIGIBLE"))))))))) -> VERY HIGH | C7: =IF(C4>=4.5,"NOT RECOMMENDED",IF(C4>=4,"EXTREME HIGH",IF(C4>=3.5,"VERY HIGH",IF(C4>=3,"HIGH",IF(C4>=2.5,"ABOVE AVERAGE",IF(C4>=2,"BELOW AVERAGE",IF(C4>=1.5,"LOW",IF(C4>=1,"VERY LOW",IF(C4>=0.5,"EXTREME LOW","NEGLIGIBLE"))))))))) -> HIGH | D7: =IF(D4>=4.5,"NOT RECOMMENDED",IF(D4>=4,"EXTREME HIGH",IF(D4>=3.5,"VERY HIGH",IF(D4>=3,"HIGH",IF(D4>=2.5,"ABOVE AVERAGE",IF(D4>=2,"BELOW AVERAGE",IF(D4>=1.5,"LOW",IF(D4>=1,"VERY LOW",IF(D4>=0.5,"EXTREME LOW","NEGLIGIBLE"))))))))) -> HIGH | E7: =IF(E4>=4.5,"NOT RECOMMENDED",IF(E4>=4,"EXTREME HIGH",IF(E4>=3.5,"VERY HIGH",IF(E4>=3,"HIGH",IF(E4>=2.5,"ABOVE AVERAGE",IF(E4>=2,"BELOW AVERAGE",IF(E4>=1.5,"LOW",IF(E4>=1,"VERY LOW",IF(E4>=0.5,"EXTREME LOW","NEGLIGIBLE"))))))))) -> LOW | F7: =IF(F4>=4.5,"NOT RECOMMENDED",IF(F4>=4,"EXTREME HIGH",IF(F4>=3.5,"VERY HIGH",IF(F4>=3,"HIGH",IF(F4>=2.5,"ABOVE AVERAGE",IF(F4>=2,"BELOW AVERAGE",IF(F4>=1.5,"LOW",IF(F4>=1,"VERY LOW",IF(F4>=0.5,"EXTREME LOW","NEGLIGIBLE"))))))))) -> EXTREME LOW

Sheet AssetIndex
A1: Assets | B1: 1 | C1: 2 | D1: 3 | E1: 4 | F1: 5 | G1: 6 | H1: 7 | I1: 8 | J1: 9 | K1: 10 | L1: 11 | M1: 12 | N1: 13 | O1: 14 | P1: 15 | Q1: 16 | R1: 17 | S1: 18 | T1: 19 | U1: 20 | V1: 21 | W1: 22 | X1: 23 | Y1: 24 | Z1: 25 | AA1: 26 | AB1: 27 | AC1: 28 | AD1: 29 | AE1: 30 | AF1: 31 | AG1: 32 | AH1: 33 | AI1: 34 | AJ1: 35 | AK1: ALset% | AL1: CSC1 (All) | AM1: CSC2 (All important) | AN1: CSC3 (data and serv) | AO1: CSC4 (data only SME) | AP1: CSC5 (pers data only)
A2: A1. Company reputation | B2: 1 | C2: 1 | D2: 0 | E2: 1 | F2: 1 | G2: 1 | H2: 1 | I2: 1 | J2: 1 | K2: 1 | L2: 1 | M2: 1 | N2: 1 | O2: 0 | P2: 1 | Q2: 1 | R2: 0 | S2: 1 | T2: 0 | U2: 0 | V2: 1 | W2: 1 | X2: 1 | Y2: 1 | Z2: 0 | AA2: 1 | AB2: 1 | AC2: 0 | AD2: 1 | AE2: 0 | AF2: 0 | AG2: 1 | AH2: 1 | AI2: 0 | AJ2: 1 | AK2: =SUM(B2:AJ2)/35 -> 0.71428571 | AL2: 1 | AM2: 1 | AN2: 1 | AO2: 1 | AP2: 0
A3: A2. Customer trust | B3: 0 | C3: 1 | D3: 0 | E3: 0 | F3: 1 | G3: 1 | H3: 1 | I3: 1 | J3: 1 | K3: 1 | L3: 1 | M3: 1 | N3: 1 | O3: 0 | P3: 1 | Q3: 1 | R3: 0 | S3: 1 | T3: 0 | U3: 0 | V3: 1 | W3: 1 | X3: 1 | Y3: 0 | Z3: 0 | AA3: 1 | AB3: 1 | AC3: 0 | AD3: 1 | AE3: 0 | AF3: 0 | AG3: 1 | AH3: 1 | AI3: 0 | AJ3: 1 | AK3: =SUM(B3:AJ3)/35 -> 0.62857143 | AL3: 1 | AM3: 1 | AN3: 1 | AO3: 1 | AP3: 0
A4: A3. Employee loyalty and experience | B4: 0 | C4: 1 | D4: 0 | E4: 0 | F4: 1 | G4: 1 | H4: 0 | I4: 0 | J4: 0 | K4: 1 | L4: 0 | M4: 0 | N4: 1 | O4: 0 | P4: 0 | Q4: 0 | R4: 0 | S4: 0 | T4: 0 | U4: 0 | V4: 0 | W4: 0 | X4: 0 | Y4: 0 | Z4: 0 | AA4: 1 | AB4: 0 | AC4: 0 | AD4: 1 | AE4: 0 | AF4: 0 | AG4: 0 | AH4: 0 | AI4: 0 | AJ4: 0 | AK4: =SUM(B4:AJ4)/35 -> 0.2 | AL4: 1 | AM4: 1 | AN4: 0 | AO4: 0 | AP4: 0
A5: A4. Intellectual property | B5: 0 | C5: 0 | D5: 0 | E5: 0 | F5: 0 | G5: 1 | H5: 0 | I5: 0 | J5: 0 | K5: 1 | L5: 0 | M5: 1 | N5: 1 | O5: 0 | P5: 0 | Q5: 0 | R5: 1 | S5: 0 | T5: 0 | U5: 1 | V5: 0 | W5: 0 | X5: 0 | Y5: 0 | Z5: 0 | AA5: 0 | AB5: 0 | AC5: 0 | AD5: 1 | AE5: 0 | AF5: 0 | AG5: 0 | AH5: 0 | AI5: 0 | AJ5: 0 | AK5: =SUM(B5:AJ5)/35 -> 0.2 | AL5: 1 | AM5: 1 | AN5: 0 | AO5: 0 | AP5: 0
A6: A5. Personal sensitive data | B6: 1 | C6: 1 | D6: 0 | E6: 1 | F6: 0 | G6: 1 | H6: 1 | I6: 0 | J6: 1 | K6: 1 | L6: 1 | M6: 1 | N6: 1 | O6: 1 | P6: 0 | Q6: 0 | R6: 1 | S6: 0 | T6: 1 | U6: 1 | V6: 1 | W6: 1 | X6: 1 | Y6: 0 | Z6: 0 | AA6: 0 | AB6: 1 | AC6: 1 | AD6: 1 | AE6: 0 | AF6: 0 | AG6: 1 | AH6: 1 | AI6: 1 | AJ6: 1 | AK6: =SUM(B6:AJ6)/35 -> 0.68571429 | AL6: 1 | AM6: 1 | AN6: 1 | AO6: 1 | AP6: 1
A7: A6. Personal data | B7: 1 | C7: 1 | D7: 0 | E7: 1 | F7: 0 | G7: 1 | H7: 1 | I7: 0 | J7: 1 | K7: 1 | L7: 1 | M7: 1 | N7: 1 | O7: 1 | P7: 0 | Q7: 0 | R7: 1 | S7: 0 | T7: 1 | U7: 1 | V7: 1 | W7: 1 | X7: 1 | Y7: 0 | Z7: 0 | AA7: 0 | AB7: 1 | AC7: 1 | AD7: 1 | AE7: 0 | AF7: 0 | AG7: 1 | AH7: 1 | AI7: 1 | AJ7: 1 | AK7: =SUM(B7:AJ7)/35 -> 0.68571429 | AL7: 1 | AM7: 1 | AN7: 1 | AO7: 1 | AP7: 1
A8: A7. Personal data - critical | B8: 1 | C8: 1 | D8: 0 | E8: 1 | F8: 0 | G8: 1 | H8: 1 | I8: 0 | J8: 1 | K8: 1 | L8: 1 | M8: 1 | N8: 1 | O8: 1 | P8: 0 | Q8: 0 | R8: 1 | S8: 0 | T8: 1 | U8: 1 | V8: 1 | W8: 1 | X8: 1 | Y8: 0 | Z8: 0 | AA8: 0 | AB8: 1 | AC8: 1 | AD8: 1 | AE8: 0 | AF8: 0 | AG8: 1 | AH8: 1 | AI8: 1 | AJ8: 1 | AK8: =SUM(B8:AJ8)/35 -> 0.68571429 | AL8: 1 | AM8: 1 | AN8: 1 | AO8: 1 | AP8: 1
A9: A8. HR data | B9: 0 | C9: 0 | D9: 0 | E9: 0 | F9: 0 | G9: 1 | H9: 0 | I9: 0 | J9: 0 | K9: 1 | L9: 0 | M9: 1 | N9: 1 | O9: 0 | P9: 0 | Q9: 0 | R9: 1 | S9: 0 | T9: 1 | U9: 0 | V9: 0 | W9: 0 | X9: 0 | Y9: 0 | Z9: 0 | AA9: 0 | AB9: 0 | AC9: 1 | AD9: 1 | AE9: 0 | AF9: 0 | AG9: 1 | AH9: 1 | AI9: 1 | AJ9: 1 | AK9: =SUM(B9:AJ9)/35 -> 0.34285714 | AL9: 1 | AM9: 1 | AN9: 1 | AO9: 1 | AP9: 0
A10: A9. Service delivery – real time services | B10: 1 | C10: 1 | D10: 0 | E10: 1 | F10: 1 | G10: 1 | H10: 1 | I10: 0 | J10: 1 | K10: 1 | L10: 1 | M10: 0 | N10: 0 | O10: 0 | P10: 1 | Q10: 1 | R10: 0 | S10: 1 | T10: 1 | U10: 0 | V10: 1 | W10: 1 | X10: 1 | Y10: 1 | Z10: 1 | AA10: 1 | AB10: 1 | AC10: 0 | AD10: 0 | AE10: 0 | AF10: 0 | AG10: 1 | AH10: 0 | AI10: 0 | AJ10: 1 | AK10: =SUM(B10:AJ10)/35 -> 0.62857143 | AL10: 1 | AM10: 1 | AN10: 1 | AO10: 0 | AP10: 0
A11: A10. Service delivery | B11: 1 | C11: 1 | D11: 0 | E11: 1 | F11: 1 | G11: 1 | H11: 1 | I11: 1 | J11: 1 | K11: 1 | L11: 1 | M11: 0 | N11: 0 | O11: 0 | P11: 1 | Q11: 1 | R11: 0 | S11: 1 | T11: 1 | U11: 0 | V11: 1 | W11: 1 | X11: 1 | Y11: 0 | Z11: 1 | AA11: 1 | AB11: 1 | AC11: 0 | AD11: 0 | AE11: 0 | AF11: 0 | AG11: 1 | AH11: 0 | AI11: 0 | AJ11: 1 | AK11: =SUM(B11:AJ11)/35 -> 0.62857143 | AL11: 1 | AM11: 1 | AN11: 1 | AO11: 0 | AP11: 0
A12: A11. Access control / AuthenticALion / Authorization (root/admin v others) | B12: 0 | C12: 0 | D12: 0 | E12: 0 | F12: 0 | G12: 0 | H12: 0 | I12: 1 | J12: 0 | K12: 0 | L12: 0 | M12: 0 | N12: 0 | O12: 0 | P12: 0 | Q12: 0 | R12: 0 | S12: 0 | T12: 0 | U12: 0 | V12: 0 | W12: 0 | X12: 0 | Y12: 0 | Z12: 0 | AA12: 0 | AB12: 0 | AC12: 1 | AD12: 1 | AE12: 0 | AF12: 0 | AG12: 0 | AH12: 0 | AI12: 0 | AJ12: 0 | AK12: =SUM(B12:AJ12)/35 -> 0.085714286 | AL12: 1 | AM12: 0 | AN12: 0 | AO12: 0 | AP12: 0
A13: A12. Credentials | B13: 0 | C13: 0 | D13: 0 | E13: 0 | F13: 0 | G13: 0 | H13: 0 | I13: 0 | J13: 0 | K13: 0 | L13: 0 | M13: 0 | N13: 1 | O13: 1 | P13: 0 | Q13: 0 | R13: 1 | S13: 0 | T13: 0 | U13: 0 | V13: 0 | W13: 0 | X13: 0 | Y13: 0 | Z13: 0 | AA13: 0 | AB13: 0 | AC13: 0 | AD13: 1 | AE13: 0 | AF13: 0 | AG13: 0 | AH13: 0 | AI13: 0 | AJ13: 0 | AK13: =SUM(B13:AJ13)/35 -> 0.11428571 | AL13: 1 | AM13: 1 | AN13: 0 | AO13: 0 | AP13: 0
... A24: A23. Backup or Archive data | B24: 0 | C24: 0 | D24: 0 | E24: 0 | F24: 0 | G24: 0 | H24: 0 | I24: 0 | J24: 0 | K24: 0 | L24: 0 | M24: 1 | N24: 0 | O24: 0 | P24: 0 | Q24: 0 | R24: 0 | S24: 0 | T24: 0 | U24: 0 | V24: 0 | W24: 0 | X24: 0 | Y24: 0 | Z24: 0 | AA24: 0 | AB24: 0 | AC24: 0 | AD24: 0 | AE24: 0 | AF24: 0 | AG24: 1 | AH24: 1 | AI24: 0 | AJ24: 1 | AK24: =SUM(B24:AJ24)/35 -> 0.11428571 | AL24: 1 | AM24: 1 | AN24: 0 | AO24: 0 | AP24: 0
A25: Privacy | B25: 0 | C25: 1 | D25: 1 | E25: 0 | F25: 0 | G25: 1 | H25: 0 | I25: 0 | J25: 1 | K25: 1 | L25: 1 | M25: 1 | N25: 1 | O25: 1 | P25: 0 | Q25: 0 | R25: 1 | S25: 1 | T25: 1 | U25: 0 | V25: 1 | W25: 1 | X25: 1 | Y25: 0 | Z25: 0 | AA25: 0 | AB25: 0 | AC25: 1 | AD25: 0 | AE25: 0 | AF25: 0 | AG25: 1 | AH25: 1 | AI25: 1 | AJ25: 0 | AK25: =SUM(B25:AJ25) -> 19 | AL25: =((B25*B34)+(C25*C34)+(D25*D34)+(E25*E34)+(F25*F34)+(G25*G34)+(H25*H34)+(I25*I34)+(J25*J34)+(K25*K34)+(L25*L34)+(M25*M34)+(N25*N34)+(O25*O34)+(P25*P34)+(Q25*Q34)+(R25*R34)+(S25*S34)+(T25*T34)+(U25*U34)+(V25*V34)+(W25*W34)+(X25*X34)+(Y25*Y34)+(Z25*Z34)+(AA25*AA34)+(AB25*AB34)+(AC25*AC34)+(AD25*AD34)+(AE25*AE34)+(AF25*AF34)+(AG25*AG34)+(AH25*AH34)+(AI25*AI34)+(AJ25*AJ34))/AK25 -> 4.1052632 | AM25: =((B25*B35)+(C25*C35)+(D25*D35)+(E25*E35)+(F25*F35)+(G25*G35)+(H25*H35)+(I25*I35)+(J25*J35)+(K25*K35)+(L25*L35)+(M25*M35)+(N25*N35)+(O25*O35)+(P25*P35)+(Q25*Q35)+(R25*R35)+(S25*S35)+(T25*T35)+(U25*U35)+(V25*V35)+(W25*W35)+(X25*X35)+(Y25*Y35)+(Z25*Z35)+(AA25*AA35)+(AB25*AB35)+(AC25*AC35)+(AD25*AD35)+(AE25*AE35)+(AF25*AF35)+(AG25*AG35)+(AH25*AH35)+(AI25*AI35)+(AJ25*AJ35))/AK25 -> 3.7208533 | AN25: =((B25*B36)+(C25*C36)+(D25*D36)+(E25*E36)+(F25*F36)+(G25*G36)+(H25*H36)+(I25*I36)+(J25*J36)+(K25*K36)+(L25*L36)+(M25*M36)+(N25*N36)+(O25*O36)+(P25*P36)+(Q25*Q36)+(R25*R36)+(S25*S36)+(T25*T36)+(U25*U36)+(V25*V36)+(W25*W36)+(X25*X36)+(Y25*Y36)+(Z25*Z36)+(AA25*AA36)+(AB25*AB36)+(AC25*AC36)+(AD25*AD36)+(AE25*AE36)+(AF25*AF36)+(AG25*AG36)+(AH25*AH36)+(AI25*AI36)+(AJ25*AJ36))/AK25 -> 3.3186223 | AO25: =((B25*B37)+(C25*C37)+(D25*D37)+(E25*E37)+(F25*F37)+(G25*G37)+(H25*H37)+(I25*I37)+(J25*J37)+(K25*K37)+(L25*L37)+(M25*M37)+(N25*N37)+(O25*O37)+(P25*P37)+(Q25*Q37)+(R25*R37)+(S25*S37)+(T25*T37)+(U25*U37)+(V25*V37)+(W25*W37)+(X25*X37)+(Y25*Y37)+(Z25*Z37)+(AA25*AA37)+(AB25*AB37)+(AC25*AC37)+(AD25*AD37)+(AE25*AE37)+(AF25*AF37)+(AG25*AG37)+(AH25*AH37)+(AI25*AI37)+(AJ25*AJ37))/AK25 -> 2.648781 | AP25: =((B25*B38)+(C25*C38)+(D25*D38)+(E25*E38)+(F25*F38)+(G25*G38)+(H25*H38)+(I25*I38)+(J25*J38)+(K25*K38)+(L25*L38)+(M25*M38)+(N25*N38)+(O25*O38)+(P25*P38)+(Q25*Q38)+(R25*R38)+(S25*S38)+(T25*T38)+(U25*U38)+(V25*V38)+(W25*W38)+(X25*X38)+(Y25*Y38)+(Z25*Z38)+(AA25*AA38)+(AB25*AB38)+(AC25*AC38)+(AD25*AD38)+(AE25*AE38)+(AF25*AF38)+(AG25*AG38)+(AH25*AH38)+(AI25*AI38)+(AJ25*AJ38))/AK25 -> 1.6327865
A26: Security | B26: 0 | C26: 0 | D26: 1 | E26: 1 | F26: 0 | G26: 1 | H26: 0 | I26: 0 | J26: 1 | K26: 1 | L26: 1 | M26: 1 | N26: 1 | O26: 1 | P26: 0 | Q26: 0 | R26: 1 | S26: 1 | T26: 1 | U26: 1 | V26: 1 | W26: 0 | X26: 1 | Y26: 0 | Z26: 0 | AA26: 0 | AB26: 0 | AC26: 1 | AD26: 1 | AE26: 1 | AF26: 1 | AG26: 1 | AH26: 1 | AI26: 1 | AJ26: 0 | AK26: =SUM(B26:AJ26) -> 22 | AL26: =((B26*B34)+(C26*C34)+(D26*D34)+(E26*E34)+(F26*F34)+(G26*G34)+(H26*H34)+(I26*I34)+(J26*J34)+(K26*K34)+(L26*L34)+(M26*M34)+(N26*N34)+(O26*O34)+(P26*P34)+(Q26*Q34)+(R26*R34)+(S26*S34)+(T26*T34)+(U26*U34)+(V26*V34)+(W26*W34)+(X26*X34)+(Y26*Y34)+(Z26*Z34)+(AA26*AA34)+(AB26*AB34)+(AC26*AC34)+(AD26*AD34)+(AE26*AE34)+(AF26*AF34)+(AG26*AG34)+(AH26*AH34)+(AI26*AI34)+(AJ26*AJ34))/AK26 -> 3.9090909 | AM26: =((B26*B35)+(C26*C35)+(D26*D35)+(E26*E35)+(F26*F35)+(G26*G35)+(H26*H35)+(I26*I35)+(J26*J35)+(K26*K35)+(L26*L35)+(M26*M35)+(N26*N35)+(O26*O35)+(P26*P35)+(Q26*Q35)+(R26*R35)+(S26*S35)+(T26*T35)+(U26*U35)+(V26*V35)+(W26*W35)+(X26*X35)+(Y26*Y35)+(Z26*Z35)+(AA26*AA35)+(AB26*AB35)+(AC26*AC35)+(AD26*AD35)+(AE26*AE35)+(AF26*AF35)+(AG26*AG35)+(AH26*AH35)+(AI26*AI35)+(AJ26*AJ35))/AK26 -> 3.2861915 | AN26: =((B26*B36)+(C26*C36)+(D26*D36)+(E26*E36)+(F26*F36)+(G26*G36)+(H26*H36)+(I26*I36)+(J26*J36)+(K26*K36)+(L26*L36)+(M26*M36)+(N26*N36)+(O26*O36)+(P26*P36)+(Q26*Q36)+(R26*R36)+(S26*S36)+(T26*T36)+(U26*U36)+(V26*V36)+(W26*W36)+(X26*X36)+(Y26*Y36)+(Z26*Z36)+(AA26*AA36)+(AB26*AB36)+(AC26*AC36)+(AD26*AD36)+(AE26*AE36)+(AF26*AF36)+(AG26*AG36)+(AH26*AH36)+(AI26*AI36)+(AJ26*AJ36))/AK26 -> 2.8058556 | AO26: =((B26*B37)+(C26*C37)+(D26*D37)+(E26*E37)+(F26*F37)+(G26*G37)+(H26*H37)+(I26*I37)+(J26*J37)+(K26*K37)+(L26*L37)+(M26*M37)+(N26*N37)+(O26*O37)+(P26*P37)+(Q26*Q37)+(R26*R37)+(S26*S37)+(T26*T37)+(U26*U37)+(V26*V37)+(W26*W37)+(X26*X37)+(Y26*Y37)+(Z26*Z37)+(AA26*AA37)+(AB26*AB37)+(AC26*AC37)+(AD26*AD37)+(AE26*AE37)+(AF26*AF37)+(AG26*AG37)+(AH26*AH37)+(AI26*AI37)+(AJ26*AJ37))/AK26 -> 2.3482438 | AP26: =((B26*B38)+(C26*C38)+(D26*D38)+(E26*E38)+(F26*F38)+(G26*G38)+(H26*H38)+(I26*I38)+(J26*J38)+(K26*K38)+(L26*L38)+(M26*M38)+(N26*N38)+(O26*O38)+(P26*P38)+(Q26*Q38)+(R26*R38)+(S26*S38)+(T26*T38)+(U26*U38)+(V26*V38)+(W26*W38)+(X26*X38)+(Y26*Y38)+(Z26*Z38)+(AA26*AA38)+(AB26*AB38)+(AC26*AC38)+(AD26*AD38)+(AE26*AE38)+(AF26*AF38)+(AG26*AG38)+(AH26*AH38)+(AI26*AI38)+(AJ26*AJ38))/AK26 -> 1.4947117
A27: Service | B27: 1 | C27: 0 | D27: 1 | E27: 0 | F27: 1 | G27: 1 | H27: 1 | I27: 1 | J27: 0 | K27: 1 | L27: 1 | M27: 0 | N27: 0 | O27: 0 | P27: 1 | Q27: 1 | R27: 0 | S27: 0 | T27: 1 | U27: 0 | V27: 0 | W27: 1 | X27: 0 | Y27: 1 | Z27: 1 | AA27: 1 | AB27: 1 | AC27: 1 | AD27: 0 | AE27: 1 | AF27: 1 | AG27: 1 | AH27: 0 | AI27: 1 | AJ27: 1 | AK27: =SUM(B27:AJ27) -> 22 | AL27: =((B27*B34)+(C27*C34)+(D27*D34)+(E27*E34)+(F27*F34)+(G27*G34)+(H27*H34)+(I27*I34)+(J27*J34)+(K27*K34)+(L27*L34)+(M27*M34)+(N27*N34)+(O27*O34)+(P27*P34)+(Q27*Q34)+(R27*R34)+(S27*S34)+(T27*T34)+(U27*U34)+(V27*V34)+(W27*W34)+(X27*X34)+(Y27*Y34)+(Z27*Z34)+(AA27*AA34)+(AB27*AB34)+(AC27*AC34)+(AD27*AD34)+(AE27*AE34)+(AF27*AF34)+(AG27*AG34)+(AH27*AH34)+(AI27*AI34)+(AJ27*AJ34))/AK27 -> 3.9545455 | AM27: =((B27*B35)+(C27*C35)+(D27*D35)+(E27*E35)+(F27*F35)+(G27*G35)+(H27*H35)+(I27*I35)+(J27*J35)+(K27*K35)+(L27*L35)+(M27*M35)+(N27*N35)+(O27*O35)+(P27*P35)+(Q27*Q35)+(R27*R35)+(S27*S35)+(T27*T35)+(U27*U35)+(V27*V35)+(W27*W35)+(X27*X35)+(Y27*Y35)+(Z27*Z35)+(AA27*AA35)+(AB27*AB35)+(AC27*AC35)+(AD27*AD35)+(AE27*AE35)+(AF27*AF35)+(AG27*AG35)+(AH27*AH35)+(AI27*AI35)+(AJ27*AJ35))/AK27 -> 3.1965909 | AN27: =((B27*B36)+(C27*C36)+(D27*D36)+(E27*E36)+(F27*F36)+(G27*G36)+(H27*H36)+(I27*I36)+(J27*J36)+(K27*K36)+(L27*L36)+(M27*M36)+(N27*N36)+(O27*O36)+(P27*P36)+(Q27*Q36)+(R27*R36)+(S27*S36)+(T27*T36)+(U27*U36)+(V27*V36)+(W27*W36)+(X27*X36)+(Y27*Y36)+(Z27*Z36)+(AA27*AA36)+(AB27*AB36)+(AC27*AC36)+(AD27*AD36)+(AE27*AE36)+(AF27*AF36)+(AG27*AG36)+(AH27*AH36)+(AI27*AI36)+(AJ27*AJ36))/AK27 -> 3.0001263 | AO27: =((B27*B37)+(C27*C37)+(D27*D37)+(E27*E37)+(F27*F37)+(G27*G37)+(H27*H37)+(I27*I37)+(J27*J37)+(K27*K37)+(L27*L37)+(M27*M37)+(N27*N37)+(O27*O37)+(P27*P37)+(Q27*Q37)+(R27*R37)+(S27*S37)+(T27*T37)+(U27*U37)+(V27*V37)+(W27*W37)+(X27*X37)+(Y27*Y37)+(Z27*Z37)+(AA27*AA37)+(AB27*AB37)+(AC27*AC37)+(AD27*AD37)+(AE27*AE37)+(AF27*AF37)+(AG27*AG37)+(AH27*AH37)+(AI27*AI37)+(AJ27*AJ37))/AK27 -> 1.9007035 | AP27: =((B27*B38)+(C27*C38)+(D27*D38)+(E27*E38)+(F27*F38)+(G27*G38)+(H27*H38)+(I27*I38)+(J27*J38)+(K27*K38)+(L27*L38)+(M27*M38)+(N27*N38)+(O27*O38)+(P27*P38)+(Q27*Q38)+(R27*R38)+(S27*S38)+(T27*T38)+(U27*U38)+(V27*V38)+(W27*W38)+(X27*X38)+(Y27*Y38)+(Z27*Z38)+(AA27*AA38)+(AB27*AB38)+(AC27*AC38)+(AD27*AD38)+(AE27*AE38)+(AF27*AF38)+(AG27*AG38)+(AH27*AH38)+(AI27*AI38)+(AJ27*AJ38))/AK27 -> 0.9116342
A28: Impact Index (Ii) | B28: 3 | C28: 5 | D28: 4 | E28: 4 | F28: 5 | G28: 3 | H28: 3 | I28: 3 | J28: 5 | K28: 5 | L28: 5 | M28: 4 | N28: 3 | O28: 5 | P28: 4 | Q28: 4 | R28: 4 | S28: 3 | T28: 5 | U28: 3 | V28: 3 | W28: 4 | X28: 4 | Y28: 3 | Z28: 5 | AA28: 5 | AB28: 4 | AC28: 4 | AD28: 4 | AE28: 3 | AF28: 3 | AG28: 4 | AH28: 4 | AI28: 4 | AJ28: 4
A29: αi for CSC Type 1 (CSC1) | B29: =((B2*AL2)+(B3*AL3)+(B4*AL4)+(B5*AL5)+(B6*AL6)+(B7*AL7)+(B8*AL8)+(B9*AL9)+(B10*AL10)+(B11*AL11)+(B12*AL12)+(B13*AL13)+(B14*AL14)+(B15*AL15)+(B16*AL16)+(B17*AL17)+(B18*AL18)+(B19*AL19)+(B20*AL20)+(B21*AL21)+(B22*AL22)+(B23*AL23)+(B24*AL24))/SUM(B2:B24) -> 1 | C29: =((C2*AL2)+(C3*AL3)+(C4*AL4)+(C5*AL5)+(C6*AL6)+(C7*AL7)+(C8*AL8)+(C9*AL9)+(C10*AL10)+(C11*AL11)+(C12*AL12)+(C13*AL13)+(C14*AL14)+(C15*AL15)+(C16*AL16)+(C17*AL17)+(C18*AL18)+(C19*AL19)+(C20*AL20)+(C21*AL21)+(C22*AL22)+(C23*AL23)+(C24*AL24))/SUM(C2:C24) -> 1 | D29: =((D2*AL2)+(D3*AL3)+(D4*AL4)+(D5*AL5)+(D6*AL6)+(D7*AL7)+(D8*AL8)+(D9*AL9)+(D10*AL10)+(D11*AL11)+(D12*AL12)+(D13*AL13)+(D14*AL14)+(D15*AL15)+(D16*AL16)+(D17*AL17)+(D18*AL18)+(D19*AL19)+(D20*AL20)+(D21*AL21)+(D22*AL22)+(D23*AL23)+(D24*AL24))/SUM(D2:D24) -> 1 | E29: =((E2*AL2)+(E3*AL3)+(E4*AL4)+(E5*AL5)+(E6*AL6)+(E7*AL7)+(E8*AL8)+(E9*AL9)+(E10*AL10)+(E11*AL11)+(E12*AL12)+(E13*AL13)+(E14*AL14)+(E15*AL15)+(E16*AL16)+(E17*AL17)+(E18*AL18)+(E19*AL19)+(E20*AL20)+(E21*AL21)+(E22*AL22)+(E23*AL23)+(E24*AL24))/SUM(E2:E24) -> 1 | F29: =((F2*AL2)+(F3*AL3)+(F4*AL4)+(F5*AL5)+(F6*AL6)+(F7*AL7)+(F8*AL8)+(F9*AL9)+(F10*AL10)+(F11*AL11)+(F12*AL12)+(F13*AL13)+(F14*AL14)+(F15*AL15)+(F16*AL16)+(F17*AL17)+(F18*AL18)+(F19*AL19)+(F20*AL20)+(F21*AL21)+(F22*AL22)+(F23*AL23)+(F24*AL24))/SUM(F2:F24) -> 1 | G29: =((G2*AL2)+(G3*AL3)+(G4*AL4)+(G5*AL5)+(G6*AL6)+(G7*AL7)+(G8*AL8)+(G9*AL9)+(G10*AL10)+(G11*AL11)+(G12*AL12)+(G13*AL13)+(G14*AL14)+(G15*AL15)+(G16*AL16)+(G17*AL17)+(G18*AL18)+(G19*AL19)+(G20*AL20)+(G21*AL21)+(G22*AL22)+(G23*AL23)+(G24*AL24))/SUM(G2:G24) -> 1 | H29: =((H2*AL2)+(H3*AL3)+(H4*AL4)+(H5*AL5)+(H6*AL6)+(H7*AL7)+(H8*AL8)+(H9*AL9)+(H10*AL10)+(H11*AL11)+(H12*AL12)+(H13*AL13)+(H14*AL14)+(H15*AL15)+(H16*AL16)+(H17*AL17)+(H18*AL18)+(H19*AL19)+(H20*AL20)+(H21*AL21)+(H22*AL22)+(H23*AL23)+(H24*AL24))/SUM(H2:H24) -> 1 | I29: =((I2*AL2)+(I3*AL3)+(I4*AL4)+(I5*AL5)+(I6*AL6)+(I7*AL7)+(I8*AL8)+(I9*AL9)+(I10*AL10)+(I11*AL11)+(I12*AL12)+(I13*AL13)+(I14*AL14)+(I15*AL15)+(I16*AL16)+(I17*AL17)+(I18*AL18)+(I19*AL19)+(I20*AL20)+(I21*AL21)+(I22*AL22)+(I23*AL23)+(I24*AL24))/SUM(I2:I24) -> 1 | J29: =((J2*AL2)+(J3*AL3)+(J4*AL4)+(J5*AL5)+(J6*AL6)+(J7*AL7)+(J8*AL8)+(J9*AL9)+(J10*AL10)+(J11*AL11)+(J12*AL12)+(J13*AL13)+(J14*AL14)+(J15*AL15)+(J16*AL16)+(J17*AL17)+(J18*AL18)+(J19*AL19)+(J20*AL20)+(J21*AL21)+(J22*AL22)+(J23*AL23)+(J24*AL24))/SUM(J2:J24) -> 1 | K29: =((K2*AL2)+(K3*AL3)+(K4*AL4)+(K5*AL5)+(K6*AL6)+(K7*AL7)+(K8*AL8)+(K9*AL9)+(K10*AL10)+(K11*AL11)+(K12*AL12)+(K13*AL13)+(K14*AL14)+(K15*AL15)+(K16*AL16)+(K17*AL17)+(K18*AL18)+(K19*AL19)+(K20*AL20)+(K21*AL21)+(K22*AL22)+(K23*AL23)+(K24*AL24))/SUM(K2:K24) -> 1 | L29: =((L2*AL2)+(L3*AL3)+(L4*AL4)+(L5*AL5)+(L6*AL6)+(L7*AL7)+(L8*AL8)+(L9*AL9)+(L10*AL10)+(L11*AL11)+(L12*AL12)+(L13*AL13)+(L14*AL14)+(L15*AL15)+(L16*AL16)+(L17*AL17)+(L18*AL18)+(L19*AL19)+(L20*AL20)+(L21*AL21)+(L22*AL22)+(L23*AL23)+(L24*AL24))/SUM(L2:L24) -> 1 | M29: =((M2*AL2)+(M3*AL3)+(M4*AL4)+(M5*AL5)+(M6*AL6)+(M7*AL7)+(M8*AL8)+(M9*AL9)+(M10*AL10)+(M11*AL11)+(M12*AL12)+(M13*AL13)+(M14*AL14)+(M15*AL15)+(M16*AL16)+(M17*AL17)+(M18*AL18)+(M19*AL19)+(M20*AL20)+(M21*AL21)+(M22*AL22)+(M23*AL23)+(M24*AL24))/SUM(M2:M24) -> 1 | N29: =((N2*AL2)+(N3*AL3)+(N4*AL4)+(N5*AL5)+(N6*AL6)+(N7*AL7)+(N8*AL8)+(N9*AL9)+(N10*AL10)+(N11*AL11)+(N12*AL12)+(N13*AL13)+(N14*AL14)+(N15*AL15)+(N16*AL16)+(N17*AL17)+(N18*AL18)+(N19*AL19)+(N20*AL20)+(N21*AL21)+(N22*AL22)+(N23*AL23)+(N24*AL24))/SUM(N2:N24) -> 1 | O29: =((O2*AL2)+(O3*AL3)+(O4*AL4)+(O5*AL5)+(O6*AL6)+(O7*AL7)+(O8*AL8)+(O9*AL9)+(O10*AL10)+(O11*AL11)+(O12*AL12)+(O13*AL13)+(O14*AL14)+(O15*AL15)+(O16*AL16)+(O17*AL17)+(O18*AL18)+(O19*AL19)+(O20*AL20)+(O21*AL21)+(O22*AL22)+(O23*AL23)+(O24*AL24))/SUM(O2:O24) -> 1 | P29: =((P2*AL2)+(P3*AL3)+(P4*AL4)+(P5*AL5)+(P6*AL6)+(P7*AL7)+(P8*AL8)+(P9*AL9)+(P10*AL10)+(P11*AL11)+(P12*AL12)+(P13*AL13)+(P14*AL14)+(P15*AL15)+(P16*AL16)+(P17*AL17)+(P18*AL18)+(P19*AL19)+(P20*AL20)+(P21*AL21)+(P22*AL22)+(P23*AL23)+(P24*AL24))/SUM(P2:P24) -> 1 | Q29: =((Q2*AL2)+(Q3*AL3)+(Q4*AL4)+(Q5*AL5)+(Q6*AL6)+(Q7*AL7)+(Q8*AL8)+(Q9*AL9)+(Q10*AL10)+(Q11*AL11)+(Q12*AL12)+(Q13*AL13)+(Q14*AL14)+(Q15*AL15)+(Q16*AL16)+(Q17*AL17)+(Q18*AL18)+(Q19*AL19)+(Q20*AL20)+(Q21*AL21)+(Q22*AL22)+(Q23*AL23)+(Q24*AL24))/SUM(Q2:Q24) -> 1 | R29: =((R2*AL2)+(R3*AL3)+(R4*AL4)+(R5*AL5)+(R6*AL6)+(R7*AL7)+(R8*AL8)+(R9*AL9)+(R10*AL10)+(R11*AL11)+(R12*AL12)+(R13*AL13)+(R14*AL14)+(R15*AL15)+(R16*AL16)+(R17*AL17)+(R18*AL18)+(R19*AL19)+(R20*AL20)+(R21*AL21)+(R22*AL22)+(R23*AL23)+(R24*AL24))/SUM(R2:R24) -> 1 | S29: =((S2*AL2)+(S3*AL3)+(S4*AL4)+(S5*AL5)+(S6*AL6)+(S7*AL7)+(S8*AL8)+(S9*AL9)+(S10*AL10)+(S11*AL11)+(S12*AL12)+(S13*AL13)+(S14*AL14)+(S15*AL15)+(S16*AL16)+(S17*AL17)+(S18*AL18)+(S19*AL19)+(S20*AL20)+(S21*AL21)+(S22*AL22)+(S23*AL23)+(S24*AL24))/SUM(S2:S24) -> 1 | T29: =((T2*AL2)+(T3*AL3)+(T4*AL4)+(T5*AL5)+(T6*AL6)+(T7*AL7)+(T8*AL8)+(T9*AL9)+(T10*AL10)+(T11*AL11)+(T12*AL12)+(T13*AL13)+(T14*AL14)+(T15*AL15)+(T16*AL16)+(T17*AL17)+(T18*AL18)+(T19*AL19)+(T20*AL20)+(T21*AL21)+(T22*AL22)+(T23*AL23)+(T24*AL24))/SUM(T2:T24) -> 1 | U29: =((U2*AL2)+(U3*AL3)+(U4*AL4)+(U5*AL5)+(U6*AL6)+(U7*AL7)+(U8*AL8)+(U9*AL9)+(U10*AL10)+(U11*AL11)+(U12*AL12)+(U13*AL13)+(U14*AL14)+(U15*AL15)+(U16*AL16)+(U17*AL17)+(U18*AL18)+(U19*AL19)+(U20*AL20)+(U21*AL21)+(U22*AL22)+(U23*AL23)+(U24*AL24))/SUM(U2:U24) -> 1 | V29: =((V2*AL2)+(V3*AL3)+(V4*AL4)+(V5*AL5)+(V6*AL6)+(V7*AL7)+(V8*AL8)+(V9*AL9)+(V10*AL10)+(V11*AL11)+(V12*AL12)+(V13*AL13)+(V14*AL14)+(V15*AL15)+(V16*AL16)+(V17*AL17)+(V18*AL18)+(V19*AL19)+(V20*AL20)+(V21*AL21)+(V22*AL22)+(V23*AL23)+(V24*AL24))/SUM(V2:V24) -> 1 | W29: =((W2*AL2)+(W3*AL3)+(W4*AL4)+(W5*AL5)+(W6*AL6)+(W7*AL7)+(W8*AL8)+(W9*AL9)+(W10*AL10)+(W11*AL11)+(W12*AL12)+(W13*AL13)+(W14*AL14)+(W15*AL15)+(W16*AL16)+(W17*AL17)+(W18*AL18)+(W19*AL19)+(W20*AL20)+(W21*AL21)+(W22*AL22)+(W23*AL23)+(W24*AL24))/SUM(W2:W24) -> 1 | X29: =((X2*AL2)+(X3*AL3)+(X4*AL4)+(X5*AL5)+(X6*AL6)+(X7*AL7)+(X8*AL8)+(X9*AL9)+(X10*AL10)+(X11*AL11)+(X12*AL12)+(X13*AL13)+(X14*AL14)+(X15*AL15)+(X16*AL16)+(X17*AL17)+(X18*AL18)+(X19*AL19)+(X20*AL20)+(X21*AL21)+(X22*AL22)+(X23*AL23)+(X24*AL24))/SUM(X2:X24) -> 1 | Y29: =((Y2*AL2)+(Y3*AL3)+(Y4*AL4)+(Y5*AL5)+(Y6*AL6)+(Y7*AL7)+(Y8*AL8)+(Y9*AL9)+(Y10*AL10)+(Y11*AL11)+(Y12*AL12)+(Y13*AL13)+(Y14*AL14)+(Y15*AL15)+(Y16*AL16)+(Y17*AL17)+(Y18*AL18)+(Y19*AL19)+(Y20*AL20)+(Y21*AL21)+(Y22*AL22)+(Y23*AL23)+(Y24*AL24))/SUM(Y2:Y24) -> 1 | Z29: =((Z2*AL2)+(Z3*AL3)+(Z4*AL4)+(Z5*AL5)+(Z6*AL6)+(Z7*AL7)+(Z8*AL8)+(Z9*AL9)+(Z10*AL10)+(Z11*AL11)+(Z12*AL12)+(Z13*AL13)+(Z14*AL14)+(Z15*AL15)+(Z16*AL16)+(Z17*AL17)+(Z18*AL18)+(Z19*AL19)+(Z20*AL20)+(Z21*AL21)+(Z22*AL22)+(Z23*AL23)+(Z24*AL24))/SUM(Z2:Z24) -> 1 | AA29: =((AA2*AL2)+(AA3*AL3)+(AA4*AL4)+(AA5*AL5)+(AA6*AL6)+(AA7*AL7)+(AA8*AL8)+(AA9*AL9)+(AA10*AL10)+(AA11*AL11)+(AA12*AL12)+(AA13*AL13)+(AA14*AL14)+(AA15*AL15)+(AA16*AL16)+(AA17*AL17)+(AA18*AL18)+(AA19*AL19)+(AA20*AL20)+(AA21*AL21)+(AA22*AL22)+(AA23*AL23)+(AA24*AL24))/SUM(AA2:AA24) -> 1 | AB29: =((AB2*AL2)+(AB3*AL3)+(AB4*AL4)+(AB5*AL5)+(AB6*AL6)+(AB7*AL7)+(AB8*AL8)+(AB9*AL9)+(AB10*AL10)+(AB11*AL11)+(AB12*AL12)+(AB13*AL13)+(AB14*AL14)+(AB15*AL15)+(AB16*AL16)+(AB17*AL17)+(AB18*AL18)+(AB19*AL19)+(AB20*AL20)+(AB21*AL21)+(AB22*AL22)+(AB23*AL23)+(AB24*AL24))/SUM(AB2:AB24) -> 1 | AC29: =((AC2*AL2)+(AC3*AL3)+(AC4*AL4)+(AC5*AL5)+(AC6*AL6)+(AC7*AL7)+(AC8*AL8)+(AC9*AL9)+(AC10*AL10)+(AC11*AL11)+(AC12*AL12)+(AC13*AL13)+(AC14*AL14)+(AC15*AL15)+(AC16*AL16)+(AC17*AL17)+(AC18*AL18)+(AC19*AL19)+(AC20*AL20)+(AC21*AL21)+(AC22*AL22)+(AC23*AL23)+(AC24*AL24))/SUM(AC2:AC24) -> 1 | AD29: =((AD2*AL2)+(AD3*AL3)+(AD4*AL4)+(AD5*AL5)+(AD6*AL6)+(AD7*AL7)+(AD8*AL8)+(AD9*AL9)+(AD10*AL10)+(AD11*AL11)+(AD12*AL12)+(AD13*AL13)+(AD14*AL14)+(AD15*AL15)+(AD16*AL16)+(AD17*AL17)+(AD18*AL18)+(AD19*AL19)+(AD20*AL20)+(AD21*AL21)+(AD22*AL22)+(AD23*AL23)+(AD24*AL24))/SUM(AD2:AD24) -> 1 | AE29: =((AE2*AL2)+(AE3*AL3)+(AE4*AL4)+(AE5*AL5)+(AE6*AL6)+(AE7*AL7)+(AE8*AL8)+(AE9*AL9)+(AE10*AL10)+(AE11*AL11)+(AE12*AL12)+(AE13*AL13)+(AE14*AL14)+(AE15*AL15)+(AE16*AL16)+(AE17*AL17)+(AE18*AL18)+(AE19*AL19)+(AE20*AL20)+(AE21*AL21)+(AE22*AL22)+(AE23*AL23)+(AE24*AL24))/SUM(AE2:AE24) -> 1 | AF29: =((AF2*AL2)+(AF3*AL3)+(AF4*AL4)+(AF5*AL5)+(AF6*AL6)+(AF7*AL7)+(AF8*AL8)+(AF9*AL9)+(AF10*AL10)+(AF11*AL11)+(AF12*AL12)+(AF13*AL13)+(AF14*AL14)+(AF15*AL15)+(AF16*AL16)+(AF17*AL17)+(AF18*AL18)+(AF19*AL19)+(AF20*AL20)+(AF21*AL21)+(AF22*AL22)+(AF23*AL23)+(AF24*AL24))/SUM(AF2:AF24) -> 1 | AG29: =((AG2*AL2)+(AG3*AL3)+(AG4*AL4)+(AG5*AL5)+(AG6*AL6)+(AG7*AL7)+(AG8*AL8)+(AG9*AL9)+(AG10*AL10)+(AG11*AL11)+(AG12*AL12)+(AG13*AL13)+(AG14*AL14)+(AG15*AL15)+(AG16*AL16)+(AG17*AL17)+(AG18*AL18)+(AG19*AL19)+(AG20*AL20)+(AG21*AL21)+(AG22*AL22)+(AG23*AL23)+(AG24*AL24))/SUM(AG2:AG24) -> 1 | AH29: =((AH2*AL2)+(AH3*AL3)+(AH4*AL4)+(AH5*AL5)+(AH6*AL6)+(AH7*AL7)+(AH8*AL8)+(AH9*AL9)+(AH10*AL10)+(AH11*AL11)+(AH12*AL12)+(AH13*AL13)+(AH14*AL14)+(AH15*AL15)+(AH16*AL16)+(AH17*AL17)+(AH18*AL18)+(AH19*AL19)+(AH20*AL20)+(AH21*AL21)+(AH22*AL22)+(AH23*AL23)+(AH24*AL24))/SUM(AH2:AH24) -> 1 | AI29: =((AI2*AL2)+(AI3*AL3)+(AI4*AL4)+(AI5*AL5)+(AI6*AL6)+(AI7*AL7)+(AI8*AL8)+(AI9*AL9)+(AI10*AL10)+(AI11*AL11)+(AI12*AL12)+(AI13*AL13)+(AI14*AL14)+(AI15*AL15)+(AI16*AL16)+(AI17*AL17)+(AI18*AL18)+(AI19*AL19)+(AI20*AL20)+(AI21*AL21)+(AI22*AL22)+(AI23*AL23)+(AI24*AL24))/SUM(AI2:AI24) -> 1 | AJ29: =((AJ2*AL2)+(AJ3*AL3)+(AJ4*AL4)+(AJ5*AL5)+(AJ6*AL6)+(AJ7*AL7)+(AJ8*AL8)+(AJ9*AL9)+(AJ10*AL10)+(AJ11*AL11)+(AJ12*AL12)+(AJ13*AL13)+(AJ14*AL14)+(AJ15*AL15)+(AJ16*AL16)+(AJ17*AL17)+(AJ18*AL18)+(AJ19*AL19)+(AJ20*AL20)+(AJ21*AL21)+(AJ22*AL22)+(AJ23*AL23)+(AJ24*AL24))/SUM(AJ2:AJ24) -> 1 | AL29: No effect
A30: αi for CSC Type 2 (CSC2) | B30: =((B2*AM2)+(B3*AM3)+(B4*AM4)+(B5*AM5)+(B6*AM6)+(B7*AM7)+(B8*AM8)+(B9*AM9)+(B10*AM10)+(B11*AM11)+(B12*AM12)+(B13*AM13)+(B14*AM14)+(B15*AM15)+(B16*AM16)+(B17*AM17)+(B18*AM18)+(B19*AM19)+(B20*AM20)+(B21*AM21)+(B22*AM22)+(B23*AM23)+(B24*AM24))/SUM(B2:B24) -> 1 | C30: =((C2*AM2)+(C3*AM3)+(C4*AM4)+(C5*AM5)+(C6*AM6)+(C7*AM7)+(C8*AM8)+(C9*AM9)+(C10*AM10)+(C11*AM11)+(C12*AM12)+(C13*AM13)+(C14*AM14)+(C15*AM15)+(C16*AM16)+(C17*AM17)+(C18*AM18)+(C19*AM19)+(C20*AM20)+(C21*AM21)+(C22*AM22)+(C23*AM23)+(C24*AM24))/SUM(C2:C24) -> 1 | D30: =((D2*AM2)+(D3*AM3)+(D4*AM4)+(D5*AM5)+(D6*AM6)+(D7*AM7)+(D8*AM8)+(D9*AM9)+(D10*AM10)+(D11*AM11)+(D12*AM12)+(D13*AM13)+(D14*AM14)+(D15*AM15)+(D16*AM16)+(D17*AM17)+(D18*AM18)+(D19*AM19)+(D20*AM20)+(D21*AM21)+(D22*AM22)+(D23*AM23)+(D24*AM24))/SUM(D2:D24) -> 0 | E30: =((E3*AM3)+(E4*AM4)+(E5*AM5)+(E6*AM6)+(E7*AM7)+(E8*AM8)+(E9*AM9)+(E10*AM10)+(E11*AM11)+(E12*AM12)+(E13*AM13)+(E14*AM14)+(E15*AM15)+(E16*AM16)+(E17*AM17)+(E18*AM18)+(E19*AM19)+(E20*AM20)+(E21*AM21)+(E22*AM22)+(E23*AM23)+(E24*AM24)+(E2*AM2))/SUM(E2:E24) -> 1 | F30: =((F3*AM3)+(F4*AM4)+(F5*AM5)+(F6*AM6)+(F7*AM7)+(F8*AM8)+(F9*AM9)+(F10*AM10)+(F11*AM11)+(F12*AM12)+(F13*AM13)+(F14*AM14)+(F15*AM15)+(F16*AM16)+(F17*AM17)+(F18*AM18)+(F19*AM19)+(F20*AM20)+(F21*AM21)+(F22*AM22)+(F23*AM23)+(F24*AM24)+(F2*AM2))/SUM(F2:F24) -> 1 | G30: =((G3*AM3)+(G4*AM4)+(G5*AM5)+(G6*AM6)+(G7*AM7)+(G8*AM8)+(G9*AM9)+(G10*AM10)+(G11*AM11)+(G12*AM12)+(G13*AM13)+(G14*AM14)+(G15*AM15)+(G16*AM16)+(G17*AM17)+(G18*AM18)+(G19*AM19)+(G20*AM20)+(G21*AM21)+(G22*AM22)+(G23*AM23)+(G24*AM24)+(G2*AM2))/SUM(G2:G24) -> 1 | H30: =((H3*AM3)+(H4*AM4)+(H5*AM5)+(H6*AM6)+(H7*AM7)+(H8*AM8)+(H9*AM9)+(H10*AM10)+(H11*AM11)+(H12*AM12)+(H13*AM13)+(H14*AM14)+(H15*AM15)+(H16*AM16)+(H17*AM17)+(H18*AM18)+(H19*AM19)+(H20*AM20)+(H21*AM21)+(H22*AM22)+(H23*AM23)+(H24*AM24)+(H2*AM2))/SUM(H2:H24) -> 1 | I30: =((I3*AM3)+(I4*AM4)+(I5*AM5)+(I6*AM6)+(I7*AM7)+(I8*AM8)+(I9*AM9)+(I10*AM10)+(I11*AM11)+(I12*AM12)+(I13*AM13)+(I14*AM14)+(I15*AM15)+(I16*AM16)+(I17*AM17)+(I18*AM18)+(I19*AM19)+(I20*AM20)+(I21*AM21)+(I22*AM22)+(I23*AM23)+(I24*AM24)+(I2*AM2))/SUM(I2:I24) -> 0.75 | J30: =((J3*AM3)+(J4*AM4)+(J5*AM5)+(J6*AM6)+(J7*AM7)+(J8*AM8)+(J9*AM9)+(J10*AM10)+(J11*AM11)+(J12*AM12)+(J13*AM13)+(J14*AM14)+(J15*AM15)+(J16*AM16)+(J17*AM17)+(J18*AM18)+(J19*AM19)+(J20*AM20)+(J21*AM21)+(J22*AM22)+(J23*AM23)+(J24*AM24)+(J2*AM2))/SUM(J2:J24) -> 1 | K30: =((K3*AM3)+(K4*AM4)+(K5*AM5)+(K6*AM6)+(K7*AM7)+(K8*AM8)+(K9*AM9)+(K10*AM10)+(K11*AM11)+(K12*AM12)+(K13*AM13)+(K14*AM14)+(K15*AM15)+(K16*AM16)+(K17*AM17)+(K18*AM18)+(K19*AM19)+(K20*AM20)+(K21*AM21)+(K22*AM22)+(K23*AM23)+(K24*AM24)+(K2*AM2))/SUM(K2:K24) -> 1 | L30: =((L3*AM3)+(L4*AM4)+(L5*AM5)+(L6*AM6)+(L7*AM7)+(L8*AM8)+(L9*AM9)+(L10*AM10)+(L11*AM11)+(L12*AM12)+(L13*AM13)+(L14*AM14)+(L15*AM15)+(L16*AM16)+(L17*AM17)+(L18*AM18)+(L19*AM19)+(L20*AM20)+(L21*AM21)+(L22*AM22)+(L23*AM23)+(L24*AM24)+(L2*AM2))/SUM(L2:L24) -> 0.875 | M30: =((M3*AM3)+(M4*AM4)+(M5*AM5)+(M6*AM6)+(M7*AM7)+(M8*AM8)+(M9*AM9)+(M10*AM10)+(M11*AM11)+(M12*AM12)+(M13*AM13)+(M14*AM14)+(M15*AM15)+(M16*AM16)+(M17*AM17)+(M18*AM18)+(M19*AM19)+(M20*AM20)+(M21*AM21)+(M22*AM22)+(M23*AM23)+(M24*AM24)+(M2*AM2))/SUM(M2:M24) -> 1 | N30: =((N3*AM3)+(N4*AM4)+(N5*AM5)+(N6*AM6)+(N7*AM7)+(N8*AM8)+(N9*AM9)+(N10*AM10)+(N11*AM11)+(N12*AM12)+(N13*AM13)+(N14*AM14)+(N15*AM15)+(N16*AM16)+(N17*AM17)+(N18*AM18)+(N19*AM19)+(N20*AM20)+(N21*AM21)+(N22*AM22)+(N23*AM23)+(N24*AM24)+(N2*AM2))/SUM(N2:N24) -> 0.81818182 | O30: =((O3*AM3)+(O4*AM4)+(O5*AM5)+(O6*AM6)+(O7*AM7)+(O8*AM8)+(O9*AM9)+(O10*AM10)+(O11*AM11)+(O12*AM12)+(O13*AM13)+(O14*AM14)+(O15*AM15)+(O16*AM16)+(O17*AM17)+(O18*AM18)+(O19*AM19)+(O20*AM20)+(O21*AM21)+(O22*AM22)+(O23*AM23)+(O24*AM24)+(O2*AM2))/SUM(O2:O24) -> 1 | P30: =((P3*AM3)+(P4*AM4)+(P5*AM5)+(P6*AM6)+(P7*AM7)+(P8*AM8)+(P9*AM9)+(P10*AM10)+(P11*AM11)+(P12*AM12)+(P13*AM13)+(P14*AM14)+(P15*AM15)+(P16*AM16)+(P17*AM17)+(P18*AM18)+(P19*AM19)+(P20*AM20)+(P21*AM21)+(P22*AM22)+(P23*AM23)+(P24*AM24)+(P2*AM2))/SUM(P2:P24) -> 0.66666667 | Q30: =((Q3*AM3)+(Q4*AM4)+(Q5*AM5)+(Q6*AM6)+(Q7*AM7)+(Q8*AM8)+(Q9*AM9)+(Q10*AM10)+(Q11*AM11)+(Q12*AM12)+(Q13*AM13)+(Q14*AM14)+(Q15*AM15)+(Q16*AM16)+(Q17*AM17)+(Q18*AM18)+(Q19*AM19)+(Q20*AM20)+(Q21*AM21)+(Q22*AM22)+(Q23*AM23)+(Q24*AM24)+(Q2*AM2))/SUM(Q2:Q24) -> 1 | R30: =((R3*AM3)+(R4*AM4)+(R5*AM5)+(R6*AM6)+(R7*AM7)+(R8*AM8)+(R9*AM9)+(R10*AM10)+(R11*AM11)+(R12*AM12)+(R13*AM13)+(R14*AM14)+(R15*AM15)+(R16*AM16)+(R17*AM17)+(R18*AM18)+(R19*AM19)+(R20*AM20)+(R21*AM21)+(R22*AM22)+(R23*AM23)+(R24*AM24)+(R2*AM2))/SUM(R2:R24) -> 1 | S30: =((S3*AM3)+(S4*AM4)+(S5*AM5)+(S6*AM6)+(S7*AM7)+(S8*AM8)+(S9*AM9)+(S10*AM10)+(S11*AM11)+(S12*AM12)+(S13*AM13)+(S14*AM14)+(S15*AM15)+(S16*AM16)+(S17*AM17)+(S18*AM18)+(S19*AM19)+(S20*AM20)+(S21*AM21)+(S22*AM22)+(S23*AM23)+(S24*AM24)+(S2*AM2))/SUM(S2:S24) -> 1 | T30: =((T3*AM3)+(T4*AM4)+(T5*AM5)+(T6*AM6)+(T7*AM7)+(T8*AM8)+(T9*AM9)+(T10*AM10)+(T11*AM11)+(T12*AM12)+(T13*AM13)+(T14*AM14)+(T15*AM15)+(T16*AM16)+(T17*AM17)+(T18*AM18)+(T19*AM19)+(T20*AM20)+(T21*AM21)+(T22*AM22)+(T23*AM23)+(T24*AM24)+(T2*AM2))/SUM(T2:T24) -> 1 | U30: =((U3*AM3)+(U4*AM4)+(U5*AM5)+(U6*AM6)+(U7*AM7)+(U8*AM8)+(U9*AM9)+(U10*AM10)+(U11*AM11)+(U12*AM12)+(U13*AM13)+(U14*AM14)+(U15*AM15)+(U16*AM16)+(U17*AM17)+(U18*AM18)+(U19*AM19)+(U20*AM20)+(U21*AM21)+(U22*AM22)+(U23*AM23)+(U24*AM24)+(U2*AM2))/SUM(U2:U24) -> 1 | V30: =((V3*AM3)+(V4*AM4)+(V5*AM5)+(V6*AM6)+(V7*AM7)+(V8*AM8)+(V9*AM9)+(V10*AM10)+(V11*AM11)+(V12*AM12)+(V13*AM13)+(V14*AM14)+(V15*AM15)+(V16*AM16)+(V17*AM17)+(V18*AM18)+(V19*AM19)+(V20*AM20)+(V21*AM21)+(V22*AM22)+(V23*AM23)+(V24*AM24)+(V2*AM2))/SUM(V2:V24) -> 1 | W30: =((W3*AM3)+(W4*AM4)+(W5*AM5)+(W6*AM6)+(W7*AM7)+(W8*AM8)+(W9*AM9)+(W10*AM10)+(W11*AM11)+(W12*AM12)+(W13*AM13)+(W14*AM14)+(W15*AM15)+(W16*AM16)+(W17*AM17)+(W18*AM18)+(W19*AM19)+(W20*AM20)+(W21*AM21)+(W22*AM22)+(W23*AM23)+(W24*AM24)+(W2*AM2))/SUM(W2:W24) -> 1 | X30: =((X3*AM3)+(X4*AM4)+(X5*AM5)+(X6*AM6)+(X7*AM7)+(X8*AM8)+(X9*AM9)+(X10*AM10)+(X11*AM11)+(X12*AM12)+(X13*AM13)+(X14*AM14)+(X15*AM15)+(X16*AM16)+(X17*AM17)+(X18*AM18)+(X19*AM19)+(X20*AM20)+(X21*AM21)+(X22*AM22)+(X23*AM23)+(X24*AM24)+(X2*AM2))/SUM(X2:X24) -> 1 | Y30: =((Y3*AM3)+(Y4*AM4)+(Y5*AM5)+(Y6*AM6)+(Y7*AM7)+(Y8*AM8)+(Y9*AM9)+(Y10*AM10)+(Y11*AM11)+(Y12*AM12)+(Y13*AM13)+(Y14*AM14)+(Y15*AM15)+(Y16*AM16)+(Y17*AM17)+(Y18*AM18)+(Y19*AM19)+(Y20*AM20)+(Y21*AM21)+(Y22*AM22)+(Y23*AM23)+(Y24*AM24)+(Y2*AM2))/SUM(Y2:Y24) -> 0.66666667 | Z30: =((Z3*AM3)+(Z4*AM4)+(Z5*AM5)+(Z6*AM6)+(Z7*AM7)+(Z8*AM8)+(Z9*AM9)+(Z10*AM10)+(Z11*AM11)+(Z12*AM12)+(Z13*AM13)+(Z14*AM14)+(Z15*AM15)+(Z16*AM16)+(Z17*AM17)+(Z18*AM18)+(Z19*AM19)+(Z20*AM20)+(Z21*AM21)+(Z22*AM22)+(Z23*AM23)+(Z24*AM24)+(Z2*AM2))/SUM(Z2:Z24) -> 1 | AA30: =((AA3*AM3)+(AA4*AM4)+(AA5*AM5)+(AA6*AM6)+(AA7*AM7)+(AA8*AM8)+(AA9*AM9)+(AA10*AM10)+(AA11*AM11)+(AA12*AM12)+(AA13*AM13)+(AA14*AM14)+(AA15*AM15)+(AA16*AM16)+(AA17*AM17)+(AA18*AM18)+(AA19*AM19)+(AA20*AM20)+(AA21*AM21)+(AA22*AM22)+(AA23*AM23)+(AA24*AM24)+(AA2*AM2))/SUM(AA2:AA24) -> 0.83333333 | AB30: =((AB3*AM3)+(AB4*AM4)+(AB5*AM5)+(AB6*AM6)+(AB7*AM7)+(AB8*AM8)+(AB9*AM9)+(AB10*AM10)+(AB11*AM11)+(AB12*AM12)+(AB13*AM13)+(AB14*AM14)+(AB15*AM15)+(AB16*AM16)+(AB17*AM17)+(AB18*AM18)+(AB19*AM19)+(AB20*AM20)+(AB21*AM21)+(AB22*AM22)+(AB23*AM23)+(AB24*AM24)+(AB2*AM2))/SUM(AB2:AB24) -> 1 | AC30: =((AC3*AM3)+(AC4*AM4)+(AC5*AM5)+(AC6*AM6)+(AC7*AM7)+(AC8*AM8)+(AC9*AM9)+(AC10*AM10)+(AC11*AM11)+(AC12*AM12)+(AC13*AM13)+(AC14*AM14)+(AC15*AM15)+(AC16*AM16)+(AC17*AM17)+(AC18*AM18)+(AC19*AM19)+(AC20*AM20)+(AC21*AM21)+(AC22*AM22)+(AC23*AM23)+(AC24*AM24)+(AC2*AM2))/SUM(AC2:AC24) -> 0.66666667 | AD30: =((AD3*AM3)+(AD4*AM4)+(AD5*AM5)+(AD6*AM6)+(AD7*AM7)+(AD8*AM8)+(AD9*AM9)+(AD10*AM10)+(AD11*AM11)+(AD12*AM12)+(AD13*AM13)+(AD14*AM14)+(AD15*AM15)+(AD16*AM16)+(AD17*AM17)+(AD18*AM18)+(AD19*AM19)+(AD20*AM20)+(AD21*AM21)+(AD22*AM22)+(AD23*AM23)+(AD24*AM24)+(AD2*AM2))/SUM(AD2:AD24) -> 0.9 | AE30: =((AE3*AM3)+(AE4*AM4)+(AE5*AM5)+(AE6*AM6)+(AE7*AM7)+(AE8*AM8)+(AE9*AM9)+(AE10*AM10)+(AE11*AM11)+(AE12*AM12)+(AE13*AM13)+(AE14*AM14)+(AE15*AM15)+(AE16*AM16)+(AE17*AM17)+(AE18*AM18)+(AE19*AM19)+(AE20*AM20)+(AE21*AM21)+(AE22*AM22)+(AE23*AM23)+(AE24*AM24)+(AE2*AM2))/SUM(AE2:AE24) -> 0 | AF30: =((AF3*AM3)+(AF4*AM4)+(AF5*AM5)+(AF6*AM6)+(AF7*AM7)+(AF8*AM8)+(AF9*AM9)+(AF10*AM10)+(AF11*AM11)+(AF12*AM12)+(AF13*AM13)+(AF14*AM14)+(AF15*AM15)+(AF16*AM16)+(AF17*AM17)+(AF18*AM18)+(AF19*AM19)+(AF20*AM20)+(AF21*AM21)+(AF22*AM22)+(AF23*AM23)+(AF24*AM24)+(AF2*AM2))/SUM(AF2:AF24) -> 0 | AG30: =((AG3*AM3)+(AG4*AM4)+(AG5*AM5)+(AG6*AM6)+(AG7*AM7)+(AG8*AM8)+(AG9*AM9)+(AG10*AM10)+(AG11*AM11)+(AG12*AM12)+(AG13*AM13)+(AG14*AM14)+(AG15*AM15)+(AG16*AM16)+(AG17*AM17)+(AG18*AM18)+(AG19*AM19)+(AG20*AM20)+(AG21*AM21)+(AG22*AM22)+(AG23*AM23)+(AG24*AM24)+(AG2*AM2))/SUM(AG2:AG24) -> 1 | AH30: =((AH3*AM3)+(AH4*AM4)+(AH5*AM5)+(AH6*AM6)+(AH7*AM7)+(AH8*AM8)+(AH9*AM9)+(AH10*AM10)+(AH11*AM11)+(AH12*AM12)+(AH13*AM13)+(AH14*AM14)+(AH15*AM15)+(AH16*AM16)+(AH17*AM17)+(AH18*AM18)+(AH19*AM19)+(AH20*AM20)+(AH21*AM21)+(AH22*AM22)+(AH23*AM23)+(AH24*AM24)+(AH2*AM2))/SUM(AH2:AH24) -> 1 | AI30: =((AI3*AM3)+(AI4*AM4)+(AI5*AM5)+(AI6*AM6)+(AI7*AM7)+(AI8*AM8)+(AI9*AM9)+(AI10*AM10)+(AI11*AM11)+(AI12*AM12)+(AI13*AM13)+(AI14*AM14)+(AI15*AM15)+(AI16*AM16)+(AI17*AM17)+(AI18*AM18)+(AI19*AM19)+(AI20*AM20)+(AI21*AM21)+(AI22*AM22)+(AI23*AM23)+(AI24*AM24)+(AI2*AM2))/SUM(AI2:AI24) -> 0.8 | AJ30: =((AJ3*AM3)+(AJ4*AM4)+(AJ5*AM5)+(AJ6*AM6)+(AJ7*AM7)+(AJ8*AM8)+(AJ9*AM9)+(AJ10*AM10)+(AJ11*AM11)+(AJ12*AM12)+(AJ13*AM13)+(AJ14*AM14)+(AJ15*AM15)+(AJ16*AM16)+(AJ17*AM17)+(AJ18*AM18)+(AJ19*AM19)+(AJ20*AM20)+(AJ21*AM21)+(AJ22*AM22)+(AJ23*AM23)+(AJ24*AM24)+(AJ2*AM2))/SUM(AJ2:AJ24) -> 1 | AL30: minor affect <=10%
A31: αi for CSC Type 3 (CSC3) | B31: =((B2*AN2)+(B3*AN3)+(B4*AN4)+(B5*AN5)+(B6*AN6)+(B7*AN7)+(B8*AN8)+(B9*AN9)+(B10*AN10)+(B11*AN11)+(B12*AN12)+(B13*AN13)+(B14*AN14)+(B15*AN15)+(B16*AN16)+(B17*AN17)+(B18*AN18)+(B19*AN19)+(B20*AN20)+(B21*AN21)+(B22*AN22)+(B23*AN23)+(B24*AN24))/SUM(B2:B24) -> 1 | C31: =((C2*AN2)+(C3*AN3)+(C4*AN4)+(C5*AN5)+(C6*AN6)+(C7*AN7)+(C8*AN8)+(C9*AN9)+(C10*AN10)+(C11*AN11)+(C12*AN12)+(C13*AN13)+(C14*AN14)+(C15*AN15)+(C16*AN16)+(C17*AN17)+(C18*AN18)+(C19*AN19)+(C20*AN20)+(C21*AN21)+(C22*AN22)+(C23*AN23)+(C24*AN24))/SUM(C2:C24) -> 0.875 | D31: =((D2*AN2)+(D3*AN3)+(D4*AN4)+(D5*AN5)+(D6*AN6)+(D7*AN7)+(D8*AN8)+(D9*AN9)+(D10*AN10)+(D11*AN11)+(D12*AN12)+(D13*AN13)+(D14*AN14)+(D15*AN15)+(D16*AN16)+(D17*AN17)+(D18*AN18)+(D19*AN19)+(D20*AN20)+(D21*AN21)+(D22*AN22)+(D23*AN23)+(D24*AN24))/SUM(D2:D24) -> 0 | E31: =((E4*AN4)+(E5*AN5)+(E6*AN6)+(E7*AN7)+(E8*AN8)+(E9*AN9)+(E10*AN10)+(E11*AN11)+(E12*AN12)+(E13*AN13)+(E14*AN14)+(E15*AN15)+(E16*AN16)+(E17*AN17)+(E18*AN18)+(E19*AN19)+(E20*AN20)+(E21*AN21)+(E22*AN22)+(E23*AN23)+(E24*AN24)+(E2*AN2)+(E3*AN3))/SUM(E1:E24) -> 0.6 | F31: =((F4*AN4)+(F5*AN5)+(F6*AN6)+(F7*AN7)+(F8*AN8)+(F9*AN9)+(F10*AN10)+(F11*AN11)+(F12*AN12)+(F13*AN13)+(F14*AN14)+(F15*AN15)+(F16*AN16)+(F17*AN17)+(F18*AN18)+(F19*AN19)+(F20*AN20)+(F21*AN21)+(F22*AN22)+(F23*AN23)+(F24*AN24)+(F2*AN2)+(F3*AN3))/SUM(F2:F24) -> 0.8 | G31: =((G4*AN4)+(G5*AN5)+(G6*AN6)+(G7*AN7)+(G8*AN8)+(G9*AN9)+(G10*AN10)+(G11*AN11)+(G12*AN12)+(G13*AN13)+(G14*AN14)+(G15*AN15)+(G16*AN16)+(G17*AN17)+(G18*AN18)+(G19*AN19)+(G20*AN20)+(G21*AN21)+(G22*AN22)+(G23*AN23)+(G24*AN24)+(G2*AN2)+(G3*AN3))/SUM(G2:G24) -> 0.8 | H31: =((H4*AN4)+(H5*AN5)+(H6*AN6)+(H7*AN7)+(H8*AN8)+(H9*AN9)+(H10*AN10)+(H11*AN11)+(H12*AN12)+(H13*AN13)+(H14*AN14)+(H15*AN15)+(H16*AN16)+(H17*AN17)+(H18*AN18)+(H19*AN19)+(H20*AN20)+(H21*AN21)+(H22*AN22)+(H23*AN23)+(H24*AN24)+(H2*AN2)+(H3*AN3))/SUM(H2:H24) -> 1 | I31: =((I4*AN4)+(I5*AN5)+(I6*AN6)+(I7*AN7)+(I8*AN8)+(I9*AN9)+(I10*AN10)+(I11*AN11)+(I12*AN12)+(I13*AN13)+(I14*AN14)+(I15*AN15)+(I16*AN16)+(I17*AN17)+(I18*AN18)+(I19*AN19)+(I20*AN20)+(I21*AN21)+(I22*AN22)+(I23*AN23)+(I24*AN24)+(I2*AN2)+(I3*AN3))/SUM(I2:I24) -> 0.75 | J31: =((J4*AN4)+(J5*AN5)+(J6*AN6)+(J7*AN7)+(J8*AN8)+(J9*AN9)+(J10*AN10)+(J11*AN11)+(J12*AN12)+(J13*AN13)+(J14*AN14)+(J15*AN15)+(J16*AN16)+(J17*AN17)+(J18*AN18)+(J19*AN19)+(J20*AN20)+(J21*AN21)+(J22*AN22)+(J23*AN23)+(J24*AN24)+(J2*AN2)+(J3*AN3))/SUM(J2:J24) -> 1 | K31: =((K4*AN4)+(K5*AN5)+(K6*AN6)+(K7*AN7)+(K8*AN8)+(K9*AN9)+(K10*AN10)+(K11*AN11)+(K12*AN12)+(K13*AN13)+(K14*AN14)+(K15*AN15)+(K16*AN16)+(K17*AN17)+(K18*AN18)+(K19*AN19)+(K20*AN20)+(K21*AN21)+(K22*AN22)+(K23*AN23)+(K24*AN24)+(K2*AN2)+(K3*AN3))/SUM(K2:K24) -> 0.8 | L31: =((L4*AN4)+(L5*AN5)+(L6*AN6)+(L7*AN7)+(L8*AN8)+(L9*AN9)+(L10*AN10)+(L11*AN11)+(L12*AN12)+(L13*AN13)+(L14*AN14)+(L15*AN15)+(L16*AN16)+(L17*AN17)+(L18*AN18)+(L19*AN19)+(L20*AN20)+(L21*AN21)+(L22*AN22)+(L23*AN23)+(L24*AN24)+(L2*AN2)+(L3*AN3))/SUM(L2:L24) -> 0.875 | M31: =((M4*AN4)+(M5*AN5)+(M6*AN6)+(M7*AN7)+(M8*AN8)+(M9*AN9)+(M10*AN10)+(M11*AN11)+(M12*AN12)+(M13*AN13)+(M14*AN14)+(M15*AN15)+(M16*AN16)+(M17*AN17)+(M18*AN18)+(M19*AN19)+(M20*AN20)+(M21*AN21)+(M22*AN22)+(M23*AN23)+(M24*AN24)+(M2*AN2)+(M3*AN3))/SUM(M2:M24) -> 0.75 | N31: =((N4*AN4)+(N5*AN5)+(N6*AN6)+(N7*AN7)+(N8*AN8)+(N9*AN9)+(N10*AN10)+(N11*AN11)+(N12*AN12)+(N13*AN13)+(N14*AN14)+(N15*AN15)+(N16*AN16)+(N17*AN17)+(N18*AN18)+(N19*AN19)+(N20*AN20)+(N21*AN21)+(N22*AN22)+(N23*AN23)+(N24*AN24)+(N2*AN2)+(N3*AN3))/SUM(N2:N24) -> 0.54545455 | O31: =((O4*AN4)+(O5*AN5)+(O6*AN6)+(O7*AN7)+(O8*AN8)+(O9*AN9)+(O10*AN10)+(O11*AN11)+(O12*AN12)+(O13*AN13)+(O14*AN14)+(O15*AN15)+(O16*AN16)+(O17*AN17)+(O18*AN18)+(O19*AN19)+(O20*AN20)+(O21*AN21)+(O22*AN22)+(O23*AN23)+(O24*AN24)+(O2*AN2)+(O3*AN3))/SUM(O2:O24) -> 0.75 | P31: =((P4*AN4)+(P5*AN5)+(P6*AN6)+(P7*AN7)+(P8*AN8)+(P9*AN9)+(P10*AN10)+(P11*AN11)+(P12*AN12)+(P13*AN13)+(P14*AN14)+(P15*AN15)+(P16*AN16)+(P17*AN17)+(P18*AN18)+(P19*AN19)+(P20*AN20)+(P21*AN21)+(P22*AN22)+(P23*AN23)+(P24*AN24)+(P2*AN2)+(P3*AN3))/SUM(P2:P24) -> 0.66666667 | Q31: =((Q4*AN4)+(Q5*AN5)+(Q6*AN6)+(Q7*AN7)+(Q8*AN8)+(Q9*AN9)+(Q10*AN10)+(Q11*AN11)+(Q12*AN12)+(Q13*AN13)+(Q14*AN14)+(Q15*AN15)+(Q16*AN16)+(Q17*AN17)+(Q18*AN18)+(Q19*AN19)+(Q20*AN20)+(Q21*AN21)+(Q22*AN22)+(Q23*AN23)+(Q24*AN24)+(Q2*AN2)+(Q3*AN3))/SUM(Q2:Q24) -> 1 | R31: =((R4*AN4)+(R5*AN5)+(R6*AN6)+(R7*AN7)+(R8*AN8)+(R9*AN9)+(R10*AN10)+(R11*AN11)+(R12*AN12)+(R13*AN13)+(R14*AN14)+(R15*AN15)+(R16*AN16)+(R17*AN17)+(R18*AN18)+(R19*AN19)+(R20*AN20)+(R21*AN21)+(R22*AN22)+(R23*AN23)+(R24*AN24)+(R2*AN2)+(R3*AN3))/SUM(R2:R24) -> 0.66666667 | S31: =((S4*AN4)+(S5*AN5)+(S6*AN6)+(S7*AN7)+(S8*AN8)+(S9*AN9)+(S10*AN10)+(S11*AN11)+(S12*AN12)+(S13*AN13)+(S14*AN14)+(S15*AN15)+(S16*AN16)+(S17*AN17)+(S18*AN18)+(S19*AN19)+(S20*AN20)+(S21*AN21)+(S22*AN22)+(S23*AN23)+(S24*AN24)+(S2*AN2)+(S3*AN3))/SUM(S2:S24) -> 1 | T31: =((T4*AN4)+(T5*AN5)+(T6*AN6)+(T7*AN7)+(T8*AN8)+(T9*AN9)+(T10*AN10)+(T11*AN11)+(T12*AN12)+(T13*AN13)+(T14*AN14)+(T15*AN15)+(T16*AN16)+(T17*AN17)+(T18*AN18)+(T19*AN19)+(T20*AN20)+(T21*AN21)+(T22*AN22)+(T23*AN23)+(T24*AN24)+(T2*AN2)+(T3*AN3))/SUM(T2:T24) -> 1 | U31: =((U4*AN4)+(U5*AN5)+(U6*AN6)+(U7*AN7)+(U8*AN8)+(U9*AN9)+(U10*AN10)+(U11*AN11)+(U12*AN12)+(U13*AN13)+(U14*AN14)+(U15*AN15)+(U16*AN16)+(U17*AN17)+(U18*AN18)+(U19*AN19)+(U20*AN20)+(U21*AN21)+(U22*AN22)+(U23*AN23)+(U24*AN24)+(U2*AN2)+(U3*AN3))/SUM(U2:U24) -> 0.75 | V31: =((V4*AN4)+(V5*AN5)+(V6*AN6)+(V7*AN7)+(V8*AN8)+(V9*AN9)+(V10*AN10)+(V11*AN11)+(V12*AN12)+(V13*AN13)+(V14*AN14)+(V15*AN15)+(V16*AN16)+(V17*AN17)+(V18*AN18)+(V19*AN19)+(V20*AN20)+(V21*AN21)+(V22*AN22)+(V23*AN23)+(V24*AN24)+(V2*AN2)+(V3*AN3))/SUM(V2:V24) -> 1 | W31: =((W4*AN4)+(W5*AN5)+(W6*AN6)+(W7*AN7)+(W8*AN8)+(W9*AN9)+(W10*AN10)+(W11*AN11)+(W12*AN12)+(W13*AN13)+(W14*AN14)+(W15*AN15)+(W16*AN16)+(W17*AN17)+(W18*AN18)+(W19*AN19)+(W20*AN20)+(W21*AN21)+(W22*AN22)+(W23*AN23)+(W24*AN24)+(W2*AN2)+(W3*AN3))/SUM(W2:W24) -> 1 | X31: =((X4*AN4)+(X5*AN5)+(X6*AN6)+(X7*AN7)+(X8*AN8)+(X9*AN9)+(X10*AN10)+(X11*AN11)+(X12*AN12)+(X13*AN13)+(X14*AN14)+(X15*AN15)+(X16*AN16)+(X17*AN17)+(X18*AN18)+(X19*AN19)+(X20*AN20)+(X21*AN21)+(X22*AN22)+(X23*AN23)+(X24*AN24)+(X2*AN2)+(X3*AN3))/SUM(X2:X24) -> 1 | Y31: =((Y4*AN4)+(Y5*AN5)+(Y6*AN6)+(Y7*AN7)+(Y8*AN8)+(Y9*AN9)+(Y10*AN10)+(Y11*AN11)+(Y12*AN12)+(Y13*AN13)+(Y14*AN14)+(Y15*AN15)+(Y16*AN16)+(Y17*AN17)+(Y18*AN18)+(Y19*AN19)+(Y20*AN20)+(Y21*AN21)+(Y22*AN22)+(Y23*AN23)+(Y24*AN24)+(Y2*AN2)+(Y3*AN3))/SUM(Y2:Y24) -> 0.66666667 | Z31: =((Z4*AN4)+(Z5*AN5)+(Z6*AN6)+(Z7*AN7)+(Z8*AN8)+(Z9*AN9)+(Z10*AN10)+(Z11*AN11)+(Z12*AN12)+(Z13*AN13)+(Z14*AN14)+(Z15*AN15)+(Z16*AN16)+(Z17*AN17)+(Z18*AN18)+(Z19*AN19)+(Z20*AN20)+(Z21*AN21)+(Z22*AN22)+(Z23*AN23)+(Z24*AN24)+(Z2*AN2)+(Z3*AN3))/SUM(Z2:Z24) -> 1 | AA31: =((AA4*AN4)+(AA5*AN5)+(AA6*AN6)+(AA7*AN7)+(AA8*AN8)+(AA9*AN9)+(AA10*AN10)+(AA11*AN11)+(AA12*AN12)+(AA13*AN13)+(AA14*AN14)+(AA15*AN15)+(AA16*AN16)+(AA17*AN17)+(AA18*AN18)+(AA19*AN19)+(AA20*AN20)+(AA21*AN21)+(AA22*AN22)+(AA23*AN23)+(AA24*AN24)+(AA2*AN2)+(AA3*AN3))/SUM(AA2:AA24) -> 0.66666667 | AB31: =((AB4*AN4)+(AB5*AN5)+(AB6*AN6)+(AB7*AN7)+(AB8*AN8)+(AB9*AN9)+(AB10*AN10)+(AB11*AN11)+(AB12*AN12)+(AB13*AN13)+(AB14*AN14)+(AB15*AN15)+(AB16*AN16)+(AB17*AN17)+(AB18*AN18)+(AB19*AN19)+(AB20*AN20)+(AB21*AN21)+(AB22*AN22)+(AB23*AN23)+(AB24*AN24)+(AB2*AN2)+(AB3*AN3))/SUM(AB2:AB24) -> 1 | AC31: =((AC4*AN4)+(AC5*AN5)+(AC6*AN6)+(AC7*AN7)+(AC8*AN8)+(AC9*AN9)+(AC10*AN10)+(AC11*AN11)+(AC12*AN12)+(AC13*AN13)+(AC14*AN14)+(AC15*AN15)+(AC16*AN16)+(AC17*AN17)+(AC18*AN18)+(AC19*AN19)+(AC20*AN20)+(AC21*AN21)+(AC22*AN22)+(AC23*AN23)+(AC24*AN24)+(AC2*AN2)+(AC3*AN3))/SUM(AC2:AC24) -> 0.66666667 | AD31: =((AD4*AN4)+(AD5*AN5)+(AD6*AN6)+(AD7*AN7)+(AD8*AN8)+(AD9*AN9)+(AD10*AN10)+(AD11*AN11)+(AD12*AN12)+(AD13*AN13)+(AD14*AN14)+(AD15*AN15)+(AD16*AN16)+(AD17*AN17)+(AD18*AN18)+(AD19*AN19)+(AD20*AN20)+(AD21*AN21)+(AD22*AN22)+(AD23*AN23)+(AD24*AN24)+(AD2*AN2)+(AD3*AN3))/SUM(AD2:AD24) -> 0.6 | AE31: =((AE4*AN4)+(AE5*AN5)+(AE6*AN6)+(AE7*AN7)+(AE8*AN8)+(AE9*AN9)+(AE10*AN10)+(AE11*AN11)+(AE12*AN12)+(AE13*AN13)+(AE14*AN14)+(AE15*AN15)+(AE16*AN16)+(AE17*AN17)+(AE18*AN18)+(AE19*AN19)+(AE20*AN20)+(AE21*AN21)+(AE22*AN22)+(AE23*AN23)+(AE24*AN24)+(AE2*AN2)+(AE3*AN3))/SUM(AE2:AE24) -> 0 | AF31: =((AF4*AN4)+(AF5*AN5)+(AF6*AN6)+(AF7*AN7)+(AF8*AN8)+(AF9*AN9)+(AF10*AN10)+(AF11*AN11)+(AF12*AN12)+(AF13*AN13)+(AF14*AN14)+(AF15*AN15)+(AF16*AN16)+(AF17*AN17)+(AF18*AN18)+(AF19*AN19)+(AF20*AN20)+(AF21*AN21)+(AF22*AN22)+(AF23*AN23)+(AF24*AN24)+(AF2*AN2)+(AF3*AN3))/SUM(AF2:AF24) -> 0 | AG31: =((AG4*AN4)+(AG5*AN5)+(AG6*AN6)+(AG7*AN7)+(AG8*AN8)+(AG9*AN9)+(AG10*AN10)+(AG11*AN11)+(AG12*AN12)+(AG13*AN13)+(AG14*AN14)+(AG15*AN15)+(AG16*AN16)+(AG17*AN17)+(AG18*AN18)+(AG19*AN19)+(AG20*AN20)+(AG21*AN21)+(AG22*AN22)+(AG23*AN23)+(AG24*AN24)+(AG2*AN2)+(AG3*AN3))/SUM(AG2:AG24) -> 0.88888889 | AH31: =((AH4*AN4)+(AH5*AN5)+(AH6*AN6)+(AH7*AN7)+(AH8*AN8)+(AH9*AN9)+(AH10*AN10)+(AH11*AN11)+(AH12*AN12)+(AH13*AN13)+(AH14*AN14)+(AH15*AN15)+(AH16*AN16)+(AH17*AN17)+(AH18*AN18)+(AH19*AN19)+(AH20*AN20)+(AH21*AN21)+(AH22*AN22)+(AH23*AN23)+(AH24*AN24)+(AH2*AN2)+(AH3*AN3))/SUM(AH2:AH24) -> 0.85714286 | AI31: =((AI4*AN4)+(AI5*AN5)+(AI6*AN6)+(AI7*AN7)+(AI8*AN8)+(AI9*AN9)+(AI10*AN10)+(AI11*AN11)+(AI12*AN12)+(AI13*AN13)+(AI14*AN14)+(AI15*AN15)+(AI16*AN16)+(AI17*AN17)+(AI18*AN18)+(AI19*AN19)+(AI20*AN20)+(AI21*AN21)+(AI22*AN22)+(AI23*AN23)+(AI24*AN24)+(AI2*AN2)+(AI3*AN3))/SUM(AI2:AI24) -> 0.8 | AJ31: =((AJ4*AN4)+(AJ5*AN5)+(AJ6*AN6)+(AJ7*AN7)+(AJ8*AN8)+(AJ9*AN9)+(AJ10*AN10)+(AJ11*AN11)+(AJ12*AN12)+(AJ13*AN13)+(AJ14*AN14)+(AJ15*AN15)+(AJ16*AN16)+(AJ17*AN17)+(AJ18*AN18)+(AJ19*AN19)+(AJ20*AN20)+(AJ21*AN21)+(AJ22*AN22)+(AJ23*AN23)+(AJ24*AN24)+(AJ2*AN2)+(AJ3*AN3))/SUM(AJ2:AJ24) -> 0.88888889 | AL31: affects >10%
A32: αi for CSC Type 4 (CSC4) | B32: =((B2*AO2)+(B3*AO3)+(B4*AO4)+(B5*AO5)+(B6*AO6)+(B7*AO7)+(B8*AO8)+(B9*AO9)+(B10*AO10)+(B11*AO11)+(B12*AO12)+(B13*AO13)+(B14*AO14)+(B15*AO15)+(B16*AO16)+(B17*AO17)+(B18*AO18)+(B19*AO19)+(B20*AO20)+(B21*AO21)+(B22*AO22)+(B23*AO23)+(B24*AO24))/SUM(B2:B24) -> 0.66666667 | C32: =((C2*AO2)+(C3*AO3)+(C4*AO4)+(C5*AO5)+(C6*AO6)+(C7*AO7)+(C8*AO8)+(C9*AO9)+(C10*AO10)+(C11*AO11)+(C12*AO12)+(C13*AO13)+(C14*AO14)+(C15*AO15)+(C16*AO16)+(C17*AO17)+(C18*AO18)+(C19*AO19)+(C20*AO20)+(C21*AO21)+(C22*AO22)+(C23*AO23)+(C24*AO24))/SUM(C2:C24) -> 0.625 | D32: =((D2*AO2)+(D3*AO3)+(D4*AO4)+(D5*AO5)+(D6*AO6)+(D7*AO7)+(D8*AO8)+(D9*AO9)+(D10*AO10)+(D11*AO11)+(D12*AO12)+(D13*AO13)+(D14*AO14)+(D15*AO15)+(D16*AO16)+(D17*AO17)+(D18*AO18)+(D19*AO19)+(D20*AO20)+(D21*AO21)+(D22*AO22)+(D23*AO23)+(D24*AO24))/SUM(D2:D24) -> 0 | E32: =((E5*AO5)+(E6*AO6)+(E7*AO7)+(E8*AO8)+(E9*AO9)+(E10*AO10)+(E11*AO11)+(E12*AO12)+(E13*AO13)+(E14*AO14)+(E15*AO15)+(E16*AO16)+(E17*AO17)+(E18*AO18)+(E19*AO19)+(E20*AO20)+(E21*AO21)+(E22*AO22)+(E23*AO23)+(E24*AO24)+(E2*AO2)+(E3*AO3)+(E4*AO4))/SUM(E2:E24) -> 0.66666667 | F32: =((F5*AO5)+(F6*AO6)+(F7*AO7)+(F8*AO8)+(F9*AO9)+(F10*AO10)+(F11*AO11)+(F12*AO12)+(F13*AO13)+(F14*AO14)+(F15*AO15)+(F16*AO16)+(F17*AO17)+(F18*AO18)+(F19*AO19)+(F20*AO20)+(F21*AO21)+(F22*AO22)+(F23*AO23)+(F24*AO24)+(F2*AO2)+(F3*AO3)+(F4*AO4))/SUM(F2:F24) -> 0.4 | G32: =((G5*AO5)+(G6*AO6)+(G7*AO7)+(G8*AO8)+(G9*AO9)+(G10*AO10)+(G11*AO11)+(G12*AO12)+(G13*AO13)+(G14*AO14)+(G15*AO15)+(G16*AO16)+(G17*AO17)+(G18*AO18)+(G19*AO19)+(G20*AO20)+(G21*AO21)+(G22*AO22)+(G23*AO23)+(G24*AO24)+(G2*AO2)+(G3*AO3)+(G4*AO4))/SUM(G2:G24) -> 0.6 | H32: =((H5*AO5)+(H6*AO6)+(H7*AO7)+(H8*AO8)+(H9*AO9)+(H10*AO10)+(H11*AO11)+(H12*AO12)+(H13*AO13)+(H14*AO14)+(H15*AO15)+(H16*AO16)+(H17*AO17)+(H18*AO18)+(H19*AO19)+(H20*AO20)+(H21*AO21)+(H22*AO22)+(H23*AO23)+(H24*AO24)+(H2*AO2)+(H3*AO3)+(H4*AO4))/SUM(H2:H24) -> 0.71428571 | I32: =((I5*AO5)+(I6*AO6)+(I7*AO7)+(I8*AO8)+(I9*AO9)+(I10*AO10)+(I11*AO11)+(I12*AO12)+(I13*AO13)+(I14*AO14)+(I15*AO15)+(I16*AO16)+(I17*AO17)+(I18*AO18)+(I19*AO19)+(I20*AO20)+(I21*AO21)+(I22*AO22)+(I23*AO23)+(I24*AO24)+(I2*AO2)+(I3*AO3)+(I4*AO4))/SUM(I2:I24) -> 0.5 | J32: =((J5*AO5)+(J6*AO6)+(J7*AO7)+(J8*AO8)+(J9*AO9)+(J10*AO10)+(J11*AO11)+(J12*AO12)+(J13*AO13)+(J14*AO14)+(J15*AO15)+(J16*AO16)+(J17*AO17)+(J18*AO18)+(J19*AO19)+(J20*AO20)+(J21*AO21)+(J22*AO22)+(J23*AO23)+(J24*AO24)+(J2*AO2)+(J3*AO3)+(J4*AO4))/SUM(J2:J24) -> 0.71428571 | K32: =((K5*AO5)+(K6*AO6)+(K7*AO7)+(K8*AO8)+(K9*AO9)+(K10*AO10)+(K11*AO11)+(K12*AO12)+(K13*AO13)+(K14*AO14)+(K15*AO15)+(K16*AO16)+(K17*AO17)+(K18*AO18)+(K19*AO19)+(K20*AO20)+(K21*AO21)+(K22*AO22)+(K23*AO23)+(K24*AO24)+(K2*AO2)+(K3*AO3)+(K4*AO4))/SUM(K2:K24) -> 0.6 | L32: =((L5*AO5)+(L6*AO6)+(L7*AO7)+(L8*AO8)+(L9*AO9)+(L10*AO10)+(L11*AO11)+(L12*AO12)+(L13*AO13)+(L14*AO14)+(L15*AO15)+(L16*AO16)+(L17*AO17)+(L18*AO18)+(L19*AO19)+(L20*AO20)+(L21*AO21)+(L22*AO22)+(L23*AO23)+(L24*AO24)+(L2*AO2)+(L3*AO3)+(L4*AO4))/SUM(L2:L24) -> 0.625 | M32: =((M5*AO5)+(M6*AO6)+(M7*AO7)+(M8*AO8)+(M9*AO9)+(M10*AO10)+(M11*AO11)+(M12*AO12)+(M13*AO13)+(M14*AO14)+(M15*AO15)+(M16*AO16)+(M17*AO17)+(M18*AO18)+(M19*AO19)+(M20*AO20)+(M21*AO21)+(M22*AO22)+(M23*AO23)+(M24*AO24)+(M2*AO2)+(M3*AO3)+(M4*AO4))/SUM(M2:M24) -> 0.75 | N32: =((N5*AO5)+(N6*AO6)+(N7*AO7)+(N8*AO8)+(N9*AO9)+(N10*AO10)+(N11*AO11)+(N12*AO12)+(N13*AO13)+(N14*AO14)+(N15*AO15)+(N16*AO16)+(N17*AO17)+(N18*AO18)+(N19*AO19)+(N20*AO20)+(N21*AO21)+(N22*AO22)+(N23*AO23)+(N24*AO24)+(N2*AO2)+(N3*AO3)+(N4*AO4))/SUM(N2:N24) -> 0.54545455 | O32: =((O5*AO5)+(O6*AO6)+(O7*AO7)+(O8*AO8)+(O9*AO9)+(O10*AO10)+(O11*AO11)+(O12*AO12)+(O13*AO13)+(O14*AO14)+(O15*AO15)+(O16*AO16)+(O17*AO17)+(O18*AO18)+(O19*AO19)+(O20*AO20)+(O21*AO21)+(O22*AO22)+(O23*AO23)+(O24*AO24)+(O2*AO2)+(O3*AO3)+(O4*AO4))/SUM(O2:O24) -> 0.75 | P32: =((P5*AO5)+(P6*AO6)+(P7*AO7)+(P8*AO8)+(P9*AO9)+(P10*AO10)+(P11*AO11)+(P12*AO12)+(P13*AO13)+(P14*AO14)+(P15*AO15)+(P16*AO16)+(P17*AO17)+(P18*AO18)+(P19*AO19)+(P20*AO20)+(P21*AO21)+(P22*AO22)+(P23*AO23)+(P24*AO24)+(P2*AO2)+(P3*AO3)+(P4*AO4))/SUM(P2:P24) -> 0.33333333 | Q32: =((Q5*AO5)+(Q6*AO6)+(Q7*AO7)+(Q8*AO8)+(Q9*AO9)+(Q10*AO10)+(Q11*AO11)+(Q12*AO12)+(Q13*AO13)+(Q14*AO14)+(Q15*AO15)+(Q16*AO16)+(Q17*AO17)+(Q18*AO18)+(Q19*AO19)+(Q20*AO20)+(Q21*AO21)+(Q22*AO22)+(Q23*AO23)+(Q24*AO24)+(Q2*AO2)+(Q3*AO3)+(Q4*AO4))/SUM(Q2:Q24) -> 0.5 | R32: =((R5*AO5)+(R6*AO6)+(R7*AO7)+(R8*AO8)+(R9*AO9)+(R10*AO10)+(R11*AO11)+(R12*AO12)+(R13*AO13)+(R14*AO14)+(R15*AO15)+(R16*AO16)+(R17*AO17)+(R18*AO18)+(R19*AO19)+(R20*AO20)+(R21*AO21)+(R22*AO22)+(R23*AO23)+(R24*AO24)+(R2*AO2)+(R3*AO3)+(R4*AO4))/SUM(R2:R24) -> 0.66666667 | S32: =((S5*AO5)+(S6*AO6)+(S7*AO7)+(S8*AO8)+(S9*AO9)+(S10*AO10)+(S11*AO11)+(S12*AO12)+(S13*AO13)+(S14*AO14)+(S15*AO15)+(S16*AO16)+(S17*AO17)+(S18*AO18)+(S19*AO19)+(S20*AO20)+(S21*AO21)+(S22*AO22)+(S23*AO23)+(S24*AO24)+(S2*AO2)+(S3*AO3)+(S4*AO4))/SUM(S2:S24) -> 0.5 | T32: =((T5*AO5)+(T6*AO6)+(T7*AO7)+(T8*AO8)+(T9*AO9)+(T10*AO10)+(T11*AO11)+(T12*AO12)+(T13*AO13)+(T14*AO14)+(T15*AO15)+(T16*AO16)+(T17*AO17)+(T18*AO18)+(T19*AO19)+(T20*AO20)+(T21*AO21)+(T22*AO22)+(T23*AO23)+(T24*AO24)+(T2*AO2)+(T3*AO3)+(T4*AO4))/SUM(T2:T24) -> 0.66666667 | U32: =((U5*AO5)+(U6*AO6)+(U7*AO7)+(U8*AO8)+(U9*AO9)+(U10*AO10)+(U11*AO11)+(U12*AO12)+(U13*AO13)+(U14*AO14)+(U15*AO15)+(U16*AO16)+(U17*AO17)+(U18*AO18)+(U19*AO19)+(U20*AO20)+(U21*AO21)+(U22*AO22)+(U23*AO23)+(U24*AO24)+(U2*AO2)+(U3*AO3)+(U4*AO4))/SUM(U2:U24) -> 0.75 | V32: =((V5*AO5)+(V6*AO6)+(V7*AO7)+(V8*AO8)+(V9*AO9)+(V10*AO10)+(V11*AO11)+(V12*AO12)+(V13*AO13)+(V14*AO14)+(V15*AO15)+(V16*AO16)+(V17*AO17)+(V18*AO18)+(V19*AO19)+(V20*AO20)+(V21*AO21)+(V22*AO22)+(V23*AO23)+(V24*AO24)+(V2*AO2)+(V3*AO3)+(V4*AO4))/SUM(V2:V24) -> 0.71428571 | W32: =((W5*AO5)+(W6*AO6)+(W7*AO7)+(W8*AO8)+(W9*AO9)+(W10*AO10)+(W11*AO11)+(W12*AO12)+(W13*AO13)+(W14*AO14)+(W15*AO15)+(W16*AO16)+(W17*AO17)+(W18*AO18)+(W19*AO19)+(W20*AO20)+(W21*AO21)+(W22*AO22)+(W23*AO23)+(W24*AO24)+(W2*AO2)+(W3*AO3)+(W4*AO4))/SUM(W2:W24) -> 0.71428571 | X32: =((X5*AO5)+(X6*AO6)+(X7*AO7)+(X8*AO8)+(X9*AO9)+(X10*AO10)+(X11*AO11)+(X12*AO12)+(X13*AO13)+(X14*AO14)+(X15*AO15)+(X16*AO16)+(X17*AO17)+(X18*AO18)+(X19*AO19)+(X20*AO20)+(X21*AO21)+(X22*AO22)+(X23*AO23)+(X24*AO24)+(X2*AO2)+(X3*AO3)+(X4*AO4))/SUM(X2:X24) -> 0.71428571 | Y32: =((Y5*AO5)+(Y6*AO6)+(Y7*AO7)+(Y8*AO8)+(Y9*AO9)+(Y10*AO10)+(Y11*AO11)+(Y12*AO12)+(Y13*AO13)+(Y14*AO14)+(Y15*AO15)+(Y16*AO16)+(Y17*AO17)+(Y18*AO18)+(Y19*AO19)+(Y20*AO20)+(Y21*AO21)+(Y22*AO22)+(Y23*AO23)+(Y24*AO24)+(Y2*AO2)+(Y3*AO3)+(Y4*AO4))/SUM(Y2:Y24) -> 0.33333333 | Z32: =((Z5*AO5)+(Z6*AO6)+(Z7*AO7)+(Z8*AO8)+(Z9*AO9)+(Z10*AO10)+(Z11*AO11)+(Z12*AO12)+(Z13*AO13)+(Z14*AO14)+(Z15*AO15)+(Z16*AO16)+(Z17*AO17)+(Z18*AO18)+(Z19*AO19)+(Z20*AO20)+(Z21*AO21)+(Z22*AO22)+(Z23*AO23)+(Z24*AO24)+(Z2*AO2)+(Z3*AO3)+(Z4*AO4))/SUM(Z2:Z24) -> 0 | AA32: =((AA5*AO5)+(AA6*AO6)+(AA7*AO7)+(AA8*AO8)+(AA9*AO9)+(AA10*AO10)+(AA11*AO11)+(AA12*AO12)+(AA13*AO13)+(AA14*AO14)+(AA15*AO15)+(AA16*AO16)+(AA17*AO17)+(AA18*AO18)+(AA19*AO19)+(AA20*AO20)+(AA21*AO21)+(AA22*AO22)+(AA23*AO23)+(AA24*AO24)+(AA2*AO2)+(AA3*AO3)+(AA4*AO4))/SUM(AA2:AA24) -> 0.33333333 | AB32: =((AB5*AO5)+(AB6*AO6)+(AB7*AO7)+(AB8*AO8)+(AB9*AO9)+(AB10*AO10)+(AB11*AO11)+(AB12*AO12)+(AB13*AO13)+(AB14*AO14)+(AB15*AO15)+(AB16*AO16)+(AB17*AO17)+(AB18*AO18)+(AB19*AO19)+(AB20*AO20)+(AB21*AO21)+(AB22*AO22)+(AB23*AO23)+(AB24*AO24)+(AB2*AO2)+(AB3*AO3)+(AB4*AO4))/SUM(AB2:AB24) -> 0.71428571 | AC32: =((AC5*AO5)+(AC6*AO6)+(AC7*AO7)+(AC8*AO8)+(AC9*AO9)+(AC10*AO10)+(AC11*AO11)+(AC12*AO12)+(AC13*AO13)+(AC14*AO14)+(AC15*AO15)+(AC16*AO16)+(AC17*AO17)+(AC18*AO18)+(AC19*AO19)+(AC20*AO20)+(AC21*AO21)+(AC22*AO22)+(AC23*AO23)+(AC24*AO24)+(AC2*AO2)+(AC3*AO3)+(AC4*AO4))/SUM(AC2:AC24) -> 0.66666667 | AD32: =((AD5*AO5)+(AD6*AO6)+(AD7*AO7)+(AD8*AO8)+(AD9*AO9)+(AD10*AO10)+(AD11*AO11)+(AD12*AO12)+(AD13*AO13)+(AD14*AO14)+(AD15*AO15)+(AD16*AO16)+(AD17*AO17)+(AD18*AO18)+(AD19*AO19)+(AD20*AO20)+(AD21*AO21)+(AD22*AO22)+(AD23*AO23)+(AD24*AO24)+(AD2*AO2)+(AD3*AO3)+(AD4*AO4))/SUM(AD2:AD24) -> 0.6 | AE32: =((AE5*AO5)+(AE6*AO6)+(AE7*AO7)+(AE8*AO8)+(AE9*AO9)+(AE10*AO10)+(AE11*AO11)+(AE12*AO12)+(AE13*AO13)+(AE14*AO14)+(AE15*AO15)+(AE16*AO16)+(AE17*AO17)+(AE18*AO18)+(AE19*AO19)+(AE20*AO20)+(AE21*AO21)+(AE22*AO22)+(AE23*AO23)+(AE24*AO24)+(AE2*AO2)+(AE3*AO3)+(AE4*AO4))/SUM(AE2:AE24) -> 0 | AF32: =((AF5*AO5)+(AF6*AO6)+(AF7*AO7)+(AF8*AO8)+(AF9*AO9)+(AF10*AO10)+(AF11*AO11)+(AF12*AO12)+(AF13*AO13)+(AF14*AO14)+(AF15*AO15)+(AF16*AO16)+(AF17*AO17)+(AF18*AO18)+(AF19*AO19)+(AF20*AO20)+(AF21*AO21)+(AF22*AO22)+(AF23*AO23)+(AF24*AO24)+(AF2*AO2)+(AF3*AO3)+(AF4*AO4))/SUM(AF2:AF24) -> 0 | AG32: =((AG5*AO5)+(AG6*AO6)+(AG7*AO7)+(AG8*AO8)+(AG9*AO9)+(AG10*AO10)+(AG11*AO11)+(AG12*AO12)+(AG13*AO13)+(AG14*AO14)+(AG15*AO15)+(AG16*AO16)+(AG17*AO17)+(AG18*AO18)+(AG19*AO19)+(AG20*AO20)+(AG21*AO21)+(AG22*AO22)+(AG23*AO23)+(AG24*AO24)+(AG2*AO2)+(AG3*AO3)+(AG4*AO4))/SUM(AG2:AG24) -> 0.66666667 | AH32: =((AH5*AO5)+(AH6*AO6)+(AH7*AO7)+(AH8*AO8)+(AH9*AO9)+(AH10*AO10)+(AH11*AO11)+(AH12*AO12)+(AH13*AO13)+(AH14*AO14)+(AH15*AO15)+(AH16*AO16)+(AH17*AO17)+(AH18*AO18)+(AH19*AO19)+(AH20*AO20)+(AH21*AO21)+(AH22*AO22)+(AH23*AO23)+(AH24*AO24)+(AH2*AO2)+(AH3*AO3)+(AH4*AO4))/SUM(AH2:AH24) -> 0.85714286 | AI32: =((AI5*AO5)+(AI6*AO6)+(AI7*AO7)+(AI8*AO8)+(AI9*AO9)+(AI10*AO10)+(AI11*AO11)+(AI12*AO12)+(AI13*AO13)+(AI14*AO14)+(AI15*AO15)+(AI16*AO16)+(AI17*AO17)+(AI18*AO18)+(AI19*AO19)+(AI20*AO20)+(AI21*AO21)+(AI22*AO22)+(AI23*AO23)+(AI24*AO24)+(AI2*AO2)+(AI3*AO3)+(AI4*AO4))/SUM(AI2:AI24) -> 0.8 | AJ32: =((AJ5*AO5)+(AJ6*AO6)+(AJ7*AO7)+(AJ8*AO8)+(AJ9*AO9)+(AJ10*AO10)+(AJ11*AO11)+(AJ12*AO12)+(AJ13*AO13)+(AJ14*AO14)+(AJ15*AO15)+(AJ16*AO16)+(AJ17*AO17)+(AJ18*AO18)+(AJ19*AO19)+(AJ20*AO20)+(AJ21*AO21)+(AJ22*AO22)+(AJ23*AO23)+(AJ24*AO24)+(AJ2*AO2)+(AJ3*AO3)+(AJ4*AO4))/SUM(AJ2:AJ24) -> 0.66666667 | AL32: major affect >50%
A33: αi for CSC Type 5 (CSC5) | B33: =((B2*AP2)+(B3*AP3)+(B4*AP4)+(B5*AP5)+(B6*AP6)+(B7*AP7)+(B8*AP8)+(B9*AP9)+(B10*AP10)+(B11*AP11)+(B12*AP12)+(B13*AP13)+(B14*AP14)+(B15*AP15)+(B16*AP16)+(B17*AP17)+(B18*AP18)+(B19*AP19)+(B20*AP20)+(B21*AP21)+(B22*AP22)+(B23*AP23)+(B24*AP24))/SUM(B2:B24) -> 0.5 | C33: =((C2*AP2)+(C3*AP3)+(C4*AP4)+(C5*AP5)+(C6*AP6)+(C7*AP7)+(C8*AP8)+(C9*AP9)+(C10*AP10)+(C11*AP11)+(C12*AP12)+(C13*AP13)+(C14*AP14)+(C15*AP15)+(C16*AP16)+(C17*AP17)+(C18*AP18)+(C19*AP19)+(C20*AP20)+(C21*AP21)+(C22*AP22)+(C23*AP23)+(C24*AP24))/SUM(C2:C24) -> 0.375 | D33: =((D2*AP2)+(D3*AP3)+(D4*AP4)+(D5*AP5)+(D6*AP6)+(D7*AP7)+(D8*AP8)+(D9*AP9)+(D10*AP10)+(D11*AP11)+(D12*AP12)+(D13*AP13)+(D14*AP14)+(D15*AP15)+(D16*AP16)+(D17*AP17)+(D18*AP18)+(D19*AP19)+(D20*AP20)+(D21*AP21)+(D22*AP22)+(D23*AP23)+(D24*AP24))/SUM(D2:D24) -> 0 | E33: =((E2*AP2)+(E3*AP3)+(E4*AP4)+(E5*AP5)+(E6*AP6)+(E7*AP7)+(E8*AP8)+(E9*AP9)+(E10*AP10)+(E11*AP11)+(E12*AP12)+(E13*AP13)+(E14*AP14)+(E15*AP15)+(E16*AP16)+(E17*AP17)+(E18*AP18)+(E19*AP19)+(E20*AP20)+(E21*AP21)+(E22*AP22)+(E23*AP23)+(E24*AP24))/SUM(E2:E24) -> 0.5 | F33: =((F2*AP2)+(F3*AP3)+(F4*AP4)+(F5*AP5)+(F6*AP6)+(F7*AP7)+(F8*AP8)+(F9*AP9)+(F10*AP10)+(F11*AP11)+(F12*AP12)+(F13*AP13)+(F14*AP14)+(F15*AP15)+(F16*AP16)+(F17*AP17)+(F18*AP18)+(F19*AP19)+(F20*AP20)+(F21*AP21)+(F22*AP22)+(F23*AP23)+(F24*AP24))/SUM(F2:F24) -> 0 | G33: =((G2*AP2)+(G3*AP3)+(G4*AP4)+(G5*AP5)+(G6*AP6)+(G7*AP7)+(G8*AP8)+(G9*AP9)+(G10*AP10)+(G11*AP11)+(G12*AP12)+(G13*AP13)+(G14*AP14)+(G15*AP15)+(G16*AP16)+(G17*AP17)+(G18*AP18)+(G19*AP19)+(G20*AP20)+(G21*AP21)+(G22*AP22)+(G23*AP23)+(G24*AP24))/SUM(G2:G24) -> 0.3 | H33: =((H2*AP2)+(H3*AP3)+(H4*AP4)+(H5*AP5)+(H6*AP6)+(H7*AP7)+(H8*AP8)+(H9*AP9)+(H10*AP10)+(H11*AP11)+(H12*AP12)+(H13*AP13)+(H14*AP14)+(H15*AP15)+(H16*AP16)+(H17*AP17)+(H18*AP18)+(H19*AP19)+(H20*AP20)+(H21*AP21)+(H22*AP22)+(H23*AP23)+(H24*AP24))/SUM(H2:H24) -> 0.42857143 | I33: =((I2*AP2)+(I3*AP3)+(I4*AP4)+(I5*AP5)+(I6*AP6)+(I7*AP7)+(I8*AP8)+(I9*AP9)+(I10*AP10)+(I11*AP11)+(I12*AP12)+(I13*AP13)+(I14*AP14)+(I15*AP15)+(I16*AP16)+(I17*AP17)+(I18*AP18)+(I19*AP19)+(I20*AP20)+(I21*AP21)+(I22*AP22)+(I23*AP23)+(I24*AP24))/SUM(I2:I24) -> 0 | J33: =((J2*AP2)+(J3*AP3)+(J4*AP4)+(J5*AP5)+(J6*AP6)+(J7*AP7)+(J8*AP8)+(J9*AP9)+(J10*AP10)+(J11*AP11)+(J12*AP12)+(J13*AP13)+(J14*AP14)+(J15*AP15)+(J16*AP16)+(J17*AP17)+(J18*AP18)+(J19*AP19)+(J20*AP20)+(J21*AP21)+(J22*AP22)+(J23*AP23)+(J24*AP24))/SUM(J2:J24) -> 0.42857143 | K33: =((K2*AP2)+(K3*AP3)+(K4*AP4)+(K5*AP5)+(K6*AP6)+(K7*AP7)+(K8*AP8)+(K9*AP9)+(K10*AP10)+(K11*AP11)+(K12*AP12)+(K13*AP13)+(K14*AP14)+(K15*AP15)+(K16*AP16)+(K17*AP17)+(K18*AP18)+(K19*AP19)+(K20*AP20)+(K21*AP21)+(K22*AP22)+(K23*AP23)+(K24*AP24))/SUM(K2:K24) -> 0.3 | L33: =((L2*AP2)+(L3*AP3)+(L4*AP4)+(L5*AP5)+(L6*AP6)+(L7*AP7)+(L8*AP8)+(L9*AP9)+(L10*AP10)+(L11*AP11)+(L12*AP12)+(L13*AP13)+(L14*AP14)+(L15*AP15)+(L16*AP16)+(L17*AP17)+(L18*AP18)+(L19*AP19)+(L20*AP20)+(L21*AP21)+(L22*AP22)+(L23*AP23)+(L24*AP24))/SUM(L2:L24) -> 0.375 | M33: =((M2*AP2)+(M3*AP3)+(M4*AP4)+(M5*AP5)+(M6*AP6)+(M7*AP7)+(M8*AP8)+(M9*AP9)+(M10*AP10)+(M11*AP11)+(M12*AP12)+(M13*AP13)+(M14*AP14)+(M15*AP15)+(M16*AP16)+(M17*AP17)+(M18*AP18)+(M19*AP19)+(M20*AP20)+(M21*AP21)+(M22*AP22)+(M23*AP23)+(M24*AP24))/SUM(M2:M24) -> 0.375 | N33: =((N2*AP2)+(N3*AP3)+(N4*AP4)+(N5*AP5)+(N6*AP6)+(N7*AP7)+(N8*AP8)+(N9*AP9)+(N10*AP10)+(N11*AP11)+(N12*AP12)+(N13*AP13)+(N14*AP14)+(N15*AP15)+(N16*AP16)+(N17*AP17)+(N18*AP18)+(N19*AP19)+(N20*AP20)+(N21*AP21)+(N22*AP22)+(N23*AP23)+(N24*AP24))/SUM(N2:N24) -> 0.27272727 | O33: =((O2*AP2)+(O3*AP3)+(O4*AP4)+(O5*AP5)+(O6*AP6)+(O7*AP7)+(O8*AP8)+(O9*AP9)+(O10*AP10)+(O11*AP11)+(O12*AP12)+(O13*AP13)+(O14*AP14)+(O15*AP15)+(O16*AP16)+(O17*AP17)+(O18*AP18)+(O19*AP19)+(O20*AP20)+(O21*AP21)+(O22*AP22)+(O23*AP23)+(O24*AP24))/SUM(O2:O24) -> 0.75 | P33: =((P2*AP2)+(P3*AP3)+(P4*AP4)+(P5*AP5)+(P6*AP6)+(P7*AP7)+(P8*AP8)+(P9*AP9)+(P10*AP10)+(P11*AP11)+(P12*AP12)+(P13*AP13)+(P14*AP14)+(P15*AP15)+(P16*AP16)+(P17*AP17)+(P18*AP18)+(P19*AP19)+(P20*AP20)+(P21*AP21)+(P22*AP22)+(P23*AP23)+(P24*AP24))/SUM(P2:P24) -> 0 | Q33: =((Q2*AP2)+(Q3*AP3)+(Q4*AP4)+(Q5*AP5)+(Q6*AP6)+(Q7*AP7)+(Q8*AP8)+(Q9*AP9)+(Q10*AP10)+(Q11*AP11)+(Q12*AP12)+(Q13*AP13)+(Q14*AP14)+(Q15*AP15)+(Q16*AP16)+(Q17*AP17)+(Q18*AP18)+(Q19*AP19)+(Q20*AP20)+(Q21*AP21)+(Q22*AP22)+(Q23*AP23)+(Q24*AP24))/SUM(Q2:Q24) -> 0 | R33: =((R2*AP2)+(R3*AP3)+(R4*AP4)+(R5*AP5)+(R6*AP6)+(R7*AP7)+(R8*AP8)+(R9*AP9)+(R10*AP10)+(R11*AP11)+(R12*AP12)+(R13*AP13)+(R14*AP14)+(R15*AP15)+(R16*AP16)+(R17*AP17)+(R18*AP18)+(R19*AP19)+(R20*AP20)+(R21*AP21)+(R22*AP22)+(R23*AP23)+(R24*AP24))/SUM(R2:R24) -> 0.5 | S33: =((S2*AP2)+(S3*AP3)+(S4*AP4)+(S5*AP5)+(S6*AP6)+(S7*AP7)+(S8*AP8)+(S9*AP9)+(S10*AP10)+(S11*AP11)+(S12*AP12)+(S13*AP13)+(S14*AP14)+(S15*AP15)+(S16*AP16)+(S17*AP17)+(S18*AP18)+(S19*AP19)+(S20*AP20)+(S21*AP21)+(S22*AP22)+(S23*AP23)+(S24*AP24))/SUM(S2:S24) -> 0 | T33: =((T2*AP2)+(T3*AP3)+(T4*AP4)+(T5*AP5)+(T6*AP6)+(T7*AP7)+(T8*AP8)+(T9*AP9)+(T10*AP10)+(T11*AP11)+(T12*AP12)+(T13*AP13)+(T14*AP14)+(T15*AP15)+(T16*AP16)+(T17*AP17)+(T18*AP18)+(T19*AP19)+(T20*AP20)+(T21*AP21)+(T22*AP22)+(T23*AP23)+(T24*AP24))/SUM(T2:T24) -> 0.5 | U33: =((U2*AP2)+(U3*AP3)+(U4*AP4)+(U5*AP5)+(U6*AP6)+(U7*AP7)+(U8*AP8)+(U9*AP9)+(U10*AP10)+(U11*AP11)+(U12*AP12)+(U13*AP13)+(U14*AP14)+(U15*AP15)+(U16*AP16)+(U17*AP17)+(U18*AP18)+(U19*AP19)+(U20*AP20)+(U21*AP21)+(U22*AP22)+(U23*AP23)+(U24*AP24))/SUM(U2:U24) -> 0.75 | V33: =((V2*AP2)+(V3*AP3)+(V4*AP4)+(V5*AP5)+(V6*AP6)+(V7*AP7)+(V8*AP8)+(V9*AP9)+(V10*AP10)+(V11*AP11)+(V12*AP12)+(V13*AP13)+(V14*AP14)+(V15*AP15)+(V16*AP16)+(V17*AP17)+(V18*AP18)+(V19*AP19)+(V20*AP20)+(V21*AP21)+(V22*AP22)+(V23*AP23)+(V24*AP24))/SUM(V2:V24) -> 0.42857143 | W33: =((W2*AP2)+(W3*AP3)+(W4*AP4)+(W5*AP5)+(W6*AP6)+(W7*AP7)+(W8*AP8)+(W9*AP9)+(W10*AP10)+(W11*AP11)+(W12*AP12)+(W13*AP13)+(W14*AP14)+(W15*AP15)+(W16*AP16)+(W17*AP17)+(W18*AP18)+(W19*AP19)+(W20*AP20)+(W21*AP21)+(W22*AP22)+(W23*AP23)+(W24*AP24))/SUM(W2:W24) -> 0.42857143 | X33: =((X2*AP2)+(X3*AP3)+(X4*AP4)+(X5*AP5)+(X6*AP6)+(X7*AP7)+(X8*AP8)+(X9*AP9)+(X10*AP10)+(X11*AP11)+(X12*AP12)+(X13*AP13)+(X14*AP14)+(X15*AP15)+(X16*AP16)+(X17*AP17)+(X18*AP18)+(X19*AP19)+(X20*AP20)+(X21*AP21)+(X22*AP22)+(X23*AP23)+(X24*AP24))/SUM(X2:X24) -> 0.42857143 | Y33: =((Y2*AP2)+(Y3*AP3)+(Y4*AP4)+(Y5*AP5)+(Y6*AP6)+(Y7*AP7)+(Y8*AP8)+(Y9*AP9)+(Y10*AP10)+(Y11*AP11)+(Y12*AP12)+(Y13*AP13)+(Y14*AP14)+(Y15*AP15)+(Y16*AP16)+(Y17*AP17)+(Y18*AP18)+(Y19*AP19)+(Y20*AP20)+(Y21*AP21)+(Y22*AP22)+(Y23*AP23)+(Y24*AP24))/SUM(Y2:Y24) -> 0 | Z33: =((Z2*AP2)+(Z3*AP3)+(Z4*AP4)+(Z5*AP5)+(Z6*AP6)+(Z7*AP7)+(Z8*AP8)+(Z9*AP9)+(Z10*AP10)+(Z11*AP11)+(Z12*AP12)+(Z13*AP13)+(Z14*AP14)+(Z15*AP15)+(Z16*AP16)+(Z17*AP17)+(Z18*AP18)+(Z19*AP19)+(Z20*AP20)+(Z21*AP21)+(Z22*AP22)+(Z23*AP23)+(Z24*AP24))/SUM(Z2:Z24) -> 0 | AA33: =((AA2*AP2)+(AA3*AP3)+(AA4*AP4)+(AA5*AP5)+(AA6*AP6)+(AA7*AP7)+(AA8*AP8)+(AA9*AP9)+(AA10*AP10)+(AA11*AP11)+(AA12*AP12)+(AA13*AP13)+(AA14*AP14)+(AA15*AP15)+(AA16*AP16)+(AA17*AP17)+(AA18*AP18)+(AA19*AP19)+(AA20*AP20)+(AA21*AP21)+(AA22*AP22)+(AA23*AP23)+(AA24*AP24))/SUM(AA2:AA24) -> 0 | AB33: =((AB2*AP2)+(AB3*AP3)+(AB4*AP4)+(AB5*AP5)+(AB6*AP6)+(AB7*AP7)+(AB8*AP8)+(AB9*AP9)+(AB10*AP10)+(AB11*AP11)+(AB12*AP12)+(AB13*AP13)+(AB14*AP14)+(AB15*AP15)+(AB16*AP16)+(AB17*AP17)+(AB18*AP18)+(AB19*AP19)+(AB20*AP20)+(AB21*AP21)+(AB22*AP22)+(AB23*AP23)+(AB24*AP24))/SUM(AB2:AB24) -> 0.42857143 | AC33: =((AC2*AP2)+(AC3*AP3)+(AC4*AP4)+(AC5*AP5)+(AC6*AP6)+(AC7*AP7)+(AC8*AP8)+(AC9*AP9)+(AC10*AP10)+(AC11*AP11)+(AC12*AP12)+(AC13*AP13)+(AC14*AP14)+(AC15*AP15)+(AC16*AP16)+(AC17*AP17)+(AC18*AP18)+(AC19*AP19)+(AC20*AP20)+(AC21*AP21)+(AC22*AP22)+(AC23*AP23)+(AC24*AP24))/SUM(AC2:AC24) -> 0.5 | AD33: =((AD2*AP2)+(AD3*AP3)+(AD4*AP4)+(AD5*AP5)+(AD6*AP6)+(AD7*AP7)+(AD8*AP8)+(AD9*AP9)+(AD10*AP10)+(AD11*AP11)+(AD12*AP12)+(AD13*AP13)+(AD14*AP14)+(AD15*AP15)+(AD16*AP16)+(AD17*AP17)+(AD18*AP18)+(AD19*AP19)+(AD20*AP20)+(AD21*AP21)+(AD22*AP22)+(AD23*AP23)+(AD24*AP24))/SUM(AD2:AD24) -> 0.3 | AE33: =((AE2*AP2)+(AE3*AP3)+(AE4*AP4)+(AE5*AP5)+(AE6*AP6)+(AE7*AP7)+(AE8*AP8)+(AE9*AP9)+(AE10*AP10)+(AE11*AP11)+(AE12*AP12)+(AE13*AP13)+(AE14*AP14)+(AE15*AP15)+(AE16*AP16)+(AE17*AP17)+(AE18*AP18)+(AE19*AP19)+(AE20*AP20)+(AE21*AP21)+(AE22*AP22)+(AE23*AP23)+(AE24*AP24))/SUM(AE2:AE24) -> 0 | AF33: =((AF2*AP2)+(AF3*AP3)+(AF4*AP4)+(AF5*AP5)+(AF6*AP6)+(AF7*AP7)+(AF8*AP8)+(AF9*AP9)+(AF10*AP10)+(AF11*AP11)+(AF12*AP12)+(AF13*AP13)+(AF14*AP14)+(AF15*AP15)+(AF16*AP16)+(AF17*AP17)+(AF18*AP18)+(AF19*AP19)+(AF20*AP20)+(AF21*AP21)+(AF22*AP22)+(AF23*AP23)+(AF24*AP24))/SUM(AF2:AF24) -> 0 | AG33: =((AG2*AP2)+(AG3*AP3)+(AG4*AP4)+(AG5*AP5)+(AG6*AP6)+(AG7*AP7)+(AG8*AP8)+(AG9*AP9)+(AG10*AP10)+(AG11*AP11)+(AG12*AP12)+(AG13*AP13)+(AG14*AP14)+(AG15*AP15)+(AG16*AP16)+(AG17*AP17)+(AG18*AP18)+(AG19*AP19)+(AG20*AP20)+(AG21*AP21)+(AG22*AP22)+(AG23*AP23)+(AG24*AP24))/SUM(AG2:AG24) -> 0.33333333 | AH33: =((AH2*AP2)+(AH3*AP3)+(AH4*AP4)+(AH5*AP5)+(AH6*AP6)+(AH7*AP7)+(AH8*AP8)+(AH9*AP9)+(AH10*AP10)+(AH11*AP11)+(AH12*AP12)+(AH13*AP13)+(AH14*AP14)+(AH15*AP15)+(AH16*AP16)+(AH17*AP17)+(AH18*AP18)+(AH19*AP19)+(AH20*AP20)+(AH21*AP21)+(AH22*AP22)+(AH23*AP23)+(AH24*AP24))/SUM(AH2:AH24) -> 0.42857143 | AI33: =((AI2*AP2)+(AI3*AP3)+(AI4*AP4)+(AI5*AP5)+(AI6*AP6)+(AI7*AP7)+(AI8*AP8)+(AI9*AP9)+(AI10*AP10)+(AI11*AP11)+(AI12*AP12)+(AI13*AP13)+(AI14*AP14)+(AI15*AP15)+(AI16*AP16)+(AI17*AP17)+(AI18*AP18)+(AI19*AP19)+(AI20*AP20)+(AI21*AP21)+(AI22*AP22)+(AI23*AP23)+(AI24*AP24))/SUM(AI2:AI24) -> 0.6 | AJ33: =((AJ2*AP2)+(AJ3*AP3)+(AJ4*AP4)+(AJ5*AP5)+(AJ6*AP6)+(AJ7*AP7)+(AJ8*AP8)+(AJ9*AP9)+(AJ10*AP10)+(AJ11*AP11)+(AJ12*AP12)+(AJ13*AP13)+(AJ14*AP14)+(AJ15*AP15)+(AJ16*AP16)+(AJ17*AP17)+(AJ18*AP18)+(AJ19*AP19)+(AJ20*AP20)+(AJ21*AP21)+(AJ22*AP22)+(AJ23*AP23)+(AJ24*AP24))/SUM(AJ2:AJ24) -> 0.33333333
A34: δi for CSC Type 1 (CSC1) | B34: =B28*B29 -> 3 | C34: =C28*C29 -> 5 | D34: =D28*D29 -> 4 | E34: =E28*E29 -> 4 | F34: =F28*F29 -> 5 | G34: =G28*G29 -> 3 | H34: =H28*H29 -> 3 | I34: =I28*I29 -> 3 | ... AJ34: =AJ28*AJ29 -> 4
A35: δi for CSC Type 2 (CSC2) | B35: =B28*B30 -> 3 | C35: =C28*C30 -> 5 | D35: =D28*D30 -> 0 | E35: =E28*E30 -> 4 | F35: =F28*F30 -> 5 | G35: =G28*G30 -> 3 | H35: =H28*H30 -> 3 | I35: =I28*I30 -> 2.25 | ... AJ35: =AJ28*AJ30 -> 4
A36: δi for CSC Type 3 (CSC3) | B36: =B28*B31 -> 3 | C36: =C28*C31 -> 4.375 | D36: =D28*D31 -> 0 | E36: =E28*E31 -> 2.4 | F36: =F28*F31 -> 4 | G36: =G28*G31 -> 2.4 | H36: =H28*H31 -> 3 | I36: =I28*I31 -> 2.25 | ... AJ36: =AJ28*AJ31 -> 3.5555556
A37: δi for CSC Type 4 (CSC4) | B37: =B28*B32 -> 2 | C37: =C28*C32 -> 3.125 | D37: =D28*D32 -> 0 | E37: =E28*E32 -> 2.6666667 | F37: =F28*F32 -> 2 | G37: =G28*G32 -> 1.8 | H37: =H28*H32 -> 2.1428571 | I37: =I28*I32 -> 1.5 | ... AJ37: =AJ28*AJ32 -> 2.6666667
A38: δi for CSC Type 5 (CSC5) | B38: =B28*B33 -> 1.5 | C38: =C28*C33 -> 1.875 | D38: =D28*D33 -> 0 | E38: =E28*E33 -> 2 | F38: =F28*F33 -> 0 | G38: =G28*G33 -> 0.9 | H38: =H28*H33 -> 1.2857143 | I38: =I28*I33 -> 0 | ... AJ38: =AJ28*AJ33 -> 1.3333333

Sheet GraphicsVulnerability

Sheet TotalVulnerability
A1: Provider | B1: Vulnerability Index | F1: Adjusted Probabilities (Quantitative) | I1: Adjusted Probabilities (Qualitative) | L1: Adjusted Probabilities (HR Qualitative)
B2: Average | C2: Privacy | D2: Security | E2: Service | F2: Privacy | G2: Security | H2: Service | I2: Privacy | J2: Security | K2: Service | L2: Privacy | M2: Security | N2: Service | P2: HIGH RESOLUTION SCALE
A3: Alligator | B3: =Alligator!D38 -> 0.29727886 | C3: =Alligator!I38 -> 0.29873366 | D3: =Alligator!J38 -> 0.2790335 | E3: =Alligator!K38 -> 0.29611573 | F3: =Alligator!L38 -> 0.99240946 | G3: =Alligator!M38 -> 0.79340128 | H3: =Alligator!N38 -> 0.85039577 | I3: =IF(F3>4,"VERY HIGH",IF(F3>3,"HIGH",IF(F3>2,"MEDIUM",IF(F3>1,"LOW","VERY LOW")))) -> VERY LOW | J3: =IF(G3>4,"VERY HIGH",IF(G3>3,"HIGH",IF(G3>2,"MEDIUM",IF(G3>1,"LOW","VERY LOW")))) -> VERY LOW | K3: =IF(H3>4,"VERY HIGH",IF(H3>3,"HIGH",IF(H3>2,"MEDIUM",IF(H3>1,"LOW","VERY LOW")))) -> VERY LOW | L3: =IF(F3>=4.5,"NOT RECOMMENDED",IF(F3>=4,"EXTREME HIGH",IF(F3>=3.5,"VERY HIGH",IF(F3>=3,"HIGH",IF(F3>=2.5,"ABOVE AVERAGE",IF(F3>=2,"BELOW AVERAGE",IF(F3>=1.5,"LOW",IF(F3>=1,"VERY LOW",IF(F3>=0.5,"EXTREME LOW","NEGLIGIBLE"))))))))) -> EXTREME LOW | M3: =IF(G3>=4.5,"NOT RECOMMENDED",IF(G3>=4,"EXTREME HIGH",IF(G3>=3.5,"VERY HIGH",IF(G3>=3,"HIGH",IF(G3>=2.5,"ABOVE AVERAGE",IF(G3>=2,"BELOW AVERAGE",IF(G3>=1.5,"LOW",IF(G3>=1,"VERY LOW",IF(G3>=0.5,"EXTREME LOW","NEGLIGIBLE"))))))))) -> EXTREME LOW | N3: =IF(H3>=4.5,"NOT RECOMMENDED",IF(H3>=4,"EXTREME HIGH",IF(H3>=3.5,"VERY HIGH",IF(H3>=3,"HIGH",IF(H3>=2.5,"ABOVE AVERAGE",IF(H3>=2,"BELOW AVERAGE",IF(H3>=1.5,"LOW",IF(H3>=1,"VERY LOW",IF(H3>=0.5,"EXTREME LOW","NEGLIGIBLE"))))))))) -> EXTREME LOW | P3: NOT RECOMMENDED | Q3: (4.5-5)
A4: Armadillo | B4: =Armadillo!D38 -> 0.1202957 | C4: =Armadillo!I38 -> 0.12699331 | D4: =Armadillo!J38 -> 0.11148962 | E4: =Armadillo!K38 -> 0.11401181 | F4: =Armadillo!L38 -> 0.43568665 | G4: =Armadillo!M38 -> 0.31278867 | H4: =Armadillo!N38 -> 0.32439462 | I4: =IF(F4>4,"VERY HIGH",IF(F4>3,"HIGH",IF(F4>2,"MEDIUM",IF(F4>1,"LOW","VERY LOW")))) -> VERY LOW | J4: =IF(G4>4,"VERY HIGH",IF(G4>3,"HIGH",IF(G4>2,"MEDIUM",IF(G4>1,"LOW","VERY LOW")))) -> VERY LOW | K4: =IF(H4>4,"VERY HIGH",IF(H4>3,"HIGH",IF(H4>2,"MEDIUM",IF(H4>1,"LOW","VERY LOW")))) -> VERY LOW | L4: =IF(F4>=4.5,"NOT RECOMMENDED",IF(F4>=4,"EXTREME HIGH",IF(F4>=3.5,"VERY HIGH",IF(F4>=3,"HIGH",IF(F4>=2.5,"ABOVE AVERAGE",IF(F4>=2,"BELOW AVERAGE",IF(F4>=1.5,"LOW",IF(F4>=1,"VERY LOW",IF(F4>=0.5,"EXTREME LOW","NEGLIGIBLE"))))))))) -> NEGLIGIBLE | M4: =IF(G4>=4.5,"NOT RECOMMENDED",IF(G4>=4,"EXTREME HIGH",IF(G4>=3.5,"VERY HIGH",IF(G4>=3,"HIGH",IF(G4>=2.5,"ABOVE AVERAGE",IF(G4>=2,"BELOW AVERAGE",IF(G4>=1.5,"LOW",IF(G4>=1,"VERY LOW",IF(G4>=0.5,"EXTREME LOW","NEGLIGIBLE"))))))))) -> NEGLIGIBLE | N4: =IF(H4>=4.5,"NOT RECOMMENDED",IF(H4>=4,"EXTREME HIGH",IF(H4>=3.5,"VERY HIGH",IF(H4>=3,"HIGH",IF(H4>=2.5,"ABOVE AVERAGE",IF(H4>=2,"BELOW AVERAGE",IF(H4>=1.5,"LOW",IF(H4>=1,"VERY LOW",IF(H4>=0.5,"EXTREME LOW","NEGLIGIBLE"))))))))) -> NEGLIGIBLE | P4: EXTREME HIGH | Q4: (4-4.5]
A5: Blackbear | B5: =Blackbear!D38 -> 0.34010638 | C5: =Blackbear!I38 -> 0.34731577 | D5: =Blackbear!J38 -> 0.35471456 | E5: =Blackbear!K38 -> 0.33523917 | F5: =Blackbear!L38 -> 1.0231309 | G5: =Blackbear!M38 -> 0.92552359 | H5: =Blackbear!N38 -> 0.88218522 | I5: =IF(F5>4,"VERY HIGH",IF(F5>3,"HIGH",IF(F5>2,"MEDIUM",IF(F5>1,"LOW","VERY LOW")))) -> LOW | J5: =IF(G5>4,"VERY HIGH",IF(G5>3,"HIGH",IF(G5>2,"MEDIUM",IF(G5>1,"LOW","VERY LOW")))) -> VERY LOW | K5: =IF(H5>4,"VERY HIGH",IF(H5>3,"HIGH",IF(H5>2,"MEDIUM",IF(H5>1,"LOW","VERY LOW")))) -> VERY LOW | L5: =IF(F5>=4.5,"NOT RECOMMENDED",IF(F5>=4,"EXTREME HIGH",IF(F5>=3.5,"VERY HIGH",IF(F5>=3,"HIGH",IF(F5>=2.5,"ABOVE AVERAGE",IF(F5>=2,"BELOW AVERAGE",IF(F5>=1.5,"LOW",IF(F5>=1,"VERY LOW",IF(F5>=0.5,"EXTREME LOW","NEGLIGIBLE"))))))))) -> VERY LOW | M5: =IF(G5>=4.5,"NOT RECOMMENDED",IF(G5>=4,"EXTREME HIGH",IF(G5>=3.5,"VERY HIGH",IF(G5>=3,"HIGH",IF(G5>=2.5,"ABOVE AVERAGE",IF(G5>=2,"BELOW AVERAGE",IF(G5>=1.5,"LOW",IF(G5>=1,"VERY LOW",IF(G5>=0.5,"EXTREME LOW","NEGLIGIBLE"))))))))) -> EXTREME LOW | N5: =IF(H5>=4.5,"NOT RECOMMENDED",IF(H5>=4,"EXTREME HIGH",IF(H5>=3.5,"VERY HIGH",IF(H5>=3,"HIGH",IF(H5>=2.5,"ABOVE AVERAGE",IF(H5>=2,"BELOW AVERAGE",IF(H5>=1.5,"LOW",IF(H5>=1,"VERY LOW",IF(H5>=0.5,"EXTREME LOW","NEGLIGIBLE"))))))))) -> EXTREME LOW | P5: VERY HIGH | Q5: (3.5-4]
A6: Buffalo | B6: =Buffalo!D38 -> 0.071377155 | C6: =Buffalo!I38 -> 0.07244674 | D6: =Buffalo!J38 -> 0.081009366 | E6: =Buffalo!K38 -> 0.073269629 | F6: =Buffalo!L38 -> 0.17699114 | G6: =Buffalo!M38 -> 0.18853953 | H6: =Buffalo!N38 -> 0.16882116 | I6: =IF(F6>4,"VERY HIGH",IF(F6>3,"HIGH",IF(F6>2,"MEDIUM",IF(F6>1,"LOW","VERY LOW")))) -> VERY LOW | J6: =IF(G6>4,"VERY HIGH",IF(G6>3,"HIGH",IF(G6>2,"MEDIUM",IF(G6>1,"LOW","VERY LOW")))) -> VERY LOW | K6: =IF(H6>4,"VERY HIGH",IF(H6>3,"HIGH",IF(H6>2,"MEDIUM",IF(H6>1,"LOW","VERY LOW")))) -> VERY LOW | L6: =IF(F6>=4.5,"NOT RECOMMENDED",IF(F6>=4,"EXTREME HIGH",IF(F6>=3.5,"VERY HIGH",IF(F6>=3,"HIGH",IF(F6>=2.5,"ABOVE AVERAGE",IF(F6>=2,"BELOW AVERAGE",IF(F6>=1.5,"LOW",IF(F6>=1,"VERY LOW",IF(F6>=0.5,"EXTREME LOW","NEGLIGIBLE"))))))))) -> NEGLIGIBLE | M6: =IF(G6>=4.5,"NOT RECOMMENDED",IF(G6>=4,"EXTREME HIGH",IF(G6>=3.5,"VERY HIGH",IF(G6>=3,"HIGH",IF(G6>=2.5,"ABOVE AVERAGE",IF(G6>=2,"BELOW AVERAGE",IF(G6>=1.5,"LOW",IF(G6>=1,"VERY LOW",IF(G6>=0.5,"EXTREME LOW","NEGLIGIBLE"))))))))) -> NEGLIGIBLE | N6: =IF(H6>=4.5,"NOT RECOMMENDED",IF(H6>=4,"EXTREME HIGH",IF(H6>=3.5,"VERY HIGH",IF(H6>=3,"HIGH",IF(H6>=2.5,"ABOVE AVERAGE",IF(H6>=2,"BELOW AVERAGE",IF(H6>=1.5,"LOW",IF(H6>=1,"VERY LOW",IF(H6>=0.5,"EXTREME LOW","NEGLIGIBLE"))))))))) -> NEGLIGIBLE | P6: HIGH | Q6: (3-3.5]
A7: Camel | B7: =Camel!D38 -> 0.1086089 | C7: =Camel!I38 -> 0.10179329 | D7: =Camel!J38 -> 0.10285954 | E7: =Camel!K38 -> 0.10829249 | F7: =Camel!L38 -> 0.29729949 | G7: =Camel!M38 -> 0.2697853 | H7: =Camel!N38 -> 0.26757489 | I7: =IF(F7>4,"VERY HIGH",IF(F7>3,"HIGH",IF(F7>2,"MEDIUM",IF(F7>1,"LOW","VERY LOW")))) -> VERY LOW | J7: =IF(G7>4,"VERY HIGH",IF(G7>3,"HIGH",IF(G7>2,"MEDIUM",IF(G7>1,"LOW","VERY LOW")))) -> VERY LOW | K7: =IF(H7>4,"VERY HIGH",IF(H7>3,"HIGH",IF(H7>2,"MEDIUM",IF(H7>1,"LOW","VERY LOW")))) -> VERY LOW | L7: =IF(F7>=4.5,"NOT RECOMMENDED",IF(F7>=4,"EXTREME HIGH",IF(F7>=3.5,"VERY HIGH",IF(F7>=3,"HIGH",IF(F7>=2.5,"ABOVE AVERAGE",IF(F7>=2,"BELOW AVERAGE",IF(F7>=1.5,"LOW",IF(F7>=1,"VERY LOW",IF(F7>=0.5,"EXTREME LOW","NEGLIGIBLE"))))))))) -> NEGLIGIBLE | M7: =IF(G7>=4.5,"NOT RECOMMENDED",IF(G7>=4,"EXTREME HIGH",IF(G7>=3.5,"VERY HIGH",IF(G7>=3,"HIGH",IF(G7>=2.5,"ABOVE AVERAGE",IF(G7>=2,"BELOW AVERAGE",IF(G7>=1.5,"LOW",IF(G7>=1,"VERY LOW",IF(G7>=0.5,"EXTREME LOW","NEGLIGIBLE"))))))))) -> NEGLIGIBLE | N7: =IF(H7>=4.5,"NOT RECOMMENDED",IF(H7>=4,"EXTREME HIGH",IF(H7>=3.5,"VERY HIGH",IF(H7>=3,"HIGH",IF(H7>=2.5,"ABOVE AVERAGE",IF(H7>=2,"BELOW AVERAGE",IF(H7>=1.5,"LOW",IF(H7>=1,"VERY LOW",IF(H7>=0.5,"EXTREME LOW","NEGLIGIBLE"))))))))) -> NEGLIGIBLE | P7: ABOVE AVERAGE | Q7: (2.5-3]
A8: Cat | B8: =Cat!D38 -> 0.24938639 | C8: =Cat!I38 -> 0.2303938 | D8: =Cat!J38 -> 0.23010079 | E8: =Cat!K38 -> 0.25991595 | F8: =Cat!L38 -> 0.71130237 | G8: =Cat!M38 -> 0.61771497 | H8: =Cat!N38 -> 0.69100731 | I8: =IF(F8>4,"VERY HIGH",IF(F8>3,"HIGH",IF(F8>2,"MEDIUM",IF(F8>1,"LOW","VERY LOW")))) -> VERY LOW | J8: =IF(G8>4,"VERY HIGH",IF(G8>3,"HIGH",IF(G8>2,"MEDIUM",IF(G8>1,"LOW","VERY LOW")))) -> VERY LOW | K8: =IF(H8>4,"VERY HIGH",IF(H8>3,"HIGH",IF(H8>2,"MEDIUM",IF(H8>1,"LOW","VERY LOW")))) -> VERY LOW | L8: =IF(F8>=4.5,"NOT RECOMMENDED",IF(F8>=4,"EXTREME HIGH",IF(F8>=3.5,"VERY HIGH",IF(F8>=3,"HIGH",IF(F8>=2.5,"ABOVE AVERAGE",IF(F8>=2,"BELOW AVERAGE",IF(F8>=1.5,"LOW",IF(F8>=1,"VERY LOW",IF(F8>=0.5,"EXTREME LOW","NEGLIGIBLE"))))))))) -> EXTREME LOW | M8: =IF(G8>=4.5,"NOT RECOMMENDED",IF(G8>=4,"EXTREME HIGH",IF(G8>=3.5,"VERY HIGH",IF(G8>=3,"HIGH",IF(G8>=2.5,"ABOVE AVERAGE",IF(G8>=2,"BELOW AVERAGE",IF(G8>=1.5,"LOW",IF(G8>=1,"VERY LOW",IF(G8>=0.5,"EXTREME LOW","NEGLIGIBLE"))))))))) -> EXTREME LOW | N8: =IF(H8>=4.5,"NOT RECOMMENDED",IF(H8>=4,"EXTREME HIGH",IF(H8>=3.5,"VERY HIGH",IF(H8>=3,"HIGH",IF(H8>=2.5,"ABOVE AVERAGE",IF(H8>=2,"BELOW AVERAGE",IF(H8>=1.5,"LOW",IF(H8>=1,"VERY LOW",IF(H8>=0.5,"EXTREME LOW","NEGLIGIBLE"))))))))) -> EXTREME LOW | P8: BELOW AVERAGE | Q8: (2-2.5]
A9: Crocodile | B9: =Crocodile!D38 -> 0.36242211 | C9: =Crocodile!I38 -> 0.34658858 | D9: =Crocodile!J38 -> 0.35268033 | E9: =Crocodile!K38 -> 0.36520266 | F9: =Crocodile!L38 -> 1.0431811 | G9: =Crocodile!M38 -> 0.93368985 | H9: =Crocodile!N38 -> 0.96883217 | I9: =IF(F9>4,"VERY HIGH",IF(F9>3,"HIGH",IF(F9>2,"MEDIUM",IF(F9>1,"LOW","VERY LOW")))) -> LOW | J9: =IF(G9>4,"VERY HIGH",IF(G9>3,"HIGH",IF(G9>2,"MEDIUM",IF(G9>1,"LOW","VERY LOW")))) -> VERY LOW | K9: =IF(H9>4,"VERY HIGH",IF(H9>3,"HIGH",IF(H9>2,"MEDIUM",IF(H9>1,"LOW","VERY LOW")))) -> VERY LOW | L9: =IF(F9>=4.5,"NOT RECOMMENDED",IF(F9>=4,"EXTREME HIGH",IF(F9>=3.5,"VERY HIGH",IF(F9>=3,"HIGH",IF(F9>=2.5,"ABOVE AVERAGE",IF(F9>=2,"BELOW AVERAGE",IF(F9>=1.5,"LOW",IF(F9>=1,"VERY LOW",IF(F9>=0.5,"EXTREME LOW","NEGLIGIBLE"))))))))) -> VERY LOW | M9: =IF(G9>=4.5,"NOT RECOMMENDED",IF(G9>=4,"EXTREME HIGH",IF(G9>=3.5,"VERY HIGH",IF(G9>=3,"HIGH",IF(G9>=2.5,"ABOVE AVERAGE",IF(G9>=2,"BELOW AVERAGE",IF(G9>=1.5,"LOW",IF(G9>=1,"VERY LOW",IF(G9>=0.5,"EXTREME LOW","NEGLIGIBLE"))))))))) -> EXTREME LOW | N9: =IF(H9>=4.5,"NOT RECOMMENDED",IF(H9>=4,"EXTREME HIGH",IF(H9>=3.5,"VERY HIGH",IF(H9>=3,"HIGH",IF(H9>=2.5,"ABOVE AVERAGE",IF(H9>=2,"BELOW AVERAGE",IF(H9>=1.5,"LOW",IF(H9>=1,"VERY LOW",IF(H9>=0.5,"EXTREME LOW","NEGLIGIBLE"))))))))) -> EXTREME LOW | P9: LOW | Q9: (1.5-2]
A10: Dog | B10: =Dog!D38 -> 0.26529453 | C10: =Dog!I38 -> 0.25219417 | D10: =Dog!J38 -> 0.25564291 | E10: =Dog!K38 -> 0.2771717 | F10: =Dog!L38 -> 0.76683538 | G10: =Dog!M38 -> 0.66927304 | H10: =Dog!N38 -> 0.72036275 | I10: =IF(F10>4,"VERY HIGH",IF(F10>3,"HIGH",IF(F10>2,"MEDIUM",IF(F10>1,"LOW","VERY LOW")))) -> VERY LOW | J10: =IF(G10>4,"VERY HIGH",IF(G10>3,"HIGH",IF(G10>2,"MEDIUM",IF(G10>1,"LOW","VERY LOW")))) -> VERY LOW | K10: =IF(H10>4,"VERY HIGH",IF(H10>3,"HIGH",IF(H10>2,"MEDIUM",IF(H10>1,"LOW","VERY LOW")))) -> VERY LOW | L10: =IF(F10>=4.5,"NOT RECOMMENDED",IF(F10>=4,"EXTREME HIGH",IF(F10>=3.5,"VERY HIGH",IF(F10>=3,"HIGH",IF(F10>=2.5,"ABOVE AVERAGE",IF(F10>=2,"BELOW AVERAGE",IF(F10>=1.5,"LOW",IF(F10>=1,"VERY LOW",IF(F10>=0.5,"EXTREME LOW","NEGLIGIBLE"))))))))) -> EXTREME LOW | M10: =IF(G10>=4.5,"NOT RECOMMENDED",IF(G10>=4,"EXTREME HIGH",IF(G10>=3.5,"VERY HIGH",IF(G10>=3,"HIGH",IF(G10>=2.5,"ABOVE AVERAGE",IF(G10>=2,"BELOW AVERAGE",IF(G10>=1.5,"LOW",IF(G10>=1,"VERY LOW",IF(G10>=0.5,"EXTREME LOW","NEGLIGIBLE"))))))))) -> EXTREME LOW | N10: =IF(H10>=4.5,"NOT RECOMMENDED",IF(H10>=4,"EXTREME HIGH",IF(H10>=3.5,"VERY HIGH",IF(H10>=3,"HIGH",IF(H10>=2.5,"ABOVE AVERAGE",IF(H10>=2,"BELOW AVERAGE",IF(H10>=1.5,"LOW",IF(H10>=1,"VERY LOW",IF(H10>=0.5,"EXTREME LOW","NEGLIGIBLE"))))))))) -> EXTREME LOW | P10: VERY LOW | Q10: (1-1.5]
A11: Dolphin | B11: =Dolphin!D38 -> 0.027036537 | C11: =Dolphin!I38 -> 0.021908426 | D11: =Dolphin!J38 -> 0.02634118 | E11: =Dolphin!K38 -> 0.029706589 | F11: =Dolphin!L38 -> 0.069123378 | G11: =Dolphin!M38 -> 0.071438011 | H11: =Dolphin!N38 -> 0.085078806 | I11: =IF(F11>4,"VERY HIGH",IF(F11>3,"HIGH",IF(F11>2,"MEDIUM",IF(F11>1,"LOW","VERY LOW")))) -> VERY LOW | J11: =IF(G11>4,"VERY HIGH",IF(G11>3,"HIGH",IF(G11>2,"MEDIUM",IF(G11>1,"LOW","VERY LOW")))) -> VERY LOW | K11: =IF(H11>4,"VERY HIGH",IF(H11>3,"HIGH",IF(H11>2,"MEDIUM",IF(H11>1,"LOW","VERY LOW")))) -> VERY LOW | L11: =IF(F11>=4.5,"NOT RECOMMENDED",IF(F11>=4,"EXTREME HIGH",IF(F11>=3.5,"VERY HIGH",IF(F11>=3,"HIGH",IF(F11>=2.5,"ABOVE AVERAGE",IF(F11>=2,"BELOW AVERAGE",IF(F11>=1.5,"LOW",IF(F11>=1,"VERY LOW",IF(F11>=0.5,"EXTREME LOW","NEGLIGIBLE"))))))))) -> NEGLIGIBLE | M11: =IF(G11>=4.5,"NOT RECOMMENDED",IF(G11>=4,"EXTREME HIGH",IF(G11>=3.5,"VERY HIGH",IF(G11>=3,"HIGH",IF(G11>=2.5,"ABOVE AVERAGE",IF(G11>=2,"BELOW AVERAGE",IF(G11>=1.5,"LOW",IF(G11>=1,"VERY LOW",IF(G11>=0.5,"EXTREME LOW","NEGLIGIBLE"))))))))) -> NEGLIGIBLE | N11: =IF(H11>=4.5,"NOT RECOMMENDED",IF(H11>=4,"EXTREME HIGH",IF(H11>=3.5,"VERY HIGH",IF(H11>=3,"HIGH",IF(H11>=2.5,"ABOVE AVERAGE",IF(H11>=2,"BELOW AVERAGE",IF(H11>=1.5,"LOW",IF(H11>=1,"VERY LOW",IF(H11>=0.5,"EXTREME LOW","NEGLIGIBLE"))))))))) -> NEGLIGIBLE | P11: EXREME LOW | Q11: (0.5-1]
A12: Elephant | B12: =Elephant!D38 -> 0.35714779 | C12: =Elephant!I38 -> 0.33121358 | D12: =Elephant!J38 -> 0.32143933 | E12: =Elephant!K38 -> 0.37373928 | F12: =Elephant!L38 -> 1.0488177 | G12: =Elephant!M38 -> 0.87701556 | H12: =Elephant!N38 -> 1.0145036 | I12: =IF(F12>4,"VERY HIGH",IF(F12>3,"HIGH",IF(F12>2,"MEDIUM",IF(F12>1,"LOW","VERY LOW")))) -> LOW | J12: =IF(G12>4,"VERY HIGH",IF(G12>3,"HIGH",IF(G12>2,"MEDIUM",IF(G12>1,"LOW","VERY LOW")))) -> VERY LOW | K12: =IF(H12>4,"VERY HIGH",IF(H12>3,"HIGH",IF(H12>2,"MEDIUM",IF(H12>1,"LOW","VERY LOW")))) -> LOW | L12: =IF(F12>=4.5,"NOT RECOMMENDED",IF(F12>=4,"EXTREME HIGH",IF(F12>=3.5,"VERY HIGH",IF(F12>=3,"HIGH",IF(F12>=2.5,"ABOVE AVERAGE",IF(F12>=2,"BELOW AVERAGE",IF(F12>=1.5,"LOW",IF(F12>=1,"VERY LOW",IF(F12>=0.5,"EXTREME LOW","NEGLIGIBLE"))))))))) -> VERY LOW | M12: =IF(G12>=4.5,"NOT RECOMMENDED",IF(G12>=4,"EXTREME HIGH",IF(G12>=3.5,"VERY HIGH",IF(G12>=3,"HIGH",IF(G12>=2.5,"ABOVE AVERAGE",IF(G12>=2,"BELOW AVERAGE",IF(G12>=1.5,"LOW",IF(G12>=1,"VERY LOW",IF(G12>=0.5,"EXTREME LOW","NEGLIGIBLE"))))))))) -> EXTREME LOW | N12: =IF(H12>=4.5,"NOT RECOMMENDED",IF(H12>=4,"EXTREME HIGH",IF(H12>=3.5,"VERY HIGH",IF(H12>=3,"HIGH",IF(H12>=2.5,"ABOVE AVERAGE",IF(H12>=2,"BELOW AVERAGE",IF(H12>=1.5,"LOW",IF(H12>=1,"VERY LOW",IF(H12>=0.5,"EXTREME LOW","NEGLIGIBLE"))))))))) -> VERY LOW | P12: NEGLIGIBLE | Q12: (0-0.5]
A13: Flamingo | B13: =Flamingo!D38 -> 0.079682864 | C13: =Flamingo!I38 -> 0.065899925 | D13: =Flamingo!J38 -> 0.077987374 | E13: =Flamingo!K38 -> 0.093670512 | F13: =Flamingo!L38 -> 0.18121381 | G13: =Flamingo!M38 -> 0.19252458 | H13: =Flamingo!N38 -> 0.24014068 | I13: =IF(F13>4,"VERY HIGH",IF(F13>3,"HIGH",IF(F13>2,"MEDIUM",IF(F13>1,"LOW","VERY LOW")))) -> VERY LOW | J13: =IF(G13>4,"VERY HIGH",IF(G13>3,"HIGH",IF(G13>2,"MEDIUM",IF(G13>1,"LOW","VERY LOW")))) -> VERY LOW | K13: =IF(H13>4,"VERY HIGH",IF(H13>3,"HIGH",IF(H13>2,"MEDIUM",IF(H13>1,"LOW","VERY LOW")))) -> VERY LOW | L13: =IF(F13>=4.5,"NOT RECOMMENDED",IF(F13>=4,"EXTREME HIGH",IF(F13>=3.5,"VERY HIGH",IF(F13>=3,"HIGH",IF(F13>=2.5,"ABOVE AVERAGE",IF(F13>=2,"BELOW AVERAGE",IF(F13>=1.5,"LOW",IF(F13>=1,"VERY LOW",IF(F13>=0.5,"EXTREME LOW","NEGLIGIBLE"))))))))) -> NEGLIGIBLE | M13: =IF(G13>=4.5,"NOT RECOMMENDED",IF(G13>=4,"EXTREME HIGH",IF(G13>=3.5,"VERY HIGH",IF(G13>=3,"HIGH",IF(G13>=2.5,"ABOVE AVERAGE",IF(G13>=2,"BELOW AVERAGE",IF(G13>=1.5,"LOW",IF(G13>=1,"VERY LOW",IF(G13>=0.5,"EXTREME LOW","NEGLIGIBLE"))))))))) -> NEGLIGIBLE | N13: =IF(H13>=4.5,"NOT RECOMMENDED",IF(H13>=4,"EXTREME HIGH",IF(H13>=3.5,"VERY HIGH",IF(H13>=3,"HIGH",IF(H13>=2.5,"ABOVE AVERAGE",IF(H13>=2,"BELOW AVERAGE",IF(H13>=1.5,"LOW",IF(H13>=1,"VERY LOW",IF(H13>=0.5,"EXTREME LOW","NEGLIGIBLE"))))))))) -> NEGLIGIBLE
A14: Fox | B14: =Fox!D38 -> 0.13029582 | C14: =Fox!I38 -> 0.13072507 | D14: =Fox!J38 -> 0.11991508 | E14: =Fox!K38 -> 0.12888856 | F14: =Fox!L38 -> 0.43884967 | G14: =Fox!M38 -> 0.34580909 | H14: =Fox!N38 -> 0.3655902 | I14: =IF(F14>4,"VERY HIGH",IF(F14>3,"HIGH",IF(F14>2,"MEDIUM",IF(F14>1,"LOW","VERY LOW")))) -> VERY LOW | J14: =IF(G14>4,"VERY HIGH",IF(G14>3,"HIGH",IF(G14>2,"MEDIUM",IF(G14>1,"LOW","VERY LOW")))) -> VERY LOW | K14: =IF(H14>4,"VERY HIGH",IF(H14>3,"HIGH",IF(H14>2,"MEDIUM",IF(H14>1,"LOW","VERY LOW")))) -> VERY LOW | L14: =IF(F14>=4.5,"NOT RECOMMENDED",IF(F14>=4,"EXTREME HIGH",IF(F14>=3.5,"VERY HIGH",IF(F14>=3,"HIGH",IF(F14>=2.5,"ABOVE AVERAGE",IF(F14>=2,"BELOW AVERAGE",IF(F14>=1.5,"LOW",IF(F14>=1,"VERY LOW",IF(F14>=0.5,"EXTREME LOW","NEGLIGIBLE"))))))))) -> NEGLIGIBLE | M14: =IF(G14>=4.5,"NOT RECOMMENDED",IF(G14>=4,"EXTREME HIGH",IF(G14>=3.5,"VERY HIGH",IF(G14>=3,"HIGH",IF(G14>=2.5,"ABOVE AVERAGE",IF(G14>=2,"BELOW AVERAGE",IF(G14>=1.5,"LOW",IF(G14>=1,"VERY LOW",IF(G14>=0.5,"EXTREME LOW","NEGLIGIBLE"))))))))) -> NEGLIGIBLE | N14: =IF(H14>=4.5,"NOT RECOMMENDED",IF(H14>=4,"EXTREME HIGH",IF(H14>=3.5,"VERY HIGH",IF(H14>=3,"HIGH",IF(H14>=2.5,"ABOVE AVERAGE",IF(H14>=2,"BELOW AVERAGE",IF(H14>=1.5,"LOW",IF(H14>=1,"VERY LOW",IF(H14>=0.5,"EXTREME LOW","NEGLIGIBLE"))))))))) -> NEGLIGIBLE
A15: Frog | B15: =Frog!D38 -> 0.18438343 | C15: =Frog!I38 -> 0.17999426 | D15: =Frog!J38 -> 0.17731614 | E15: =Frog!K38 -> 0.18435908 | F15: =Frog!L38 -> 0.57887482 | G15: =Frog!M38 -> 0.49126335 | H15: =Frog!N38 -> 0.51480359 | I15: =IF(F15>4,"VERY HIGH",IF(F15>3,"HIGH",IF(F15>2,"MEDIUM",IF(F15>1,"LOW","VERY LOW")))) -> VERY LOW | J15: =IF(G15>4,"VERY HIGH",IF(G15>3,"HIGH",IF(G15>2,"MEDIUM",IF(G15>1,"LOW","VERY LOW")))) -> VERY LOW | K15: =IF(H15>4,"VERY HIGH",IF(H15>3,"HIGH",IF(H15>2,"MEDIUM",IF(H15>1,"LOW","VERY LOW")))) -> VERY LOW | L15: =IF(F15>=4.5,"NOT RECOMMENDED",IF(F15>=4,"EXTREME HIGH",IF(F15>=3.5,"VERY HIGH",IF(F15>=3,"HIGH",IF(F15>=2.5,"ABOVE AVERAGE",IF(F15>=2,"BELOW AVERAGE",IF(F15>=1.5,"LOW",IF(F15>=1,"VERY LOW",IF(F15>=0.5,"EXTREME LOW","NEGLIGIBLE"))))))))) -> EXTREME LOW | M15: =IF(G15>=4.5,"NOT RECOMMENDED",IF(G15>=4,"EXTREME HIGH",IF(G15>=3.5,"VERY HIGH",IF(G15>=3,"HIGH",IF(G15>=2.5,"ABOVE AVERAGE",IF(G15>=2,"BELOW AVERAGE",IF(G15>=1.5,"LOW",IF(G15>=1,"VERY LOW",IF(G15>=0.5,"EXTREME LOW","NEGLIGIBLE"))))))))) -> NEGLIGIBLE | N15: =IF(H15>=4.5,"NOT RECOMMENDED",IF(H15>=4,"EXTREME HIGH",IF(H15>=3.5,"VERY HIGH",IF(H15>=3,"HIGH",IF(H15>=2.5,"ABOVE AVERAGE",IF(H15>=2,"BELOW AVERAGE",IF(H15>=1.5,"LOW",IF(H15>=1,"VERY LOW",IF(H15>=0.5,"EXTREME LOW","NEGLIGIBLE"))))))))) -> EXTREME LOW
A16: Gazelle | B16: =Gazelle!D38 -> 0.49470744 | C16: =Gazelle!I38 -> 0.49060382 | D16: =Gazelle!J38 -> 0.47134136 | E16: =Gazelle!K38 -> 0.49934554 | F16: =Gazelle!L38 -> 1.527954 | G16: =Gazelle!M38 -> 1.2740588 | H16: =Gazelle!N38 -> 1.3481513 | I16: =IF(F16>4,"VERY HIGH",IF(F16>3,"HIGH",IF(F16>2,"MEDIUM",IF(F16>1,"LOW","VERY LOW")))) -> LOW | J16: =IF(G16>4,"VERY HIGH",IF(G16>3,"HIGH",IF(G16>2,"MEDIUM",IF(G16>1,"LOW","VERY LOW")))) -> LOW | K16: =IF(H16>4,"VERY HIGH",IF(H16>3,"HIGH",IF(H16>2,"MEDIUM",IF(H16>1,"LOW","VERY LOW")))) -> LOW | L16: =IF(F16>=4.5,"NOT RECOMMENDED",IF(F16>=4,"EXTREME HIGH",IF(F16>=3.5,"VERY HIGH",IF(F16>=3,"HIGH",IF(F16>=2.5,"ABOVE AVERAGE",IF(F16>=2,"BELOW AVERAGE",IF(F16>=1.5,"LOW",IF(F16>=1,"VERY LOW",IF(F16>=0.5,"EXTREME LOW","NEGLIGIBLE"))))))))) -> LOW | M16: =IF(G16>=4.5,"NOT RECOMMENDED",IF(G16>=4,"EXTREME HIGH",IF(G16>=3.5,"VERY HIGH",IF(G16>=3,"HIGH",IF(G16>=2.5,"ABOVE AVERAGE",IF(G16>=2,"BELOW AVERAGE",IF(G16>=1.5,"LOW",IF(G16>=1,"VERY LOW",IF(G16>=0.5,"EXTREME LOW","NEGLIGIBLE"))))))))) -> VERY LOW | N16: =IF(H16>=4.5,"NOT RECOMMENDED",IF(H16>=4,"EXTREME HIGH",IF(H16>=3.5,"VERY HIGH",IF(H16>=3,"HIGH",IF(H16>=2.5,"ABOVE AVERAGE",IF(H16>=2,"BELOW AVERAGE",IF(H16>=1.5,"LOW",IF(H16>=1,"VERY LOW",IF(H16>=0.5,"EXTREME LOW","NEGLIGIBLE"))))))))) -> VERY LOW
A17: Gorilla | B17: =Gorilla!D38 -> 0.069090299 | C17: =Gorilla!I38 -> 0.072014506 | D17: =Gorilla!J38 -> 0.065103355 | E17: =Gorilla!K38 -> 0.072310711 | F17: =Gorilla!L38 -> 0.24591731 | G17: =Gorilla!M38 -> 0.1876803 | H17: =Gorilla!N38 -> 0.21142406 | I17: =IF(F17>4,"VERY HIGH",IF(F17>3,"HIGH",IF(F17>2,"MEDIUM",IF(F17>1,"LOW","VERY LOW")))) -> VERY LOW | J17: =IF(G17>4,"VERY HIGH",IF(G17>3,"HIGH",IF(G17>2,"MEDIUM",IF(G17>1,"LOW","VERY LOW")))) -> VERY LOW | K17: =IF(H17>4,"VERY HIGH",IF(H17>3,"HIGH",IF(H17>2,"MEDIUM",IF(H17>1,"LOW","VERY LOW")))) -> VERY LOW | L17: =IF(F17>=4.5,"NOT RECOMMENDED",IF(F17>=4,"EXTREME HIGH",IF(F17>=3.5,"VERY HIGH",IF(F17>=3,"HIGH",IF(F17>=2.5,"ABOVE AVERAGE",IF(F17>=2,"BELOW AVERAGE",IF(F17>=1.5,"LOW",IF(F17>=1,"VERY LOW",IF(F17>=0.5,"EXTREME LOW","NEGLIGIBLE"))))))))) -> NEGLIGIBLE | M17: =IF(G17>=4.5,"NOT RECOMMENDED",IF(G17>=4,"EXTREME HIGH",IF(G17>=3.5,"VERY HIGH",IF(G17>=3,"HIGH",IF(G17>=2.5,"ABOVE AVERAGE",IF(G17>=2,"BELOW AVERAGE",IF(G17>=1.5,"LOW",IF(G17>=1,"VERY LOW",IF(G17>=0.5,"EXTREME LOW","NEGLIGIBLE"))))))))) -> NEGLIGIBLE | N17: =IF(H17>=4.5,"NOT RECOMMENDED",IF(H17>=4,"EXTREME HIGH",IF(H17>=3.5,"VERY HIGH",IF(H17>=3,"HIGH",IF(H17>=2.5,"ABOVE AVERAGE",IF(H17>=2,"BELOW AVERAGE",IF(H17>=1.5,"LOW",IF(H17>=1,"VERY LOW",IF(H17>=0.5,"EXTREME LOW","NEGLIGIBLE"))))))))) -> NEGLIGIBLE
A18: Grizzly | B18: =Grizzly!D38 -> 0.18973845 | C18: =Grizzly!I38 -> 0.19185841 | D18: =Grizzly!J38 -> 0.18696655 | E18: =Grizzly!K38 -> 0.18952968 | F18: =Grizzly!L38 -> 0.59625873 | G18: =Grizzly!M38 -> 0.50354451 | H18: =Grizzly!N38 -> 0.51206664 | I18: =IF(F18>4,"VERY HIGH",IF(F18>3,"HIGH",IF(F18>2,"MEDIUM",IF(F18>1,"LOW","VERY LOW")))) -> VERY LOW | J18: =IF(G18>4,"VERY HIGH",IF(G18>3,"HIGH",IF(G18>2,"MEDIUM",IF(G18>1,"LOW","VERY LOW")))) -> VERY LOW | K18: =IF(H18>4,"VERY HIGH",IF(H18>3,"HIGH",IF(H18>2,"MEDIUM",IF(H18>1,"LOW","VERY LOW")))) -> VERY LOW | L18: =IF(F18>=4.5,"NOT RECOMMENDED",IF(F18>=4,"EXTREME HIGH",IF(F18>=3.5,"VERY HIGH",IF(F18>=3,"HIGH",IF(F18>=2.5,"ABOVE AVERAGE",IF(F18>=2,"BELOW AVERAGE",IF(F18>=1.5,"LOW",IF(F18>=1,"VERY LOW",IF(F18>=0.5,"EXTREME LOW","NEGLIGIBLE"))))))))) -> EXTREME LOW | M18: =IF(G18>=4.5,"NOT RECOMMENDED",IF(G18>=4,"EXTREME HIGH",IF(G18>=3.5,"VERY HIGH",IF(G18>=3,"HIGH",IF(G18>=2.5,"ABOVE AVERAGE",IF(G18>=2,"BELOW AVERAGE",IF(G18>=1.5,"LOW",IF(G18>=1,"VERY LOW",IF(G18>=0.5,"EXTREME LOW","NEGLIGIBLE"))))))))) -> EXTREME LOW | N18: =IF(H18>=4.5,"NOT RECOMMENDED",IF(H18>=4,"EXTREME HIGH",IF(H18>=3.5,"VERY HIGH",IF(H18>=3,"HIGH",IF(H18>=2.5,"ABOVE AVERAGE",IF(H18>=2,"BELOW AVERAGE",IF(H18>=1.5,"LOW",IF(H18>=1,"VERY LOW",IF(H18>=0.5,"EXTREME LOW","NEGLIGIBLE"))))))))) -> EXTREME LOW
A19: Hare | B19: =Hare!D38 -> 0.44251245 | C19: =Hare!I38 -> 0.41726455 | D19: =Hare!J38 -> 0.4079366 | E19: =Hare!K38 -> 0.45534239 | F19: =Hare!L38 -> 1.3790249 | G19: =Hare!M38 -> 1.1494275 | H19: =Hare!N38 -> 1.2761814 | I19: =IF(F19>4,"VERY HIGH",IF(F19>3,"HIGH",IF(F19>2,"MEDIUM",IF(F19>1,"LOW","VERY LOW")))) -> LOW | J19: =IF(G19>4,"VERY HIGH",IF(G19>3,"HIGH",IF(G19>2,"MEDIUM",IF(G19>1,"LOW","VERY LOW")))) -> LOW | K19: =IF(H19>4,"VERY HIGH",IF(H19>3,"HIGH",IF(H19>2,"MEDIUM",IF(H19>1,"LOW","VERY LOW")))) -> LOW | L19: =IF(F19>=4.5,"NOT RECOMMENDED",IF(F19>=4,"EXTREME HIGH",IF(F19>=3.5,"VERY HIGH",IF(F19>=3,"HIGH",IF(F19>=2.5,"ABOVE AVERAGE",IF(F19>=2,"BELOW AVERAGE",IF(F19>=1.5,"LOW",IF(F19>=1,"VERY LOW",IF(F19>=0.5,"EXTREME LOW","NEGLIGIBLE"))))))))) -> VERY LOW | M19: =IF(G19>=4.5,"NOT RECOMMENDED",IF(G19>=4,"EXTREME HIGH",IF(G19>=3.5,"VERY HIGH",IF(G19>=3,"HIGH",IF(G19>=2.5,"ABOVE AVERAGE",IF(G19>=2,"BELOW AVERAGE",IF(G19>=1.5,"LOW",IF(G19>=1,"VERY LOW",IF(G19>=0.5,"EXTREME LOW","NEGLIGIBLE"))))))))) -> VERY LOW | N19: =IF(H19>=4.5,"NOT RECOMMENDED",IF(H19>=4,"EXTREME HIGH",IF(H19>=3.5,"VERY HIGH",IF(H19>=3,"HIGH",IF(H19>=2.5,"ABOVE AVERAGE",IF(H19>=2,"BELOW AVERAGE",IF(H19>=1.5,"LOW",IF(H19>=1,"VERY LOW",IF(H19>=0.5,"EXTREME LOW","NEGLIGIBLE"))))))))) -> VERY LOW
A20: Hippo | B20: =Hippo!D38 -> 0.28365787 | C20: =Hippo!I38 -> 0.27833214 | D20: =Hippo!J38 -> 0.27424942 | E20: =Hippo!K38 -> 0.28634269 | F20: =Hippo!L38 -> 0.83590868 | G20: =Hippo!M38 -> 0.72313257 | H20: =Hippo!N38 -> 0.74364535 | I20: =IF(F20>4,"VERY HIGH",IF(F20>3,"HIGH",IF(F20>2,"MEDIUM",IF(F20>1,"LOW","VERY LOW")))) -> VERY LOW | J20: =IF(G20>4,"VERY HIGH",IF(G20>3,"HIGH",IF(G20>2,"MEDIUM",IF(G20>1,"LOW","VERY LOW")))) -> VERY LOW | K20: =IF(H20>4,"VERY HIGH",IF(H20>3,"HIGH",IF(H20>2,"MEDIUM",IF(H20>1,"LOW","VERY LOW")))) -> VERY LOW | L20: =IF(F20>=4.5,"NOT RECOMMENDED",IF(F20>=4,"EXTREME HIGH",IF(F20>=3.5,"VERY HIGH",IF(F20>=3,"HIGH",IF(F20>=2.5,"ABOVE AVERAGE",IF(F20>=2,"BELOW AVERAGE",IF(F20>=1.5,"LOW",IF(F20>=1,"VERY LOW",IF(F20>=0.5,"EXTREME LOW","NEGLIGIBLE"))))))))) -> EXTREME LOW | M20: =IF(G20>=4.5,"NOT RECOMMENDED",IF(G20>=4,"EXTREME HIGH",IF(G20>=3.5,"VERY HIGH",IF(G20>=3,"HIGH",IF(G20>=2.5,"ABOVE AVERAGE",IF(G20>=2,"BELOW AVERAGE",IF(G20>=1.5,"LOW",IF(G20>=1,"VERY LOW",IF(G20>=0.5,"EXTREME LOW","NEGLIGIBLE"))))))))) -> EXTREME LOW | N20: =IF(H20>=4.5,"NOT RECOMMENDED",IF(H20>=4,"EXTREME HIGH",IF(H20>=3.5,"VERY HIGH",IF(H20>=3,"HIGH",IF(H20>=2.5,"ABOVE AVERAGE",IF(H20>=2,"BELOW AVERAGE",IF(H20>=1.5,"LOW",IF(H20>=1,"VERY LOW",IF(H20>=0.5,"EXTREME LOW","NEGLIGIBLE"))))))))) -> EXTREME LOW
A21: Hyena | B21: =Hyena!D38 -> 0.022239372 | C21: =Hyena!I38 -> 0.026636977 | D21: =Hyena!J38 -> 0.028094122 | E21: =Hyena!K38 -> 0.015429748 | F21: =Hyena!L38 -> 0.064796047 | G21: =Hyena!M38 -> 0.066435511 | H21: =Hyena!N38 -> 0.033849594 | I21: =IF(F21>4,"VERY HIGH",IF(F21>3,"HIGH",IF(F21>2,"MEDIUM",IF(F21>1,"LOW","VERY LOW")))) -> VERY LOW | J21: =IF(G21>4,"VERY HIGH",IF(G21>3,"HIGH",IF(G21>2,"MEDIUM",IF(G21>1,"LOW","VERY LOW")))) -> VERY LOW | K21: =IF(H21>4,"VERY HIGH",IF(H21>3,"HIGH",IF(H21>2,"MEDIUM",IF(H21>1,"LOW","VERY LOW")))) -> VERY LOW | L21: =IF(F21>=4.5,"NOT RECOMMENDED",IF(F21>=4,"EXTREME HIGH",IF(F21>=3.5,"VERY HIGH",IF(F21>=3,"HIGH",IF(F21>=2.5,"ABOVE AVERAGE",IF(F21>=2,"BELOW AVERAGE",IF(F21>=1.5,"LOW",IF(F21>=1,"VERY LOW",IF(F21>=0.5,"EXTREME LOW","NEGLIGIBLE"))))))))) -> NEGLIGIBLE | M21: =IF(G21>=4.5,"NOT RECOMMENDED",IF(G21>=4,"EXTREME HIGH",IF(G21>=3.5,"VERY HIGH",IF(G21>=3,"HIGH",IF(G21>=2.5,"ABOVE AVERAGE",IF(G21>=2,"BELOW AVERAGE",IF(G21>=1.5,"LOW",IF(G21>=1,"VERY LOW",IF(G21>=0.5,"EXTREME LOW","NEGLIGIBLE"))))))))) -> NEGLIGIBLE | N21: =IF(H21>=4.5,"NOT RECOMMENDED",IF(H21>=4,"EXTREME HIGH",IF(H21>=3.5,"VERY HIGH",IF(H21>=3,"HIGH",IF(H21>=2.5,"ABOVE AVERAGE",IF(H21>=2,"BELOW AVERAGE",IF(H21>=1.5,"LOW",IF(H21>=1,"VERY LOW",IF(H21>=0.5,"EXTREME LOW","NEGLIGIBLE"))))))))) -> NEGLIGIBLE
A22: Iguana | B22: =Iguana!D38 -> 0.010771151 | C22: =Iguana!I38 -> 0.010567472 | D22: =Iguana!J38 -> 0.011400451 | E22: =Iguana!K38 -> 0.010208846 | F22: =Iguana!L38 -> 0.028343162 | G22: =Iguana!M38 -> 0.028098762 | H22: =Iguana!N38 -> 0.024595196 | I22: =IF(F22>4,"VERY HIGH",IF(F22>3,"HIGH",IF(F22>2,"MEDIUM",IF(F22>1,"LOW","VERY LOW")))) -> VERY LOW | J22: =IF(G22>4,"VERY HIGH",IF(G22>3,"HIGH",IF(G22>2,"MEDIUM",IF(G22>1,"LOW","VERY LOW")))) -> VERY LOW | K22: =IF(H22>4,"VERY HIGH",IF(H22>3,"HIGH",IF(H22>2,"MEDIUM",IF(H22>1,"LOW","VERY LOW")))) -> VERY LOW | L22: =IF(F22>=4.5,"NOT RECOMMENDED",IF(F22>=4,"EXTREME HIGH",IF(F22>=3.5,"VERY HIGH",IF(F22>=3,"HIGH",IF(F22>=2.5,"ABOVE AVERAGE",IF(F22>=2,"BELOW AVERAGE",IF(F22>=1.5,"LOW",IF(F22>=1,"VERY LOW",IF(F22>=0.5,"EXTREME LOW","NEGLIGIBLE"))))))))) -> NEGLIGIBLE | M22: =IF(G22>=4.5,"NOT RECOMMENDED",IF(G22>=4,"EXTREME HIGH",IF(G22>=3.5,"VERY HIGH",IF(G22>=3,"HIGH",IF(G22>=2.5,"ABOVE AVERAGE",IF(G22>=2,"BELOW AVERAGE",IF(G22>=1.5,"LOW",IF(G22>=1,"VERY LOW",IF(G22>=0.5,"EXTREME LOW","NEGLIGIBLE"))))))))) -> NEGLIGIBLE | N22: =IF(H22>=4.5,"NOT RECOMMENDED",IF(H22>=4,"EXTREME HIGH",IF(H22>=3.5,"VERY HIGH",IF(H22>=3,"HIGH",IF(H22>=2.5,"ABOVE AVERAGE",IF(H22>=2,"BELOW AVERAGE",IF(H22>=1.5,"LOW",IF(H22>=1,"VERY LOW",IF(H22>=0.5,"EXTREME LOW","NEGLIGIBLE"))))))))) -> NEGLIGIBLE
A23: Impala | B23: =Impala!D38 -> 0.011977019 | C23: =Impala!I38 -> 0.011500486 | D23: =Impala!J38 -> 0.012781687 | E23: =Impala!K38 -> 0.011888521 | F23: =Impala!L38 -> 0.030524183 | G23: =Impala!M38 -> 0.031234283 | H23: =Impala!N38 -> 0.028088845 | I23: =IF(F23>4,"VERY HIGH",IF(F23>3,"HIGH",IF(F23>2,"MEDIUM",IF(F23>1,"LOW","VERY LOW")))) -> VERY LOW | J23: =IF(G23>4,"VERY HIGH",IF(G23>3,"HIGH",IF(G23>2,"MEDIUM",IF(G23>1,"LOW","VERY LOW")))) -> VERY LOW | K23: =IF(H23>4,"VERY HIGH",IF(H23>3,"HIGH",IF(H23>2,"MEDIUM",IF(H23>1,"LOW","VERY LOW")))) -> VERY LOW | L23: =IF(F23>=4.5,"NOT RECOMMENDED",IF(F23>=4,"EXTREME HIGH",IF(F23>=3.5,"VERY HIGH",IF(F23>=3,"HIGH",IF(F23>=2.5,"ABOVE AVERAGE",IF(F23>=2,"BELOW AVERAGE",IF(F23>=1.5,"LOW",IF(F23>=1,"VERY LOW",IF(F23>=0.5,"EXTREME LOW","NEGLIGIBLE"))))))))) -> NEGLIGIBLE | M23: =IF(G23>=4.5,"NOT RECOMMENDED",IF(G23>=4,"EXTREME HIGH",IF(G23>=3.5,"VERY HIGH",IF(G23>=3,"HIGH",IF(G23>=2.5,"ABOVE AVERAGE",IF(G23>=2,"BELOW AVERAGE",IF(G23>=1.5,"LOW",IF(G23>=1,"VERY LOW",IF(G23>=0.5,"EXTREME LOW","NEGLIGIBLE"))))))))) -> NEGLIGIBLE | N23: =IF(H23>=4.5,"NOT RECOMMENDED",IF(H23>=4,"EXTREME HIGH",IF(H23>=3.5,"VERY HIGH",IF(H23>=3,"HIGH",IF(H23>=2.5,"ABOVE AVERAGE",IF(H23>=2,"BELOW AVERAGE",IF(H23>=1.5,"LOW",IF(H23>=1,"VERY LOW",IF(H23>=0.5,"EXTREME LOW","NEGLIGIBLE"))))))))) -> NEGLIGIBLE
A24: Jackal | B24: =Jackal!D38 -> 0.050643325 | C24: =Jackal!I38 -> 0.04995063 | D24: =Jackal!J38 -> 0.05371738 | E24: =Jackal!K38 -> 0.052105152 | F24: =Jackal!L38 -> 0.14713889 | G24: =Jackal!M38 -> 0.13898599 | H24: =Jackal!N38 -> 0.12939751 | I24: =IF(F24>4,"VERY HIGH",IF(F24>3,"HIGH",IF(F24>2,"MEDIUM",IF(F24>1,"LOW","VERY LOW")))) -> VERY LOW | J24: =IF(G24>4,"VERY HIGH",IF(G24>3,"HIGH",IF(G24>2,"MEDIUM",IF(G24>1,"LOW","VERY LOW")))) -> VERY LOW | K24: =IF(H24>4,"VERY HIGH",IF(H24>3,"HIGH",IF(H24>2,"MEDIUM",IF(H24>1,"LOW","VERY LOW")))) -> VERY LOW | L24: =IF(F24>=4.5,"NOT RECOMMENDED",IF(F24>=4,"EXTREME HIGH",IF(F24>=3.5,"VERY HIGH",IF(F24>=3,"HIGH",IF(F24>=2.5,"ABOVE AVERAGE",IF(F24>=2,"BELOW AVERAGE",IF(F24>=1.5,"LOW",IF(F24>=1,"VERY LOW",IF(F24>=0.5,"EXTREME LOW","NEGLIGIBLE"))))))))) -> NEGLIGIBLE | M24: =IF(G24>=4.5,"NOT RECOMMENDED",IF(G24>=4,"EXTREME HIGH",IF(G24>=3.5,"VERY HIGH",IF(G24>=3,"HIGH",IF(G24>=2.5,"ABOVE AVERAGE",IF(G24>=2,"BELOW AVERAGE",IF(G24>=1.5,"LOW",IF(G24>=1,"VERY LOW",IF(G24>=0.5,"EXTREME LOW","NEGLIGIBLE"))))))))) -> NEGLIGIBLE | N24: =IF(H24>=4.5,"NOT RECOMMENDED",IF(H24>=4,"EXTREME HIGH",IF(H24>=3.5,"VERY HIGH",IF(H24>=3,"HIGH",IF(H24>=2.5,"ABOVE AVERAGE",IF(H24>=2,"BELOW AVERAGE",IF(H24>=1.5,"LOW",IF(H24>=1,"VERY LOW",IF(H24>=0.5,"EXTREME LOW","NEGLIGIBLE"))))))))) -> NEGLIGIBLE
A25: Jaguar | B25: =Jaguar!D38 -> 0.25982044 | C25: =Jaguar!I38 -> 0.24606878 | D25: =Jaguar!J38 -> 0.24836967 | E25: =Jaguar!K38 -> 0.26696299 | F25: =Jaguar!L38 -> 0.75766638 | G25: =Jaguar!M38 -> 0.6700202 | H25: =Jaguar!N38 -> 0.71240089 | I25: =IF(F25>4,"VERY HIGH",IF(F25>3,"HIGH",IF(F25>2,"MEDIUM",IF(F25>1,"LOW","VERY LOW")))) -> VERY LOW | J25: =IF(G25>4,"VERY HIGH",IF(G25>3,"HIGH",IF(G25>2,"MEDIUM",IF(G25>1,"LOW","VERY LOW")))) -> VERY LOW | K25: =IF(H25>4,"VERY HIGH",IF(H25>3,"HIGH",IF(H25>2,"MEDIUM",IF(H25>1,"LOW","VERY LOW")))) -> VERY LOW | L25: =IF(F25>=4.5,"NOT RECOMMENDED",IF(F25>=4,"EXTREME HIGH",IF(F25>=3.5,"VERY HIGH",IF(F25>=3,"HIGH",IF(F25>=2.5,"ABOVE AVERAGE",IF(F25>=2,"BELOW AVERAGE",IF(F25>=1.5,"LOW",IF(F25>=1,"VERY LOW",IF(F25>=0.5,"EXTREME LOW","NEGLIGIBLE"))))))))) -> EXTREME LOW | M25: =IF(G25>=4.5,"NOT RECOMMENDED",IF(G25>=4,"EXTREME HIGH",IF(G25>=3.5,"VERY HIGH",IF(G25>=3,"HIGH",IF(G25>=2.5,"ABOVE AVERAGE",IF(G25>=2,"BELOW AVERAGE",IF(G25>=1.5,"LOW",IF(G25>=1,"VERY LOW",IF(G25>=0.5,"EXTREME LOW","NEGLIGIBLE"))))))))) -> EXTREME LOW | N25: =IF(H25>=4.5,"NOT RECOMMENDED",IF(H25>=4,"EXTREME HIGH",IF(H25>=3.5,"VERY HIGH",IF(H25>=3,"HIGH",IF(H25>=2.5,"ABOVE AVERAGE",IF(H25>=2,"BELOW AVERAGE",IF(H25>=1.5,"LOW",IF(H25>=1,"VERY LOW",IF(H25>=0.5,"EXTREME LOW","NEGLIGIBLE"))))))))) -> EXTREME LOW
A26: Kangaroo | B26: =Kangaroo!D38 -> 0.22803683 | C26: =Kangaroo!I38 -> 0.22055746 | D26: =Kangaroo!J38 -> 0.22884909 | E26: =Kangaroo!K38 -> 0.22985278 | F26: =Kangaroo!L38 -> 0.6471811 | G26: =Kangaroo!M38 -> 0.59610252 | H26: =Kangaroo!N38 -> 0.60304851 | I26: =IF(F26>4,"VERY HIGH",IF(F26>3,"HIGH",IF(F26>2,"MEDIUM",IF(F26>1,"LOW","VERY LOW")))) -> VERY LOW | J26: =IF(G26>4,"VERY HIGH",IF(G26>3,"HIGH",IF(G26>2,"MEDIUM",IF(G26>1,"LOW","VERY LOW")))) -> VERY LOW | K26: =IF(H26>4,"VERY HIGH",IF(H26>3,"HIGH",IF(H26>2,"MEDIUM",IF(H26>1,"LOW","VERY LOW")))) -> VERY LOW | L26: =IF(F26>=4.5,"NOT RECOMMENDED",IF(F26>=4,"EXTREME HIGH",IF(F26>=3.5,"VERY HIGH",IF(F26>=3,"HIGH",IF(F26>=2.5,"ABOVE AVERAGE",IF(F26>=2,"BELOW AVERAGE",IF(F26>=1.5,"LOW",IF(F26>=1,"VERY LOW",IF(F26>=0.5,"EXTREME LOW","NEGLIGIBLE"))))))))) -> EXTREME LOW | M26: =IF(G26>=4.5,"NOT RECOMMENDED",IF(G26>=4,"EXTREME HIGH",IF(G26>=3.5,"VERY HIGH",IF(G26>=3,"HIGH",IF(G26>=2.5,"ABOVE AVERAGE",IF(G26>=2,"BELOW AVERAGE",IF(G26>=1.5,"LOW",IF(G26>=1,"VERY LOW",IF(G26>=0.5,"EXTREME LOW","NEGLIGIBLE"))))))))) -> EXTREME LOW | N26: =IF(H26>=4.5,"NOT RECOMMENDED",IF(H26>=4,"EXTREME HIGH",IF(H26>=3.5,"VERY HIGH",IF(H26>=3,"HIGH",IF(H26>=2.5,"ABOVE AVERAGE",IF(H26>=2,"BELOW AVERAGE",IF(H26>=1.5,"LOW",IF(H26>=1,"VERY LOW",IF(H26>=0.5,"EXTREME LOW","NEGLIGIBLE"))))))))) -> EXTREME LOW
A27: Koala | B27: =Koala!D38 -> 0.06789606 | C27: =Koala!I38 -> 0.062284918 | D27: =Koala!J38 -> 0.06483201 | E27: =Koala!K38 -> 0.071672729 | F27: =Koala!L38 -> 0.19442548 | G27: =Koala!M38 -> 0.17421058 | H27: =Koala!N38 -> 0.2018826 | I27: =IF(F27>4,"VERY HIGH",IF(F27>3,"HIGH",IF(F27>2,"MEDIUM",IF(F27>1,"LOW","VERY LOW")))) -> VERY LOW | J27: =IF(G27>4,"VERY HIGH",IF(G27>3,"HIGH",IF(G27>2,"MEDIUM",IF(G27>1,"LOW","VERY LOW")))) -> VERY LOW | K27: =IF(H27>4,"VERY HIGH",IF(H27>3,"HIGH",IF(H27>2,"MEDIUM",IF(H27>1,"LOW","VERY LOW")))) -> VERY LOW | L27: =IF(F27>=4.5,"NOT RECOMMENDED",IF(F27>=4,"EXTREME HIGH",IF(F27>=3.5,"VERY HIGH",IF(F27>=3,"HIGH",IF(F27>=2.5,"ABOVE AVERAGE",IF(F27>=2,"BELOW AVERAGE",IF(F27>=1.5,"LOW",IF(F27>=1,"VERY LOW",IF(F27>=0.5,"EXTREME LOW","NEGLIGIBLE"))))))))) -> NEGLIGIBLE | M27: =IF(G27>=4.5,"NOT RECOMMENDED",IF(G27>=4,"EXTREME HIGH",IF(G27>=3.5,"VERY HIGH",IF(G27>=3,"HIGH",IF(G27>=2.5,"ABOVE AVERAGE",IF(G27>=2,"BELOW AVERAGE",IF(G27>=1.5,"LOW",IF(G27>=1,"VERY LOW",IF(G27>=0.5,"EXTREME LOW","NEGLIGIBLE"))))))))) -> NEGLIGIBLE | N27: =IF(H27>=4.5,"NOT RECOMMENDED",IF(H27>=4,"EXTREME HIGH",IF(H27>=3.5,"VERY HIGH",IF(H27>=3,"HIGH",IF(H27>=2.5,"ABOVE AVERAGE",IF(H27>=2,"BELOW AVERAGE",IF(H27>=1.5,"LOW",IF(H27>=1,"VERY LOW",IF(H27>=0.5,"EXTREME LOW","NEGLIGIBLE"))))))))) -> NEGLIGIBLE
A28: Lion | B28: =Lion!D38 -> 0.037413967 | C28: =Lion!I38 -> 0.039595567 | D28: =Lion!J38 -> 0.039433528 | E28: =Lion!K38 -> 0.039856519 | F28: =Lion!L38 -> 0.11310889 | G28: =Lion!M38 -> 0.098912332 | H28: =Lion!N38 -> 0.10244109 | I28: =IF(F28>4,"VERY HIGH",IF(F28>3,"HIGH",IF(F28>2,"MEDIUM",IF(F28>1,"LOW","VERY LOW")))) -> VERY LOW | J28: =IF(G28>4,"VERY HIGH",IF(G28>3,"HIGH",IF(G28>2,"MEDIUM",IF(G28>1,"LOW","VERY LOW")))) -> VERY LOW | K28: =IF(H28>4,"VERY HIGH",IF(H28>3,"HIGH",IF(H28>2,"MEDIUM",IF(H28>1,"LOW","VERY LOW")))) -> VERY LOW | L28: =IF(F28>=4.5,"NOT RECOMMENDED",IF(F28>=4,"EXTREME HIGH",IF(F28>=3.5,"VERY HIGH",IF(F28>=3,"HIGH",IF(F28>=2.5,"ABOVE AVERAGE",IF(F28>=2,"BELOW AVERAGE",IF(F28>=1.5,"LOW",IF(F28>=1,"VERY LOW",IF(F28>=0.5,"EXTREME LOW","NEGLIGIBLE"))))))))) -> NEGLIGIBLE | M28: =IF(G28>=4.5,"NOT RECOMMENDED",IF(G28>=4,"EXTREME HIGH",IF(G28>=3.5,"VERY HIGH",IF(G28>=3,"HIGH",IF(G28>=2.5,"ABOVE AVERAGE",IF(G28>=2,"BELOW AVERAGE",IF(G28>=1.5,"LOW",IF(G28>=1,"VERY LOW",IF(G28>=0.5,"EXTREME LOW","NEGLIGIBLE"))))))))) -> NEGLIGIBLE | N28: =IF(H28>=4.5,"NOT RECOMMENDED",IF(H28>=4,"EXTREME HIGH",IF(H28>=3.5,"VERY HIGH",IF(H28>=3,"HIGH",IF(H28>=2.5,"ABOVE AVERAGE",IF(H28>=2,"BELOW AVERAGE",IF(H28>=1.5,"LOW",IF(H28>=1,"VERY LOW",IF(H28>=0.5,"EXTREME LOW","NEGLIGIBLE"))))))))) -> NEGLIGIBLE
A29: Lizard | B29: =Lizard!D38 -> 0.19400485 | C29: =Lizard!I38 -> 0.18613385 | D29: =Lizard!J38 -> 0.17780444 | E29: =Lizard!K38 -> 0.19487821 | F29: =Lizard!L38 -> 0.58885928 | G29: =Lizard!M38 -> 0.48724504 | H29: =Lizard!N38 -> 0.52069696 | I29: =IF(F29>4,"VERY HIGH",IF(F29>3,"HIGH",IF(F29>2,"MEDIUM",IF(F29>1,"LOW","VERY LOW")))) -> VERY LOW | J29: =IF(G29>4,"VERY HIGH",IF(G29>3,"HIGH",IF(G29>2,"MEDIUM",IF(G29>1,"LOW","VERY LOW")))) -> VERY LOW | K29: =IF(H29>4,"VERY HIGH",IF(H29>3,"HIGH",IF(H29>2,"MEDIUM",IF(H29>1,"LOW","VERY LOW")))) -> VERY LOW | L29: =IF(F29>=4.5,"NOT RECOMMENDED",IF(F29>=4,"EXTREME HIGH",IF(F29>=3.5,"VERY HIGH",IF(F29>=3,"HIGH",IF(F29>=2.5,"ABOVE AVERAGE",IF(F29>=2,"BELOW AVERAGE",IF(F29>=1.5,"LOW",IF(F29>=1,"VERY LOW",IF(F29>=0.5,"EXTREME LOW","NEGLIGIBLE"))))))))) -> EXTREME LOW | M29: =IF(G29>=4.5,"NOT RECOMMENDED",IF(G29>=4,"EXTREME HIGH",IF(G29>=3.5,"VERY HIGH",IF(G29>=3,"HIGH",IF(G29>=2.5,"ABOVE AVERAGE",IF(G29>=2,"BELOW AVERAGE",IF(G29>=1.5,"LOW",IF(G29>=1,"VERY LOW",IF(G29>=0.5,"EXTREME LOW","NEGLIGIBLE"))))))))) -> NEGLIGIBLE | N29: =IF(H29>=4.5,"NOT RECOMMENDED",IF(H29>=4,"EXTREME HIGH",IF(H29>=3.5,"VERY HIGH",IF(H29>=3,"HIGH",IF(H29>=2.5,"ABOVE AVERAGE",IF(H29>=2,"BELOW AVERAGE",IF(H29>=1.5,"LOW",IF(H29>=1,"VERY LOW",IF(H29>=0.5,"EXTREME LOW","NEGLIGIBLE"))))))))) -> EXTREME LOW
A30: Monkey | B30: =Monkey!D38 -> 0.075590921 | C30: =Monkey!I38 -> 0.073159784 | D30: =Monkey!J38 -> 0.083726097 | E30: =Monkey!K38 -> 0.076986238 | F30: =Monkey!L38 -> 0.19507956 | G30: =Monkey!M38 -> 0.2086547 | H30: =Monkey!N38 -> 0.18406762 | I30: =IF(F30>4,"VERY HIGH",IF(F30>3,"HIGH",IF(F30>2,"MEDIUM",IF(F30>1,"LOW","VERY LOW")))) -> VERY LOW | J30: =IF(G30>4,"VERY HIGH",IF(G30>3,"HIGH",IF(G30>2,"MEDIUM",IF(G30>1,"LOW","VERY LOW")))) -> VERY LOW | K30: =IF(H30>4,"VERY HIGH",IF(H30>3,"HIGH",IF(H30>2,"MEDIUM",IF(H30>1,"LOW","VERY LOW")))) -> VERY LOW | L30: =IF(F30>=4.5,"NOT RECOMMENDED",IF(F30>=4,"EXTREME HIGH",IF(F30>=3.5,"VERY HIGH",IF(F30>=3,"HIGH",IF(F30>=2.5,"ABOVE AVERAGE",IF(F30>=2,"BELOW AVERAGE",IF(F30>=1.5,"LOW",IF(F30>=1,"VERY LOW",IF(F30>=0.5,"EXTREME LOW","NEGLIGIBLE"))))))))) -> NEGLIGIBLE | M30: =IF(G30>=4.5,"NOT RECOMMENDED",IF(G30>=4,"EXTREME HIGH",IF(G30>=3.5,"VERY HIGH",IF(G30>=3,"HIGH",IF(G30>=2.5,"ABOVE AVERAGE",IF(G30>=2,"BELOW AVERAGE",IF(G30>=1.5,"LOW",IF(G30>=1,"VERY LOW",IF(G30>=0.5,"EXTREME LOW","NEGLIGIBLE"))))))))) -> NEGLIGIBLE | N30: =IF(H30>=4.5,"NOT RECOMMENDED",IF(H30>=4,"EXTREME HIGH",IF(H30>=3.5,"VERY HIGH",IF(H30>=3,"HIGH",IF(H30>=2.5,"ABOVE AVERAGE",IF(H30>=2,"BELOW AVERAGE",IF(H30>=1.5,"LOW",IF(H30>=1,"VERY LOW",IF(H30>=0.5,"EXTREME LOW","NEGLIGIBLE"))))))))) -> NEGLIGIBLE
A31: Mouse | B31: =Mouse!D38 -> 0.22606498 | C31: =Mouse!I38 -> 0.22496693 | D31: =Mouse!J38 -> 0.23301329 | E31: =Mouse!K38 -> 0.22168319 | F31: =Mouse!L38 -> 0.63341586 | G31: =Mouse!M38 -> 0.593596 | H31: =Mouse!N38 -> 0.56154268 | I31: =IF(F31>4,"VERY HIGH",IF(F31>3,"HIGH",IF(F31>2,"MEDIUM",IF(F31>1,"LOW","VERY LOW")))) -> VERY LOW | J31: =IF(G31>4,"VERY HIGH",IF(G31>3,"HIGH",IF(G31>2,"MEDIUM",IF(G31>1,"LOW","VERY LOW")))) -> VERY LOW | K31: =IF(H31>4,"VERY HIGH",IF(H31>3,"HIGH",IF(H31>2,"MEDIUM",IF(H31>1,"LOW","VERY LOW")))) -> VERY LOW | L31: =IF(F31>=4.5,"NOT RECOMMENDED",IF(F31>=4,"EXTREME HIGH",IF(F31>=3.5,"VERY HIGH",IF(F31>=3,"HIGH",IF(F31>=2.5,"ABOVE AVERAGE",IF(F31>=2,"BELOW AVERAGE",IF(F31>=1.5,"LOW",IF(F31>=1,"VERY LOW",IF(F31>=0.5,"EXTREME LOW","NEGLIGIBLE"))))))))) -> EXTREME LOW | M31: =IF(G31>=4.5,"NOT RECOMMENDED",IF(G31>=4,"EXTREME HIGH",IF(G31>=3.5,"VERY HIGH",IF(G31>=3,"HIGH",IF(G31>=2.5,"ABOVE AVERAGE",IF(G31>=2,"BELOW AVERAGE",IF(G31>=1.5,"LOW",IF(G31>=1,"VERY LOW",IF(G31>=0.5,"EXTREME LOW","NEGLIGIBLE"))))))))) -> EXTREME LOW | N31: =IF(H31>=4.5,"NOT RECOMMENDED",IF(H31>=4,"EXTREME HIGH",IF(H31>=3.5,"VERY HIGH",IF(H31>=3,"HIGH",IF(H31>=2.5,"ABOVE AVERAGE",IF(H31>=2,"BELOW AVERAGE",IF(H31>=1.5,"LOW",IF(H31>=1,"VERY LOW",IF(H31>=0.5,"EXTREME LOW","NEGLIGIBLE"))))))))) -> EXTREME LOW
A32: Otter | B32: =Otter!D38 -> 0.18443217 | C32: =Otter!I38 -> 0.1907718 | D32: =Otter!J38 -> 0.17425627 | E32: =Otter!K38 -> 0.18202648 | F32: =Otter!L38 -> 0.60466773 | G32: =Otter!M38 -> 0.47854692 | H32: =Otter!N38 -> 0.49091227 | I32: =IF(F32>4,"VERY HIGH",IF(F32>3,"HIGH",IF(F32>2,"MEDIUM",IF(F32>1,"LOW","VERY LOW")))) -> VERY LOW | J32: =IF(G32>4,"VERY HIGH",IF(G32>3,"HIGH",IF(G32>2,"MEDIUM",IF(G32>1,"LOW","VERY LOW")))) -> VERY LOW | K32: =IF(H32>4,"VERY HIGH",IF(H32>3,"HIGH",IF(H32>2,"MEDIUM",IF(H32>1,"LOW","VERY LOW")))) -> VERY LOW | L32: =IF(F32>=4.5,"NOT RECOMMENDED",IF(F32>=4,"EXTREME HIGH",IF(F32>=3.5,"VERY HIGH",IF(F32>=3,"HIGH",IF(F32>=2.5,"ABOVE AVERAGE",IF(F32>=2,"BELOW AVERAGE",IF(F32>=1.5,"LOW",IF(F32>=1,"VERY LOW",IF(F32>=0.5,"EXTREME LOW","NEGLIGIBLE"))))))))) -> EXTREME LOW | M32: =IF(G32>=4.5,"NOT RECOMMENDED",IF(G32>=4,"EXTREME HIGH",IF(G32>=3.5,"VERY HIGH",IF(G32>=3,"HIGH",IF(G32>=2.5,"ABOVE AVERAGE",IF(G32>=2,"BELOW AVERAGE",IF(G32>=1.5,"LOW",IF(G32>=1,"VERY LOW",IF(G32>=0.5,"EXTREME LOW","NEGLIGIBLE"))))))))) -> NEGLIGIBLE | N32: =IF(H32>=4.5,"NOT RECOMMENDED",IF(H32>=4,"EXTREME HIGH",IF(H32>=3.5,"VERY HIGH",IF(H32>=3,"HIGH",IF(H32>=2.5,"ABOVE AVERAGE",IF(H32>=2,"BELOW AVERAGE",IF(H32>=1.5,"LOW",IF(H32>=1,"VERY LOW",IF(H32>=0.5,"EXTREME LOW","NEGLIGIBLE"))))))))) -> NEGLIGIBLE
A33: Ox | B33: =Ox!D38 -> 0.38211417 | C33: =Ox!I38 -> 0.37021851 | D33: =Ox!J38 -> 0.35609553 | E33: =Ox!K38 -> 0.3909771 | F33: =Ox!L38 -> 1.1600681 | G33: =Ox!M38 -> 0.96798185 | H33: =Ox!N38 -> 1.0670831 | I33: =IF(F33>4,"VERY HIGH",IF(F33>3,"HIGH",IF(F33>2,"MEDIUM",IF(F33>1,"LOW","VERY LOW")))) -> LOW | J33: =IF(G33>4,"VERY HIGH",IF(G33>3,"HIGH",IF(G33>2,"MEDIUM",IF(G33>1,"LOW","VERY LOW")))) -> VERY LOW | K33: =IF(H33>4,"VERY HIGH",IF(H33>3,"HIGH",IF(H33>2,"MEDIUM",IF(H33>1,"LOW","VERY LOW")))) -> LOW | L33: =IF(F33>=4.5,"NOT RECOMMENDED",IF(F33>=4,"EXTREME HIGH",IF(F33>=3.5,"VERY HIGH",IF(F33>=3,"HIGH",IF(F33>=2.5,"ABOVE AVERAGE",IF(F33>=2,"BELOW AVERAGE",IF(F33>=1.5,"LOW",IF(F33>=1,"VERY LOW",IF(F33>=0.5,"EXTREME LOW","NEGLIGIBLE"))))))))) -> VERY LOW | M33: =IF(G33>=4.5,"NOT RECOMMENDED",IF(G33>=4,"EXTREME HIGH",IF(G33>=3.5,"VERY HIGH",IF(G33>=3,"HIGH",IF(G33>=2.5,"ABOVE AVERAGE",IF(G33>=2,"BELOW AVERAGE",IF(G33>=1.5,"LOW",IF(G33>=1,"VERY LOW",IF(G33>=0.5,"EXTREME LOW","NEGLIGIBLE"))))))))) -> EXTREME LOW | N33: =IF(H33>=4.5,"NOT RECOMMENDED",IF(H33>=4,"EXTREME HIGH",IF(H33>=3.5,"VERY HIGH",IF(H33>=3,"HIGH",IF(H33>=2.5,"ABOVE AVERAGE",IF(H33>=2,"BELOW AVERAGE",IF(H33>=1.5,"LOW",IF(H33>=1,"VERY LOW",IF(H33>=0.5,"EXTREME LOW","NEGLIGIBLE"))))))))) -> VERY LOW
A34: Penguin | B34: =Penguin!D38 -> 0.44356628 | C34: =Penguin!I38 -> 0.43305497 | D34: =Penguin!J38 -> 0.42443117 | E34: =Penguin!K38 -> 0.45472621 | F34: =Penguin!L38 -> 1.3419024 | G34: =Penguin!M38 -> 1.1405901 | H34: =Penguin!N38 -> 1.2126393 | I34: =IF(F34>4,"VERY HIGH",IF(F34>3,"HIGH",IF(F34>2,"MEDIUM",IF(F34>1,"LOW","VERY LOW")))) -> LOW | J34: =IF(G34>4,"VERY HIGH",IF(G34>3,"HIGH",IF(G34>2,"MEDIUM",IF(G34>1,"LOW","VERY LOW")))) -> LOW | K34: =IF(H34>4,"VERY HIGH",IF(H34>3,"HIGH",IF(H34>2,"MEDIUM",IF(H34>1,"LOW","VERY LOW")))) -> LOW | L34: =IF(F34>=4.5,"NOT RECOMMENDED",IF(F34>=4,"EXTREME HIGH",IF(F34>=3.5,"VERY HIGH",IF(F34>=3,"HIGH",IF(F34>=2.5,"ABOVE AVERAGE",IF(F34>=2,"BELOW AVERAGE",IF(F34>=1.5,"LOW",IF(F34>=1,"VERY LOW",IF(F34>=0.5,"EXTREME LOW","NEGLIGIBLE"))))))))) -> VERY LOW | M34: =IF(G34>=4.5,"NOT RECOMMENDED",IF(G34>=4,"EXTREME HIGH",IF(G34>=3.5,"VERY HIGH",IF(G34>=3,"HIGH",IF(G34>=2.5,"ABOVE AVERAGE",IF(G34>=2,"BELOW AVERAGE",IF(G34>=1.5,"LOW",IF(G34>=1,"VERY LOW",IF(G34>=0.5,"EXTREME LOW","NEGLIGIBLE"))))))))) -> VERY LOW | N34: =IF(H34>=4.5,"NOT RECOMMENDED",IF(H34>=4,"EXTREME HIGH",IF(H34>=3.5,"VERY HIGH",IF(H34>=3,"HIGH",IF(H34>=2.5,"ABOVE AVERAGE",IF(H34>=2,"BELOW AVERAGE",IF(H34>=1.5,"LOW",IF(H34>=1,"VERY LOW",IF(H34>=0.5,"EXTREME LOW","NEGLIGIBLE"))))))))) -> VERY LOW
A35: Polarbear | B35: =Polarbear!D38 -> 0.19014856 | C35: =Polarbear!I38 -> 0.18527021 | D35: =Polarbear!J38 -> 0.17372701 | E35: =Polarbear!K38 -> 0.19360647 | F35: =Polarbear!L38 -> 0.5929703 | G35: =Polarbear!M38 -> 0.48081165 | H35: =Polarbear!N38 -> 0.53423427 | I35: =IF(F35>4,"VERY HIGH",IF(F35>3,"HIGH",IF(F35>2,"MEDIUM",IF(F35>1,"LOW","VERY LOW")))) -> VERY LOW | J35: =IF(G35>4,"VERY HIGH",IF(G35>3,"HIGH",IF(G35>2,"MEDIUM",IF(G35>1,"LOW","VERY LOW")))) -> VERY LOW | K35: =IF(H35>4,"VERY HIGH",IF(H35>3,"HIGH",IF(H35>2,"MEDIUM",IF(H35>1,"LOW","VERY LOW")))) -> VERY LOW | L35: =IF(F35>=4.5,"NOT RECOMMENDED",IF(F35>=4,"EXTREME HIGH",IF(F35>=3.5,"VERY HIGH",IF(F35>=3,"HIGH",IF(F35>=2.5,"ABOVE AVERAGE",IF(F35>=2,"BELOW AVERAGE",IF(F35>=1.5,"LOW",IF(F35>=1,"VERY LOW",IF(F35>=0.5,"EXTREME LOW","NEGLIGIBLE"))))))))) -> EXTREME LOW | M35: =IF(G35>=4.5,"NOT RECOMMENDED",IF(G35>=4,"EXTREME HIGH",IF(G35>=3.5,"VERY HIGH",IF(G35>=3,"HIGH",IF(G35>=2.5,"ABOVE AVERAGE",IF(G35>=2,"BELOW AVERAGE",IF(G35>=1.5,"LOW",IF(G35>=1,"VERY LOW",IF(G35>=0.5,"EXTREME LOW","NEGLIGIBLE"))))))))) -> NEGLIGIBLE | N35: =IF(H35>=4.5,"NOT RECOMMENDED",IF(H35>=4,"EXTREME HIGH",IF(H35>=3.5,"VERY HIGH",IF(H35>=3,"HIGH",IF(H35>=2.5,"ABOVE AVERAGE",IF(H35>=2,"BELOW AVERAGE",IF(H35>=1.5,"LOW",IF(H35>=1,"VERY LOW",IF(H35>=0.5,"EXTREME LOW","NEGLIGIBLE"))))))))) -> EXTREME LOW
A36: Possum | B36: =Possum!D38 -> 0.073830652 | C36: =Possum!I38 -> 0.074098871 | D36: =Possum!J38 -> 0.075015892 | E36: =Possum!K38 -> 0.078094745 | F36: =Possum!L38 -> 0.22947928 | G36: =Possum!M38 -> 0.20087227 | H36: =Possum!N38 -> 0.21187037 | I36: =IF(F36>4,"VERY HIGH",IF(F36>3,"HIGH",IF(F36>2,"MEDIUM",IF(F36>1,"LOW","VERY LOW")))) -> VERY LOW | J36: =IF(G36>4,"VERY HIGH",IF(G36>3,"HIGH",IF(G36>2,"MEDIUM",IF(G36>1,"LOW","VERY LOW")))) -> VERY LOW | K36: =IF(H36>4,"VERY HIGH",IF(H36>3,"HIGH",IF(H36>2,"MEDIUM",IF(H36>1,"LOW","VERY LOW")))) -> VERY LOW | L36: =IF(F36>=4.5,"NOT RECOMMENDED",IF(F36>=4,"EXTREME HIGH",IF(F36>=3.5,"VERY HIGH",IF(F36>=3,"HIGH",IF(F36>=2.5,"ABOVE AVERAGE",IF(F36>=2,"BELOW AVERAGE",IF(F36>=1.5,"LOW",IF(F36>=1,"VERY LOW",IF(F36>=0.5,"EXTREME LOW","NEGLIGIBLE"))))))))) -> NEGLIGIBLE | M36: =IF(G36>=4.5,"NOT RECOMMENDED",IF(G36>=4,"EXTREME HIGH",IF(G36>=3.5,"VERY HIGH",IF(G36>=3,"HIGH",IF(G36>=2.5,"ABOVE AVERAGE",IF(G36>=2,"BELOW AVERAGE",IF(G36>=1.5,"LOW",IF(G36>=1,"VERY LOW",IF(G36>=0.5,"EXTREME LOW","NEGLIGIBLE"))))))))) -> NEGLIGIBLE | N36: =IF(H36>=4.5,"NOT RECOMMENDED",IF(H36>=4,"EXTREME HIGH",IF(H36>=3.5,"VERY HIGH",IF(H36>=3,"HIGH",IF(H36>=2.5,"ABOVE AVERAGE",IF(H36>=2,"BELOW AVERAGE",IF(H36>=1.5,"LOW",IF(H36>=1,"VERY LOW",IF(H36>=0.5,"EXTREME LOW","NEGLIGIBLE"))))))))) -> NEGLIGIBLE
A37: Rabbit | B37: =Rabbit!D38 -> 0.11982501 | C37: =Rabbit!I38 -> 0.10909686 | D37: =Rabbit!J38 -> 0.10796218 | E37: =Rabbit!K38 -> 0.12247102 | F37: =Rabbit!L38 -> 0.32519977 | G37: =Rabbit!M38 -> 0.28350214 | H37: =Rabbit!N38 -> 0.31015998 | I37: =IF(F37>4,"VERY HIGH",IF(F37>3,"HIGH",IF(F37>2,"MEDIUM",IF(F37>1,"LOW","VERY LOW")))) -> VERY LOW | J37: =IF(G37>4,"VERY HIGH",IF(G37>3,"HIGH",IF(G37>2,"MEDIUM",IF(G37>1,"LOW","VERY LOW")))) -> VERY LOW | K37: =IF(H37>4,"VERY HIGH",IF(H37>3,"HIGH",IF(H37>2,"MEDIUM",IF(H37>1,"LOW","VERY LOW")))) -> VERY LOW | L37: =IF(F37>=4.5,"NOT RECOMMENDED",IF(F37>=4,"EXTREME HIGH",IF(F37>=3.5,"VERY HIGH",IF(F37>=3,"HIGH",IF(F37>=2.5,"ABOVE AVERAGE",IF(F37>=2,"BELOW AVERAGE",IF(F37>=1.5,"LOW",IF(F37>=1,"VERY LOW",IF(F37>=0.5,"EXTREME LOW","NEGLIGIBLE"))))))))) -> NEGLIGIBLE | M37: =IF(G37>=4.5,"NOT RECOMMENDED",IF(G37>=4,"EXTREME HIGH",IF(G37>=3.5,"VERY HIGH",IF(G37>=3,"HIGH",IF(G37>=2.5,"ABOVE AVERAGE",IF(G37>=2,"BELOW AVERAGE",IF(G37>=1.5,"LOW",IF(G37>=1,"VERY LOW",IF(G37>=0.5,"EXTREME LOW","NEGLIGIBLE"))))))))) -> NEGLIGIBLE | N37: =IF(H37>=4.5,"NOT RECOMMENDED",IF(H37>=4,"EXTREME HIGH",IF(H37>=3.5,"VERY HIGH",IF(H37>=3,"HIGH",IF(H37>=2.5,"ABOVE AVERAGE",IF(H37>=2,"BELOW AVERAGE",IF(H37>=1.5,"LOW",IF(H37>=1,"VERY LOW",IF(H37>=0.5,"EXTREME LOW","NEGLIGIBLE"))))))))) -> NEGLIGIBLE
A38: Rhino | B38: =Rhino!D38 -> 0.025585498 | C38: =Rhino!I38 -> 0.028104793 | D38: =Rhino!J38 -> 0.030102047 | E38: =Rhino!K38 -> 0.020251152 | F38: =Rhino!L38 -> 0.075432802 | G38: =Rhino!M38 -> 0.079100335 | H38: =Rhino!N38 -> 0.04722862 | I38: =IF(F38>4,"VERY HIGH",IF(F38>3,"HIGH",IF(F38>2,"MEDIUM",IF(F38>1,"LOW","VERY LOW")))) -> VERY LOW | J38: =IF(G38>4,"VERY HIGH",IF(G38>3,"HIGH",IF(G38>2,"MEDIUM",IF(G38>1,"LOW","VERY LOW")))) -> VERY LOW | K38: =IF(H38>4,"VERY HIGH",IF(H38>3,"HIGH",IF(H38>2,"MEDIUM",IF(H38>1,"LOW","VERY LOW")))) -> VERY LOW | L38: =IF(F38>=4.5,"NOT RECOMMENDED",IF(F38>=4,"EXTREME HIGH",IF(F38>=3.5,"VERY HIGH",IF(F38>=3,"HIGH",IF(F38>=2.5,"ABOVE AVERAGE",IF(F38>=2,"BELOW AVERAGE",IF(F38>=1.5,"LOW",IF(F38>=1,"VERY LOW",IF(F38>=0.5,"EXTREME LOW","NEGLIGIBLE"))))))))) -> NEGLIGIBLE | M38: =IF(G38>=4.5,"NOT RECOMMENDED",IF(G38>=4,"EXTREME HIGH",IF(G38>=3.5,"VERY HIGH",IF(G38>=3,"HIGH",IF(G38>=2.5,"ABOVE AVERAGE",IF(G38>=2,"BELOW AVERAGE",IF(G38>=1.5,"LOW",IF(G38>=1,"VERY LOW",IF(G38>=0.5,"EXTREME LOW","NEGLIGIBLE"))))))))) -> NEGLIGIBLE | N38: =IF(H38>=4.5,"NOT RECOMMENDED",IF(H38>=4,"EXTREME HIGH",IF(H38>=3.5,"VERY HIGH",IF(H38>=3,"HIGH",IF(H38>=2.5,"ABOVE AVERAGE",IF(H38>=2,"BELOW AVERAGE",IF(H38>=1.5,"LOW",IF(H38>=1,"VERY LOW",IF(H38>=0.5,"EXTREME LOW","NEGLIGIBLE"))))))))) -> NEGLIGIBLE
A39: Rtlemur | B39: =RTlemur!D38 -> 0.32616559 | C39: =RTlemur!I38 -> 0.31407175 | D39: =RTlemur!J38 -> 0.30847062 | E39: =RTlemur!K38 -> 0.32979549 | F39: =RTlemur!L38 -> 0.96061055 | G39: =RTlemur!M38 -> 0.824597 | H39: =RTlemur!N38 -> 0.87799563 | I39: =IF(F39>4,"VERY HIGH",IF(F39>3,"HIGH",IF(F39>2,"MEDIUM",IF(F39>1,"LOW","VERY LOW")))) -> VERY LOW | J39: =IF(G39>4,"VERY HIGH",IF(G39>3,"HIGH",IF(G39>2,"MEDIUM",IF(G39>1,"LOW","VERY LOW")))) -> VERY LOW | K39: =IF(H39>4,"VERY HIGH",IF(H39>3,"HIGH",IF(H39>2,"MEDIUM",IF(H39>1,"LOW","VERY LOW")))) -> VERY LOW | L39: =IF(F39>=4.5,"NOT RECOMMENDED",IF(F39>=4,"EXTREME HIGH",IF(F39>=3.5,"VERY HIGH",IF(F39>=3,"HIGH",IF(F39>=2.5,"ABOVE AVERAGE",IF(F39>=2,"BELOW AVERAGE",IF(F39>=1.5,"LOW",IF(F39>=1,"VERY LOW",IF(F39>=0.5,"EXTREME LOW","NEGLIGIBLE"))))))))) -> EXTREME LOW | M39: =IF(G39>=4.5,"NOT RECOMMENDED",IF(G39>=4,"EXTREME HIGH",IF(G39>=3.5,"VERY HIGH",IF(G39>=3,"HIGH",IF(G39>=2.5,"ABOVE AVERAGE",IF(G39>=2,"BELOW AVERAGE",IF(G39>=1.5,"LOW",IF(G39>=1,"VERY LOW",IF(G39>=0.5,"EXTREME LOW","NEGLIGIBLE"))))))))) -> EXTREME LOW | N39: =IF(H39>=4.5,"NOT RECOMMENDED",IF(H39>=4,"EXTREME HIGH",IF(H39>=3.5,"VERY HIGH",IF(H39>=3,"HIGH",IF(H39>=2.5,"ABOVE AVERAGE",IF(H39>=2,"BELOW AVERAGE",IF(H39>=1.5,"LOW",IF(H39>=1,"VERY LOW",IF(H39>=0.5,"EXTREME LOW","NEGLIGIBLE"))))))))) -> EXTREME LOW
A40: Seal | B40: =Seal!D38 -> 0.20954439 | C40: =Seal!I38 -> 0.19858539 | D40: =Seal!J38 -> 0.19292678 | E40: =Seal!K38 -> 0.21260803 | F40: =Seal!L38 -> 0.61689703 | G40: =Seal!M38 -> 0.52380346 | H40: =Seal!N38 -> 0.58066692 | I40: =IF(F40>4,"VERY HIGH",IF(F40>3,"HIGH",IF(F40>2,"MEDIUM",IF(F40>1,"LOW","VERY LOW")))) -> VERY LOW | J40: =IF(G40>4,"VERY HIGH",IF(G40>3,"HIGH",IF(G40>2,"MEDIUM",IF(G40>1,"LOW","VERY LOW")))) -> VERY LOW | K40: =IF(H40>4,"VERY HIGH",IF(H40>3,"HIGH",IF(H40>2,"MEDIUM",IF(H40>1,"LOW","VERY LOW")))) -> VERY LOW | L40: =IF(F40>=4.5,"NOT RECOMMENDED",IF(F40>=4,"EXTREME HIGH",IF(F40>=3.5,"VERY HIGH",IF(F40>=3,"HIGH",IF(F40>=2.5,"ABOVE AVERAGE",IF(F40>=2,"BELOW AVERAGE",IF(F40>=1.5,"LOW",IF(F40>=1,"VERY LOW",IF(F40>=0.5,"EXTREME LOW","NEGLIGIBLE"))))))))) -> EXTREME LOW | M40: =IF(G40>=4.5,"NOT RECOMMENDED",IF(G40>=4,"EXTREME HIGH",IF(G40>=3.5,"VERY HIGH",IF(G40>=3,"HIGH",IF(G40>=2.5,"ABOVE AVERAGE",IF(G40>=2,"BELOW AVERAGE",IF(G40>=1.5,"LOW",IF(G40>=1,"VERY LOW",IF(G40>=0.5,"EXTREME LOW","NEGLIGIBLE"))))))))) -> EXTREME LOW | N40: =IF(H40>=4.5,"NOT RECOMMENDED",IF(H40>=4,"EXTREME HIGH",IF(H40>=3.5,"VERY HIGH",IF(H40>=3,"HIGH",IF(H40>=2.5,"ABOVE AVERAGE",IF(H40>=2,"BELOW AVERAGE",IF(H40>=1.5,"LOW",IF(H40>=1,"VERY LOW",IF(H40>=0.5,"EXTREME LOW","NEGLIGIBLE"))))))))) -> EXTREME LOW
A41: Squirrel | B41: =Squirrel!D38 -> 0.33093498 | C41: =Squirrel!I38 -> 0.33337369 | D41: =Squirrel!J38 -> 0.33562727 | E41: =Squirrel!K38 -> 0.33244501 | F41: =Squirrel!L38 -> 0.97854823 | G41: =Squirrel!M38 -> 0.86803798 | H41: =Squirrel!N38 -> 0.8695316 | I41: =IF(F41>4,"VERY HIGH",IF(F41>3,"HIGH",IF(F41>2,"MEDIUM",IF(F41>1,"LOW","VERY LOW")))) -> VERY LOW | J41: =IF(G41>4,"VERY HIGH",IF(G41>3,"HIGH",IF(G41>2,"MEDIUM",IF(G41>1,"LOW","VERY LOW")))) -> VERY LOW | K41: =IF(H41>4,"VERY HIGH",IF(H41>3,"HIGH",IF(H41>2,"MEDIUM",IF(H41>1,"LOW","VERY LOW")))) -> VERY LOW | L41: =IF(F41>=4.5,"NOT RECOMMENDED",IF(F41>=4,"EXTREME HIGH",IF(F41>=3.5,"VERY HIGH",IF(F41>=3,"HIGH",IF(F41>=2.5,"ABOVE AVERAGE",IF(F41>=2,"BELOW AVERAGE",IF(F41>=1.5,"LOW",IF(F41>=1,"VERY LOW",IF(F41>=0.5,"EXTREME LOW","NEGLIGIBLE"))))))))) -> EXTREME LOW | M41: =IF(G41>=4.5,"NOT RECOMMENDED",IF(G41>=4,"EXTREME HIGH",IF(G41>=3.5,"VERY HIGH",IF(G41>=3,"HIGH",IF(G41>=2.5,"ABOVE AVERAGE",IF(G41>=2,"BELOW AVERAGE",IF(G41>=1.5,"LOW",IF(G41>=1,"VERY LOW",IF(G41>=0.5,"EXTREME LOW","NEGLIGIBLE"))))))))) -> EXTREME LOW | N41: =IF(H41>=4.5,"NOT RECOMMENDED",IF(H41>=4,"EXTREME HIGH",IF(H41>=3.5,"VERY HIGH",IF(H41>=3,"HIGH",IF(H41>=2.5,"ABOVE AVERAGE",IF(H41>=2,"BELOW AVERAGE",IF(H41>=1.5,"LOW",IF(H41>=1,"VERY LOW",IF(H41>=0.5,"EXTREME LOW","NEGLIGIBLE"))))))))) -> EXTREME LOW
A42: Tiger | B42: =Tiger!D38 -> 0.26407252 | C42: =Tiger!I38 -> 0.24982688 | D42: =Tiger!J38 -> 0.2441978 | E42: =Tiger!K38 -> 0.26593616 | F42: =Tiger!L38 -> 0.77465933 | G42: =Tiger!M38 -> 0.66168081 | H42: =Tiger!N38 -> 0.71093322 | I42: =IF(F42>4,"VERY HIGH",IF(F42>3,"HIGH",IF(F42>2,"MEDIUM",IF(F42>1,"LOW","VERY LOW")))) -> VERY LOW | J42: =IF(G42>4,"VERY HIGH",IF(G42>3,"HIGH",IF(G42>2,"MEDIUM",IF(G42>1,"LOW","VERY LOW")))) -> VERY LOW | K42: =IF(H42>4,"VERY HIGH",IF(H42>3,"HIGH",IF(H42>2,"MEDIUM",IF(H42>1,"LOW","VERY LOW")))) -> VERY LOW | L42: =IF(F42>=4.5,"NOT RECOMMENDED",IF(F42>=4,"EXTREME HIGH",IF(F42>=3.5,"VERY HIGH",IF(F42>=3,"HIGH",IF(F42>=2.5,"ABOVE AVERAGE",IF(F42>=2,"BELOW AVERAGE",IF(F42>=1.5,"LOW",IF(F42>=1,"VERY LOW",IF(F42>=0.5,"EXTREME LOW","NEGLIGIBLE"))))))))) -> EXTREME LOW | M42: =IF(G42>=4.5,"NOT RECOMMENDED",IF(G42>=4,"EXTREME HIGH",IF(G42>=3.5,"VERY HIGH",IF(G42>=3,"HIGH",IF(G42>=2.5,"ABOVE AVERAGE",IF(G42>=2,"BELOW AVERAGE",IF(G42>=1.5,"LOW",IF(G42>=1,"VERY LOW",IF(G42>=0.5,"EXTREME LOW","NEGLIGIBLE"))))))))) -> EXTREME LOW | N42: =IF(H42>=4.5,"NOT RECOMMENDED",IF(H42>=4,"EXTREME HIGH",IF(H42>=3.5,"VERY HIGH",IF(H42>=3,"HIGH",IF(H42>=2.5,"ABOVE AVERAGE",IF(H42>=2,"BELOW AVERAGE",IF(H42>=1.5,"LOW",IF(H42>=1,"VERY LOW",IF(H42>=0.5,"EXTREME LOW","NEGLIGIBLE"))))))))) -> EXTREME LOW
A43: Tortoise | B43: =Tortoise!D38 -> 0.19337285 | C43: =Tortoise!I38 -> 0.17395917 | D43: =Tortoise!J38 -> 0.17408698 | E43: =Tortoise!K38 -> 0.20976925 | F43: =Tortoise!L38 -> 0.55670395 | G43: =Tortoise!M38 -> 0.47736752 | H43: =Tortoise!N38 -> 0.56454105 | I43: =IF(F43>4,"VERY HIGH",IF(F43>3,"HIGH",IF(F43>2,"MEDIUM",IF(F43>1,"LOW","VERY LOW")))) -> VERY LOW | J43: =IF(G43>4,"VERY HIGH",IF(G43>3,"HIGH",IF(G43>2,"MEDIUM",IF(G43>1,"LOW","VERY LOW")))) -> VERY LOW | K43: =IF(H43>4,"VERY HIGH",IF(H43>3,"HIGH",IF(H43>2,"MEDIUM",IF(H43>1,"LOW","VERY LOW")))) -> VERY LOW | L43: =IF(F43>=4.5,"NOT RECOMMENDED",IF(F43>=4,"EXTREME HIGH",IF(F43>=3.5,"VERY HIGH",IF(F43>=3,"HIGH",IF(F43>=2.5,"ABOVE AVERAGE",IF(F43>=2,"BELOW AVERAGE",IF(F43>=1.5,"LOW",IF(F43>=1,"VERY LOW",IF(F43>=0.5,"EXTREME LOW","NEGLIGIBLE"))))))))) -> EXTREME LOW | M43: =IF(G43>=4.5,"NOT RECOMMENDED",IF(G43>=4,"EXTREME HIGH",IF(G43>=3.5,"VERY HIGH",IF(G43>=3,"HIGH",IF(G43>=2.5,"ABOVE AVERAGE",IF(G43>=2,"BELOW AVERAGE",IF(G43>=1.5,"LOW",IF(G43>=1,"VERY LOW",IF(G43>=0.5,"EXTREME LOW","NEGLIGIBLE"))))))))) -> NEGLIGIBLE | N43: =IF(H43>=4.5,"NOT RECOMMENDED",IF(H43>=4,"EXTREME HIGH",IF(H43>=3.5,"VERY HIGH",IF(H43>=3,"HIGH",IF(H43>=2.5,"ABOVE AVERAGE",IF(H43>=2,"BELOW AVERAGE",IF(H43>=1.5,"LOW",IF(H43>=1,"VERY LOW",IF(H43>=0.5,"EXTREME LOW","NEGLIGIBLE"))))))))) -> EXTREME LOW
A44: Wallaby | B44: =Wallaby!D38 -> 0.22268925 | C44: =Wallaby!I38 -> 0.20464591 | D44: =Wallaby!J38 -> 0.20368342 | E44: =Wallaby!K38 -> 0.23418849 | F44: =Wallaby!L38 -> 0.61141394 | G44: =Wallaby!M38 -> 0.53227975 | H44: =Wallaby!N38 -> 0.61146652 | I44: =IF(F44>4,"VERY HIGH",IF(F44>3,"HIGH",IF(F44>2,"MEDIUM",IF(F44>1,"LOW","VERY LOW")))) -> VERY LOW | J44: =IF(G44>4,"VERY HIGH",IF(G44>3,"HIGH",IF(G44>2,"MEDIUM",IF(G44>1,"LOW","VERY LOW")))) -> VERY LOW | K44: =IF(H44>4,"VERY HIGH",IF(H44>3,"HIGH",IF(H44>2,"MEDIUM",IF(H44>1,"LOW","VERY LOW")))) -> VERY LOW | L44: =IF(F44>=4.5,"NOT RECOMMENDED",IF(F44>=4,"EXTREME HIGH",IF(F44>=3.5,"VERY HIGH",IF(F44>=3,"HIGH",IF(F44>=2.5,"ABOVE AVERAGE",IF(F44>=2,"BELOW AVERAGE",IF(F44>=1.5,"LOW",IF(F44>=1,"VERY LOW",IF(F44>=0.5,"EXTREME LOW","NEGLIGIBLE"))))))))) -> EXTREME LOW | M44: =IF(G44>=4.5,"NOT RECOMMENDED",IF(G44>=4,"EXTREME HIGH",IF(G44>=3.5,"VERY HIGH",IF(G44>=3,"HIGH",IF(G44>=2.5,"ABOVE AVERAGE",IF(G44>=2,"BELOW AVERAGE",IF(G44>=1.5,"LOW",IF(G44>=1,"VERY LOW",IF(G44>=0.5,"EXTREME LOW","NEGLIGIBLE"))))))))) -> EXTREME LOW | N44: =IF(H44>=4.5,"NOT RECOMMENDED",IF(H44>=4,"EXTREME HIGH",IF(H44>=3.5,"VERY HIGH",IF(H44>=3,"HIGH",IF(H44>=2.5,"ABOVE AVERAGE",IF(H44>=2,"BELOW AVERAGE",IF(H44>=1.5,"LOW",IF(H44>=1,"VERY LOW",IF(H44>=0.5,"EXTREME LOW","NEGLIGIBLE"))))))))) -> EXTREME LOW
A45: Wildebeest | B45: =Wildebeest!D38 -> 0.4837354 | C45: =Wildebeest!I38 -> 0.47680296 | D45: =Wildebeest!J38 -> 0.46624589 | E45: =Wildebeest!K38 -> 0.49118566 | F45: =Wildebeest!L38 -> 1.4791591 | G45: =Wildebeest!M38 -> 1.2551939 | H45: =Wildebeest!N38 -> 1.3295189 | I45: =IF(F45>4,"VERY HIGH",IF(F45>3,"HIGH",IF(F45>2,"MEDIUM",IF(F45>1,"LOW","VERY LOW")))) -> LOW | J45: =IF(G45>4,"VERY HIGH",IF(G45>3,"HIGH",IF(G45>2,"MEDIUM",IF(G45>1,"LOW","VERY LOW")))) -> LOW | K45: =IF(H45>4,"VERY HIGH",IF(H45>3,"HIGH",IF(H45>2,"MEDIUM",IF(H45>1,"LOW","VERY LOW")))) -> LOW | L45: =IF(F45>=4.5,"NOT RECOMMENDED",IF(F45>=4,"EXTREME HIGH",IF(F45>=3.5,"VERY HIGH",IF(F45>=3,"HIGH",IF(F45>=2.5,"ABOVE AVERAGE",IF(F45>=2,"BELOW AVERAGE",IF(F45>=1.5,"LOW",IF(F45>=1,"VERY LOW",IF(F45>=0.5,"EXTREME LOW","NEGLIGIBLE"))))))))) -> VERY LOW | M45: =IF(G45>=4.5,"NOT RECOMMENDED",IF(G45>=4,"EXTREME HIGH",IF(G45>=3.5,"VERY HIGH",IF(G45>=3,"HIGH",IF(G45>=2.5,"ABOVE AVERAGE",IF(G45>=2,"BELOW AVERAGE",IF(G45>=1.5,"LOW",IF(G45>=1,"VERY LOW",IF(G45>=0.5,"EXTREME LOW","NEGLIGIBLE"))))))))) -> VERY LOW | N45: =IF(H45>=4.5,"NOT RECOMMENDED",IF(H45>=4,"EXTREME HIGH",IF(H45>=3.5,"VERY HIGH",IF(H45>=3,"HIGH",IF(H45>=2.5,"ABOVE AVERAGE",IF(H45>=2,"BELOW AVERAGE",IF(H45>=1.5,"LOW",IF(H45>=1,"VERY LOW",IF(H45>=0.5,"EXTREME LOW","NEGLIGIBLE"))))))))) -> VERY LOW
A46: Zebra | B46: =Zebra!D38 -> 0.2141291 | C46: =Zebra!I38 -> 0.19279001 | D46: =Zebra!J38 -> 0.18567624 | E46: =Zebra!K38 -> 0.22515393 | F46: =Zebra!L38 -> 0.60320319 | G46: =Zebra!M38 -> 0.50437349 | H46: =Zebra!N38 -> 0.59160795 | I46: =IF(F46>4,"VERY HIGH",IF(F46>3,"HIGH",IF(F46>2,"MEDIUM",IF(F46>1,"LOW","VERY LOW")))) -> VERY LOW | J46: =IF(G46>4,"VERY HIGH",IF(G46>3,"HIGH",IF(G46>2,"MEDIUM",IF(G46>1,"LOW","VERY LOW")))) -> VERY LOW | K46: =IF(H46>4,"VERY HIGH",IF(H46>3,"HIGH",IF(H46>2,"MEDIUM",IF(H46>1,"LOW","VERY LOW")))) -> VERY LOW | L46: =IF(F46>=4.5,"NOT RECOMMENDED",IF(F46>=4,"EXTREME HIGH",IF(F46>=3.5,"VERY HIGH",IF(F46>=3,"HIGH",IF(F46>=2.5,"ABOVE AVERAGE",IF(F46>=2,"BELOW AVERAGE",IF(F46>=1.5,"LOW",IF(F46>=1,"VERY LOW",IF(F46>=0.5,"EXTREME LOW","NEGLIGIBLE"))))))))) -> EXTREME LOW | M46: =IF(G46>=4.5,"NOT RECOMMENDED",IF(G46>=4,"EXTREME HIGH",IF(G46>=3.5,"VERY HIGH",IF(G46>=3,"HIGH",IF(G46>=2.5,"ABOVE AVERAGE",IF(G46>=2,"BELOW AVERAGE",IF(G46>=1.5,"LOW",IF(G46>=1,"VERY LOW",IF(G46>=0.5,"EXTREME LOW","NEGLIGIBLE"))))))))) -> EXTREME LOW | N46: =IF(H46>=4.5,"NOT RECOMMENDED",IF(H46>=4,"EXTREME HIGH",IF(H46>=3.5,"VERY HIGH",IF(H46>=3,"HIGH",IF(H46>=2.5,"ABOVE AVERAGE",IF(H46>=2,"BELOW AVERAGE",IF(H46>=1.5,"LOW",IF(H46>=1,"VERY LOW",IF(H46>=0.5,"EXTREME LOW","NEGLIGIBLE"))))))))) -> EXTREME LOW
D47: Privacy | F47: Security | H47: Service
C48: Lowest | D48: Iguana | E48: 0.028 | F48: Iguana | G48: 0.028 | H48: Iguana | I48: 0.025
C49: Average | D49: Otter | E49: 0.605 | F49: Seal | G49: 0.524 | H49: Mouse | I49: 0.562
C50: Highest | D50: Gazelle | E50: 1.528 | F50: Gazelle | G50: 1.274 | H50: Gazelle | I50: 1.348

Sheet Alligator
A1: Provider | B1: Risk Id | C1: Description | D1: Vulnerability Index | E1: Adjusted Probability | F1: Privacy | G1: Security | H1: Service | I1: Privacy Index | J1: Security Index | K1: Service Index | L1: Privacy | M1: Security | N1: Service | O1: Impact
A2: alligator | B2: R-01 | C2: R.1 lock-in | D2: 0.40593488 | E2: =D2*4 -> 1.6237395 | F2: 0 | G2: 0 | H2: 1 | I2: =D2*F2 -> 0 | J2: =D2*G2 -> 0 | K2: =D2*H2 -> 0.40593488 | L2: =E2*F2 -> 0 | M2: =E2*G2 -> 0 | N2: =E2*H2 -> 1.6237395 | O2: 3
A3: alligator | B3: R-02 | C3: R.2 loss of governance | D3: 0.40538551 | E3: =D3*5 -> 2.0269276 | F3: 1 | G3: 0 | H3: 0 | I3: =D3*F3 -> 0.40538551 | J3: =D3*G3 -> 0 | K3: =D3*H3 -> 0 | L3: =E3*F3 -> 2.0269276 | M3: =E3*G3 -> 0 | N3: =E3*H3 -> 0 | O3: 5
A4: alligator | B4: R-03 | C4: R.3 compliance challenges | D4: 0.44469857 | E4: =D4*5 -> 2.2234928 | F4: 1 | G4: 1 | H4: 1 | I4: =D4*F4 -> 0.44469857 | J4: =D4*G4 -> 0.44469857 | K4: =D4*H4 -> 0.44469857 | L4: =E4*F4 -> 2.2234928 | M4: =E4*G4 -> 2.2234928 | N4: =E4*H4 -> 2.2234928 | O4: 4
A5: alligator | B5: R-04 | C5: R.4 loss of business reputation due to co-tenant activities | D5: 0.20283027 | E5: =D5*2 -> 0.40566054 | F5: 0 | G5: 1 | H5: 0 | I5: =D5*F5 -> 0 | J5: =D5*G5 -> 0.20283027 | K5: =D5*H5 -> 0 | L5: =E5*F5 -> 0 | M5: =E5*G5 -> 0.40566054 | N5: =E5*H5 -> 0 | O5: 4
A6: alligator | B6: R-05 | C6: R.5 cloud service termination or failure | D6: 0.33595924 | E6: =D6*3 -> 1.0078777 | F6: 0 | G6: 0 | H6: 1 | I6: =D6*F6 -> 0 | J6: =D6*G6 -> 0 | K6: =D6*H6 -> 0.33595924 | L6: =E6*F6 -> 0 | M6: =E6*G6 -> 0 | N6: =E6*H6 -> 1.0078777 | O6: 5
A7: alligator | B7: R-06 | C7: R.6 cloud provider acquisition | D7: 0.47368421 | E7: =D7*3 -> 1.4210526 | F7: 1 | G7: 1 | H7: 1 | I7: =D7*F7 -> 0.47368421 | J7: =D7*G7 -> 0.47368421 | K7: =D7*H7 -> 0.47368421 | L7: =E7*F7 -> 1.4210526 | M7: =E7*G7 -> 1.4210526 | N7: =E7*H7 -> 1.4210526 | O7: 3
A8: alligator | B8: R-07 | C8: R.7 supply chain failure | D8: 0.44267731 | E8: =D8*2 -> 0.88535461 | F8: 0 | G8: 0 | H8: 1 | I8: =D8*F8 -> 0 | J8: =D8*G8 -> 0 | K8: =D8*H8 -> 0.44267731 | L8: =E8*F8 -> 0 | M8: =E8*G8 -> 0 | N8: =E8*H8 -> 0.88535461 | O8: 3
A9: alligator | B9: R-08 | C9: R.8 resource exhaustion (under or over provisioning) | D9: 0.3777523 | E9: =D9*3 -> 1.1332569 | F9: 0 | G9: 0 | H9: 1 | I9: =D9*F9 -> 0 | J9: =D9*G9 -> 0 | K9: =D9*H9 -> 0.3777523 | L9: =E9*F9 -> 0 | M9: =E9*G9 -> 0 | N9: =E9*H9 -> 1.1332569 | O9: 4
A10: alligator | B10: R-09 | C10: R.9 isolation failure | D10: 0.22431078 | E10: =D10*3 -> 0.67293233 | F10: 1 | G10: 1 | H10: 0 | I10: =D10*F10 -> 0.22431078 | J10: =D10*G10 -> 0.22431078 | K10: =D10*H10 -> 0 | L10: =E10*F10 -> 0.67293233 | M10: =E10*G10 -> 0.67293233 | N10: =E10*H10 -> 0 | O10: 5
A11: alligator | B11: R-10 | C11: R.10 cloud provider malicious insider - abuse of high privilege roles | D11: 0.29726844 | E11: =D11*3 -> 0.89180533 | F11: 1 | G11: 1 | H11: 1 | I11: =D11*F11 -> 0.29726844 | J11: =D11*G11 -> 0.29726844 | K11: =D11*H11 -> 0.29726844 | L11: =E11*F11 -> 0.89180533 | M11: =E11*G11 -> 0.89180533 | N11: =E11*H11 -> 0.89180533 | O11: 5
A12: alligator | B12: R-11 | C12: R.11 management interface compromise | D12: 0.19405083 | E12: =D12*3 -> 0.5821525 | F12: 1 | G12: 1 | H12: 1 | I12: =D12*F12 -> 0.19405083 | J12: =D12*G12 -> 0.19405083 | K12: =D12*H12 -> 0.19405083 | L12: =E12*F12 -> 0.5821525 | M12: =E12*G12 -> 0.5821525 | N12: =E12*H12 -> 0.5821525 | O12: 5
A13: alligator | B13: R-12 | C13: R.12 intercepting data in transit | D13: 0.25979694 | E13: =D13*3 -> 0.77939081 | F13: 1 | G13: 1 | H13: 0 | I13: =D13*F13 -> 0.25979694 | J13: =D13*G13 -> 0.25979694 | K13: =D13*H13 -> 0 | L13: =E13*F13 -> 0.77939081 | M13: =E13*G13 -> 0.77939081 | N13: =E13*H13 -> 0 | O13: 4
A14: alligator | B14: R-13 | C14: R.13 data leakage on up/download intra-cloud | D14: 0.28999718 | E14: =D14*3 -> 0.86999154 | F14: 1 | G14: 1 | H14: 0 | I14: =D14*F14 -> 0.28999718 | J14: =D14*G14 -> 0.28999718 | K14: =D14*H14 -> 0 | L14: =E14*F14 -> 0.86999154 | M14: =E14*G14 -> 0.86999154 | N14: =E14*H14 -> 0 | O14: 4
A15: alligator | B15: R-14 | C15: R.14 insecure or ineffective deletion of data | D15: 0.36956522 | E15: =D15*3 -> 1.1086957 | F15: 1 | G15: 1 | H15: 0 | I15: =D15*F15 -> 0.36956522 | J15: =D15*G15 -> 0.36956522 | K15: =D15*H15 -> 0 | L15: =E15*F15 -> 1.1086957 | M15: =E15*G15 -> 1.1086957 | N15: =E15*H15 -> 0 | O15: 5
A16: alligator | B16: R-15 | C16: R.15 distributed denial of service (ddos) | D16: 0.24579772 | E16: =D16*3 -> 0.73739316 | F16: 0 | G16: 0 | H16: 1 | I16: =D16*F16 -> 0 | J16: =D16*G16 -> 0 | K16: =D16*H16 -> 0.24579772 | L16: =E16*F16 -> 0 | M16: =E16*G16 -> 0 | N16: =E16*H16 -> 0.73739316 | O16: 5
A17: alligator | B17: R-16 | C17: R.16 economic denial of service (edos) | D17: 0.23865622 | E17: =D17*2 -> 0.47731243 | F17: 0 | G17: 0 | H17: 1 | I17: =D17*F17 -> 0 | J17: =D17*G17 -> 0 | K17: =D17*H17 -> 0.23865622 | L17: =E17*F17 -> 0 | M17: =E17*G17 -> 0 | N17: =E17*H17 -> 0.47731243 | O17: 4
A18: alligator | B18: R-17 | C18: R.17 loss of encryption keys | D18: 0.27876344 | E18: =D18*2 -> 0.55752688 | F18: 1 | G18: 1 | H18: 0 | I18: =D18*F18 -> 0.27876344 | J18: =D18*G18 -> 0.27876344 | K18: =D18*H18 -> 0 | L18: =E18*F18 -> 0.55752688 | M18: =E18*G18 -> 0.55752688 | N18: =E18*H18 -> 0 | O18: 4
A19: alligator | B19: R-18 | C19: R.18 undertaking malicious probes or scans | D19: 0.25653153 | E19: =D19*3 -> 0.76959459 | F19: 1 | G19: 1 | H19: 0 | I19: =D19*F19 -> 0.25653153 | J19: =D19*G19 -> 0.25653153 | K19: =D19*H19 -> 0 | L19: =E19*F19 -> 0.76959459 | M19: =E19*G19 -> 0.76959459 | N19: =E19*H19 -> 0 | O19: 3
A20: alligator | B20: R-19 | C20: R.19 compromise service engine | D20: 0.18281684 | E20: =D20*2 -> 0.36563367 | F20: 1 | G20: 1 | H20: 1 | I20: =D20*F20 -> 0.18281684 | J20: =D20*G20 -> 0.18281684 | K20: =D20*H20 -> 0.18281684 | L20: =E20*F20 -> 0.36563367 | M20: =E20*G20 -> 0.36563367 | N20: =E20*H20 -> 0.36563367 | O20: 5
A21: alligator | B21: R-20 | C21: R.20 conflicts between customer hardening procedures and cloud environment | D21: 0.40559589 | E21: =D21*2 -> 0.81119177 | F21: 0 | G21: 1 | H21: 0 | I21: =D21*F21 -> 0 | J21: =D21*G21 -> 0.40559589 | K21: =D21*H21 -> 0 | L21: =E21*F21 -> 0 | M21: =E21*G21 -> 0.81119177 | N21: =E21*H21 -> 0 | O21: 3
A22: alligator | B22: R-21 | C22: R.21 subpoena and e-discovery | D22: 0.35657998 | E22: =D22*4 -> 1.4263199 | F22: 1 | G22: 1 | H22: 0 | I22: =D22*F22 -> 0.35657998 | J22: =D22*G22 -> 0.35657998 | K22: =D22*H22 -> 0 | L22: =E22*F22 -> 1.4263199 | M22: =E22*G22 -> 1.4263199 | N22: =E22*H22 -> 0 | O22: 3
A23: alligator | B23: R-22 | C23: R.22 risk from changes of jurisdiction | D23: 0.44444444 | E23: =D23*5 -> 2.2222222 | F23: 1 | G23: 0 | H23: 1 | I23: =D23*F23 -> 0.44444444 | J23: =D23*G23 -> 0 | K23: =D23*H23 -> 0.44444444 | L23: =E23*F23 -> 2.2222222 | M23: =E23*G23 -> 0 | N23: =E23*H23 -> 2.2222222 | O23: 4
A24: alligator | B24: R-23 | C24: R.23 data protection risks | D24: 0.44444444 | E24: =D24*4 -> 1.7777778 | F24: 1 | G24: 1 | H24: 0 | I24: =D24*F24 -> 0.44444444 | J24: =D24*G24 -> 0.44444444 | K24: =D24*H24 -> 0 | L24: =E24*F24 -> 1.7777778 | M24: =E24*G24 -> 1.7777778 | N24: =E24*H24 -> 0 | O24: 4
A25: alligator | B25: R-24 | C25: R.24 licensing risks | D25: 0.47368421 | E25: =D25*3 -> 1.4210526 | F25: 0 | G25: 0 | H25: 1 | I25: =D25*F25 -> 0 | J25: =D25*G25 -> 0 | K25: =D25*H25 -> 0.47368421 | L25: =E25*F25 -> 0 | M25: =E25*G25 -> 0 | N25: =E25*H25 -> 1.4210526 | O25: 3
A26: alligator | B26: R-25 | C26: R.25 network breaks | D26: 0.21977423 | E26: =D26*2 -> 0.43954847 | F26: 0 | G26: 0 | H26: 1 | I26: =D26*F26 -> 0 | J26: =D26*G26 -> 0 | K26: =D26*H26 -> 0.21977423 | L26: =E26*F26 -> 0 | M26: =E26*G26 -> 0 | N26: =E26*H26 -> 0.43954847 | O26: 5
A27: alligator | B27: R-26 | C27: R.26 network management (network congestion / mis-connection / non-optimal use) | D27: 0.21977423 | E27: =D27*3 -> 0.6593227 | F27: 0 | G27: 0 | H27: 1 | I27: =D27*F27 -> 0 | J27: =D27*G27 -> 0 | K27: =D27*H27 -> 0.21977423 | L27: =E27*F27 -> 0 | M27: =E27*G27 -> 0 | N27: =E27*H27 -> 0.6593227 | O27: 5
A28: alligator | B28: R-27 | C28: R.27 modifying network traffic | D28: 0.21199685 | E28: =D28*2 -> 0.4239937 | F28: 0 | G28: 0 | H28: 1 | I28: =D28*F28 -> 0 | J28: =D28*G28 -> 0 | K28: =D28*H28 -> 0.21199685 | L28: =E28*F28 -> 0 | M28: =E28*G28 -> 0 | N28: =E28*H28 -> 0.4239937 | O28: 4
A29: alligator | B29: R-28 | C29: R.28 privilege escalation | D29: 0.23558874 | E29: =D29*2 -> 0.47117748 | F29: 1 | G29: 1 | H29: 1 | I29: =D29*F29 -> 0.23558874 | J29: =D29*G29 -> 0.23558874 | K29: =D29*H29 -> 0.23558874 | L29: =E29*F29 -> 0.47117748 | M29: =E29*G29 -> 0.47117748 | N29: =E29*H29 -> 0.47117748 | O29: 4
A30: alligator | B30: R-29 | C30: R.29 social engineering attacks (ie impersonation) | D30: 0.22294339 | E30: =D30*3 -> 0.66883018 | F30: 0 | G30: 1 | H30: 0 | I30: =D30*F30 -> 0 | J30: =D30*G30 -> 0.22294339 | K30: =D30*H30 -> 0 | L30: =E30*F30 -> 0 | M30: =E30*G30 -> 0.66883018 | N30: =E30*H30 -> 0 | O30: 4
A31: alligator | B31: R-30 | C31: R.30 loss or compromise of operational logs | D31: 0.24062894 | E31: =D31*2 -> 0.48125788 | F31: 0 | G31: 1 | H31: 1 | I31: =D31*F31 -> 0 | J31: =D31*G31 -> 0.24062894 | K31: =D31*H31 -> 0.24062894 | L31: =E31*F31 -> 0 | M31: =E31*G31 -> 0.48125788 | N31: =E31*H31 -> 0.48125788 | O31: 3
A32: alligator | B32: R-31 | C32: R.31 loss or compromise of security logs (manipulation of forensic investigation) 50 | D32: 0.24062894 | E32: =D32*2 -> 0.48125788 | F32: 0 | G32: 1 | H32: 1 | I32: =D32*F32 -> 0 | J32: =D32*G32 -> 0.24062894 | K32: =D32*H32 -> 0.24062894 | L32: =E32*F32 -> 0 | M32: =E32*G32 -> 0.48125788 | N32: =E32*H32 -> 0.48125788 | O32: 3
A33: alligator | B33: R-32 | C33: R.32 backups lost or stolen | D33: 0.17107358 | E33: =D33*2 -> 0.34214716 | F33: 1 | G33: 1 | H33: 1 | I33: =D33*F33 -> 0.17107358 | J33: =D33*G33 -> 0.17107358 | K33: =D33*H33 -> 0.17107358 | L33: =E33*F33 -> 0.34214716 | M33: =E33*G33 -> 0.34214716 | N33: =E33*H33 -> 0.34214716 | O33: 4
A34: alligator | B34: R-33 | C34: R.33 unauthorized access to premises (including physical access to machines and other facilities) | D34: 0.17346939 | E34: =D34*1 -> 0.17346939 | F34: 1 | G34: 1 | H34: 0 | I34: =D34*F34 -> 0.17346939 | J34: =D34*G34 -> 0.17346939 | K34: =D34*H34 -> 0 | L34: =E34*F34 -> 0.17346939 | M34: =E34*G34 -> 0.17346939 | N34: =E34*H34 -> 0 | O34: 4
A35: alligator | B35: R-34 | C35: R.34 theft of computer equipment | D35: 0.17346939 | E35: =D35*1 -> 0.17346939 | F35: 1 | G35: 1 | H35: 1 | I35: =D35*F35 -> 0.17346939 | J35: =D35*G35 -> 0.17346939 | K35: =D35*H35 -> 0.17346939 | L35: =E35*F35 -> 0.17346939 | M35: =E35*G35 -> 0.17346939 | N35: =E35*H35 -> 0.17346939 | O35: 4
A36: alligator | B36: R-35 | C36: R.35 natural disasters | D36: 0.24418605 | E36: =D36*1 -> 0.24418605 | F36: 0 | G36: 0 | H36: 1 | I36: =D36*F36 -> 0 | J36: =D36*G36 -> 0 | K36: =D36*H36 -> 0.24418605 | L36: =E36*F36 -> 0 | M36: =E36*G36 -> 0 | N36: =E36*H36 -> 0.24418605 | O36: 4
D37: =SUM(D2:D36) -> 10.40476 | F37: =SUM(F2:F36) -> 19 | G37: =SUM(G2:G36) -> 22 | H37: =SUM(H2:H36) -> 22 | I37: =SUM(I2:I36) -> 5.6759395 | J37: =SUM(J2:J36) -> 6.1387369 | K37: =SUM(K2:K36) -> 6.5145462 | L37: =SUM(L2:L36) -> 18.85578 | M37: =SUM(M2:M36) -> 17.454828 | N37: =SUM(N2:N36) -> 18.708707
D38: =D37/35 -> 0.29727886 | I38: =I37/F37 -> 0.29873366 | J38: =J37/G37 -> 0.2790335 | K38: =K37/H37 -> 0.29611573 | L38: =L37/F37 -> 0.99240946 | M38: =M37/G37 -> 0.79340128 | N38: =N37/H37 -> 0.85039577
I39: Adjustment Indices | L39: Adjusted Probabilities

Sheet Armadillo
A1: Provider | B1: Risk Id | C1: Description | D1: Vulnerability Index | E1: Adjusted Probability | F1: Privacy | G1: Security | H1: Service | I1: Privacy Index | J1: Security Index | K1: Service Index | L1: Privacy | M1: Security | N1: Service | O1: Impact
A2: armadillo | B2: R-01 | C2: R.1 lock-in | D2: 0.11710598 | E2: =D2*4 -> 0.46842392 | F2: 0 | G2: 0 | H2: 1 | I2: =D2*F2 -> 0 | J2: =D2*G2 -> 0 | K2: =D2*H2 -> 0.11710598 | L2: =E2*F2 -> 0 | M2: =E2*G2 -> 0 | N2: =E2*H2 -> 0.46842392 | O2: 3
A3: armadillo | B3: R-02 | C3: R.2 loss of governance | D3: 0.1861833 | E3: =D3*5 -> 0.93091651 | F3: 1 | G3: 0 | H3: 0 | I3: =D3*F3 -> 0.1861833 | J3: =D3*G3 -> 0 | K3: =D3*H3 -> 0 | L3: =E3*F3 -> 0.93091651 | M3: =E3*G3 -> 0 | N3: =E3*H3 -> 0 | O3: 5
A4: armadillo | B4: R-03 | C4: R.3 compliance challenges | D4: 0.09520202 | E4: =D4*5 -> 0.4760101 | F4: 1 | G4: 1 | H4: 1 | I4: =D4*F4 -> 0.09520202 | J4: =D4*G4 -> 0.09520202 | K4: =D4*H4 -> 0.09520202 | L4: =E4*F4 -> 0.4760101 | M4: =E4*G4 -> 0.4760101 | N4: =E4*H4 -> 0.4760101 | O4: 4
A5: armadillo | B5: R-04 | C5: R.4 loss of business reputation due to co-tenant activities | D5: 0.076819526 | E5: =D5*2 -> 0.15363905 | F5: 0 | G5: 1 | H5: 0 | I5: =D5*F5 -> 0 | J5: =D5*G5 -> 0.076819526 | K5: =D5*H5 -> 0 | L5: =E5*F5 -> 0 | M5: =E5*G5 -> 0.15363905 | N5: =E5*H5 -> 0 | O5: 4
A6: armadillo | B6: R-05 | C6: R.5 cloud service termination or failure | D6: 0.21052632 | E6: =D6*3 -> 0.63157895 | F6: 0 | G6: 0 | H6: 1 | I6: =D6*F6 -> 0 | J6: =D6*G6 -> 0 | K6: =D6*H6 -> 0.21052632 | L6: =E6*F6 -> 0 | M6: =E6*G6 -> 0 | N6: =E6*H6 -> 0.63157895 | O6: 5
A7: armadillo | B7: R-06 | C7: R.6 cloud provider acquisition | D7: 0.11085598 | E7: =D7*3 -> 0.33256794 | F7: 1 | G7: 1 | H7: 1 | I7: =D7*F7 -> 0.11085598 | J7: =D7*G7 -> 0.11085598 | K7: =D7*H7 -> 0.11085598 | L7: =E7*F7 -> 0.33256794 | M7: =E7*G7 -> 0.33256794 | N7: =E7*H7 -> 0.33256794 | O7: 3
A8: armadillo | B8: R-07 | C8: R.7 supply chain failure | D8: 0.077912647 | E8: =D8*2 -> 0.15582529 | F8: 0 | G8: 0 | H8: 1 | I8: =D8*F8 -> 0 | J8: =D8*G8 -> 0 | K8: =D8*H8 -> 0.077912647 | L8: =E8*F8 -> 0 | M8: =E8*G8 -> 0 | N8: =E8*H8 -> 0.15582529 | O8: 3
A9: armadillo | B9: R-08 | C9: R.8 resource exhaustion (under or over provisioning) | D9: 0.097835498 | E9: =D9*3 -> 0.29350649 | F9: 0 | G9: 0 | H9: 1 | I9: =D9*F9 -> 0 | J9: =D9*G9 -> 0 | K9: =D9*H9 -> 0.097835498 | L9: =E9*F9 -> 0 | M9: =E9*G9 -> 0 | N9: =E9*H9 -> 0.29350649 | O9: 4
A10: armadillo | B10: R-09 | C10: R.9 isolation failure | D10: 0.080140728 | E10: =D10*3 -> 0.24042218 | F10: 1 | G10: 1 | H10: 0 | I10: =D10*F10 -> 0.080140728 | J10: =D10*G10 -> 0.080140728 | K10: =D10*H10 -> 0 | L10: =E10*F10 -> 0.24042218 | M10: =E10*G10 -> 0.24042218 | N10: =E10*H10 -> 0 | O10: 5
A11: armadillo | B11: R-10 | C11: R.10 cloud provider malicious insider - abuse of high privilege roles | D11: 0.070297731 | E11: =D11*3 -> 0.21089319 | F11: 1 | G11: 1 | H11: 1 | I11: =D11*F11 -> 0.070297731 | J11: =D11*G11 -> 0.070297731 | K11: =D11*H11 -> 0.070297731 | L11: =E11*F11 -> 0.21089319 | M11: =E11*G11 -> 0.21089319 | N11: =E11*H11 -> 0.21089319 | O11: 5
A12: armadillo | B12: R-11 | C12: R.11 management interface compromise | D12: 0.10866276 | E12: =D12*3 -> 0.32598827 | F12: 1 | G12: 1 | H12: 1 | I12: =D12*F12 -> 0.10866276 | J12: =D12*G12 -> 0.10866276 | K12: =D12*H12 -> 0.10866276 | L12: =E12*F12 -> 0.32598827 | M12: =E12*G12 -> 0.32598827 | N12: =E12*H12 -> 0.32598827 | O12: 5
A13: armadillo | B13: R-12 | C13: R.12 intercepting data in transit | D13: 0.086563024 | E13: =D13*3 -> 0.25968907 | F13: 1 | G13: 1 | H13: 0 | I13: =D13*F13 -> 0.086563024 | J13: =D13*G13 -> 0.086563024 | K13: =D13*H13 -> 0 | L13: =E13*F13 -> 0.25968907 | M13: =E13*G13 -> 0.25968907 | N13: =E13*H13 -> 0 | O13: 4
A14: armadillo | B14: R-13 | C14: R.13 data leakage on up/download intra-cloud | D14: 0.071428571 | E14: =D14*3 -> 0.21428571 | F14: 1 | G14: 1 | H14: 0 | I14: =D14*F14 -> 0.071428571 | J14: =D14*G14 -> 0.071428571 | K14: =D14*H14 -> 0 | L14: =E14*F14 -> 0.21428571 | M14: =E14*G14 -> 0.21428571 | N14: =E14*H14 -> 0 | O14: 4
A15: armadillo | B15: R-14 | C15: R.14 insecure or ineffective deletion of data | D15: 0.064094557 | E15: =D15*3 -> 0.19228367 | F15: 1 | G15: 1 | H15: 0 | I15: =D15*F15 -> 0.064094557 | J15: =D15*G15 -> 0.064094557 | K15: =D15*H15 -> 0 | L15: =E15*F15 -> 0.19228367 | M15: =E15*G15 -> 0.19228367 | N15: =E15*H15 -> 0 | O15: 5
A16: armadillo | B16: R-15 | C16: R.15 distributed denial of service (ddos) | D16: 0.063636364 | E16: =D16*3 -> 0.19090909 | F16: 0 | G16: 0 | H16: 1 | I16: =D16*F16 -> 0 | J16: =D16*G16 -> 0 | K16: =D16*H16 -> 0.063636364 | L16: =E16*F16 -> 0 | M16: =E16*G16 -> 0 | N16: =E16*H16 -> 0.19090909 | O16: 5
A17: armadillo | B17: R-16 | C17: R.16 economic denial of service (edos) | D17: 0.19304187 | E17: =D17*2 -> 0.38608374 | F17: 0 | G17: 0 | H17: 1 | I17: =D17*F17 -> 0 | J17: =D17*G17 -> 0 | K17: =D17*H17 -> 0.19304187 | L17: =E17*F17 -> 0 | M17: =E17*G17 -> 0 | N17: =E17*H17 -> 0.38608374 | O17: 4
A18: armadillo | B18: R-17 | C18: R.17 loss of encryption keys | D18: 0.10178571 | E18: =D18*2 -> 0.20357143 | F18: 1 | G18: 1 | H18: 0 | I18: =D18*F18 -> 0.10178571 | J18: =D18*G18 -> 0.10178571 | K18: =D18*H18 -> 0 | L18: =E18*F18 -> 0.20357143 | M18: =E18*G18 -> 0.20357143 | N18: =E18*H18 -> 0 | O18: 4
A19: armadillo | B19: R-18 | C19: R.18 undertaking malicious probes or scans | D19: 0.089772727 | E19: =D19*3 -> 0.26931818 | F19: 1 | G19: 1 | H19: 0 | I19: =D19*F19 -> 0.089772727 | J19: =D19*G19 -> 0.089772727 | K19: =D19*H19 -> 0 | L19: =E19*F19 -> 0.26931818 | M19: =E19*G19 -> 0.26931818 | N19: =E19*H19 -> 0 | O19: 3
A20: armadillo | B20: R-19 | C20: R.19 compromise service engine | D20: 0.1677063 | E20: =D20*2 -> 0.33541261 | F20: 1 | G20: 1 | H20: 1 | I20: =D20*F20 -> 0.1677063 | J20: =D20*G20 -> 0.1677063 | K20: =D20*H20 -> 0.1677063 | L20: =E20*F20 -> 0.33541261 | M20: =E20*G20 -> 0.33541261 | N20: =E20*H20 -> 0.33541261 | O20: 5
A21: armadillo | B21: R-20 | C21: R.20 conflicts between customer hardening procedures and cloud environment | D21: 0.25555556 | E21: =D21*2 -> 0.51111111 | F21: 0 | G21: 1 | H21: 0 | I21: =D21*F21 -> 0 | J21: =D21*G21 -> 0.25555556 | K21: =D21*H21 -> 0 | L21: =E21*F21 -> 0 | M21: =E21*G21 -> 0.51111111 | N21: =E21*H21 -> 0 | O21: 3
A22: armadillo | B22: R-21 | C22: R.21 subpoena and e-discovery | D22: 0.33333333 | E22: =D22*4 -> 1.3333333 | F22: 1 | G22: 1 | H22: 0 | I22: =D22*F22 -> 0.33333333 | J22: =D22*G22 -> 0.33333333 | K22: =D22*H22 -> 0 | L22: =E22*F22 -> 1.3333333 | M22: =E22*G22 -> 1.3333333 | N22: =E22*H22 -> 0 | O22: 3
A23: armadillo | B23: R-22 | C23: R.22 risk from changes of jurisdiction | D23: 0.33333333 | E23: =D23*5 -> 1.6666667 | F23: 1 | G23: 0 | H23: 1 | I23: =D23*F23 -> 0.33333333 | J23: =D23*G23 -> 0 | K23: =D23*H23 -> 0.33333333 | L23: =E23*F23 -> 1.6666667 | M23: =E23*G23 -> 0 | N23: =E23*H23 -> 1.6666667 | O23: 4
A24: armadillo | B24: R-23 | C24: R.23 data protection risks | D24: 0.21052632 | E24: =D24*4 -> 0.84210526 | F24: 1 | G24: 1 | H24: 0 | I24: =D24*F24 -> 0.21052632 | J24: =D24*G24 -> 0.21052632 | K24: =D24*H24 -> 0 | L24: =E24*F24 -> 0.84210526 | M24: =E24*G24 -> 0.84210526 | N24: =E24*H24 -> 0 | O24: 4
A25: armadillo | B25: R-24 | C25: R.24 licensing risks | D25: 0.084068304 | E25: =D25*3 -> 0.25220491 | F25: 0 | G25: 0 | H25: 1 | I25: =D25*F25 -> 0 | J25: =D25*G25 -> 0 | K25: =D25*H25 -> 0.084068304 | L25: =E25*F25 -> 0 | M25: =E25*G25 -> 0 | N25: =E25*H25 -> 0.25220491 | O25: 3
A26: armadillo | B26: R-25 | C26: R.25 network breaks | D26: 0.084068304 | E26: =D26*2 -> 0.16813661 | F26: 0 | G26: 0 | H26: 1 | I26: =D26*F26 -> 0 | J26: =D26*G26 -> 0 | K26: =D26*H26 -> 0.084068304 | L26: =E26*F26 -> 0 | M26: =E26*G26 -> 0 | N26: =E26*H26 -> 0.16813661 | O26: 5
A27: armadillo | B27: R-26 | C27: R.26 network management (network congestion / mis-connection / non-optimal use) | D27: 0.095833333 | E27: =D27*3 -> 0.2875 | F27: 0 | G27: 0 | H27: 1 | I27: =D27*F27 -> 0 | J27: =D27*G27 -> 0 | K27: =D27*H27 -> 0.095833333 | L27: =E27*F27 -> 0 | M27: =E27*G27 -> 0 | N27: =E27*H27 -> 0.2875 | O27: 5
A28: armadillo | B28: R-27 | C28: R.27 modifying network traffic | D28: 0.070221244 | E28: =D28*2 -> 0.14044249 | F28: 0 | G28: 0 | H28: 1 | I28: =D28*F28 -> 0 | J28: =D28*G28 -> 0 | K28: =D28*H28 -> 0.070221244 | L28: =E28*F28 -> 0 | M28: =E28*G28 -> 0 | N28: =E28*H28 -> 0.14044249 | O28: 4
A29: armadillo | B29: R-28 | C29: R.28 privilege escalation | D29: 0.077765957 | E29: =D29*2 -> 0.15553191 | F29: 1 | G29: 1 | H29: 1 | I29: =D29*F29 -> 0.077765957 | J29: =D29*G29 -> 0.077765957 | K29: =D29*H29 -> 0.077765957 | L29: =E29*F29 -> 0.15553191 | M29: =E29*G29 -> 0.15553191 | N29: =E29*H29 -> 0.15553191 | O29: 4
A30: armadillo | B30: R-29 | C30: R.29 social engineering attacks (ie impersonation) | D30: 0.0820566 | E30: =D30*3 -> 0.2461698 | F30: 0 | G30: 1 | H30: 0 | I30: =D30*F30 -> 0 | J30: =D30*G30 -> 0.0820566 | K30: =D30*H30 -> 0 | L30: =E30*F30 -> 0 | M30: =E30*G30 -> 0.2461698 | N30: =E30*H30 -> 0 | O30: 4
A31: armadillo | B31: R-30 | C31: R.30 loss or compromise of operational logs | D31: 0.0820566 | E31: =D31*2 -> 0.1641132 | F31: 0 | G31: 1 | H31: 1 | I31: =D31*F31 -> 0 | J31: =D31*G31 -> 0.0820566 | K31: =D31*H31 -> 0.0820566 | L31: =E31*F31 -> 0 | M31: =E31*G31 -> 0.1641132 | N31: =E31*H31 -> 0.1641132 | O31: 3
A32: armadillo | B32: R-31 | C32: R.31 loss or compromise of security logs (manipulation of forensic investigation) 50 | D32: 0.062927144 | E32: =D32*2 -> 0.12585429 | F32: 0 | G32: 1 | H32: 1 | I32: =D32*F32 -> 0 | J32: =D32*G32 -> 0.062927144 | K32: =D32*H32 -> 0.062927144 | L32: =E32*F32 -> 0 | M32: =E32*G32 -> 0.12585429 | N32: =E32*H32 -> 0.12585429 | O32: 3
A33: armadillo | B33: R-32 | C33: R.32 backups lost or stolen | D33: 0.063829787 | E33: =D33*2 -> 0.12765957 | F33: 1 | G33: 1 | H33: 1 | I33: =D33*F33 -> 0.063829787 | J33: =D33*G33 -> 0.063829787 | K33: =D33*H33 -> 0.063829787 | L33: =E33*F33 -> 0.12765957 | M33: =E33*G33 -> 0.12765957 | N33: =E33*H33 -> 0.12765957 | O33: 4
A34: armadillo | B34: R-33 | C34: R.33 unauthorized access to premises (including physical access to machines and other facilities) | D34: 0.063829787 | E34: =D34*1 -> 0.063829787 | F34: 1 | G34: 1 | H34: 0 | I34: =D34*F34 -> 0.063829787 | J34: =D34*G34 -> 0.063829787 | K34: =D34*H34 -> 0 | L34: =E34*F34 -> 0.063829787 | M34: =E34*G34 -> 0.063829787 | N34: =E34*H34 -> 0 | O34: 4
A35: armadillo | B35: R-34 | C35: R.34 theft of computer equipment | D35: 0.097560976 | E35: =D35*1 -> 0.097560976 | F35: 1 | G35: 1 | H35: 1 | I35: =D35*F35 -> 0.097560976 | J35: =D35*G35 -> 0.097560976 | K35: =D35*H35 -> 0.097560976 | L35: =E35*F35 -> 0.097560976 | M35: =E35*G35 -> 0.097560976 | N35: =E35*H35 -> 0.097560976 | O35: 4
A36: armadillo | B36: R-35 | C36: R.35 natural disasters | D36: 0.1438114 | E36: =D36*1 -> 0.1438114 | F36: 0 | G36: 0 | H36: 1 | I36: =D36*F36 -> 0 | J36: =D36*G36 -> 0 | K36: =D36*H36 -> 0.1438114 | L36: =E36*F36 -> 0 | M36: =E36*G36 -> 0 | N36: =E36*H36 -> 0.1438114 | O36: 4
D37: =SUM(D2:D36) -> 4.2103496 | F37: =SUM(F2:F36) -> 19 | G37: =SUM(G2:G36) -> 22 | H37: =SUM(H2:H36) -> 22 | I37: =SUM(I2:I36) -> 2.4128729 | J37: =SUM(J2:J36) -> 2.4527717 | K37: =SUM(K2:K36) -> 2.5082598 | L37: =SUM(L2:L36) -> 8.2780464 | M37: =SUM(M2:M36) -> 6.8813507 | N37: =SUM(N2:N36) -> 7.1366816
D38: =D37/35 -> 0.1202957 | I38: =I37/F37 -> 0.12699331 | J38: =J37/G37 -> 0.11148962 | K38: =K37/H37 -> 0.11401181 | L38: =L37/F37 -> 0.43568665 | M38: =M37/G37 -> 0.31278867 | N38: =N37/H37 -> 0.32439462
I39: Vulnerability Indices | L39: Adjusted Probabilities

Sheet Blackbear
A1: Provider | B1: Risk Id | C1: Description | D1: Vulnerability Index | E1: Adjusted Probability | F1: Privacy | G1: Security | H1: Service | I1: Privacy Index | J1: Security Index | K1: Service Index | L1: Privacy | M1: Security | N1: Service | O1: Impact
A2: blackbear | B2: R-01 | C2: R.1 lock-in | D2: 0.31381866 | E2: =D2*4 -> 1.2552746 | F2: 0 | G2: 0 | H2: 1 | I2: =D2*F2 -> 0 | J2: =D2*G2 -> 0 | K2: =D2*H2 -> 0.31381866 | L2: =E2*F2 -> 0 | M2: =E2*G2 -> 0 | N2: =E2*H2 -> 1.2552746 | O2: 3
A3: blackbear | B3: R-02 | C3: R.2 loss of governance | D3: 0.32927022 | E3: =D3*5 -> 1.6463511 | F3: 1 | G3: 0 | H3: 0 | I3: =D3*F3 -> 0.32927022 | J3: =D3*G3 -> 0 | K3: =D3*H3 -> 0 | L3: =E3*F3 -> 1.6463511 | M3: =E3*G3 -> 0 | N3: =E3*H3 -> 0 | O3: 5
A4: blackbear | B4: R-03 | C4: R.3 compliance challenges | D4: 0.30792712 | E4: =D4*5 -> 1.5396356 | F4: 1 | G4: 1 | H4: 1 | I4: =D4*F4 -> 0.30792712 | J4: =D4*G4 -> 0.30792712 | K4: =D4*H4 -> 0.30792712 | L4: =E4*F4 -> 1.5396356 | M4: =E4*G4 -> 1.5396356 | N4: =E4*H4 -> 1.5396356 | O4: 4
A5: blackbear | B5: R-04 | C5: R.4 loss of business reputation due to co-tenant activities | D5: 0.378367 | E5: =D5*2 -> 0.75673401 | F5: 0 | G5: 1 | H5: 0 | I5: =D5*F5 -> 0 | J5: =D5*G5 -> 0.378367 | K5: =D5*H5 -> 0 | L5: =E5*F5 -> 0 | M5: =E5*G5 -> 0.75673401 | N5: =E5*H5 -> 0 | O5: 4
A6: blackbear | B6: R-05 | C6: R.5 cloud service termination or failure | D6: 0.2463025 | E6: =D6*3 -> 0.73890749 | F6: 0 | G6: 0 | H6: 1 | I6: =D6*F6 -> 0 | J6: =D6*G6 -> 0 | K6: =D6*H6 -> 0.2463025 | L6: =E6*F6 -> 0 | M6: =E6*G6 -> 0 | N6: =E6*H6 -> 0.73890749 | O6: 5
A7: blackbear | B7: R-06 | C7: R.6 cloud provider acquisition | D7: 0.47368421 | E7: =D7*3 -> 1.4210526 | F7: 1 | G7: 1 | H7: 1 | I7: =D7*F7 -> 0.47368421 | J7: =D7*G7 -> 0.47368421 | K7: =D7*H7 -> 0.47368421 | L7: =E7*F7 -> 1.4210526 | M7: =E7*G7 -> 1.4210526 | N7: =E7*H7 -> 1.4210526 | O7: 3
A8: blackbear | B8: R-07 | C8: R.7 supply chain failure | D8: 0.31798532 | E8: =D8*2 -> 0.63597065 | F8: 0 | G8: 0 | H8: 1 | I8: =D8*F8 -> 0 | J8: =D8*G8 -> 0 | K8: =D8*H8 -> 0.31798532 | L8: =E8*F8 -> 0 | M8: =E8*G8 -> 0 | N8: =E8*H8 -> 0.63597065 | O8: 3
A9: blackbear | B9: R-08 | C9: R.8 resource exhaustion (under or over provisioning) | D9: 0.3275236 | E9: =D9*3 -> 0.98257081 | F9: 0 | G9: 0 | H9: 1 | I9: =D9*F9 -> 0 | J9: =D9*G9 -> 0 | K9: =D9*H9 -> 0.3275236 | L9: =E9*F9 -> 0 | M9: =E9*G9 -> 0 | N9: =E9*H9 -> 0.98257081 | O9: 4
A10: blackbear | B10: R-09 | C10: R.9 isolation failure | D10: 0.3870202 | E10: =D10*3 -> 1.1610606 | F10: 1 | G10: 1 | H10: 0 | I10: =D10*F10 -> 0.3870202 | J10: =D10*G10 -> 0.3870202 | K10: =D10*H10 -> 0 | L10: =E10*F10 -> 1.1610606 | M10: =E10*G10 -> 1.1610606 | N10: =E10*H10 -> 0 | O10: 5
A11: blackbear | B11: R-10 | C11: R.10 cloud provider malicious insider - abuse of high privilege roles | D11: 0.34170707 | E11: =D11*3 -> 1.0251212 | F11: 1 | G11: 1 | H11: 1 | I11: =D11*F11 -> 0.34170707 | J11: =D11*G11 -> 0.34170707 | K11: =D11*H11 -> 0.34170707 | L11: =E11*F11 -> 1.0251212 | M11: =E11*G11 -> 1.0251212 | N11: =E11*H11 -> 1.0251212 | O11: 5
A12: blackbear | B12: R-11 | C12: R.11 management interface compromise | D12: 0.35594595 | E12: =D12*3 -> 1.0678378 | F12: 1 | G12: 1 | H12: 1 | I12: =D12*F12 -> 0.35594595 | J12: =D12*G12 -> 0.35594595 | K12: =D12*H12 -> 0.35594595 | L12: =E12*F12 -> 1.0678378 | M12: =E12*G12 -> 1.0678378 | N12: =E12*H12 -> 1.0678378 | O12: 5
A13: blackbear | B13: R-12 | C13: R.12 intercepting data in transit | D13: 0.37667464 | E13: =D13*3 -> 1.1300239 | F13: 1 | G13: 1 | H13: 0 | I13: =D13*F13 -> 0.37667464 | J13: =D13*G13 -> 0.37667464 | K13: =D13*H13 -> 0 | L13: =E13*F13 -> 1.1300239 | M13: =E13*G13 -> 1.1300239 | N13: =E13*H13 -> 0 | O13: 4
A14: blackbear | B14: R-13 | C14: R.13 data leakage on up/download intra-cloud | D14: 0.35020475 | E14: =D14*3 -> 1.0506143 | F14: 1 | G14: 1 | H14: 0 | I14: =D14*F14 -> 0.35020475 | J14: =D14*G14 -> 0.35020475 | K14: =D14*H14 -> 0 | L14: =E14*F14 -> 1.0506143 | M14: =E14*G14 -> 1.0506143 | N14: =E14*H14 -> 0 | O14: 4
A15: blackbear | B15: R-14 | C15: R.14 insecure or ineffective deletion of data | D15: 0.28571429 | E15: =D15*3 -> 0.85714286 | F15: 1 | G15: 1 | H15: 0 | I15: =D15*F15 -> 0.28571429 | J15: =D15*G15 -> 0.28571429 | K15: =D15*H15 -> 0 | L15: =E15*F15 -> 0.85714286 | M15: =E15*G15 -> 0.85714286 | N15: =E15*H15 -> 0 | O15: 5
A16: blackbear | B16: R-15 | C16: R.15 distributed denial of service (ddos) | D16: 0.28828829 | E16: =D16*3 -> 0.86486486 | F16: 0 | G16: 0 | H16: 1 | I16: =D16*F16 -> 0 | J16: =D16*G16 -> 0 | K16: =D16*H16 -> 0.28828829 | L16: =E16*F16 -> 0 | M16: =E16*G16 -> 0 | N16: =E16*H16 -> 0.86486486 | O16: 5
A17: blackbear | B17: R-16 | C17: R.16 economic denial of service (edos) | D17: 0.37777778 | E17: =D17*2 -> 0.75555556 | F17: 0 | G17: 0 | H17: 1 | I17: =D17*F17 -> 0 | J17: =D17*G17 -> 0 | K17: =D17*H17 -> 0.37777778 | L17: =E17*F17 -> 0 | M17: =E17*G17 -> 0 | N17: =E17*H17 -> 0.75555556 | O17: 4
A18: blackbear | B18: R-17 | C18: R.17 loss of encryption keys | D18: 0.33374384 | E18: =D18*2 -> 0.66748768 | F18: 1 | G18: 1 | H18: 0 | I18: =D18*F18 -> 0.33374384 | J18: =D18*G18 -> 0.33374384 | K18: =D18*H18 -> 0 | L18: =E18*F18 -> 0.66748768 | M18: =E18*G18 -> 0.66748768 | N18: =E18*H18 -> 0 | O18: 4
A19: blackbear | B19: R-18 | C19: R.18 undertaking malicious probes or scans | D19: 0.4 | E19: =D19*3 -> 1.2 | F19: 1 | G19: 1 | H19: 0 | I19: =D19*F19 -> 0.4 | J19: =D19*G19 -> 0.4 | K19: =D19*H19 -> 0 | L19: =E19*F19 -> 1.2 | M19: =E19*G19 -> 1.2 | N19: =E19*H19 -> 0 | O19: 3
A20: blackbear | B20: R-19 | C20: R.19 compromise service engine | D20: 0.39330808 | E20: =D20*2 -> 0.78661616 | F20: 1 | G20: 1 | H20: 1 | I20: =D20*F20 -> 0.39330808 | J20: =D20*G20 -> 0.39330808 | K20: =D20*H20 -> 0.39330808 | L20: =E20*F20 -> 0.78661616 | M20: =E20*G20 -> 0.78661616 | N20: =E20*H20 -> 0.78661616 | O20: 5
A21: blackbear | B21: R-20 | C21: R.20 conflicts between customer hardening procedures and cloud environment | D21: 0.43135153 | E21: =D21*2 -> 0.86270305 | F21: 0 | G21: 1 | H21: 0 | I21: =D21*F21 -> 0 | J21: =D21*G21 -> 0.43135153 | K21: =D21*H21 -> 0 | L21: =E21*F21 -> 0 | M21: =E21*G21 -> 0.86270305 | N21: =E21*H21 -> 0 | O21: 3
A22: blackbear | B22: R-21 | C22: R.21 subpoena and e-discovery | D22: 0.31481481 | E22: =D22*4 -> 1.2592593 | F22: 1 | G22: 1 | H22: 0 | I22: =D22*F22 -> 0.31481481 | J22: =D22*G22 -> 0.31481481 | K22: =D22*H22 -> 0 | L22: =E22*F22 -> 1.2592593 | M22: =E22*G22 -> 1.2592593 | N22: =E22*H22 -> 0 | O22: 3
A23: blackbear | B23: R-22 | C23: R.22 risk from changes of jurisdiction | D23: 0.27777778 | E23: =D23*5 -> 1.3888889 | F23: 1 | G23: 0 | H23: 1 | I23: =D23*F23 -> 0.27777778 | J23: =D23*G23 -> 0 | K23: =D23*H23 -> 0.27777778 | L23: =E23*F23 -> 1.3888889 | M23: =E23*G23 -> 0 | N23: =E23*H23 -> 1.3888889 | O23: 4
A24: blackbear | B24: R-23 | C24: R.23 data protection risks | D24: 0.27777778 | E24: =D24*4 -> 1.1111111 | F24: 1 | G24: 1 | H24: 0 | I24: =D24*F24 -> 0.27777778 | J24: =D24*G24 -> 0.27777778 | K24: =D24*H24 -> 0 | L24: =E24*F24 -> 1.1111111 | M24: =E24*G24 -> 1.1111111 | N24: =E24*H24 -> 0 | O24: 4
A25: blackbear | B25: R-24 | C25: R.24 licensing risks | D25: 0.47368421 | E25: =D25*3 -> 1.4210526 | F25: 0 | G25: 0 | H25: 1 | I25: =D25*F25 -> 0 | J25: =D25*G25 -> 0 | K25: =D25*H25 -> 0.47368421 | L25: =E25*F25 -> 0 | M25: =E25*G25 -> 0 | N25: =E25*H25 -> 1.4210526 | O25: 3
A26: blackbear | B26: R-25 | C26: R.25 network breaks | D26: 0.30276771 | E26: =D26*2 -> 0.60553541 | F26: 0 | G26: 0 | H26: 1 | I26: =D26*F26 -> 0 | J26: =D26*G26 -> 0 | K26: =D26*H26 -> 0.30276771 | L26: =E26*F26 -> 0 | M26: =E26*G26 -> 0 | N26: =E26*H26 -> 0.60553541 | O26: 5
A27: blackbear | B27: R-26 | C27: R.26 network management (network congestion / mis-connection / non-optimal use) | D27: 0.30276771 | E27: =D27*3 -> 0.90830312 | F27: 0 | G27: 0 | H27: 1 | I27: =D27*F27 -> 0 | J27: =D27*G27 -> 0 | K27: =D27*H27 -> 0.30276771 | L27: =E27*F27 -> 0 | M27: =E27*G27 -> 0 | N27: =E27*H27 -> 0.90830312 | O27: 5
A28: blackbear | B28: R-27 | C28: R.27 modifying network traffic | D28: 0.33472222 | E28: =D28*2 -> 0.66944444 | F28: 0 | G28: 0 | H28: 1 | I28: =D28*F28 -> 0 | J28: =D28*G28 -> 0 | K28: =D28*H28 -> 0.33472222 | L28: =E28*F28 -> 0 | M28: =E28*G28 -> 0 | N28: =E28*H28 -> 0.66944444 | O28: 4
A29: blackbear | B29: R-28 | C29: R.28 privilege escalation | D29: 0.3534278 | E29: =D29*2 -> 0.7068556 | F29: 1 | G29: 1 | H29: 1 | I29: =D29*F29 -> 0.3534278 | J29: =D29*G29 -> 0.3534278 | K29: =D29*H29 -> 0.3534278 | L29: =E29*F29 -> 0.7068556 | M29: =E29*G29 -> 0.7068556 | N29: =E29*H29 -> 0.7068556 | O29: 4
A30: blackbear | B30: R-29 | C30: R.29 social engineering attacks (ie impersonation) | D30: 0.33373522 | E30: =D30*3 -> 1.0012057 | F30: 0 | G30: 1 | H30: 0 | I30: =D30*F30 -> 0 | J30: =D30*G30 -> 0.33373522 | K30: =D30*H30 -> 0 | L30: =E30*F30 -> 0 | M30: =E30*G30 -> 1.0012057 | N30: =E30*H30 -> 0 | O30: 4
A31: blackbear | B31: R-30 | C31: R.30 loss or compromise of operational logs | D31: 0.33415743 | E31: =D31*2 -> 0.66831486 | F31: 0 | G31: 1 | H31: 1 | I31: =D31*F31 -> 0 | J31: =D31*G31 -> 0.33415743 | K31: =D31*H31 -> 0.33415743 | L31: =E31*F31 -> 0 | M31: =E31*G31 -> 0.66831486 | N31: =E31*H31 -> 0.66831486 | O31: 3
A32: blackbear | B32: R-31 | C32: R.31 loss or compromise of security logs (manipulation of forensic investigation) 50 | D32: 0.33415743 | E32: =D32*2 -> 0.66831486 | F32: 0 | G32: 1 | H32: 1 | I32: =D32*F32 -> 0 | J32: =D32*G32 -> 0.33415743 | K32: =D32*H32 -> 0.33415743 | L32: =E32*F32 -> 0 | M32: =E32*G32 -> 0.66831486 | N32: =E32*H32 -> 0.66831486 | O32: 3
A33: blackbear | B33: R-32 | C33: R.32 backups lost or stolen | D33: 0.38042661 | E33: =D33*2 -> 0.76085321 | F33: 1 | G33: 1 | H33: 1 | I33: =D33*F33 -> 0.38042661 | J33: =D33*G33 -> 0.38042661 | K33: =D33*H33 -> 0.38042661 | L33: =E33*F33 -> 0.76085321 | M33: =E33*G33 -> 0.76085321 | N33: =E33*H33 -> 0.76085321 | O33: 4
A34: blackbear | B34: R-33 | C34: R.33 unauthorized access to premises (including physical access to machines and other facilities) | D34: 0.32978723 | E34: =D34*1 -> 0.32978723 | F34: 1 | G34: 1 | H34: 0 | I34: =D34*F34 -> 0.32978723 | J34: =D34*G34 -> 0.32978723 | K34: =D34*H34 -> 0 | L34: =E34*F34 -> 0.32978723 | M34: =E34*G34 -> 0.32978723 | N34: =E34*H34 -> 0 | O34: 4
A35: blackbear | B35: R-34 | C35: R.34 theft of computer equipment | D35: 0.32978723 | E35: =D35*1 -> 0.32978723 | F35: 1 | G35: 1 | H35: 1 | I35: =D35*F35 -> 0.32978723 | J35: =D35*G35 -> 0.32978723 | K35: =D35*H35 -> 0.32978723 | L35: =E35*F35 -> 0.32978723 | M35: =E35*G35 -> 0.32978723 | N35: =E35*H35 -> 0.32978723 | O35: 4
A36: blackbear | B36: R-35 | C36: R.35 natural disasters | D36: 0.20731707 | E36: =D36*1 -> 0.20731707 | F36: 0 | G36: 0 | H36: 1 | I36: =D36*F36 -> 0 | J36: =D36*G36 -> 0 | K36: =D36*H36 -> 0.20731707 | L36: =E36*F36 -> 0 | M36: =E36*G36 -> 0 | N36: =E36*H36 -> 0.20731707 | O36: 4
D37: =SUM(D2:D36) -> 11.903723 | F37: =SUM(F2:F36) -> 19 | G37: =SUM(G2:G36) -> 22 | H37: =SUM(H2:H36) -> 22 | I37: =SUM(I2:I36) -> 6.5989996 | J37: =SUM(J2:J36) -> 7.8037202 | K37: =SUM(K2:K36) -> 7.3752618 | L37: =SUM(L2:L36) -> 19.439486 | M37: =SUM(M2:M36) -> 20.361519 | N37: =SUM(N2:N36) -> 19.408075
D38: =D37/35 -> 0.34010638 | I38: =I37/F37 -> 0.34731577 | J38: =J37/G37 -> 0.35471456 | K38: =K37/H37 -> 0.33523917 | L38: =L37/F37 -> 1.0231309 | M38: =M37/G37 -> 0.92552359 | N38: =N37/H37 -> 0.88218522
I39: Adjustment Indices | L39: Adjusted Probabilities

Sheet Buffalo
A1: Provider | B1: Risk Id | C1: Description | D1: Vulnerability Index | E1: Adjusted Probability | F1: Privacy | G1: Security | H1: Service | I1: Privacy Index | J1: Security Index | K1: Service Index | L1: Privacy | M1: Security | N1: Service | O1: Impact
A2: buffalo | B2: R-01 | C2: R.1 lock-in | D2: 0.038888889 | E2: =D2*4 -> 0.15555556 | F2: 0 | G2: 0 | H2: 1 | I2: =D2*F2 -> 0 | J2: =D2*G2 -> 0 | K2: =D2*H2 -> 0.038888889 | L2: =E2*F2 -> 0 | M2: =E2*G2 -> 0 | N2: =E2*H2 -> 0.15555556 | O2: 3
A3: buffalo | B3: R-02 | C3: R.2 loss of governance | D3: 0.045500889 | E3: =D3*5 -> 0.22750444 | F3: 1 | G3: 0 | H3: 0 | I3: =D3*F3 -> 0.045500889 | J3: =D3*G3 -> 0 | K3: =D3*H3 -> 0 | L3: =E3*F3 -> 0.22750444 | M3: =E3*G3 -> 0 | N3: =E3*H3 -> 0 | O3: 5
A4: buffalo | B4: R-03 | C4: R.3 compliance challenges | D4: 0.042028985 | E4: =D4*5 -> 0.21014493 | F4: 1 | G4: 1 | H4: 1 | I4: =D4*F4 -> 0.042028985 | J4: =D4*G4 -> 0.042028985 | K4: =D4*H4 -> 0.042028985 | L4: =E4*F4 -> 0.21014493 | M4: =E4*G4 -> 0.21014493 | N4: =E4*H4 -> 0.21014493 | O4: 4
A5: buffalo | B5: R-04 | C5: R.4 loss of business reputation due to co-tenant activities | D5: 0.11287879 | E5: =D5*2 -> 0.22575758 | F5: 0 | G5: 1 | H5: 0 | I5: =D5*F5 -> 0 | J5: =D5*G5 -> 0.11287879 | K5: =D5*H5 -> 0 | L5: =E5*F5 -> 0 | M5: =E5*G5 -> 0.22575758 | N5: =E5*H5 -> 0 | O5: 4
A6: buffalo | B6: R-05 | C6: R.5 cloud service termination or failure | D6: 0.03071364 | E6: =D6*3 -> 0.092140921 | F6: 0 | G6: 0 | H6: 1 | I6: =D6*F6 -> 0 | J6: =D6*G6 -> 0 | K6: =D6*H6 -> 0.03071364 | L6: =E6*F6 -> 0 | M6: =E6*G6 -> 0 | N6: =E6*H6 -> 0.092140921 | O6: 5
A7: buffalo | B7: R-06 | C7: R.6 cloud provider acquisition | D7: 0 | E7: =D7*3 -> 0 | F7: 1 | G7: 1 | H7: 1 | I7: =D7*F7 -> 0 | J7: =D7*G7 -> 0 | K7: =D7*H7 -> 0 | L7: =E7*F7 -> 0 | M7: =E7*G7 -> 0 | N7: =E7*H7 -> 0 | O7: 3
A8: buffalo | B8: R-07 | C8: R.7 supply chain failure | D8: 0.022222222 | E8: =D8*2 -> 0.044444444 | F8: 0 | G8: 0 | H8: 1 | I8: =D8*F8 -> 0 | J8: =D8*G8 -> 0 | K8: =D8*H8 -> 0.022222222 | L8: =E8*F8 -> 0 | M8: =E8*G8 -> 0 | N8: =E8*H8 -> 0.044444444 | O8: 3
A9: buffalo | B9: R-08 | C9: R.8 resource exhaustion (under or over provisioning) | D9: 0.044195456 | E9: =D9*3 -> 0.13258637 | F9: 0 | G9: 0 | H9: 1 | I9: =D9*F9 -> 0 | J9: =D9*G9 -> 0 | K9: =D9*H9 -> 0.044195456 | L9: =E9*F9 -> 0 | M9: =E9*G9 -> 0 | N9: =E9*H9 -> 0.13258637 | O9: 4
A10: buffalo | B10: R-09 | C10: R.9 isolation failure | D10: 0.086298701 | E10: =D10*3 -> 0.2588961 | F10: 1 | G10: 1 | H10: 0 | I10: =D10*F10 -> 0.086298701 | J10: =D10*G10 -> 0.086298701 | K10: =D10*H10 -> 0 | L10: =E10*F10 -> 0.2588961 | M10: =E10*G10 -> 0.2588961 | N10: =E10*H10 -> 0 | O10: 5
A11: buffalo | B11: R-10 | C11: R.10 cloud provider malicious insider - abuse of high privilege roles | D11: 0.087627484 | E11: =D11*3 -> 0.26288245 | F11: 1 | G11: 1 | H11: 1 | I11: =D11*F11 -> 0.087627484 | J11: =D11*G11 -> 0.087627484 | K11: =D11*H11 -> 0.087627484 | L11: =E11*F11 -> 0.26288245 | M11: =E11*G11 -> 0.26288245 | N11: =E11*H11 -> 0.26288245 | O11: 5
A12: buffalo | B12: R-11 | C12: R.11 management interface compromise | D12: 0.11511924 | E12: =D12*3 -> 0.34535771 | F12: 1 | G12: 1 | H12: 1 | I12: =D12*F12 -> 0.11511924 | J12: =D12*G12 -> 0.11511924 | K12: =D12*H12 -> 0.11511924 | L12: =E12*F12 -> 0.34535771 | M12: =E12*G12 -> 0.34535771 | N12: =E12*H12 -> 0.34535771 | O12: 5
A13: buffalo | B13: R-12 | C13: R.12 intercepting data in transit | D13: 0.074458874 | E13: =D13*3 -> 0.22337662 | F13: 1 | G13: 1 | H13: 0 | I13: =D13*F13 -> 0.074458874 | J13: =D13*G13 -> 0.074458874 | K13: =D13*H13 -> 0 | L13: =E13*F13 -> 0.22337662 | M13: =E13*G13 -> 0.22337662 | N13: =E13*H13 -> 0 | O13: 4
A14: buffalo | B14: R-13 | C14: R.13 data leakage on up/download intra-cloud | D14: 0.073300573 | E14: =D14*3 -> 0.21990172 | F14: 1 | G14: 1 | H14: 0 | I14: =D14*F14 -> 0.073300573 | J14: =D14*G14 -> 0.073300573 | K14: =D14*H14 -> 0 | L14: =E14*F14 -> 0.21990172 | M14: =E14*G14 -> 0.21990172 | N14: =E14*H14 -> 0 | O14: 4
A15: buffalo | B15: R-14 | C15: R.14 insecure or ineffective deletion of data | D15: 0.095238095 | E15: =D15*3 -> 0.28571429 | F15: 1 | G15: 1 | H15: 0 | I15: =D15*F15 -> 0.095238095 | J15: =D15*G15 -> 0.095238095 | K15: =D15*H15 -> 0 | L15: =E15*F15 -> 0.28571429 | M15: =E15*G15 -> 0.28571429 | N15: =E15*H15 -> 0 | O15: 5
A16: buffalo | B16: R-15 | C16: R.15 distributed denial of service (ddos) | D16: 0.096562949 | E16: =D16*3 -> 0.28968885 | F16: 0 | G16: 0 | H16: 1 | I16: =D16*F16 -> 0 | J16: =D16*G16 -> 0 | K16: =D16*H16 -> 0.096562949 | L16: =E16*F16 -> 0 | M16: =E16*G16 -> 0 | N16: =E16*H16 -> 0.28968885 | O16: 5
A17: buffalo | B17: R-16 | C17: R.16 economic denial of service (edos) | D17: 0.097777778 | E17: =D17*2 -> 0.19555556 | F17: 0 | G17: 0 | H17: 1 | I17: =D17*F17 -> 0 | J17: =D17*G17 -> 0 | K17: =D17*H17 -> 0.097777778 | L17: =E17*F17 -> 0 | M17: =E17*G17 -> 0 | N17: =E17*H17 -> 0.19555556 | O17: 4
A18: buffalo | B18: R-17 | C18: R.17 loss of encryption keys | D18: 0.035098522 | E18: =D18*2 -> 0.070197044 | F18: 1 | G18: 1 | H18: 0 | I18: =D18*F18 -> 0.035098522 | J18: =D18*G18 -> 0.035098522 | K18: =D18*H18 -> 0 | L18: =E18*F18 -> 0.070197044 | M18: =E18*G18 -> 0.070197044 | N18: =E18*H18 -> 0 | O18: 4
A19: buffalo | B19: R-18 | C19: R.18 undertaking malicious probes or scans | D19: 0.046428571 | E19: =D19*3 -> 0.13928571 | F19: 1 | G19: 1 | H19: 0 | I19: =D19*F19 -> 0.046428571 | J19: =D19*G19 -> 0.046428571 | K19: =D19*H19 -> 0 | L19: =E19*F19 -> 0.13928571 | M19: =E19*G19 -> 0.13928571 | N19: =E19*H19 -> 0 | O19: 3
A20: buffalo | B20: R-19 | C20: R.19 compromise service engine | D20: 0.10113636 | E20: =D20*2 -> 0.20227273 | F20: 1 | G20: 1 | H20: 1 | I20: =D20*F20 -> 0.10113636 | J20: =D20*G20 -> 0.10113636 | K20: =D20*H20 -> 0.10113636 | L20: =E20*F20 -> 0.20227273 | M20: =E20*G20 -> 0.20227273 | N20: =E20*H20 -> 0.20227273 | O20: 5
A21: buffalo | B21: R-20 | C21: R.20 conflicts between customer hardening procedures and cloud environment | D21: 0.024691358 | E21: =D21*2 -> 0.049382716 | F21: 0 | G21: 1 | H21: 0 | I21: =D21*F21 -> 0 | J21: =D21*G21 -> 0.024691358 | K21: =D21*H21 -> 0 | L21: =E21*F21 -> 0 | M21: =E21*G21 -> 0.049382716 | N21: =E21*H21 -> 0 | O21: 3
A22: buffalo | B22: R-21 | C22: R.21 subpoena and e-discovery | D22: 0.033333333 | E22: =D22*4 -> 0.13333333 | F22: 1 | G22: 1 | H22: 0 | I22: =D22*F22 -> 0.033333333 | J22: =D22*G22 -> 0.033333333 | K22: =D22*H22 -> 0 | L22: =E22*F22 -> 0.13333333 | M22: =E22*G22 -> 0.13333333 | N22: =E22*H22 -> 0 | O22: 3
A23: buffalo | B23: R-22 | C23: R.22 risk from changes of jurisdiction | D23: 0 | E23: =D23*5 -> 0 | F23: 1 | G23: 0 | H23: 1 | I23: =D23*F23 -> 0 | J23: =D23*G23 -> 0 | K23: =D23*H23 -> 0 | L23: =E23*F23 -> 0 | M23: =E23*G23 -> 0 | N23: =E23*H23 -> 0 | O23: 4
A24: buffalo | B24: R-23 | C24: R.23 data protection risks | D24: 0 | E24: =D24*4 -> 0 | F24: 1 | G24: 1 | H24: 0 | I24: =D24*F24 -> 0 | J24: =D24*G24 -> 0 | K24: =D24*H24 -> 0 | L24: =E24*F24 -> 0 | M24: =E24*G24 -> 0 | N24: =E24*H24 -> 0 | O24: 4
A25: buffalo | B25: R-24 | C25: R.24 licensing risks | D25: 0 | E25: =D25*3 -> 0 | F25: 0 | G25: 0 | H25: 1 | I25: =D25*F25 -> 0 | J25: =D25*G25 -> 0 | K25: =D25*H25 -> 0 | L25: =E25*F25 -> 0 | M25: =E25*G25 -> 0 | N25: =E25*H25 -> 0 | O25: 3
A26: buffalo | B26: R-25 | C26: R.25 network breaks | D26: 0.097639982 | E26: =D26*2 -> 0.19527996 | F26: 0 | G26: 0 | H26: 1 | I26: =D26*F26 -> 0 | J26: =D26*G26 -> 0 | K26: =D26*H26 -> 0.097639982 | L26: =E26*F26 -> 0 | M26: =E26*G26 -> 0 | N26: =E26*H26 -> 0.19527996 | O26: 5
A27: buffalo | B27: R-26 | C27: R.26 network management (network congestion / mis-connection / non-optimal use) | D27: 0.097639982 | E27: =D27*3 -> 0.29291995 | F27: 0 | G27: 0 | H27: 1 | I27: =D27*F27 -> 0 | J27: =D27*G27 -> 0 | K27: =D27*H27 -> 0.097639982 | L27: =E27*F27 -> 0 | M27: =E27*G27 -> 0 | N27: =E27*H27 -> 0.29291995 | O27: 5
A28: buffalo | B28: R-27 | C28: R.27 modifying network traffic | D28: 0.1082672 | E28: =D28*2 -> 0.21653439 | F28: 0 | G28: 0 | H28: 1 | I28: =D28*F28 -> 0 | J28: =D28*G28 -> 0 | K28: =D28*H28 -> 0.1082672 | L28: =E28*F28 -> 0 | M28: =E28*G28 -> 0 | N28: =E28*H28 -> 0.21653439 | O28: 4
A29: buffalo | B29: R-28 | C29: R.28 privilege escalation | D29: 0.10404438 | E29: =D29*2 -> 0.20808875 | F29: 1 | G29: 1 | H29: 1 | I29: =D29*F29 -> 0.10404438 | J29: =D29*G29 -> 0.10404438 | K29: =D29*H29 -> 0.10404438 | L29: =E29*F29 -> 0.20808875 | M29: =E29*G29 -> 0.20808875 | N29: =E29*H29 -> 0.20808875 | O29: 4
A30: buffalo | B30: R-29 | C30: R.29 social engineering attacks (ie impersonation) | D30: 0.11010469 | E30: =D30*3 -> 0.33031408 | F30: 0 | G30: 1 | H30: 0 | I30: =D30*F30 -> 0 | J30: =D30*G30 -> 0.11010469 | K30: =D30*H30 -> 0 | L30: =E30*F30 -> 0 | M30: =E30*G30 -> 0.33031408 | N30: =E30*H30 -> 0 | O30: 4
A31: buffalo | B31: R-30 | C31: R.30 loss or compromise of operational logs | D31: 0.10177202 | E31: =D31*2 -> 0.20354404 | F31: 0 | G31: 1 | H31: 1 | I31: =D31*F31 -> 0 | J31: =D31*G31 -> 0.10177202 | K31: =D31*H31 -> 0.10177202 | L31: =E31*F31 -> 0 | M31: =E31*G31 -> 0.20354404 | N31: =E31*H31 -> 0.20354404 | O31: 3
A32: buffalo | B32: R-31 | C32: R.31 loss or compromise of security logs (manipulation of forensic investigation) 50 | D32: 0.10177202 | E32: =D32*2 -> 0.20354404 | F32: 0 | G32: 1 | H32: 1 | I32: =D32*F32 -> 0 | J32: =D32*G32 -> 0.10177202 | K32: =D32*H32 -> 0.10177202 | L32: =E32*F32 -> 0 | M32: =E32*G32 -> 0.20354404 | N32: =E32*H32 -> 0.20354404 | O32: 3
A33: buffalo | B33: R-32 | C33: R.32 backups lost or stolen | D33: 0.13900172 | E33: =D33*2 -> 0.27800344 | F33: 1 | G33: 1 | H33: 1 | I33: =D33*F33 -> 0.13900172 | J33: =D33*G33 -> 0.13900172 | K33: =D33*H33 -> 0.13900172 | L33: =E33*F33 -> 0.27800344 | M33: =E33*G33 -> 0.27800344 | N33: =E33*H33 -> 0.27800344 | O33: 4
A34: buffalo | B34: R-33 | C34: R.33 unauthorized access to premises (including physical access to machines and other facilities) | D34: 0.14893617 | E34: =D34*1 -> 0.14893617 | F34: 1 | G34: 1 | H34: 0 | I34: =D34*F34 -> 0.14893617 | J34: =D34*G34 -> 0.14893617 | K34: =D34*H34 -> 0 | L34: =E34*F34 -> 0.14893617 | M34: =E34*G34 -> 0.14893617 | N34: =E34*H34 -> 0 | O34: 4
A35: buffalo | B35: R-34 | C35: R.34 theft of computer equipment | D35: 0.14893617 | E35: =D35*1 -> 0.14893617 | F35: 1 | G35: 1 | H35: 1 | I35: =D35*F35 -> 0.14893617 | J35: =D35*G35 -> 0.14893617 | K35: =D35*H35 -> 0.14893617 | L35: =E35*F35 -> 0.14893617 | M35: =E35*G35 -> 0.14893617 | N35: =E35*H35 -> 0.14893617 | O35: 4
A36: buffalo | B36: R-35 | C36: R.35 natural disasters | D36: 0.036585366 | E36: =D36*1 -> 0.036585366 | F36: 0 | G36: 0 | H36: 1 | I36: =D36*F36 -> 0 | J36: =D36*G36 -> 0 | K36: =D36*H36 -> 0.036585366 | L36: =E36*F36 -> 0 | M36: =E36*G36 -> 0 | N36: =E36*H36 -> 0.036585366 | O36: 4
D37: =SUM(D2:D36) -> 2.4982004 | F37: =SUM(F2:F36) -> 19 | G37: =SUM(G2:G36) -> 22 | H37: =SUM(H2:H36) -> 22 | I37: =SUM(I2:I36) -> 1.3764881 | J37: =SUM(J2:J36) -> 1.7822061 | K37: =SUM(K2:K36) -> 1.6119318 | L37: =SUM(L2:L36) -> 3.3628316 | M37: =SUM(M2:M36) -> 4.1478696 | N37: =SUM(N2:N36) -> 3.7140656
D38: =D37/35 -> 0.071377155 | I38: =I37/F37 -> 0.07244674 | J38: =J37/G37 -> 0.081009366 | K38: =K37/H37 -> 0.073269629 | L38: =L37/F37 -> 0.17699114 | M38: =M37/G37 -> 0.18853953 | N38: =N37/H37 -> 0.16882116
I39: Adjustment Indices | L39: Adjusted Probabilities

Sheet Camel
A1: Provider | B1: Risk Id | C1: Description | D1: Vulnerability Index | E1: Adjusted Probability | F1: Privacy | G1: Security | H1: Service | I1: Privacy Index | J1: Security Index | K1: Service Index | L1: Privacy | M1: Security | N1: Service | O1: Impact
A2: camel | B2: R-01 | C2: R.1 lock-in | D2: 0.086331126 | E2: =D2*4 -> 0.3453245 | F2: 0 | G2: 0 | H2: 1 | I2: =D2*F2 -> 0 | J2: =D2*G2 -> 0 | K2: =D2*H2 -> 0.086331126 | L2: =E2*F2 -> 0 | M2: =E2*G2 -> 0 | N2: =E2*H2 -> 0.3453245 | O2: 3
A3: camel | B3: R-02 | C3: R.2 loss of governance | D3: 0.079237698 | E3: =D3*5 -> 0.39618849 | F3: 1 | G3: 0 | H3: 0 | I3: =D3*F3 -> 0.079237698 | J3: =D3*G3 -> 0 | K3: =D3*H3 -> 0 | L3: =E3*F3 -> 0.39618849 | M3: =E3*G3 -> 0 | N3: =E3*H3 -> 0 | O3: 5
A4: camel | B4: R-03 | C4: R.3 compliance challenges | D4: 0.065108877 | E4: =D4*5 -> 0.32554439 | F4: 1 | G4: 1 | H4: 1 | I4: =D4*F4 -> 0.065108877 | J4: =D4*G4 -> 0.065108877 | K4: =D4*H4 -> 0.065108877 | L4: =E4*F4 -> 0.32554439 | M4: =E4*G4 -> 0.32554439 | N4: =E4*H4 -> 0.32554439 | O4: 4
A5: camel | B5: R-04 | C5: R.4 loss of business reputation due to co-tenant activities | D5: 0.10765993 | E5: =D5*2 -> 0.21531987 | F5: 0 | G5: 1 | H5: 0 | I5: =D5*F5 -> 0 | J5: =D5*G5 -> 0.10765993 | K5: =D5*H5 -> 0 | L5: =E5*F5 -> 0 | M5: =E5*G5 -> 0.21531987 | N5: =E5*H5 -> 0 | O5: 4
A6: camel | B6: R-05 | C6: R.5 cloud service termination or failure | D6: 0.15450697 | E6: =D6*3 -> 0.46352091 | F6: 0 | G6: 0 | H6: 1 | I6: =D6*F6 -> 0 | J6: =D6*G6 -> 0 | K6: =D6*H6 -> 0.15450697 | L6: =E6*F6 -> 0 | M6: =E6*G6 -> 0 | N6: =E6*H6 -> 0.46352091 | O6: 5
A7: camel | B7: R-06 | C7: R.6 cloud provider acquisition | D7: 0.026315789 | E7: =D7*3 -> 0.078947368 | F7: 1 | G7: 1 | H7: 1 | I7: =D7*F7 -> 0.026315789 | J7: =D7*G7 -> 0.026315789 | K7: =D7*H7 -> 0.026315789 | L7: =E7*F7 -> 0.078947368 | M7: =E7*G7 -> 0.078947368 | N7: =E7*H7 -> 0.078947368 | O7: 3
A8: camel | B8: R-07 | C8: R.7 supply chain failure | D8: 0.10091446 | E8: =D8*2 -> 0.20182892 | F8: 0 | G8: 0 | H8: 1 | I8: =D8*F8 -> 0 | J8: =D8*G8 -> 0 | K8: =D8*H8 -> 0.10091446 | L8: =E8*F8 -> 0 | M8: =E8*G8 -> 0 | N8: =E8*H8 -> 0.20182892 | O8: 3
A9: camel | B9: R-08 | C9: R.8 resource exhaustion (under or over provisioning) | D9: 0.16023446 | E9: =D9*3 -> 0.48070339 | F9: 0 | G9: 0 | H9: 1 | I9: =D9*F9 -> 0 | J9: =D9*G9 -> 0 | K9: =D9*H9 -> 0.16023446 | L9: =E9*F9 -> 0 | M9: =E9*G9 -> 0 | N9: =E9*H9 -> 0.48070339 | O9: 4
A10: camel | B10: R-09 | C10: R.9 isolation failure | D10: 0.12888167 | E10: =D10*3 -> 0.38664502 | F10: 1 | G10: 1 | H10: 0 | I10: =D10*F10 -> 0.12888167 | J10: =D10*G10 -> 0.12888167 | K10: =D10*H10 -> 0 | L10: =E10*F10 -> 0.38664502 | M10: =E10*G10 -> 0.38664502 | N10: =E10*H10 -> 0 | O10: 5
A11: camel | B11: R-10 | C11: R.10 cloud provider malicious insider - abuse of high privilege roles | D11: 0.087936797 | E11: =D11*3 -> 0.26381039 | F11: 1 | G11: 1 | H11: 1 | I11: =D11*F11 -> 0.087936797 | J11: =D11*G11 -> 0.087936797 | K11: =D11*H11 -> 0.087936797 | L11: =E11*F11 -> 0.26381039 | M11: =E11*G11 -> 0.26381039 | N11: =E11*H11 -> 0.26381039 | O11: 5
A12: camel | B12: R-11 | C12: R.11 management interface compromise | D12: 0.11409452 | E12: =D12*3 -> 0.34228357 | F12: 1 | G12: 1 | H12: 1 | I12: =D12*F12 -> 0.11409452 | J12: =D12*G12 -> 0.11409452 | K12: =D12*H12 -> 0.11409452 | L12: =E12*F12 -> 0.34228357 | M12: =E12*G12 -> 0.34228357 | N12: =E12*H12 -> 0.34228357 | O12: 5
A13: camel | B13: R-12 | C13: R.12 intercepting data in transit | D13: 0.13966735 | E13: =D13*3 -> 0.41900205 | F13: 1 | G13: 1 | H13: 0 | I13: =D13*F13 -> 0.13966735 | J13: =D13*G13 -> 0.13966735 | K13: =D13*H13 -> 0 | L13: =E13*F13 -> 0.41900205 | M13: =E13*G13 -> 0.41900205 | N13: =E13*H13 -> 0 | O13: 4
A14: camel | B14: R-13 | C14: R.13 data leakage on up/download intra-cloud | D14: 0.13180112 | E14: =D14*3 -> 0.39540336 | F14: 1 | G14: 1 | H14: 0 | I14: =D14*F14 -> 0.13180112 | J14: =D14*G14 -> 0.13180112 | K14: =D14*H14 -> 0 | L14: =E14*F14 -> 0.39540336 | M14: =E14*G14 -> 0.39540336 | N14: =E14*H14 -> 0 | O14: 4
A15: camel | B15: R-14 | C15: R.14 insecure or ineffective deletion of data | D15: 0.11904762 | E15: =D15*3 -> 0.35714286 | F15: 1 | G15: 1 | H15: 0 | I15: =D15*F15 -> 0.11904762 | J15: =D15*G15 -> 0.11904762 | K15: =D15*H15 -> 0 | L15: =E15*F15 -> 0.35714286 | M15: =E15*G15 -> 0.35714286 | N15: =E15*H15 -> 0 | O15: 5
A16: camel | B16: R-15 | C16: R.15 distributed denial of service (ddos) | D16: 0.10050912 | E16: =D16*3 -> 0.30152737 | F16: 0 | G16: 0 | H16: 1 | I16: =D16*F16 -> 0 | J16: =D16*G16 -> 0 | K16: =D16*H16 -> 0.10050912 | L16: =E16*F16 -> 0 | M16: =E16*G16 -> 0 | N16: =E16*H16 -> 0.30152737 | O16: 5
A17: camel | B17: R-16 | C17: R.16 economic denial of service (edos) | D17: 0.12161616 | E17: =D17*2 -> 0.24323232 | F17: 0 | G17: 0 | H17: 1 | I17: =D17*F17 -> 0 | J17: =D17*G17 -> 0 | K17: =D17*H17 -> 0.12161616 | L17: =E17*F17 -> 0 | M17: =E17*G17 -> 0 | N17: =E17*H17 -> 0.24323232 | O17: 4
A18: camel | B18: R-17 | C18: R.17 loss of encryption keys | D18: 0.12253695 | E18: =D18*2 -> 0.24507389 | F18: 1 | G18: 1 | H18: 0 | I18: =D18*F18 -> 0.12253695 | J18: =D18*G18 -> 0.12253695 | K18: =D18*H18 -> 0 | L18: =E18*F18 -> 0.24507389 | M18: =E18*G18 -> 0.24507389 | N18: =E18*H18 -> 0 | O18: 4
A19: camel | B19: R-18 | C19: R.18 undertaking malicious probes or scans | D19: 0.16071429 | E19: =D19*3 -> 0.48214286 | F19: 1 | G19: 1 | H19: 0 | I19: =D19*F19 -> 0.16071429 | J19: =D19*G19 -> 0.16071429 | K19: =D19*H19 -> 0 | L19: =E19*F19 -> 0.48214286 | M19: =E19*G19 -> 0.48214286 | N19: =E19*H19 -> 0 | O19: 3
A20: camel | B20: R-19 | C20: R.19 compromise service engine | D20: 0.10088384 | E20: =D20*2 -> 0.20176768 | F20: 1 | G20: 1 | H20: 1 | I20: =D20*F20 -> 0.10088384 | J20: =D20*G20 -> 0.10088384 | K20: =D20*H20 -> 0.10088384 | L20: =E20*F20 -> 0.20176768 | M20: =E20*G20 -> 0.20176768 | N20: =E20*H20 -> 0.20176768 | O20: 5
A21: camel | B21: R-20 | C21: R.20 conflicts between customer hardening procedures and cloud environment | D21: 0.047969461 | E21: =D21*2 -> 0.095938921 | F21: 0 | G21: 1 | H21: 0 | I21: =D21*F21 -> 0 | J21: =D21*G21 -> 0.047969461 | K21: =D21*H21 -> 0 | L21: =E21*F21 -> 0 | M21: =E21*G21 -> 0.095938921 | N21: =E21*H21 -> 0 | O21: 3
A22: camel | B22: R-21 | C22: R.21 subpoena and e-discovery | D22: 0.096296296 | E22: =D22*4 -> 0.38518519 | F22: 1 | G22: 1 | H22: 0 | I22: =D22*F22 -> 0.096296296 | J22: =D22*G22 -> 0.096296296 | K22: =D22*H22 -> 0 | L22: =E22*F22 -> 0.38518519 | M22: =E22*G22 -> 0.38518519 | N22: =E22*H22 -> 0 | O22: 3
A23: camel | B23: R-22 | C23: R.22 risk from changes of jurisdiction | D23: 0.083333333 | E23: =D23*5 -> 0.41666667 | F23: 1 | G23: 0 | H23: 1 | I23: =D23*F23 -> 0.083333333 | J23: =D23*G23 -> 0 | K23: =D23*H23 -> 0.083333333 | L23: =E23*F23 -> 0.41666667 | M23: =E23*G23 -> 0 | N23: =E23*H23 -> 0.41666667 | O23: 4
A24: camel | B24: R-23 | C24: R.23 data protection risks | D24: 0.083333333 | E24: =D24*4 -> 0.33333333 | F24: 1 | G24: 1 | H24: 0 | I24: =D24*F24 -> 0.083333333 | J24: =D24*G24 -> 0.083333333 | K24: =D24*H24 -> 0 | L24: =E24*F24 -> 0.33333333 | M24: =E24*G24 -> 0.33333333 | N24: =E24*H24 -> 0 | O24: 4
A25: camel | B25: R-24 | C25: R.24 licensing risks | D25: 0.026315789 | E25: =D25*3 -> 0.078947368 | F25: 0 | G25: 0 | H25: 1 | I25: =D25*F25 -> 0 | J25: =D25*G25 -> 0 | K25: =D25*H25 -> 0.026315789 | L25: =E25*F25 -> 0 | M25: =E25*G25 -> 0 | N25: =E25*H25 -> 0.078947368 | O25: 3
A26: camel | B26: R-25 | C26: R.25 network breaks | D26: 0.13849402 | E26: =D26*2 -> 0.27698804 | F26: 0 | G26: 0 | H26: 1 | I26: =D26*F26 -> 0 | J26: =D26*G26 -> 0 | K26: =D26*H26 -> 0.13849402 | L26: =E26*F26 -> 0 | M26: =E26*G26 -> 0 | N26: =E26*H26 -> 0.27698804 | O26: 5
A27: camel | B27: R-26 | C27: R.26 network management (network congestion / mis-connection / non-optimal use) | D27: 0.13849402 | E27: =D27*3 -> 0.41548205 | F27: 0 | G27: 0 | H27: 1 | I27: =D27*F27 -> 0 | J27: =D27*G27 -> 0 | K27: =D27*H27 -> 0.13849402 | L27: =E27*F27 -> 0 | M27: =E27*G27 -> 0 | N27: =E27*H27 -> 0.41548205 | O27: 5
A28: camel | B28: R-27 | C28: R.27 modifying network traffic | D28: 0.12890212 | E28: =D28*2 -> 0.25780423 | F28: 0 | G28: 0 | H28: 1 | I28: =D28*F28 -> 0 | J28: =D28*G28 -> 0 | K28: =D28*H28 -> 0.12890212 | L28: =E28*F28 -> 0 | M28: =E28*G28 -> 0 | N28: =E28*H28 -> 0.25780423 | O28: 4
A29: camel | B29: R-28 | C29: R.28 privilege escalation | D29: 0.10364614 | E29: =D29*2 -> 0.20729227 | F29: 1 | G29: 1 | H29: 1 | I29: =D29*F29 -> 0.10364614 | J29: =D29*G29 -> 0.10364614 | K29: =D29*H29 -> 0.10364614 | L29: =E29*F29 -> 0.20729227 | M29: =E29*G29 -> 0.20729227 | N29: =E29*H29 -> 0.20729227 | O29: 4
A30: camel | B30: R-29 | C30: R.29 social engineering attacks (ie impersonation) | D30: 0.11662445 | E30: =D30*3 -> 0.34987335 | F30: 0 | G30: 1 | H30: 0 | I30: =D30*F30 -> 0 | J30: =D30*G30 -> 0.11662445 | K30: =D30*H30 -> 0 | L30: =E30*F30 -> 0 | M30: =E30*G30 -> 0.34987335 | N30: =E30*H30 -> 0 | O30: 4
A31: camel | B31: R-30 | C31: R.30 loss or compromise of operational logs | D31: 0.10957735 | E31: =D31*2 -> 0.2191547 | F31: 0 | G31: 1 | H31: 1 | I31: =D31*F31 -> 0 | J31: =D31*G31 -> 0.10957735 | K31: =D31*H31 -> 0.10957735 | L31: =E31*F31 -> 0 | M31: =E31*G31 -> 0.2191547 | N31: =E31*H31 -> 0.2191547 | O31: 3
A32: camel | B32: R-31 | C32: R.31 loss or compromise of security logs (manipulation of forensic investigation) 50 | D32: 0.10957735 | E32: =D32*2 -> 0.2191547 | F32: 0 | G32: 1 | H32: 1 | I32: =D32*F32 -> 0 | J32: =D32*G32 -> 0.10957735 | K32: =D32*H32 -> 0.10957735 | L32: =E32*F32 -> 0 | M32: =E32*G32 -> 0.2191547 | N32: =E32*H32 -> 0.2191547 | O32: 3
A33: camel | B33: R-32 | C33: R.32 backups lost or stolen | D33: 0.12102407 | E33: =D33*2 -> 0.24204814 | F33: 1 | G33: 1 | H33: 1 | I33: =D33*F33 -> 0.12102407 | J33: =D33*G33 -> 0.12102407 | K33: =D33*H33 -> 0.12102407 | L33: =E33*F33 -> 0.24204814 | M33: =E33*G33 -> 0.24204814 | N33: =E33*H33 -> 0.24204814 | O33: 4
A34: camel | B34: R-33 | C34: R.33 unauthorized access to premises (including physical access to machines and other facilities) | D34: 0.085106383 | E34: =D34*1 -> 0.085106383 | F34: 1 | G34: 1 | H34: 0 | I34: =D34*F34 -> 0.085106383 | J34: =D34*G34 -> 0.085106383 | K34: =D34*H34 -> 0 | L34: =E34*F34 -> 0.085106383 | M34: =E34*G34 -> 0.085106383 | N34: =E34*H34 -> 0 | O34: 4
A35: camel | B35: R-34 | C35: R.34 theft of computer equipment | D35: 0.085106383 | E35: =D35*1 -> 0.085106383 | F35: 1 | G35: 1 | H35: 1 | I35: =D35*F35 -> 0.085106383 | J35: =D35*G35 -> 0.085106383 | K35: =D35*H35 -> 0.085106383 | L35: =E35*F35 -> 0.085106383 | M35: =E35*G35 -> 0.085106383 | N35: =E35*H35 -> 0.085106383 | O35: 4
A36: camel | B36: R-35 | C36: R.35 natural disasters | D36: 0.2195122 | E36: =D36*1 -> 0.2195122 | F36: 0 | G36: 0 | H36: 1 | I36: =D36*F36 -> 0 | J36: =D36*G36 -> 0 | K36: =D36*H36 -> 0.2195122 | L36: =E36*F36 -> 0 | M36: =E36*G36 -> 0 | N36: =E36*H36 -> 0.2195122 | O36: 4
D37: =SUM(D2:D36) -> 3.8013114 | F37: =SUM(F2:F36) -> 19 | G37: =SUM(G2:G36) -> 22 | H37: =SUM(H2:H36) -> 22 | I37: =SUM(I2:I36) -> 1.9340725 | J37: =SUM(J2:J36) -> 2.26291 | K37: =SUM(K2:K36) -> 2.3824349 | L37: =SUM(L2:L36) -> 5.6486903 | M37: =SUM(M2:M36) -> 5.9352767 | N37: =SUM(N2:N36) -> 5.8866475
D38: =D37/35 -> 0.1086089 | I38: =I37/F37 -> 0.10179329 | J38: =J37/G37 -> 0.10285954 | K38: =K37/H37 -> 0.10829249 | L38: =L37/F37 -> 0.29729949 | M38: =M37/G37 -> 0.2697853 | N38: =N37/H37 -> 0.26757489
I39: Adjustment Indices | L39: Adjusted Probabilities

Sheet Cat
A1: Provider | B1: Risk Id | C1: Description | D1: Vulnerability Index | E1: Adjusted Probability | F1: Privacy | G1: Security | H1: Service | I1: Privacy Index | J1: Security Index | K1: Service Index | L1: Privacy | M1: Security | N1: Service | O1: Impact
A2: cat | B2: R-01 | C2: R.1 lock-in | D2: 0.29297959 | E2: =D2*4 -> 1.1719184 | F2: 0 | G2: 0 | H2: 1 | I2: =D2*F2 -> 0 | J2: =D2*G2 -> 0 | K2: =D2*H2 -> 0.29297959 | L2: =E2*F2 -> 0 | M2: =E2*G2 -> 0 | N2: =E2*H2 -> 1.1719184 | O2: 3
A3: cat | B3: R-02 | C3: R.2 loss of governance | D3: 0.26365784 | E3: =D3*5 -> 1.3182892 | F3: 1 | G3: 0 | H3: 0 | I3: =D3*F3 -> 0.26365784 | J3: =D3*G3 -> 0 | K3: =D3*H3 -> 0 | L3: =E3*F3 -> 1.3182892 | M3: =E3*G3 -> 0 | N3: =E3*H3 -> 0 | O3: 5
A4: cat | B4: R-03 | C4: R.3 compliance challenges | D4: 0.26028114 | E4: =D4*5 -> 1.3014057 | F4: 1 | G4: 1 | H4: 1 | I4: =D4*F4 -> 0.26028114 | J4: =D4*G4 -> 0.26028114 | K4: =D4*H4 -> 0.26028114 | L4: =E4*F4 -> 1.3014057 | M4: =E4*G4 -> 1.3014057 | N4: =E4*H4 -> 1.3014057 | O4: 4
A5: cat | B5: R-04 | C5: R.4 loss of business reputation due to co-tenant activities | D5: 0.23577441 | E5: =D5*2 -> 0.47154882 | F5: 0 | G5: 1 | H5: 0 | I5: =D5*F5 -> 0 | J5: =D5*G5 -> 0.23577441 | K5: =D5*H5 -> 0 | L5: =E5*F5 -> 0 | M5: =E5*G5 -> 0.47154882 | N5: =E5*H5 -> 0 | O5: 4
A6: cat | B6: R-05 | C6: R.5 cloud service termination or failure | D6: 0.31738314 | E6: =D6*3 -> 0.95214942 | F6: 0 | G6: 0 | H6: 1 | I6: =D6*F6 -> 0 | J6: =D6*G6 -> 0 | K6: =D6*H6 -> 0.31738314 | L6: =E6*F6 -> 0 | M6: =E6*G6 -> 0 | N6: =E6*H6 -> 0.95214942 | O6: 5
A7: cat | B7: R-06 | C7: R.6 cloud provider acquisition | D7: 0.23684211 | E7: =D7*3 -> 0.71052632 | F7: 1 | G7: 1 | H7: 1 | I7: =D7*F7 -> 0.23684211 | J7: =D7*G7 -> 0.23684211 | K7: =D7*H7 -> 0.23684211 | L7: =E7*F7 -> 0.71052632 | M7: =E7*G7 -> 0.71052632 | N7: =E7*H7 -> 0.71052632 | O7: 3
A8: cat | B8: R-07 | C8: R.7 supply chain failure | D8: 0.30131292 | E8: =D8*2 -> 0.60262585 | F8: 0 | G8: 0 | H8: 1 | I8: =D8*F8 -> 0 | J8: =D8*G8 -> 0 | K8: =D8*H8 -> 0.30131292 | L8: =E8*F8 -> 0 | M8: =E8*G8 -> 0 | N8: =E8*H8 -> 0.60262585 | O8: 3
A9: cat | B9: R-08 | C9: R.8 resource exhaustion (under or over provisioning) | D9: 0.3638863 | E9: =D9*3 -> 1.0916589 | F9: 0 | G9: 0 | H9: 1 | I9: =D9*F9 -> 0 | J9: =D9*G9 -> 0 | K9: =D9*H9 -> 0.3638863 | L9: =E9*F9 -> 0 | M9: =E9*G9 -> 0 | N9: =E9*H9 -> 1.0916589 | O9: 4
A10: cat | B10: R-09 | C10: R.9 isolation failure | D10: 0.22146465 | E10: =D10*3 -> 0.66439394 | F10: 1 | G10: 1 | H10: 0 | I10: =D10*F10 -> 0.22146465 | J10: =D10*G10 -> 0.22146465 | K10: =D10*H10 -> 0 | L10: =E10*F10 -> 0.66439394 | M10: =E10*G10 -> 0.66439394 | N10: =E10*H10 -> 0 | O10: 5
A11: cat | B11: R-10 | C11: R.10 cloud provider malicious insider - abuse of high privilege roles | D11: 0.22927201 | E11: =D11*3 -> 0.68781603 | F11: 1 | G11: 1 | H11: 1 | I11: =D11*F11 -> 0.22927201 | J11: =D11*G11 -> 0.22927201 | K11: =D11*H11 -> 0.22927201 | L11: =E11*F11 -> 0.68781603 | M11: =E11*G11 -> 0.68781603 | N11: =E11*H11 -> 0.68781603 | O11: 5
A12: cat | B12: R-11 | C12: R.11 management interface compromise | D12: 0.2424888 | E12: =D12*3 -> 0.7274664 | F12: 1 | G12: 1 | H12: 1 | I12: =D12*F12 -> 0.2424888 | J12: =D12*G12 -> 0.2424888 | K12: =D12*H12 -> 0.2424888 | L12: =E12*F12 -> 0.7274664 | M12: =E12*G12 -> 0.7274664 | N12: =E12*H12 -> 0.7274664 | O12: 5
A13: cat | B13: R-12 | C13: R.12 intercepting data in transit | D13: 0.23965406 | E13: =D13*3 -> 0.71896218 | F13: 1 | G13: 1 | H13: 0 | I13: =D13*F13 -> 0.23965406 | J13: =D13*G13 -> 0.23965406 | K13: =D13*H13 -> 0 | L13: =E13*F13 -> 0.71896218 | M13: =E13*G13 -> 0.71896218 | N13: =E13*H13 -> 0 | O13: 4
A14: cat | B14: R-13 | C14: R.13 data leakage on up/download intra-cloud | D14: 0.24158428 | E14: =D14*3 -> 0.72475284 | F14: 1 | G14: 1 | H14: 0 | I14: =D14*F14 -> 0.24158428 | J14: =D14*G14 -> 0.24158428 | K14: =D14*H14 -> 0 | L14: =E14*F14 -> 0.72475284 | M14: =E14*G14 -> 0.72475284 | N14: =E14*H14 -> 0 | O14: 4
A15: cat | B15: R-14 | C15: R.14 insecure or ineffective deletion of data | D15: 0.21428571 | E15: =D15*3 -> 0.64285714 | F15: 1 | G15: 1 | H15: 0 | I15: =D15*F15 -> 0.21428571 | J15: =D15*G15 -> 0.21428571 | K15: =D15*H15 -> 0 | L15: =E15*F15 -> 0.64285714 | M15: =E15*G15 -> 0.64285714 | N15: =E15*H15 -> 0 | O15: 5
A16: cat | B16: R-15 | C16: R.15 distributed denial of service (ddos) | D16: 0.26520743 | E16: =D16*3 -> 0.7956223 | F16: 0 | G16: 0 | H16: 1 | I16: =D16*F16 -> 0 | J16: =D16*G16 -> 0 | K16: =D16*H16 -> 0.26520743 | L16: =E16*F16 -> 0 | M16: =E16*G16 -> 0 | N16: =E16*H16 -> 0.7956223 | O16: 5
A17: cat | B17: R-16 | C17: R.16 economic denial of service (edos) | D17: 0.26828283 | E17: =D17*2 -> 0.53656566 | F17: 0 | G17: 0 | H17: 1 | I17: =D17*F17 -> 0 | J17: =D17*G17 -> 0 | K17: =D17*H17 -> 0.26828283 | L17: =E17*F17 -> 0 | M17: =E17*G17 -> 0 | N17: =E17*H17 -> 0.53656566 | O17: 4
A18: cat | B18: R-17 | C18: R.17 loss of encryption keys | D18: 0.24538177 | E18: =D18*2 -> 0.49076355 | F18: 1 | G18: 1 | H18: 0 | I18: =D18*F18 -> 0.24538177 | J18: =D18*G18 -> 0.24538177 | K18: =D18*H18 -> 0 | L18: =E18*F18 -> 0.49076355 | M18: =E18*G18 -> 0.49076355 | N18: =E18*H18 -> 0 | O18: 4
A19: cat | B19: R-18 | C19: R.18 undertaking malicious probes or scans | D19: 0.2 | E19: =D19*3 -> 0.6 | F19: 1 | G19: 1 | H19: 0 | I19: =D19*F19 -> 0.2 | J19: =D19*G19 -> 0.2 | K19: =D19*H19 -> 0 | L19: =E19*F19 -> 0.6 | M19: =E19*G19 -> 0.6 | N19: =E19*H19 -> 0 | O19: 3
A20: cat | B20: R-19 | C20: R.19 compromise service engine | D20: 0.22487374 | E20: =D20*2 -> 0.44974747 | F20: 1 | G20: 1 | H20: 1 | I20: =D20*F20 -> 0.22487374 | J20: =D20*G20 -> 0.22487374 | K20: =D20*H20 -> 0.22487374 | L20: =E20*F20 -> 0.44974747 | M20: =E20*G20 -> 0.44974747 | N20: =E20*H20 -> 0.44974747 | O20: 5
A21: cat | B21: R-20 | C21: R.20 conflicts between customer hardening procedures and cloud environment | D21: 0.23419428 | E21: =D21*2 -> 0.46838856 | F21: 0 | G21: 1 | H21: 0 | I21: =D21*F21 -> 0 | J21: =D21*G21 -> 0.23419428 | K21: =D21*H21 -> 0 | L21: =E21*F21 -> 0 | M21: =E21*G21 -> 0.46838856 | N21: =E21*H21 -> 0 | O21: 3
A22: cat | B22: R-21 | C22: R.21 subpoena and e-discovery | D22: 0.23703704 | E22: =D22*4 -> 0.94814815 | F22: 1 | G22: 1 | H22: 0 | I22: =D22*F22 -> 0.23703704 | J22: =D22*G22 -> 0.23703704 | K22: =D22*H22 -> 0 | L22: =E22*F22 -> 0.94814815 | M22: =E22*G22 -> 0.94814815 | N22: =E22*H22 -> 0 | O22: 3
A23: cat | B23: R-22 | C23: R.22 risk from changes of jurisdiction | D23: 0.25 | E23: =D23*5 -> 1.25 | F23: 1 | G23: 0 | H23: 1 | I23: =D23*F23 -> 0.25 | J23: =D23*G23 -> 0 | K23: =D23*H23 -> 0.25 | L23: =E23*F23 -> 1.25 | M23: =E23*G23 -> 0 | N23: =E23*H23 -> 1.25 | O23: 4
A24: cat | B24: R-23 | C24: R.23 data protection risks | D24: 0.25 | E24: =D24*4 -> 1 | F24: 1 | G24: 1 | H24: 0 | I24: =D24*F24 -> 0.25 | J24: =D24*G24 -> 0.25 | K24: =D24*H24 -> 0 | L24: =E24*F24 -> 1 | M24: =E24*G24 -> 1 | N24: =E24*H24 -> 0 | O24: 4
A25: cat | B25: R-24 | C25: R.24 licensing risks | D25: 0.23684211 | E25: =D25*3 -> 0.71052632 | F25: 0 | G25: 0 | H25: 1 | I25: =D25*F25 -> 0 | J25: =D25*G25 -> 0 | K25: =D25*H25 -> 0.23684211 | L25: =E25*F25 -> 0 | M25: =E25*G25 -> 0 | N25: =E25*H25 -> 0.71052632 | O25: 3
A26: cat | B26: R-25 | C26: R.25 network breaks | D26: 0.25505879 | E26: =D26*2 -> 0.51011758 | F26: 0 | G26: 0 | H26: 1 | I26: =D26*F26 -> 0 | J26: =D26*G26 -> 0 | K26: =D26*H26 -> 0.25505879 | L26: =E26*F26 -> 0 | M26: =E26*G26 -> 0 | N26: =E26*H26 -> 0.51011758 | O26: 5
A27: cat | B27: R-26 | C27: R.26 network management (network congestion / mis-connection / non-optimal use) | D27: 0.25505879 | E27: =D27*3 -> 0.76517637 | F27: 0 | G27: 0 | H27: 1 | I27: =D27*F27 -> 0 | J27: =D27*G27 -> 0 | K27: =D27*H27 -> 0.25505879 | L27: =E27*F27 -> 0 | M27: =E27*G27 -> 0 | N27: =E27*H27 -> 0.76517637 | O27: 5
A28: cat | B28: R-27 | C28: R.27 modifying network traffic | D28: 0.27956349 | E28: =D28*2 -> 0.55912698 | F28: 0 | G28: 0 | H28: 1 | I28: =D28*F28 -> 0 | J28: =D28*G28 -> 0 | K28: =D28*H28 -> 0.27956349 | L28: =E28*F28 -> 0 | M28: =E28*G28 -> 0 | N28: =E28*H28 -> 0.55912698 | O28: 4
A29: cat | B29: R-28 | C29: R.28 privilege escalation | D29: 0.2291483 | E29: =D29*2 -> 0.45829661 | F29: 1 | G29: 1 | H29: 1 | I29: =D29*F29 -> 0.2291483 | J29: =D29*G29 -> 0.2291483 | K29: =D29*H29 -> 0.2291483 | L29: =E29*F29 -> 0.45829661 | M29: =E29*G29 -> 0.45829661 | N29: =E29*H29 -> 0.45829661 | O29: 4
A30: cat | B30: R-29 | C30: R.29 social engineering attacks (ie impersonation) | D30: 0.24648767 | E30: =D30*3 -> 0.73946302 | F30: 0 | G30: 1 | H30: 0 | I30: =D30*F30 -> 0 | J30: =D30*G30 -> 0.24648767 | K30: =D30*H30 -> 0 | L30: =E30*F30 -> 0 | M30: =E30*G30 -> 0.73946302 | N30: =E30*H30 -> 0 | O30: 4
A31: cat | B31: R-30 | C31: R.30 loss or compromise of operational logs | D31: 0.24096825 | E31: =D31*2 -> 0.4819365 | F31: 0 | G31: 1 | H31: 1 | I31: =D31*F31 -> 0 | J31: =D31*G31 -> 0.24096825 | K31: =D31*H31 -> 0.24096825 | L31: =E31*F31 -> 0 | M31: =E31*G31 -> 0.4819365 | N31: =E31*H31 -> 0.4819365 | O31: 3
A32: cat | B32: R-31 | C32: R.31 loss or compromise of security logs (manipulation of forensic investigation) 50 | D32: 0.24096825 | E32: =D32*2 -> 0.4819365 | F32: 0 | G32: 1 | H32: 1 | I32: =D32*F32 -> 0 | J32: =D32*G32 -> 0.24096825 | K32: =D32*H32 -> 0.24096825 | L32: =E32*F32 -> 0 | M32: =E32*G32 -> 0.4819365 | N32: =E32*H32 -> 0.4819365 | O32: 3
A33: cat | B33: R-32 | C33: R.32 backups lost or stolen | D33: 0.22980873 | E33: =D33*2 -> 0.45961745 | F33: 1 | G33: 1 | H33: 1 | I33: =D33*F33 -> 0.22980873 | J33: =D33*G33 -> 0.22980873 | K33: =D33*H33 -> 0.22980873 | L33: =E33*F33 -> 0.45961745 | M33: =E33*G33 -> 0.45961745 | N33: =E33*H33 -> 0.45961745 | O33: 4
A34: cat | B34: R-33 | C34: R.33 unauthorized access to premises (including physical access to machines and other facilities) | D34: 0.18085106 | E34: =D34*1 -> 0.18085106 | F34: 1 | G34: 1 | H34: 0 | I34: =D34*F34 -> 0.18085106 | J34: =D34*G34 -> 0.18085106 | K34: =D34*H34 -> 0 | L34: =E34*F34 -> 0.18085106 | M34: =E34*G34 -> 0.18085106 | N34: =E34*H34 -> 0 | O34: 4
A35: cat | B35: R-34 | C35: R.34 theft of computer equipment | D35: 0.18085106 | E35: =D35*1 -> 0.18085106 | F35: 1 | G35: 1 | H35: 1 | I35: =D35*F35 -> 0.18085106 | J35: =D35*G35 -> 0.18085106 | K35: =D35*H35 -> 0.18085106 | L35: =E35*F35 -> 0.18085106 | M35: =E35*G35 -> 0.18085106 | N35: =E35*H35 -> 0.18085106 | O35: 4
A36: cat | B36: R-35 | C36: R.35 natural disasters | D36: 0.31707317 | E36: =D36*1 -> 0.31707317 | F36: 0 | G36: 0 | H36: 1 | I36: =D36*F36 -> 0 | J36: =D36*G36 -> 0 | K36: =D36*H36 -> 0.31707317 | L36: =E36*F36 -> 0 | M36: =E36*G36 -> 0 | N36: =E36*H36 -> 0.31707317 | O36: 4
D37: =SUM(D2:D36) -> 8.7285237 | F37: =SUM(F2:F36) -> 19 | G37: =SUM(G2:G36) -> 22 | H37: =SUM(H2:H36) -> 22 | I37: =SUM(I2:I36) -> 4.3774823 | J37: =SUM(J2:J36) -> 5.0622173 | K37: =SUM(K2:K36) -> 5.7181509 | L37: =SUM(L2:L36) -> 13.514745 | M37: =SUM(M2:M36) -> 13.589729 | N37: =SUM(N2:N36) -> 15.202161
D38: =D37/35 -> 0.24938639 | I38: =I37/F37 -> 0.2303938 | J38: =J37/G37 -> 0.23010079 | K38: =K37/H37 -> 0.25991595 | L38: =L37/F37 -> 0.71130237 | M38: =M37/G37 -> 0.61771497 | N38: =N37/H37 -> 0.69100731
I39: Adjustment Indices | L39: Adjusted Probabilities

Sheet Crocodile
A1: Provider | B1: Risk Id | C1: Description | D1: Vulnerability Index | E1: Adjusted Probability | F1: Privacy | G1: Security | H1: Service | I1: Privacy Index | J1: Security Index | K1: Service Index | L1: Privacy | M1: Security | N1: Service | O1: Impact
A2: crocodile | B2: R-01 | C2: R.1 lock-in | D2: 0.42541996 | E2: =D2*4 -> 1.7016799 | F2: 0 | G2: 0 | H2: 1 | I2: =D2*F2 -> 0 | J2: =D2*G2 -> 0 | K2: =D2*H2 -> 0.42541996 | L2: =E2*F2 -> 0 | M2: =E2*G2 -> 0 | N2: =E2*H2 -> 1.7016799 | O2: 3
A3: crocodile | B3: R-02 | C3: R.2 loss of governance | D3: 0.36886535 | E3: =D3*5 -> 1.8443267 | F3: 1 | G3: 0 | H3: 0 | I3: =D3*F3 -> 0.36886535 | J3: =D3*G3 -> 0 | K3: =D3*H3 -> 0 | L3: =E3*F3 -> 1.8443267 | M3: =E3*G3 -> 0 | N3: =E3*H3 -> 0 | O3: 5
