Workbook
Name _ftn1: '2-BW_summary'!$C$7
Name _ftn2: '2-BW_summary'!$C$8
Name _ftnref1: '2-BW_summary'!$D$4
Name _ftnref2: '2-BW_summary'!$F$4

Sheet 1-Summary_all results
X3: * | Y3: *
A4: Category | B4: Market body weight (g) | C4: Initial body weight (g) | D4: Raising period (d) | E4: AGR (Lugert) | F4: ln final | G4: ln intial | H4: SGR (Lugert) | I4: RGR | J4: Body weight gain (g) | K4: Body weight gain (g, DM) | L4: FCR | M4: FCR, based on DM/DM | N4: FCR, based on DM/FM | O4: Feed intake in whole rasing period (g) | P4: Feed intake in whole rasing period (g, DM) | Q4: Feed intake in whole rasing period (kg, DM) | R4: Feed protein, % DM | S4: Feed gross energy, MJ GE/kg DM | T4: Protein intake, g | U4: Gross energy intake, Mj GE | V4: PCR | W4: GECR | X4: PCR, DM | Y4: GECR, DM
A5: BSFL (g) | B5: ='3-BW_data '!B14 -> 0.16815 | C5: ='3-BW_data '!C14 -> 2.65e-05 | D5: ='3-BW_data '!D14 -> 21.2 | E5: =(B5-C5)/D5 -> 0.0079303538 | F5: =LN(B5) -> -1.7828988 | G5: =LN(C5) -> -10.538366 | H5: =((F5-G5)/D5)*100 -> 41.299373 | I5: =((B5-C5)/C5)*100 -> 634428.3 | J5: =B5-C5 -> 0.1681235 | K5: =J5*30.1/100 -> 0.050605173 | L5: ='4-FCR_summary'!F5 -> 7.8602564 | M5: =P5/K5 -> 9.4270849 | N5: =P5/J5 -> 2.8375526 | O5: =J5*L5 -> 1.3214938 | P5: =O5*36.1/100 -> 0.47705927 | Q5: =(P5/1000) -> 0.00047705927 | R5: ='6-Substrate CP and GE_summary'!E6 -> 8.685625 | S5: ='6-Substrate CP and GE_summary'!F6 -> 18.05 | T5: =R5*P5/100 -> 0.041435579 | U5: =S5*Q5 -> 0.0086109198 | V5: =(T5/J5)*100 -> 24.645917 | W5: =(U5/J5)*100 -> 5.1217824 | X5: =T5/K5*100 -> 81.880125 | Y5: =U5/K5*100 -> 17.015888
A6: Chicken (g) | B6: ='3-BW_data '!H21 -> 2499.3702 | C6: ='3-BW_data '!I21 -> 42.346667 | D6: ='3-BW_data '!J21 -> 38.777778 | E6: =(B6-C6)/D6 -> 63.361638 | F6: =LN(B6) -> 7.8237941 | G6: =LN(C6) -> 3.7458897 | H6: =((F6-G6)/D6)*100 -> 10.516086 | I6: =((B6-C6)/C6)*100 -> 5802.1651 | J6: =B6-C6 -> 2457.0235 | K6: =J6*31.1/100 -> 764.13431 | L6: ='4-FCR_summary'!F6 -> 1.6513111 | M6: =P6/K6 -> 4.7203073 | N6: =P6/J6 -> 1.4680156 | O6: =J6*L6 -> 4057.3102 | P6: =O6*88.9/100 -> 3606.9488 | Q6: =P6/1000 -> 3.6069488 | R6: ='6-Substrate CP and GE_summary'!E7 -> 21.07 | S6: ='6-Substrate CP and GE_summary'!F7 -> 17.68469 | T6: =R6*P6/100 -> 759.98411 | U6: =S6*Q6 -> 63.787771 | V6: =(T6/J6)*100 -> 30.931088 | W6: =(U6/J6)*100 -> 2.59614 | X6: =T6/K6*100 -> 99.456875 | Y6: =U6/K6*100 -> 8.3477172
A7: Pig (g) | B7: ='3-BW_data '!N18 -> 110126.39 | C7: ='3-BW_data '!O18 -> 1537.9069 | D7: ='3-BW_data '!P18 -> 158.2425 | E7: =(B7-C7)/D7 -> 686.2157 | F7: =LN(B7) -> 11.609384 | G7: =LN(C7) -> 7.3381776 | H7: =((F7-G7)/D7)*100 -> 2.6991525 | I7: =((B7-C7)/C7)*100 -> 7060.7974 | J7: =B7-C7 -> 108588.49 | K7: =J7*33.8/100 -> 36702.909 | L7: ='4-FCR_summary'!F7 -> 3.1034483 | M7: =P7/K7 -> 7.9514385 | N7: =P7/J7 -> 2.6875862 | O7: =J7*L7 -> 336998.75 | P7: =O7*86.6/100 -> 291840.92 | Q7: =P7/1000 -> 291.84092 | R7: ='6-Substrate CP and GE_summary'!E8 -> 16.606842 | S7: ='6-Substrate CP and GE_summary'!F8 -> 16.651478 | T7: =R7*P7/100 -> 48465.561 | U7: =S7*Q7 -> 4859.5826 | V7: =(T7/J7)*100 -> 44.63232 | W7: =(U7/J7)*100 -> 4.4752282 | X7: =T7/K7*100 -> 132.04828 | Y7: =U7/K7*100 -> 13.24032
A8: Fish (g) | B8: ='3-BW_data '!T14 -> 4589.408 | C8: ='3-BW_data '!U14 -> 0.269625 | D8: ='3-BW_data '!V14 -> 586.58333 | E8: =(B8-C8)/D8 -> 7.8235063 | F8: =LN(B8) -> 8.4315063 | G8: =LN(C8) -> -1.3107232 | H8: =((F8-G8)/D8)*100 -> 1.6608432 | I8: =((B8-C8)/C8)*100 -> 1702044.8 | J8: =B8-C8 -> 4589.1384 | K8: =J8*35.8/100 -> 1642.9115 | L8: ='4-FCR_summary'!F8 -> 1.2233333 | M8: =P8/K8 -> 3.2093706 | N8: =P8/J8 -> 1.1489547 | O8: =J8*L8 -> 5614.046 | P8: =O8*93.92/100 -> 5272.712 | Q8: =P8/1000 -> 5.272712 | R8: ='6-Substrate CP and GE_summary'!E9 -> 42.9 | S8: ='6-Substrate CP and GE_summary'!F9 -> 23.177 | T8: =R8*P8/100 -> 2261.9934 | U8: =S8*Q8 -> 122.20565 | V8: =(T8/J8)*100 -> 49.290155 | W8: =(U8/J8)*100 -> 2.6629322 | X8: =T8/K8*100 -> 137.682 | Y8: =U8/K8*100 -> 7.4383582
X10: * Note: these are the PCR and GECR calculations based on corrections for DM in larvae body and DM in feed.
X11: * Note that we did not use them in Table 2 in the manuscript, because their ranking is same as the ranking of RCR and GECR
R13: PCR= Amount of protein needed to gain 100 g BW
R15: GECR= Amount of gross energy needed to gain 100 g BW

Sheet 2-BW_summary
B4: Category | C4: Initial body weight range (g)[1] | D4: Average initial body weight (g) | E4: Market body weight range (g)[2] | F4: Average market body weight (g) | G4: Raising period (day)
B5: Black soldier fly larvae[3] | C5: 0.000025 - 0.000028 | D5: ='3-BW_data '!C14 -> 2.65e-05 | E5: 0.11 – 0.23 | F5: ='3-BW_data '!B14 -> 0.16815 | G5: ='3-BW_data '!D14 -> 21.2
B6: Chicken (Broiler)[4] | C6: 38-46 | D6: ='3-BW_data '!I21 -> 42.346667 | E6: 2312-2922 | F6: ='3-BW_data '!H21 -> 2499.3702 | G6: ='3-BW_data '!J21 -> 38.777778
B7: Pig (pork)[5] | C7: 1400-1600 | D7: ='3-BW_data '!O18 -> 1537.9069 | E7: 97265-135000 | F7: ='3-BW_data '!N18 -> 110126.39 | G7: ='3-BW_data '!P18 -> 158.2425
B8: Fish (Atlantic Salmon) [6] | C8: 0.20-0.34 | D8: ='3-BW_data '!U14 -> 0.269625 | E8: 4340-4912 | F8: ='3-BW_data '!T14 -> 4589.408 | G8: ='3-BW_data '!V14 -> 586.58333
B10: [1] For BSFL it represents the weight of one day old hatched larvae
B11: [2] For BSFL it represents the weight of prepupae.
B12: [3] Nguyen et al., 2013; Diener et al., 2009; Banks et al., 2014; Bava et al., 2019; Lalander et al., 2019; Myers et al., 2014
B13: [4] Bozkurt et al., 2008; Hooge and Connolly, 2011; Lukaszewicz and Kowalczyk, 2014; Ciuresco et al., 2020; Galli et al., 2020; Jacobs et al., 2020; Ruff at al., 2020; Alkhtib et al., 2020; Cowieson et al., 2020
B14: [5] Magnabosco et al., 2016; Kim et al., 2005; Feldpausch et al., 2019; Lanferdini et al., 2018; Wu et al., 2017; López-Vergé et al., 2018; Camp Montoro et al., 2020; Schinckel et al., 2010
B15: [6] Davidson et al., 2016; Krejszeff et al., 2012; Munro and Wallace, 2016; Nathanallides et al., 1995; Leclercq et al., 2010

Sheet 3-BW_data 
A1: BSFL | G1: Chicken (Broiler) | M1: Pig (Pork) | S1: Fish (Atlantic Salmon)
A2: REFERENCE | B2: Prepupae weight (g) | C2: Hatched larval weight (g) | D2: Development time to prepupal (d) | E2: n | G2: Reference | H2: Market body weight (g) | I2: Initial body weight (g) | J2: Raising period (d) | K2: n | M2: Reference | N2: Market body weight (g) | O2: Initial body weight (g) | P2: Raising period (d) | Q2: n | S2: Reference | T2: Market body weight (g) | U2: Initial body weight (g) | V2: Raising period (d) | W2: n
A3: Nguyen et al., 2013 | B3: 0.149 | C3: . | D3: 23 | E3: 1000 larvae | G3: Bozkurt et al., 2008 | H3: 2311.5 | I3: 38 | J3: 42 | K3: 50 | M3: Magnabosco et al., 2016 | N3: 135000 | O3: 1552.9412 | P3: 173.2125 | Q3: 1495 | S3: Davidson et al., 2016 | T3: 4516.6667 | U3: 0.2 | V3: 769.16667 | W3: 4870
A5: Diener et al., 2009 | B5: 0.1517 | C5: 2.5e-05 | D5: 24 | G5: Hooge and Connolly, 2011 | H5: 2536.1667 | I5: . | J5: 41 | K5: Average data set between 2009-2011 | M5: Kim et al., 2005 | N5: 116333.33 | S5: Krejszeff et al., 2012 | T5: . | U5: 0.268875 | V5: .
C6: 2.8e-05
A7: Banks et al., 2014 | B7: 0.231 | C7: . | D7: . | G7: Lukaszewicz and Kowalczyk, 2014 | H7: 2376.175 | I7: 42.5 | J7: 42 | K7: 224 Ross 308 | M7: Feldpausch et al., 2019 | O7: 1588 | Q7: 8136 | S7: Munro and Wallace, 2016 | T7: 4339.6226 | W7: 10 years data between 2007 and 2017
A9: Bava et al., 2019 | B9: 0.165 | C9: . | D9: 17 | G9: Ciuresco et al., 2020 | H9: 2786.25 | I9: 46 | J9: 42 | K9: 480 broiler chickens (Ross 308) | M9: Lanferdini et al., 2018 | N9: 102965 | O9: 1599.5 | P9: 150 | Q9: 45 | S9: Nathanallides et al., 1995 | U9: 0.34
A11: Lalander et al., 2019 | B11: 0.199 | C11: . | D11: 18 | G11: Galli et al., 2019 | H11: 2382.74 | I11: 45.08 | J11: 35 | K11: 225 male chicks of the Cobb500 | M11: Wu et al., 2017 | N11: 105571.43 | Q11: 4848 | S11: Leclercq et al., 2010 | T11: 4911.9348 | V11: 404 | W11: 2242060
A13: Myers et al., 2008 | B13: 0.1132 | C13: . | D13: 24 | G13: Jacobs et al., 2020 | H13: 2348.8333 | I13: 44.5 | J13: 35 | K13: 720 Cobb males | M13: López-Vergé et al., 2018 | N13: 97265 | O13: 1505 | P13: 170 | Q13: 2772
A14: Mean | B14: =AVERAGE(B3:B13) -> 0.16815 | C14: =AVERAGE(C3:C13) -> 2.65e-05 | D14: =AVERAGE(D3:D13) -> 21.2 | S14: Total ave. | T14: =AVERAGE(T3:T13) -> 4589.408 | U14: =AVERAGE(U3:U13) -> 0.269625 | V14: =AVERAGE(V3:V13) -> 586.58333
A15: STDEV.S | B15: =_xlfn.STDEV.S(B3:B13) -> 0.041397089 | C15: =_xlfn.STDEV.S(C3:C13) -> 2.1213203e-06 | D15: =_xlfn.STDEV.S(D3:D13) -> 3.4205263 | G15: Ruff at al., 2020 | H15: 2922 | J15: 42 | K15: 320 male Cobb 500 chicks | M15: Schinckel et al., 2010 | N15: 111100 | O15: 1582 | P15: 158 | S15: STDEV.S | T15: =_xlfn.STDEV.S(T3:T13) -> 293.00815 | U15: =_xlfn.STDEV.S(U3:U13) -> 0.070003013 | V15: =_xlfn.STDEV.S(V3:V13) -> 258.21183
G17: Alkhtib et al., 2029 | H17: 2363 | I17: 38 | J17: 35 | K17: 384 Broiler Chicken | M17: Camp Montoro et al., 2020 | N17: 102650 | O17: 1400 | P17: 140 | Q17: 144
M18: Mean | N18: =AVERAGE(N3:N17) -> 110126.39 | O18: =AVERAGE(O3:O17) -> 1537.9069 | P18: =AVERAGE(P3:P17) -> 158.2425
G19: Cowieson et al., 2020 | H19: 2467.6667 | J19: 35 | K19: 945 male Ross 308 broiler chicks | M19: STDEV.S | N19: =_xlfn.STDEV.S(N3:N17) -> 12593.09 | O19: =_xlfn.STDEV.S(O3:O17) -> 75.596874 | P19: =_xlfn.STDEV.S(P3:P17) -> 13.812369
G21: Mean | H21: =AVERAGE(H3:H20) -> 2499.3702 | I21: =AVERAGE(I3:I20) -> 42.346667 | J21: =AVERAGE(J3:J20) -> 38.777778
G22: STDEV.S | H22: =_xlfn.STDEV.S(H3:H20) -> 214.65324 | I22: =_xlfn.STDEV.S(I3:I20) -> 3.5571149 | J22: =_xlfn.STDEV.S(J3:J20) -> 3.5978389

Sheet 4-FCR_summary
C4: Category | D4: Minimum FCR | E4: Maximum FCR | F4: Average FCR
C5: Black soldier fly larvae [1] | D5: 1.4 | E5: 15.6 | F5: ='5-FCR_data'!B42 -> 7.8602564
C6: Chicken (Broiler)[2] | D6: 1.35 | E6: 2.25 | F6: ='5-FCR_data'!E48 -> 1.6513111
C7: Pig (pork)[3] | D7: 2.45 | E7: 3.52 | F7: ='5-FCR_data'!H32 -> 3.1034483
C8: Fish (Atlantic Salmon) [4] | D8: 1.01 | E8: 1.5 | F8: ='5-FCR_data'!K24 -> 1.2233333
C12: [1] Nana et al., 2018, Banks et al., 2014, Pamintuan et al., 2019, Oonincx et al., 2015, Danieli et al., 2019
C13: [2] Hascik et al., 2010, El-Tahawy et al., 2017, Scott, 2005, Yan et al., 2021, Berrocoso et al., 2020
C14: [3] Losinger et al., 1998, Douglas et al., 2015, Pierozan et al., 2016, Agostini et al., 2014, Cadéro et al., 2018
C15: [4] Torrissen et al., 2011, Tacon and Metian 2008, Weihe et al., 2018, Hillestad et al., 2001, Fisher et al., 2020

Sheet 5-FCR_data
B1: BSFL | E1: Chicken (Broiler) | H1: Pig (pork) | K1: Fish (Atlantic Salmon)
B2: FCR | C2: Reference | D2: n | E2: Ave. FCR | F2: Reference | G2: n | H2: FCR | I2: Reference | J2: n | K2: FCR | L2: Reference | M2: n
B3: 7.3 | C3: Nana et al., 2018 | D3: 2000 larvae | E3: 1.38 | F3: Hascik et al., 2010 | G3: Average values of 180 pieces of Cobb 500, 180 pieces of Ross 308, and 180 pieces of Hubbard JV | H3: 3.41 | I3: Losinger et al., 1998 | J3: Average values of 194 pigs of southeast, north and midwest of the U.S | K3: 1.103 | L3: Torrissen et al., 2011 | M3: in Norway, in the United Kingdom, in Canada, in Chile
B4: 8 | E4: 1.93 | H4: 3.35 | K4: 1.331
B5: 6.7 | E5: 1.7 | H5: 3.36 | K5: 1.313
B6: 7.1 | E6: 1.43 | H6: 3.52 | K6: 1.493
B7: 7.1 | E7: 1.809 | H7: 3.39 | K7: 1.5 | L7: Tacon and Metian (2008) | M7: Average data for 2006 (values represent country ranges and means in parentheses)
B8: 7.5 | E8: 1.658 | H8: 3.21 | K8: 1.25
B9: 8.7 | E9: 1.476 | H9: 3.48 | K9: 1.3
B10: 8 | E10: 1.752 | H10: 3.32 | K10: 1.25
B11: 8.2 | E11: 1.644 | H11: 3.45 | K11: 1.29 | L11: Weihe et al., 2018
B12: 9.8 | E12: 2.02 | F12: El-Tahawy et al., 2017 | G12: Data obtained from 130 broiler farms | H12: 3.3 | K12: 1.36
B13: 12.1 | E13: 1.81 | H13: 3.33 | K13: 1.21
B14: 9.4 | E14: 2.23 | H14: 3.42 | K14: 1.25
B15: 8.3 | E15: 1.67 | H15: 3.48 | K15: 1.1 | L15: Hillestad et al., 2001 | M15: 18 sea cages (500 fish per cage)
B16: 9.4 | E16: 1.83 | H16: 3.26 | K16: 1.03
B17: 8.2 | E17: 2.25 | H17: 3.45 | K17: 1.01
B18: 15.3 | E18: 1.99 | H18: 3.3 | K18: 1.18
B19: 15.2 | C19: Banks et al., 2014 | E19: 1.81 | H19: 3.48 | K19: 1.07
B20: 10.7 | E20: 2.21 | H20: 3.27 | K20: 1.15
B21: 3.3 | E21: 1.36 | H21: 2.58 | I21: Douglas et al., 2015 | J21: 242 | K21: 1.2 | L21: Fisher et al., 2020 | M21: 480 fish in a flow-through freshwater system
B22: 2 | E22: 1.86 | H22: 2.45 | I22: Pierozan et al., 2016 | J22: Data for 495000 animal | K22: 1.1
B23: 3.4 | E23: 1.45 | F23: Scott, 2005 | G23: 16 | H23: 2.71 | I23: Agostini et al., 2014 | J23: 310 batches from 244 grower-finishing farms | K23: 1.2
B24: 15.6 | E24: 1.46 | H24: 2.71 | I24: Cadéro et al., 2018 | K24: =AVERAGE(K3:K23) -> 1.2233333 | L24: Mean
B25: 10.4 | E25: 1.4 | H25: 2.67 | K25: =_xlfn.STDEV.S(K3:K23) -> 0.13413699 | L25: STDEV.S
B26: 3.1 | E26: 1.54 | H26: 2.72
B27: 2 | E27: 1.45 | H27: 2.67
B28: 3.3 | E28: 1.35 | H28: 2.68
B29: 3 | E29: 1.53 | H29: 2.64
B30: 9.83 | C30: Pamintuan et al., 2019 | E30: 1.5 | H30: 2.71
B31: 3.5 | E31: 1.55 | H31: 2.68
B32: 8 | E32: 1.52 | H32: =AVERAGE(H3:H31) -> 3.1034483 | I32: Mean
B33: 1.4 | C33: Oonincx et al., 2015 | E33: 1.44 | H33: =_xlfn.STDEV.S(H3:H31) -> 0.36560396 | I33: STDEV.S
B34: 1.9 | E34: 1.66
B35: 2.3 | E35: 1.78
B36: 2.6 | E36: 1.77
B37: 1.8 | E37: 1.67
B38: 13.3 | C38: Danieli et al., 2019 | E38: 1.59
B39: 15.23 | E39: 1.527 | F39: Yan et al., 2021 | G39: 2,400 Ross 308 mixed-sex broilers (1:1 ratio of males and females)
B40: 14.43 | E40: 1.52
...

Sheet 6-Substrate CP and GE_summary
D5: Category | E5: Protein, % (DM basis) | F5: Gross energy, MJ/Kg (DM basis)
D6: Black soldier fly larvae [1] | E6: ='7-Substrate CP and GE_data'!B19 -> 8.685625 | F6: ='7-Substrate CP and GE_data'!G18 -> 18.05
D7: Chicken (Broiler)[2] | E7: ='7-Substrate CP and GE_data'!M14 -> 21.07 | F7: ='7-Substrate CP and GE_data'!K14 -> 17.68469
D8: Pig (pork)[3] | E8: ='7-Substrate CP and GE_data'!R23 -> 16.606842 | F8: ='7-Substrate CP and GE_data'!P23 -> 16.651478
D9: Fish (Atlantic Salmon) [4] | E9: ='7-Substrate CP and GE_data'!V14 -> 42.9 | F9: ='7-Substrate CP and GE_data'!U14 -> 23.177
D12: [1] Chen et al., 2017; Saki et al., 2006; Westendorf, 2000; Spranghers et al., 2017; ALP 2007; Ulloa et al., 2004; Diem & Lentner 1968; Danieli et al., 2019
D13: [2] Brugaletta et al., 2020; Bozkurt et al., 2008; Infante‑Rodríguez et al., 2016; Kamalzadeh et al., 2009; Abudabos et al., 2012
D14: [3] Kotrotsios et al., 2012; Kallabis and Kaufmann, 2012; Szabó et al., 2007; Yang et al., 2018
D15: [4] Kaushik et al., 1998; Ytrestøyl et al., 2015; T.S. Aas, et al., 2019

Sheet 7-Substrate CP and GE_data
A1: BSFL - Protein | F1: BSFL - Gross energy | J1: Broiler | O1: Pig | T1: Fish
A2: Substrates | B2: Protein, % DM | C2: Reference | D2: n | F2: Substrate | G2: Gross energy (MJ kg–1 DM) | H2: Reference | J2: Reference | K2: Gross energy, MJ/Kg DM | L2: ME MJ/Kg DM | M2: CP%DM | O2: Reference | P2: Gross energy, MJ/Kg DM | Q2: ME MJ/Kg DM | R2: CP%DM | T2: Reference | U2: Gross energy, MJ/Kg DM | V2: CP% DM
A3: vegetable waste | B3: 2 | C3: Chen et al., 2017 | D3: 50 crop residues samples and 10 samples each of pig, dairy, beef, layer, and broiler manure | F3: Kitchen waste | G3: 22 | H3: (ALP 2007) | J3: Brugaletta et al., 2020 | K3: =L3*1.379 -> 18.3407 | L3: 13.3 | M3: 22.7 | O3: Kotrotsios et al., 2012 | P3: =Q3*1.29 -> 17.286 | Q3: 13.4 | R3: 18 | T3: Kaushik et al., 1998 | U3: 23.1 | V3: 45.4
A4: wheat straw | B4: 3.12 | F4: Vegetable waste | G4: 17.6 | H4: (ALP 2007) | L4: . | M4: 21.49 | P4: =Q4*1.29 -> 17.286 | Q4: 13.4 | R4: 18.1 | U4: 22.7 | V4: 44.5
A5: rice straw | B5: 3.84 | F5: Green banana | G5: 17.8 | H5: (Ulloa et al. 2004) | K5: =L5*1.379 -> 18.2028 | L5: 13.2 | M5: 19.74 | P5: =Q5*1.29 -> 17.286 | Q5: 13.4 | R5: 18.06 | U5: 22.9 | V5: 44.8
A6: corn stover | B6: 3.5 | F6: Pig manure | G6: 17.8 | H6: (Ulloa et al. 2004) | J6: Bozkurt et al., 2008 | L6: . | M6: 21.72 | P6: =Q6*1.29 -> 17.286 | Q6: 13.4 | R6: 18.05 | U6: 23 | V6: 44.7
A7: rape stalk | B7: 2.65 | F7: Poultry manure | G7: 14.6 | H7: (Ulloa et al. 2004) | K7: =L7*1.379 -> 17.3754 | L7: 12.6 | M7: 20.37 | P7: =Q7*1.29 -> 16.4733 | Q7: 12.77 | R7: 16.06 | U7: 22.8 | V7: 44.9
A8: cotton stalk | B8: 3.98 | F8: Human faeces | G8: 21.6 | H8: Diem & Lentner 1968 | J8: Infante‑Rodríguez et al., 2016 | K8: =L8*1.379 -> 16.65832 | L8: 12.08 | M8: 21.4 | P8: =Q8*1.29 -> 16.4733 | Q8: 12.77 | R8: 16 | U8: 23.3 | V8: 44.6
A9: pig manure | B9: 9.19 | F9: Shrimp residues | G9: 18.2 | H9: (Ulloa et al. 2004) | J9: Kamalzadeh et al., 2009 | K9: =L9*1.379 -> 16.81001 | L9: 12.19 | M9: 21.6 | P9: =Q9*1.29 -> 16.4733 | Q9: 12.77 | R9: 16.04 | U9: 23.2 | V9: 44.5
A10: dairy manure | B10: 6.07 | F10: Slaughterhouse sludge | G10: 16.25 | H10: (Ulloa et al. 2004) | K10: =L10*1.379 -> 18.2028 | L10: 13.2 | M10: 19.85 | P10: =Q10*1.29 -> 16.4733 | Q10: 12.77 | R10: 16.04 | U10: 23.1 | V10: 44.5
A11: beef manure | B11: 7.72 | F11: Coffee pulp | G11: 16.9 | H11: (Ulloa et al. 2004) | J11: Abudabos et al., 2012 | K11: =L11*1.379 -> 18.2028 | L11: 13.2 | M11: 20.7 | P11: =Q11*1.29 -> 15.6606 | Q11: 12.14 | R11: 15.32 | T11: Ytrestøyl et al., 2015 | U11: 24.5 | V11: 35.5
A12: layer manure | B12: 9.84 | F12: Rice hulls | G12: 14.7 | H12: (Ulloa et al. 2004) | K12: . | L12: . | M12: 20.9 | P12: =Q12*1.29 -> 15.6606 | Q12: 12.14 | R12: 15.39 | T12: Aas, et al., 2019 | U12: 23.17 | V12: 35.6
A13: broiler manure | B13: 10.24 | F13: Fresh pineapple | G13: 17.5 | H13: (Ulloa et al. 2004) | M13: 21.3 | P13: =Q13*1.29 -> 15.6606 | Q13: 12.14 | R13: 15.35
A14: Kitchen waste | B14: 12.7 | C14: Saki et al., 2006 | F14: Ground corn+Wheat bran+Dehydrated alfalfa | G14: 18.6 | H14: Danieli et al., 2019 | J14: Mean | K14: =AVERAGE(K3:K13) -> 17.68469 | M14: =AVERAGE(M3:M13) -> 21.07 | P14: =Q14*1.29 -> 15.6606 | Q14: 12.14 | R14: 15.3 | T14: Mean | U14: =AVERAGE(U3:U13) -> 23.177 | V14: =AVERAGE(V3:V13) -> 42.9
A15: Restaurant waste | B15: 15.82 | C15: Westendorf, 2000 | F15: Ground barley+Wheat bran+Dehydrated alfalfa | G15: 19.4 | J15: STDEV.S | K15: =_xlfn.STDEV.S(K3:K13) -> 0.72454857 | M15: =_xlfn.STDEV.S(M3:M13) -> 0.87244484 | O15: Kallabis and Kaufmann, 2012 | P15: =Q15*1.29 -> 16.254 | Q15: 12.6 | R15: 18.64 | T15: STDEV.S | U15: =_xlfn.STDEV.S(U3:U13) -> 0.50062295 | V15: =_xlfn.STDEV.S(V3:V13) -> 3.8832976
A16: Digestate | B16: 24.6 | C16: Spranghers et al., 2017 | F16: Ground barley+ Wheat middlings+Dehydrated alfalfa+Wheat straw | G16: 18.8 | P16: =Q16*1.29 -> 15.3768 | Q16: 11.92 | R16: 18.12
A17: vegetable waste | B17: 8 | F17: Ground barley+Wheat middlings+Dehydrated alfalfa | G17: 19 | P17: =Q17*1.29 -> 14.9382 | Q17: 11.58 | R17: 17.86
A18: Restaurant waste | B18: 15.7 | F18: Mean | G18: =AVERAGE(G3:G17) -> 18.05 | O18: Szabó et al., 2007 | P18: . | Q18: . | R18: 16.9
B19: =AVERAGE(B3:B18) -> 8.685625 | C19: Mean | F19: STDEV.S | G19: =_xlfn.STDEV.S(G3:G17) -> 2.0725243 | P19: . | Q19: . | R19: 14.9
B20: =_xlfn.STDEV.S(B3:B18) -> 6.1446269 | C20: STDEV.S | P20: =Q20*1.29 -> 17.157 | Q20: 13.3 | R20: 17.4
P21: =Q21*1.29 -> 16.641 | Q21: 12.9 | R21: 14
O22: Yang et al., 2018 | P22: 21.68
O23: Mean | P23: =AVERAGE(P3:P22) -> 16.651478 | R23: =AVERAGE(R3:R21) -> 16.606842
O24: STDEV.S | P24: =_xlfn.STDEV.S(P3:P22) -> 1.4536896 | R24: =_xlfn.STDEV.S(R3:R21) -> 1.3847705

Sheet 8-Substrate DM summary+data
B1: BSFL-Substrate | C1: DM % | D1: Reference | F1: Broiler feed | I1: Pig feed | L1: Fish feed
B2: Swine manure | C2: 9 | D2: Sommer et al., 2015 | F2: DM % | G2: Reference | I2: DM % | J2: Reference | L2: DM % | M2: Reference
B3: Chicken manure | C3: 30 | D3: Nicholson et al., 1996 | F3: 88.6 | G3: Brugaletta et al., 2020 | I3: 84.15 | J3: Helm et al., 2021 | L3: 92.7 | M3: Larsson et al., 2014
B4: Municipal organic waste | C4: 37.5 | D4: Möller 2015 | F4: 92.4 | G4: Lu et al., 2021 | I4: 87.5 | J4: Chałabis-Mazurek et al., 2021 | L4: 95.57 | M4: Bou et al., 2017
B5: Vegetable Waste | C5: 37.47 | D5: Retnani, 2010 | F5: 87.3 | G5: Abdollahi et al., 2020 | I5: 88.17 | J5: Ferrer et al., 2021 | L5: 94 | M5: Belghit et al., 2019
B6: Oonincx et al., 2015 | C6: 90 | D6: Oonincx et al., 2015 | F6: 87.13 | G6: Berrocoso et al., 2020 | I6: =AVERAGE(I3:I5) -> 86.606667 | J6: Mean | L6: 93.4 | M6: T.S. Aas, et al., 2019
C7: 30.31 | D7: Liland et al., 2017 | F7: =AVERAGE(F3:F6) -> 88.8575 | G7: Mean | I7: =_xlfn.STDEV.S(I3:I5) -> 2.1537487 | J7: STDEV.S | L7: =AVERAGE(L3:L6) -> 93.9175 | M7: Mean
B8: Feed, liver, manure, kitchen waste, fruit and vegtables, fish | C8: 18.63 | D8: Nguyen et al., 2013 | F8: =_xlfn.STDEV.S(F3:F6) -> 2.4512361 | G8: STDEV.S | L8: =_xlfn.STDEV.S(L3:L6) -> 1.2230665 | M8: STDEV.S
B9: Mean | C9: =AVERAGE(C2:C8) -> 36.13
B10: STDEV.S | C10: =_xlfn.STDEV.S(C2:C6) -> 29.876825

Sheet 9-Whole body DM summary+data
B1: BSFL DM% | C1: Reference | E1: Broiler whole body DM % | F1: Reference | H1: Pig whole body DM % | I1: Reference | K1: Fish whole body DM % | L1: Reference
B2: 36.6 | C2: Liland et al., 2017 | E2: 27.6 | F2: Caldas et al., 2019 | H2: 34.4 | I2: Smits et al., 1988 | K2: 39.9 | L2: Aas, et al., 2019
B3: 35.6 | E3: 25.9 | H3: 33.2 | K3: 40.9
B4: 35.2 | E4: 25.4 | H4: 33.72 | I4: Lewis and Southern, 2000 (Different ages) | K4: 42.1
B5: 32.6 | E5: 24.9 | H5: =AVERAGE(H2:H4) -> 33.773333 | I5: Mean | K5: 40.9
B6: 32.8 | E6: 26.1 | H6: =_xlfn.STDEV.S(H2:H4) -> 0.60177515 | I6: STDEV.S | K6: 30.1 | L6: Einen and Roem, 1997
B7: 30.7 | E7: 27.6 | K7: 36.9
B8: 27.7 | E8: 28.1 | K8: 37
B9: 23.3 | E9: 29.3 | K9: 36.4
B10: 24 | E10: 30.8 | K10: 35.4
B11: 23.3 | E11: 31.4 | K11: 33.5 | L11: Hemre et al., 2007
B12: 32.9 | C12: Oonincx et al., 2015 | E12: 31.3 | K12: 33.2
B13: 35.6 | E13: 31.7 | K13: 33.8
B14: 35.1 | E14: 29.6 | F14: Bregendahl et al., 2002 | K14: 33.4
B15: 35.3 | E15: 29.6 | K15: 32.6
B16: 33.9 | E16: 30.3 | K16: =AVERAGE(K2:K15) -> 35.784615 | L16: Mean
B17: 25.7 | C17: Van der Fels-Klerx et al., 2016 | E17: 29.3 | K17: =_xlfn.STDEV.S(K2:K15) -> 3.5380894 | L17: STDEV.S
B18: 24.4 | E18: 29.7
B19: 27.9 | E19: 37.654 | F19: Straková et al., 2015
B20: 29.7 | E20: 37.821
B21: 26.8 | E21: 39.281
B22: 29.1 | E22: 38.819
B23: 28.5 | E23: 35.919
B24: 27.1 | E24: 36.824
B25: 27.9 | E25: =AVERAGE(E1:E24) -> 31.083391 | F25: Mean
B26: =AVERAGE(B2:B25) -> 30.070833 | C26: Mean | E26: =_xlfn.STDEV.S(E2:E24) -> 4.4784792 | F26: STDEV.S
B27: =_xlfn.STDEV.S(B2:B25) -> 4.361639 | C27: STDEV.S

Sheet 10-References
A3: References:
A5: Aas, T.S., Ytrestøyl, T. and Åsgård, T., 2019. Utilization of feed resources in the production of Atlantic salmon (Salmo salar) in Norway: An update for 2016. Aquaculture Reports, 15, p.100216.
A6: Abdollahi, M.R., Zaefarian, F., Hall, L. and Jendza, J.A., 2020. Feed acidification and steam-conditioning temperature influence nutrient utilization in broiler chickens fed wheat-based diets. Poultry Science, 99(10), pp.5037-5046.
A7: Abudabos, A.M., 2012. Optimal dietary phosphorus for broiler performance, bone integrity and reduction of phosphorus excretion. Asian J Anim Vet Adv, 7, pp.288-298.
A8: Agostini, P.S., Fahey, A.G., Manzanilla, E.G., O’Doherty, J.V., De Blas, C. and Gasa, J., 2014. Management factors affecting mortality, feed intake and feed conversion ratio of grow-finishing pigs. Animal, 8(8), pp.1312-1318.
A9: Alkhtib, A., Scholey, D., Carter, N., Cave, G.W., Hanafy, B.I., Kempster, S.R., Mekapothula, S., Roxborough, E.T. and Burton, E.J., 2020. Bioavailability of Methionine-Coated Zinc Nanoparticles as a Dietary Supplement Leads to Improved Performance and Bone Strength in Broiler Chicken Production. Animals, 10(9), p.1482.
A10: ALP (2007) Eidgenössische Futtermitteldatenbank [Federal database of animal feed]: Forschungsanstalt Agroscope Liebefeld-Posieux ALP, Switzerland.
A11: Banks, I. J., W. T. Gibson, and M. M. Cameron. 2014. Growth rates of black soldier fly larvae fed on fresh human faeces and their implication for improving sanitation. Tropical medicine & international health 19(1):14-22.
A12: Bava, L., Jucker, C., Gislon, G., Lupi, D., Savoldelli, S., Zucali, M. and Colombini, S., 2019. Rearing of Hermetia Illucens on Different Organic By-Products: Influence on Growth, Waste Reduction, and Environmental Impact. Animals, 9(6), p.289.
A13: Belghit, I., Waagbø, R., Lock, E.J. and Liland, N.S., 2019. Insect‐based diets high in lauric acid reduce liver lipids in freshwater Atlantic salmon. Aquaculture Nutrition, 25(2), pp.343-357.
A14: Berrocoso, J.D., García-Ruiz, A., Page, G. and Jaworski, N.W., 2020. The effect of added oat hulls or sugar beet pulp to diets containing rapidly or slowly digestible protein sources on broiler growth performance from 0 to 36 days of age. Poultry Science, 99(12), pp.6859-6866.
A15: Bou, M., Berge, G.M., Baeverfjord, G., Sigholt, T., Østbye, T.K. and Ruyter, B., 2017. Low levels of very-long-chain n-3 PUFA in Atlantic salmon (Salmo salar) diet reduce fish robustness under challenging conditions in sea cages. Journal of nutritional science, 6.
... A90: Ytrestøyl, T., Aas, T.S. and Åsgård, T., 2015. Utilisation of feed resources in production of Atlantic salmon (Salmo salar) in Norway. Aquaculture, 448, pp.365-374.

Sheet Tabelle1
