Workbook

Sheet Histology_Scores_Fig_1A_1B
A1: Treatment | B1: Inflammation | C1: Surface_damage | D1: Crypt_hyperplasia | E1: Summary
A2: NG | B2: 1 | C2: 1 | D2: 1 | E2: 3
A3: NG | B3: 3 | C3: 3 | D3: 3 | E3: 9
A4: NG | B4: 2 | C4: 1 | D4: 2 | E4: 5
A5: NG | B5: 1 | C5: 1 | D5: 1 | E5: 3
A6: NG | B6: 1.5 | C6: 1 | D6: 1 | E6: 3.5
A7: NG | B7: 1 | C7: 1 | D7: 1.5 | E7: 3.5
A8: NG | B8: 1.5 | C8: 1 | D8: 1 | E8: 3.5
A9: NG | B9: 1 | C9: 0.5 | D9: 1 | E9: 2.5
A10: NG | B10: 1 | C10: 0.5 | D10: 1 | E10: 2.5
A11: Control | B11: 2.5 | C11: 1.5 | D11: 2 | E11: 6
A12: Control | B12: 1 | C12: 1 | D12: 1 | E12: 3
A13: Control | B13: 1.5 | C13: 1 | D13: 1.5 | E13: 4
... A35: Control | B35: 1 | C35: 1 | D35: 1 | E35: 3

Sheet Cytokine_Results_Fig_1C
A1: Treatment | B1: Eotaxin | C1: G_CSF | D1: IFNγ | E1: IL_1α | F1: IL_1β | G1: IL_2 | H1: IL_3 | I1: IL_5 | J1: IL_6 | K1: IL_7 | L1: IL_10 | M1: IL_12p40 | N1: IL_13 | O1: IL_17 | P1: IP_10 | Q1: KC | R1: LIX | S1: MCP_1 | T1: GM_CSF | U1: MIG | V1: MIP_1α | W1: MIP_1β | X1: MIP_2 | Y1: RANTES | Z1: TNFα
A2: NG | B2: 468.96 | C2: 1318.52 | D2: 3.42 | E2: 167.71 | F2: 2.9 | G2: 5.54 | H2: 1.28 | I2: 4.27 | J2: 13.43 | K2: NA | L2: NA | M2: 3.37 | N2: 18.34 | O2: 13.23 | P2: 49.15 | Q2: 46.15 | R2: 4499.22 | S2: 74.59 | T2: 6.46 | U2: 640.68 | V2: 26.88 | W2: 42.83 | X2: 139.89 | Y2: 28.32 | Z2: 7.8
A3: NG | B3: 135.89 | C3: 1086.67 | D3: 3.9 | E3: 169.57 | F3: 3.25 | G3: 6.2 | H3: 1.42 | I3: 3.94 | J3: 10.28 | K3: NA | L3: 1.39 | M3: 5.21 | N3: 15.2 | O3: 12.28 | P3: 48.89 | Q3: 41.86 | R3: 6468.81 | S3: 67.05 | T3: 4.6 | U3: 620.84 | V3: 36.66 | W3: 28.22 | X3: 84.21 | Y3: 24.19 | Z3: 7.71
A4: NG | B4: 233.78 | C4: 777.29 | D4: 2.2 | E4: 176.96 | F4: 3.37 | G4: 3.53 | H4: NA | I4: 0.98 | J4: 1.61 | K4: NA | L4: NA | M4: NA | N4: 23.93 | O4: 11.51 | P4: 49.42 | Q4: 79.24 | R4: 3256.23 | S4: 38.42 | T4: 5.53 | U4: 950.58 | V4: 13.83 | W4: 36.12 | X4: 106.05 | Y4: 33.93 | Z4: 7.27
A5: NG | B5: 596.53 | C5: 1535.02 | D5: 1.95 | E5: 254.07 | F5: NA | G5: NA | H5: NA | I5: NA | J5: 2.43 | K5: NA | L5: NA | M5: 4.75 | N5: 14.14 | O5: 11.6 | P5: 55.1 | Q5: 68.06 | R5: 6800.22 | S5: 26.17 | T5: 5.06 | U5: 1007.75 | V5: 21.53 | W5: 23.51 | X5: 139.89 | Y5: 24.19 | Z5: 6.35
A6: NG | B6: 256.31 | C6: 1503.93 | D6: 11.16 | E6: 85.16 | F6: 1.18 | G6: NA | H6: 1.18 | I6: NA | J6: 30.07 | K6: NA | L6: 18.6 | M6: 6.6 | N6: 33.19 | O6: 17.45 | P6: 58.65 | Q6: 65.78 | R6: 8731.72 | S6: 52.65 | T6: 7.63 | U6: 547.39 | V6: 18.16 | W6: NA | X6: 88.21 | Y6: 25.52 | Z6: 7.45
A7: NG | B7: 525.93 | C7: 1531.7 | D7: 11.88 | E7: 123.09 | F7: 0.95 | G7: NA | H7: 1.42 | I7: NA | J7: 26.65 | K7: NA | L7: 10.5 | M7: 7.29 | N7: 18.34 | O7: 16.09 | P7: 62.6 | Q7: 74.9 | R7: 8886.52 | S7: 37.15 | T7: 4.6 | U7: 538.38 | V7: NA | W7: 8 | X7: 43.16 | Y7: 26.37 | Z7: 7.71
A8: NG | B8: 287.54 | C8: 336.47 | D8: 6.63 | E8: 52.55 | F8: 1.18 | G8: NA | H8: NA | I8: NA | J8: 11.68 | K8: NA | L8: NA | M8: NA | N8: 4.8 | O8: 16.27 | P8: 65.45 | Q8: 40.1 | R8: 2819.9 | S8: 65.94 | T8: NA | U8: 677.25 | V8: 48.55 | W8: NA | X8: NA | Y8: 37 | Z8: 7.09
A9: NG | B9: 472.91 | C9: 442.94 | D9: 5.54 | E9: 132.45 | F9: NA | G9: NA | H9: NA | I9: NA | J9: 12.71 | K9: 5.5 | L9: NA | M9: NA | N9: NA | O9: 18.06 | P9: 85.13 | Q9: 38.33 | R9: 4642.72 | S9: 35.87 | T9: 3.2 | U9: 957.96 | V9: 60.72 | W9: NA | X9: 75.57 | Y9: 30.94 | Z9: 7.27
A10: NG | B10: 169.23 | C10: 1193.27 | D10: 6.57 | E10: 184.25 | F10: 2.56 | G10: NA | H10: NA | I10: 3.52 | J10: 35.59 | K10: NA | L10: NA | M10: 7.99 | N10: 10.9 | O10: 15.72 | P10: 39.47 | Q10: 67.68 | R10: 3052.13 | S10: 33.3 | T10: 144.87 | U10: 582.29 | V10: 13.83 | W10: 26.42 | X10: 65.95 | Y10: 25.69 | Z10: 6.17
A11: NG | B11: 172.29 | C11: 1151.43 | D11: 4.14 | E11: 235.31 | F11: 2.56 | G11: 3.31 | H11: NA | I11: 2.09 | J11: 32.79 | K11: NA | L11: NA | M11: NA | N11: 18.34 | O11: 14.74 | P11: 29.68 | Q11: 61.58 | R11: 5053.3 | S11: 21.58 | T11: 127.24 | U11: 463.28 | V11: NA | W11: 29.08 | X11: 99.29 | Y11: 17.51 | Z11: 3.5
A12: NG | B12: 204.07 | C12: 708.03 | D12: 4.72 | E12: 139.04 | F12: 0.72 | G12: NA | H12: NA | I12: 3.02 | J12: 17.29 | K12: NA | L12: NA | M12: 5.67 | N12: 10.9 | O12: 6.63 | P12: 96.28 | Q12: 156.54 | R12: 3284.95 | S12: 11.07 | T12: 4.13 | U12: 1287.69 | V12: 26.88 | W12: 148.23 | X12: 112.4 | Y12: 33.93 | Z12: 2.42
A13: NG | B13: 123.82 | C13: 491.07 | D13: 1.95 | E13: 136.42 | F13: 1.06 | G13: 3.87 | H13: NA | I13: 1.55 | J13: 9.94 | K13: NA | L13: NA | M13: 4.75 | N13: 11.99 | O13: 3.91 | P13: 41.48 | Q13: 111.18 | R13: 3087.04 | S13: 11.07 | T13: NA | U13: 749.48 | V13: 24.37 | W13: 101.47 | X13: NA | Y13: 25.92 | Z13: 1.15
A14: NG | B14: 166.73 | C14: 205.83 | D14: 1.18 | E14: 130.46 | F14: 1.75 | G14: NA | H14: NA | I14: NA | J14: 1.08 | K14: NA | L14: NA | M14: NA | N14: 15.73 | O14: 4.33 | P14: 35.66 | Q14: 33.3 | R14: 1950.92 | S14: 40.95 | T14: 7.16 | U14: 624.72 | V14: NA | W14: 33.14 | X14: 65.95 | Y14: 41.83 | Z14: 2.03
A15: NG | B15: 407.13 | C15: 240.83 | D15: 0.92 | E15: 189.66 | F15: 0.72 | G15: NA | H15: NA | I15: NA | J15: NA | K15: NA | L15: NA | M15: NA | N15: 14.14 | O15: 3.08 | P15: 40.21 | Q15: 20.15 | R15: 4594.77 | S15: 32.01 | T15: 5.76 | U15: 490.79 | V15: 28.03 | W15: 17.89 | X15: 65.95 | Y15: 32.71 | Z15: 0.41
A16: NG | B16: 238.64 | C16: 5155.15 | D16: 11.38 | E16: 47.06 | F16: NA | G16: NA | H16: NA | I16: 2.24 | J16: 104.16 | K16: NA | L16: NA | M16: 4.29 | N16: NA | O16: 27.2 | P16: 23.22 | Q16: 144.43 | R16: 2037.87 | S16: 53.24 | T16: 4.6 | U16: 492.01 | V16: 18.16 | W16: NA | X16: 65.95 | Y16: 19.77 | Z16: 8.49
A17: NG | B17: 396.43 | C17: NA | D17: 14.49 | E17: 42.33 | F17: 1.52 | G17: NA | H17: NA | I17: 1.86 | J17: 140.82 | K17: NA | L17: NA | M17: 4.06 | N17: 5.92 | O17: 32.48 | P17: 51.85 | Q17: 248.05 | R17: 2720.13 | S17: 63.7 | T17: 5.53 | U17: 603.63 | V17: 26.88 | W17: 53.7 | X17: 70.9 | Y17: 23.6 | Z17: 13.38
A18: NG | B18: 262.73 | C18: 9900.75 | D18: 4.25 | E18: NA | F18: 1.18 | G18: 4.76 | H18: NA | I18: 2.91 | J18: 172.78 | K18: NA | L18: NA | M18: NA | N18: 5.92 | O18: 31.7 | P18: 23.17 | Q18: 93.14 | R18: 2413.7 | S18: 101.76 | T18: 5.53 | U18: 548.19 | V18: 23 | W18: 62.11 | X18: NA | Y18: 20.03 | Z18: 11.72
A19: NG | B19: 196.82 | C19: 7541.78 | D19: 5.19 | E19: 35.99 | F19: 1.86 | G19: 5.98 | H19: NA | I19: 3.66 | J19: 188.26 | K19: NA | L19: NA | M19: 6.13 | N19: NA | O19: 35.43 | P19: 38.25 | Q19: 94.54 | R19: 2626.7 | S19: 107.34 | T19: 4.13 | U19: 335.39 | V19: 30.2 | W19: 59.25 | X19: NA | Y19: 21.47 | Z19: 9.75
A20: NG | B20: 156.31 | C20: 1494.27 | D20: 6.8 | E20: 113.55 | F20: 3.02 | G20: NA | H20: NA | I20: 1.69 | J20: 4.75 | K20: NA | L20: NA | M20: NA | N20: NA | O20: 30.04 | P20: 37.29 | Q20: 59.09 | R20: 2134.13 | S20: 8.45 | T20: NA | U20: 401.93 | V20: NA | W20: NA | X20: 75.57 | Y20: 21.78 | Z20: 1.75
A21: NG | B21: 139.35 | C21: 2239.21 | D21: 6.23 | E21: 112.17 | F21: 1.75 | G21: NA | H21: NA | I21: 0.75 | J21: 2.82 | K21: NA | L21: NA | M21: 7.53 | N21: NA | O21: 29.4 | P21: 24.5 | Q21: 55.63 | R21: 1725.8 | S21: 4.51 | T21: NA | U21: 452.87 | V21: NA | W21: NA | X21: NA | Y21: 12.99 | Z21: 3.04
A22: NG | B22: 212.67 | C22: 655.39 | D22: 2.75 | E22: 144.25 | F22: NA | G22: NA | H22: NA | I22: NA | J22: 7.97 | K22: NA | L22: NA | M22: NA | N22: 6.48 | O22: 9.1 | P22: 37.39 | Q22: 43.71 | R22: 1009.41 | S22: 30.72 | T22: 4.36 | U22: 354.46 | V22: NA | W22: NA | X22: NA | Y22: 53.76 | Z22: 0.41
A23: NG | B23: 427.83 | C23: 1356.07 | D23: 3.36 | E23: 257.33 | F23: 1.18 | G23: NA | H23: NA | I23: NA | J23: 8.5 | K23: NA | L23: NA | M23: NA | N23: 11.99 | O23: 8.55 | P23: 58.2 | Q23: 49.35 | R23: 1554.3 | S23: 16.99 | T23: 7.4 | U23: 456.23 | V23: 31.21 | W23: 34.65 | X23: 36.69 | Y23: 47.37 | Z23: 2.55
A24: NG | B24: 323.84 | C24: 986.96 | D24: 3.3 | E24: 33.6 | F24: 1.63 | G24: 3.31 | H24: NA | I24: 1.86 | J24: 11.63 | K24: NA | L24: NA | M24: NA | N24: 7.59 | O24: 12.1 | P24: 24.03 | Q24: 49.06 | R24: 2034.2 | S24: 17.64 | T24: 4.6 | U24: 440.69 | V24: NA | W24: NA | X24: 16 | Y24: 23.42 | Z24: 3.04
A25: NG | B25: 392.1 | C25: 1321.52 | D25: 4.43 | E25: 70.26 | F25: 0.95 | G25: 4.42 | H25: NA | I25: 1.63 | J25: 12.04 | K25: NA | L25: NA | M25: NA | N25: 16.26 | O25: 14.86 | P25: 48.85 | Q25: 41.47 | R25: 2499.32 | S25: 7.14 | T25: 5.53 | U25: 439.21 | V25: 18.16 | W25: 8 | X25: 65.95 | Y25: 21.91 | Z25: 6.17
A26: NG | B26: 123.3 | C26: 1524.75 | D26: 10.17 | E26: 39.16 | F26: 4.65 | G26: 8.53 | H26: NA | I26: 6.96 | J26: 28.83 | K26: NA | L26: 9.88 | M26: 5.21 | N26: 17.3 | O26: 20.87 | P26: 36.81 | Q26: 96.78 | R26: 2218.49 | S26: 55.03 | T26: 5.53 | U26: 532.66 | V26: 61.19 | W26: NA | X26: 65.95 | Y26: 32.45 | Z26: 2.03
A27: NG | B27: 502.62 | C27: 4280.67 | D27: 8.5 | E27: 61.09 | F27: 3.25 | G27: 9.97 | H27: NA | I27: 6.55 | J27: 26.65 | K27: NA | L27: 6.83 | M27: 8.93 | N27: 19.37 | O27: 22.37 | P27: 63.05 | Q27: 89.77 | R27: 6149.97 | S27: 35.87 | T27: 4.6 | U27: 777.32 | V27: 45.42 | W27: NA | X27: 75.57 | Y27: 32.04 | Z27: 2.55
A28: NG | B28: 113.04 | C28: 2025.25 | D28: 5.07 | E28: 175.73 | F28: 1.41 | G28: NA | H28: NA | I28: NA | J28: 37.85 | K28: 9.82 | L28: NA | M28: 6.13 | N28: 17.3 | O28: 21.07 | P28: 26.42 | Q28: 229.66 | R28: 2556.05 | S28: 134.01 | T28: 3.2 | U28: 536.93 | V28: 42.72 | W28: 36.12 | X28: 29.96 | Y28: 23.06 | Z28: 4.89
A29: NG | B29: 442.8 | C29: 2607.57 | D29: 3.78 | E29: 298.56 | F29: 3.48 | G29: NA | H29: NA | I29: 0.75 | J29: 43.81 | K29: 8.67 | L29: NA | M29: 7.53 | N29: 14.14 | O29: 26.33 | P29: 68.65 | Q29: 282.24 | R29: 8273.58 | S29: 100.01 | T29: 6.93 | U29: 765.89 | V29: 47.94 | W29: 31.57 | X29: 106.05 | Y29: 23.6 | Z29: 3.84
A30: NG | B30: 191.1 | C30: 429.24 | D30: 2.01 | E30: NA | F30: 0.5 | G30: NA | H30: NA | I30: 1.94 | J30: 3.91 | K30: NA | L30: NA | M30: NA | N30: 8.7 | O30: 3.15 | P30: 52.95 | Q30: 32.8 | R30: 2132.52 | S30: 35.87 | T30: NA | U30: 443 | V30: 13.83 | W30: NA | X30: 16 | Y30: 30.89 | Z30: 3.73
A31: NG | B31: 474.06 | C31: 922.24 | D31: 3.36 | E31: NA | F31: 0.72 | G31: NA | H31: NA | I31: 1.99 | J31: 4.32 | K31: NA | L31: 0.79 | M31: 3.83 | N31: 10.9 | O31: 3.56 | P31: 62.47 | Q31: 30.22 | R31: 4442.47 | S31: 34.59 | T31: 4.13 | U31: 569.43 | V31: NA | W31: NA | X31: 92.05 | Y31: 31.57 | Z31: 2.55
A32: Control | B32: 180.52 | C32: 290.06 | D32: 11.22 | E32: 173.28 | F32: 4.07 | G32: 6.98 | H32: 0.84 | I32: 5.52 | J32: 9.03 | K32: 5.02 | L32: 2.15 | M32: 4.52 | N32: 15.2 | O32: 6.1 | P32: 62.42 | Q32: 23.5 | R32: 3049.97 | S32: 48.41 | T32: 5.99 | U32: 731.48 | V32: 39.82 | W32: 22.48 | X32: 55.19 | Y32: 39.02 | Z32: 8.83
A33: Control | B33: 450.03 | C33: 308.62 | D33: 6.46 | E33: 255.16 | F33: 1.86 | G33: 4.87 | H33: 0.79 | I33: 3.43 | J33: 5.42 | K33: NA | L33: NA | M33: NA | N33: 5.36 | O33: 4.75 | P33: 69.76 | Q33: 12.93 | R33: 4342.67 | S33: 12.39 | T33: 8.33 | U33: 730.94 | V33: 6.5 | W33: NA | X33: 106.05 | Y33: 31.36 | Z33: 5.88
A34: Control | B34: 830.27 | C34: 321.67 | D34: 2.45 | E34: 356.03 | F34: 0.95 | G34: NA | H34: NA | I34: 1.43 | J34: 7.39 | K34: 2371.1 | L34: NA | M34: NA | N34: 18.34 | O34: 5.94 | P34: 87 | Q34: 23.6 | R34: 6778.12 | S34: 26.82 | T34: 5.99 | U34: 760.48 | V34: 24.37 | W34: 22.48 | X34: 60.72 | Y34: 24.77 | Z34: 2.67
A35: Control | B35: 654.17 | C35: 283.68 | D35: 2.2 | E35: 337.91 | F35: 3.02 | G35: NA | H35: NA | I35: NA | J35: 4.45 | K35: 1630.48 | L35: NA | M35: 4.98 | N35: 15.73 | O35: 5.16 | P35: 68.15 | Q35: 13.55 | R35: 6117.94 | S35: 18.3 | T35: NA | U35: 642.73 | V35: 18.16 | W35: 8 | X35: 95.74 | Y35: 20.91 | Z35: 0.81
A36: Control | B36: 561.5 | C36: 1604.25 | D36: 2.69 | E36: 38.37 | F36: 1.41 | G36: NA | H36: NA | I36: 5.57 | J36: 107.14 | K36: NA | L36: NA | M36: 7.53 | N36: 16.26 | O36: 3.2 | P36: 58.34 | Q36: 106.36 | R36: 5778.87 | S36: 56.8 | T36: 9.27 | U36: 455.82 | V36: 6.5 | W36: NA | X36: 115.44 | Y36: 16.69 | Z36: 2.03
A37: Control | B37: 109.32 | C37: 496.04 | D37: NA | E37: NA | F37: NA | G37: NA | H37: NA | I37: 3.07 | J37: 48.5 | K37: NA | L37: NA | M37: NA | N37: NA | O37: 1.79 | P37: 16.73 | Q37: 68.83 | R37: 2887.56 | S37: 13.7 | T37: 5.53 | U37: 215.32 | V37: 24.37 | W37: NA | X37: 55.19 | Y37: 13.14 | Z37: 0.81
A38: Control | B38: 613.79 | C38: 649.22 | D38: 7.26 | E38: 243.1 | F38: 2.79 | G38: 84.98 | H38: 3.09 | I38: 3.77 | J38: 8.5 | K38: NA | L38: NA | M38: 8.93 | N38: 39.31 | O38: 4.3 | P38: 69.9 | Q38: 77.64 | R38: 5305.27 | S38: 45.95 | T38: 24.44 | U38: 553.89 | V38: 211.32 | W38: 73.07 | X38: 156.26 | Y38: 32.71 | Z38: 7.45
A39: Control | B39: 324.44 | C39: 371.91 | D39: 7.14 | E39: 169.57 | F39: 0.95 | G39: 13.93 | H39: 1.55 | I39: 1.41 | J39: 4.29 | K39: NA | L39: NA | M39: 4.29 | N39: 20.39 | O39: 2.62 | P39: 42.48 | Q39: 39.7 | R39: 5160.91 | S39: 14.36 | T39: 10.45 | U39: 261.41 | V39: 99.59 | W39: 40.91 | X39: 92.05 | Y39: 19.64 | Z39: 2.55
A40: Control | B40: 429.77 | C40: 176.64 | D40: 0.51 | E40: 95.3 | F40: 0.5 | G40: NA | H40: NA | I40: 1.11 | J40: 9.55 | K40: 6.26 | L40: NA | M40: 4.75 | N40: 20.39 | O40: 2.53 | P40: 53.69 | Q40: 66.83 | R40: 6801.03 | S40: 57.97 | T40: 6.69 | U40: 559.1 | V40: NA | W40: NA | X40: 106.05 | Y40: 19.25 | Z40: 2.8
A41: Control | B41: 196.3 | C41: 112.21 | D41: NA | E41: 192.65 | F41: 0.95 | G41: NA | H41: NA | I41: 0.64 | J41: 7.53 | K41: 4.44 | L41: NA | M41: 4.29 | N41: 5.92 | O41: 2.13 | P41: 47.24 | Q41: 45.08 | R41: 3967.83 | S41: 9.76 | T41: 4.6 | U41: 490.31 | V41: NA | W41: NA | X41: 80 | Y41: 13.69 | Z41: 1.15
A42: Control | B42: 366.63 | C42: NA | D42: 8.72 | E42: 79.26 | F42: 2.32 | G42: 6.65 | H42: 1.28 | I42: 2.89 | J42: 76.28 | K42: 3.3 | L42: 3.35 | M42: 6.13 | N42: 25.91 | O42: 7.19 | P42: 69.91 | Q42: 66.54 | R42: 7048.2 | S42: 44.71 | T42: 6.69 | U42: 719.04 | V42: NA | W42: 41.56 | X42: 92.05 | Y42: 49.6 | Z42: 27.37
A43: Control | B43: 541.08 | C43: NA | D43: 5.31 | E43: 67.22 | F43: 1.29 | G43: 3.53 | H43: 0.79 | I43: 2.05 | J43: 54.43 | K43: NA | L43: NA | M43: NA | N43: 20.39 | O43: 5.95 | P43: 76.61 | Q43: 44.01 | R43: 6674.36 | S43: 22.89 | T43: 4.6 | U43: 769.52 | V43: NA | W43: 28.22 | X43: 75.57 | Y43: 38.35 | Z43: 24.38
A44: Control | B44: 165.25 | C44: 5508.1 | D44: 12.59 | E44: 28.01 | F44: 3.02 | G44: NA | H44: 0.89 | I44: NA | J44: 32.67 | K44: NA | L44: NA | M44: NA | N44: 9.26 | O44: 28.93 | P44: 35.78 | Q44: 140.41 | R44: 2747.22 | S44: 43.46 | T44: NA | U44: 496.97 | V44: 42.72 | W44: 42.83 | X44: 16 | Y44: 47.29 | Z44: 25.83
A45: Control | B45: 408.04 | C45: NA | D45: 9.89 | E45: 23.21 | F45: 2.44 | G45: 6.42 | H45: 0.69 | I45: NA | J45: 29.97 | K45: NA | L45: NA | M45: NA | N45: 13.07 | O45: 33.48 | P45: 70.35 | Q45: 141.15 | R45: 6023.44 | S45: 24.2 | T45: 4.6 | U45: 689.62 | V45: 41.3 | W45: 47.64 | X45: 95.74 | Y45: 42.48 | Z45: 24.26
A46: Control | B46: 583.36 | C46: NA | D46: 8.11 | E46: 88.81 | F46: 3.02 | G46: 8.2 | H46: 0.58 | I46: 1.43 | J46: 105.35 | K46: NA | L46: NA | M46: 2.92 | N46: 13.61 | O46: 36.52 | P46: 43.85 | Q46: 94.07 | R46: 2991.71 | S46: 95.98 | T46: 3.67 | U46: 263.16 | V46: 36.66 | W46: 25.48 | X46: 99.29 | Y46: 37.68 | Z46: 15.4
A47: Control | B47: 555.55 | C47: NA | D47: 3.42 | E47: 67.98 | F47: 3.02 | G47: 4.42 | H47: NA | I47: 0.77 | J47: 88.77 | K47: NA | L47: NA | M47: NA | N47: NA | O47: 32.99 | P47: 81.64 | Q47: 91.83 | R47: 3282.91 | S47: 62.57 | T47: 4.6 | U47: 279.81 | V47: 33.14 | W47: NA | X47: 60.72 | Y47: 35.03 | Z47: 15.82
A48: Control | B48: 502.59 | C48: 645.41 | D48: 7.94 | E48: 124.44 | F48: 2.09 | G48: 4.31 | H48: NA | I48: 3.78 | J48: 3.25 | K48: NA | L48: NA | M48: 5.21 | N48: 25.42 | O48: 8.46 | P48: 76.02 | Q48: 44.4 | R48: 5994.05 | S48: 38.42 | T48: 5.29 | U48: 456.31 | V48: 16.16 | W48: 36.83 | X48: 115.44 | Y48: 28.81 | Z48: 6.73
A49: Control | B49: 304.27 | C49: 584.97 | D49: 8.05 | E49: 178.18 | F49: 1.63 | G49: 3.31 | H49: NA | I49: 2.71 | J49: 2.51 | K49: NA | L49: 0.79 | M49: 3.37 | N49: 13.07 | O49: 8.41 | P49: 61.28 | Q49: 35.97 | R49: 4411.48 | S49: 22.89 | T49: 5.06 | U49: 577.18 | V49: 21.53 | W49: 36.12 | X49: 84.21 | Y49: 29.56 | Z49: 6.07
A50: Control | B50: 251.25 | C50: 1527.17 | D50: 3.06 | E50: 323.98 | F50: 2.32 | G50: 3.87 | H50: NA | I50: NA | J50: 45.64 | K50: NA | L50: 1.09 | M50: NA | N50: 12.53 | O50: 15.97 | P50: 36.78 | Q50: 98.74 | R50: 4864.28 | S50: 52.05 | T50: 7.86 | U50: 419.54 | V50: NA | W50: NA | X50: 84.21 | Y50: 43.76 | Z50: 9.17
A51: Control | B51: 306.1 | C51: 1380.72 | D51: 3.18 | E51: 445.08 | F51: 1.18 | G51: 3.76 | H51: NA | I51: NA | J51: 40.96 | K51: NA | L51: NA | M51: NA | N51: 16.26 | O51: 15.85 | P51: 41.77 | Q51: 83.95 | R51: 7356.48 | S51: 32.66 | T51: 6.93 | U51: 452.37 | V51: NA | W51: 5.17 | X51: 149.47 | Y51: 27.27 | Z51: 7.98
A52: Control | B52: 218.61 | C52: 4418.69 | D52: NA | E52: 64.16 | F52: NA | G52: NA | H52: 0.79 | I52: 0.64 | J52: 56.59 | K52: 47.11 | L52: NA | M52: NA | N52: 16.26 | O52: 18.89 | P52: 42.36 | Q52: 158.44 | R52: 2325.5 | S52: 27.47 | T52: 8.8 | U52: 538.38 | V52: 23 | W52: 45.29 | X52: 43.16 | Y52: 26.43 | Z52: 3.73
A53: Control | B53: 281.63 | C53: 1450.86 | D53: NA | E53: 45.49 | F53: NA | G53: NA | H53: 0.84 | I53: NA | J53: 41.86 | K53: 31.59 | L53: NA | M53: NA | N53: 14.14 | O53: 13.14 | P53: 30.29 | Q53: 117.83 | R53: 3264.74 | S53: 9.76 | T53: 3.67 | U53: 310.36 | V53: 26.88 | W53: 5.17 | X53: 36.69 | Y53: 19.9 | Z53: 2.3
A54: Control | B54: 620.03 | C54: 403.03 | D54: 3.6 | E54: 339.89 | F54: NA | G54: NA | H54: NA | I54: 1.19 | J54: 20 | K54: NA | L54: NA | M54: 10.33 | N54: 21.41 | O54: 8.46 | P54: 67.79 | Q54: 81.13 | R54: 4744.89 | S54: 42.21 | T54: 5.06 | U54: 940.1 | V54: NA | W54: 56.27 | X54: 139.89 | Y54: 41.28 | Z54: 9.99
A55: Control | B55: 270.96 | C55: 961.41 | D55: 2.14 | E55: 252.98 | F55: 1.41 | G55: NA | H55: NA | I55: 1.21 | J55: 16.58 | K55: NA | L55: NA | M55: 7.06 | N55: 27.39 | O55: 8.04 | P55: 70.88 | Q55: 68.64 | R55: 5443.08 | S55: 33.3 | T55: 7.86 | U55: 403.26 | V55: NA | W55: 47.06 | X55: 154.03 | Y55: 39.49 | Z55: 7.09
A56: Control | B56: 259.93 | C56: 255.88 | D56: 5.54 | E56: 42.33 | F56: 1.86 | G56: NA | H56: NA | I56: 2.5 | J56: 2.65 | K56: 136.75 | L56: 13.58 | M56: NA | N56: NA | O56: 16.24 | P56: 21.64 | Q56: 35.27 | R56: 1917.34 | S56: NA | T56: 3.2 | U56: 486.56 | V56: NA | W56: NA | X56: NA | Y56: 34.73 | Z56: 6.54
A57: Control | B57: 376.99 | C57: 402.74 | D57: 3.3 | E57: 82.96 | F57: NA | G57: NA | H57: NA | I57: 2.24 | J57: 1.85 | K57: 237.22 | L57: 10.34 | M57: 3.37 | N57: 5.36 | O57: 14.77 | P57: 55.94 | Q57: 27.02 | R57: 7454.57 | S57: NA | T57: 9.27 | U57: 517.89 | V57: 18.16 | W57: NA | X57: 70.9 | Y57: 30.52 | Z57: 4.79

Sheet All_Mouse_Weights
A1: Pup Number | B1: Week 1,1 | C1: Week 1,2 | D1: Week 1,3 | E1: Week 2,1 | F1: Week 2,2 | G1: Week 2,3 | H1: Week 3,1 | I1: Week 3,2 | J1: Week 3,3 | K1: Week 4,1 | L1: Week 4,2 | M1: Week 4,3 | N1: Week 5,1 | O1: Week 5,2 | P1: Week 5,3 | Q1: Week 6,1 | R1: Week 6,2 | S1: Week 6,3 | T1: Week 7,1 | U1: Week 7,2 | V1: Week 7,3 | W1: Week 8,1 | X1: Week 8,2 | Y1: Week 8,3 | Z1: Week 9,1 | AA1: Week 9,2 | AB1: Week 9,3 | AC1: Week 10,1 | AD1: Week 10,2 | AE1: Week 10,3 | AF1: Week 11,1 | AG1: Week 11,2 | AH1: Week 11,3 | AI1: Week 12,1 | AJ1: Week 12,2 | AK1: Week 12,3 | AL1: Week 13,1 | AM1: Week 13,2 | AN1: Week 13,3 | AO1: Week 14,1 | AP1: Week 14,2 | AQ1: Week 14,3 | AR1: Week 15,1 | AS1: Week 15,2 | AT1: Week 15,3 | AU1: Week 16,1 | AV1: Week 16,2 | AW1: Week 16,3 | AX1: Week 17,1 | AY1: Week 17,2 | AZ1: Week 17,3 | BA1: Week 18,1 | BB1: Week 18,2 | BC1: Week 18,3 | BD1: Week 19,1 | BE1: Week 19,2 | BF1: Week 19,3 | BG1: Week 20,1 | BH1: Week 20,2 | BI1: Week 20,3 | BJ1: Week 21,1 | BK1: Week 21,2 | BL1: Week 21,3 | BM1: Week 22,1 | BN1: Week 22,2 | BO1: Week 22,3 | BP1: Week 23,1 | BQ1: Week 23,2 | BR1: Week 23,3 | BS1: Week 24,1 | BT1: Week 24,2 | BU1: Week 24,3
A2: P4_1 | E2: 7.5 | F2: 9 | G2: 9.1 | H2: 11.2 | I2: 10.9 | J2: 10.8 | K2: 13.1 | L2: 13 | M2: 13.1 | N2: 16.9 | O2: 17.7 | P2: 18.1 | Q2: 18.4 | R2: 18.7 | S2: 18.5 | T2: 17.1 | U2: 16.9 | V2: 17 | W2: 19.8 | X2: 20.3 | Y2: 17.3 | Z2: 18 | AA2: 20.8 | AB2: 20.9 | AC2: 18.6 | AD2: 18.8 | AE2: 19 | AF2: 18.9 | AG2: 21.9 | AH2: 19.5 | AI2: 22.2 | AJ2: 19.4 | AL2: 19.9 | AM2: 22.6 | AN2: 20.1 | AO2: 22.2 | AP2: 20.3 | AQ2: 20.4 | AR2: 20 | AS2: 23.1 | AT2: 20 | AU2: 19.6 | AV2: 20.1 | AW2: 23.1 | AX2: 23.6 | AY2: 24.1 | AZ2: 24 | BA2: 21.4 | BB2: 23.8 | BC2: 21.3 | BD2: 21.3 | BE2: 24.3 | BF2: 23.8 | BG2: 20.9 | BH2: 21.8 | BI2: 21.6 | BJ2: 21.6 | BK2: 21.5 | BM2: 24.9 | BN2: 22.3 | BO2: 22 | BP2: 25.8 | BQ2: 22.1 | BS2: 22 | BT2: 24 | BU2: 22.1
A3: P4_2 | E3: 7.8 | F3: 8 | G3: 8.6 | H3: 11.1 | I3: 10.3 | J3: 9.8 | K3: 12.5 | L3: 13.8 | M3: 14.3 | N3: 15.7 | O3: 16.2 | P3: 16.8 | Q3: 16.9 | R3: 16.8 | S3: 17 | T3: 19.9 | U3: 19.8 | V3: 19.8 | W3: 17.1 | X3: 17.3 | Y3: 20.1 | Z3: 20.8 | AA3: 18.2 | AB3: 18.3 | AC3: 21 | AD3: 21 | AE3: 21.3 | AF3: 21.3 | AG3: 19.3 | AH3: 22.3 | AI3: 19.4 | AJ3: 22.3 | AL3: 21.8 | AM3: 20.5 | AN3: 22.2 | AO3: 19.4 | AP3: 22.6 | AQ3: 23.3 | AR3: 24.7 | AS3: 20 | AT3: 23.2 | AU3: 23.7 | AV3: 26.4 | AW3: 20.5 | AX3: 20.6 | AY3: 21.4 | AZ3: 21.1 | BA3: 24.1 | BB3: 21.3 | BC3: 23.6 | BD3: 23.5 | BE3: 21.7 | BF3: 21.5 | BG3: 24.2 | BH3: 24.5 | BI3: 25 | BJ3: 25.3 | BK3: 25.9 | BM3: 21.6 | BN3: 25.6 | BO3: 25 | BP3: 22.5 | BQ3: 25.8 | BS3: 24 | BT3: 22.6 | BU3: 23.7
A4: P4_3 | E4: 8.6 | F4: 8.3 | G4: 8.5 | H4: 9.5 | I4: 10.8 | J4: 11.3 | K4: 13 | L4: 14.5 | M4: 14.8 | N4: 17.2 | O4: 17.9 | P4: 19.4 | Q4: 20.1 | R4: 20.7 | S4: 20.2 | T4: 20.7 | U4: 20.8 | V4: 21 | W4: 20.7 | X4: 21.8 | Y4: 22.3 | Z4: 22.8 | AA4: 22.6 | AB4: 22.6 | AC4: 22.9 | AD4: 23.8 | AE4: 23.2 | AF4: 23.2 | AG4: 23.4 | AH4: 23.2 | AI4: 25.8 | AJ4: 23.4 | AL4: 23.5 | AM4: 24.3 | AN4: 24.4 | AO4: 23.8 | AP4: 26.3 | AQ4: 25.4 | AR4: 25.8 | AS4: 26.8 | AT4: 24.7 | AU4: 25.3 | AV4: 25.3 | AW4: 25.6 | AX4: 25.8 | AY4: 26.5 | AZ4: 26 | BA4: 26.2 | BB4: 27 | BC4: 26.6 | BD4: 25.8 | BE4: 26.4 | BF4: 26.8 | BG4: 25.9 | BH4: 26.9 | BI4: 27.5 | BJ4: 26.8 | BK4: 26.8 | BM4: 26.9 | BN4: 27.6 | BO4: 27.3 | BP4: 27.6 | BQ4: 27.9 | BS4: 24 | BT4: 27.2 | BU4: 27.2
A5: P4_4 | E5: 8.6 | F5: 8.3 | G5: 8.4 | H5: 11 | I5: 10.8 | J5: 10.7 | K5: 13.6 | L5: 13.2 | M5: 16 | N5: 17.2 | O5: 17.8 | P5: 18.7 | Q5: 19.4 | R5: 19.7 | S5: 19.9 | T5: 20.4 | U5: 21.4 | V5: 21.6 | W5: 22.3 | X5: 20.9 | Y5: 21.5 | Z5: 22.4 | AA5: 22.9 | AB5: 22.8 | AC5: 23.1 | AD5: 22.9 | AE5: 24.1 | AF5: 24 | AG5: 24.9 | AH5: 24.5 | AI5: 24.8 | AJ5: 24.3 | AL5: 25 | AM5: 25.7 | AN5: 24.5 | AO5: 25.2 | AP5: 24.6 | AQ5: 26.5 | AR5: 24.1 | AS5: 25.4 | AT5: 25.5 | AU5: 25 | AV5: 25.4 | AW5: 25.6 | AX5: 26.8 | AY5: 26 | AZ5: 27.3 | BA5: 25.9 | BB5: 26.4 | BC5: 26.2 | BD5: 26.3 | BE5: 26.1 | BF5: 25.9 | BG5: 26.4 | BH5: 26.8 | BI5: 26.2 | BJ5: 27.5 | BK5: 27.3 | BM5: 26.2 | BN5: 27.9 | BO5: 27.7 | BP5: 27.9 | BQ5: 27.1 | BS5: 26.1 | BT5: 25 | BU5: 24.8
A6: P4_5 | E6: 7.9 | F6: 9.2 | G6: 9.5 | H6: 11.1 | I6: 9.4 | J6: 10.7 | K6: 14.5 | L6: 14.9 | M6: 14.7 | N6: 18.2 | O6: 19 | P6: 18.8 | Q6: 19.5 | R6: 20 | S6: 20.7 | T6: 20.4 | U6: 21.3 | V6: 20.4 | W6: 21.7 | X6: 21.7 | Y6: 22 | Z6: 22.5 | AA6: 23.3 | AB6: 23.4 | AC6: 23.8 | AD6: 22.8 | AE6: 23.6 | AF6: 23 | AG6: 23.9 | AH6: 23.6 | AI6: 23.8 | AJ6: 25 | AL6: 23.9 | AM6: 24.6 | AN6: 25.6 | AO6: 24.1 | AP6: 25.8 | AQ6: 24.9 | AR6: 21.2 | AS6: 26 | AT6: 25.8 | AU6: 25.2 | AV6: 21.7 | AW6: 26.3 | AX6: 25.8 | AY6: 27 | AZ6: 26.4 | BA6: 26.6 | BB6: 21 | BC6: 25.8 | BD6: 26.3 | BE6: 27.3 | BF6: 26.5 | BG6: 26.8 | BH6: 28.1 | BI6: 26.9 | BJ6: 26.8 | BK6: 26.9 | BM6: 26.1 | BN6: 26.6 | BO6: 26.8 | BP6: 27.6 | BQ6: 27.5 | BS6: 26.7 | BT6: 26.5 | BU6: 25.9
A7: P6_1 | E7: 3.7 | F7: 6.5 | G7: 7.3 | H7: 8.1 | I7: 9 | J7: 8.4 | K7: 7.8 | L7: 10.3 | M7: 11.8 | N7: 11.9 | O7: 12.7 | P7: 13.4 | Q7: 15.5 | R7: 16.4 | S7: 16 | T7: 16.9 | U7: 16.8 | V7: 20.3 | W7: 19.8 | X7: 22.3 | Y7: 20.9 | Z7: 21.1 | AA7: 22 | AB7: 22.4 | AC7: 22.7 | AD7: 20.7 | AE7: 20.6 | AF7: 20.9 | AG7: 20.9 | AH7: 21 | AI7: 21.4 | AJ7: 24.4 | AK7: 21.6 | AL7: 23.7 | AM7: 18.8 | AN7: 21.9 | AO7: 23 | AP7: 23.4 | AQ7: 21.9 | AR7: 22.2 | AS7: 22 | AU7: 22.3 | AV7: 25.3 | AW7: 22.4 | AX7: 19.6 | AY7: 21.5 | AZ7: 21.5 | BA7: 20.4 | BB7: 21.8 | BC7: 21.4 | BD7: 21.5 | BE7: 21.7 | BF7: 21.1 | BG7: 21.1 | BH7: 22.3 | BI7: 22.1 | BJ7: 21 | BK7: 21 | BL7: 21.3 | BM7: 20.7 | BN7: 22.8 | BO7: 22.6 | BP7: 22 | BQ7: 22.7 | BR7: 21.2 | BS7: 21.4 | BT7: 21.1
A8: P6_2 | E8: 5.6 | F8: 6.6 | G8: 7.8 | H8: 8.7 | I8: 7.9 | J8: 9.2 | K8: 10.6 | L8: 8.2 | M8: 10.6 | N8: 12 | O8: 13 | P8: 13.6 | Q8: 15.8 | R8: 18.5 | S8: 16.6 | T8: 18.7 | U8: 18.8 | V8: 19.1 | W8: 17.9 | X8: 20.6 | Y8: 18.7 | Z8: 18.7 | AA8: 21.6 | AB8: 19.3 | AC8: 20.3 | AD8: 22.9 | AE8: 23 | AF8: 22.8 | AG8: 23.3 | AH8: 22.7 | AI8: 21.4 | AJ8: 21.8 | AK8: 20.4 | AL8: 18 | AM8: 21.5 | AN8: 24.5 | AO8: 23 | AP8: 25.5 | AQ8: 24 | AR8: 25.1 | AS8: 24.6 | AU8: 24.8 | AV8: 22.6 | AW8: 25.3 | AX8: 19.6 | AY8: 20.6 | AZ8: 20.8 | BA8: 24.7 | BB8: 21.4 | BC8: 22.2 | BD8: 21.1 | BE8: 21.2 | BF8: 21.4 | BG8: 20.8 | BH8: 20.8 | BI8: 20.9 | BJ8: 22.3 | BK8: 22.6 | BL8: 22.1 | BM8: 21.2 | BN8: 21.4 | BO8: 24.1 | BP8: 20.8 | BQ8: 21.6 | BR8: 22.5 | BS8: 21.9 | BT8: 21.8
A9: P6_3 | E9: 5.5 | F9: 6.8 | G9: 7.5 | H9: 8.2 | I9: 8.2 | J9: 7.9 | K9: 9.6 | L9: 8.9 | M9: 9.1 | N9: 14.5 | O9: 15.3 | P9: 15.9 | Q9: 18.4 | R9: 16 | S9: 18.7 | T9: 19.9 | U9: 19.7 | V9: 17.1 | W9: 21.5 | X9: 18.4 | Y9: 22.3 | Z9: 21.7 | AA9: 19.2 | AB9: 21.6 | AC9: 22.4 | AD9: 22.9 | AE9: 22.6 | AF9: 23.1 | AG9: 22.7 | AH9: 23.7 | AI9: 23.4 | AJ9: 21 | AK9: 24.2 | AL9: 21.1 | AM9: 23.9 | AN9: 18.6 | AO9: 24.7 | AP9: 22.6 | AQ9: 25.2
A10: P7_1 | B10: 8.4 | C10: 8.2 | E10: 9.3 | F10: 9.7 | G10: 10 | H10: 15.7 | I10: 14.4 | J10: 18.8 | K10: 17.7 | M10: 22.8 | N10: 23.2 | O10: 22 | Q10: 24.8 | R10: 22.7 | S10: 24.4 | T10: 24.7 | U10: 23.2 | W10: 24.4 | X10: 23.8 | Y10: 26.1 | Z10: 26.9 | AB10: 24.6 | AC10: 25.9 | AE10: 28.6 | AF10: 25.1 | AG10: 26.7 | AH10: 25.9 | AI10: 29.3 | AJ10: 27.3 | AL10: 30.1 | AM10: 25.4 | AN10: 29.7 | AO10: 27.5 | AP10: 31.6 | AQ10: 31.6 | AR10: 28 | AS10: 30.8 | AT10: 29.8 | AU10: 27.1 | AV10: 30.9 | AW10: 32 | AX10: 31.2 | AY10: 29.4 | AZ10: 28.9 | BA10: 32.2 | BB10: 31.4 | BD10: 32.3 | BE10: 27.3 | BF10: 28.2 | BG10: 30.1 | BH10: 29.8 | BI10: 28.9 | BJ10: 28.9 | BK10: 32.4 | BL10: 30.6 | BM10: 29.7 | BN10: 33 | BO10: 31.7 | BP10: 30.1 | BQ10: 27.9 | BR10: 28.1 | BS10: 27.1 | BT10: 30.3 | BU10: 31
A11: P7_2 | B11: 8.2 | C11: 8 | E11: 7.4 | F11: 8.1 | G11: 9.6 | H11: 15.4 | I11: 15.4 | J11: 18.4 | K11: 20.8 | M11: 21.9 | N11: 21.3 | O11: 23.4 | Q11: 23 | R11: 22.8 | S11: 24.1 | T11: 23.9 | U11: 23.4 | W11: 25.6 | X11: 26 | Y11: 24.3 | Z11: 26.8 | AB11: 25.7 | AC11: 25 | AE11: 28.2 | AF11: 25.2 | AG11: 29.5 | AH11: 26.4 | AI11: 29.2 | AJ11: 29.8 | AL11: 28.3 | AM11: 29 | AN11: 27.6 | AO11: 31 | AP11: 31.1 | AQ11: 30.5 | AR11: 27.3 | AS11: 27.7 | AT11: 26.8 | AU11: 29.2 | AV11: 26.7 | AW11: 31.9 | AX11: 27.3 | AY11: 31.4 | AZ11: 30 | BA11: 27.4 | BB11: 32.4 | BD11: 29.5 | BE11: 32.1 | BF11: 26.7 | BG11: 27 | BH11: 32 | BI11: 31.2 | BJ11: 28 | BK11: 32.9 | BL11: 30.8 | BM11: 31.3 | BN11: 28.5 | BO11: 29.2 | BP11: 28.1 | BQ11: 30.6 | BR11: 31.3 | BS11: 30.5 | BT11: 27.3 | BU11: 33.9
A12: P7_3 | B12: 7.8 | C12: 7.3 | E12: 8.2 | F12: 9 | G12: 8.5 | H12: 13.6 | I12: 15.8 | J12: 16.1 | K12: 19.9 | M12: 21.3 | N12: 22.4 | O12: 22.3 | Q12: 25.1 | R12: 22.2 | S12: 23.6 | T12: 23.8 | U12: 22.4 | W12: 23.9 | X12: 24.1 | Y12: 24 | Z12: 25.4 | AB12: 24.9 | AC12: 24.7 | AE12: 25.6 | AF12: 26.5 | AG12: 27.6 | AH12: 28.4 | AI12: 26.9 | AJ12: 26 | AL12: 29.4 | AM12: 26.6 | AN12: 25.8 | AO12: 29.3 | AP12: 28.4 | AQ12: 28.5 | AR12: 25.9 | AS12: 30.3 | AT12: 27.9 | AU12: 27.1 | AV12: 31.7 | AW12: 27.3 | AX12: 32 | AY12: 32.2 | AZ12: 26.5 | BA12: 28.7 | BB12: 29.2 | BD12: 32.1 | BE12: 31.4 | BF12: 29.4 | BG12: 28.8 | BH12: 27.4 | BI12: 30.9 | BJ12: 29.9 | BK12: 28.1 | BL12: 28 | BM12: 29 | BN12: 32.6 | BO12: 28.1 | BP12: 29.4 | BQ12: 29.3 | BR12: 29.8 | BS12: 28.9 | BT12: 28.8 | BU12: 29.5
A13: P7_4 | B13: 7.9 | C13: 7.7 | E13: 8.8 | F13: 8.8 | G13: 10.7 | H13: 15.2 | I13: 16.2 | J13: 17.5 | K13: 20.6 | M13: 20.6 | N13: 21.7 | O13: 21.5 | Q13: 23.6 | R13: 22.5 | S13: 23.3 | T13: 25.1 | U13: 21.3 | W13: 24.6 | X13: 27.1 | Y13: 26.1 | Z13: 25.5 | AB13: 26.9 | AC13: 23.2 | AE13: 26.3 | AF13: 25.9 | AG13: 29.1 | AH13: 28.8 | AI13: 25.4 | AJ13: 29.3 | AL13: 26.8 | AM13: 29 | AN13: 30 | AO13: 26.2 | AP13: 27.3 | AQ13: 27.2 | AR13: 29 | AS13: 26.3 | AT13: 27.3 | AU13: 26.2 | AV13: 29.5 | AW13: 29 | AX13: 29 | AY13: 26.8 | AZ13: 28.2 | BA13: 32 | BB13: 27.6 | BD13: 27.8 | BE13: 29 | BF13: 28.8 | BG13: 30.7 | BH13: 31.6 | BI13: 26.7 | BJ13: 26.9 | BK13: 29.6 | BL13: 29.2 | BM13: 27.9 | BN13: 30.7 | BO13: 28.1
A14: P7_2_1 | B14: 3.3 | E14: 4.8 | F14: 5.9 | H14: 8.7 | I14: 8.9 | J14: 8.7 | K14: 11.9 | L14: 10.7 | N14: 16.4 | O14: 16 | P14: 16.3 | Q14: 17.7 | S14: 16.7 | T14: 18.2 | V14: 18.7 | W14: 19.1 | X14: 19.8 | Y14: 19.2 | Z14: 19.5 | AA14: 19.1 | AC14: 20.2 | AD14: 20 | AE14: 20.6 | AF14: 20.5 | AG14: 20.5 | AH14: 20.4 | AI14: 20.4 | AJ14: 20.6 | AK14: 20.2 | AL14: 20.6 | AM14: 20.5 | AN14: 20.8 | AO14: 21.7 | AP14: 21.6 | AQ14: 21.9 | AR14: 22.3 | AS14: 22.1 | AT14: 22.1 | AU14: 22.2 | AV14: 22.2 | AW14: 22.3 | AX14: 22.1 | AY14: 22.5 | AZ14: 22.3 | BA14: 22.1 | BB14: 22.6 | BC14: 22.6 | BD14: 22.7 | BE14: 22.6 | BF14: 22.9 | BG14: 22.4 | BH14: 22.7 | BI14: 22.9 | BJ14: 22.9 | BK14: 22.9 | BL14: 22.9 | BM14: 22.6 | BN14: 22.6 | BO14: 26.1 | BP14: 22.9 | BQ14: 23 | BR14: 23.3 | BS14: 27.7
A15: P7_2_2 | B15: 3 | E15: 6.2 | F15: 5.1 | H15: 8.1 | I15: 8.4 | J15: 9.8 | K15: 14.7 | L15: 12.2 | N15: 17.1 | O15: 16 | P15: 18.3 | Q15: 19.9 | S15: 18.3 | T15: 20.3 | V15: 20.4 | W15: 20.8 | X15: 22.3 | Y15: 20.2 | Z15: 20.7 | AA15: 20.6 | AC15: 22.5 | AD15: 20.9 | AE15: 21.4 | AF15: 20.2 | AG15: 20.7 | AH15: 22.3 | AI15: 22.9 | AJ15: 23.8 | AK15: 22 | AL15: 21.9 | AM15: 23.2 | AN15: 23.9 | AO15: 23 | AP15: 23.5 | AQ15: 23.6 | AR15: 23.2 | AS15: 24.1 | AT15: 24.2 | AU15: 24.6 | AV15: 24.2 | AW15: 23.6 | AX15: 24 | AY15: 24.3 | AZ15: 24.7 | BA15: 23.8 | BB15: 24.8 | BC15: 24.8 | BD15: 24.3 | BE15: 24.9 | BF15: 24.9 | BG15: 24.3 | BH15: 25.2 | BI15: 25.1 | BJ15: 24.8 | BK15: 25 | BL15: 25.4 | BM15: 25.1 | BN15: 26.1 | BO15: 25.6 | BP15: 25.3 | BQ15: 25.5 | BR15: 26.1 | BS15: 26.2
A16: P7_2_3 | B16: 4.2 | E16: 6 | F16: 6 | H16: 8.4 | I16: 8.5 | J16: 10.1 | K16: 14 | L16: 14.1 | N16: 17.7 | O16: 18.5 | P16: 16.9 | Q16: 18.7 | S16: 17.3 | T16: 18.9 | V16: 20 | W16: 20.1 | X16: 21.2 | Y16: 20 | Z16: 21.7 | AA16: 20.7 | AC16: 21.4 | AD16: 20.8 | AE16: 23 | AF16: 22.2 | AG16: 22.5 | AH16: 23.1 | AI16: 21.8 | AJ16: 22.3 | AK16: 22.3 | AL16: 23 | AM16: 22.5 | AN16: 23.3 | AO16: 23.8 | AP16: 23.3 | AQ16: 23.5 | AR16: 23.6 | AS16: 23.9 | AT16: 24 | AU16: 24.5 | AV16: 24.9 | AW16: 23.7 | AX16: 24.6 | AY16: 24.7 | AZ16: 24.5 | BA16: 24.1 | BB16: 24.6 | BC16: 25.6 | BD16: 23.9 | BE16: 25.2 | BF16: 24.7 | BG16: 25 | BH16: 24.9 | BI16: 24.7 | BJ16: 24.6 | BK16: 25.5 | BL16: 27.5 | BM16: 25.2 | BN16: 25.9 | BO16: 25.9 | BP16: 25.4 | BQ16: 25.8 | BR16: 26.1 | BS16: 26.1
A17: P7_2_4 | B17: 4.1 | E17: 6.2 | F17: 6.5 | H17: 9 | I17: 8.4 | J17: 9.9 | K17: 10.2 | L17: 9.1 | N17: 15.3 | O17: 17.3 | P17: 15.7 | Q17: 17.7 | S17: 18.5 | T17: 17.2 | V17: 20 | W17: 19.5 | X17: 17 | Y17: 20.8 | Z17: 21.2 | AA17: 21.5 | AC17: 21.7 | AD17: 22.6 | AE17: 22.1 | AF17: 22.4 | AG17: 23.5 | AH17: 23.1 | AI17: 22.6 | AJ17: 22.6 | AK17: 22.2 | AL17: 22.6 | AM17: 23.6 | AN17: 23.1 | AO17: 23.6 | AP17: 23.3 | AQ17: 22.9 | AR17: 24.1 | AS17: 24.8 | AT17: 23.5 | AU17: 24.5 | AV17: 24.3 | AW17: 23.8 | AX17: 24.3 | AY17: 24.4 | AZ17: 24.2 | BA17: 24 | BB17: 24.9 | BC17: 24.5 | BD17: 24.3 | BE17: 25 | BF17: 24.9 | BG17: 24.4 | BH17: 25.5 | BI17: 25.4 | BJ17: 25 | BK17: 25.6 | BL17: 25.5 | BM17: 25.1 | BN17: 26.1 | BO17: 26.1 | BP17: 25.2 | BQ17: 25.7 | BR17: 26 | BS17: 26.7
A18: P7_2_5 | B18: 4.5 | E18: 6.1 | F18: 6.1 | H18: 6.7 | I18: 9.4 | J18: 9.6 | K18: 12.2 | L18: 14.9 | N18: 18.1 | O18: 15.5 | P18: 16.7 | Q18: 18.7 | S18: 18.6 | T18: 18.2 | V18: 21.1 | W18: 19.8 | X18: 21.3 | Y18: 19.9 | Z18: 22.6 | AA18: 22.3 | AC18: 22.1 | AD18: 20.7 | AE18: 21.7 | AF18: 21.9 | AG18: 22.6 | AH18: 20.8 | AI18: 23.5 | AJ18: 23.3 | AK18: 20.7 | AL18: 23.4 | AM18: 24 | AN18: 24.4 | AO18: 24.5 | AP18: 24.2 | AQ18: 23.3 | AR18: 23.7 | AS18: 24.2 | AT18: 23.9 | AU18: 24.4 | AV18: 24.2 | AW18: 23.7 | AX18: 24.1 | AY18: 24.5 | AZ18: 24.3 | BA18: 23.6 | BB18: 25.1 | BC18: 24.3 | BD18: 24.2 | BE18: 24.8 | BF18: 25.3 | BG18: 24.7 | BH18: 25.7 | BI18: 24.9 | BJ18: 25.3 | BK18: 25 | BL18: 25.2 | BM18: 24.8 | BN18: 26.2 | BO18: 28.3 | BP18: 25.2 | BQ18: 25.5 | BR18: 26.1 | BS18: 26.8
A19: P7_2_6 | B19: 4 | E19: 6 | F19: 6.3 | H19: 8.5 | I19: 7.3 | J19: 9 | K19: 13 | L19: 13.3 | N19: 16.5 | O19: 17.4 | P19: 16.7 | Q19: 18.1 | S19: 18.9 | T19: 17.9 | V19: 19.9 | W19: 20.1 | X19: 22 | Y19: 21.6 | Z19: 22.1 | AA19: 22.2 | AC19: 22.8 | AD19: 22.9 | AE19: 21.6 | AF19: 23.2 | AG19: 24.2 | AH19: 24.2 | AI19: 22.3 | AJ19: 22.7 | AK19: 21.9 | AL19: 25.4 | AM19: 22 | AN19: 25.4 | AO19: 22.9 | AP19: 26 | AQ19: 25.9 | AR19: 26.1 | AS19: 25.9 | AT19: 26.5 | AU19: 25.9 | AV19: 26.6 | AW19: 26 | AX19: 23.2 | AY19: 27.2 | AZ19: 25.8 | BA19: 23.3 | BB19: 23.8 | BC19: 27.9 | BD19: 26.8 | BE19: 27.7 | BF19: 23.8 | BG19: 27.3 | BH19: 24.2 | BI19: 24 | BJ19: 28.4 | BK19: 26.8 | BL19: 28.8 | BM19: 24.1 | BN19: 24.2 | BO19: 24.2 | BP19: 26.9 | BQ19: 28.6 | BR19: 28.6 | BS19: 24.5
A20: P7_2_7 | B20: 4.2 | E20: 5 | F20: 5.2 | H20: 8.1 | I20: 9.9 | J20: 7.4 | K20: 11.6 | L20: 11.4 | N20: 19 | O20: 18.7 | P20: 16.9 | Q20: 20 | S20: 20.3 | T20: 17 | V20: 19.9 | W20: 20.7 | X20: 22.9 | Y20: 23.1 | Z20: 22.2 | AA20: 22.1 | AC20: 23.8 | AD20: 22.3 | AE20: 24.1 | AF20: 22.1 | AG20: 23.5 | AH20: 23.5 | AI20: 23.7 | AJ20: 25.2 | AK20: 23.4 | AL20: 22.5 | AM20: 23.9 | AN20: 24.4 | AO20: 24.8 | AP20: 24.8 | AQ20: 24.6 | AR20: 25.1 | AS20: 23.9 | AT20: 25.4 | AU20: 26.5 | AV20: 26.1 | AW20: 22.8 | AX20: 26 | AY20: 26.2 | AZ20: 27 | BA20: 26.6 | BB20: 27.1 | BC20: 27.1 | BD20: 22.9 | BE20: 27 | BF20: 27.5 | BG20: 25.9 | BH20: 28.3 | BI20: 28.6 | BJ20: 23.8 | BK20: 23.9 | BL20: 24.2 | BM20: 27 | BN20: 27.4 | BO20: 27.4 | BP20: 28 | BQ20: 24.2 | BR20: 24 | BS20: 28.8
A21: P7_2_8 | B21: 4.1 | E21: 6.5 | F21: 6.4 | H21: 7.7 | I21: 8.5 | J21: 9 | K21: 12.4 | L21: 11.4 | N21: 18.3 | O21: 17.6 | P21: 18.4 | Q21: 18.8 | S21: 17.1 | T21: 18.4 | V21: 21.2 | W21: 20.2 | X21: 21.8 | Y21: 21.4 | Z21: 21.2 | AA21: 21.7 | AC21: 222 | AD21: 20.9 | AE21: 22.8 | AF21: 21.8 | AG21: 23 | AH21: 22.6 | AI21: 24.7 | AJ21: 24.2 | AK21: 24.4 | AL21: 24.4 | AM21: 24.6 | AN21: 22.4 | AO21: 25.6 | AP21: 23 | AQ21: 22.6 | AR21: 23 | AS21: 26.7 | AT21: 23.5 | AU21: 23.4 | AV21: 23.3 | AW21: 25.1 | AX21: 26.9 | AY21: 23.4 | AZ21: 22.9 | BA21: 25.7 | BB21: 27.7 | BC21: 23.7 | BD21: 25.9 | BE21: 23.9 | BF21: 27 | BG21: 23.5 | BH21: 27.5 | BI21: 27.7 | BJ21: 26.4 | BK21: 28.3 | BL21: 19.2 | BM21: 28 | BN21: 29 | BO21: 22.8 | BP21: 24.1 | BQ21: 27.5 | BR21: 28.3 | BS21: 27.8
A22: P7_3_1 | B22: 4.3 | C22: 4.4 | D22: 5.9 | E22: 6.8 | F22: 5.9 | G22: 7.8 | H22: 10.1 | I22: 11.8 | J22: 11.9 | K22: 15.2 | L22: 15.4 | M22: 15.5 | N22: 17.2 | O22: 17.7 | P22: 17.4 | Q22: 18.1 | R22: 18.3 | S22: 18 | T22: 18.4 | U22: 19 | V22: 18.8 | W22: 18.7 | X22: 18.8 | Y22: 19 | Z22: 18.8 | AA22: 19.2 | AB22: 19.4 | AC22: 19.3 | AD22: 19.9 | AE22: 19.8 | AF22: 19.1 | AG22: 18.9 | AH22: 19 | AI22: 19.2 | AJ22: 20.3 | AK22: 19.9 | AL22: 19.3 | AM22: 20.4 | AN22: 19.9 | AO22: 19.9 | AP22: 20.6 | AQ22: 19.8 | AR22: 21.1 | AS22: 19.7 | AU22: 20.1 | AV22: 20.2 | AW22: 20 | AX22: 26.2 | AY22: 25.6 | AZ22: 25.7 | BA22: 22.6 | BB22: 26.1 | BC22: 26 | BD22: 23.2 | BE22: 26.1 | BF22: 22.8 | BG22: 23 | BH22: 26.8 | BI22: 26.7 | BJ22: 23.8 | BK22: 24.1 | BL22: 27.2 | BM22: 25.6 | BN22: 20 | BO22: 23.5 | BP22: 22.5 | BQ22: 19 | BR22: 18.5
A23: P7_3_2 | B23: 4.5 | C23: 4.8 | D23: 5.5 | E23: 6.4 | F23: 6.5 | G23: 7.4 | H23: 9.5 | I23: 11.4 | J23: 12.8 | K23: 14.3 | L23: 14.7 | M23: 15.5 | N23: 17.6 | O23: 17.1 | P23: 17.1 | Q23: 18.9 | R23: 17.9 | S23: 18.1 | T23: 18.2 | U23: 18.2 | V23: 18 | W23: 18.3 | X23: 19.4 | Y23: 19.8 | Z23: 18.7 | AA23: 19.9 | AB23: 19.8 | AC23: 19 | AD23: 19.5 | AE23: 19.7 | AF23: 19.5 | AG23: 19.1 | AH23: 19.7 | AI23: 19.1 | AJ23: 19.8 | AK23: 19.8 | AL23: 19 | AM23: 19.8 | AN23: 20.7 | AO23: 20.7 | AP23: 20 | AQ23: 20.7 | AR23: 19.7 | AS23: 20.7 | AU23: 20.2 | AV23: 21.1 | AW23: 20.7 | AX23: 23.6 | AY23: 22.8 | AZ23: 23.1 | BA23: 25.1 | BB23: 23.2 | BC23: 23 | BD23: 26.6 | BE23: 23.2 | BF23: 26.1 | BG23: 25.9 | BH23: 23.6 | BI23: 23.3 | BJ23: 27.1 | BK23: 27.5 | BL23: 24 | BM23: 23.5 | BN23: 24 | BO23: 19.2 | BP23: 19.8 | BQ23: 22.6 | BR23: 23.5
A24: P7_3_3 | B24: 4.4 | C24: 4.7 | D24: 5.3 | E24: 7.1 | F24: 6.4 | G24: 6.9 | H24: 9.9 | I24: 12.6 | J24: 13.9 | K24: 16.7 | L24: 16.1 | M24: 17.9 | N24: 18 | O24: 19.6 | P24: 20.1 | Q24: 20.9 | R24: 21.8 | S24: 20.6 | T24: 21.4 | U24: 22 | V24: 22.7 | W24: 20.3 | X24: 23 | Y24: 22.3 | Z24: 20.9 | AA24: 22.9 | AB24: 23.1 | AC24: 21.2 | AD24: 23.5 | AE24: 23.1 | AF24: 21.8 | AG24: 23.5 | AH24: 24 | AI24: 25 | AJ24: 26.1 | AK24: 24.3 | AL24: 24.3 | AM24: 24.6 | AN24: 25.4 | AO24: 25.1 | AP24: 25.3 | AQ24: 24.7 | AR24: 23.7 | AS24: 25.3 | AU24: 24.5 | AV24: 26.1 | AW24: 26.1 | AX24: 25.3 | AY24: 27.4 | AZ24: 27.1 | BA24: 25.6 | BB24: 25.1 | BC24: 23.3 | BD24: 26.4 | BE24: 27 | BF24: 26.2 | BG24: 26.8 | BH24: 26 | BI24: 26.7 | BJ24: 27.3 | BK24: 26.9 | BL24: 27.3 | BM24: 24.5 | BN24: 22.6 | BO24: 21.6 | BP24: 22.8 | BQ24: 25.1 | BR24: 21.4
A25: P7_3_4 | B25: 4.4 | C25: 4.8 | D25: 5.3 | E25: 6.9 | F25: 6.7 | G25: 7.3 | H25: 10 | I25: 11.7 | J25: 14.3 | K25: 17.4 | L25: 15.8 | M25: 18 | N25: 19.7 | O25: 20.3 | P25: 18.3 | Q25: 19.2 | R25: 21 | S25: 20.8 | T25: 22.4 | U25: 22.9 | V25: 21.9 | W25: 23.7 | X25: 22.9 | Y25: 21 | Z25: 23.6 | AA25: 24.3 | AB25: 24.4 | AC25: 24 | AD25: 22.1 | AE25: 24.6 | AF25: 20.7 | AG25: 23.5 | AH25: 25.6 | AI25: 23.7 | AJ25: 24.4 | AK25: 22.6 | AL25: 23.9 | AM25: 24.3 | AN25: 23 | AO25: 22.6 | AP25: 25.7 | AQ25: 23 | AR25: 25.7 | AS25: 23.2 | AU25: 23.6 | AV25: 23.4 | AW25: 23.4 | AX25: 24.3 | AY25: 25.6 | AZ25: 24 | BA25: 26.7 | BB25: 23.8 | BC25: 24.9 | BD25: 27.4 | BE25: 26.2 | BF25: 25.3 | BG25: 25.1 | BH25: 27.2 | BI25: 24.1 | BJ25: 27.2 | BK25: 25.7 | BL25: 24.1 | BM25: 26.3 | BN25: 24.8 | BO25: 24.7 | BP25: 24.7 | BQ25: 20.9 | BR25: 25
A26: P7_3_5 | B26: 4.6 | C26: 4.9 | D26: 5.8 | E26: 6.1 | F26: 6.8 | G26: 6.2 | H26: 10.5 | I26: 12.7 | J26: 13.1 | K26: 15.5 | L26: 17.4 | M26: 16.7 | N26: 20.3 | O26: 20.1 | P26: 20.7 | Q26: 21.6 | R26: 21.1 | S26: 18.6 | T26: 19.8 | U26: 20.1 | V26: 20.3 | W26: 21.8 | X26: 23.8 | Y26: 22.5 | Z26: 22.4 | AA26: 22.9 | AB26: 23.2 | AC26: 22.6 | AD26: 25.1 | AE26: 21.8 | AF26: 20.4 | AG26: 21.7 | AH26: 24.2 | AI26: 21.7 | AJ26: 24.7 | AK26: 24.5 | AL26: 25.2 | AM26: 25.5 | AN26: 26.1 | AO26: 25.8 | AP26: 23.4 | AQ26: 25.9 | AR26: 25.2 | AS26: 26 | AU26: 23.3 | AV26: 25.6 | AW26: 26.2 | AX26: 22.3 | AY26: 26.5 | AZ26: 26.6 | BA26: 23.5 | BB26: 27.2 | BC26: 27.1 | BD26: 24.8 | BE26: 23.5 | BF26: 27.1 | BG26: 25.8 | BH26: 24.2 | BI26: 25.6 | BJ26: 26.1 | BK26: 24.4 | BL26: 25.6 | BM26: 26 | BN26: 25.6 | BO26: 24.5 | BP26: 25.5 | BQ26: 23.8 | BR26: 22.7
A27: P7_3_6 | B27: 4.6 | C27: 4.7 | D27: 5.5 | E27: 6.2 | F27: 7.1 | G27: 7.2 | H27: 10.5 | I27: 11.7 | J27: 12.2 | K27: 15.7 | L27: 17.4 | M27: 16.3 | N27: 19.6 | O27: 18.1 | P27: 20.1 | Q27: 20.9 | R27: 19.2 | S27: 21.1 | T27: 21.6 | U27: 21.9 | V27: 22 | W27: 21.6 | X27: 20.4 | Y27: 23.5 | Z27: 22.6 | AA27: 21.2 | AB27: 21.5 | AC27: 22.8 | AD27: 23.6 | AE27: 23.2 | AF27: 24.7 | AG27: 25 | AH27: 21.8 | AI27: 23.9 | AJ27: 22.5 | AK27: 26 | AL27: 22.2 | AM27: 22.8 | AN27: 24.7 | AO27: 24.4 | AP27: 26.6 | AQ27: 24.9 | AR27: 26.7 | AS27: 24.6 | AU27: 21.7 | AV27: 24.6 | AW27: 24.4 | AX27: 25 | AY27: 23.8 | AZ27: 23.4 | BA27: 24.1 | BB27: 25.9 | BC27: 25.7 | BD27: 23.6 | BE27: 24.9 | BF27: 23.7 | BG27: 23.3 | BH27: 27.4 | BI27: 27.2 | BJ27: 24.3 | BK27: 27.5 | BL27: 27.2 | BM27: 26 | BN27: 24.7 | BO27: 26 | BP27: 24.1 | BQ27: 21.1 | BR27: 19.8
A28: P8_1 | E28: 7 | F28: 7.1 | H28: 11.8 | I28: 13.3 | J28: 11.4 | K28: 13.5 | L28: 14.4 | M28: 20 | N28: 19.1 | O28: 19.2 | P28: 18.5 | Q28: 18.6 | R28: 17.1 | S28: 24.8 | T28: 24.9 | V28: 21.9 | W28: 19.2 | X28: 18.8 | Z28: 22.5 | AA28: 26.3 | AB28: 22.2 | AC28: 21.9 | AD28: 24.2 | AF28: 21.6 | AG28: 27.1 | AH28: 26.3 | AI28: 27.1 | AK28: 26.4 | AL28: 25.1 | AN28: 26.3 | AO28: 26.1 | AP28: 24 | AQ28: 23.7 | AR28: 25.3 | AS28: 22.1 | AU28: 25.7 | AV28: 25 | AW28: 23.5 | AX28: 25.5 | AY28: 23.1 | AZ28: 21.6 | BA28: 23.2 | BB28: 23 | BC28: 26.1 | BD28: 26.3 | BE28: 26.4 | BF28: 23.4 | BG28: 23.9 | BH28: 23.7 | BI28: 23.7 | BJ28: 25.9 | BK28: 23.1 | BL28: 23.6
A29: P8_2 | E29: 7.9 | F29: 7.9 | H29: 10.4 | I29: 12.4 | J29: 13.9 | K29: 16.7 | L29: 16.5 | M29: 17.3 | N29: 22.1 | O29: 23 | P29: 21.2 | Q29: 24.8 | R29: 24.1 | S29: 21.8 | T29: 22 | V29: 25 | W29: 22.7 | X29: 22.6 | Z29: 26.3 | AA29: 21.7 | AB29: 26.7 | AC29: 26.9 | AD29: 19.4 | AF29: 25.7 | AG29: 22.4 | AH29: 23.1 | AI29: 21.4 | AK29: 20.7 | AL29: 20.3 | AN29: 20.8 | AO29: 21.8 | AP29: 28.2 | AQ29: 26.6 | AR29: 22.4 | AS29: 25.2 | AU29: 23.1 | AV29: 22.1 | AW29: 25.6 | AX29: 22.7 | AY29: 26.3 | AZ29: 25.9 | BA29: 25.7 | BB29: 26.6 | BC29: 23.2 | BD29: 23 | BE29: 22.9 | BF29: 26.2 | BG29: 26.7 | BH29: 26.9 | BI29: 26.7 | BJ29: 23 | BK29: 25.8 | BL29: 26
A30: P8_2_1 | E30: 6.2 | G30: 5.2 | H30: 5.9 | J30: 8.9 | K30: 8.2 | L30: 10.9 | M30: 10.8 | N30: 14.1 | O30: 14.4 | Q30: 14.9 | R30: 15.7 | S30: 15.7 | T30: 17.6 | U30: 16.4 | V30: 18.2 | W30: 15.7 | X30: 16.1 | Y30: 18.2 | Z30: 16.2 | AA30: 18.2 | AB30: 18.7 | AC30: 19 | AD30: 19.6 | AE30: 16.6 | AF30: 17.5 | AG30: 16.6 | AH30: 18 | AI30: 18.3 | AJ30: 17.7 | AK30: 18.6 | AL30: 21.6 | AM30: 21.8 | AN30: 19 | AO30: 18.2 | AP30: 19.6 | AQ30: 18.8 | AR30: 21.1 | AS30: 19.8 | AT30: 19.5 | AU30: 22.4 | AV30: 22.4 | AW30: 22.7 | AX30: 18.1 | AY30: 21 | AZ30: 23.3 | BA30: 20.8 | BB30: 19.2 | BC30: 19.4 | BD30: 22.8 | BE30: 18.9 | BF30: 21.5 | BG30: 21.3 | BH30: 21.2 | BI30: 22.8 | BJ30: 22 | BK30: 23.5 | BM30: 23.1 | BN30: 23.3 | BO30: 26.7 | BP30: 21.1 | BQ30: 23.9 | BR30: 24.6 | BS30: 21.9 | BT30: 22.1 | BU30: 21.9
A31: P8_2_2 | E31: 5.6 | G31: 6.2 | H31: 6.7 | J31: 7 | K31: 7.1 | L31: 9.6 | M31: 9.3 | N31: 14.9 | O31: 14.1 | Q31: 15.6 | R31: 12.8 | S31: 15.3 | T31: 15.5 | U31: 18.3 | V31: 16.4 | W31: 17.9 | X31: 16.7 | Y31: 16.2 | Z31: 16.4 | AA31: 16.8 | AB31: 16.5 | AC31: 21.4 | AD31: 17.2 | AE31: 17.3 | AF31: 20.2 | AG31: 17.8 | AH31: 20.9 | AI31: 17.3 | AJ31: 21.5 | AK31: 17.2 | AL31: 18 | AM31: 17.9 | AN31: 18 | AO31: 19.3 | AP31: 18.6 | AQ31: 22.4 | AR31: 18.3 | AS31: 22.1 | AT31: 18.6 | AU31: 20.5 | AV31: 19.1 | AW31: 19.4 | AX31: 22.1 | AY31: 18.3 | AZ31: 18.8 | BA31: 18.5 | BB31: 21.1 | BC31: 23.5 | BD31: 19.1 | BE31: 22.5 | BF31: 19.2 | BG31: 23 | BH31: 23.7 | BI31: 21.1 | BJ31: 23.8 | BK31: 21.5 | BM31: 21.1 | BN31: 21.7 | BO31: 23.2 | BP31: 22.5 | BQ31: 22.4 | BR31: 22.2 | BS31: 25.1 | BT31: 24.1 | BU31: 23.9
A32: P8_2_3 | E32: 5.5 | G32: 6.3 | H32: 4.2 | J32: 8.2 | K32: 7.1 | L32: 10.5 | M32: 11.3 | N32: 13.5 | O32: 12.8 | Q32: 16.5 | R32: 14.9 | S32: 17.4 | T32: 15.2 | U32: 16.1 | V32: 16 | W32: 16.1 | X32: 19 | Y32: 16.5 | Z32: 18.2 | AA32: 16.1 | AB32: 16.9 | AC32: 21.2 | AD32: 16.5 | AE32: 20.3 | AF32: 16.4 | AG32: 20.1 | AH32: 17 | AI32: 21.1 | AJ32: 19 | AK32: 22.7 | AL32: 19.1 | AM32: 18.9 | AN32: 21.6 | AO32: 21.7 | AP32: 21.9 | AQ32: 19.3 | AR32: 18 | AS32: 18.8 | AT32: 21.8 | AU32: 18.9 | AV32: 20.5 | AW32: 20.9 | AX32: 20 | AY32: 22.7 | AZ32: 21.2 | BA32: 23 | BB32: 23.5 | BC32: 23.3 | BD32: 21.1 | BE32: 21 | BF32: 23.4
A33: P8_2_4 | E33: 5.5 | G33: 5.7 | H33: 7.6 | J33: 8.7 | K33: 7.1 | L33: 10.5 | M33: 9.8 | N33: 15 | O33: 13.1 | Q33: 16.5 | R33: 16.7 | S33: 18.6 | T33: 18.2 | U33: 17.8 | V33: 18.4 | W33: 18.3 | X33: 19.7 | Y33: 19.5 | Z33: 18.5 | AA33: 18.5 | AB33: 21.1 | AC33: 19.3 | AD33: 18.5 | AE33: 21 | AF33: 21.4 | AG33: 21.8 | AH33: 21.8 | AI33: 22.2 | AJ33: 22 | AK33: 19.6 | AL33: 19.9 | AM33: 21 | AN33: 23.4 | AO33: 20.8 | AP33: 22.1 | AQ33: 22.4 | AR33: 23.2 | AS33: 22.2 | AT33: 24.3 | AU33: 22.5 | AV33: 22.7 | AW33: 24.3 | AX33: 23.8 | AY33: 23.7 | AZ33: 24.9 | BA33: 23 | BB33: 25.4 | BC33: 24.6 | BD33: 23.7 | BE33: 25.2 | BF33: 24.3 | BG33: 26.1 | BH33: 26.3 | BI33: 24.1 | BJ33: 26.8 | BK33: 25.3 | BM33: 25 | BN33: 26.4 | BO33: 25.3 | BP33: 25.6 | BQ33: 26.2 | BR33: 26.4 | BS33: 26 | BT33: 24.1 | BU33: 24
A34: P8_2_5 | E34: 5.5 | G34: 4.3 | H34: 7.6 | J34: 7.8 | K34: 7.5 | L34: 11.6 | M34: 10.5 | N34: 13.9 | O34: 13.8 | Q34: 17.1 | R34: 15.9 | S34: 17 | T34: 17.6 | U34: 18 | V34: 19.2 | W34: 18.8 | X34: 19.6 | Y34: 18.2 | Z34: 20 | AA34: 20 | AB34: 20.9 | AC34: 17.1 | AD34: 20.5 | AE34: 18.9 | AF34: 18.9 | AG34: 19 | AH34: 19.1 | AI34: 19.7 | AJ34: 23 | AK34: 22.5 | AL34: 22.5 | AM34: 23.4 | AN34: 23.8 | AO34: 22.9 | AP34: 23.5 | AQ34: 24.1 | AR34: 21.3 | AS34: 24.2 | AT34: 23.8 | AU34: 24.3 | AV34: 24.8 | AW34: 24.7 | AX34: 22.3 | AY34: 22.6 | AZ34: 24.4 | BA34: 23.4 | BB34: 24.8 | BC34: 24 | BD34: 23.4 | BE34: 24.5 | BF34: 25.9 | BG34: 24.1 | BH34: 25.5 | BI34: 24.9 | BJ34: 24.4 | BK34: 23.9 | BM34: 25.8 | BN34: 26 | BO34: 26.4 | BP34: 23.4 | BQ34: 24.8 | BR34: 24.5 | BS34: 23.9 | BT34: 26.4 | BU34: 25.6
A35: P8_2_6 | E35: 6.1 | G35: 6.4 | H35: 7.2 | J35: 7.9 | K35: 6.2 | L35: 10.5 | M35: 11 | N35: 16.1 | O35: 16 | Q35: 15.6 | R35: 16 | S35: 16.8 | T35: 17.3 | U35: 18.9 | V35: 17.9 | W35: 19.2 | X35: 18.5 | Y35: 19.4 | Z35: 20.4 | AA35: 20 | AB35: 18.9 | AC35: 16.6 | AD35: 21 | AE35: 21.6 | AF35: 21.8 | AG35: 22 | AH35: 22 | AI35: 22.7 | AJ35: 19.5 | AK35: 22.9 | AL35: 22.6 | AM35: 23.7 | AN35: 21.2 | AO35: 22.2 | AP35: 24 | AQ35: 24.5 | AR35: 22.7 | AS35: 23.6 | AT35: 22.1 | AU35: 23.9 | AV35: 24.4 | AW35: 22.5 | AX35: 23.1 | AY35: 24.4 | AZ35: 23.4 | BA35: 24.6 | BB35: 23.6 | BC35: 25.5 | BD35: 24.8 | BE35: 23.6 | BF35: 25.3 | BG35: 24.9 | BH35: 24.6 | BI35: 25.8 | BJ35: 25.8 | BK35: 26 | BM35: 23.4 | BN35: 24.1 | BO35: 23.9 | BP35: 24.8 | BQ35: 27.3 | BR35: 27 | BS35: 23.8 | BT35: 25.5 | BU35: 26

Sheet Week 1
B1: Date: | E1: Date: | H1: Date:
A2: Pup Number | B2: Weight (g) | C2: Fecal (Y/N) | D2: Sample Name | E2: Weight (g) | F2: Fecal (Y/N) | G2: Sample Name | H2: Weight (g) | I2: Fecal (Y/N) | J2: Sample Name | K2: Remarks
A3: P4_1 | D3: =if(C3="Y",CONCATENATE(A3,,"_",$C$1), ) | G3: =if(F3="Y",CONCATENATE($A3,,"_",$F$1), ) | J3: =if(I3="Y",CONCATENATE($A3,,"_",$I$1), ) | K3: no weights too small
A4: P4_2 | D4: =if(C4="Y",CONCATENATE(A4,,"_",$C$1), ) | G4: =if(F4="Y",CONCATENATE($A4,,"_",$F$1), ) | J4: =if(I4="Y",CONCATENATE($A4,,"_",$I$1), )
A5: P4_3 | D5: =if(C5="Y",CONCATENATE(A5,,"_",$C$1), ) | G5: =if(F5="Y",CONCATENATE($A5,,"_",$F$1), ) | J5: =if(I5="Y",CONCATENATE($A5,,"_",$I$1), )
A6: P4_4 | D6: =if(C6="Y",CONCATENATE(A6,,"_",$C$1), ) | G6: =if(F6="Y",CONCATENATE($A6,,"_",$F$1), ) | J6: =if(I6="Y",CONCATENATE($A6,,"_",$I$1), )
A7: P4_5 | D7: =if(C7="Y",CONCATENATE(A7,,"_",$C$1), ) | G7: =if(F7="Y",CONCATENATE($A7,,"_",$F$1), ) | J7: =if(I7="Y",CONCATENATE($A7,,"_",$I$1), )
B10: Date: | E10: Date: | H10: Date:
A11: Pup Number | B11: Weight (g) | C11: Fecal (Y/N) | D11: Sample Name | E11: Weight (g) | F11: Fecal (Y/N) | G11: Sample Name | H11: Weight (g) | I11: Fecal (Y/N) | J11: Sample Name | K11: Remarks
A12: P6_1 | D12: =if(C12="Y",CONCATENATE(A12,,"_",$C$10), ) | G12: =if(F12="Y",CONCATENATE($A12,,"_",$F$10), ) | J12: =if(I12="Y",CONCATENATE($A12,,"_",$I$10), ) | K12: no weights too small
A13: P6_2 | D13: =if(C13="Y",CONCATENATE(A13,,"_",$C$10), ) | G13: =if(F13="Y",CONCATENATE($A13,,"_",$F$10), ) | J13: =if(I13="Y",CONCATENATE($A13,,"_",$I$10), )
A14: P6_3 | D14: =if(C14="Y",CONCATENATE(A14,,"_",$C$10), ) | G14: =if(F14="Y",CONCATENATE($A14,,"_",$F$10), ) | J14: =if(I14="Y",CONCATENATE($A14,,"_",$I$10), )
B17: Date: | C17: 021721 | E17: Date: | F17: 021821 | H17: Date: | J17: no weights
A18: Pup Number | B18: Weight (g) | C18: Fecal (Y/N) | D18: Sample Name | E18: Weight (g) | F18: Fecal (Y/N) | G18: Sample Name | H18: Weight (g) | I18: Fecal (Y/N) | J18: Sample Name | K18: Remarks
A19: P7_1 | B19: 8.4 | C19: n | D19: =if(C19="Y",CONCATENATE(A19,,"_",$C$17), ) | E19: 8.2 | F19: n | G19: =if(F19="Y",CONCATENATE($A19,,"_",$F$17), ) | J19: =if(I19="Y",CONCATENATE($A19,,"_",$I$17), )
A20: P7_2 | B20: 8.2 | C20: n | D20: =if(C20="Y",CONCATENATE(A20,,"_",$C$17), ) | E20: 8 | F20: n | G20: =if(F20="Y",CONCATENATE($A20,,"_",$F$17), ) | J20: =if(I20="Y",CONCATENATE($A20,,"_",$I$17), )
A21: P7_3 | B21: 7.8 | C21: n | D21: =if(C21="Y",CONCATENATE(A21,,"_",$C$17), ) | E21: 7.3 | F21: n | G21: =if(F21="Y",CONCATENATE($A21,,"_",$F$17), ) | J21: =if(I21="Y",CONCATENATE($A21,,"_",$I$17), )
A22: P7_4 | B22: 7.9 | C22: n | D22: =if(C22="Y",CONCATENATE(A22,,"_",$C$17), ) | E22: 7.7 | F22: n | G22: =if(F22="Y",CONCATENATE($A22,,"_",$F$17), ) | J22: =if(I22="Y",CONCATENATE($A22,,"_",$I$17), )
B25: Date: | C25: 030921 | E25: Date: | H25: Date: | J25: no weights
A26: Pup Number | B26: Weight (g) | C26: Fecal (Y/N) | D26: Sample Name | E26: Weight (g) | F26: Fecal (Y/N) | G26: Sample Name | H26: Weight (g) | I26: Fecal (Y/N) | J26: Sample Name | K26: Remarks
A27: P7_2_1 | B27: 3.3 | C27: n | D27: =if(C27="Y",CONCATENATE(A27,,"_",$C$25), ) | G27: =if(F27="Y",CONCATENATE($A27,,"_",$F$25), ) | J27: =if(I27="Y",CONCATENATE($A27,,"_",$I$25), )
A28: P7_2_2 | B28: 3 | C28: n | D28: =if(C28="Y",CONCATENATE(A28,,"_",$C$25), ) | G28: =if(F28="Y",CONCATENATE($A28,,"_",$F$25), ) | J28: =if(I28="Y",CONCATENATE($A28,,"_",$I$25), )
A29: P7_2_3 | B29: 4.2 | C29: n | D29: =if(C29="Y",CONCATENATE(A29,,"_",$C$25), ) | G29: =if(F29="Y",CONCATENATE($A29,,"_",$F$25), ) | J29: =if(I29="Y",CONCATENATE($A29,,"_",$I$25), )
A30: P7_2_4 | B30: 4.1 | C30: n | D30: =if(C30="Y",CONCATENATE(A30,,"_",$C$25), ) | G30: =if(F30="Y",CONCATENATE($A30,,"_",$F$25), ) | J30: =if(I30="Y",CONCATENATE($A30,,"_",$I$25), )
A31: P7_2_5 | B31: 4.5 | C31: n | D31: =if(C31="Y",CONCATENATE(A31,,"_",$C$25), ) | G31: =if(F31="Y",CONCATENATE($A31,,"_",$F$25), ) | J31: =if(I31="Y",CONCATENATE($A31,,"_",$I$25), )
A32: P7_2_6 | B32: 4 | C32: n | D32: =if(C32="Y",CONCATENATE(A32,,"_",$C$25), ) | G32: =if(F32="Y",CONCATENATE($A32,,"_",$F$25), ) | J32: =if(I32="Y",CONCATENATE($A32,,"_",$I$25), )
A33: P7_2_7 | B33: 4.2 | C33: n | D33: =if(C33="Y",CONCATENATE(A33,,"_",$C$25), ) | G33: =if(F33="Y",CONCATENATE($A33,,"_",$F$25), ) | J33: =if(I33="Y",CONCATENATE($A33,,"_",$I$25), )
A34: P7_2_8 | B34: 4.1 | C34: n | D34: =if(C34="Y",CONCATENATE(A34,,"_",$C$25), ) | G34: =if(F34="Y",CONCATENATE($A34,,"_",$F$25), ) | J34: =if(I34="Y",CONCATENATE($A34,,"_",$I$25), )
B37: Date: | C37: 051121 | E37: Date: | F37: 051221 | H37: Date: | I37: 051421
A38: Pup Number | B38: Weight (g) | C38: Fecal (Y/N) | D38: Sample Name | E38: Weight (g) | F38: Fecal (Y/N) | G38: Sample Name | H38: Weight (g) | I38: Fecal (Y/N) | J38: Sample Name | K38: Remarks
A39: P7_3_1 | B39: 4.3 | C39: n | D39: =if(C39="Y",CONCATENATE(A39,,"_",$C$25), ) | E39: 4.4 | F39: n | G39: =if(F39="Y",CONCATENATE($A39,,"_",$F$25), ) | H39: 5.9 | I39: n | J39: =if(I39="Y",CONCATENATE($A39,,"_",$I$25), )
A40: P7_3_2 | B40: 4.5 | C40: n | D40: =if(C40="Y",CONCATENATE(A40,,"_",$C$25), ) | E40: 4.8 | F40: n | G40: =if(F40="Y",CONCATENATE($A40,,"_",$F$25), ) | H40: 5.5 | I40: n | J40: =if(I40="Y",CONCATENATE($A40,,"_",$I$25), )
A41: P7_3_3 | B41: 4.4 | C41: n | D41: =if(C41="Y",CONCATENATE(A41,,"_",$C$25), ) | E41: 4.7 | F41: n | G41: =if(F41="Y",CONCATENATE($A41,,"_",$F$25), ) | H41: 5.3 | I41: n | J41: =if(I41="Y",CONCATENATE($A41,,"_",$I$25), )
A42: P7_3_4 | B42: 4.4 | C42: n | D42: =if(C42="Y",CONCATENATE(A42,,"_",$C$25), ) | E42: 4.8 | F42: n | G42: =if(F42="Y",CONCATENATE($A42,,"_",$F$25), ) | H42: 5.3 | I42: n | J42: =if(I42="Y",CONCATENATE($A42,,"_",$I$25), )
A43: P7_3_5 | B43: 4.6 | C43: n | D43: =if(C43="Y",CONCATENATE(A43,,"_",$C$25), ) | E43: 4.9 | F43: n | G43: =if(F43="Y",CONCATENATE($A43,,"_",$F$25), ) | H43: 5.8 | I43: n | J43: =if(I43="Y",CONCATENATE($A43,,"_",$I$25), )
A44: P7_3_6 | B44: 4.6 | C44: n | D44: =if(C44="Y",CONCATENATE(A44,,"_",$C$25), ) | E44: 4.7 | F44: n | G44: =if(F44="Y",CONCATENATE($A44,,"_",$F$25), ) | H44: 5.5 | I44: n | J44: =if(I44="Y",CONCATENATE($A44,,"_",$I$25), )
B47: Date: | C47: 012421 | E47: Date: | F47: 012521 | H47: Date: | I47: 012621
A48: Pup Number | B48: Weight (g) | C48: Fecal (Y/N) | D48: Sample Name | E48: Weight (g) | F48: Fecal (Y/N) | G48: Sample Name | H48: Weight (g) | I48: Fecal (Y/N) | J48: Sample Name | K48: Remarks
A49: P8_1 | D49: =if(C49="Y",CONCATENATE(A49,,"_",$C$47), ) | G49: =if(F49="Y",CONCATENATE($A49,,"_",$F$47), ) | J49: =if(I49="Y",CONCATENATE($A49,,"_",$I$47), ) | K49: no weights
A50: P8_2 | D50: =if(C50="Y",CONCATENATE(A50,,"_",$C$47), ) | G50: =if(F50="Y",CONCATENATE($A50,,"_",$F$47), ) | J50: =if(I50="Y",CONCATENATE($A50,,"_",$I$47), )
B53: Date: | E53: Date: | H53: Date:
A54: Pup Number | B54: Weight (g) | C54: Fecal (Y/N) | D54: Sample Name | E54: Weight (g) | F54: Fecal (Y/N) | G54: Sample Name | H54: Weight (g) | I54: Fecal (Y/N) | J54: Sample Name | K54: Remarks
A55: P8_2_1 | D55: =if(C55="Y",CONCATENATE(A55,,"_",$C$53), ) | G55: =if(F55="Y",CONCATENATE($A55,,"_",$F$53), ) | J55: =if(I55="Y",CONCATENATE($A55,,"_",$I$53), ) | K55: no weights
A56: P8_2_2 | D56: =if(C56="Y",CONCATENATE(A56,,"_",$C$53), ) | G56: =if(F56="Y",CONCATENATE($A56,,"_",$F$53), ) | J56: =if(I56="Y",CONCATENATE($A56,,"_",$I$53), )
A57: P8_2_3 | D57: =if(C57="Y",CONCATENATE(A57,,"_",$C$53), ) | G57: =if(F57="Y",CONCATENATE($A57,,"_",$F$53), ) | J57: =if(I57="Y",CONCATENATE($A57,,"_",$I$53), )
A58: P8_2_4 | D58: =if(C58="Y",CONCATENATE(A58,,"_",$C$53), ) | G58: =if(F58="Y",CONCATENATE($A58,,"_",$F$53), ) | J58: =if(I58="Y",CONCATENATE($A58,,"_",$I$53), )
A59: P8_2_5 | D59: =if(C59="Y",CONCATENATE(A59,,"_",$C$53), ) | G59: =if(F59="Y",CONCATENATE($A59,,"_",$F$53), ) | J59: =if(I59="Y",CONCATENATE($A59,,"_",$I$53), )
A60: P8_2_6 | D60: =if(C60="Y",CONCATENATE(A60,,"_",$C$53), ) | G60: =if(F60="Y",CONCATENATE($A60,,"_",$F$53), ) | J60: =if(I60="Y",CONCATENATE($A60,,"_",$I$53), )

Sheet Week 2
B1: Date: | C1: 061521 | E1: Date: | F1: 061621 | H1: Date: | I1: 061721
A2: Pup Number | B2: Weight (g) | C2: Fecal (Y/N) | D2: Sample Name | E2: Weight (g) | F2: Fecal (Y/N) | G2: Sample Name | H2: Weight (g) | I2: Fecal (Y/N) | J2: Sample Name | K2: Remarks
A3: P4_1 | B3: 7.5 | C3: n | D3: =if(C3="Y",CONCATENATE(A3,,"_",$C$1), ) | E3: 9 | F3: n | G3: =if(F3="Y",CONCATENATE($A3,,"_",$F$1), ) | H3: 9.1 | I3: n | J3: =if(I3="Y",CONCATENATE($A3,,"_",$I$1), )
A4: P4_2 | B4: 7.8 | C4: n | D4: =if(C4="Y",CONCATENATE(A4,,"_",$C$1), ) | E4: 8 | F4: n | G4: =if(F4="Y",CONCATENATE($A4,,"_",$F$1), ) | H4: 8.6 | I4: n | J4: =if(I4="Y",CONCATENATE($A4,,"_",$I$1), )
A5: P4_3 | B5: 8.6 | C5: n | D5: =if(C5="Y",CONCATENATE(A5,,"_",$C$1), ) | E5: 8.3 | F5: n | G5: =if(F5="Y",CONCATENATE($A5,,"_",$F$1), ) | H5: 8.5 | I5: n | J5: =if(I5="Y",CONCATENATE($A5,,"_",$I$1), )
A6: P4_4 | B6: 8.6 | C6: n | D6: =if(C6="Y",CONCATENATE(A6,,"_",$C$1), ) | E6: 8.3 | F6: n | G6: =if(F6="Y",CONCATENATE($A6,,"_",$F$1), ) | H6: 8.4 | I6: n | J6: =if(I6="Y",CONCATENATE($A6,,"_",$I$1), )
A7: P4_5 | B7: 7.9 | C7: n | D7: =if(C7="Y",CONCATENATE(A7,,"_",$C$1), ) | E7: 9.2 | F7: n | G7: =if(F7="Y",CONCATENATE($A7,,"_",$F$1), ) | H7: 9.5 | I7: n | J7: =if(I7="Y",CONCATENATE($A7,,"_",$I$1), )
B10: Date: | C10: 052421 | E10: Date: | F10: 052621 | H10: Date: | I10: 052821
A11: Pup Number | B11: Weight (g) | C11: Fecal (Y/N) | D11: Sample Name | E11: Weight (g) | F11: Fecal (Y/N) | G11: Sample Name | H11: Weight (g) | I11: Fecal (Y/N) | J11: Sample Name | K11: Remarks
A12: P6_1 | B12: 3.7 | C12: n | D12: =if(C12="Y",CONCATENATE(A12,,"_",$C$10), ) | E12: 6.5 | F12: n | G12: =if(F12="Y",CONCATENATE($A12,,"_",$F$10), ) | H12: 7.3 | I12: n | J12: =if(I12="Y",CONCATENATE($A12,,"_",$I$10), )
A13: P6_2 | B13: 5.6 | C13: n | D13: =if(C13="Y",CONCATENATE(A13,,"_",$C$10), ) | E13: 6.6 | F13: n | G13: =if(F13="Y",CONCATENATE($A13,,"_",$F$10), ) | H13: 7.8 | I13: n | J13: =if(I13="Y",CONCATENATE($A13,,"_",$I$10), )
A14: P6_3 | B14: 5.5 | C14: n | D14: =if(C14="Y",CONCATENATE(A14,,"_",$C$10), ) | E14: 6.8 | F14: n | G14: =if(F14="Y",CONCATENATE($A14,,"_",$F$10), ) | H14: 7.5 | I14: n | J14: =if(I14="Y",CONCATENATE($A14,,"_",$I$10), )
B17: Date: | C17: 022321 | E17: Date: | F17: 022421 | H17: Date: | I17: 022521
A18: Pup Number | B18: Weight (g) | C18: Fecal (Y/N) | D18: Sample Name | E18: Weight (g) | F18: Fecal (Y/N) | G18: Sample Name | H18: Weight (g) | I18: Fecal (Y/N) | J18: Sample Name | K18: Remarks
A19: P7_1 | B19: 9.3 | C19: n | D19: =if(C19="Y",CONCATENATE('Week 3'!A19,,"_",$C$17), ) | E19: 9.7 | F19: y | G19: =if(F19="Y",CONCATENATE('Week 3'!$A19,,"_",$F$17), ) -> #REF! | H19: 10 | I19: y | J19: =if(I19="Y",CONCATENATE('Week 3'!$A19,,"_",$I$17), ) -> #REF!
A20: P7_2 | B20: 7.4 | C20: n | D20: =if(C20="Y",CONCATENATE('Week 3'!A20,,"_",$C$17), ) | E20: 8.1 | F20: y | G20: =if(F20="Y",CONCATENATE('Week 3'!$A20,,"_",$F$17), ) -> #REF! | H20: 9.6 | I20: y | J20: =if(I20="Y",CONCATENATE('Week 3'!$A20,,"_",$I$17), ) -> #REF!
A21: P7_3 | B21: 8.2 | C21: n | D21: =if(C21="Y",CONCATENATE('Week 3'!A21,,"_",$C$17), ) | E21: 9 | F21: y | G21: =if(F21="Y",CONCATENATE('Week 3'!$A21,,"_",$F$17), ) -> #REF! | H21: 8.5 | I21: y | J21: =if(I21="Y",CONCATENATE('Week 3'!$A21,,"_",$I$17), ) -> #REF!
A22: P7_4 | B22: 8.8 | C22: n | D22: =if(C22="Y",CONCATENATE('Week 3'!A22,,"_",$C$17), ) | E22: 8.8 | F22: y | G22: =if(F22="Y",CONCATENATE('Week 3'!$A22,,"_",$F$17), ) -> #REF! | H22: 10.7 | I22: n | J22: =if(I22="Y",CONCATENATE('Week 3'!$A22,,"_",$I$17), )
B25: Date: | C25: 031621 | E25: Date: | F25: 031721 | H25: Date: | J25: no weights
A26: Pup Number | B26: Weight (g) | C26: Fecal (Y/N) | D26: Sample Name | E26: Weight (g) | F26: Fecal (Y/N) | G26: Sample Name | H26: Weight (g) | I26: Fecal (Y/N) | J26: Sample Name | K26: Remarks
A27: P7_2_1 | B27: 4.8 | C27: n | D27: =if(C27="Y",CONCATENATE(A27,,"_",$C$25), ) | E27: 5.9 | F27: n | G27: =if(F27="Y",CONCATENATE($A27,,"_",$F$25), ) | J27: =if(I27="Y",CONCATENATE($A27,,"_",$I$25), )
A28: P7_2_2 | B28: 6.2 | C28: n | D28: =if(C28="Y",CONCATENATE(A28,,"_",$C$25), ) | E28: 5.1 | F28: n | G28: =if(F28="Y",CONCATENATE($A28,,"_",$F$25), ) | J28: =if(I28="Y",CONCATENATE($A28,,"_",$I$25), )
A29: P7_2_3 | B29: 6 | C29: n | D29: =if(C29="Y",CONCATENATE(A29,,"_",$C$25), ) | E29: 6 | F29: n | G29: =if(F29="Y",CONCATENATE($A29,,"_",$F$25), ) | J29: =if(I29="Y",CONCATENATE($A29,,"_",$I$25), )
A30: P7_2_4 | B30: 6.2 | C30: n | D30: =if(C30="Y",CONCATENATE(A30,,"_",$C$25), ) | E30: 6.5 | F30: n | G30: =if(F30="Y",CONCATENATE($A30,,"_",$F$25), ) | J30: =if(I30="Y",CONCATENATE($A30,,"_",$I$25), )
A31: P7_2_5 | B31: 6.1 | C31: n | D31: =if(C31="Y",CONCATENATE(A31,,"_",$C$25), ) | E31: 6.1 | F31: n | G31: =if(F31="Y",CONCATENATE($A31,,"_",$F$25), ) | J31: =if(I31="Y",CONCATENATE($A31,,"_",$I$25), )
A32: P7_2_6 | B32: 6 | C32: n | D32: =if(C32="Y",CONCATENATE(A32,,"_",$C$25), ) | E32: 6.3 | F32: n | G32: =if(F32="Y",CONCATENATE($A32,,"_",$F$25), ) | J32: =if(I32="Y",CONCATENATE($A32,,"_",$I$25), )
A33: P7_2_7 | B33: 5 | C33: n | D33: =if(C33="Y",CONCATENATE(A33,,"_",$C$25), ) | E33: 5.2 | F33: n | G33: =if(F33="Y",CONCATENATE($A33,,"_",$F$25), ) | J33: =if(I33="Y",CONCATENATE($A33,,"_",$I$25), )
A34: P7_2_8 | B34: 6.5 | C34: n | D34: =if(C34="Y",CONCATENATE(A34,,"_",$C$25), ) | E34: 6.4 | F34: n | G34: =if(F34="Y",CONCATENATE($A34,,"_",$F$25), ) | J34: =if(I34="Y",CONCATENATE($A34,,"_",$I$25), )
B37: Date: | C37: 051821 | E37: Date: | F37: 051921 | H37: Date: | I37: 052021
A38: Pup Number | B38: Weight (g) | C38: Fecal (Y/N) | D38: Sample Name | E38: Weight (g) | F38: Fecal (Y/N) | G38: Sample Name | H38: Weight (g) | I38: Fecal (Y/N) | J38: Sample Name | K38: Remarks
A39: P7_3_1 | B39: 6.8 | C39: n | D39: =if(C39="Y",CONCATENATE(A39,,"_",$C$37), ) | E39: 5.9 | F39: n | G39: =if(F39="Y",CONCATENATE($A39,,"_",$F$37), ) | H39: 7.8 | I39: y | J39: =if(I39="Y",CONCATENATE($A39,,"_",$I$37), ) -> P7_3_1_052021
A40: P7_3_2 | B40: 6.4 | C40: n | D40: =if(C40="Y",CONCATENATE(A40,,"_",$C$37), ) | E40: 6.5 | F40: n | G40: =if(F40="Y",CONCATENATE($A40,,"_",$F$37), ) | H40: 7.4 | I40: y | J40: =if(I40="Y",CONCATENATE($A40,,"_",$I$37), ) -> P7_3_2_052021
A41: P7_3_3 | B41: 7.1 | C41: n | D41: =if(C41="Y",CONCATENATE(A41,,"_",$C$37), ) | E41: 6.4 | F41: n | G41: =if(F41="Y",CONCATENATE($A41,,"_",$F$37), ) | H41: 6.9 | I41: y | J41: =if(I41="Y",CONCATENATE($A41,,"_",$I$37), ) -> P7_3_3_052021
A42: P7_3_4 | B42: 6.9 | C42: n | D42: =if(C42="Y",CONCATENATE(A42,,"_",$C$37), ) | E42: 6.7 | F42: n | G42: =if(F42="Y",CONCATENATE($A42,,"_",$F$37), ) | H42: 7.3 | I42: y | J42: =if(I42="Y",CONCATENATE($A42,,"_",$I$37), ) -> P7_3_4_052021
A43: P7_3_5 | B43: 6.1 | C43: n | D43: =if(C43="Y",CONCATENATE(A43,,"_",$C$37), ) | E43: 6.8 | F43: n | G43: =if(F43="Y",CONCATENATE($A43,,"_",$F$37), ) | H43: 6.2 | I43: y | J43: =if(I43="Y",CONCATENATE($A43,,"_",$I$37), ) -> P7_3_5_052021
A44: P7_3_6 | B44: 6.2 | C44: n | D44: =if(C44="Y",CONCATENATE(A44,,"_",$C$37), ) | E44: 7.1 | F44: n | G44: =if(F44="Y",CONCATENATE($A44,,"_",$F$37), ) | H44: 7.2 | I44: y | J44: =if(I44="Y",CONCATENATE($A44,,"_",$I$37), ) -> P7_3_6_052021
B47: Date: | C47: 020221 | E47: Date: | F47: 020321 | H47: Date:
A48: Pup Number | B48: Weight (g) | C48: Fecal (Y/N) | D48: Sample Name | E48: Weight (g) | F48: Fecal (Y/N) | G48: Sample Name | H48: Weight (g) | I48: Fecal (Y/N) | J48: Sample Name | K48: Remarks
A49: P8_1 | B49: 7 | C49: n | D49: =if(C49="Y",CONCATENATE(A49,,"_",$C$47), ) | E49: 7.1 | F49: n | G49: =if(F49="Y",CONCATENATE($A49,,"_",$F$47), ) | J49: =if(I49="Y",CONCATENATE($A49,,"_",$I$47), ) | K49: no weights
A50: P8_2 | B50: 7.9 | C50: n | D50: =if(C50="Y",CONCATENATE(A50,,"_",$C$47), ) | E50: 7.9 | F50: n | G50: =if(F50="Y",CONCATENATE($A50,,"_",$F$47), ) | J50: =if(I50="Y",CONCATENATE($A50,,"_",$I$47), )
B53: Date: | C53: 041321 | E53: Date: | H53: Date: | I53: 041521
A54: Pup Number | B54: Weight (g) | C54: Fecal (Y/N) | D54: Sample Name | E54: Weight (g) | F54: Fecal (Y/N) | G54: Sample Name | H54: Weight (g) | I54: Fecal (Y/N) | J54: Sample Name | K54: Remarks
A55: P8_2_1 | B55: 6.2 | C55: n | D55: =if(C55="Y",CONCATENATE(A55,,"_",$C$53), ) | G55: =if(F55="Y",CONCATENATE($A55,,"_",$F$53), ) | H55: 5.2 | I55: n | J55: =if(I55="Y",CONCATENATE($A55,,"_",$I$53), )
A56: P8_2_2 | B56: 5.6 | C56: n | D56: =if(C56="Y",CONCATENATE(A56,,"_",$C$53), ) | G56: =if(F56="Y",CONCATENATE($A56,,"_",$F$53), ) | H56: 6.2 | I56: n | J56: =if(I56="Y",CONCATENATE($A56,,"_",$I$53), )
A57: P8_2_3 | B57: 5.5 | C57: n | D57: =if(C57="Y",CONCATENATE(A57,,"_",$C$53), ) | G57: =if(F57="Y",CONCATENATE($A57,,"_",$F$53), ) | H57: 6.3 | I57: y | J57: =if(I57="Y",CONCATENATE($A57,,"_",$I$53), ) -> P8_2_3_041521
A58: P8_2_4 | B58: 5.5 | C58: n | D58: =if(C58="Y",CONCATENATE(A58,,"_",$C$53), ) | G58: =if(F58="Y",CONCATENATE($A58,,"_",$F$53), ) | H58: 5.7 | I58: y | J58: =if(I58="Y",CONCATENATE($A58,,"_",$I$53), ) -> P8_2_4_041521
A59: P8_2_5 | B59: 5.5 | C59: n | D59: =if(C59="Y",CONCATENATE(A59,,"_",$C$53), ) | G59: =if(F59="Y",CONCATENATE($A59,,"_",$F$53), ) | H59: 4.3 | I59: n | J59: =if(I59="Y",CONCATENATE($A59,,"_",$I$53), )
A60: P8_2_6 | B60: 6.1 | C60: n | D60: =if(C60="Y",CONCATENATE(A60,,"_",$C$53), ) | G60: =if(F60="Y",CONCATENATE($A60,,"_",$F$53), ) | H60: 6.4 | I60: n | J60: =if(I60="Y",CONCATENATE($A60,,"_",$I$53), )

Sheet Week 3
B1: Date: | C1: 062221 | E1: Date: | F1: 062321 | H1: Date: | I1: 062421
A2: Pup Number | B2: Weight (g) | C2: Fecal (Y/N) | D2: Sample Name | E2: Weight (g) | F2: Fecal (Y/N) | G2: Sample Name | H2: Weight (g) | I2: Fecal (Y/N) | J2: Sample Name | K2: Remarks
A3: P4_1 | B3: 11.2 | C3: y | D3: =if(C3="Y",CONCATENATE(A3,,"_",$C$1), ) -> P4_1_062221 | E3: 10.9 | F3: n | G3: =if(F3="Y",CONCATENATE($A3,,"_",$F$1), ) | H3: 10.8 | I3: y | J3: =if(I3="Y",CONCATENATE($A3,,"_",$I$1), ) -> P4_1_062421
A4: P4_2 | B4: 11.1 | C4: y | D4: =if(C4="Y",CONCATENATE(A4,,"_",$C$1), ) -> P4_2_062221 | E4: 10.3 | F4: n | G4: =if(F4="Y",CONCATENATE($A4,,"_",$F$1), ) | H4: 9.8 | I4: y | J4: =if(I4="Y",CONCATENATE($A4,,"_",$I$1), ) -> P4_2_062421
A5: P4_3 | B5: 9.5 | C5: y | D5: =if(C5="Y",CONCATENATE(A5,,"_",$C$1), ) -> P4_3_062221 | E5: 10.8 | F5: n | G5: =if(F5="Y",CONCATENATE($A5,,"_",$F$1), ) | H5: 11.3 | I5: y | J5: =if(I5="Y",CONCATENATE($A5,,"_",$I$1), ) -> P4_3_062421
A6: P4_4 | B6: 11 | C6: y | D6: =if(C6="Y",CONCATENATE(A6,,"_",$C$1), ) -> P4_4_062221 | E6: 10.8 | F6: n | G6: =if(F6="Y",CONCATENATE($A6,,"_",$F$1), ) | H6: 10.7 | I6: y | J6: =if(I6="Y",CONCATENATE($A6,,"_",$I$1), ) -> P4_4_062421
A7: P4_5 | B7: 11.1 | C7: y | D7: =if(C7="Y",CONCATENATE(A7,,"_",$C$1), ) -> P4_5_062221 | E7: 9.4 | F7: n | G7: =if(F7="Y",CONCATENATE($A7,,"_",$F$1), ) | H7: 10.7 | I7: y | J7: =if(I7="Y",CONCATENATE($A7,,"_",$I$1), ) -> P4_5_062421
B10: Date: | C10: 060121 | E10: Date: | F10: 060221 | H10: Date: | I10: 060321
A11: Pup Number | B11: Weight (g) | C11: Fecal (Y/N) | D11: Sample Name | E11: Weight (g) | F11: Fecal (Y/N) | G11: Sample Name | H11: Weight (g) | I11: Fecal (Y/N) | J11: Sample Name | K11: Remarks
A12: P6_1 | B12: 8.1 | C12: y | D12: =if(C12="Y",CONCATENATE(A12,,"_",$C$10), ) -> P6_1_060121 | E12: 9 | F12: n | G12: =if(F12="Y",CONCATENATE($A12,,"_",$F$10), ) | H12: 8.4 | I12: n | J12: =if(I12="Y",CONCATENATE($A12,,"_",$I$10), )
A13: P6_2 | B13: 8.7 | C13: y | D13: =if(C13="Y",CONCATENATE(A13,,"_",$C$10), ) -> P6_2_060121 | E13: 7.9 | F13: n | G13: =if(F13="Y",CONCATENATE($A13,,"_",$F$10), ) | H13: 9.2 | I13: n | J13: =if(I13="Y",CONCATENATE($A13,,"_",$I$10), )
A14: P6_3 | B14: 8.2 | C14: y | D14: =if(C14="Y",CONCATENATE(A14,,"_",$C$10), ) -> P6_3_060121 | E14: 8.2 | F14: n | G14: =if(F14="Y",CONCATENATE($A14,,"_",$F$10), ) | H14: 7.9 | I14: n | J14: =if(I14="Y",CONCATENATE($A14,,"_",$I$10), )
B17: Date: | C17: 030221 | E17: Date: | F17: 030321 | H17: Date: | I17: 030421
A18: Pup Number | B18: Weight (g) | C18: Fecal (Y/N) | D18: Sample Name | E18: Weight (g) | F18: Fecal (Y/N) | G18: Sample Name | H18: Weight (g) | I18: Fecal (Y/N) | J18: Sample Name | K18: Remarks
A19: P7_1 | B19: 15.7 | C19: n | D19: =if(C19="Y",CONCATENATE('Week 4'!A19,,"_",$C$17), ) | E19: 14.4 | F19: y | G19: =if(F19="Y",CONCATENATE('Week 4'!$A19,,"_",$F$17), ) -> #REF! | H19: 18.8 | I19: y | J19: =if(I19="Y",CONCATENATE('Week 4'!$A19,,"_",$I$17), ) -> #REF!
A20: P7_2 | B20: 15.4 | C20: y | D20: =if(C20="Y",CONCATENATE('Week 4'!A20,,"_",$C$17), ) -> #REF! | E20: 15.4 | F20: y | G20: =if(F20="Y",CONCATENATE('Week 4'!$A20,,"_",$F$17), ) -> #REF! | H20: 18.4 | I20: y | J20: =if(I20="Y",CONCATENATE('Week 4'!$A20,,"_",$I$17), ) -> #REF!
A21: P7_3 | B21: 13.6 | C21: y | D21: =if(C21="Y",CONCATENATE('Week 4'!A21,,"_",$C$17), ) -> #REF! | E21: 15.8 | F21: y | G21: =if(F21="Y",CONCATENATE('Week 4'!$A21,,"_",$F$17), ) -> #REF! | H21: 16.1 | I21: y | J21: =if(I21="Y",CONCATENATE('Week 4'!$A21,,"_",$I$17), ) -> #REF!
A22: P7_4 | B22: 15.2 | C22: y | D22: =if(C22="Y",CONCATENATE('Week 4'!A22,,"_",$C$17), ) -> #REF! | E22: 16.2 | F22: y | G22: =if(F22="Y",CONCATENATE('Week 4'!$A22,,"_",$F$17), ) -> #REF! | H22: 17.5 | I22: y | J22: =if(I22="Y",CONCATENATE('Week 4'!$A22,,"_",$I$17), ) -> #REF!
B25: Date: | C25: 032321 | E25: Date: | F25: 032421 | H25: Date: | I25: 032521
A26: Pup Number | B26: Weight (g) | C26: Fecal (Y/N) | D26: Sample Name | E26: Weight (g) | F26: Fecal (Y/N) | G26: Sample Name | H26: Weight (g) | I26: Fecal (Y/N) | J26: Sample Name | K26: Remarks
A27: P7_2_1 | B27: 8.7 | C27: n | D27: =if(C27="Y",CONCATENATE(A27,,"_",$C$25), ) | E27: 8.9 | F27: n | G27: =if(F27="Y",CONCATENATE($A27,,"_",$F$25), ) | H27: 8.7 | I27: y | J27: =if(I27="Y",CONCATENATE($A27,,"_",$I$25), ) -> P7_2_1_032521
A28: P7_2_2 | B28: 8.1 | C28: n | D28: =if(C28="Y",CONCATENATE(A28,,"_",$C$25), ) | E28: 8.4 | F28: n | G28: =if(F28="Y",CONCATENATE($A28,,"_",$F$25), ) | H28: 9.8 | I28: y | J28: =if(I28="Y",CONCATENATE($A28,,"_",$I$25), ) -> P7_2_2_032521
A29: P7_2_3 | B29: 8.4 | C29: n | D29: =if(C29="Y",CONCATENATE(A29,,"_",$C$25), ) | E29: 8.5 | F29: n | G29: =if(F29="Y",CONCATENATE($A29,,"_",$F$25), ) | H29: 10.1 | I29: y | J29: =if(I29="Y",CONCATENATE($A29,,"_",$I$25), ) -> P7_2_3_032521
A30: P7_2_4 | B30: 9 | C30: n | D30: =if(C30="Y",CONCATENATE(A30,,"_",$C$25), ) | E30: 8.4 | F30: n | G30: =if(F30="Y",CONCATENATE($A30,,"_",$F$25), ) | H30: 9.9 | I30: y | J30: =if(I30="Y",CONCATENATE($A30,,"_",$I$25), ) -> P7_2_4_032521
A31: P7_2_5 | B31: 6.7 | C31: n | D31: =if(C31="Y",CONCATENATE(A31,,"_",$C$25), ) | E31: 9.4 | F31: n | G31: =if(F31="Y",CONCATENATE($A31,,"_",$F$25), ) | H31: 9.6 | I31: y | J31: =if(I31="Y",CONCATENATE($A31,,"_",$I$25), ) -> P7_2_5_032521
A32: P7_2_6 | B32: 8.5 | C32: n | D32: =if(C32="Y",CONCATENATE(A32,,"_",$C$25), ) | E32: 7.3 | F32: y | G32: =if(F32="Y",CONCATENATE($A32,,"_",$F$25), ) -> P7_2_6_032421 | H32: 9 | I32: y | J32: =if(I32="Y",CONCATENATE($A32,,"_",$I$25), ) -> P7_2_6_032521
A33: P7_2_7 | B33: 8.1 | C33: n | D33: =if(C33="Y",CONCATENATE(A33,,"_",$C$25), ) | E33: 9.9 | F33: y | G33: =if(F33="Y",CONCATENATE($A33,,"_",$F$25), ) -> P7_2_7_032421 | H33: 7.4 | I33: y | J33: =if(I33="Y",CONCATENATE($A33,,"_",$I$25), ) -> P7_2_7_032521
A34: P7_2_8 | B34: 7.7 | C34: n | D34: =if(C34="Y",CONCATENATE(A34,,"_",$C$25), ) | E34: 8.5 | F34: n | G34: =if(F34="Y",CONCATENATE($A34,,"_",$F$25), ) | H34: 9 | I34: y | J34: =if(I34="Y",CONCATENATE($A34,,"_",$I$25), ) -> P7_2_8_032521
B37: Date: | C37: 052421 | E37: Date: | F37: 052621 | H37: Date: | I37: 052821
A38: Pup Number | B38: Weight (g) | C38: Fecal (Y/N) | D38: Sample Name | E38: Weight (g) | F38: Fecal (Y/N) | G38: Sample Name | H38: Weight (g) | I38: Fecal (Y/N) | J38: Sample Name | K38: Remarks
A39: P7_3_1 | B39: 10.1 | C39: y | D39: =if(C39="Y",CONCATENATE(A39,,"_",$C$37), ) -> P7_3_1_052421 | E39: 11.8 | F39: y | G39: =if(F39="Y",CONCATENATE($A39,,"_",$F$37), ) -> P7_3_1_052621 | H39: 11.9 | I39: n | J39: =if(I39="Y",CONCATENATE($A39,,"_",$I$37), )
A40: P7_3_2 | B40: 9.5 | C40: y | D40: =if(C40="Y",CONCATENATE(A40,,"_",$C$37), ) -> P7_3_2_052421 | E40: 11.4 | F40: y | G40: =if(F40="Y",CONCATENATE($A40,,"_",$F$37), ) -> P7_3_2_052621 | H40: 12.8 | I40: n | J40: =if(I40="Y",CONCATENATE($A40,,"_",$I$37), )
A41: P7_3_3 | B41: 9.9 | C41: y | D41: =if(C41="Y",CONCATENATE(A41,,"_",$C$37), ) -> P7_3_3_052421 | E41: 12.6 | F41: y | G41: =if(F41="Y",CONCATENATE($A41,,"_",$F$37), ) -> P7_3_3_052621 | H41: 13.9 | I41: n | J41: =if(I41="Y",CONCATENATE($A41,,"_",$I$37), )
A42: P7_3_4 | B42: 10 | C42: y | D42: =if(C42="Y",CONCATENATE(A42,,"_",$C$37), ) -> P7_3_4_052421 | E42: 11.7 | F42: y | G42: =if(F42="Y",CONCATENATE($A42,,"_",$F$37), ) -> P7_3_4_052621 | H42: 14.3 | I42: n | J42: =if(I42="Y",CONCATENATE($A42,,"_",$I$37), )
A43: P7_3_5 | B43: 10.5 | C43: y | D43: =if(C43="Y",CONCATENATE(A43,,"_",$C$37), ) -> P7_3_5_052421 | E43: 12.7 | F43: y | G43: =if(F43="Y",CONCATENATE($A43,,"_",$F$37), ) -> P7_3_5_052621 | H43: 13.1 | I43: n | J43: =if(I43="Y",CONCATENATE($A43,,"_",$I$37), )
A44: P7_3_6 | B44: 10.5 | C44: y | D44: =if(C44="Y",CONCATENATE(A44,,"_",$C$37), ) -> P7_3_6_052421 | E44: 11.7 | F44: y | G44: =if(F44="Y",CONCATENATE($A44,,"_",$F$37), ) -> P7_3_6_052621 | H44: 12.2 | I44: n | J44: =if(I44="Y",CONCATENATE($A44,,"_",$I$37), )
B47: Date: | C47: 020921 | E47: Date: | F47: 021021 | H47: Date: | I47: 021121
A48: Pup Number | B48: Weight (g) | C48: Fecal (Y/N) | D48: Sample Name | E48: Weight (g) | F48: Fecal (Y/N) | G48: Sample Name | H48: Weight (g) | I48: Fecal (Y/N) | J48: Sample Name | K48: Remarks
A49: P8_1 | B49: 11.8 | C49: n | D49: =if(C49="Y",CONCATENATE(A49,,"_",$C$47), ) | E49: 13.3 | F49: n | G49: =if(F49="Y",CONCATENATE($A49,,"_",$F$47), ) | H49: 11.4 | I49: y | J49: =if(I49="Y",CONCATENATE($A49,,"_",$I$47), ) -> P8_1_021121
A50: P8_2 | B50: 10.4 | C50: n | D50: =if(C50="Y",CONCATENATE(A50,,"_",$C$47), ) | E50: 12.4 | F50: n | G50: =if(F50="Y",CONCATENATE($A50,,"_",$F$47), ) | H50: 13.9 | I50: y | J50: =if(I50="Y",CONCATENATE($A50,,"_",$I$47), ) -> P8_2_021121
B53: Date: | C53: 042121 | E53: Date: | H53: Date: | I53: 042321
A54: Pup Number | B54: Weight (g) | C54: Fecal (Y/N) | D54: Sample Name | E54: Weight (g) | F54: Fecal (Y/N) | G54: Sample Name | H54: Weight (g) | I54: Fecal (Y/N) | J54: Sample Name | K54: Remarks
A55: P8_2_1 | B55: 5.9 | C55: y | D55: =if(C55="Y",CONCATENATE(A55,,"_",$C$53), ) -> P8_2_1_042121 | G55: =if(F55="Y",CONCATENATE($A55,,"_",$F$53), ) | H55: 8.9 | I55: y | J55: =if(I55="Y",CONCATENATE($A55,,"_",$I$53), ) -> P8_2_1_042321
A56: P8_2_2 | B56: 6.7 | C56: y | D56: =if(C56="Y",CONCATENATE(A56,,"_",$C$53), ) -> P8_2_2_042121 | G56: =if(F56="Y",CONCATENATE($A56,,"_",$F$53), ) | H56: 7 | I56: y | J56: =if(I56="Y",CONCATENATE($A56,,"_",$I$53), ) -> P8_2_2_042321
A57: P8_2_3 | B57: 4.2 | C57: y | D57: =if(C57="Y",CONCATENATE(A57,,"_",$C$53), ) -> P8_2_3_042121 | G57: =if(F57="Y",CONCATENATE($A57,,"_",$F$53), ) | H57: 8.2 | I57: y | J57: =if(I57="Y",CONCATENATE($A57,,"_",$I$53), ) -> P8_2_3_042321
A58: P8_2_4 | B58: 7.6 | C58: y | D58: =if(C58="Y",CONCATENATE(A58,,"_",$C$53), ) -> P8_2_4_042121 | G58: =if(F58="Y",CONCATENATE($A58,,"_",$F$53), ) | H58: 8.7 | I58: y | J58: =if(I58="Y",CONCATENATE($A58,,"_",$I$53), ) -> P8_2_4_042321
A59: P8_2_5 | B59: 7.6 | C59: y | D59: =if(C59="Y",CONCATENATE(A59,,"_",$C$53), ) -> P8_2_5_042121 | G59: =if(F59="Y",CONCATENATE($A59,,"_",$F$53), ) | H59: 7.8 | I59: y | J59: =if(I59="Y",CONCATENATE($A59,,"_",$I$53), ) -> P8_2_5_042321
A60: P8_2_6 | B60: 7.2 | C60: y | D60: =if(C60="Y",CONCATENATE(A60,,"_",$C$53), ) -> P8_2_6_042121 | G60: =if(F60="Y",CONCATENATE($A60,,"_",$F$53), ) | H60: 7.9 | I60: y | J60: =if(I60="Y",CONCATENATE($A60,,"_",$I$53), ) -> P8_2_6_042321

Sheet Week 4
B1: Date: | C1: 062821 | E1: Date: | F1: 062921 | H1: Date: | I1: 063021
A2: Pup Number | B2: Weight (g) | C2: Fecal (Y/N) | D2: Sample Name | E2: Weight (g) | F2: Fecal (Y/N) | G2: Sample Name | H2: Weight (g) | I2: Fecal (Y/N) | J2: Sample Name | K2: Remarks
A3: P4_1 | B3: 13.1 | C3: y | D3: =if(C3="Y",CONCATENATE(A3,,"_",$C$1), ) -> P4_1_062821 | E3: 13 | F3: n | G3: =if(F3="Y",CONCATENATE($A3,,"_",$F$1), ) | H3: 13.1 | I3: y | J3: =if(I3="Y",CONCATENATE($A3,,"_",$I$1), ) -> P4_1_063021
A4: P4_2 | B4: 12.5 | C4: y | D4: =if(C4="Y",CONCATENATE(A4,,"_",$C$1), ) -> P4_2_062821 | E4: 13.8 | F4: n | G4: =if(F4="Y",CONCATENATE($A4,,"_",$F$1), ) | H4: 14.3 | I4: y | J4: =if(I4="Y",CONCATENATE($A4,,"_",$I$1), ) -> P4_2_063021
A5: P4_3 | B5: 13 | C5: y | D5: =if(C5="Y",CONCATENATE(A5,,"_",$C$1), ) -> P4_3_062821 | E5: 14.5 | F5: n | G5: =if(F5="Y",CONCATENATE($A5,,"_",$F$1), ) | H5: 14.8 | I5: y | J5: =if(I5="Y",CONCATENATE($A5,,"_",$I$1), ) -> P4_3_063021
A6: P4_4 | B6: 13.6 | C6: y | D6: =if(C6="Y",CONCATENATE(A6,,"_",$C$1), ) -> P4_4_062821 | E6: 13.2 | F6: n | G6: =if(F6="Y",CONCATENATE($A6,,"_",$F$1), ) | H6: 16 | I6: y | J6: =if(I6="Y",CONCATENATE($A6,,"_",$I$1), ) -> P4_4_063021
A7: P4_5 | B7: 14.5 | C7: y | D7: =if(C7="Y",CONCATENATE(A7,,"_",$C$1), ) -> P4_5_062821 | E7: 14.9 | F7: n | G7: =if(F7="Y",CONCATENATE($A7,,"_",$F$1), ) | H7: 14.7 | I7: y | J7: =if(I7="Y",CONCATENATE($A7,,"_",$I$1), ) -> P4_5_063021
B10: Date: | C10: 060821 | E10: Date: | F10: 060921 | H10: Date: | I10: 061021
A11: Pup Number | B11: Weight (g) | C11: Fecal (Y/N) | D11: Sample Name | E11: Weight (g) | F11: Fecal (Y/N) | G11: Sample Name | H11: Weight (g) | I11: Fecal (Y/N) | J11: Sample Name | K11: Remarks
A12: P6_1 | B12: 7.8 | C12: n | D12: =if(C12="Y",CONCATENATE(A12,,"_",$C$10), ) | E12: 10.3 | F12: n | G12: =if(F12="Y",CONCATENATE($A12,,"_",$F$10), ) | H12: 11.8 | I12: y | J12: =if(I12="Y",CONCATENATE($A12,,"_",$I$10), ) -> P6_1_061021
A13: P6_2 | B13: 10.6 | C13: n | D13: =if(C13="Y",CONCATENATE(A13,,"_",$C$10), ) | E13: 8.2 | F13: n | G13: =if(F13="Y",CONCATENATE($A13,,"_",$F$10), ) | H13: 10.6 | I13: y | J13: =if(I13="Y",CONCATENATE($A13,,"_",$I$10), ) -> P6_2_061021
A14: P6_3 | B14: 9.6 | C14: n | D14: =if(C14="Y",CONCATENATE(A14,,"_",$C$10), ) | E14: 8.9 | F14: n | G14: =if(F14="Y",CONCATENATE($A14,,"_",$F$10), ) | H14: 9.1 | I14: y | J14: =if(I14="Y",CONCATENATE($A14,,"_",$I$10), ) -> P6_3_061021
B17: Date: | C17: 030921 | E17: Date: | H17: Date: | I17: 031221
A18: Pup Number | B18: Weight (g) | C18: Fecal (Y/N) | D18: Sample Name | E18: Weight (g) | F18: Fecal (Y/N) | G18: Sample Name | H18: Weight (g) | I18: Fecal (Y/N) | J18: Sample Name | K18: Remarks
A19: P7_1 | B19: 17.7 | C19: n | D19: =if(C19="Y",CONCATENATE('Week 5'!A19,,"_",$C$17), ) | G19: =if(F19="Y",CONCATENATE('Week 5'!$A19,,"_",$F$17), ) | H19: 22.8 | I19: y | J19: =if(I19="Y",CONCATENATE('Week 5'!$A19,,"_",$I$17), ) -> #REF!
A20: P7_2 | B20: 20.8 | C20: n | D20: =if(C20="Y",CONCATENATE('Week 5'!A20,,"_",$C$17), ) | G20: =if(F20="Y",CONCATENATE('Week 5'!$A20,,"_",$F$17), ) | H20: 21.9 | I20: y | J20: =if(I20="Y",CONCATENATE('Week 5'!$A20,,"_",$I$17), ) -> #REF!
A21: P7_3 | B21: 19.9 | C21: n | D21: =if(C21="Y",CONCATENATE('Week 5'!A21,,"_",$C$17), ) | G21: =if(F21="Y",CONCATENATE('Week 5'!$A21,,"_",$F$17), ) | H21: 21.3 | I21: y | J21: =if(I21="Y",CONCATENATE('Week 5'!$A21,,"_",$I$17), ) -> #REF!
A22: P7_4 | B22: 20.6 | C22: n | D22: =if(C22="Y",CONCATENATE('Week 5'!A22,,"_",$C$17), ) | G22: =if(F22="Y",CONCATENATE('Week 5'!$A22,,"_",$F$17), ) | H22: 20.6 | I22: y | J22: =if(I22="Y",CONCATENATE('Week 5'!$A22,,"_",$I$17), ) -> #REF!
B25: Date: | C25: 033021 | E25: Date: | F25: 033121 | H25: Date:
A26: Pup Number | B26: Weight (g) | C26: Fecal (Y/N) | D26: Sample Name | E26: Weight (g) | F26: Fecal (Y/N) | G26: Sample Name | H26: Weight (g) | I26: Fecal (Y/N) | J26: Sample Name | K26: Remarks
A27: P7_2_1 | B27: 11.9 | C27: n | D27: =if(C27="Y",CONCATENATE(A27,,"_",$C$25), ) | E27: 10.7 | F27: y | G27: =if(F27="Y",CONCATENATE($A27,,"_",$F$25), ) -> P7_2_1_033121 | J27: =if(I27="Y",CONCATENATE($A27,,"_",$I$25), )
A28: P7_2_2 | B28: 14.7 | C28: n | D28: =if(C28="Y",CONCATENATE(A28,,"_",$C$25), ) | E28: 12.2 | F28: y | G28: =if(F28="Y",CONCATENATE($A28,,"_",$F$25), ) -> P7_2_2_033121 | J28: =if(I28="Y",CONCATENATE($A28,,"_",$I$25), )
A29: P7_2_3 | B29: 14 | C29: n | D29: =if(C29="Y",CONCATENATE(A29,,"_",$C$25), ) | E29: 14.1 | F29: y | G29: =if(F29="Y",CONCATENATE($A29,,"_",$F$25), ) -> P7_2_3_033121 | J29: =if(I29="Y",CONCATENATE($A29,,"_",$I$25), )
A30: P7_2_4 | B30: 10.2 | C30: n | D30: =if(C30="Y",CONCATENATE(A30,,"_",$C$25), ) | E30: 9.1 | F30: y | G30: =if(F30="Y",CONCATENATE($A30,,"_",$F$25), ) -> P7_2_4_033121 | J30: =if(I30="Y",CONCATENATE($A30,,"_",$I$25), )
A31: P7_2_5 | B31: 12.2 | C31: n | D31: =if(C31="Y",CONCATENATE(A31,,"_",$C$25), ) | E31: 14.9 | F31: y | G31: =if(F31="Y",CONCATENATE($A31,,"_",$F$25), ) -> P7_2_5_033121 | J31: =if(I31="Y",CONCATENATE($A31,,"_",$I$25), )
A32: P7_2_6 | B32: 13 | C32: n | D32: =if(C32="Y",CONCATENATE(A32,,"_",$C$25), ) | E32: 13.3 | F32: y | G32: =if(F32="Y",CONCATENATE($A32,,"_",$F$25), ) -> P7_2_6_033121 | J32: =if(I32="Y",CONCATENATE($A32,,"_",$I$25), )
A33: P7_2_7 | B33: 11.6 | C33: n | D33: =if(C33="Y",CONCATENATE(A33,,"_",$C$25), ) | E33: 11.4 | F33: y | G33: =if(F33="Y",CONCATENATE($A33,,"_",$F$25), ) -> P7_2_7_033121 | J33: =if(I33="Y",CONCATENATE($A33,,"_",$I$25), )
A34: P7_2_8 | B34: 12.4 | C34: n | D34: =if(C34="Y",CONCATENATE(A34,,"_",$C$25), ) | E34: 11.4 | F34: y | G34: =if(F34="Y",CONCATENATE($A34,,"_",$F$25), ) -> P7_2_8_033121 | J34: =if(I34="Y",CONCATENATE($A34,,"_",$I$25), )
B37: Date: | C37: 060121 | E37: Date: | F37: 060221 | H37: Date: | I37: 060321
A38: Pup Number | B38: Weight (g) | C38: Fecal (Y/N) | D38: Sample Name | E38: Weight (g) | F38: Fecal (Y/N) | G38: Sample Name | H38: Weight (g) | I38: Fecal (Y/N) | J38: Sample Name | K38: Remarks
A39: P7_3_1 | B39: 15.2 | C39: y | D39: =if(C39="Y",CONCATENATE(A39,,"_",$C$37), ) -> P7_3_1_060121 | E39: 15.4 | F39: n | G39: =if(F39="Y",CONCATENATE($A39,,"_",$F$37), ) | H39: 15.5 | I39: y | J39: =if(I39="Y",CONCATENATE($A39,,"_",$I$37), ) -> P7_3_1_060321
A40: P7_3_2 | B40: 14.3 | C40: y | D40: =if(C40="Y",CONCATENATE(A40,,"_",$C$37), ) -> P7_3_2_060121 | E40: 14.7 | F40: n | G40: =if(F40="Y",CONCATENATE($A40,,"_",$F$37), ) | H40: 15.5 | I40: y | J40: =if(I40="Y",CONCATENATE($A40,,"_",$I$37), ) -> P7_3_2_060321
A41: P7_3_3 | B41: 16.7 | C41: y | D41: =if(C41="Y",CONCATENATE(A41,,"_",$C$37), ) -> P7_3_3_060121 | E41: 16.1 | F41: n | G41: =if(F41="Y",CONCATENATE($A41,,"_",$F$37), ) | H41: 17.9 | I41: y | J41: =if(I41="Y",CONCATENATE($A41,,"_",$I$37), ) -> P7_3_3_060321
A42: P7_3_4 | B42: 17.4 | C42: y | D42: =if(C42="Y",CONCATENATE(A42,,"_",$C$37), ) -> P7_3_4_060121 | E42: 15.8 | F42: n | G42: =if(F42="Y",CONCATENATE($A42,,"_",$F$37), ) | H42: 18 | I42: y | J42: =if(I42="Y",CONCATENATE($A42,,"_",$I$37), ) -> P7_3_4_060321
A43: P7_3_5 | B43: 15.5 | C43: y | D43: =if(C43="Y",CONCATENATE(A43,,"_",$C$37), ) -> P7_3_5_060121 | E43: 17.4 | F43: n | G43: =if(F43="Y",CONCATENATE($A43,,"_",$F$37), ) | H43: 16.7 | I43: y | J43: =if(I43="Y",CONCATENATE($A43,,"_",$I$37), ) -> P7_3_5_060321
A44: P7_3_6 | B44: 15.7 | C44: y | D44: =if(C44="Y",CONCATENATE(A44,,"_",$C$37), ) -> P7_3_6_060121 | E44: 17.4 | F44: n | G44: =if(F44="Y",CONCATENATE($A44,,"_",$F$37), ) | H44: 16.3 | I44: y | J44: =if(I44="Y",CONCATENATE($A44,,"_",$I$37), ) -> P7_3_6_060321
B47: Date: | C47: 021721 | E47: Date: | F47: 021821 | H47: Date: | I47: 021921
A48: Pup Number | B48: Weight (g) | C48: Fecal (Y/N) | D48: Sample Name | E48: Weight (g) | F48: Fecal (Y/N) | G48: Sample Name | H48: Weight (g) | I48: Fecal (Y/N) | J48: Sample Name | K48: Remarks
A49: P8_1 | B49: 13.5 | C49: y | D49: =if(C49="Y",CONCATENATE(A49,,"_",$C$47), ) -> P8_1_021721 | E49: 14.4 | F49: y | G49: =if(F49="Y",CONCATENATE($A49,,"_",$F$47), ) -> P8_1_021821 | H49: 20 | I49: y | J49: =if(I49="Y",CONCATENATE($A49,,"_",$I$47), ) -> P8_1_021921
A50: P8_2 | B50: 16.7 | C50: y | D50: =if(C50="Y",CONCATENATE(A50,,"_",$C$47), ) -> P8_2_021721 | E50: 16.5 | F50: y | G50: =if(F50="Y",CONCATENATE($A50,,"_",$F$47), ) -> P8_2_021821 | H50: 17.3 | I50: y | J50: =if(I50="Y",CONCATENATE($A50,,"_",$I$47), ) -> P8_2_021921
B53: Date: | C53: 042621 | E53: Date: | F53: 042821 | H53: Date: | I53: 042921
A54: Pup Number | B54: Weight (g) | C54: Fecal (Y/N) | D54: Sample Name | E54: Weight (g) | F54: Fecal (Y/N) | G54: Sample Name | H54: Weight (g) | I54: Fecal (Y/N) | J54: Sample Name | K54: Remarks
A55: P8_2_1 | B55: 8.2 | C55: n | D55: =if(C55="Y",CONCATENATE(A55,,"_",$C$53), ) | E55: 10.9 | F55: y | G55: =if(F55="Y",CONCATENATE($A55,,"_",$F$53), ) -> P8_2_1_042821 | H55: 10.8 | I55: y | J55: =if(I55="Y",CONCATENATE($A55,,"_",$I$53), ) -> P8_2_1_042921
A56: P8_2_2 | B56: 7.1 | C56: n | D56: =if(C56="Y",CONCATENATE(A56,,"_",$C$53), ) | E56: 9.6 | F56: y | G56: =if(F56="Y",CONCATENATE($A56,,"_",$F$53), ) -> P8_2_2_042821 | H56: 9.3 | I56: y | J56: =if(I56="Y",CONCATENATE($A56,,"_",$I$53), ) -> P8_2_2_042921
A57: P8_2_3 | B57: 7.1 | C57: n | D57: =if(C57="Y",CONCATENATE(A57,,"_",$C$53), ) | E57: 10.5 | F57: y | G57: =if(F57="Y",CONCATENATE($A57,,"_",$F$53), ) -> P8_2_3_042821 | H57: 11.3 | I57: y | J57: =if(I57="Y",CONCATENATE($A57,,"_",$I$53), ) -> P8_2_3_042921
A58: P8_2_4 | B58: 7.1 | C58: n | D58: =if(C58="Y",CONCATENATE(A58,,"_",$C$53), ) | E58: 10.5 | F58: y | G58: =if(F58="Y",CONCATENATE($A58,,"_",$F$53), ) -> P8_2_4_042821 | H58: 9.8 | I58: y | J58: =if(I58="Y",CONCATENATE($A58,,"_",$I$53), ) -> P8_2_4_042921
A59: P8_2_5 | B59: 7.5 | C59: n | D59: =if(C59="Y",CONCATENATE(A59,,"_",$C$53), ) | E59: 11.6 | F59: y | G59: =if(F59="Y",CONCATENATE($A59,,"_",$F$53), ) -> P8_2_5_042821 | H59: 10.5 | I59: y | J59: =if(I59="Y",CONCATENATE($A59,,"_",$I$53), ) -> P8_2_5_042921
A60: P8_2_6 | B60: 6.2 | C60: n | D60: =if(C60="Y",CONCATENATE(A60,,"_",$C$53), ) | E60: 10.5 | F60: y | G60: =if(F60="Y",CONCATENATE($A60,,"_",$F$53), ) -> P8_2_6_042821 | H60: 11 | I60: y | J60: =if(I60="Y",CONCATENATE($A60,,"_",$I$53), ) -> P8_2_6_042921

Sheet Week 5
B1: Date: | C1: 070621 | E1: Date: | F1: 070821 | H1: Date: | I1: 070921
A2: Pup Number | B2: Weight (g) | C2: Fecal (Y/N) | D2: Sample Name | E2: Weight (g) | F2: Fecal (Y/N) | G2: Sample Name | H2: Weight (g) | I2: Fecal (Y/N) | J2: Sample Name | K2: Remarks
A3: P4_1 | B3: 16.9 | C3: y | D3: =if(C3="Y",CONCATENATE(A3,,"_",$C$1), ) -> P4_1_070621 | E3: 17.7 | F3: n | G3: =if(F3="Y",CONCATENATE($A3,,"_",$F$1), ) | H3: 18.1 | I3: n | J3: =if(I3="Y",CONCATENATE($A3,,"_",$I$1), )
A4: P4_2 | B4: 15.7 | C4: y | D4: =if(C4="Y",CONCATENATE(A4,,"_",$C$1), ) -> P4_2_070621 | E4: 16.2 | F4: n | G4: =if(F4="Y",CONCATENATE($A4,,"_",$F$1), ) | H4: 16.8 | I4: n | J4: =if(I4="Y",CONCATENATE($A4,,"_",$I$1), )
A5: P4_3 | B5: 17.2 | C5: y | D5: =if(C5="Y",CONCATENATE(A5,,"_",$C$1), ) -> P4_3_070621 | E5: 17.9 | F5: n | G5: =if(F5="Y",CONCATENATE($A5,,"_",$F$1), ) | H5: 19.4 | I5: n | J5: =if(I5="Y",CONCATENATE($A5,,"_",$I$1), )
A6: P4_4 | B6: 17.2 | C6: y | D6: =if(C6="Y",CONCATENATE(A6,,"_",$C$1), ) -> P4_4_070621 | E6: 17.8 | F6: n | G6: =if(F6="Y",CONCATENATE($A6,,"_",$F$1), ) | H6: 18.7 | I6: n | J6: =if(I6="Y",CONCATENATE($A6,,"_",$I$1), )
A7: P4_5 | B7: 18.2 | C7: y | D7: =if(C7="Y",CONCATENATE(A7,,"_",$C$1), ) -> P4_5_070621 | E7: 19 | F7: n | G7: =if(F7="Y",CONCATENATE($A7,,"_",$F$1), ) | H7: 18.8 | I7: n | J7: =if(I7="Y",CONCATENATE($A7,,"_",$I$1), )
B10: Date: | C10: 061521 | E10: Date: | F10: 061621 | H10: Date: | I10: 061721
A11: Pup Number | B11: Weight (g) | C11: Fecal (Y/N) | D11: Sample Name | E11: Weight (g) | F11: Fecal (Y/N) | G11: Sample Name | H11: Weight (g) | I11: Fecal (Y/N) | J11: Sample Name | K11: Remarks
A12: P6_1 | B12: 11.9 | C12: n | D12: =if(C12="Y",CONCATENATE(A12,,"_",$C$10), ) | E12: 12.7 | F12: y | G12: =if(F12="Y",CONCATENATE($A12,,"_",$F$10), ) -> P6_1_061621 | H12: 13.4 | I12: n | J12: =if(I12="Y",CONCATENATE($A12,,"_",$I$10), )
A13: P6_2 | B13: 12 | C13: n | D13: =if(C13="Y",CONCATENATE(A13,,"_",$C$10), ) | E13: 13 | F13: y | G13: =if(F13="Y",CONCATENATE($A13,,"_",$F$10), ) -> P6_2_061621 | H13: 13.6 | I13: n | J13: =if(I13="Y",CONCATENATE($A13,,"_",$I$10), )
A14: P6_3 | B14: 14.5 | C14: n | D14: =if(C14="Y",CONCATENATE(A14,,"_",$C$10), ) | E14: 15.3 | F14: y | G14: =if(F14="Y",CONCATENATE($A14,,"_",$F$10), ) -> P6_3_061621 | H14: 15.9 | I14: n | J14: =if(I14="Y",CONCATENATE($A14,,"_",$I$10), )
B17: Date: | C17: 031621 | E17: Date: | F17: 031721 | H17: Date: | J17: no weights
A18: Pup Number | B18: Weight (g) | C18: Fecal (Y/N) | D18: Sample Name | E18: Weight (g) | F18: Fecal (Y/N) | G18: Sample Name | H18: Weight (g) | I18: Fecal (Y/N) | J18: Sample Name | K18: Remarks
A19: P7_1 | B19: 23.2 | C19: n | D19: =if(C19="Y",CONCATENATE('Week 6'!A19,,"_",$C$17), ) | E19: 22 | F19: y | G19: =if(F19="Y",CONCATENATE('Week 6'!$A19,,"_",$F$17), ) -> #REF! | J19: =if(I19="Y",CONCATENATE('Week 6'!$A19,,"_",$I$17), )
A20: P7_2 | B20: 21.3 | C20: n | D20: =if(C20="Y",CONCATENATE('Week 6'!A20,,"_",$C$17), ) | E20: 23.4 | F20: y | G20: =if(F20="Y",CONCATENATE('Week 6'!$A20,,"_",$F$17), ) -> #REF! | J20: =if(I20="Y",CONCATENATE('Week 6'!$A20,,"_",$I$17), )
A21: P7_3 | B21: 22.4 | C21: n | D21: =if(C21="Y",CONCATENATE('Week 6'!A21,,"_",$C$17), ) | E21: 22.3 | F21: y | G21: =if(F21="Y",CONCATENATE('Week 6'!$A21,,"_",$F$17), ) -> #REF! | J21: =if(I21="Y",CONCATENATE('Week 6'!$A21,,"_",$I$17), )
A22: P7_4 | B22: 21.7 | C22: n | D22: =if(C22="Y",CONCATENATE('Week 6'!A22,,"_",$C$17), ) | E22: 21.5 | F22: y | G22: =if(F22="Y",CONCATENATE('Week 6'!$A22,,"_",$F$17), ) -> #REF! | J22: =if(I22="Y",CONCATENATE('Week 6'!$A22,,"_",$I$17), )
B25: Date: | C25: 040621 | E25: Date: | F25: 040721 | H25: Date: | I25: 040821
A26: Pup Number | B26: Weight (g) | C26: Fecal (Y/N) | D26: Sample Name | E26: Weight (g) | F26: Fecal (Y/N) | G26: Sample Name | H26: Weight (g) | I26: Fecal (Y/N) | J26: Sample Name | K26: Remarks
A27: P7_2_1 | B27: 16.4 | C27: n | D27: =if(C27="Y",CONCATENATE(A27,,"_",$C$25), ) | E27: 16 | F27: y | G27: =if(F27="Y",CONCATENATE($A27,,"_",$F$25), ) -> P7_2_1_040721 | H27: 16.3 | I27: y | J27: =if(I27="Y",CONCATENATE($A27,,"_",$I$25), ) -> P7_2_1_040821
A28: P7_2_2 | B28: 17.1 | C28: n | D28: =if(C28="Y",CONCATENATE(A28,,"_",$C$25), ) | E28: 16 | F28: y | G28: =if(F28="Y",CONCATENATE($A28,,"_",$F$25), ) -> P7_2_2_040721 | H28: 18.3 | I28: y | J28: =if(I28="Y",CONCATENATE($A28,,"_",$I$25), ) -> P7_2_2_040821
A29: P7_2_3 | B29: 17.7 | C29: n | D29: =if(C29="Y",CONCATENATE(A29,,"_",$C$25), ) | E29: 18.5 | F29: y | G29: =if(F29="Y",CONCATENATE($A29,,"_",$F$25), ) -> P7_2_3_040721 | H29: 16.9 | I29: y | J29: =if(I29="Y",CONCATENATE($A29,,"_",$I$25), ) -> P7_2_3_040821
A30: P7_2_4 | B30: 15.3 | C30: n | D30: =if(C30="Y",CONCATENATE(A30,,"_",$C$25), ) | E30: 17.3 | F30: y | G30: =if(F30="Y",CONCATENATE($A30,,"_",$F$25), ) -> P7_2_4_040721 | H30: 15.7 | I30: y | J30: =if(I30="Y",CONCATENATE($A30,,"_",$I$25), ) -> P7_2_4_040821
A31: P7_2_5 | B31: 18.1 | C31: n | D31: =if(C31="Y",CONCATENATE(A31,,"_",$C$25), ) | E31: 15.5 | F31: y | G31: =if(F31="Y",CONCATENATE($A31,,"_",$F$25), ) -> P7_2_5_040721 | H31: 16.7 | I31: y | J31: =if(I31="Y",CONCATENATE($A31,,"_",$I$25), ) -> P7_2_5_040821
A32: P7_2_6 | B32: 16.5 | C32: n | D32: =if(C32="Y",CONCATENATE(A32,,"_",$C$25), ) | E32: 17.4 | F32: y | G32: =if(F32="Y",CONCATENATE($A32,,"_",$F$25), ) -> P7_2_6_040721 | H32: 16.7 | I32: y | J32: =if(I32="Y",CONCATENATE($A32,,"_",$I$25), ) -> P7_2_6_040821
A33: P7_2_7 | B33: 19 | C33: n | D33: =if(C33="Y",CONCATENATE(A33,,"_",$C$25), ) | E33: 18.7 | F33: y | G33: =if(F33="Y",CONCATENATE($A33,,"_",$F$25), ) -> P7_2_7_040721 | H33: 16.9 | I33: y | J33: =if(I33="Y",CONCATENATE($A33,,"_",$I$25), ) -> P7_2_7_040821
A34: P7_2_8 | B34: 18.3 | C34: n | D34: =if(C34="Y",CONCATENATE(A34,,"_",$C$25), ) | E34: 17.6 | F34: y | G34: =if(F34="Y",CONCATENATE($A34,,"_",$F$25), ) -> P7_2_8_040721 | H34: 18.4 | I34: y | J34: =if(I34="Y",CONCATENATE($A34,,"_",$I$25), ) -> P7_2_8_040821
B37: Date: | C37: 061521 | E37: Date: | F37: 061621 | H37: Date: | I37: 061721
A38: Pup Number | B38: Weight (g) | C38: Fecal (Y/N) | D38: Sample Name | E38: Weight (g) | F38: Fecal (Y/N) | G38: Sample Name | H38: Weight (g) | I38: Fecal (Y/N) | J38: Sample Name | K38: Remarks
A39: P7_3_1 | B39: 17.2 | C39: n | D39: =if(C39="Y",CONCATENATE(A39,,"_",$C$37), ) | E39: 17.7 | F39: y | G39: =if(F39="Y",CONCATENATE($A39,,"_",$F$37), ) -> P7_3_1_061621 | H39: 17.4 | I39: n | J39: =if(I39="Y",CONCATENATE($A39,,"_",$I$37), )
A40: P7_3_2 | B40: 17.6 | C40: n | D40: =if(C40="Y",CONCATENATE(A40,,"_",$C$37), ) | E40: 17.1 | F40: y | G40: =if(F40="Y",CONCATENATE($A40,,"_",$F$37), ) -> P7_3_2_061621 | H40: 17.1 | I40: n | J40: =if(I40="Y",CONCATENATE($A40,,"_",$I$37), )
A41: P7_3_3 | B41: 18 | C41: n | D41: =if(C41="Y",CONCATENATE(A41,,"_",$C$37), ) | E41: 19.6 | F41: y | G41: =if(F41="Y",CONCATENATE($A41,,"_",$F$37), ) -> P7_3_3_061621 | H41: 20.1 | I41: n | J41: =if(I41="Y",CONCATENATE($A41,,"_",$I$37), )
A42: P7_3_4 | B42: 19.7 | C42: n | D42: =if(C42="Y",CONCATENATE(A42,,"_",$C$37), ) | E42: 20.3 | F42: y | G42: =if(F42="Y",CONCATENATE($A42,,"_",$F$37), ) -> P7_3_4_061621 | H42: 18.3 | I42: n | J42: =if(I42="Y",CONCATENATE($A42,,"_",$I$37), )
A43: P7_3_5 | B43: 20.3 | C43: n | D43: =if(C43="Y",CONCATENATE(A43,,"_",$C$37), ) | E43: 20.1 | F43: y | G43: =if(F43="Y",CONCATENATE($A43,,"_",$F$37), ) -> P7_3_5_061621 | H43: 20.7 | I43: n | J43: =if(I43="Y",CONCATENATE($A43,,"_",$I$37), )
A44: P7_3_6 | B44: 19.6 | C44: n | D44: =if(C44="Y",CONCATENATE(A44,,"_",$C$37), ) | E44: 18.1 | F44: y | G44: =if(F44="Y",CONCATENATE($A44,,"_",$F$37), ) -> P7_3_6_061621 | H44: 20.1 | I44: n | J44: =if(I44="Y",CONCATENATE($A44,,"_",$I$37), )
B47: Date: | C47: 022321 | E47: Date: | F47: 022421 | H47: Date: | I47: 022521
A48: Pup Number | B48: Weight (g) | C48: Fecal (Y/N) | D48: Sample Name | E48: Weight (g) | F48: Fecal (Y/N) | G48: Sample Name | H48: Weight (g) | I48: Fecal (Y/N) | J48: Sample Name | K48: Remarks
A49: P8_1 | B49: 19.1 | C49: n | D49: =if(C49="Y",CONCATENATE(A49,,"_",$C$47), ) | E49: 19.2 | F49: y | G49: =if(F49="Y",CONCATENATE($A49,,"_",$F$47), ) -> P8_1_022421 | H49: 18.5 | I49: y | J49: =if(I49="Y",CONCATENATE($A49,,"_",$I$47), ) -> P8_1_022521
A50: P8_2 | B50: 22.1 | C50: n | D50: =if(C50="Y",CONCATENATE(A50,,"_",$C$47), ) | E50: 23 | F50: y | G50: =if(F50="Y",CONCATENATE($A50,,"_",$F$47), ) -> P8_2_022421 | H50: 21.2 | I50: y | J50: =if(I50="Y",CONCATENATE($A50,,"_",$I$47), ) -> P8_2_022521
B53: Date: | C53: 050521 | E53: Date: | F53: 050621 | H53: Date:
A54: Pup Number | B54: Weight (g) | C54: Fecal (Y/N) | D54: Sample Name | E54: Weight (g) | F54: Fecal (Y/N) | G54: Sample Name | H54: Weight (g) | I54: Fecal (Y/N) | J54: Sample Name | K54: Remarks
A55: P8_2_1 | B55: 14.1 | C55: y | D55: =if(C55="Y",CONCATENATE(A55,,"_",$C$53), ) -> P8_2_1_050521 | E55: 14.4 | F55: y | G55: =if(F55="Y",CONCATENATE($A55,,"_",$F$53), ) -> P8_2_1_050621 | J55: =if(I55="Y",CONCATENATE($A55,,"_",$I$53), )
A56: P8_2_2 | B56: 14.9 | C56: y | D56: =if(C56="Y",CONCATENATE(A56,,"_",$C$53), ) -> P8_2_2_050521 | E56: 14.1 | F56: y | G56: =if(F56="Y",CONCATENATE($A56,,"_",$F$53), ) -> P8_2_2_050621 | J56: =if(I56="Y",CONCATENATE($A56,,"_",$I$53), )
A57: P8_2_3 | B57: 13.5 | C57: y | D57: =if(C57="Y",CONCATENATE(A57,,"_",$C$53), ) -> P8_2_3_050521 | E57: 12.8 | F57: y | G57: =if(F57="Y",CONCATENATE($A57,,"_",$F$53), ) -> P8_2_3_050621 | J57: =if(I57="Y",CONCATENATE($A57,,"_",$I$53), )
A58: P8_2_4 | B58: 15 | C58: y | D58: =if(C58="Y",CONCATENATE(A58,,"_",$C$53), ) -> P8_2_4_050521 | E58: 13.1 | F58: y | G58: =if(F58="Y",CONCATENATE($A58,,"_",$F$53), ) -> P8_2_4_050621 | J58: =if(I58="Y",CONCATENATE($A58,,"_",$I$53), )
A59: P8_2_5 | B59: 13.9 | C59: y | D59: =if(C59="Y",CONCATENATE(A59,,"_",$C$53), ) -> P8_2_5_050521 | E59: 13.8 | F59: y | G59: =if(F59="Y",CONCATENATE($A59,,"_",$F$53), ) -> P8_2_5_050621 | J59: =if(I59="Y",CONCATENATE($A59,,"_",$I$53), )
A60: P8_2_6 | B60: 16.1 | C60: y | D60: =if(C60="Y",CONCATENATE(A60,,"_",$C$53), ) -> P8_2_6_050521 | E60: 16 | F60: y | G60: =if(F60="Y",CONCATENATE($A60,,"_",$F$53), ) -> P8_2_6_050621 | J60: =if(I60="Y",CONCATENATE($A60,,"_",$I$53), )

Sheet Week 6
B1: Date: | C1: 071221 | E1: Date: | F1: 071321 | H1: Date: | I1: 071421
A2: Pup Number | B2: Weight (g) | C2: Fecal (Y/N) | D2: Sample Name | E2: Weight (g) | F2: Fecal (Y/N) | G2: Sample Name | H2: Weight (g) | I2: Fecal (Y/N) | J2: Sample Name | K2: Remarks
A3: P4_1 | B3: 18.4 | C3: n | D3: =if(C3="Y",CONCATENATE(A3,,"_",$C$1), ) | E3: 18.7 | F3: y | G3: =if(F3="Y",CONCATENATE($A3,,"_",$F$1), ) -> P4_1_071321 | H3: 18.5 | I3: y | J3: =if(I3="Y",CONCATENATE($A3,,"_",$I$1), ) -> P4_1_071421
A4: P4_2 | B4: 16.9 | C4: n | D4: =if(C4="Y",CONCATENATE(A4,,"_",$C$1), ) | E4: 16.8 | F4: y | G4: =if(F4="Y",CONCATENATE($A4,,"_",$F$1), ) -> P4_2_071321 | H4: 17 | I4: y | J4: =if(I4="Y",CONCATENATE($A4,,"_",$I$1), ) -> P4_2_071421
A5: P4_3 | B5: 20.1 | C5: n | D5: =if(C5="Y",CONCATENATE(A5,,"_",$C$1), ) | E5: 20.7 | F5: y | G5: =if(F5="Y",CONCATENATE($A5,,"_",$F$1), ) -> P4_3_071321 | H5: 20.2 | I5: y | J5: =if(I5="Y",CONCATENATE($A5,,"_",$I$1), ) -> P4_3_071421
A6: P4_4 | B6: 19.4 | C6: n | D6: =if(C6="Y",CONCATENATE(A6,,"_",$C$1), ) | E6: 19.7 | F6: y | G6: =if(F6="Y",CONCATENATE($A6,,"_",$F$1), ) -> P4_4_071321 | H6: 19.9 | I6: y | J6: =if(I6="Y",CONCATENATE($A6,,"_",$I$1), ) -> P4_4_071421
A7: P4_5 | B7: 19.5 | C7: n | D7: =if(C7="Y",CONCATENATE(A7,,"_",$C$1), ) | E7: 20 | F7: y | G7: =if(F7="Y",CONCATENATE($A7,,"_",$F$1), ) -> P4_5_071321 | H7: 20.7 | I7: y | J7: =if(I7="Y",CONCATENATE($A7,,"_",$I$1), ) -> P4_5_071421
B10: Date: | C10: 062221 | E10: Date: | F10: 062321 | H10: Date: | I10: 062421
A11: Pup Number | B11: Weight (g) | C11: Fecal (Y/N) | D11: Sample Name | E11: Weight (g) | F11: Fecal (Y/N) | G11: Sample Name | H11: Weight (g) | I11: Fecal (Y/N) | J11: Sample Name | K11: Remarks
A12: P6_1 | B12: 15.5 | C12: y | D12: =if(C12="Y",CONCATENATE(A12,,"_",$C$10), ) -> P6_1_062221 | E12: 16.4 | F12: n | G12: =if(F12="Y",CONCATENATE($A12,,"_",$F$10), ) | H12: 16 | I12: y | J12: =if(I12="Y",CONCATENATE($A12,,"_",$I$10), ) -> P6_1_062421
A13: P6_2 | B13: 15.8 | C13: y | D13: =if(C13="Y",CONCATENATE(A13,,"_",$C$10), ) -> P6_2_062221 | E13: 18.5 | F13: n | G13: =if(F13="Y",CONCATENATE($A13,,"_",$F$10), ) | H13: 16.6 | I13: y | J13: =if(I13="Y",CONCATENATE($A13,,"_",$I$10), ) -> P6_2_062421
A14: P6_3 | B14: 18.4 | C14: y | D14: =if(C14="Y",CONCATENATE(A14,,"_",$C$10), ) -> P6_3_062221 | E14: 16 | F14: n | G14: =if(F14="Y",CONCATENATE($A14,,"_",$F$10), ) | H14: 18.7 | I14: y | J14: =if(I14="Y",CONCATENATE($A14,,"_",$I$10), ) -> P6_3_062421
B17: Date: | C17: 032321 | E17: Date: | F17: 032421 | H17: Date: | I17: 032521
A18: Pup Number | B18: Weight (g) | C18: Fecal (Y/N) | D18: Sample Name | E18: Weight (g) | F18: Fecal (Y/N) | G18: Sample Name | H18: Weight (g) | I18: Fecal (Y/N) | J18: Sample Name | K18: Remarks
A19: P7_1 | B19: 24.8 | C19: n | D19: =if(C19="Y",CONCATENATE('Week 7'!A19,,"_",$C$17), ) | E19: 22.7 | F19: y | G19: =if(F19="Y",CONCATENATE('Week 7'!$A19,,"_",$F$17), ) -> #REF! | H19: 24.4 | I19: y | J19: =if(I19="Y",CONCATENATE('Week 7'!$A19,,"_",$I$17), ) -> #REF!
A20: P7_2 | B20: 23 | C20: n | D20: =if(C20="Y",CONCATENATE('Week 7'!A20,,"_",$C$17), ) | E20: 22.8 | F20: y | G20: =if(F20="Y",CONCATENATE('Week 7'!$A20,,"_",$F$17), ) -> #REF! | H20: 24.1 | I20: y | J20: =if(I20="Y",CONCATENATE('Week 7'!$A20,,"_",$I$17), ) -> #REF!
A21: P7_3 | B21: 25.1 | C21: n | D21: =if(C21="Y",CONCATENATE('Week 7'!A21,,"_",$C$17), ) | E21: 22.2 | F21: y | G21: =if(F21="Y",CONCATENATE('Week 7'!$A21,,"_",$F$17), ) -> #REF! | H21: 23.6 | I21: y | J21: =if(I21="Y",CONCATENATE('Week 7'!$A21,,"_",$I$17), ) -> #REF!
A22: P7_4 | B22: 23.6 | C22: n | D22: =if(C22="Y",CONCATENATE('Week 7'!A22,,"_",$C$17), ) | E22: 22.5 | F22: y | G22: =if(F22="Y",CONCATENATE('Week 7'!$A22,,"_",$F$17), ) -> #REF! | H22: 23.3 | I22: y | J22: =if(I22="Y",CONCATENATE('Week 7'!$A22,,"_",$I$17), ) -> #REF!
B25: Date: | C25: 041321 | E25: Date: | H25: Date: | I25: 041521
A26: Pup Number | B26: Weight (g) | C26: Fecal (Y/N) | D26: Sample Name | E26: Weight (g) | F26: Fecal (Y/N) | G26: Sample Name | H26: Weight (g) | I26: Fecal (Y/N) | J26: Sample Name | K26: Remarks
A27: P7_2_1 | B27: 17.7 | C27: n | D27: =if(C27="Y",CONCATENATE(A27,,"_",$C$25), ) | G27: =if(F27="Y",CONCATENATE($A27,,"_",$F$25), ) | H27: 16.7 | I27: y | J27: =if(I27="Y",CONCATENATE($A27,,"_",$I$25), ) -> P7_2_1_041521
A28: P7_2_2 | B28: 19.9 | C28: n | D28: =if(C28="Y",CONCATENATE(A28,,"_",$C$25), ) | G28: =if(F28="Y",CONCATENATE($A28,,"_",$F$25), ) | H28: 18.3 | I28: y | J28: =if(I28="Y",CONCATENATE($A28,,"_",$I$25), ) -> P7_2_2_041521
A29: P7_2_3 | B29: 18.7 | C29: n | D29: =if(C29="Y",CONCATENATE(A29,,"_",$C$25), ) | G29: =if(F29="Y",CONCATENATE($A29,,"_",$F$25), ) | H29: 17.3 | I29: y | J29: =if(I29="Y",CONCATENATE($A29,,"_",$I$25), ) -> P7_2_3_041521
A30: P7_2_4 | B30: 17.7 | C30: n | D30: =if(C30="Y",CONCATENATE(A30,,"_",$C$25), ) | G30: =if(F30="Y",CONCATENATE($A30,,"_",$F$25), ) | H30: 18.5 | I30: y | J30: =if(I30="Y",CONCATENATE($A30,,"_",$I$25), ) -> P7_2_4_041521
A31: P7_2_5 | B31: 18.7 | C31: n | D31: =if(C31="Y",CONCATENATE(A31,,"_",$C$25), ) | G31: =if(F31="Y",CONCATENATE($A31,,"_",$F$25), ) | H31: 18.6 | I31: y | J31: =if(I31="Y",CONCATENATE($A31,,"_",$I$25), ) -> P7_2_5_041521
A32: P7_2_6 | B32: 18.1 | C32: n | D32: =if(C32="Y",CONCATENATE(A32,,"_",$C$25), ) | G32: =if(F32="Y",CONCATENATE($A32,,"_",$F$25), ) | H32: 18.9 | I32: y | J32: =if(I32="Y",CONCATENATE($A32,,"_",$I$25), ) -> P7_2_6_041521
A33: P7_2_7 | B33: 20 | C33: n | D33: =if(C33="Y",CONCATENATE(A33,,"_",$C$25), ) | G33: =if(F33="Y",CONCATENATE($A33,,"_",$F$25), ) | H33: 20.3 | I33: y | J33: =if(I33="Y",CONCATENATE($A33,,"_",$I$25), ) -> P7_2_7_041521
A34: P7_2_8 | B34: 18.8 | C34: n | D34: =if(C34="Y",CONCATENATE(A34,,"_",$C$25), ) | G34: =if(F34="Y",CONCATENATE($A34,,"_",$F$25), ) | H34: 17.1 | I34: y | J34: =if(I34="Y",CONCATENATE($A34,,"_",$I$25), ) -> P7_2_8_041521
B37: Date: | C37: 062221 | E37: Date: | F37: 062321 | H37: Date: | I37: 062421
A38: Pup Number | B38: Weight (g) | C38: Fecal (Y/N) | D38: Sample Name | E38: Weight (g) | F38: Fecal (Y/N) | G38: Sample Name | H38: Weight (g) | I38: Fecal (Y/N) | J38: Sample Name | K38: Remarks
A39: P7_3_1 | B39: 18.1 | C39: y | D39: =if(C39="Y",CONCATENATE(A39,,"_",$C$37), ) -> P7_3_1_062221 | E39: 18.3 | F39: n | G39: =if(F39="Y",CONCATENATE($A39,,"_",$F$37), ) | H39: 18 | I39: y | J39: =if(I39="Y",CONCATENATE($A39,,"_",$I$37), ) -> P7_3_1_062421
A40: P7_3_2 | B40: 18.9 | C40: y | D40: =if(C40="Y",CONCATENATE(A40,,"_",$C$37), ) -> P7_3_2_062221 | E40: 17.9 | F40: n | G40: =if(F40="Y",CONCATENATE($A40,,"_",$F$37), ) | H40: 18.1 | I40: y | J40: =if(I40="Y",CONCATENATE($A40,,"_",$I$37), ) -> P7_3_2_062421
A41: P7_3_3 | B41: 20.9 | C41: y | D41: =if(C41="Y",CONCATENATE(A41,,"_",$C$37), ) -> P7_3_3_062221 | E41: 21.8 | F41: n | G41: =if(F41="Y",CONCATENATE($A41,,"_",$F$37), ) | H41: 20.6 | I41: y | J41: =if(I41="Y",CONCATENATE($A41,,"_",$I$37), ) -> P7_3_3_062421
A42: P7_3_4 | B42: 19.2 | C42: y | D42: =if(C42="Y",CONCATENATE(A42,,"_",$C$37), ) -> P7_3_4_062221 | E42: 21 | F42: n | G42: =if(F42="Y",CONCATENATE($A42,,"_",$F$37), ) | H42: 20.8 | I42: y | J42: =if(I42="Y",CONCATENATE($A42,,"_",$I$37), ) -> P7_3_4_062421
A43: P7_3_5 | B43: 21.6 | C43: y | D43: =if(C43="Y",CONCATENATE(A43,,"_",$C$37), ) -> P7_3_5_062221 | E43: 21.1 | F43: n | G43: =if(F43="Y",CONCATENATE($A43,,"_",$F$37), ) | H43: 18.6 | I43: y | J43: =if(I43="Y",CONCATENATE($A43,,"_",$I$37), ) -> P7_3_5_062421
A44: P7_3_6 | B44: 20.9 | C44: y | D44: =if(C44="Y",CONCATENATE(A44,,"_",$C$37), ) -> P7_3_6_062221 | E44: 19.2 | F44: n | G44: =if(F44="Y",CONCATENATE($A44,,"_",$F$37), ) | H44: 21.1 | I44: y | J44: =if(I44="Y",CONCATENATE($A44,,"_",$I$37), ) -> P7_3_6_062421
B47: Date: | C47: 030221 | E47: Date: | F47: 030321 | H47: Date: | I47: 030421
A48: Pup Number | B48: Weight (g) | C48: Fecal (Y/N) | D48: Sample Name | E48: Weight (g) | F48: Fecal (Y/N) | G48: Sample Name | H48: Weight (g) | I48: Fecal (Y/N) | J48: Sample Name | K48: Remarks
A49: P8_1 | B49: 18.6 | C49: n | D49: =if(C49="Y",CONCATENATE(A49,,"_",$C$47), ) | E49: 17.1 | F49: y | G49: =if(F49="Y",CONCATENATE($A49,,"_",$F$47), ) -> P8_1_030321 | H49: 24.8 | I49: y | J49: =if(I49="Y",CONCATENATE($A49,,"_",$I$47), ) -> P8_1_030421
A50: P8_2 | B50: 24.8 | C50: n | D50: =if(C50="Y",CONCATENATE(A50,,"_",$C$47), ) | E50: 24.1 | F50: y | G50: =if(F50="Y",CONCATENATE($A50,,"_",$F$47), ) -> P8_2_030321 | H50: 21.8 | I50: y | J50: =if(I50="Y",CONCATENATE($A50,,"_",$I$47), ) -> P8_2_030421
B53: Date: | C53: 051121 | E53: Date: | F53: 051221 | H53: Date: | I53: 051421
A54: Pup Number | B54: Weight (g) | C54: Fecal (Y/N) | D54: Sample Name | E54: Weight (g) | F54: Fecal (Y/N) | G54: Sample Name | H54: Weight (g) | I54: Fecal (Y/N) | J54: Sample Name | K54: Remarks
A55: P8_2_1 | B55: 14.9 | C55: y | D55: =if(C55="Y",CONCATENATE(A55,,"_",$C$53), ) -> P8_2_1_051121 | E55: 15.7 | F55: y | G55: =if(F55="Y",CONCATENATE($A55,,"_",$F$53), ) -> P8_2_1_051221 | H55: 15.7 | I55: n | J55: =if(I55="Y",CONCATENATE($A55,,"_",$I$53), )
A56: P8_2_2 | B56: 15.6 | C56: y | D56: =if(C56="Y",CONCATENATE(A56,,"_",$C$53), ) -> P8_2_2_051121 | E56: 12.8 | F56: y | G56: =if(F56="Y",CONCATENATE($A56,,"_",$F$53), ) -> P8_2_2_051221 | H56: 15.3 | I56: n | J56: =if(I56="Y",CONCATENATE($A56,,"_",$I$53), )
A57: P8_2_3 | B57: 16.5 | C57: y | D57: =if(C57="Y",CONCATENATE(A57,,"_",$C$53), ) -> P8_2_3_051121 | E57: 14.9 | F57: y | G57: =if(F57="Y",CONCATENATE($A57,,"_",$F$53), ) -> P8_2_3_051221 | H57: 17.4 | I57: n | J57: =if(I57="Y",CONCATENATE($A57,,"_",$I$53), )
A58: P8_2_4 | B58: 16.5 | C58: y | D58: =if(C58="Y",CONCATENATE(A58,,"_",$C$53), ) -> P8_2_4_051121 | E58: 16.7 | F58: y | G58: =if(F58="Y",CONCATENATE($A58,,"_",$F$53), ) -> P8_2_4_051221 | H58: 18.6 | I58: n | J58: =if(I58="Y",CONCATENATE($A58,,"_",$I$53), )
A59: P8_2_5 | B59: 17.1 | C59: y | D59: =if(C59="Y",CONCATENATE(A59,,"_",$C$53), ) -> P8_2_5_051121 | E59: 15.9 | F59: y | G59: =if(F59="Y",CONCATENATE($A59,,"_",$F$53), ) -> P8_2_5_051221 | H59: 17 | I59: n | J59: =if(I59="Y",CONCATENATE($A59,,"_",$I$53), )
A60: P8_2_6 | B60: 15.6 | C60: y | D60: =if(C60="Y",CONCATENATE(A60,,"_",$C$53), ) -> P8_2_6_051121 | E60: 16 | F60: y | G60: =if(F60="Y",CONCATENATE($A60,,"_",$F$53), ) -> P8_2_6_051221 | H60: 16.8 | I60: n | J60: =if(I60="Y",CONCATENATE($A60,,"_",$I$53), )

Sheet Week 7
B1: Date: | C1: 071921 | E1: Date: | F1: 072021 | H1: Date: | I1: 072121
A2: Pup Number | B2: Weight (g) | C2: Fecal (Y/N) | D2: Sample Name | E2: Weight (g) | F2: Fecal (Y/N) | G2: Sample Name | H2: Weight (g) | I2: Fecal (Y/N) | J2: Sample Name | K2: Remarks
A3: P4_1 | B3: 17.1 | C3: n | D3: =if(C3="Y",CONCATENATE(A3,,"_",$C$1), ) | E3: 16.9 | F3: y | G3: =if(F3="Y",CONCATENATE($A3,,"_",$F$1), ) -> P4_1_072021 | H3: 17 | I3: y | J3: =if(I3="Y",CONCATENATE($A3,,"_",$I$1), ) -> P4_1_072121
A4: P4_2 | B4: 19.9 | C4: n | D4: =if(C4="Y",CONCATENATE(A4,,"_",$C$1), ) | E4: 19.8 | F4: y | G4: =if(F4="Y",CONCATENATE($A4,,"_",$F$1), ) -> P4_2_072021 | H4: 19.8 | I4: y | J4: =if(I4="Y",CONCATENATE($A4,,"_",$I$1), ) -> P4_2_072121
A5: P4_3 | B5: 20.7 | C5: n | D5: =if(C5="Y",CONCATENATE(A5,,"_",$C$1), ) | E5: 20.8 | F5: y | G5: =if(F5="Y",CONCATENATE($A5,,"_",$F$1), ) -> P4_3_072021 | H5: 21 | I5: y | J5: =if(I5="Y",CONCATENATE($A5,,"_",$I$1), ) -> P4_3_072121
A6: P4_4 | B6: 20.4 | C6: n | D6: =if(C6="Y",CONCATENATE(A6,,"_",$C$1), ) | E6: 21.4 | F6: y | G6: =if(F6="Y",CONCATENATE($A6,,"_",$F$1), ) -> P4_4_072021 | H6: 21.6 | I6: y | J6: =if(I6="Y",CONCATENATE($A6,,"_",$I$1), ) -> P4_4_072121
A7: P4_5 | B7: 20.4 | C7: n | D7: =if(C7="Y",CONCATENATE(A7,,"_",$C$1), ) | E7: 21.3 | F7: y | G7: =if(F7="Y",CONCATENATE($A7,,"_",$F$1), ) -> P4_5_072021 | H7: 20.4 | I7: y | J7: =if(I7="Y",CONCATENATE($A7,,"_",$I$1), ) -> P4_5_072121
B10: Date: | C10: 062821 | E10: Date: | F10: 062921 | H10: Date: | I10: 063021
A11: Pup Number | B11: Weight (g) | C11: Fecal (Y/N) | D11: Sample Name | E11: Weight (g) | F11: Fecal (Y/N) | G11: Sample Name | H11: Weight (g) | I11: Fecal (Y/N) | J11: Sample Name | K11: Remarks
A12: P6_1 | B12: 16.9 | C12: y | D12: =if(C12="Y",CONCATENATE(A12,,"_",$C$10), ) -> P6_1_062821 | E12: 16.8 | F12: n | G12: =if(F12="Y",CONCATENATE($A12,,"_",$F$10), ) | H12: 20.3 | I12: y | J12: =if(I12="Y",CONCATENATE($A12,,"_",$I$10), ) -> P6_1_063021
A13: P6_2 | B13: 18.7 | C13: y | D13: =if(C13="Y",CONCATENATE(A13,,"_",$C$10), ) -> P6_2_062821 | E13: 18.8 | F13: n | G13: =if(F13="Y",CONCATENATE($A13,,"_",$F$10), ) | H13: 19.1 | I13: y | J13: =if(I13="Y",CONCATENATE($A13,,"_",$I$10), ) -> P6_2_063021
A14: P6_3 | B14: 19.9 | C14: y | D14: =if(C14="Y",CONCATENATE(A14,,"_",$C$10), ) -> P6_3_062821 | E14: 19.7 | F14: n | G14: =if(F14="Y",CONCATENATE($A14,,"_",$F$10), ) | H14: 17.1 | I14: y | J14: =if(I14="Y",CONCATENATE($A14,,"_",$I$10), ) -> P6_3_063021
B17: Date: | C17: 033021 | E17: Date: | F17: 033121 | H17: Date: | J17: no weights
A18: Pup Number | B18: Weight (g) | C18: Fecal (Y/N) | D18: Sample Name | E18: Weight (g) | F18: Fecal (Y/N) | G18: Sample Name | H18: Weight (g) | I18: Fecal (Y/N) | J18: Sample Name | K18: Remarks
A19: P7_1 | B19: 24.7 | C19: n | D19: =if(C19="Y",CONCATENATE('Week 8'!A19,,"_",$C$17), ) | E19: 23.2 | F19: y | G19: =if(F19="Y",CONCATENATE('Week 8'!$A19,,"_",$F$17), ) -> #REF! | J19: =if(I19="Y",CONCATENATE('Week 8'!$A19,,"_",$I$17), )
A20: P7_2 | B20: 23.9 | C20: n | D20: =if(C20="Y",CONCATENATE('Week 8'!A20,,"_",$C$17), ) | E20: 23.4 | F20: y | G20: =if(F20="Y",CONCATENATE('Week 8'!$A20,,"_",$F$17), ) -> #REF! | J20: =if(I20="Y",CONCATENATE('Week 8'!$A20,,"_",$I$17), )
A21: P7_3 | B21: 23.8 | C21: n | D21: =if(C21="Y",CONCATENATE('Week 8'!A21,,"_",$C$17), ) | E21: 22.4 | F21: y | G21: =if(F21="Y",CONCATENATE('Week 8'!$A21,,"_",$F$17), ) -> #REF! | J21: =if(I21="Y",CONCATENATE('Week 8'!$A21,,"_",$I$17), )
A22: P7_4 | B22: 25.1 | C22: n | D22: =if(C22="Y",CONCATENATE('Week 8'!A22,,"_",$C$17), ) | E22: 21.3 | F22: y | G22: =if(F22="Y",CONCATENATE('Week 8'!$A22,,"_",$F$17), ) -> #REF! | J22: =if(I22="Y",CONCATENATE('Week 8'!$A22,,"_",$I$17), )
B25: Date: | C25: 042121 | E25: Date: | H25: Date: | I25: 042321
A26: Pup Number | B26: Weight (g) | C26: Fecal (Y/N) | D26: Sample Name | E26: Weight (g) | F26: Fecal (Y/N) | G26: Sample Name | H26: Weight (g) | I26: Fecal (Y/N) | J26: Sample Name | K26: Remarks
A27: P7_2_1 | B27: 18.2 | C27: y | D27: =if(C27="Y",CONCATENATE(A27,,"_",$C$25), ) -> P7_2_1_042121 | G27: =if(F27="Y",CONCATENATE($A27,,"_",$F$25), ) | H27: 18.7 | I27: y | J27: =if(I27="Y",CONCATENATE($A27,,"_",$I$25), ) -> P7_2_1_042321
A28: P7_2_2 | B28: 20.3 | C28: y | D28: =if(C28="Y",CONCATENATE(A28,,"_",$C$25), ) -> P7_2_2_042121 | G28: =if(F28="Y",CONCATENATE($A28,,"_",$F$25), ) | H28: 20.4 | I28: y | J28: =if(I28="Y",CONCATENATE($A28,,"_",$I$25), ) -> P7_2_2_042321
A29: P7_2_3 | B29: 18.9 | C29: y | D29: =if(C29="Y",CONCATENATE(A29,,"_",$C$25), ) -> P7_2_3_042121 | G29: =if(F29="Y",CONCATENATE($A29,,"_",$F$25), ) | H29: 20 | I29: y | J29: =if(I29="Y",CONCATENATE($A29,,"_",$I$25), ) -> P7_2_3_042321
A30: P7_2_4 | B30: 17.2 | C30: y | D30: =if(C30="Y",CONCATENATE(A30,,"_",$C$25), ) -> P7_2_4_042121 | G30: =if(F30="Y",CONCATENATE($A30,,"_",$F$25), ) | H30: 20 | I30: y | J30: =if(I30="Y",CONCATENATE($A30,,"_",$I$25), ) -> P7_2_4_042321
A31: P7_2_5 | B31: 18.2 | C31: y | D31: =if(C31="Y",CONCATENATE(A31,,"_",$C$25), ) -> P7_2_5_042121 | G31: =if(F31="Y",CONCATENATE($A31,,"_",$F$25), ) | H31: 21.1 | I31: y | J31: =if(I31="Y",CONCATENATE($A31,,"_",$I$25), ) -> P7_2_5_042321
A32: P7_2_6 | B32: 17.9 | C32: y | D32: =if(C32="Y",CONCATENATE(A32,,"_",$C$25), ) -> P7_2_6_042121 | G32: =if(F32="Y",CONCATENATE($A32,,"_",$F$25), ) | H32: 19.9 | I32: y | J32: =if(I32="Y",CONCATENATE($A32,,"_",$I$25), ) -> P7_2_6_042321
A33: P7_2_7 | B33: 17 | C33: y | D33: =if(C33="Y",CONCATENATE(A33,,"_",$C$25), ) -> P7_2_7_042121 | G33: =if(F33="Y",CONCATENATE($A33,,"_",$F$25), ) | H33: 19.9 | I33: y | J33: =if(I33="Y",CONCATENATE($A33,,"_",$I$25), ) -> P7_2_7_042321
A34: P7_2_8 | B34: 18.4 | C34: y | D34: =if(C34="Y",CONCATENATE(A34,,"_",$C$25), ) -> P7_2_8_042121 | G34: =if(F34="Y",CONCATENATE($A34,,"_",$F$25), ) | H34: 21.2 | I34: y | J34: =if(I34="Y",CONCATENATE($A34,,"_",$I$25), ) -> P7_2_8_042321
B37: Date: | C37: 062821 | E37: Date: | F37: 062921 | H37: Date: | I37: 063021
A38: Pup Number | B38: Weight (g) | C38: Fecal (Y/N) | D38: Sample Name | E38: Weight (g) | F38: Fecal (Y/N) | G38: Sample Name | H38: Weight (g) | I38: Fecal (Y/N) | J38: Sample Name | K38: Remarks
A39: P7_3_1 | B39: 18.4 | C39: y | D39: =if(C39="Y",CONCATENATE(A39,,"_",$C$37), ) -> P7_3_1_062821 | E39: 19 | F39: n | G39: =if(F39="Y",CONCATENATE($A39,,"_",$F$37), ) | H39: 18.8 | I39: y | J39: =if(I39="Y",CONCATENATE($A39,,"_",$I$37), ) -> P7_3_1_063021
A40: P7_3_2 | B40: 18.2 | C40: y | D40: =if(C40="Y",CONCATENATE(A40,,"_",$C$37), ) -> P7_3_2_062821 | E40: 18.2 | F40: n | G40: =if(F40="Y",CONCATENATE($A40,,"_",$F$37), ) | H40: 18 | I40: y | J40: =if(I40="Y",CONCATENATE($A40,,"_",$I$37), ) -> P7_3_2_063021
A41: P7_3_3 | B41: 21.4 | C41: y | D41: =if(C41="Y",CONCATENATE(A41,,"_",$C$37), ) -> P7_3_3_062821 | E41: 22 | F41: n | G41: =if(F41="Y",CONCATENATE($A41,,"_",$F$37), ) | H41: 22.7 | I41: y | J41: =if(I41="Y",CONCATENATE($A41,,"_",$I$37), ) -> P7_3_3_063021
A42: P7_3_4 | B42: 22.4 | C42: y | D42: =if(C42="Y",CONCATENATE(A42,,"_",$C$37), ) -> P7_3_4_062821 | E42: 22.9 | F42: n | G42: =if(F42="Y",CONCATENATE($A42,,"_",$F$37), ) | H42: 21.9 | I42: y | J42: =if(I42="Y",CONCATENATE($A42,,"_",$I$37), ) -> P7_3_4_063021
A43: P7_3_5 | B43: 19.8 | C43: y | D43: =if(C43="Y",CONCATENATE(A43,,"_",$C$37), ) -> P7_3_5_062821 | E43: 20.1 | F43: n | G43: =if(F43="Y",CONCATENATE($A43,,"_",$F$37), ) | H43: 20.3 | I43: y | J43: =if(I43="Y",CONCATENATE($A43,,"_",$I$37), ) -> P7_3_5_063021
A44: P7_3_6 | B44: 21.6 | C44: y | D44: =if(C44="Y",CONCATENATE(A44,,"_",$C$37), ) -> P7_3_6_062821 | E44: 21.9 | F44: n | G44: =if(F44="Y",CONCATENATE($A44,,"_",$F$37), ) | H44: 22 | I44: y | J44: =if(I44="Y",CONCATENATE($A44,,"_",$I$37), ) -> P7_3_6_063021
B47: Date: | C47: 030921 | E47: Date: | H47: Date: | I47: 031221
A48: Pup Number | B48: Weight (g) | C48: Fecal (Y/N) | D48: Sample Name | E48: Weight (g) | F48: Fecal (Y/N) | G48: Sample Name | H48: Weight (g) | I48: Fecal (Y/N) | J48: Sample Name | K48: Remarks
A49: P8_1 | B49: 24.9 | C49: n | D49: =if(C49="Y",CONCATENATE(A49,,"_",$C$47), ) | G49: =if(F49="Y",CONCATENATE($A49,,"_",$F$47), ) | H49: 21.9 | I49: y | J49: =if(I49="Y",CONCATENATE($A49,,"_",$I$47), ) -> P8_1_031221 | K49: no weights
A50: P8_2 | B50: 22 | C50: n | D50: =if(C50="Y",CONCATENATE(A50,,"_",$C$47), ) | G50: =if(F50="Y",CONCATENATE($A50,,"_",$F$47), ) | H50: 25 | I50: y | J50: =if(I50="Y",CONCATENATE($A50,,"_",$I$47), ) -> P8_2_031221
B53: Date: | C53: 051821 | E53: Date: | F53: 051921 | H53: Date: | I53: 052021
A54: Pup Number | B54: Weight (g) | C54: Fecal (Y/N) | D54: Sample Name | E54: Weight (g) | F54: Fecal (Y/N) | G54: Sample Name | H54: Weight (g) | I54: Fecal (Y/N) | J54: Sample Name | K54: Remarks
A55: P8_2_1 | B55: 17.6 | C55: y | D55: =if(C55="Y",CONCATENATE(A55,,"_",$C$53), ) -> P8_2_1_051821 | E55: 16.4 | F55: n | G55: =if(F55="Y",CONCATENATE($A55,,"_",$F$53), ) | H55: 18.2 | I55: y | J55: =if(I55="Y",CONCATENATE($A55,,"_",$I$53), ) -> P8_2_1_052021
A56: P8_2_2 | B56: 15.5 | C56: y | D56: =if(C56="Y",CONCATENATE(A56,,"_",$C$53), ) -> P8_2_2_051821 | E56: 18.3 | F56: n | G56: =if(F56="Y",CONCATENATE($A56,,"_",$F$53), ) | H56: 16.4 | I56: y | J56: =if(I56="Y",CONCATENATE($A56,,"_",$I$53), ) -> P8_2_2_052021
A57: P8_2_3 | B57: 15.2 | C57: y | D57: =if(C57="Y",CONCATENATE(A57,,"_",$C$53), ) -> P8_2_3_051821 | E57: 16.1 | F57: n | G57: =if(F57="Y",CONCATENATE($A57,,"_",$F$53), ) | H57: 16 | I57: y | J57: =if(I57="Y",CONCATENATE($A57,,"_",$I$53), ) -> P8_2_3_052021
A58: P8_2_4 | B58: 18.2 | C58: y | D58: =if(C58="Y",CONCATENATE(A58,,"_",$C$53), ) -> P8_2_4_051821 | E58: 17.8 | F58: n | G58: =if(F58="Y",CONCATENATE($A58,,"_",$F$53), ) | H58: 18.4 | I58: y | J58: =if(I58="Y",CONCATENATE($A58,,"_",$I$53), ) -> P8_2_4_052021
A59: P8_2_5 | B59: 17.6 | C59: y | D59: =if(C59="Y",CONCATENATE(A59,,"_",$C$53), ) -> P8_2_5_051821 | E59: 18 | F59: n | G59: =if(F59="Y",CONCATENATE($A59,,"_",$F$53), ) | H59: 19.2 | I59: y | J59: =if(I59="Y",CONCATENATE($A59,,"_",$I$53), ) -> P8_2_5_052021
A60: P8_2_6 | B60: 17.3 | C60: y | D60: =if(C60="Y",CONCATENATE(A60,,"_",$C$53), ) -> P8_2_6_051821 | E60: 18.9 | F60: n | G60: =if(F60="Y",CONCATENATE($A60,,"_",$F$53), ) | H60: 17.9 | I60: y | J60: =if(I60="Y",CONCATENATE($A60,,"_",$I$53), ) -> P8_2_6_052021

Sheet Week 8
B1: Date: | C1: 072621 | E1: Date: | F1: 072721 | H1: Date: | I1: 072821
A2: Pup Number | B2: Weight (g) | C2: Fecal (Y/N) | D2: Sample Name | E2: Weight (g) | F2: Fecal (Y/N) | G2: Sample Name | H2: Weight (g) | I2: Fecal (Y/N) | J2: Sample Name | K2: Remarks
A3: P4_1 | B3: 19.8 | C3: n | D3: =if(C3="Y",CONCATENATE(A3,,"_",$C$1), ) | E3: 20.3 | F3: y | G3: =if(F3="Y",CONCATENATE($A3,,"_",$F$1), ) -> P4_1_072721 | H3: 17.3 | I3: y | J3: =if(I3="Y",CONCATENATE($A3,,"_",$I$1), ) -> P4_1_072821
A4: P4_2 | B4: 17.1 | C4: n | D4: =if(C4="Y",CONCATENATE(A4,,"_",$C$1), ) | E4: 17.3 | F4: y | G4: =if(F4="Y",CONCATENATE($A4,,"_",$F$1), ) -> P4_2_072721 | H4: 20.1 | I4: y | J4: =if(I4="Y",CONCATENATE($A4,,"_",$I$1), ) -> P4_2_072821
A5: P4_3 | B5: 20.7 | C5: n | D5: =if(C5="Y",CONCATENATE(A5,,"_",$C$1), ) | E5: 21.8 | F5: y | G5: =if(F5="Y",CONCATENATE($A5,,"_",$F$1), ) -> P4_3_072721 | H5: 22.3 | I5: y | J5: =if(I5="Y",CONCATENATE($A5,,"_",$I$1), ) -> P4_3_072821
A6: P4_4 | B6: 22.3 | C6: n | D6: =if(C6="Y",CONCATENATE(A6,,"_",$C$1), ) | E6: 20.9 | F6: y | G6: =if(F6="Y",CONCATENATE($A6,,"_",$F$1), ) -> P4_4_072721 | H6: 21.5 | I6: y | J6: =if(I6="Y",CONCATENATE($A6,,"_",$I$1), ) -> P4_4_072821
A7: P4_5 | B7: 21.7 | C7: n | D7: =if(C7="Y",CONCATENATE(A7,,"_",$C$1), ) | E7: 21.7 | F7: y | G7: =if(F7="Y",CONCATENATE($A7,,"_",$F$1), ) -> P4_5_072721 | H7: 22 | I7: y | J7: =if(I7="Y",CONCATENATE($A7,,"_",$I$1), ) -> P4_5_072821
B10: Date: | C10: 070621 | E10: Date: | F10: 070821 | H10: Date: | I10: 070921
A11: Pup Number | B11: Weight (g) | C11: Fecal (Y/N) | D11: Sample Name | E11: Weight (g) | F11: Fecal (Y/N) | G11: Sample Name | H11: Weight (g) | I11: Fecal (Y/N) | J11: Sample Name | K11: Remarks
A12: P6_1 | B12: 19.8 | C12: y | D12: =if(C12="Y",CONCATENATE(A12,,"_",$C$10), ) -> P6_1_070621 | E12: 22.3 | F12: n | G12: =if(F12="Y",CONCATENATE($A12,,"_",$F$10), ) | H12: 20.9 | I12: n | J12: =if(I12="Y",CONCATENATE($A12,,"_",$I$10), )
A13: P6_2 | B13: 17.9 | C13: y | D13: =if(C13="Y",CONCATENATE(A13,,"_",$C$10), ) -> P6_2_070621 | E13: 20.6 | F13: n | G13: =if(F13="Y",CONCATENATE($A13,,"_",$F$10), ) | H13: 18.7 | I13: n | J13: =if(I13="Y",CONCATENATE($A13,,"_",$I$10), )
A14: P6_3 | B14: 21.5 | C14: y | D14: =if(C14="Y",CONCATENATE(A14,,"_",$C$10), ) -> P6_3_070621 | E14: 18.4 | F14: n | G14: =if(F14="Y",CONCATENATE($A14,,"_",$F$10), ) | H14: 22.3 | I14: n | J14: =if(I14="Y",CONCATENATE($A14,,"_",$I$10), )
B17: Date: | C17: 040621 | E17: Date: | F17: 040721 | H17: Date: | I17: 040821
A18: Pup Number | B18: Weight (g) | C18: Fecal (Y/N) | D18: Sample Name | E18: Weight (g) | F18: Fecal (Y/N) | G18: Sample Name | H18: Weight (g) | I18: Fecal (Y/N) | J18: Sample Name | K18: Remarks
A19: P7_1 | B19: 24.4 | C19: n | D19: =if(C19="Y",CONCATENATE('Week 9'!A19,,"_",$C$17), ) | E19: 23.8 | F19: y | G19: =if(F19="Y",CONCATENATE('Week 9'!$A19,,"_",$F$17), ) -> #REF! | H19: 26.1 | I19: y | J19: =if(I19="Y",CONCATENATE('Week 9'!$A19,,"_",$I$17), ) -> #REF!
A20: P7_2 | B20: 25.6 | C20: n | D20: =if(C20="Y",CONCATENATE('Week 9'!A20,,"_",$C$17), ) | E20: 26 | F20: y | G20: =if(F20="Y",CONCATENATE('Week 9'!$A20,,"_",$F$17), ) -> #REF! | H20: 24.3 | I20: y | J20: =if(I20="Y",CONCATENATE('Week 9'!$A20,,"_",$I$17), ) -> #REF!
A21: P7_3 | B21: 23.9 | C21: n | D21: =if(C21="Y",CONCATENATE('Week 9'!A21,,"_",$C$17), ) | E21: 24.1 | F21: y | G21: =if(F21="Y",CONCATENATE('Week 9'!$A21,,"_",$F$17), ) -> #REF! | H21: 24 | I21: y | J21: =if(I21="Y",CONCATENATE('Week 9'!$A21,,"_",$I$17), ) -> #REF!
A22: P7_4 | B22: 24.6 | C22: n | D22: =if(C22="Y",CONCATENATE('Week 9'!A22,,"_",$C$17), ) | E22: 27.1 | F22: y | G22: =if(F22="Y",CONCATENATE('Week 9'!$A22,,"_",$F$17), ) -> #REF! | H22: 26.1 | I22: y | J22: =if(I22="Y",CONCATENATE('Week 9'!$A22,,"_",$I$17), ) -> #REF!
B25: Date: | C25: 042621 | E25: Date: | F25: 042821 | H25: Date: | I25: 042921
A26: Pup Number | B26: Weight (g) | C26: Fecal (Y/N) | D26: Sample Name | E26: Weight (g) | F26: Fecal (Y/N) | G26: Sample Name | H26: Weight (g) | I26: Fecal (Y/N) | J26: Sample Name | K26: Remarks
A27: P7_2_1 | B27: 19.1 | C27: n | D27: =if(C27="Y",CONCATENATE(A27,,"_",$C$25), ) | E27: 19.8 | F27: y | G27: =if(F27="Y",CONCATENATE($A27,,"_",$F$25), ) -> P7_2_1_042821 | H27: 19.2 | I27: y | J27: =if(I27="Y",CONCATENATE($A27,,"_",$I$25), ) -> P7_2_1_042921
A28: P7_2_2 | B28: 20.8 | C28: n | D28: =if(C28="Y",CONCATENATE(A28,,"_",$C$25), ) | E28: 22.3 | F28: y | G28: =if(F28="Y",CONCATENATE($A28,,"_",$F$25), ) -> P7_2_2_042821 | H28: 20.2 | I28: y | J28: =if(I28="Y",CONCATENATE($A28,,"_",$I$25), ) -> P7_2_2_042921
A29: P7_2_3 | B29: 20.1 | C29: n | D29: =if(C29="Y",CONCATENATE(A29,,"_",$C$25), ) | E29: 21.2 | F29: y | G29: =if(F29="Y",CONCATENATE($A29,,"_",$F$25), ) -> P7_2_3_042821 | H29: 20 | I29: y | J29: =if(I29="Y",CONCATENATE($A29,,"_",$I$25), ) -> P7_2_3_042921
A30: P7_2_4 | B30: 19.5 | C30: n | D30: =if(C30="Y",CONCATENATE(A30,,"_",$C$25), ) | E30: 17 | F30: y | G30: =if(F30="Y",CONCATENATE($A30,,"_",$F$25), ) -> P7_2_4_042821 | H30: 20.8 | I30: y | J30: =if(I30="Y",CONCATENATE($A30,,"_",$I$25), ) -> P7_2_4_042921
A31: P7_2_5 | B31: 19.8 | C31: n | D31: =if(C31="Y",CONCATENATE(A31,,"_",$C$25), ) | E31: 21.3 | F31: y | G31: =if(F31="Y",CONCATENATE($A31,,"_",$F$25), ) -> P7_2_5_042821 | H31: 19.9 | I31: y | J31: =if(I31="Y",CONCATENATE($A31,,"_",$I$25), ) -> P7_2_5_042921
A32: P7_2_6 | B32: 20.1 | C32: n | D32: =if(C32="Y",CONCATENATE(A32,,"_",$C$25), ) | E32: 22 | F32: y | G32: =if(F32="Y",CONCATENATE($A32,,"_",$F$25), ) -> P7_2_6_042821 | H32: 21.6 | I32: y | J32: =if(I32="Y",CONCATENATE($A32,,"_",$I$25), ) -> P7_2_6_042921
A33: P7_2_7 | B33: 20.7 | C33: n | D33: =if(C33="Y",CONCATENATE(A33,,"_",$C$25), ) | E33: 22.9 | F33: y | G33: =if(F33="Y",CONCATENATE($A33,,"_",$F$25), ) -> P7_2_7_042821 | H33: 23.1 | I33: y | J33: =if(I33="Y",CONCATENATE($A33,,"_",$I$25), ) -> P7_2_7_042921
A34: P7_2_8 | B34: 20.2 | C34: n | D34: =if(C34="Y",CONCATENATE(A34,,"_",$C$25), ) | E34: 21.8 | F34: y | G34: =if(F34="Y",CONCATENATE($A34,,"_",$F$25), ) -> P7_2_8_042821 | H34: 21.4 | I34: y | J34: =if(I34="Y",CONCATENATE($A34,,"_",$I$25), ) -> P7_2_8_042921
B37: Date: | C37: 070621 | E37: Date: | F37: 070821 | H37: Date: | I37: 070921
A38: Pup Number | B38: Weight (g) | C38: Fecal (Y/N) | D38: Sample Name | E38: Weight (g) | F38: Fecal (Y/N) | G38: Sample Name | H38: Weight (g) | I38: Fecal (Y/N) | J38: Sample Name | K38: Remarks
A39: P7_3_1 | B39: 18.7 | C39: y | D39: =if(C39="Y",CONCATENATE(A39,,"_",$C$37), ) -> P7_3_1_070621 | E39: 18.8 | F39: n | G39: =if(F39="Y",CONCATENATE($A39,,"_",$F$37), ) | H39: 19 | I39: n | J39: =if(I39="Y",CONCATENATE($A39,,"_",$I$37), )
A40: P7_3_2 | B40: 18.3 | C40: y | D40: =if(C40="Y",CONCATENATE(A40,,"_",$C$37), ) -> P7_3_2_070621 | E40: 19.4 | F40: n | G40: =if(F40="Y",CONCATENATE($A40,,"_",$F$37), ) | H40: 19.8 | I40: n | J40: =if(I40="Y",CONCATENATE($A40,,"_",$I$37), )
A41: P7_3_3 | B41: 20.3 | C41: y | D41: =if(C41="Y",CONCATENATE(A41,,"_",$C$37), ) -> P7_3_3_070621 | E41: 23 | F41: n | G41: =if(F41="Y",CONCATENATE($A41,,"_",$F$37), ) | H41: 22.3 | I41: n | J41: =if(I41="Y",CONCATENATE($A41,,"_",$I$37), )
A42: P7_3_4 | B42: 23.7 | C42: y | D42: =if(C42="Y",CONCATENATE(A42,,"_",$C$37), ) -> P7_3_4_070621 | E42: 22.9 | F42: n | G42: =if(F42="Y",CONCATENATE($A42,,"_",$F$37), ) | H42: 21 | I42: n | J42: =if(I42="Y",CONCATENATE($A42,,"_",$I$37), )
A43: P7_3_5 | B43: 21.8 | C43: y | D43: =if(C43="Y",CONCATENATE(A43,,"_",$C$37), ) -> P7_3_5_070621 | E43: 23.8 | F43: n | G43: =if(F43="Y",CONCATENATE($A43,,"_",$F$37), ) | H43: 22.5 | I43: n | J43: =if(I43="Y",CONCATENATE($A43,,"_",$I$37), )
A44: P7_3_6 | B44: 21.6 | C44: y | D44: =if(C44="Y",CONCATENATE(A44,,"_",$C$37), ) -> P7_3_6_070621 | E44: 20.4 | F44: n | G44: =if(F44="Y",CONCATENATE($A44,,"_",$F$37), ) | H44: 23.5 | I44: n | J44: =if(I44="Y",CONCATENATE($A44,,"_",$I$37), )
B47: Date: | C47: 031621 | E47: Date: | F47: 031721 | H47: Date: | J47: no weights
A48: Pup Number | B48: Weight (g) | C48: Fecal (Y/N) | D48: Sample Name | E48: Weight (g) | F48: Fecal (Y/N) | G48: Sample Name | H48: Weight (g) | I48: Fecal (Y/N) | J48: Sample Name | K48: Remarks
A49: P8_1 | B49: 19.2 | C49: n | D49: =if(C49="Y",CONCATENATE(A49,,"_",$C$47), ) | E49: 18.8 | F49: y | G49: =if(F49="Y",CONCATENATE($A49,,"_",$F$47), ) -> P8_1_031721 | J49: =if(I49="Y",CONCATENATE($A49,,"_",$I$47), )
A50: P8_2 | B50: 22.7 | C50: n | D50: =if(C50="Y",CONCATENATE(A50,,"_",$C$47), ) | E50: 22.6 | F50: y | G50: =if(F50="Y",CONCATENATE($A50,,"_",$F$47), ) -> P8_2_031721 | J50: =if(I50="Y",CONCATENATE($A50,,"_",$I$47), )
B53: Date: | C53: 052421 | E53: Date: | F53: 052621 | H53: Date: | I53: 052821
A54: Pup Number | B54: Weight (g) | C54: Fecal (Y/N) | D54: Sample Name | E54: Weight (g) | F54: Fecal (Y/N) | G54: Sample Name | H54: Weight (g) | I54: Fecal (Y/N) | J54: Sample Name | K54: Remarks
A55: P8_2_1 | B55: 15.7 | C55: y | D55: =if(C55="Y",CONCATENATE(A55,,"_",$C$53), ) -> P8_2_1_052421 | E55: 16.1 | F55: y | G55: =if(F55="Y",CONCATENATE($A55,,"_",$F$53), ) -> P8_2_1_052621 | H55: 18.2 | I55: n | J55: =if(I55="Y",CONCATENATE($A55,,"_",$I$53), )
A56: P8_2_2 | B56: 17.9 | C56: y | D56: =if(C56="Y",CONCATENATE(A56,,"_",$C$53), ) -> P8_2_2_052421 | E56: 16.7 | F56: y | G56: =if(F56="Y",CONCATENATE($A56,,"_",$F$53), ) -> P8_2_2_052621 | H56: 16.2 | I56: n | J56: =if(I56="Y",CONCATENATE($A56,,"_",$I$53), )
A57: P8_2_3 | B57: 16.1 | C57: y | D57: =if(C57="Y",CONCATENATE(A57,,"_",$C$53), ) -> P8_2_3_052421 | E57: 19 | F57: y | G57: =if(F57="Y",CONCATENATE($A57,,"_",$F$53), ) -> P8_2_3_052621 | H57: 16.5 | I57: n | J57: =if(I57="Y",CONCATENATE($A57,,"_",$I$53), )
A58: P8_2_4 | B58: 18.3 | C58: y | D58: =if(C58="Y",CONCATENATE(A58,,"_",$C$53), ) -> P8_2_4_052421 | E58: 19.7 | F58: y | G58: =if(F58="Y",CONCATENATE($A58,,"_",$F$53), ) -> P8_2_4_052621 | H58: 19.5 | I58: n | J58: =if(I58="Y",CONCATENATE($A58,,"_",$I$53), )
A59: P8_2_5 | B59: 18.8 | C59: y | D59: =if(C59="Y",CONCATENATE(A59,,"_",$C$53), ) -> P8_2_5_052421 | E59: 19.6 | F59: y | G59: =if(F59="Y",CONCATENATE($A59,,"_",$F$53), ) -> P8_2_5_052621 | H59: 18.2 | I59: n | J59: =if(I59="Y",CONCATENATE($A59,,"_",$I$53), )
A60: P8_2_6 | B60: 19.2 | C60: y | D60: =if(C60="Y",CONCATENATE(A60,,"_",$C$53), ) -> P8_2_6_052421 | E60: 18.5 | F60: y | G60: =if(F60="Y",CONCATENATE($A60,,"_",$F$53), ) -> P8_2_6_052621 | H60: 19.4 | I60: n | J60: =if(I60="Y",CONCATENATE($A60,,"_",$I$53), )

Sheet Week 9
B1: Date: | C1: 080321 | E1: Date: | F1: 080421 | H1: Date: | I1: 080521
A2: Pup Number | B2: Weight (g) | C2: Fecal (Y/N) | D2: Sample Name | E2: Weight (g) | F2: Fecal (Y/N) | G2: Sample Name | H2: Weight (g) | I2: Fecal (Y/N) | J2: Sample Name | K2: Remarks
A3: P4_1 | B3: 18 | C3: y | D3: =if(C3="Y",CONCATENATE(A3,,"_",$C$1), ) -> P4_1_080321 | E3: 20.8 | F3: y | G3: =if(F3="Y",CONCATENATE($A3,,"_",$F$1), ) -> P4_1_080421 | H3: 20.9 | I3: n | J3: =if(I3="Y",CONCATENATE($A3,,"_",$I$1), )
A4: P4_2 | B4: 20.8 | C4: y | D4: =if(C4="Y",CONCATENATE(A4,,"_",$C$1), ) -> P4_2_080321 | E4: 18.2 | F4: y | G4: =if(F4="Y",CONCATENATE($A4,,"_",$F$1), ) -> P4_2_080421 | H4: 18.3 | I4: n | J4: =if(I4="Y",CONCATENATE($A4,,"_",$I$1), )
A5: P4_3 | B5: 22.8 | C5: y | D5: =if(C5="Y",CONCATENATE(A5,,"_",$C$1), ) -> P4_3_080321 | E5: 22.6 | F5: y | G5: =if(F5="Y",CONCATENATE($A5,,"_",$F$1), ) -> P4_3_080421 | H5: 22.6 | I5: n | J5: =if(I5="Y",CONCATENATE($A5,,"_",$I$1), )
A6: P4_4 | B6: 22.4 | C6: y | D6: =if(C6="Y",CONCATENATE(A6,,"_",$C$1), ) -> P4_4_080321 | E6: 22.9 | F6: y | G6: =if(F6="Y",CONCATENATE($A6,,"_",$F$1), ) -> P4_4_080421 | H6: 22.8 | I6: n | J6: =if(I6="Y",CONCATENATE($A6,,"_",$I$1), )
A7: P4_5 | B7: 22.5 | C7: y | D7: =if(C7="Y",CONCATENATE(A7,,"_",$C$1), ) -> P4_5_080321 | E7: 23.3 | F7: y | G7: =if(F7="Y",CONCATENATE($A7,,"_",$F$1), ) -> P4_5_080421 | H7: 23.4 | I7: n | J7: =if(I7="Y",CONCATENATE($A7,,"_",$I$1), )
B10: Date: | C10: 071221 | E10: Date: | F10: 071321 | H10: Date: | I10: 071421
A11: Pup Number | B11: Weight (g) | C11: Fecal (Y/N) | D11: Sample Name | E11: Weight (g) | F11: Fecal (Y/N) | G11: Sample Name | H11: Weight (g) | I11: Fecal (Y/N) | J11: Sample Name | K11: Remarks
A12: P6_1 | B12: 21.1 | C12: n | D12: =if(C12="Y",CONCATENATE(A12,,"_",$C$10), ) | E12: 22 | F12: y | G12: =if(F12="Y",CONCATENATE($A12,,"_",$F$10), ) -> P6_1_071321 | H12: 22.4 | I12: y | J12: =if(I12="Y",CONCATENATE($A12,,"_",$I$10), ) -> P6_1_071421
A13: P6_2 | B13: 18.7 | C13: n | D13: =if(C13="Y",CONCATENATE(A13,,"_",$C$10), ) | E13: 21.6 | F13: y | G13: =if(F13="Y",CONCATENATE($A13,,"_",$F$10), ) -> P6_2_071321 | H13: 19.3 | I13: y | J13: =if(I13="Y",CONCATENATE($A13,,"_",$I$10), ) -> P6_2_071421
A14: P6_3 | B14: 21.7 | C14: n | D14: =if(C14="Y",CONCATENATE(A14,,"_",$C$10), ) | E14: 19.2 | F14: y | G14: =if(F14="Y",CONCATENATE($A14,,"_",$F$10), ) -> P6_3_071321 | H14: 21.6 | I14: y | J14: =if(I14="Y",CONCATENATE($A14,,"_",$I$10), ) -> P6_3_071421
B17: Date: | C17: 041321 | E17: Date: | G17: no weights | H17: Date: | I17: 041521
A18: Pup Number | B18: Weight (g) | C18: Fecal (Y/N) | D18: Sample Name | E18: Weight (g) | F18: Fecal (Y/N) | G18: Sample Name | H18: Weight (g) | I18: Fecal (Y/N) | J18: Sample Name | K18: Remarks
A19: P7_1 | B19: 26.9 | C19: n | D19: =if(C19="Y",CONCATENATE('Week 10'!A19,,"_",$C$17), ) | G19: =if(F19="Y",CONCATENATE('Week 10'!$A19,,"_",$F$17), ) | H19: 24.6 | I19: y | J19: =if(I19="Y",CONCATENATE('Week 10'!$A19,,"_",$I$17), ) -> #REF!
A20: P7_2 | B20: 26.8 | C20: n | D20: =if(C20="Y",CONCATENATE('Week 10'!A20,,"_",$C$17), ) | G20: =if(F20="Y",CONCATENATE('Week 10'!$A20,,"_",$F$17), ) | H20: 25.7 | I20: y | J20: =if(I20="Y",CONCATENATE('Week 10'!$A20,,"_",$I$17), ) -> #REF!
A21: P7_3 | B21: 25.4 | C21: n | D21: =if(C21="Y",CONCATENATE('Week 10'!A21,,"_",$C$17), ) | G21: =if(F21="Y",CONCATENATE('Week 10'!$A21,,"_",$F$17), ) | H21: 24.9 | I21: y | J21: =if(I21="Y",CONCATENATE('Week 10'!$A21,,"_",$I$17), ) -> #REF!
A22: P7_4 | B22: 25.5 | C22: n | D22: =if(C22="Y",CONCATENATE('Week 10'!A22,,"_",$C$17), ) | G22: =if(F22="Y",CONCATENATE('Week 10'!$A22,,"_",$F$17), ) | H22: 26.9 | I22: y | J22: =if(I22="Y",CONCATENATE('Week 10'!$A22,,"_",$I$17), ) -> #REF!
B25: Date: | C25: 050521 | E25: Date: | F25: 050621 | H25: Date: | J25: no weights
A26: Pup Number | B26: Weight (g) | C26: Fecal (Y/N) | D26: Sample Name | E26: Weight (g) | F26: Fecal (Y/N) | G26: Sample Name | H26: Weight (g) | I26: Fecal (Y/N) | J26: Sample Name | K26: Remarks
A27: P7_2_1 | B27: 19.5 | C27: y | D27: =if(C27="Y",CONCATENATE(A27,,"_",$C$25), ) -> P7_2_1_050521 | E27: 19.1 | F27: y | G27: =if(F27="Y",CONCATENATE($A27,,"_",$F$25), ) -> P7_2_1_050621 | J27: =if(I27="Y",CONCATENATE($A27,,"_",$I$25), )
A28: P7_2_2 | B28: 20.7 | C28: y | D28: =if(C28="Y",CONCATENATE(A28,,"_",$C$25), ) -> P7_2_2_050521 | E28: 20.6 | F28: y | G28: =if(F28="Y",CONCATENATE($A28,,"_",$F$25), ) -> P7_2_2_050621 | J28: =if(I28="Y",CONCATENATE($A28,,"_",$I$25), )
A29: P7_2_3 | B29: 21.7 | C29: y | D29: =if(C29="Y",CONCATENATE(A29,,"_",$C$25), ) -> P7_2_3_050521 | E29: 20.7 | F29: y | G29: =if(F29="Y",CONCATENATE($A29,,"_",$F$25), ) -> P7_2_3_050621 | J29: =if(I29="Y",CONCATENATE($A29,,"_",$I$25), )
A30: P7_2_4 | B30: 21.2 | C30: y | D30: =if(C30="Y",CONCATENATE(A30,,"_",$C$25), ) -> P7_2_4_050521 | E30: 21.5 | F30: y | G30: =if(F30="Y",CONCATENATE($A30,,"_",$F$25), ) -> P7_2_4_050621 | J30: =if(I30="Y",CONCATENATE($A30,,"_",$I$25), )
A31: P7_2_5 | B31: 22.6 | C31: y | D31: =if(C31="Y",CONCATENATE(A31,,"_",$C$25), ) -> P7_2_5_050521 | E31: 22.3 | F31: y | G31: =if(F31="Y",CONCATENATE($A31,,"_",$F$25), ) -> P7_2_5_050621 | J31: =if(I31="Y",CONCATENATE($A31,,"_",$I$25), )
A32: P7_2_6 | B32: 22.1 | C32: y | D32: =if(C32="Y",CONCATENATE(A32,,"_",$C$25), ) -> P7_2_6_050521 | E32: 22.2 | F32: y | G32: =if(F32="Y",CONCATENATE($A32,,"_",$F$25), ) -> P7_2_6_050621 | J32: =if(I32="Y",CONCATENATE($A32,,"_",$I$25), )
A33: P7_2_7 | B33: 22.2 | C33: y | D33: =if(C33="Y",CONCATENATE(A33,,"_",$C$25), ) -> P7_2_7_050521 | E33: 22.1 | F33: y | G33: =if(F33="Y",CONCATENATE($A33,,"_",$F$25), ) -> P7_2_7_050621 | J33: =if(I33="Y",CONCATENATE($A33,,"_",$I$25), )
A34: P7_2_8 | B34: 21.2 | C34: y | D34: =if(C34="Y",CONCATENATE(A34,,"_",$C$25), ) -> P7_2_8_050521 | E34: 21.7 | F34: y | G34: =if(F34="Y",CONCATENATE($A34,,"_",$F$25), ) -> P7_2_8_050621 | J34: =if(I34="Y",CONCATENATE($A34,,"_",$I$25), )
B37: Date: | C37: 071221 | E37: Date: | F37: 071321 | H37: Date: | I37: 071421
A38: Pup Number | B38: Weight (g) | C38: Fecal (Y/N) | D38: Sample Name | E38: Weight (g) | F38: Fecal (Y/N) | G38: Sample Name | H38: Weight (g) | I38: Fecal (Y/N) | J38: Sample Name | K38: Remarks
A39: P7_3_1 | B39: 18.8 | C39: n | D39: =if(C39="Y",CONCATENATE(A39,,"_",$C$37), ) | E39: 19.2 | F39: y | G39: =if(F39="Y",CONCATENATE($A39,,"_",$F$37), ) -> P7_3_1_071321 | H39: 19.4 | I39: y | J39: =if(I39="Y",CONCATENATE($A39,,"_",$I$37), ) -> P7_3_1_071421
A40: P7_3_2 | B40: 18.7 | C40: n | D40: =if(C40="Y",CONCATENATE(A40,,"_",$C$37), ) | E40: 19.9 | F40: y | G40: =if(F40="Y",CONCATENATE($A40,,"_",$F$37), ) -> P7_3_2_071321 | H40: 19.8 | I40: y | J40: =if(I40="Y",CONCATENATE($A40,,"_",$I$37), ) -> P7_3_2_071421
A41: P7_3_3 | B41: 20.9 | C41: n | D41: =if(C41="Y",CONCATENATE(A41,,"_",$C$37), ) | E41: 22.9 | F41: y | G41: =if(F41="Y",CONCATENATE($A41,,"_",$F$37), ) -> P7_3_3_071321 | H41: 23.1 | I41: y | J41: =if(I41="Y",CONCATENATE($A41,,"_",$I$37), ) -> P7_3_3_071421
A42: P7_3_4 | B42: 23.6 | C42: n | D42: =if(C42="Y",CONCATENATE(A42,,"_",$C$37), ) | E42: 24.3 | F42: y | G42: =if(F42="Y",CONCATENATE($A42,,"_",$F$37), ) -> P7_3_4_071321 | H42: 24.4 | I42: y | J42: =if(I42="Y",CONCATENATE($A42,,"_",$I$37), ) -> P7_3_4_071421
A43: P7_3_5 | B43: 22.4 | C43: n | D43: =if(C43="Y",CONCATENATE(A43,,"_",$C$37), ) | E43: 22.9 | F43: y | G43: =if(F43="Y",CONCATENATE($A43,,"_",$F$37), ) -> P7_3_5_071321 | H43: 23.2 | I43: y | J43: =if(I43="Y",CONCATENATE($A43,,"_",$I$37), ) -> P7_3_5_071421
A44: P7_3_6 | B44: 22.6 | C44: n | D44: =if(C44="Y",CONCATENATE(A44,,"_",$C$37), ) | E44: 21.2 | F44: y | G44: =if(F44="Y",CONCATENATE($A44,,"_",$F$37), ) -> P7_3_6_071321 | H44: 21.5 | I44: y | J44: =if(I44="Y",CONCATENATE($A44,,"_",$I$37), ) -> P7_3_6_071421
B47: Date: | C47: 032321 | E47: Date: | F47: 032421 | H47: Date: | I47: 032521
A48: Pup Number | B48: Weight (g) | C48: Fecal (Y/N) | D48: Sample Name | E48: Weight (g) | F48: Fecal (Y/N) | G48: Sample Name | H48: Weight (g) | I48: Fecal (Y/N) | J48: Sample Name | K48: Remarks
A49: P8_1 | B49: 22.5 | C49: n | D49: =if(C49="Y",CONCATENATE(A49,,"_",$C$47), ) | E49: 26.3 | F49: y | G49: =if(F49="Y",CONCATENATE($A49,,"_",$F$47), ) -> P8_1_032421 | H49: 22.2 | I49: y | J49: =if(I49="Y",CONCATENATE($A49,,"_",$I$47), ) -> P8_1_032521
A50: P8_2 | B50: 26.3 | C50: n | D50: =if(C50="Y",CONCATENATE(A50,,"_",$C$47), ) | E50: 21.7 | F50: y | G50: =if(F50="Y",CONCATENATE($A50,,"_",$F$47), ) -> P8_2_032421 | H50: 26.7 | I50: y | J50: =if(I50="Y",CONCATENATE($A50,,"_",$I$47), ) -> P8_2_032521
B53: Date: | C53: 060121 | E53: Date: | F53: 060221 | H53: Date: | I53: 060321
A54: Pup Number | B54: Weight (g) | C54: Fecal (Y/N) | D54: Sample Name | E54: Weight (g) | F54: Fecal (Y/N) | G54: Sample Name | H54: Weight (g) | I54: Fecal (Y/N) | J54: Sample Name | K54: Remarks
A55: P8_2_1 | B55: 16.2 | C55: y | D55: =if(C55="Y",CONCATENATE(A55,,"_",$C$53), ) -> P8_2_1_060121 | E55: 18.2 | F55: n | G55: =if(F55="Y",CONCATENATE($A55,,"_",$F$53), ) | H55: 18.7 | I55: y | J55: =if(I55="Y",CONCATENATE($A55,,"_",$I$53), ) -> P8_2_1_060321
A56: P8_2_2 | B56: 16.4 | C56: y | D56: =if(C56="Y",CONCATENATE(A56,,"_",$C$53), ) -> P8_2_2_060121 | E56: 16.8 | F56: n | G56: =if(F56="Y",CONCATENATE($A56,,"_",$F$53), ) | H56: 16.5 | I56: y | J56: =if(I56="Y",CONCATENATE($A56,,"_",$I$53), ) -> P8_2_2_060321
A57: P8_2_3 | B57: 18.2 | C57: y | D57: =if(C57="Y",CONCATENATE(A57,,"_",$C$53), ) -> P8_2_3_060121 | E57: 16.1 | F57: n | G57: =if(F57="Y",CONCATENATE($A57,,"_",$F$53), ) | H57: 16.9 | I57: y | J57: =if(I57="Y",CONCATENATE($A57,,"_",$I$53), ) -> P8_2_3_060321
A58: P8_2_4 | B58: 18.5 | C58: y | D58: =if(C58="Y",CONCATENATE(A58,,"_",$C$53), ) -> P8_2_4_060121 | E58: 18.5 | F58: n | G58: =if(F58="Y",CONCATENATE($A58,,"_",$F$53), ) | H58: 21.1 | I58: y | J58: =if(I58="Y",CONCATENATE($A58,,"_",$I$53), ) -> P8_2_4_060321
A59: P8_2_5 | B59: 20 | C59: y | D59: =if(C59="Y",CONCATENATE(A59,,"_",$C$53), ) -> P8_2_5_060121 | E59: 20 | F59: n | G59: =if(F59="Y",CONCATENATE($A59,,"_",$F$53), ) | H59: 20.9 | I59: y | J59: =if(I59="Y",CONCATENATE($A59,,"_",$I$53), ) -> P8_2_5_060321
A60: P8_2_6 | B60: 20.4 | C60: y | D60: =if(C60="Y",CONCATENATE(A60,,"_",$C$53), ) -> P8_2_6_060121 | E60: 20 | F60: n | G60: =if(F60="Y",CONCATENATE($A60,,"_",$F$53), ) | H60: 18.9 | I60: y | J60: =if(I60="Y",CONCATENATE($A60,,"_",$I$53), ) -> P8_2_6_060321

Sheet Week 10
B1: Date: | C1: 080921 | E1: Date: | F1: 081021 | H1: Date: | I1: 081121
A2: Pup Number | B2: Weight (g) | C2: Fecal (Y/N) | D2: Sample Name | E2: Weight (g) | F2: Fecal (Y/N) | G2: Sample Name | H2: Weight (g) | I2: Fecal (Y/N) | J2: Sample Name | K2: Remarks
A3: P4_1 | B3: 18.6 | C3: n | D3: =if(C3="Y",CONCATENATE(A3,,"_",$C$1), ) | E3: 18.8 | F3: y | G3: =if(F3="Y",CONCATENATE($A3,,"_",$F$1), ) -> P4_1_081021 | H3: 19 | I3: y | J3: =if(I3="Y",CONCATENATE($A3,,"_",$I$1), ) -> P4_1_081121
A4: P4_2 | B4: 21 | C4: n | D4: =if(C4="Y",CONCATENATE(A4,,"_",$C$1), ) | E4: 21 | F4: y | G4: =if(F4="Y",CONCATENATE($A4,,"_",$F$1), ) -> P4_2_081021 | H4: 21.3 | I4: y | J4: =if(I4="Y",CONCATENATE($A4,,"_",$I$1), ) -> P4_2_081121
A5: P4_3 | B5: 22.9 | C5: n | D5: =if(C5="Y",CONCATENATE(A5,,"_",$C$1), ) | E5: 23.8 | F5: y | G5: =if(F5="Y",CONCATENATE($A5,,"_",$F$1), ) -> P4_3_081021 | H5: 23.2 | I5: y | J5: =if(I5="Y",CONCATENATE($A5,,"_",$I$1), ) -> P4_3_081121
A6: P4_4 | B6: 23.1 | C6: n | D6: =if(C6="Y",CONCATENATE(A6,,"_",$C$1), ) | E6: 22.9 | F6: y | G6: =if(F6="Y",CONCATENATE($A6,,"_",$F$1), ) -> P4_4_081021 | H6: 24.1 | I6: y | J6: =if(I6="Y",CONCATENATE($A6,,"_",$I$1), ) -> P4_4_081121
A7: P4_5 | B7: 23.8 | C7: n | D7: =if(C7="Y",CONCATENATE(A7,,"_",$C$1), ) | E7: 22.8 | F7: y | G7: =if(F7="Y",CONCATENATE($A7,,"_",$F$1), ) -> P4_5_081021 | H7: 23.6 | I7: y | J7: =if(I7="Y",CONCATENATE($A7,,"_",$I$1), ) -> P4_5_081121
B10: Date: | C10: 071921 | E10: Date: | F10: 072021 | H10: Date: | I10: 072121
A11: Pup Number | B11: Weight (g) | C11: Fecal (Y/N) | D11: Sample Name | E11: Weight (g) | F11: Fecal (Y/N) | G11: Sample Name | H11: Weight (g) | I11: Fecal (Y/N) | J11: Sample Name | K11: Remarks
A12: P6_1 | B12: 22.7 | C12: n | D12: =if(C12="Y",CONCATENATE(A12,,"_",$C$10), ) | E12: 20.7 | F12: y | G12: =if(F12="Y",CONCATENATE($A12,,"_",$F$10), ) -> P6_1_072021 | H12: 20.6 | I12: y | J12: =if(I12="Y",CONCATENATE($A12,,"_",$I$10), ) -> P6_1_072121
A13: P6_2 | B13: 20.3 | C13: n | D13: =if(C13="Y",CONCATENATE(A13,,"_",$C$10), ) | E13: 22.9 | F13: y | G13: =if(F13="Y",CONCATENATE($A13,,"_",$F$10), ) -> P6_2_072021 | H13: 23 | I13: y | J13: =if(I13="Y",CONCATENATE($A13,,"_",$I$10), ) -> P6_2_072121
A14: P6_3 | B14: 22.4 | C14: n | D14: =if(C14="Y",CONCATENATE(A14,,"_",$C$10), ) | E14: 22.9 | F14: y | G14: =if(F14="Y",CONCATENATE($A14,,"_",$F$10), ) -> P6_3_072021 | H14: 22.6 | I14: y | J14: =if(I14="Y",CONCATENATE($A14,,"_",$I$10), ) -> P6_3_072121
B17: Date: | C17: 042121 | E17: Date: | H17: Date: | I17: 042321
A18: Pup Number | B18: Weight (g) | C18: Fecal (Y/N) | D18: Sample Name | E18: Weight (g) | F18: Fecal (Y/N) | G18: Sample Name | H18: Weight (g) | I18: Fecal (Y/N) | J18: Sample Name | K18: Remarks
A19: P7_1 | B19: 25.9 | C19: y | D19: =if(C19="Y",CONCATENATE('Week 11'!A19,,"_",$C$17), ) -> #REF! | G19: =if(F19="Y",CONCATENATE('Week 11'!$A19,,"_",$F$17), ) | H19: 28.6 | I19: y | J19: =if(I19="Y",CONCATENATE('Week 11'!$A19,,"_",$I$17), ) -> #REF!
A20: P7_2 | B20: 25 | C20: y | D20: =if(C20="Y",CONCATENATE('Week 11'!A20,,"_",$C$17), ) -> #REF! | G20: =if(F20="Y",CONCATENATE('Week 11'!$A20,,"_",$F$17), ) | H20: 28.2 | I20: y | J20: =if(I20="Y",CONCATENATE('Week 11'!$A20,,"_",$I$17), ) -> #REF!
A21: P7_3 | B21: 24.7 | C21: y | D21: =if(C21="Y",CONCATENATE('Week 11'!A21,,"_",$C$17), ) -> #REF! | G21: =if(F21="Y",CONCATENATE('Week 11'!$A21,,"_",$F$17), ) | H21: 25.6 | I21: y | J21: =if(I21="Y",CONCATENATE('Week 11'!$A21,,"_",$I$17), ) -> #REF!
A22: P7_4 | B22: 23.2 | C22: y | D22: =if(C22="Y",CONCATENATE('Week 11'!A22,,"_",$C$17), ) -> #REF! | G22: =if(F22="Y",CONCATENATE('Week 11'!$A22,,"_",$F$17), ) | H22: 26.3 | I22: y | J22: =if(I22="Y",CONCATENATE('Week 11'!$A22,,"_",$I$17), ) -> #REF!
B25: Date: | C25: 051121 | E25: Date: | F25: 051221 | H25: Date: | I25: 051421
A26: Pup Number | B26: Weight (g) | C26: Fecal (Y/N) | D26: Sample Name | E26: Weight (g) | F26: Fecal (Y/N) | G26: Sample Name | H26: Weight (g) | I26: Fecal (Y/N) | J26: Sample Name | K26: Remarks
A27: P7_2_1 | B27: 20.2 | C27: y | D27: =if(C27="Y",CONCATENATE(A27,,"_",$C$25), ) -> P7_2_1_051121 | E27: 20 | F27: y | G27: =if(F27="Y",CONCATENATE($A27,,"_",$F$25), ) -> P7_2_1_051221 | H27: 20.6 | I27: n | J27: =if(I27="Y",CONCATENATE($A27,,"_",$I$25), )
A28: P7_2_2 | B28: 22.5 | C28: y | D28: =if(C28="Y",CONCATENATE(A28,,"_",$C$25), ) -> P7_2_2_051121 | E28: 20.9 | F28: y | G28: =if(F28="Y",CONCATENATE($A28,,"_",$F$25), ) -> P7_2_2_051221 | H28: 21.4 | I28: n | J28: =if(I28="Y",CONCATENATE($A28,,"_",$I$25), )
A29: P7_2_3 | B29: 21.4 | C29: y | D29: =if(C29="Y",CONCATENATE(A29,,"_",$C$25), ) -> P7_2_3_051121 | E29: 20.8 | F29: y | G29: =if(F29="Y",CONCATENATE($A29,,"_",$F$25), ) -> P7_2_3_051221 | H29: 23 | I29: n | J29: =if(I29="Y",CONCATENATE($A29,,"_",$I$25), )
A30: P7_2_4 | B30: 21.7 | C30: y | D30: =if(C30="Y",CONCATENATE(A30,,"_",$C$25), ) -> P7_2_4_051121 | E30: 22.6 | F30: y | G30: =if(F30="Y",CONCATENATE($A30,,"_",$F$25), ) -> P7_2_4_051221 | H30: 22.1 | I30: n | J30: =if(I30="Y",CONCATENATE($A30,,"_",$I$25), )
A31: P7_2_5 | B31: 22.1 | C31: y | D31: =if(C31="Y",CONCATENATE(A31,,"_",$C$25), ) -> P7_2_5_051121 | E31: 20.7 | F31: y | G31: =if(F31="Y",CONCATENATE($A31,,"_",$F$25), ) -> P7_2_5_051221 | H31: 21.7 | I31: n | J31: =if(I31="Y",CONCATENATE($A31,,"_",$I$25), )
A32: P7_2_6 | B32: 22.8 | C32: y | D32: =if(C32="Y",CONCATENATE(A32,,"_",$C$25), ) -> P7_2_6_051121 | E32: 22.9 | F32: y | G32: =if(F32="Y",CONCATENATE($A32,,"_",$F$25), ) -> P7_2_6_051221 | H32: 21.6 | I32: n | J32: =if(I32="Y",CONCATENATE($A32,,"_",$I$25), )
A33: P7_2_7 | B33: 23.8 | C33: y | D33: =if(C33="Y",CONCATENATE(A33,,"_",$C$25), ) -> P7_2_7_051121 | E33: 22.3 | F33: y | G33: =if(F33="Y",CONCATENATE($A33,,"_",$F$25), ) -> P7_2_7_051221 | H33: 24.1 | I33: n | J33: =if(I33="Y",CONCATENATE($A33,,"_",$I$25), )
A34: P7_2_8 | B34: 222 | C34: y | D34: =if(C34="Y",CONCATENATE(A34,,"_",$C$25), ) -> P7_2_8_051121 | E34: 20.9 | F34: y | G34: =if(F34="Y",CONCATENATE($A34,,"_",$F$25), ) -> P7_2_8_051221 | H34: 22.8 | I34: n | J34: =if(I34="Y",CONCATENATE($A34,,"_",$I$25), )
B37: Date: | C37: 071921 | E37: Date: | F37: 072021 | H37: Date: | I37: 072121
A38: Pup Number | B38: Weight (g) | C38: Fecal (Y/N) | D38: Sample Name | E38: Weight (g) | F38: Fecal (Y/N) | G38: Sample Name | H38: Weight (g) | I38: Fecal (Y/N) | J38: Sample Name | K38: Remarks
A39: P7_3_1 | B39: 19.3 | C39: n | D39: =if(C39="Y",CONCATENATE(A39,,"_",$C$37), ) | E39: 19.9 | F39: y | G39: =if(F39="Y",CONCATENATE($A39,,"_",$F$37), ) -> P7_3_1_072021 | H39: 19.8 | I39: y | J39: =if(I39="Y",CONCATENATE($A39,,"_",$I$37), ) -> P7_3_1_072121
A40: P7_3_2 | B40: 19 | C40: n | D40: =if(C40="Y",CONCATENATE(A40,,"_",$C$37), ) | E40: 19.5 | F40: y | G40: =if(F40="Y",CONCATENATE($A40,,"_",$F$37), ) -> P7_3_2_072021 | H40: 19.7 | I40: y | J40: =if(I40="Y",CONCATENATE($A40,,"_",$I$37), ) -> P7_3_2_072121
A41: P7_3_3 | B41: 21.2 | C41: n | D41: =if(C41="Y",CONCATENATE(A41,,"_",$C$37), ) | E41: 23.5 | F41: y | G41: =if(F41="Y",CONCATENATE($A41,,"_",$F$37), ) -> P7_3_3_072021 | H41: 23.1 | I41: y | J41: =if(I41="Y",CONCATENATE($A41,,"_",$I$37), ) -> P7_3_3_072121
A42: P7_3_4 | B42: 24 | C42: n | D42: =if(C42="Y",CONCATENATE(A42,,"_",$C$37), ) | E42: 22.1 | F42: y | G42: =if(F42="Y",CONCATENATE($A42,,"_",$F$37), ) -> P7_3_4_072021 | H42: 24.6 | I42: y | J42: =if(I42="Y",CONCATENATE($A42,,"_",$I$37), ) -> P7_3_4_072121
A43: P7_3_5 | B43: 22.6 | C43: n | D43: =if(C43="Y",CONCATENATE(A43,,"_",$C$37), ) | E43: 25.1 | F43: y | G43: =if(F43="Y",CONCATENATE($A43,,"_",$F$37), ) -> P7_3_5_072021 | H43: 21.8 | I43: y | J43: =if(I43="Y",CONCATENATE($A43,,"_",$I$37), ) -> P7_3_5_072121
A44: P7_3_6 | B44: 22.8 | C44: n | D44: =if(C44="Y",CONCATENATE(A44,,"_",$C$37), ) | E44: 23.6 | F44: y | G44: =if(F44="Y",CONCATENATE($A44,,"_",$F$37), ) -> P7_3_6_072021 | H44: 23.2 | I44: y | J44: =if(I44="Y",CONCATENATE($A44,,"_",$I$37), ) -> P7_3_6_072121
B47: Date: | C47: 033021 | E47: Date: | F47: 033121 | H47: Date: | J47: no weights
A48: Pup Number | B48: Weight (g) | C48: Fecal (Y/N) | D48: Sample Name | E48: Weight (g) | F48: Fecal (Y/N) | G48: Sample Name | H48: Weight (g) | I48: Fecal (Y/N) | J48: Sample Name | K48: Remarks
A49: P8_1 | B49: 21.9 | C49: n | D49: =if(C49="Y",CONCATENATE(A49,,"_",$C$47), ) | E49: 24.2 | F49: y | G49: =if(F49="Y",CONCATENATE($A49,,"_",$F$47), ) -> P8_1_033121 | J49: =if(I49="Y",CONCATENATE($A49,,"_",$I$47), )
A50: P8_2 | B50: 26.9 | C50: n | D50: =if(C50="Y",CONCATENATE(A50,,"_",$C$47), ) | E50: 19.4 | F50: y | G50: =if(F50="Y",CONCATENATE($A50,,"_",$F$47), ) -> P8_2_033121 | J50: =if(I50="Y",CONCATENATE($A50,,"_",$I$47), )
B53: Date: | C53: 060821 | E53: Date: | F53: 060921 | H53: Date: | I53: 061021
A54: Pup Number | B54: Weight (g) | C54: Fecal (Y/N) | D54: Sample Name | E54: Weight (g) | F54: Fecal (Y/N) | G54: Sample Name | H54: Weight (g) | I54: Fecal (Y/N) | J54: Sample Name | K54: Remarks
A55: P8_2_1 | B55: 19 | C55: n | D55: =if(C55="Y",CONCATENATE(A55,,"_",$C$53), ) | E55: 19.6 | F55: y | G55: =if(F55="Y",CONCATENATE($A55,,"_",$F$53), ) -> P8_2_1_060921 | H55: 16.6 | I55: y | J55: =if(I55="Y",CONCATENATE($A55,,"_",$I$53), ) -> P8_2_1_061021
A56: P8_2_2 | B56: 21.4 | C56: n | D56: =if(C56="Y",CONCATENATE(A56,,"_",$C$53), ) | E56: 17.2 | F56: y | G56: =if(F56="Y",CONCATENATE($A56,,"_",$F$53), ) -> P8_2_2_060921 | H56: 17.3 | I56: y | J56: =if(I56="Y",CONCATENATE($A56,,"_",$I$53), ) -> P8_2_2_061021
A57: P8_2_3 | B57: 21.2 | C57: n | D57: =if(C57="Y",CONCATENATE(A57,,"_",$C$53), ) | E57: 16.5 | F57: y | G57: =if(F57="Y",CONCATENATE($A57,,"_",$F$53), ) -> P8_2_3_060921 | H57: 20.3 | I57: y | J57: =if(I57="Y",CONCATENATE($A57,,"_",$I$53), ) -> P8_2_3_061021
A58: P8_2_4 | B58: 19.3 | C58: n | D58: =if(C58="Y",CONCATENATE(A58,,"_",$C$53), ) | E58: 18.5 | F58: y | G58: =if(F58="Y",CONCATENATE($A58,,"_",$F$53), ) -> P8_2_4_060921 | H58: 21 | I58: y | J58: =if(I58="Y",CONCATENATE($A58,,"_",$I$53), ) -> P8_2_4_061021
A59: P8_2_5 | B59: 17.1 | C59: n | D59: =if(C59="Y",CONCATENATE(A59,,"_",$C$53), ) | E59: 20.5 | F59: y | G59: =if(F59="Y",CONCATENATE($A59,,"_",$F$53), ) -> P8_2_5_060921 | H59: 18.9 | I59: y | J59: =if(I59="Y",CONCATENATE($A59,,"_",$I$53), ) -> P8_2_5_061021
A60: P8_2_6 | B60: 16.6 | C60: n | D60: =if(C60="Y",CONCATENATE(A60,,"_",$C$53), ) | E60: 21 | F60: y | G60: =if(F60="Y",CONCATENATE($A60,,"_",$F$53), ) -> P8_2_6_060921 | H60: 21.6 | I60: y | J60: =if(I60="Y",CONCATENATE($A60,,"_",$I$53), ) -> P8_2_6_061021

Sheet Week 11
B1: Date: | C1: 081621 | E1: Date: | F1: 081721 | H1: Date: | I1: 081821
A2: Pup Number | B2: Weight (g) | C2: Fecal (Y/N) | D2: Sample Name | E2: Weight (g) | F2: Fecal (Y/N) | G2: Sample Name | H2: Weight (g) | I2: Fecal (Y/N) | J2: Sample Name | K2: Remarks
A3: P4_1 | B3: 18.9 | C3: n | D3: =if(C3="Y",CONCATENATE(A3,,"_",$C$1), ) | E3: 21.9 | F3: y | G3: =if(F3="Y",CONCATENATE($A3,,"_",$F$1), ) -> P4_1_081721 | H3: 19.5 | I3: y | J3: =if(I3="Y",CONCATENATE($A3,,"_",$I$1), ) -> P4_1_081821
A4: P4_2 | B4: 21.3 | C4: n | D4: =if(C4="Y",CONCATENATE(A4,,"_",$C$1), ) | E4: 19.3 | F4: y | G4: =if(F4="Y",CONCATENATE($A4,,"_",$F$1), ) -> P4_2_081721 | H4: 22.3 | I4: y | J4: =if(I4="Y",CONCATENATE($A4,,"_",$I$1), ) -> P4_2_081821
A5: P4_3 | B5: 23.2 | C5: n | D5: =if(C5="Y",CONCATENATE(A5,,"_",$C$1), ) | E5: 23.4 | F5: y | G5: =if(F5="Y",CONCATENATE($A5,,"_",$F$1), ) -> P4_3_081721 | H5: 23.2 | I5: y | J5: =if(I5="Y",CONCATENATE($A5,,"_",$I$1), ) -> P4_3_081821
A6: P4_4 | B6: 24 | C6: n | D6: =if(C6="Y",CONCATENATE(A6,,"_",$C$1), ) | E6: 24.9 | F6: y | G6: =if(F6="Y",CONCATENATE($A6,,"_",$F$1), ) -> P4_4_081721 | H6: 24.5 | I6: y | J6: =if(I6="Y",CONCATENATE($A6,,"_",$I$1), ) -> P4_4_081821
A7: P4_5 | B7: 23 | C7: n | D7: =if(C7="Y",CONCATENATE(A7,,"_",$C$1), ) | E7: 23.9 | F7: y | G7: =if(F7="Y",CONCATENATE($A7,,"_",$F$1), ) -> P4_5_081721 | H7: 23.6 | I7: y | J7: =if(I7="Y",CONCATENATE($A7,,"_",$I$1), ) -> P4_5_081821
B10: Date: | C10: 072621 | E10: Date: | F10: 072721 | H10: Date: | I10: 072821
A11: Pup Number | B11: Weight (g) | C11: Fecal (Y/N) | D11: Sample Name | E11: Weight (g) | F11: Fecal (Y/N) | G11: Sample Name | H11: Weight (g) | I11: Fecal (Y/N) | J11: Sample Name | K11: Remarks
A12: P6_1 | B12: 20.9 | C12: n | D12: =if(C12="Y",CONCATENATE(A12,,"_",$C$10), ) | E12: 20.9 | F12: y | G12: =if(F12="Y",CONCATENATE($A12,,"_",$F$10), ) -> P6_1_072721 | H12: 21 | I12: y | J12: =if(I12="Y",CONCATENATE($A12,,"_",$I$10), ) -> P6_1_072821
A13: P6_2 | B13: 22.8 | C13: n | D13: =if(C13="Y",CONCATENATE(A13,,"_",$C$10), ) | E13: 23.3 | F13: y | G13: =if(F13="Y",CONCATENATE($A13,,"_",$F$10), ) -> P6_2_072721 | H13: 22.7 | I13: y | J13: =if(I13="Y",CONCATENATE($A13,,"_",$I$10), ) -> P6_2_072821
A14: P6_3 | B14: 23.1 | C14: n | D14: =if(C14="Y",CONCATENATE(A14,,"_",$C$10), ) | E14: 22.7 | F14: y | G14: =if(F14="Y",CONCATENATE($A14,,"_",$F$10), ) -> P6_3_072721 | H14: 23.7 | I14: y | J14: =if(I14="Y",CONCATENATE($A14,,"_",$I$10), ) -> P6_3_072821
B17: Date: | C17: 042621 | E17: Date: | F17: 042821 | H17: Date: | I17: 042921
A18: Pup Number | B18: Weight (g) | C18: Fecal (Y/N) | D18: Sample Name | E18: Weight (g) | F18: Fecal (Y/N) | G18: Sample Name | H18: Weight (g) | I18: Fecal (Y/N) | J18: Sample Name | K18: Remarks
A19: P7_1 | B19: 25.1 | C19: n | D19: =if(C19="Y",CONCATENATE('Week 12'!A19,,"_",$C$17), ) | E19: 26.7 | F19: y | G19: =if(F19="Y",CONCATENATE('Week 12'!$A19,,"_",$F$17), ) -> #REF! | H19: 25.9 | I19: y | J19: =if(I19="Y",CONCATENATE('Week 12'!$A19,,"_",$I$17), ) -> #REF!
A20: P7_2 | B20: 25.2 | C20: n | D20: =if(C20="Y",CONCATENATE('Week 12'!A20,,"_",$C$17), ) | E20: 29.5 | F20: y | G20: =if(F20="Y",CONCATENATE('Week 12'!$A20,,"_",$F$17), ) -> #REF! | H20: 26.4 | I20: y | J20: =if(I20="Y",CONCATENATE('Week 12'!$A20,,"_",$I$17), ) -> #REF!
A21: P7_3 | B21: 26.5 | C21: n | D21: =if(C21="Y",CONCATENATE('Week 12'!A21,,"_",$C$17), ) | E21: 27.6 | F21: y | G21: =if(F21="Y",CONCATENATE('Week 12'!$A21,,"_",$F$17), ) -> #REF! | H21: 28.4 | I21: y | J21: =if(I21="Y",CONCATENATE('Week 12'!$A21,,"_",$I$17), ) -> #REF!
A22: P7_4 | B22: 25.9 | C22: n | D22: =if(C22="Y",CONCATENATE('Week 12'!A22,,"_",$C$17), ) | E22: 29.1 | F22: y | G22: =if(F22="Y",CONCATENATE('Week 12'!$A22,,"_",$F$17), ) -> #REF! | H22: 28.8 | I22: y | J22: =if(I22="Y",CONCATENATE('Week 12'!$A22,,"_",$I$17), ) -> #REF!
B25: Date: | C25: 051821 | E25: Date: | F25: 051921 | H25: Date: | I25: 052021
A26: Pup Number | B26: Weight (g) | C26: Fecal (Y/N) | D26: Sample Name | E26: Weight (g) | F26: Fecal (Y/N) | G26: Sample Name | H26: Weight (g) | I26: Fecal (Y/N) | J26: Sample Name | K26: Remarks
A27: P7_2_1 | B27: 20.5 | C27: y | D27: =if(C27="Y",CONCATENATE(A27,,"_",$C$25), ) -> P7_2_1_051821 | E27: 20.5 | F27: n | G27: =if(F27="Y",CONCATENATE($A27,,"_",$F$25), ) | H27: 20.4 | I27: y | J27: =if(I27="Y",CONCATENATE($A27,,"_",$I$25), ) -> P7_2_1_052021
A28: P7_2_2 | B28: 20.2 | C28: y | D28: =if(C28="Y",CONCATENATE(A28,,"_",$C$25), ) -> P7_2_2_051821 | E28: 20.7 | F28: n | G28: =if(F28="Y",CONCATENATE($A28,,"_",$F$25), ) | H28: 22.3 | I28: y | J28: =if(I28="Y",CONCATENATE($A28,,"_",$I$25), ) -> P7_2_2_052021
A29: P7_2_3 | B29: 22.2 | C29: y | D29: =if(C29="Y",CONCATENATE(A29,,"_",$C$25), ) -> P7_2_3_051821 | E29: 22.5 | F29: n | G29: =if(F29="Y",CONCATENATE($A29,,"_",$F$25), ) | H29: 23.1 | I29: y | J29: =if(I29="Y",CONCATENATE($A29,,"_",$I$25), ) -> P7_2_3_052021
A30: P7_2_4 | B30: 22.4 | C30: y | D30: =if(C30="Y",CONCATENATE(A30,,"_",$C$25), ) -> P7_2_4_051821 | E30: 23.5 | F30: n | G30: =if(F30="Y",CONCATENATE($A30,,"_",$F$25), ) | H30: 23.1 | I30: y | J30: =if(I30="Y",CONCATENATE($A30,,"_",$I$25), ) -> P7_2_4_052021
A31: P7_2_5 | B31: 21.9 | C31: y | D31: =if(C31="Y",CONCATENATE(A31,,"_",$C$25), ) -> P7_2_5_051821 | E31: 22.6 | F31: n | G31: =if(F31="Y",CONCATENATE($A31,,"_",$F$25), ) | H31: 20.8 | I31: y | J31: =if(I31="Y",CONCATENATE($A31,,"_",$I$25), ) -> P7_2_5_052021
A32: P7_2_6 | B32: 23.2 | C32: y | D32: =if(C32="Y",CONCATENATE(A32,,"_",$C$25), ) -> P7_2_6_051821 | E32: 24.2 | F32: n | G32: =if(F32="Y",CONCATENATE($A32,,"_",$F$25), ) | H32: 24.2 | I32: y | J32: =if(I32="Y",CONCATENATE($A32,,"_",$I$25), ) -> P7_2_6_052021
A33: P7_2_7 | B33: 22.1 | C33: y | D33: =if(C33="Y",CONCATENATE(A33,,"_",$C$25), ) -> P7_2_7_051821 | E33: 23.5 | F33: n | G33: =if(F33="Y",CONCATENATE($A33,,"_",$F$25), ) | H33: 23.5 | I33: y | J33: =if(I33="Y",CONCATENATE($A33,,"_",$I$25), ) -> P7_2_7_052021
A34: P7_2_8 | B34: 21.8 | C34: y | D34: =if(C34="Y",CONCATENATE(A34,,"_",$C$25), ) -> P7_2_8_051821 | E34: 23 | F34: n | G34: =if(F34="Y",CONCATENATE($A34,,"_",$F$25), ) | H34: 22.6 | I34: y | J34: =if(I34="Y",CONCATENATE($A34,,"_",$I$25), ) -> P7_2_8_052021
B37: Date: | C37: 072621 | E37: Date: | F37: 072721 | H37: Date: | I37: 072821
A38: Pup Number | B38: Weight (g) | C38: Fecal (Y/N) | D38: Sample Name | E38: Weight (g) | F38: Fecal (Y/N) | G38: Sample Name | H38: Weight (g) | I38: Fecal (Y/N) | J38: Sample Name | K38: Remarks
A39: P7_3_1 | B39: 19.1 | C39: n | D39: =if(C39="Y",CONCATENATE(A39,,"_",$C$37), ) | E39: 18.9 | F39: y | G39: =if(F39="Y",CONCATENATE($A39,,"_",$F$37), ) -> P7_3_1_072721 | H39: 19 | I39: y | J39: =if(I39="Y",CONCATENATE($A39,,"_",$I$37), ) -> P7_3_1_072821
A40: P7_3_2 | B40: 19.5 | C40: n | D40: =if(C40="Y",CONCATENATE(A40,,"_",$C$37), ) | E40: 19.1 | F40: y | G40: =if(F40="Y",CONCATENATE($A40,,"_",$F$37), ) -> P7_3_2_072721 | H40: 19.7 | I40: y | J40: =if(I40="Y",CONCATENATE($A40,,"_",$I$37), ) -> P7_3_2_072821
A41: P7_3_3 | B41: 21.8 | C41: n | D41: =if(C41="Y",CONCATENATE(A41,,"_",$C$37), ) | E41: 23.5 | F41: y | G41: =if(F41="Y",CONCATENATE($A41,,"_",$F$37), ) -> P7_3_3_072721 | H41: 24 | I41: y | J41: =if(I41="Y",CONCATENATE($A41,,"_",$I$37), ) -> P7_3_3_072821
A42: P7_3_4 | B42: 20.7 | C42: n | D42: =if(C42="Y",CONCATENATE(A42,,"_",$C$37), ) | E42: 23.5 | F42: y | G42: =if(F42="Y",CONCATENATE($A42,,"_",$F$37), ) -> P7_3_4_072721 | H42: 25.6 | I42: y | J42: =if(I42="Y",CONCATENATE($A42,,"_",$I$37), ) -> P7_3_4_072821
A43: P7_3_5 | B43: 20.4 | C43: n | D43: =if(C43="Y",CONCATENATE(A43,,"_",$C$37), ) | E43: 21.7 | F43: y | G43: =if(F43="Y",CONCATENATE($A43,,"_",$F$37), ) -> P7_3_5_072721 | H43: 24.2 | I43: y | J43: =if(I43="Y",CONCATENATE($A43,,"_",$I$37), ) -> P7_3_5_072821
A44: P7_3_6 | B44: 24.7 | C44: n | D44: =if(C44="Y",CONCATENATE(A44,,"_",$C$37), ) | E44: 25 | F44: y | G44: =if(F44="Y",CONCATENATE($A44,,"_",$F$37), ) -> P7_3_6_072721 | H44: 21.8 | I44: y | J44: =if(I44="Y",CONCATENATE($A44,,"_",$I$37), ) -> P7_3_6_072821
B47: Date: | C47: 040621 | E47: Date: | F47: 040721 | H47: Date: | I47: 040821
A48: Pup Number | B48: Weight (g) | C48: Fecal (Y/N) | D48: Sample Name | E48: Weight (g) | F48: Fecal (Y/N) | G48: Sample Name | H48: Weight (g) | I48: Fecal (Y/N) | J48: Sample Name | K48: Remarks
A49: P8_1 | B49: 21.6 | C49: n | D49: =if(C49="Y",CONCATENATE(A49,,"_",$C$47), ) | E49: 27.1 | F49: y | G49: =if(F49="Y",CONCATENATE($A49,,"_",$F$47), ) -> P8_1_040721 | H49: 26.3 | I49: y | J49: =if(I49="Y",CONCATENATE($A49,,"_",$I$47), ) -> P8_1_040821
A50: P8_2 | B50: 25.7 | C50: n | D50: =if(C50="Y",CONCATENATE(A50,,"_",$C$47), ) | E50: 22.4 | F50: y | G50: =if(F50="Y",CONCATENATE($A50,,"_",$F$47), ) -> P8_2_040721 | H50: 23.1 | I50: y | J50: =if(I50="Y",CONCATENATE($A50,,"_",$I$47), ) -> P8_2_040821
B53: Date: | C53: 061521 | E53: Date: | F53: 061621 | H53: Date: | I53: 061721
A54: Pup Number | B54: Weight (g) | C54: Fecal (Y/N) | D54: Sample Name | E54: Weight (g) | F54: Fecal (Y/N) | G54: Sample Name | H54: Weight (g) | I54: Fecal (Y/N) | J54: Sample Name | K54: Remarks
A55: P8_2_1 | B55: 17.5 | C55: y | D55: =if(C55="Y",CONCATENATE(A55,,"_",$C$53), ) -> P8_2_1_061521 | E55: 16.6 | F55: y | G55: =if(F55="Y",CONCATENATE($A55,,"_",$F$53), ) -> P8_2_1_061621 | H55: 18 | I55: n | J55: =if(I55="Y",CONCATENATE($A55,,"_",$I$53), )
A56: P8_2_2 | B56: 20.2 | C56: y | D56: =if(C56="Y",CONCATENATE(A56,,"_",$C$53), ) -> P8_2_2_061521 | E56: 17.8 | F56: y | G56: =if(F56="Y",CONCATENATE($A56,,"_",$F$53), ) -> P8_2_2_061621 | H56: 20.9 | I56: n | J56: =if(I56="Y",CONCATENATE($A56,,"_",$I$53), )
A57: P8_2_3 | B57: 16.4 | C57: y | D57: =if(C57="Y",CONCATENATE(A57,,"_",$C$53), ) -> P8_2_3_061521 | E57: 20.1 | F57: y | G57: =if(F57="Y",CONCATENATE($A57,,"_",$F$53), ) -> P8_2_3_061621 | H57: 17 | I57: n | J57: =if(I57="Y",CONCATENATE($A57,,"_",$I$53), )
A58: P8_2_4 | B58: 21.4 | C58: y | D58: =if(C58="Y",CONCATENATE(A58,,"_",$C$53), ) -> P8_2_4_061521 | E58: 21.8 | F58: y | G58: =if(F58="Y",CONCATENATE($A58,,"_",$F$53), ) -> P8_2_4_061621 | H58: 21.8 | I58: n | J58: =if(I58="Y",CONCATENATE($A58,,"_",$I$53), )
A59: P8_2_5 | B59: 18.9 | C59: y | D59: =if(C59="Y",CONCATENATE(A59,,"_",$C$53), ) -> P8_2_5_061521 | E59: 19 | F59: y | G59: =if(F59="Y",CONCATENATE($A59,,"_",$F$53), ) -> P8_2_5_061621 | H59: 19.1 | I59: n | J59: =if(I59="Y",CONCATENATE($A59,,"_",$I$53), )
A60: P8_2_6 | B60: 21.8 | C60: y | D60: =if(C60="Y",CONCATENATE(A60,,"_",$C$53), ) -> P8_2_6_061521 | E60: 22 | F60: y | G60: =if(F60="Y",CONCATENATE($A60,,"_",$F$53), ) -> P8_2_6_061621 | H60: 22 | I60: n | J60: =if(I60="Y",CONCATENATE($A60,,"_",$I$53), )
A61: ='Week 1'!A120
A62: ='Week 1'!A121
A63: ='Week 1'!A122
A64: ='Week 1'!A123
A65: ='Week 1'!A124
A66: ='Week 1'!A125
A67: ='Week 1'!A126
A68: ='Week 1'!A127
A69: ='Week 1'!A128
A70: ='Week 1'!A129
A71: ='Week 1'!A130
A72: ='Week 1'!A131
... A94: ='Week 1'!A153

Sheet Week 12
B1: Date: | C1: 082621 | E1: Date: | F1: 082721 | H1: Date: | J1: no weights
A2: Pup Number | B2: Weight (g) | C2: Fecal (Y/N) | D2: Sample Name | E2: Weight (g) | F2: Fecal (Y/N) | G2: Sample Name | H2: Weight (g) | I2: Fecal (Y/N) | J2: Sample Name | K2: Remarks
A3: P4_1 | B3: 22.2 | C3: y | D3: =if(C3="Y",CONCATENATE(A3,,"_",$C$1), ) -> P4_1_082621 | E3: 19.4 | F3: y | G3: =if(F3="Y",CONCATENATE($A3,,"_",$F$1), ) -> P4_1_082721 | J3: =if(I3="Y",CONCATENATE($A3,,"_",$I$1), )
A4: P4_2 | B4: 19.4 | C4: y | D4: =if(C4="Y",CONCATENATE(A4,,"_",$C$1), ) -> P4_2_082621 | E4: 22.3 | F4: y | G4: =if(F4="Y",CONCATENATE($A4,,"_",$F$1), ) -> P4_2_082721 | J4: =if(I4="Y",CONCATENATE($A4,,"_",$I$1), )
A5: P4_3 | B5: 25.8 | C5: y | D5: =if(C5="Y",CONCATENATE(A5,,"_",$C$1), ) -> P4_3_082621 | E5: 23.4 | F5: y | G5: =if(F5="Y",CONCATENATE($A5,,"_",$F$1), ) -> P4_3_082721 | J5: =if(I5="Y",CONCATENATE($A5,,"_",$I$1), )
A6: P4_4 | B6: 24.8 | C6: y | D6: =if(C6="Y",CONCATENATE(A6,,"_",$C$1), ) -> P4_4_082621 | E6: 24.3 | F6: y | G6: =if(F6="Y",CONCATENATE($A6,,"_",$F$1), ) -> P4_4_082721 | J6: =if(I6="Y",CONCATENATE($A6,,"_",$I$1), )
A7: P4_5 | B7: 23.8 | C7: y | D7: =if(C7="Y",CONCATENATE(A7,,"_",$C$1), ) -> P4_5_082621 | E7: 25 | F7: y | G7: =if(F7="Y",CONCATENATE($A7,,"_",$F$1), ) -> P4_5_082721 | J7: =if(I7="Y",CONCATENATE($A7,,"_",$I$1), )
B10: Date: | C10: 080321 | E10: Date: | F10: 080421 | H10: Date: | I10: 080521
A11: Pup Number | B11: Weight (g) | C11: Fecal (Y/N) | D11: Sample Name | E11: Weight (g) | F11: Fecal (Y/N) | G11: Sample Name | H11: Weight (g) | I11: Fecal (Y/N) | J11: Sample Name | K11: Remarks
A12: P6_1 | B12: 21.4 | C12: y | D12: =if(C12="Y",CONCATENATE(A12,,"_",$C$10), ) -> P6_1_080321 | E12: 24.4 | F12: y | G12: =if(F12="Y",CONCATENATE($A12,,"_",$F$10), ) -> P6_1_080421 | H12: 21.6 | I12: n | J12: =if(I12="Y",CONCATENATE($A12,,"_",$I$10), )
A13: P6_2 | B13: 21.4 | C13: y | D13: =if(C13="Y",CONCATENATE(A13,,"_",$C$10), ) -> P6_2_080321 | E13: 21.8 | F13: y | G13: =if(F13="Y",CONCATENATE($A13,,"_",$F$10), ) -> P6_2_080421 | H13: 20.4 | I13: n | J13: =if(I13="Y",CONCATENATE($A13,,"_",$I$10), )
A14: P6_3 | B14: 23.4 | C14: y | D14: =if(C14="Y",CONCATENATE(A14,,"_",$C$10), ) -> P6_3_080321 | E14: 21 | F14: y | G14: =if(F14="Y",CONCATENATE($A14,,"_",$F$10), ) -> P6_3_080421 | H14: 24.2 | I14: n | J14: =if(I14="Y",CONCATENATE($A14,,"_",$I$10), )
B17: Date: | C17: 050521 | E17: Date: | F17: 050621 | H17: Date: | J17: no weights
A18: Pup Number | B18: Weight (g) | C18: Fecal (Y/N) | D18: Sample Name | E18: Weight (g) | F18: Fecal (Y/N) | G18: Sample Name | H18: Weight (g) | I18: Fecal (Y/N) | J18: Sample Name | K18: Remarks
A19: P7_1 | B19: 29.3 | C19: y | D19: =if(C19="Y",CONCATENATE('Week 13'!A19,,"_",$C$17), ) -> #REF! | E19: 27.3 | F19: y | G19: =if(F19="Y",CONCATENATE('Week 13'!$A19,,"_",$F$17), ) -> #REF! | J19: =if(I19="Y",CONCATENATE('Week 13'!$A19,,"_",$I$17), )
A20: P7_2 | B20: 29.2 | C20: y | D20: =if(C20="Y",CONCATENATE('Week 13'!A20,,"_",$C$17), ) -> #REF! | E20: 29.8 | F20: y | G20: =if(F20="Y",CONCATENATE('Week 13'!$A20,,"_",$F$17), ) -> #REF! | J20: =if(I20="Y",CONCATENATE('Week 13'!$A20,,"_",$I$17), )
A21: P7_3 | B21: 26.9 | C21: y | D21: =if(C21="Y",CONCATENATE('Week 13'!A21,,"_",$C$17), ) -> #REF! | E21: 26 | F21: y | G21: =if(F21="Y",CONCATENATE('Week 13'!$A21,,"_",$F$17), ) -> #REF! | J21: =if(I21="Y",CONCATENATE('Week 13'!$A21,,"_",$I$17), )
A22: P7_4 | B22: 25.4 | C22: y | D22: =if(C22="Y",CONCATENATE('Week 13'!A22,,"_",$C$17), ) -> #REF! | E22: 29.3 | F22: y | G22: =if(F22="Y",CONCATENATE('Week 13'!$A22,,"_",$F$17), ) -> #REF! | J22: =if(I22="Y",CONCATENATE('Week 13'!$A22,,"_",$I$17), )
B25: Date: | C25: 052421 | E25: Date: | F25: 052621 | H25: Date: | I25: 052821
A26: Pup Number | B26: Weight (g) | C26: Fecal (Y/N) | D26: Sample Name | E26: Weight (g) | F26: Fecal (Y/N) | G26: Sample Name | H26: Weight (g) | I26: Fecal (Y/N) | J26: Sample Name | K26: Remarks
A27: P7_2_1 | B27: 20.4 | C27: y | D27: =if(C27="Y",CONCATENATE(A27,,"_",$C$25), ) -> P7_2_1_052421 | E27: 20.6 | F27: y | G27: =if(F27="Y",CONCATENATE($A27,,"_",$F$25), ) -> P7_2_1_052621 | H27: 20.2 | I27: n | J27: =if(I27="Y",CONCATENATE($A27,,"_",$I$25), )
A28: P7_2_2 | B28: 22.9 | C28: y | D28: =if(C28="Y",CONCATENATE(A28,,"_",$C$25), ) -> P7_2_2_052421 | E28: 23.8 | F28: y | G28: =if(F28="Y",CONCATENATE($A28,,"_",$F$25), ) -> P7_2_2_052621 | H28: 22 | I28: n | J28: =if(I28="Y",CONCATENATE($A28,,"_",$I$25), )
A29: P7_2_3 | B29: 21.8 | C29: y | D29: =if(C29="Y",CONCATENATE(A29,,"_",$C$25), ) -> P7_2_3_052421 | E29: 22.3 | F29: y | G29: =if(F29="Y",CONCATENATE($A29,,"_",$F$25), ) -> P7_2_3_052621 | H29: 22.3 | I29: n | J29: =if(I29="Y",CONCATENATE($A29,,"_",$I$25), )
A30: P7_2_4 | B30: 22.6 | C30: y | D30: =if(C30="Y",CONCATENATE(A30,,"_",$C$25), ) -> P7_2_4_052421 | E30: 22.6 | F30: y | G30: =if(F30="Y",CONCATENATE($A30,,"_",$F$25), ) -> P7_2_4_052621 | H30: 22.2 | I30: n | J30: =if(I30="Y",CONCATENATE($A30,,"_",$I$25), )
A31: P7_2_5 | B31: 23.5 | C31: y | D31: =if(C31="Y",CONCATENATE(A31,,"_",$C$25), ) -> P7_2_5_052421 | E31: 23.3 | F31: y | G31: =if(F31="Y",CONCATENATE($A31,,"_",$F$25), ) -> P7_2_5_052621 | H31: 20.7 | I31: n | J31: =if(I31="Y",CONCATENATE($A31,,"_",$I$25), )
A32: P7_2_6 | B32: 22.3 | C32: y | D32: =if(C32="Y",CONCATENATE(A32,,"_",$C$25), ) -> P7_2_6_052421 | E32: 22.7 | F32: y | G32: =if(F32="Y",CONCATENATE($A32,,"_",$F$25), ) -> P7_2_6_052621 | H32: 21.9 | I32: n | J32: =if(I32="Y",CONCATENATE($A32,,"_",$I$25), )
A33: P7_2_7 | B33: 23.7 | C33: y | D33: =if(C33="Y",CONCATENATE(A33,,"_",$C$25), ) -> P7_2_7_052421 | E33: 25.2 | F33: y | G33: =if(F33="Y",CONCATENATE($A33,,"_",$F$25), ) -> P7_2_7_052621 | H33: 23.4 | I33: n | J33: =if(I33="Y",CONCATENATE($A33,,"_",$I$25), )
A34: P7_2_8 | B34: 24.7 | C34: y | D34: =if(C34="Y",CONCATENATE(A34,,"_",$C$25), ) -> P7_2_8_052421 | E34: 24.2 | F34: y | G34: =if(F34="Y",CONCATENATE($A34,,"_",$F$25), ) -> P7_2_8_052621 | H34: 24.4 | I34: n | J34: =if(I34="Y",CONCATENATE($A34,,"_",$I$25), )
B37: Date: | C37: 080321 | E37: Date: | F37: 080421 | H37: Date: | I37: 080521
A38: Pup Number | B38: Weight (g) | C38: Fecal (Y/N) | D38: Sample Name | E38: Weight (g) | F38: Fecal (Y/N) | G38: Sample Name | H38: Weight (g) | I38: Fecal (Y/N) | J38: Sample Name | K38: Remarks
A39: P7_3_1 | B39: 19.2 | C39: y | D39: =if(C39="Y",CONCATENATE(A39,,"_",$C$37), ) -> P7_3_1_080321 | E39: 20.3 | F39: y | G39: =if(F39="Y",CONCATENATE($A39,,"_",$F$37), ) -> P7_3_1_080421 | H39: 19.9 | I39: n | J39: =if(I39="Y",CONCATENATE($A39,,"_",$I$37), )
A40: P7_3_2 | B40: 19.1 | C40: y | D40: =if(C40="Y",CONCATENATE(A40,,"_",$C$37), ) -> P7_3_2_080321 | E40: 19.8 | F40: y | G40: =if(F40="Y",CONCATENATE($A40,,"_",$F$37), ) -> P7_3_2_080421 | H40: 19.8 | I40: n | J40: =if(I40="Y",CONCATENATE($A40,,"_",$I$37), )
A41: P7_3_3 | B41: 25 | C41: y | D41: =if(C41="Y",CONCATENATE(A41,,"_",$C$37), ) -> P7_3_3_080321 | E41: 26.1 | F41: y | G41: =if(F41="Y",CONCATENATE($A41,,"_",$F$37), ) -> P7_3_3_080421 | H41: 24.3 | I41: n | J41: =if(I41="Y",CONCATENATE($A41,,"_",$I$37), )
A42: P7_3_4 | B42: 23.7 | C42: y | D42: =if(C42="Y",CONCATENATE(A42,,"_",$C$37), ) -> P7_3_4_080321 | E42: 24.4 | F42: y | G42: =if(F42="Y",CONCATENATE($A42,,"_",$F$37), ) -> P7_3_4_080421 | H42: 22.6 | I42: n | J42: =if(I42="Y",CONCATENATE($A42,,"_",$I$37), )
A43: P7_3_5 | B43: 21.7 | C43: y | D43: =if(C43="Y",CONCATENATE(A43,,"_",$C$37), ) -> P7_3_5_080321 | E43: 24.7 | F43: y | G43: =if(F43="Y",CONCATENATE($A43,,"_",$F$37), ) -> P7_3_5_080421 | H43: 24.5 | I43: n | J43: =if(I43="Y",CONCATENATE($A43,,"_",$I$37), )
A44: P7_3_6 | B44: 23.9 | C44: y | D44: =if(C44="Y",CONCATENATE(A44,,"_",$C$37), ) -> P7_3_6_080321 | E44: 22.5 | F44: y | G44: =if(F44="Y",CONCATENATE($A44,,"_",$F$37), ) -> P7_3_6_080421 | H44: 26 | I44: n | J44: =if(I44="Y",CONCATENATE($A44,,"_",$I$37), )
B47: Date: | C47: 041321 | E47: Date: | G47: no weights | H47: Date: | I47: 041521
A48: Pup Number | B48: Weight (g) | C48: Fecal (Y/N) | D48: Sample Name | E48: Weight (g) | F48: Fecal (Y/N) | G48: Sample Name | H48: Weight (g) | I48: Fecal (Y/N) | J48: Sample Name | K48: Remarks
A49: P8_1 | B49: 27.1 | C49: n | D49: =if(C49="Y",CONCATENATE(A49,,"_",$C$47), ) | G49: =if(F49="Y",CONCATENATE($A49,,"_",$F$47), ) | H49: 26.4 | I49: n | J49: =if(I49="Y",CONCATENATE($A49,,"_",$I$47), )
A50: P8_2 | B50: 21.4 | C50: n | D50: =if(C50="Y",CONCATENATE(A50,,"_",$C$47), ) | G50: =if(F50="Y",CONCATENATE($A50,,"_",$F$47), ) | H50: 20.7 | I50: y | J50: =if(I50="Y",CONCATENATE($A50,,"_",$I$47), ) -> P8_2_041521
B53: Date: | C53: 062221 | E53: Date: | F53: 062321 | H53: Date: | I53: 062421
A54: Pup Number | B54: Weight (g) | C54: Fecal (Y/N) | D54: Sample Name | E54: Weight (g) | F54: Fecal (Y/N) | G54: Sample Name | H54: Weight (g) | I54: Fecal (Y/N) | J54: Sample Name | K54: Remarks
A55: P8_2_1 | B55: 18.3 | C55: y | D55: =if(C55="Y",CONCATENATE(A55,,"_",$C$53), ) -> P8_2_1_062221 | E55: 17.7 | F55: n | G55: =if(F55="Y",CONCATENATE($A55,,"_",$F$53), ) | H55: 18.6 | I55: y | J55: =if(I55="Y",CONCATENATE($A55,,"_",$I$53), ) -> P8_2_1_062421
A56: P8_2_2 | B56: 17.3 | C56: y | D56: =if(C56="Y",CONCATENATE(A56,,"_",$C$53), ) -> P8_2_2_062221 | E56: 21.5 | F56: n | G56: =if(F56="Y",CONCATENATE($A56,,"_",$F$53), ) | H56: 17.2 | I56: y | J56: =if(I56="Y",CONCATENATE($A56,,"_",$I$53), ) -> P8_2_2_062421
A57: P8_2_3 | B57: 21.1 | C57: y | D57: =if(C57="Y",CONCATENATE(A57,,"_",$C$53), ) -> P8_2_3_062221 | E57: 19 | F57: n | G57: =if(F57="Y",CONCATENATE($A57,,"_",$F$53), ) | H57: 22.7 | I57: y | J57: =if(I57="Y",CONCATENATE($A57,,"_",$I$53), ) -> P8_2_3_062421
A58: P8_2_4 | B58: 22.2 | C58: y | D58: =if(C58="Y",CONCATENATE(A58,,"_",$C$53), ) -> P8_2_4_062221 | E58: 22 | F58: n | G58: =if(F58="Y",CONCATENATE($A58,,"_",$F$53), ) | H58: 19.6 | I58: y | J58: =if(I58="Y",CONCATENATE($A58,,"_",$I$53), ) -> P8_2_4_062421
A59: P8_2_5 | B59: 19.7 | C59: y | D59: =if(C59="Y",CONCATENATE(A59,,"_",$C$53), ) -> P8_2_5_062221 | E59: 23 | F59: n | G59: =if(F59="Y",CONCATENATE($A59,,"_",$F$53), ) | H59: 22.5 | I59: y | J59: =if(I59="Y",CONCATENATE($A59,,"_",$I$53), ) -> P8_2_5_062421
A60: P8_2_6 | B60: 22.7 | C60: y | D60: =if(C60="Y",CONCATENATE(A60,,"_",$C$53), ) -> P8_2_6_062221 | E60: 19.5 | F60: n | G60: =if(F60="Y",CONCATENATE($A60,,"_",$F$53), ) | H60: 22.9 | I60: y | J60: =if(I60="Y",CONCATENATE($A60,,"_",$I$53), ) -> P8_2_6_062421

Sheet Week 13
B1: Date: | C1: 083021 | E1: Date: | F1: 090221 | H1: Date: | I1: 090321
A2: Pup Number | B2: Weight (g) | C2: Fecal (Y/N) | D2: Sample Name | E2: Weight (g) | F2: Fecal (Y/N) | G2: Sample Name | H2: Weight (g) | I2: Fecal (Y/N) | J2: Sample Name | K2: Remarks
A3: P4_1 | B3: 19.9 | C3: n | D3: =if(C3="Y",CONCATENATE(A3,,"_",$C$1), ) | E3: 22.6 | F3: y | G3: =if(F3="Y",CONCATENATE($A3,,"_",$F$1), ) -> P4_1_090221 | H3: 20.1 | I3: y | J3: =if(I3="Y",CONCATENATE($A3,,"_",$I$1), ) -> P4_1_090321
A4: P4_2 | B4: 21.8 | C4: n | D4: =if(C4="Y",CONCATENATE(A4,,"_",$C$1), ) | E4: 20.5 | F4: y | G4: =if(F4="Y",CONCATENATE($A4,,"_",$F$1), ) -> P4_2_090221 | H4: 22.2 | I4: y | J4: =if(I4="Y",CONCATENATE($A4,,"_",$I$1), ) -> P4_2_090321
A5: P4_3 | B5: 23.5 | C5: n | D5: =if(C5="Y",CONCATENATE(A5,,"_",$C$1), ) | E5: 24.3 | F5: y | G5: =if(F5="Y",CONCATENATE($A5,,"_",$F$1), ) -> P4_3_090221 | H5: 24.4 | I5: y | J5: =if(I5="Y",CONCATENATE($A5,,"_",$I$1), ) -> P4_3_090321
A6: P4_4 | B6: 25 | C6: n | D6: =if(C6="Y",CONCATENATE(A6,,"_",$C$1), ) | E6: 25.7 | F6: y | G6: =if(F6="Y",CONCATENATE($A6,,"_",$F$1), ) -> P4_4_090221 | H6: 24.5 | I6: y | J6: =if(I6="Y",CONCATENATE($A6,,"_",$I$1), ) -> P4_4_090321
A7: P4_5 | B7: 23.9 | C7: n | D7: =if(C7="Y",CONCATENATE(A7,,"_",$C$1), ) | E7: 24.6 | F7: y | G7: =if(F7="Y",CONCATENATE($A7,,"_",$F$1), ) -> P4_5_090221 | H7: 25.6 | I7: y | J7: =if(I7="Y",CONCATENATE($A7,,"_",$I$1), ) -> P4_5_090321
B10: Date: | C10: 080921 | E10: Date: | F10: 081021 | H10: Date: | I10: 081121
A11: Pup Number | B11: Weight (g) | C11: Fecal (Y/N) | D11: Sample Name | E11: Weight (g) | F11: Fecal (Y/N) | G11: Sample Name | H11: Weight (g) | I11: Fecal (Y/N) | J11: Sample Name | K11: Remarks
A12: P6_1 | B12: 23.7 | C12: n | D12: =if(C12="Y",CONCATENATE(A12,,"_",$C$10), ) | E12: 18.8 | F12: y | G12: =if(F12="Y",CONCATENATE($A12,,"_",$F$10), ) -> P6_1_081021 | H12: 21.9 | I12: y | J12: =if(I12="Y",CONCATENATE($A12,,"_",$I$10), ) -> P6_1_081121
A13: P6_2 | B13: 18 | C13: n | D13: =if(C13="Y",CONCATENATE(A13,,"_",$C$10), ) | E13: 21.5 | F13: y | G13: =if(F13="Y",CONCATENATE($A13,,"_",$F$10), ) -> P6_2_081021 | H13: 24.5 | I13: y | J13: =if(I13="Y",CONCATENATE($A13,,"_",$I$10), ) -> P6_2_081121
A14: P6_3 | B14: 21.1 | C14: n | D14: =if(C14="Y",CONCATENATE(A14,,"_",$C$10), ) | E14: 23.9 | F14: y | G14: =if(F14="Y",CONCATENATE($A14,,"_",$F$10), ) -> P6_3_081021 | H14: 18.6 | I14: y | J14: =if(I14="Y",CONCATENATE($A14,,"_",$I$10), ) -> P6_3_081121
B17: Date: | C17: 051121 | E17: Date: | F17: 051221 | H17: Date: | I17: 051421
A18: Pup Number | B18: Weight (g) | C18: Fecal (Y/N) | D18: Sample Name | E18: Weight (g) | F18: Fecal (Y/N) | G18: Sample Name | H18: Weight (g) | I18: Fecal (Y/N) | J18: Sample Name | K18: Remarks
A19: P7_1 | B19: 30.1 | C19: y | D19: =if(C19="Y",CONCATENATE('Week 14'!A19,,"_",$C$17), ) -> #REF! | E19: 25.4 | F19: y | G19: =if(F19="Y",CONCATENATE('Week 14'!$A19,,"_",$F$17), ) -> #REF! | H19: 29.7 | I19: n | J19: =if(I19="Y",CONCATENATE('Week 14'!$A19,,"_",$I$17), )
A20: P7_2 | B20: 28.3 | C20: y | D20: =if(C20="Y",CONCATENATE('Week 14'!A20,,"_",$C$17), ) -> #REF! | E20: 29 | F20: y | G20: =if(F20="Y",CONCATENATE('Week 14'!$A20,,"_",$F$17), ) -> #REF! | H20: 27.6 | I20: n | J20: =if(I20="Y",CONCATENATE('Week 14'!$A20,,"_",$I$17), )
A21: P7_3 | B21: 29.4 | C21: y | D21: =if(C21="Y",CONCATENATE('Week 14'!A21,,"_",$C$17), ) -> #REF! | E21: 26.6 | F21: y | G21: =if(F21="Y",CONCATENATE('Week 14'!$A21,,"_",$F$17), ) -> #REF! | H21: 25.8 | I21: n | J21: =if(I21="Y",CONCATENATE('Week 14'!$A21,,"_",$I$17), )
A22: P7_4 | B22: 26.8 | C22: y | D22: =if(C22="Y",CONCATENATE('Week 14'!A22,,"_",$C$17), ) -> #REF! | E22: 29 | F22: y | G22: =if(F22="Y",CONCATENATE('Week 14'!$A22,,"_",$F$17), ) -> #REF! | H22: 30 | I22: n | J22: =if(I22="Y",CONCATENATE('Week 14'!$A22,,"_",$I$17), )
B25: Date: | C25: 060121 | E25: Date: | F25: 060221 | H25: Date: | I25: 060321
A26: Pup Number | B26: Weight (g) | C26: Fecal (Y/N) | D26: Sample Name | E26: Weight (g) | F26: Fecal (Y/N) | G26: Sample Name | H26: Weight (g) | I26: Fecal (Y/N) | J26: Sample Name | K26: Remarks
A27: P7_2_1 | B27: 20.6 | C27: y | D27: =if(C27="Y",CONCATENATE(A27,,"_",$C$25), ) -> P7_2_1_060121 | E27: 20.5 | F27: n | G27: =if(F27="Y",CONCATENATE($A27,,"_",$F$25), ) | H27: 20.8 | I27: y | J27: =if(I27="Y",CONCATENATE($A27,,"_",$I$25), ) -> P7_2_1_060321
A28: P7_2_2 | B28: 21.9 | C28: y | D28: =if(C28="Y",CONCATENATE(A28,,"_",$C$25), ) -> P7_2_2_060121 | E28: 23.2 | F28: n | G28: =if(F28="Y",CONCATENATE($A28,,"_",$F$25), ) | H28: 23.9 | I28: y | J28: =if(I28="Y",CONCATENATE($A28,,"_",$I$25), ) -> P7_2_2_060321
A29: P7_2_3 | B29: 23 | C29: y | D29: =if(C29="Y",CONCATENATE(A29,,"_",$C$25), ) -> P7_2_3_060121 | E29: 22.5 | F29: n | G29: =if(F29="Y",CONCATENATE($A29,,"_",$F$25), ) | H29: 23.3 | I29: y | J29: =if(I29="Y",CONCATENATE($A29,,"_",$I$25), ) -> P7_2_3_060321
A30: P7_2_4 | B30: 22.6 | C30: y | D30: =if(C30="Y",CONCATENATE(A30,,"_",$C$25), ) -> P7_2_4_060121 | E30: 23.6 | F30: n | G30: =if(F30="Y",CONCATENATE($A30,,"_",$F$25), ) | H30: 23.1 | I30: y | J30: =if(I30="Y",CONCATENATE($A30,,"_",$I$25), ) -> P7_2_4_060321
A31: P7_2_5 | B31: 23.4 | C31: y | D31: =if(C31="Y",CONCATENATE(A31,,"_",$C$25), ) -> P7_2_5_060121 | E31: 24 | F31: n | G31: =if(F31="Y",CONCATENATE($A31,,"_",$F$25), ) | H31: 24.4 | I31: y | J31: =if(I31="Y",CONCATENATE($A31,,"_",$I$25), ) -> P7_2_5_060321
A32: P7_2_6 | B32: 25.4 | C32: y | D32: =if(C32="Y",CONCATENATE(A32,,"_",$C$25), ) -> P7_2_6_060121 | E32: 22 | F32: n | G32: =if(F32="Y",CONCATENATE($A32,,"_",$F$25), ) | H32: 25.4 | I32: y | J32: =if(I32="Y",CONCATENATE($A32,,"_",$I$25), ) -> P7_2_6_060321
A33: P7_2_7 | B33: 22.5 | C33: y | D33: =if(C33="Y",CONCATENATE(A33,,"_",$C$25), ) -> P7_2_7_060121 | E33: 23.9 | F33: n | G33: =if(F33="Y",CONCATENATE($A33,,"_",$F$25), ) | H33: 24.4 | I33: y | J33: =if(I33="Y",CONCATENATE($A33,,"_",$I$25), ) -> P7_2_7_060321
A34: P7_2_8 | B34: 24.4 | C34: y | D34: =if(C34="Y",CONCATENATE(A34,,"_",$C$25), ) -> P7_2_8_060121 | E34: 24.6 | F34: n | G34: =if(F34="Y",CONCATENATE($A34,,"_",$F$25), ) | H34: 22.4 | I34: y | J34: =if(I34="Y",CONCATENATE($A34,,"_",$I$25), ) -> P7_2_8_060321
B37: Date: | C37: 080921 | E37: Date: | F37: 081021 | H37: Date: | I37: 081121
A38: Pup Number | B38: Weight (g) | C38: Fecal (Y/N) | D38: Sample Name | E38: Weight (g) | F38: Fecal (Y/N) | G38: Sample Name | H38: Weight (g) | I38: Fecal (Y/N) | J38: Sample Name | K38: Remarks
A39: P7_3_1 | B39: 19.3 | C39: n | D39: =if(C39="Y",CONCATENATE(A39,,"_",$C$37), ) | E39: 20.4 | F39: y | G39: =if(F39="Y",CONCATENATE($A39,,"_",$F$37), ) -> P7_3_1_081021 | H39: 19.9 | I39: y | J39: =if(I39="Y",CONCATENATE($A39,,"_",$I$37), ) -> P7_3_1_081121
A40: P7_3_2 | B40: 19 | C40: n | D40: =if(C40="Y",CONCATENATE(A40,,"_",$C$37), ) | E40: 19.8 | F40: y | G40: =if(F40="Y",CONCATENATE($A40,,"_",$F$37), ) -> P7_3_2_081021 | H40: 20.7 | I40: y | J40: =if(I40="Y",CONCATENATE($A40,,"_",$I$37), ) -> P7_3_2_081121
A41: P7_3_3 | B41: 24.3 | C41: n | D41: =if(C41="Y",CONCATENATE(A41,,"_",$C$37), ) | E41: 24.6 | F41: y | G41: =if(F41="Y",CONCATENATE($A41,,"_",$F$37), ) -> P7_3_3_081021 | H41: 25.4 | I41: y | J41: =if(I41="Y",CONCATENATE($A41,,"_",$I$37), ) -> P7_3_3_081121
A42: P7_3_4 | B42: 23.9 | C42: n | D42: =if(C42="Y",CONCATENATE(A42,,"_",$C$37), ) | E42: 24.3 | F42: y | G42: =if(F42="Y",CONCATENATE($A42,,"_",$F$37), ) -> P7_3_4_081021 | H42: 23 | I42: y | J42: =if(I42="Y",CONCATENATE($A42,,"_",$I$37), ) -> P7_3_4_081121
A43: P7_3_5 | B43: 25.2 | C43: n | D43: =if(C43="Y",CONCATENATE(A43,,"_",$C$37), ) | E43: 25.5 | F43: y | G43: =if(F43="Y",CONCATENATE($A43,,"_",$F$37), ) -> P7_3_5_081021 | H43: 26.1 | I43: y | J43: =if(I43="Y",CONCATENATE($A43,,"_",$I$37), ) -> P7_3_5_081121
A44: P7_3_6 | B44: 22.2 | C44: n | D44: =if(C44="Y",CONCATENATE(A44,,"_",$C$37), ) | E44: 22.8 | F44: y | G44: =if(F44="Y",CONCATENATE($A44,,"_",$F$37), ) -> P7_3_6_081021 | H44: 24.7 | I44: y | J44: =if(I44="Y",CONCATENATE($A44,,"_",$I$37), ) -> P7_3_6_081121
B47: Date: | C47: 042121 | E47: Date: | H47: Date: | I47: 042321
A48: Pup Number | B48: Weight (g) | C48: Fecal (Y/N) | D48: Sample Name | E48: Weight (g) | F48: Fecal (Y/N) | G48: Sample Name | H48: Weight (g) | I48: Fecal (Y/N) | J48: Sample Name | K48: Remarks
A49: P8_1 | B49: 25.1 | C49: y | D49: =if(C49="Y",CONCATENATE(A49,,"_",$C$47), ) -> P8_1_042121 | G49: =if(F49="Y",CONCATENATE($A49,,"_",$F$47), ) | H49: 26.3 | I49: y | J49: =if(I49="Y",CONCATENATE($A49,,"_",$I$47), ) -> P8_1_042321
A50: P8_2 | B50: 20.3 | C50: y | D50: =if(C50="Y",CONCATENATE(A50,,"_",$C$47), ) -> P8_2_042121 | G50: =if(F50="Y",CONCATENATE($A50,,"_",$F$47), ) | H50: 20.8 | I50: y | J50: =if(I50="Y",CONCATENATE($A50,,"_",$I$47), ) -> P8_2_042321
B53: Date: | C53: 062821 | E53: Date: | F53: 062921 | H53: Date: | I53: 063021
A54: Pup Number | B54: Weight (g) | C54: Fecal (Y/N) | D54: Sample Name | E54: Weight (g) | F54: Fecal (Y/N) | G54: Sample Name | H54: Weight (g) | I54: Fecal (Y/N) | J54: Sample Name | K54: Remarks
A55: P8_2_1 | B55: 21.6 | C55: y | D55: =if(C55="Y",CONCATENATE(A55,,"_",$C$53), ) -> P8_2_1_062821 | E55: 21.8 | F55: n | G55: =if(F55="Y",CONCATENATE($A55,,"_",$F$53), ) | H55: 19 | I55: y | J55: =if(I55="Y",CONCATENATE($A55,,"_",$I$53), ) -> P8_2_1_063021
A56: P8_2_2 | B56: 18 | C56: y | D56: =if(C56="Y",CONCATENATE(A56,,"_",$C$53), ) -> P8_2_2_062821 | E56: 17.9 | F56: n | G56: =if(F56="Y",CONCATENATE($A56,,"_",$F$53), ) | H56: 18 | I56: y | J56: =if(I56="Y",CONCATENATE($A56,,"_",$I$53), ) -> P8_2_2_063021
A57: P8_2_3 | B57: 19.1 | C57: y | D57: =if(C57="Y",CONCATENATE(A57,,"_",$C$53), ) -> P8_2_3_062821 | E57: 18.9 | F57: n | G57: =if(F57="Y",CONCATENATE($A57,,"_",$F$53), ) | H57: 21.6 | I57: y | J57: =if(I57="Y",CONCATENATE($A57,,"_",$I$53), ) -> P8_2_3_063021
A58: P8_2_4 | B58: 19.9 | C58: y | D58: =if(C58="Y",CONCATENATE(A58,,"_",$C$53), ) -> P8_2_4_062821 | E58: 21 | F58: n | G58: =if(F58="Y",CONCATENATE($A58,,"_",$F$53), ) | H58: 23.4 | I58: y | J58: =if(I58="Y",CONCATENATE($A58,,"_",$I$53), ) -> P8_2_4_063021
A59: P8_2_5 | B59: 22.5 | C59: y | D59: =if(C59="Y",CONCATENATE(A59,,"_",$C$53), ) -> P8_2_5_062821 | E59: 23.4 | F59: n | G59: =if(F59="Y",CONCATENATE($A59,,"_",$F$53), ) | H59: 23.8 | I59: y | J59: =if(I59="Y",CONCATENATE($A59,,"_",$I$53), ) -> P8_2_5_063021
A60: P8_2_6 | B60: 22.6 | C60: y | D60: =if(C60="Y",CONCATENATE(A60,,"_",$C$53), ) -> P8_2_6_062821 | E60: 23.7 | F60: n | G60: =if(F60="Y",CONCATENATE($A60,,"_",$F$53), ) | H60: 21.2 | I60: y | J60: =if(I60="Y",CONCATENATE($A60,,"_",$I$53), ) -> P8_2_6_063021

Sheet Week 14
B1: Date: | C1: 090721 | E1: Date: | F1: 090921 | H1: Date: | I1: 091021
A2: Pup Number | B2: Weight (g) | C2: Fecal (Y/N) | D2: Sample Name | E2: Weight (g) | F2: Fecal (Y/N) | G2: Sample Name | H2: Weight (g) | I2: Fecal (Y/N) | J2: Sample Name | K2: Remarks
A3: P4_1 | B3: 22.2 | C3: n | D3: =if(C3="Y",CONCATENATE(A3,,"_",$C$1), ) | E3: 20.3 | F3: y | G3: =if(F3="Y",CONCATENATE($A3,,"_",$F$1), ) -> P4_1_090921 | H3: 20.4 | I3: y | J3: =if(I3="Y",CONCATENATE($A3,,"_",$I$1), ) -> P4_1_091021
A4: P4_2 | B4: 19.4 | C4: n | D4: =if(C4="Y",CONCATENATE(A4,,"_",$C$1), ) | E4: 22.6 | F4: y | G4: =if(F4="Y",CONCATENATE($A4,,"_",$F$1), ) -> P4_2_090921 | H4: 23.3 | I4: y | J4: =if(I4="Y",CONCATENATE($A4,,"_",$I$1), ) -> P4_2_091021
A5: P4_3 | B5: 23.8 | C5: n | D5: =if(C5="Y",CONCATENATE(A5,,"_",$C$1), ) | E5: 26.3 | F5: y | G5: =if(F5="Y",CONCATENATE($A5,,"_",$F$1), ) -> P4_3_090921 | H5: 25.4 | I5: y | J5: =if(I5="Y",CONCATENATE($A5,,"_",$I$1), ) -> P4_3_091021
A6: P4_4 | B6: 25.2 | C6: n | D6: =if(C6="Y",CONCATENATE(A6,,"_",$C$1), ) | E6: 24.6 | F6: y | G6: =if(F6="Y",CONCATENATE($A6,,"_",$F$1), ) -> P4_4_090921 | H6: 26.5 | I6: y | J6: =if(I6="Y",CONCATENATE($A6,,"_",$I$1), ) -> P4_4_091021
A7: P4_5 | B7: 24.1 | C7: n | D7: =if(C7="Y",CONCATENATE(A7,,"_",$C$1), ) | E7: 25.8 | F7: y | G7: =if(F7="Y",CONCATENATE($A7,,"_",$F$1), ) -> P4_5_090921 | H7: 24.9 | I7: y | J7: =if(I7="Y",CONCATENATE($A7,,"_",$I$1), ) -> P4_5_091021
B10: Date: | C10: 081621 | E10: Date: | F10: 081721 | H10: Date: | I10: 081821
A11: Pup Number | B11: Weight (g) | C11: Fecal (Y/N) | D11: Sample Name | E11: Weight (g) | F11: Fecal (Y/N) | G11: Sample Name | H11: Weight (g) | I11: Fecal (Y/N) | J11: Sample Name | K11: Remarks
A12: P6_1 | B12: 23 | C12: n | D12: =if(C12="Y",CONCATENATE(A12,,"_",$C$10), ) | E12: 23.4 | F12: y | G12: =if(F12="Y",CONCATENATE($A12,,"_",$F$10), ) -> P6_1_081721 | H12: 21.9 | I12: y | J12: =if(I12="Y",CONCATENATE($A12,,"_",$I$10), ) -> P6_1_081821
A13: P6_2 | B13: 23 | C13: n | D13: =if(C13="Y",CONCATENATE(A13,,"_",$C$10), ) | E13: 25.5 | F13: y | G13: =if(F13="Y",CONCATENATE($A13,,"_",$F$10), ) -> P6_2_081721 | H13: 24 | I13: y | J13: =if(I13="Y",CONCATENATE($A13,,"_",$I$10), ) -> P6_2_081821
A14: P6_3 | B14: 24.7 | C14: n | D14: =if(C14="Y",CONCATENATE(A14,,"_",$C$10), ) | E14: 22.6 | F14: y | G14: =if(F14="Y",CONCATENATE($A14,,"_",$F$10), ) -> P6_3_081721 | H14: 25.2 | I14: y | J14: =if(I14="Y",CONCATENATE($A14,,"_",$I$10), ) -> P6_3_081821
B17: Date: | C17: 051821 | E17: Date: | F17: 051921 | H17: Date: | I17: 052021
A18: Pup Number | B18: Weight (g) | C18: Fecal (Y/N) | D18: Sample Name | E18: Weight (g) | F18: Fecal (Y/N) | G18: Sample Name | H18: Weight (g) | I18: Fecal (Y/N) | J18: Sample Name | K18: Remarks
A19: P7_1 | B19: 27.5 | C19: y | D19: =if(C19="Y",CONCATENATE('Week 15'!A19,,"_",$C$17), ) -> #REF! | E19: 31.6 | F19: n | G19: =if(F19="Y",CONCATENATE('Week 15'!$A19,,"_",$F$17), ) | H19: 31.6 | I19: y | J19: =if(I19="Y",CONCATENATE('Week 15'!$A19,,"_",$I$17), ) -> #REF!
A20: P7_2 | B20: 31 | C20: y | D20: =if(C20="Y",CONCATENATE('Week 15'!A20,,"_",$C$17), ) -> #REF! | E20: 31.1 | F20: n | G20: =if(F20="Y",CONCATENATE('Week 15'!$A20,,"_",$F$17), ) | H20: 30.5 | I20: y | J20: =if(I20="Y",CONCATENATE('Week 15'!$A20,,"_",$I$17), ) -> #REF!
A21: P7_3 | B21: 29.3 | C21: y | D21: =if(C21="Y",CONCATENATE('Week 15'!A21,,"_",$C$17), ) -> #REF! | E21: 28.4 | F21: n | G21: =if(F21="Y",CONCATENATE('Week 15'!$A21,,"_",$F$17), ) | H21: 28.5 | I21: y | J21: =if(I21="Y",CONCATENATE('Week 15'!$A21,,"_",$I$17), ) -> #REF!
A22: P7_4 | B22: 26.2 | C22: y | D22: =if(C22="Y",CONCATENATE('Week 15'!A22,,"_",$C$17), ) -> #REF! | E22: 27.3 | F22: n | G22: =if(F22="Y",CONCATENATE('Week 15'!$A22,,"_",$F$17), ) | H22: 27.2 | I22: y | J22: =if(I22="Y",CONCATENATE('Week 15'!$A22,,"_",$I$17), ) -> #REF!
B25: Date: | C25: 060821 | E25: Date: | F25: 060921 | H25: Date: | I25: 061021
A26: Pup Number | B26: Weight (g) | C26: Fecal (Y/N) | D26: Sample Name | E26: Weight (g) | F26: Fecal (Y/N) | G26: Sample Name | H26: Weight (g) | I26: Fecal (Y/N) | J26: Sample Name | K26: Remarks
A27: P7_2_1 | B27: 21.7 | C27: n | D27: =if(C27="Y",CONCATENATE(A27,,"_",$C$25), ) | E27: 21.6 | F27: y | G27: =if(F27="Y",CONCATENATE($A27,,"_",$F$25), ) -> P7_2_1_060921 | H27: 21.9 | I27: y | J27: =if(I27="Y",CONCATENATE($A27,,"_",$I$25), ) -> P7_2_1_061021
A28: P7_2_2 | B28: 23 | C28: n | D28: =if(C28="Y",CONCATENATE(A28,,"_",$C$25), ) | E28: 23.5 | F28: y | G28: =if(F28="Y",CONCATENATE($A28,,"_",$F$25), ) -> P7_2_2_060921 | H28: 23.6 | I28: y | J28: =if(I28="Y",CONCATENATE($A28,,"_",$I$25), ) -> P7_2_2_061021
A29: P7_2_3 | B29: 23.8 | C29: n | D29: =if(C29="Y",CONCATENATE(A29,,"_",$C$25), ) | E29: 23.3 | F29: y | G29: =if(F29="Y",CONCATENATE($A29,,"_",$F$25), ) -> P7_2_3_060921 | H29: 23.5 | I29: y | J29: =if(I29="Y",CONCATENATE($A29,,"_",$I$25), ) -> P7_2_3_061021
A30: P7_2_4 | B30: 23.6 | C30: n | D30: =if(C30="Y",CONCATENATE(A30,,"_",$C$25), ) | E30: 23.3 | F30: y | G30: =if(F30="Y",CONCATENATE($A30,,"_",$F$25), ) -> P7_2_4_060921 | H30: 22.9 | I30: y | J30: =if(I30="Y",CONCATENATE($A30,,"_",$I$25), ) -> P7_2_4_061021
A31: P7_2_5 | B31: 24.5 | C31: n | D31: =if(C31="Y",CONCATENATE(A31,,"_",$C$25), ) | E31: 24.2 | F31: y | G31: =if(F31="Y",CONCATENATE($A31,,"_",$F$25), ) -> P7_2_5_060921 | H31: 23.3 | I31: y | J31: =if(I31="Y",CONCATENATE($A31,,"_",$I$25), ) -> P7_2_5_061021
A32: P7_2_6 | B32: 22.9 | C32: n | D32: =if(C32="Y",CONCATENATE(A32,,"_",$C$25), ) | E32: 26 | F32: y | G32: =if(F32="Y",CONCATENATE($A32,,"_",$F$25), ) -> P7_2_6_060921 | H32: 25.9 | I32: y | J32: =if(I32="Y",CONCATENATE($A32,,"_",$I$25), ) -> P7_2_6_061021
A33: P7_2_7 | B33: 24.8 | C33: n | D33: =if(C33="Y",CONCATENATE(A33,,"_",$C$25), ) | E33: 24.8 | F33: y | G33: =if(F33="Y",CONCATENATE($A33,,"_",$F$25), ) -> P7_2_7_060921 | H33: 24.6 | I33: y | J33: =if(I33="Y",CONCATENATE($A33,,"_",$I$25), ) -> P7_2_7_061021
A34: P7_2_8 | B34: 25.6 | C34: n | D34: =if(C34="Y",CONCATENATE(A34,,"_",$C$25), ) | E34: 23 | F34: y | G34: =if(F34="Y",CONCATENATE($A34,,"_",$F$25), ) -> P7_2_8_060921 | H34: 22.6 | I34: y | J34: =if(I34="Y",CONCATENATE($A34,,"_",$I$25), ) -> P7_2_8_061021
B37: Date: | C37: 081621 | E37: Date: | F37: 081721 | H37: Date: | I37: 081821
A38: Pup Number | B38: Weight (g) | C38: Fecal (Y/N) | D38: Sample Name | E38: Weight (g) | F38: Fecal (Y/N) | G38: Sample Name | H38: Weight (g) | I38: Fecal (Y/N) | J38: Sample Name | K38: Remarks
A39: P7_3_1 | B39: 19.9 | C39: n | D39: =if(C39="Y",CONCATENATE(A39,,"_",$C$37), ) | E39: 20.6 | F39: y | G39: =if(F39="Y",CONCATENATE($A39,,"_",$F$37), ) -> P7_3_1_081721 | H39: 19.8 | I39: y | J39: =if(I39="Y",CONCATENATE($A39,,"_",$I$37), ) -> P7_3_1_081821
A40: P7_3_2 | B40: 20.7 | C40: n | D40: =if(C40="Y",CONCATENATE(A40,,"_",$C$37), ) | E40: 20 | F40: y | G40: =if(F40="Y",CONCATENATE($A40,,"_",$F$37), ) -> P7_3_2_081721 | H40: 20.7 | I40: y | J40: =if(I40="Y",CONCATENATE($A40,,"_",$I$37), ) -> P7_3_2_081821
A41: P7_3_3 | B41: 25.1 | C41: n | D41: =if(C41="Y",CONCATENATE(A41,,"_",$C$37), ) | E41: 25.3 | F41: y | G41: =if(F41="Y",CONCATENATE($A41,,"_",$F$37), ) -> P7_3_3_081721 | H41: 24.7 | I41: y | J41: =if(I41="Y",CONCATENATE($A41,,"_",$I$37), ) -> P7_3_3_081821
A42: P7_3_4 | B42: 22.6 | C42: n | D42: =if(C42="Y",CONCATENATE(A42,,"_",$C$37), ) | E42: 25.7 | F42: y | G42: =if(F42="Y",CONCATENATE($A42,,"_",$F$37), ) -> P7_3_4_081721 | H42: 23 | I42: y | J42: =if(I42="Y",CONCATENATE($A42,,"_",$I$37), ) -> P7_3_4_081821
A43: P7_3_5 | B43: 25.8 | C43: n | D43: =if(C43="Y",CONCATENATE(A43,,"_",$C$37), ) | E43: 23.4 | F43: y | G43: =if(F43="Y",CONCATENATE($A43,,"_",$F$37), ) -> P7_3_5_081721 | H43: 25.9 | I43: y | J43: =if(I43="Y",CONCATENATE($A43,,"_",$I$37), ) -> P7_3_5_081821
A44: P7_3_6 | B44: 24.4 | C44: n | D44: =if(C44="Y",CONCATENATE(A44,,"_",$C$37), ) | E44: 26.6 | F44: y | G44: =if(F44="Y",CONCATENATE($A44,,"_",$F$37), ) -> P7_3_6_081721 | H44: 24.9 | I44: y | J44: =if(I44="Y",CONCATENATE($A44,,"_",$I$37), ) -> P7_3_6_081821
B47: Date: | C47: 042621 | E47: Date: | F47: 042821 | H47: Date: | I47: 042921
A48: Pup Number | B48: Weight (g) | C48: Fecal (Y/N) | D48: Sample Name | E48: Weight (g) | F48: Fecal (Y/N) | G48: Sample Name | H48: Weight (g) | I48: Fecal (Y/N) | J48: Sample Name | K48: Remarks
A49: P8_1 | B49: 26.1 | C49: n | D49: =if(C49="Y",CONCATENATE(A49,,"_",$C$47), ) | E49: 24 | F49: y | G49: =if(F49="Y",CONCATENATE($A49,,"_",$F$47), ) -> P8_1_042821 | H49: 23.7 | I49: y | J49: =if(I49="Y",CONCATENATE($A49,,"_",$I$47), ) -> P8_1_042921
A50: P8_2 | B50: 21.8 | C50: n | D50: =if(C50="Y",CONCATENATE(A50,,"_",$C$47), ) | E50: 28.2 | F50: y | G50: =if(F50="Y",CONCATENATE($A50,,"_",$F$47), ) -> P8_2_042821 | H50: 26.6 | I50: y | J50: =if(I50="Y",CONCATENATE($A50,,"_",$I$47), ) -> P8_2_042921
B53: Date: | C53: 070621 | E53: Date: | F53: 070821 | H53: Date: | I53: 070921
A54: Pup Number | B54: Weight (g) | C54: Fecal (Y/N) | D54: Sample Name | E54: Weight (g) | F54: Fecal (Y/N) | G54: Sample Name | H54: Weight (g) | I54: Fecal (Y/N) | J54: Sample Name | K54: Remarks
A55: P8_2_1 | B55: 18.2 | C55: y | D55: =if(C55="Y",CONCATENATE(A55,,"_",$C$53), ) -> P8_2_1_070621 | E55: 19.6 | F55: n | G55: =if(F55="Y",CONCATENATE($A55,,"_",$F$53), ) | H55: 18.8 | I55: n | J55: =if(I55="Y",CONCATENATE($A55,,"_",$I$53), )
A56: P8_2_2 | B56: 19.3 | C56: y | D56: =if(C56="Y",CONCATENATE(A56,,"_",$C$53), ) -> P8_2_2_070621 | E56: 18.6 | F56: n | G56: =if(F56="Y",CONCATENATE($A56,,"_",$F$53), ) | H56: 22.4 | I56: n | J56: =if(I56="Y",CONCATENATE($A56,,"_",$I$53), )
A57: P8_2_3 | B57: 21.7 | C57: y | D57: =if(C57="Y",CONCATENATE(A57,,"_",$C$53), ) -> P8_2_3_070621 | E57: 21.9 | F57: n | G57: =if(F57="Y",CONCATENATE($A57,,"_",$F$53), ) | H57: 19.3 | I57: n | J57: =if(I57="Y",CONCATENATE($A57,,"_",$I$53), )
A58: P8_2_4 | B58: 20.8 | C58: y | D58: =if(C58="Y",CONCATENATE(A58,,"_",$C$53), ) -> P8_2_4_070621 | E58: 22.1 | F58: n | G58: =if(F58="Y",CONCATENATE($A58,,"_",$F$53), ) | H58: 22.4 | I58: n | J58: =if(I58="Y",CONCATENATE($A58,,"_",$I$53), )
A59: P8_2_5 | B59: 22.9 | C59: y | D59: =if(C59="Y",CONCATENATE(A59,,"_",$C$53), ) -> P8_2_5_070621 | E59: 23.5 | F59: n | G59: =if(F59="Y",CONCATENATE($A59,,"_",$F$53), ) | H59: 24.1 | I59: n | J59: =if(I59="Y",CONCATENATE($A59,,"_",$I$53), )
A60: P8_2_6 | B60: 22.2 | C60: y | D60: =if(C60="Y",CONCATENATE(A60,,"_",$C$53), ) -> P8_2_6_070621 | E60: 24 | F60: n | G60: =if(F60="Y",CONCATENATE($A60,,"_",$F$53), ) | H60: 24.5 | I60: n | J60: =if(I60="Y",CONCATENATE($A60,,"_",$I$53), )

Sheet Week 15
B1: Date: | C1: 091321 | E1: Date: | F1: 091621 | H1: Date: | I1: 091721
A2: Pup Number | B2: Weight (g) | C2: Fecal (Y/N) | D2: Sample Name | E2: Weight (g) | F2: Fecal (Y/N) | G2: Sample Name | H2: Weight (g) | I2: Fecal (Y/N) | J2: Sample Name | K2: Remarks
A3: P4_1 | B3: 20 | C3: n | D3: =if(C3="Y",CONCATENATE(A3,,"_",$C$1), ) | E3: 23.1 | F3: y | G3: =if(F3="Y",CONCATENATE($A3,,"_",$F$1), ) -> P4_1_091621 | H3: 20 | I3: y | J3: =if(I3="Y",CONCATENATE($A3,,"_",$I$1), ) -> P4_1_091721
A4: P4_2 | B4: 24.7 | C4: n | D4: =if(C4="Y",CONCATENATE(A4,,"_",$C$1), ) | E4: 20 | F4: y | G4: =if(F4="Y",CONCATENATE($A4,,"_",$F$1), ) -> P4_2_091621 | H4: 23.2 | I4: y | J4: =if(I4="Y",CONCATENATE($A4,,"_",$I$1), ) -> P4_2_091721
A5: P4_3 | B5: 25.8 | C5: n | D5: =if(C5="Y",CONCATENATE(A5,,"_",$C$1), ) | E5: 26.8 | F5: y | G5: =if(F5="Y",CONCATENATE($A5,,"_",$F$1), ) -> P4_3_091621 | H5: 24.7 | I5: y | J5: =if(I5="Y",CONCATENATE($A5,,"_",$I$1), ) -> P4_3_091721
A6: P4_4 | B6: 24.1 | C6: n | D6: =if(C6="Y",CONCATENATE(A6,,"_",$C$1), ) | E6: 25.4 | F6: y | G6: =if(F6="Y",CONCATENATE($A6,,"_",$F$1), ) -> P4_4_091621 | H6: 25.5 | I6: y | J6: =if(I6="Y",CONCATENATE($A6,,"_",$I$1), ) -> P4_4_091721
A7: P4_5 | B7: 21.2 | C7: n | D7: =if(C7="Y",CONCATENATE(A7,,"_",$C$1), ) | E7: 26 | F7: y | G7: =if(F7="Y",CONCATENATE($A7,,"_",$F$1), ) -> P4_5_091621 | H7: 25.8 | I7: y | J7: =if(I7="Y",CONCATENATE($A7,,"_",$I$1), ) -> P4_5_091721
B10: Date: | C10: 082621 | E10: Date: | F10: 082721 | H10: Date: | J10: no weights
A11: Pup Number | B11: Weight (g) | C11: Fecal (Y/N) | D11: Sample Name | E11: Weight (g) | F11: Fecal (Y/N) | G11: Sample Name | H11: Weight (g) | I11: Fecal (Y/N) | J11: Sample Name | K11: Remarks
A12: P6_1 | B12: 22.2 | C12: y | D12: =if(C12="Y",CONCATENATE(A12,,"_",$C$10), ) -> P6_1_082621 | E12: 22 | F12: y | G12: =if(F12="Y",CONCATENATE($A12,,"_",$F$10), ) -> P6_1_082721 | J12: =if(I12="Y",CONCATENATE($A12,,"_",$I$10), )
A13: P6_2 | B13: 25.1 | C13: y | D13: =if(C13="Y",CONCATENATE(A13,,"_",$C$10), ) -> P6_2_082621 | E13: 24.6 | F13: y | G13: =if(F13="Y",CONCATENATE($A13,,"_",$F$10), ) -> P6_2_082721 | J13: =if(I13="Y",CONCATENATE($A13,,"_",$I$10), )
A14: P6_3 | D14: =if(C14="Y",CONCATENATE(A14,,"_",$C$10), ) | G14: =if(F14="Y",CONCATENATE($A14,,"_",$F$10), ) | J14: =if(I14="Y",CONCATENATE($A14,,"_",$I$10), )
B17: Date: | C17: 052421 | E17: Date: | F17: 052621 | H17: Date: | I17: 052821
A18: Pup Number | B18: Weight (g) | C18: Fecal (Y/N) | D18: Sample Name | E18: Weight (g) | F18: Fecal (Y/N) | G18: Sample Name | H18: Weight (g) | I18: Fecal (Y/N) | J18: Sample Name | K18: Remarks
A19: P7_1 | B19: 28 | C19: y | D19: =if(C19="Y",CONCATENATE('Week 16'!A19,,"_",$C$17), ) -> #REF! | E19: 30.8 | F19: y | G19: =if(F19="Y",CONCATENATE('Week 16'!$A19,,"_",$F$17), ) -> #REF! | H19: 29.8 | I19: n | J19: =if(I19="Y",CONCATENATE('Week 16'!$A19,,"_",$I$17), )
A20: P7_2 | B20: 27.3 | C20: y | D20: =if(C20="Y",CONCATENATE('Week 16'!A20,,"_",$C$17), ) -> #REF! | E20: 27.7 | F20: y | G20: =if(F20="Y",CONCATENATE('Week 16'!$A20,,"_",$F$17), ) -> #REF! | H20: 26.8 | I20: n | J20: =if(I20="Y",CONCATENATE('Week 16'!$A20,,"_",$I$17), )
A21: P7_3 | B21: 25.9 | C21: y | D21: =if(C21="Y",CONCATENATE('Week 16'!A21,,"_",$C$17), ) -> #REF! | E21: 30.3 | F21: y | G21: =if(F21="Y",CONCATENATE('Week 16'!$A21,,"_",$F$17), ) -> #REF! | H21: 27.9 | I21: n | J21: =if(I21="Y",CONCATENATE('Week 16'!$A21,,"_",$I$17), )
A22: P7_4 | B22: 29 | C22: y | D22: =if(C22="Y",CONCATENATE('Week 16'!A22,,"_",$C$17), ) -> #REF! | E22: 26.3 | F22: y | G22: =if(F22="Y",CONCATENATE('Week 16'!$A22,,"_",$F$17), ) -> #REF! | H22: 27.3 | I22: n | J22: =if(I22="Y",CONCATENATE('Week 16'!$A22,,"_",$I$17), )
B25: Date: | C25: 061521 | E25: Date: | F25: 061621 | H25: Date: | I25: 061721
A26: Pup Number | B26: Weight (g) | C26: Fecal (Y/N) | D26: Sample Name | E26: Weight (g) | F26: Fecal (Y/N) | G26: Sample Name | H26: Weight (g) | I26: Fecal (Y/N) | J26: Sample Name | K26: Remarks
A27: P7_2_1 | B27: 22.3 | C27: y | D27: =if(C27="Y",CONCATENATE(A27,,"_",$C$25), ) -> P7_2_1_061521 | E27: 22.1 | F27: y | G27: =if(F27="Y",CONCATENATE($A27,,"_",$F$25), ) -> P7_2_1_061621 | H27: 22.1 | I27: n | J27: =if(I27="Y",CONCATENATE($A27,,"_",$I$25), )
A28: P7_2_2 | B28: 23.2 | C28: y | D28: =if(C28="Y",CONCATENATE(A28,,"_",$C$25), ) -> P7_2_2_061521 | E28: 24.1 | F28: y | G28: =if(F28="Y",CONCATENATE($A28,,"_",$F$25), ) -> P7_2_2_061621 | H28: 24.2 | I28: n | J28: =if(I28="Y",CONCATENATE($A28,,"_",$I$25), )
A29: P7_2_3 | B29: 23.6 | C29: y | D29: =if(C29="Y",CONCATENATE(A29,,"_",$C$25), ) -> P7_2_3_061521 | E29: 23.9 | F29: y | G29: =if(F29="Y",CONCATENATE($A29,,"_",$F$25), ) -> P7_2_3_061621 | H29: 24 | I29: n | J29: =if(I29="Y",CONCATENATE($A29,,"_",$I$25), )
A30: P7_2_4 | B30: 24.1 | C30: y | D30: =if(C30="Y",CONCATENATE(A30,,"_",$C$25), ) -> P7_2_4_061521 | E30: 24.8 | F30: y | G30: =if(F30="Y",CONCATENATE($A30,,"_",$F$25), ) -> P7_2_4_061621 | H30: 23.5 | I30: n | J30: =if(I30="Y",CONCATENATE($A30,,"_",$I$25), )
A31: P7_2_5 | B31: 23.7 | C31: y | D31: =if(C31="Y",CONCATENATE(A31,,"_",$C$25), ) -> P7_2_5_061521 | E31: 24.2 | F31: y | G31: =if(F31="Y",CONCATENATE($A31,,"_",$F$25), ) -> P7_2_5_061621 | H31: 23.9 | I31: n | J31: =if(I31="Y",CONCATENATE($A31,,"_",$I$25), )
A32: P7_2_6 | B32: 26.1 | C32: y | D32: =if(C32="Y",CONCATENATE(A32,,"_",$C$25), ) -> P7_2_6_061521 | E32: 25.9 | F32: y | G32: =if(F32="Y",CONCATENATE($A32,,"_",$F$25), ) -> P7_2_6_061621 | H32: 26.5 | I32: n | J32: =if(I32="Y",CONCATENATE($A32,,"_",$I$25), )
A33: P7_2_7 | B33: 25.1 | C33: y | D33: =if(C33="Y",CONCATENATE(A33,,"_",$C$25), ) -> P7_2_7_061521 | E33: 23.9 | F33: y | G33: =if(F33="Y",CONCATENATE($A33,,"_",$F$25), ) -> P7_2_7_061621 | H33: 25.4 | I33: n | J33: =if(I33="Y",CONCATENATE($A33,,"_",$I$25), )
A34: P7_2_8 | B34: 23 | C34: y | D34: =if(C34="Y",CONCATENATE(A34,,"_",$C$25), ) -> P7_2_8_061521 | E34: 26.7 | F34: y | G34: =if(F34="Y",CONCATENATE($A34,,"_",$F$25), ) -> P7_2_8_061621 | H34: 23.5 | I34: n | J34: =if(I34="Y",CONCATENATE($A34,,"_",$I$25), )
B37: Date: | C37: 082621 | E37: Date: | F37: 082721 | H37: Date: | J37: no weights
A38: Pup Number | B38: Weight (g) | C38: Fecal (Y/N) | D38: Sample Name | E38: Weight (g) | F38: Fecal (Y/N) | G38: Sample Name | H38: Weight (g) | I38: Fecal (Y/N) | J38: Sample Name | K38: Remarks
A39: P7_3_1 | B39: 21.1 | C39: y | D39: =if(C39="Y",CONCATENATE(A39,,"_",$C$37), ) -> P7_3_1_082621 | E39: 19.7 | F39: y | G39: =if(F39="Y",CONCATENATE($A39,,"_",$F$37), ) -> P7_3_1_082721 | J39: =if(I39="Y",CONCATENATE($A39,,"_",$I$37), )
A40: P7_3_2 | B40: 19.7 | C40: y | D40: =if(C40="Y",CONCATENATE(A40,,"_",$C$37), ) -> P7_3_2_082621 | E40: 20.7 | F40: y | G40: =if(F40="Y",CONCATENATE($A40,,"_",$F$37), ) -> P7_3_2_082721 | J40: =if(I40="Y",CONCATENATE($A40,,"_",$I$37), )
A41: P7_3_3 | B41: 23.7 | C41: y | D41: =if(C41="Y",CONCATENATE(A41,,"_",$C$37), ) -> P7_3_3_082621 | E41: 25.3 | F41: y | G41: =if(F41="Y",CONCATENATE($A41,,"_",$F$37), ) -> P7_3_3_082721 | J41: =if(I41="Y",CONCATENATE($A41,,"_",$I$37), )
A42: P7_3_4 | B42: 25.7 | C42: y | D42: =if(C42="Y",CONCATENATE(A42,,"_",$C$37), ) -> P7_3_4_082621 | E42: 23.2 | F42: y | G42: =if(F42="Y",CONCATENATE($A42,,"_",$F$37), ) -> P7_3_4_082721 | J42: =if(I42="Y",CONCATENATE($A42,,"_",$I$37), )
A43: P7_3_5 | B43: 25.2 | C43: y | D43: =if(C43="Y",CONCATENATE(A43,,"_",$C$37), ) -> P7_3_5_082621 | E43: 26 | F43: y | G43: =if(F43="Y",CONCATENATE($A43,,"_",$F$37), ) -> P7_3_5_082721 | J43: =if(I43="Y",CONCATENATE($A43,,"_",$I$37), )
A44: P7_3_6 | B44: 26.7 | C44: y | D44: =if(C44="Y",CONCATENATE(A44,,"_",$C$37), ) -> P7_3_6_082621 | E44: 24.6 | F44: y | G44: =if(F44="Y",CONCATENATE($A44,,"_",$F$37), ) -> P7_3_6_082721 | J44: =if(I44="Y",CONCATENATE($A44,,"_",$I$37), )
B47: Date: | C47: 050521 | E47: Date: | F47: 050621 | H47: Date:
A48: Pup Number | B48: Weight (g) | C48: Fecal (Y/N) | D48: Sample Name | E48: Weight (g) | F48: Fecal (Y/N) | G48: Sample Name | H48: Weight (g) | I48: Fecal (Y/N) | J48: Sample Name | K48: Remarks
A49: P8_1 | B49: 25.3 | C49: y | D49: =if(C49="Y",CONCATENATE(A49,,"_",$C$47), ) -> P8_1_050521 | E49: 22.1 | F49: y | G49: =if(F49="Y",CONCATENATE($A49,,"_",$F$47), ) -> P8_1_050621 | J49: =if(I49="Y",CONCATENATE($A49,,"_",$I$47), )
A50: P8_2 | B50: 22.4 | C50: y | D50: =if(C50="Y",CONCATENATE(A50,,"_",$C$47), ) -> P8_2_050521 | E50: 25.2 | F50: y | G50: =if(F50="Y",CONCATENATE($A50,,"_",$F$47), ) -> P8_2_050621 | J50: =if(I50="Y",CONCATENATE($A50,,"_",$I$47), )
B53: Date: | C53: 071221 | E53: Date: | F53: 071321 | H53: Date: | I53: 071421
A54: Pup Number | B54: Weight (g) | C54: Fecal (Y/N) | D54: Sample Name | E54: Weight (g) | F54: Fecal (Y/N) | G54: Sample Name | H54: Weight (g) | I54: Fecal (Y/N) | J54: Sample Name | K54: Remarks
A55: P8_2_1 | B55: 21.1 | C55: n | D55: =if(C55="Y",CONCATENATE(A55,,"_",$C$53), ) | E55: 19.8 | F55: y | G55: =if(F55="Y",CONCATENATE($A55,,"_",$F$53), ) -> P8_2_1_071321 | H55: 19.5 | I55: y | J55: =if(I55="Y",CONCATENATE($A55,,"_",$I$53), ) -> P8_2_1_071421
A56: P8_2_2 | B56: 18.3 | C56: n | D56: =if(C56="Y",CONCATENATE(A56,,"_",$C$53), ) | E56: 22.1 | F56: y | G56: =if(F56="Y",CONCATENATE($A56,,"_",$F$53), ) -> P8_2_2_071321 | H56: 18.6 | I56: n | J56: =if(I56="Y",CONCATENATE($A56,,"_",$I$53), )
A57: P8_2_3 | B57: 18 | C57: n | D57: =if(C57="Y",CONCATENATE(A57,,"_",$C$53), ) | E57: 18.8 | F57: y | G57: =if(F57="Y",CONCATENATE($A57,,"_",$F$53), ) -> P8_2_3_071321 | H57: 21.8 | I57: y | J57: =if(I57="Y",CONCATENATE($A57,,"_",$I$53), ) -> P8_2_3_071421
A58: P8_2_4 | B58: 23.2 | C58: n | D58: =if(C58="Y",CONCATENATE(A58,,"_",$C$53), ) | E58: 22.2 | F58: y | G58: =if(F58="Y",CONCATENATE($A58,,"_",$F$53), ) -> P8_2_4_071321 | H58: 24.3 | I58: y | J58: =if(I58="Y",CONCATENATE($A58,,"_",$I$53), ) -> P8_2_4_071421
A59: P8_2_5 | B59: 21.3 | C59: n | D59: =if(C59="Y",CONCATENATE(A59,,"_",$C$53), ) | E59: 24.2 | F59: y | G59: =if(F59="Y",CONCATENATE($A59,,"_",$F$53), ) -> P8_2_5_071321 | H59: 23.8 | I59: y | J59: =if(I59="Y",CONCATENATE($A59,,"_",$I$53), ) -> P8_2_5_071421
A60: P8_2_6 | B60: 22.7 | C60: n | D60: =if(C60="Y",CONCATENATE(A60,,"_",$C$53), ) | E60: 23.6 | F60: y | G60: =if(F60="Y",CONCATENATE($A60,,"_",$F$53), ) -> P8_2_6_071321 | H60: 22.1 | I60: y | J60: =if(I60="Y",CONCATENATE($A60,,"_",$I$53), ) -> P8_2_6_071421

Sheet Week 16
B1: Date: | C1: 092021 | E1: Date: | F1: 092321 | H1: Date: | I1: 092421
A2: Pup Number | B2: Weight (g) | C2: Fecal (Y/N) | D2: Sample Name | E2: Weight (g) | F2: Fecal (Y/N) | G2: Sample Name | H2: Weight (g) | I2: Fecal (Y/N) | J2: Sample Name | K2: Remarks
A3: P4_1 | B3: 19.6 | C3: n | D3: =if(C3="Y",CONCATENATE(A3,,"_",$C$1), ) | E3: 20.1 | F3: y | G3: =if(F3="Y",CONCATENATE($A3,,"_",$F$1), ) -> P4_1_092321 | H3: 23.1 | I3: y | J3: =if(I3="Y",CONCATENATE($A3,,"_",$I$1), ) -> P4_1_092421
