Workbook

Sheet Histology_Scores_Fig_1A_1B
A1: Treatment | B1: Inflammation | C1: Surface_damage | D1: Crypt_hyperplasia | E1: Summary
A2: NG | B2: 1 | C2: 1 | D2: 1 | E2: 3
A3: NG | B3: 3 | C3: 3 | D3: 3 | E3: 9
A4: NG | B4: 2 | C4: 1 | D4: 2 | E4: 5
A5: NG | B5: 1 | C5: 1 | D5: 1 | E5: 3
A6: NG | B6: 1.5 | C6: 1 | D6: 1 | E6: 3.5
A7: NG | B7: 1 | C7: 1 | D7: 1.5 | E7: 3.5
A8: NG | B8: 1.5 | C8: 1 | D8: 1 | E8: 3.5
A9: NG | B9: 1 | C9: 0.5 | D9: 1 | E9: 2.5
A10: NG | B10: 1 | C10: 0.5 | D10: 1 | E10: 2.5
A11: Control | B11: 2.5 | C11: 1.5 | D11: 2 | E11: 6
A12: Control | B12: 1 | C12: 1 | D12: 1 | E12: 3
A13: Control | B13: 1.5 | C13: 1 | D13: 1.5 | E13: 4
... A35: Control | B35: 1 | C35: 1 | D35: 1 | E35: 3

Sheet Cytokine_Results_Fig_1C
A1: Treatment | B1: Eotaxin | C1: G_CSF | D1: IFNγ | E1: IL_1α | F1: IL_1β | G1: IL_2 | H1: IL_3 | I1: IL_5 | J1: IL_6 | K1: IL_7 | L1: IL_10 | M1: IL_12p40 | N1: IL_13 | O1: IL_17 | P1: IP_10 | Q1: KC | R1: LIX | S1: MCP_1 | T1: GM_CSF | U1: MIG | V1: MIP_1α | W1: MIP_1β | X1: MIP_2 | Y1: RANTES | Z1: TNFα
A2: NG | B2: 468.96 | C2: 1318.52 | D2: 3.42 | E2: 167.71 | F2: 2.9 | G2: 5.54 | H2: 1.28 | I2: 4.27 | J2: 13.43 | K2: NA | L2: NA | M2: 3.37 | N2: 18.34 | O2: 13.23 | P2: 49.15 | Q2: 46.15 | R2: 4499.22 | S2: 74.59 | T2: 6.46 | U2: 640.68 | V2: 26.88 | W2: 42.83 | X2: 139.89 | Y2: 28.32 | Z2: 7.8
A3: NG | B3: 135.89 | C3: 1086.67 | D3: 3.9 | E3: 169.57 | F3: 3.25 | G3: 6.2 | H3: 1.42 | I3: 3.94 | J3: 10.28 | K3: NA | L3: 1.39 | M3: 5.21 | N3: 15.2 | O3: 12.28 | P3: 48.89 | Q3: 41.86 | R3: 6468.81 | S3: 67.05 | T3: 4.6 | U3: 620.84 | V3: 36.66 | W3: 28.22 | X3: 84.21 | Y3: 24.19 | Z3: 7.71
A4: NG | B4: 233.78 | C4: 777.29 | D4: 2.2 | E4: 176.96 | F4: 3.37 | G4: 3.53 | H4: NA | I4: 0.98 | J4: 1.61 | K4: NA | L4: NA | M4: NA | N4: 23.93 | O4: 11.51 | P4: 49.42 | Q4: 79.24 | R4: 3256.23 | S4: 38.42 | T4: 5.53 | U4: 950.58 | V4: 13.83 | W4: 36.12 | X4: 106.05 | Y4: 33.93 | Z4: 7.27
A5: NG | B5: 596.53 | C5: 1535.02 | D5: 1.95 | E5: 254.07 | F5: NA | G5: NA | H5: NA | I5: NA | J5: 2.43 | K5: NA | L5: NA | M5: 4.75 | N5: 14.14 | O5: 11.6 | P5: 55.1 | Q5: 68.06 | R5: 6800.22 | S5: 26.17 | T5: 5.06 | U5: 1007.75 | V5: 21.53 | W5: 23.51 | X5: 139.89 | Y5: 24.19 | Z5: 6.35
A6: NG | B6: 256.31 | C6: 1503.93 | D6: 11.16 | E6: 85.16 | F6: 1.18 | G6: NA | H6: 1.18 | I6: NA | J6: 30.07 | K6: NA | L6: 18.6 | M6: 6.6 | N6: 33.19 | O6: 17.45 | P6: 58.65 | Q6: 65.78 | R6: 8731.72 | S6: 52.65 | T6: 7.63 | U6: 547.39 | V6: 18.16 | W6: NA | X6: 88.21 | Y6: 25.52 | Z6: 7.45
A7: NG | B7: 525.93 | C7: 1531.7 | D7: 11.88 | E7: 123.09 | F7: 0.95 | G7: NA | H7: 1.42 | I7: NA | J7: 26.65 | K7: NA | L7: 10.5 | M7: 7.29 | N7: 18.34 | O7: 16.09 | P7: 62.6 | Q7: 74.9 | R7: 8886.52 | S7: 37.15 | T7: 4.6 | U7: 538.38 | V7: NA | W7: 8 | X7: 43.16 | Y7: 26.37 | Z7: 7.71
A8: NG | B8: 287.54 | C8: 336.47 | D8: 6.63 | E8: 52.55 | F8: 1.18 | G8: NA | H8: NA | I8: NA | J8: 11.68 | K8: NA | L8: NA | M8: NA | N8: 4.8 | O8: 16.27 | P8: 65.45 | Q8: 40.1 | R8: 2819.9 | S8: 65.94 | T8: NA | U8: 677.25 | V8: 48.55 | W8: NA | X8: NA | Y8: 37 | Z8: 7.09
A9: NG | B9: 472.91 | C9: 442.94 | D9: 5.54 | E9: 132.45 | F9: NA | G9: NA | H9: NA | I9: NA | J9: 12.71 | K9: 5.5 | L9: NA | M9: NA | N9: NA | O9: 18.06 | P9: 85.13 | Q9: 38.33 | R9: 4642.72 | S9: 35.87 | T9: 3.2 | U9: 957.96 | V9: 60.72 | W9: NA | X9: 75.57 | Y9: 30.94 | Z9: 7.27
A10: NG | B10: 169.23 | C10: 1193.27 | D10: 6.57 | E10: 184.25 | F10: 2.56 | G10: NA | H10: NA | I10: 3.52 | J10: 35.59 | K10: NA | L10: NA | M10: 7.99 | N10: 10.9 | O10: 15.72 | P10: 39.47 | Q10: 67.68 | R10: 3052.13 | S10: 33.3 | T10: 144.87 | U10: 582.29 | V10: 13.83 | W10: 26.42 | X10: 65.95 | Y10: 25.69 | Z10: 6.17
A11: NG | B11: 172.29 | C11: 1151.43 | D11: 4.14 | E11: 235.31 | F11: 2.56 | G11: 3.31 | H11: NA | I11: 2.09 | J11: 32.79 | K11: NA | L11: NA | M11: NA | N11: 18.34 | O11: 14.74 | P11: 29.68 | Q11: 61.58 | R11: 5053.3 | S11: 21.58 | T11: 127.24 | U11: 463.28 | V11: NA | W11: 29.08 | X11: 99.29 | Y11: 17.51 | Z11: 3.5
A12: NG | B12: 204.07 | C12: 708.03 | D12: 4.72 | E12: 139.04 | F12: 0.72 | G12: NA | H12: NA | I12: 3.02 | J12: 17.29 | K12: NA | L12: NA | M12: 5.67 | N12: 10.9 | O12: 6.63 | P12: 96.28 | Q12: 156.54 | R12: 3284.95 | S12: 11.07 | T12: 4.13 | U12: 1287.69 | V12: 26.88 | W12: 148.23 | X12: 112.4 | Y12: 33.93 | Z12: 2.42
A13: NG | B13: 123.82 | C13: 491.07 | D13: 1.95 | E13: 136.42 | F13: 1.06 | G13: 3.87 | H13: NA | I13: 1.55 | J13: 9.94 | K13: NA | L13: NA | M13: 4.75 | N13: 11.99 | O13: 3.91 | P13: 41.48 | Q13: 111.18 | R13: 3087.04 | S13: 11.07 | T13: NA | U13: 749.48 | V13: 24.37 | W13: 101.47 | X13: NA | Y13: 25.92 | Z13: 1.15
A14: NG | B14: 166.73 | C14: 205.83 | D14: 1.18 | E14: 130.46 | F14: 1.75 | G14: NA | H14: NA | I14: NA | J14: 1.08 | K14: NA | L14: NA | M14: NA | N14: 15.73 | O14: 4.33 | P14: 35.66 | Q14: 33.3 | R14: 1950.92 | S14: 40.95 | T14: 7.16 | U14: 624.72 | V14: NA | W14: 33.14 | X14: 65.95 | Y14: 41.83 | Z14: 2.03
A15: NG | B15: 407.13 | C15: 240.83 | D15: 0.92 | E15: 189.66 | F15: 0.72 | G15: NA | H15: NA | I15: NA | J15: NA | K15: NA | L15: NA | M15: NA | N15: 14.14 | O15: 3.08 | P15: 40.21 | Q15: 20.15 | R15: 4594.77 | S15: 32.01 | T15: 5.76 | U15: 490.79 | V15: 28.03 | W15: 17.89 | X15: 65.95 | Y15: 32.71 | Z15: 0.41
A16: NG | B16: 238.64 | C16: 5155.15 | D16: 11.38 | E16: 47.06 | F16: NA | G16: NA | H16: NA | I16: 2.24 | J16: 104.16 | K16: NA | L16: NA | M16: 4.29 | N16: NA | O16: 27.2 | P16: 23.22 | Q16: 144.43 | R16: 2037.87 | S16: 53.24 | T16: 4.6 | U16: 492.01 | V16: 18.16 | W16: NA | X16: 65.95 | Y16: 19.77 | Z16: 8.49
A17: NG | B17: 396.43 | C17: NA | D17: 14.49 | E17: 42.33 | F17: 1.52 | G17: NA | H17: NA | I17: 1.86 | J17: 140.82 | K17: NA | L17: NA | M17: 4.06 | N17: 5.92 | O17: 32.48 | P17: 51.85 | Q17: 248.05 | R17: 2720.13 | S17: 63.7 | T17: 5.53 | U17: 603.63 | V17: 26.88 | W17: 53.7 | X17: 70.9 | Y17: 23.6 | Z17: 13.38
A18: NG | B18: 262.73 | C18: 9900.75 | D18: 4.25 | E18: NA | F18: 1.18 | G18: 4.76 | H18: NA | I18: 2.91 | J18: 172.78 | K18: NA | L18: NA | M18: NA | N18: 5.92 | O18: 31.7 | P18: 23.17 | Q18: 93.14 | R18: 2413.7 | S18: 101.76 | T18: 5.53 | U18: 548.19 | V18: 23 | W18: 62.11 | X18: NA | Y18: 20.03 | Z18: 11.72
A19: NG | B19: 196.82 | C19: 7541.78 | D19: 5.19 | E19: 35.99 | F19: 1.86 | G19: 5.98 | H19: NA | I19: 3.66 | J19: 188.26 | K19: NA | L19: NA | M19: 6.13 | N19: NA | O19: 35.43 | P19: 38.25 | Q19: 94.54 | R19: 2626.7 | S19: 107.34 | T19: 4.13 | U19: 335.39 | V19: 30.2 | W19: 59.25 | X19: NA | Y19: 21.47 | Z19: 9.75
A20: NG | B20: 156.31 | C20: 1494.27 | D20: 6.8 | E20: 113.55 | F20: 3.02 | G20: NA | H20: NA | I20: 1.69 | J20: 4.75 | K20: NA | L20: NA | M20: NA | N20: NA | O20: 30.04 | P20: 37.29 | Q20: 59.09 | R20: 2134.13 | S20: 8.45 | T20: NA | U20: 401.93 | V20: NA | W20: NA | X20: 75.57 | Y20: 21.78 | Z20: 1.75
A21: NG | B21: 139.35 | C21: 2239.21 | D21: 6.23 | E21: 112.17 | F21: 1.75 | G21: NA | H21: NA | I21: 0.75 | J21: 2.82 | K21: NA | L21: NA | M21: 7.53 | N21: NA | O21: 29.4 | P21: 24.5 | Q21: 55.63 | R21: 1725.8 | S21: 4.51 | T21: NA | U21: 452.87 | V21: NA | W21: NA | X21: NA | Y21: 12.99 | Z21: 3.04
A22: NG | B22: 212.67 | C22: 655.39 | D22: 2.75 | E22: 144.25 | F22: NA | G22: NA | H22: NA | I22: NA | J22: 7.97 | K22: NA | L22: NA | M22: NA | N22: 6.48 | O22: 9.1 | P22: 37.39 | Q22: 43.71 | R22: 1009.41 | S22: 30.72 | T22: 4.36 | U22: 354.46 | V22: NA | W22: NA | X22: NA | Y22: 53.76 | Z22: 0.41
A23: NG | B23: 427.83 | C23: 1356.07 | D23: 3.36 | E23: 257.33 | F23: 1.18 | G23: NA | H23: NA | I23: NA | J23: 8.5 | K23: NA | L23: NA | M23: NA | N23: 11.99 | O23: 8.55 | P23: 58.2 | Q23: 49.35 | R23: 1554.3 | S23: 16.99 | T23: 7.4 | U23: 456.23 | V23: 31.21 | W23: 34.65 | X23: 36.69 | Y23: 47.37 | Z23: 2.55
A24: NG | B24: 323.84 | C24: 986.96 | D24: 3.3 | E24: 33.6 | F24: 1.63 | G24: 3.31 | H24: NA | I24: 1.86 | J24: 11.63 | K24: NA | L24: NA | M24: NA | N24: 7.59 | O24: 12.1 | P24: 24.03 | Q24: 49.06 | R24: 2034.2 | S24: 17.64 | T24: 4.6 | U24: 440.69 | V24: NA | W24: NA | X24: 16 | Y24: 23.42 | Z24: 3.04
A25: NG | B25: 392.1 | C25: 1321.52 | D25: 4.43 | E25: 70.26 | F25: 0.95 | G25: 4.42 | H25: NA | I25: 1.63 | J25: 12.04 | K25: NA | L25: NA | M25: NA | N25: 16.26 | O25: 14.86 | P25: 48.85 | Q25: 41.47 | R25: 2499.32 | S25: 7.14 | T25: 5.53 | U25: 439.21 | V25: 18.16 | W25: 8 | X25: 65.95 | Y25: 21.91 | Z25: 6.17
A26: NG | B26: 123.3 | C26: 1524.75 | D26: 10.17 | E26: 39.16 | F26: 4.65 | G26: 8.53 | H26: NA | I26: 6.96 | J26: 28.83 | K26: NA | L26: 9.88 | M26: 5.21 | N26: 17.3 | O26: 20.87 | P26: 36.81 | Q26: 96.78 | R26: 2218.49 | S26: 55.03 | T26: 5.53 | U26: 532.66 | V26: 61.19 | W26: NA | X26: 65.95 | Y26: 32.45 | Z26: 2.03
A27: NG | B27: 502.62 | C27: 4280.67 | D27: 8.5 | E27: 61.09 | F27: 3.25 | G27: 9.97 | H27: NA | I27: 6.55 | J27: 26.65 | K27: NA | L27: 6.83 | M27: 8.93 | N27: 19.37 | O27: 22.37 | P27: 63.05 | Q27: 89.77 | R27: 6149.97 | S27: 35.87 | T27: 4.6 | U27: 777.32 | V27: 45.42 | W27: NA | X27: 75.57 | Y27: 32.04 | Z27: 2.55
A28: NG | B28: 113.04 | C28: 2025.25 | D28: 5.07 | E28: 175.73 | F28: 1.41 | G28: NA | H28: NA | I28: NA | J28: 37.85 | K28: 9.82 | L28: NA | M28: 6.13 | N28: 17.3 | O28: 21.07 | P28: 26.42 | Q28: 229.66 | R28: 2556.05 | S28: 134.01 | T28: 3.2 | U28: 536.93 | V28: 42.72 | W28: 36.12 | X28: 29.96 | Y28: 23.06 | Z28: 4.89
A29: NG | B29: 442.8 | C29: 2607.57 | D29: 3.78 | E29: 298.56 | F29: 3.48 | G29: NA | H29: NA | I29: 0.75 | J29: 43.81 | K29: 8.67 | L29: NA | M29: 7.53 | N29: 14.14 | O29: 26.33 | P29: 68.65 | Q29: 282.24 | R29: 8273.58 | S29: 100.01 | T29: 6.93 | U29: 765.89 | V29: 47.94 | W29: 31.57 | X29: 106.05 | Y29: 23.6 | Z29: 3.84
A30: NG | B30: 191.1 | C30: 429.24 | D30: 2.01 | E30: NA | F30: 0.5 | G30: NA | H30: NA | I30: 1.94 | J30: 3.91 | K30: NA | L30: NA | M30: NA | N30: 8.7 | O30: 3.15 | P30: 52.95 | Q30: 32.8 | R30: 2132.52 | S30: 35.87 | T30: NA | U30: 443 | V30: 13.83 | W30: NA | X30: 16 | Y30: 30.89 | Z30: 3.73
A31: NG | B31: 474.06 | C31: 922.24 | D31: 3.36 | E31: NA | F31: 0.72 | G31: NA | H31: NA | I31: 1.99 | J31: 4.32 | K31: NA | L31: 0.79 | M31: 3.83 | N31: 10.9 | O31: 3.56 | P31: 62.47 | Q31: 30.22 | R31: 4442.47 | S31: 34.59 | T31: 4.13 | U31: 569.43 | V31: NA | W31: NA | X31: 92.05 | Y31: 31.57 | Z31: 2.55
A32: Control | B32: 180.52 | C32: 290.06 | D32: 11.22 | E32: 173.28 | F32: 4.07 | G32: 6.98 | H32: 0.84 | I32: 5.52 | J32: 9.03 | K32: 5.02 | L32: 2.15 | M32: 4.52 | N32: 15.2 | O32: 6.1 | P32: 62.42 | Q32: 23.5 | R32: 3049.97 | S32: 48.41 | T32: 5.99 | U32: 731.48 | V32: 39.82 | W32: 22.48 | X32: 55.19 | Y32: 39.02 | Z32: 8.83
A33: Control | B33: 450.03 | C33: 308.62 | D33: 6.46 | E33: 255.16 | F33: 1.86 | G33: 4.87 | H33: 0.79 | I33: 3.43 | J33: 5.42 | K33: NA | L33: NA | M33: NA | N33: 5.36 | O33: 4.75 | P33: 69.76 | Q33: 12.93 | R33: 4342.67 | S33: 12.39 | T33: 8.33 | U33: 730.94 | V33: 6.5 | W33: NA | X33: 106.05 | Y33: 31.36 | Z33: 5.88
A34: Control | B34: 830.27 | C34: 321.67 | D34: 2.45 | E34: 356.03 | F34: 0.95 | G34: NA | H34: NA | I34: 1.43 | J34: 7.39 | K34: 2371.1 | L34: NA | M34: NA | N34: 18.34 | O34: 5.94 | P34: 87 | Q34: 23.6 | R34: 6778.12 | S34: 26.82 | T34: 5.99 | U34: 760.48 | V34: 24.37 | W34: 22.48 | X34: 60.72 | Y34: 24.77 | Z34: 2.67
A35: Control | B35: 654.17 | C35: 283.68 | D35: 2.2 | E35: 337.91 | F35: 3.02 | G35: NA | H35: NA | I35: NA | J35: 4.45 | K35: 1630.48 | L35: NA | M35: 4.98 | N35: 15.73 | O35: 5.16 | P35: 68.15 | Q35: 13.55 | R35: 6117.94 | S35: 18.3 | T35: NA | U35: 642.73 | V35: 18.16 | W35: 8 | X35: 95.74 | Y35: 20.91 | Z35: 0.81
A36: Control | B36: 561.5 | C36: 1604.25 | D36: 2.69 | E36: 38.37 | F36: 1.41 | G36: NA | H36: NA | I36: 5.57 | J36: 107.14 | K36: NA | L36: NA | M36: 7.53 | N36: 16.26 | O36: 3.2 | P36: 58.34 | Q36: 106.36 | R36: 5778.87 | S36: 56.8 | T36: 9.27 | U36: 455.82 | V36: 6.5 | W36: NA | X36: 115.44 | Y36: 16.69 | Z36: 2.03
A37: Control | B37: 109.32 | C37: 496.04 | D37: NA | E37: NA | F37: NA | G37: NA | H37: NA | I37: 3.07 | J37: 48.5 | K37: NA | L37: NA | M37: NA | N37: NA | O37: 1.79 | P37: 16.73 | Q37: 68.83 | R37: 2887.56 | S37: 13.7 | T37: 5.53 | U37: 215.32 | V37: 24.37 | W37: NA | X37: 55.19 | Y37: 13.14 | Z37: 0.81
A38: Control | B38: 613.79 | C38: 649.22 | D38: 7.26 | E38: 243.1 | F38: 2.79 | G38: 84.98 | H38: 3.09 | I38: 3.77 | J38: 8.5 | K38: NA | L38: NA | M38: 8.93 | N38: 39.31 | O38: 4.3 | P38: 69.9 | Q38: 77.64 | R38: 5305.27 | S38: 45.95 | T38: 24.44 | U38: 553.89 | V38: 211.32 | W38: 73.07 | X38: 156.26 | Y38: 32.71 | Z38: 7.45
A39: Control | B39: 324.44 | C39: 371.91 | D39: 7.14 | E39: 169.57 | F39: 0.95 | G39: 13.93 | H39: 1.55 | I39: 1.41 | J39: 4.29 | K39: NA | L39: NA | M39: 4.29 | N39: 20.39 | O39: 2.62 | P39: 42.48 | Q39: 39.7 | R39: 5160.91 | S39: 14.36 | T39: 10.45 | U39: 261.41 | V39: 99.59 | W39: 40.91 | X39: 92.05 | Y39: 19.64 | Z39: 2.55
A40: Control | B40: 429.77 | C40: 176.64 | D40: 0.51 | E40: 95.3 | F40: 0.5 | G40: NA | H40: NA | I40: 1.11 | J40: 9.55 | K40: 6.26 | L40: NA | M40: 4.75 | N40: 20.39 | O40: 2.53 | P40: 53.69 | Q40: 66.83 | R40: 6801.03 | S40: 57.97 | T40: 6.69 | U40: 559.1 | V40: NA | W40: NA | X40: 106.05 | Y40: 19.25 | Z40: 2.8
...

Sheet All_Mouse_Weights
A1: Pup Number | B1: Week 1,1 | C1: Week 1,2 | D1: Week 1,3 | E1: Week 2,1 | F1: Week 2,2 | G1: Week 2,3 | H1: Week 3,1 | I1: Week 3,2 | J1: Week 3,3 | K1: Week 4,1 | L1: Week 4,2 | M1: Week 4,3 | N1: Week 5,1 | O1: Week 5,2 | P1: Week 5,3 | Q1: Week 6,1 | R1: Week 6,2 | S1: Week 6,3 | T1: Week 7,1 | U1: Week 7,2 | V1: Week 7,3 | W1: Week 8,1 | X1: Week 8,2 | Y1: Week 8,3 | Z1: Week 9,1 | AA1: Week 9,2 | AB1: Week 9,3 | AC1: Week 10,1 | AD1: Week 10,2 | AE1: Week 10,3 | AF1: Week 11,1 | AG1: Week 11,2 | AH1: Week 11,3 | AI1: Week 12,1 | AJ1: Week 12,2 | AK1: Week 12,3 | AL1: Week 13,1 | AM1: Week 13,2 | AN1: Week 13,3 | AO1: Week 14,1 | AP1: Week 14,2 | AQ1: Week 14,3 | AR1: Week 15,1 | AS1: Week 15,2 | AT1: Week 15,3 | AU1: Week 16,1 | AV1: Week 16,2 | AW1: Week 16,3 | AX1: Week 17,1 | AY1: Week 17,2 | AZ1: Week 17,3 | BA1: Week 18,1 | BB1: Week 18,2 | BC1: Week 18,3 | BD1: Week 19,1 | BE1: Week 19,2 | BF1: Week 19,3 | BG1: Week 20,1 | BH1: Week 20,2 | BI1: Week 20,3 | BJ1: Week 21,1 | BK1: Week 21,2 | BL1: Week 21,3 | BM1: Week 22,1 | BN1: Week 22,2 | BO1: Week 22,3 | BP1: Week 23,1 | BQ1: Week 23,2 | BR1: Week 23,3 | BS1: Week 24,1 | BT1: Week 24,2 | BU1: Week 24,3
A2: P4_1 | E2: 7.5 | F2: 9 | G2: 9.1 | H2: 11.2 | I2: 10.9 | J2: 10.8 | K2: 13.1 | L2: 13 | M2: 13.1 | N2: 16.9 | O2: 17.7 | P2: 18.1 | Q2: 18.4 | R2: 18.7 | S2: 18.5 | T2: 17.1 | U2: 16.9 | V2: 17 | W2: 19.8 | X2: 20.3 | Y2: 17.3 | Z2: 18 | AA2: 20.8 | AB2: 20.9 | AC2: 18.6 | AD2: 18.8 | AE2: 19 | AF2: 18.9 | AG2: 21.9 | AH2: 19.5 | AI2: 22.2 | AJ2: 19.4 | AL2: 19.9 | AM2: 22.6 | AN2: 20.1 | AO2: 22.2 | AP2: 20.3 | AQ2: 20.4 | AR2: 20 | AS2: 23.1 | AT2: 20 | AU2: 19.6 | AV2: 20.1 | AW2: 23.1 | AX2: 23.6 | AY2: 24.1 | AZ2: 24 | BA2: 21.4 | BB2: 23.8 | BC2: 21.3 | BD2: 21.3 | BE2: 24.3 | BF2: 23.8 | BG2: 20.9 | BH2: 21.8 | BI2: 21.6 | BJ2: 21.6 | BK2: 21.5 | BM2: 24.9 | BN2: 22.3 | BO2: 22 | BP2: 25.8 | BQ2: 22.1 | BS2: 22 | BT2: 24 | BU2: 22.1
A3: P4_2 | E3: 7.8 | F3: 8 | G3: 8.6 | H3: 11.1 | I3: 10.3 | J3: 9.8 | K3: 12.5 | L3: 13.8 | M3: 14.3 | N3: 15.7 | O3: 16.2 | P3: 16.8 | Q3: 16.9 | R3: 16.8 | S3: 17 | T3: 19.9 | U3: 19.8 | V3: 19.8 | W3: 17.1 | X3: 17.3 | Y3: 20.1 | Z3: 20.8 | AA3: 18.2 | AB3: 18.3 | AC3: 21 | AD3: 21 | AE3: 21.3 | AF3: 21.3 | AG3: 19.3 | AH3: 22.3 | AI3: 19.4 | AJ3: 22.3 | AL3: 21.8 | AM3: 20.5 | AN3: 22.2 | AO3: 19.4 | AP3: 22.6 | AQ3: 23.3 | AR3: 24.7 | AS3: 20 | AT3: 23.2 | AU3: 23.7 | AV3: 26.4 | AW3: 20.5 | AX3: 20.6 | AY3: 21.4 | AZ3: 21.1 | BA3: 24.1 | BB3: 21.3 | BC3: 23.6 | BD3: 23.5 | BE3: 21.7 | BF3: 21.5 | BG3: 24.2 | BH3: 24.5 | BI3: 25 | BJ3: 25.3 | BK3: 25.9 | BM3: 21.6 | BN3: 25.6 | BO3: 25 | BP3: 22.5 | BQ3: 25.8 | BS3: 24 | BT3: 22.6 | BU3: 23.7
A4: P4_3 | E4: 8.6 | F4: 8.3 | G4: 8.5 | H4: 9.5 | I4: 10.8 | J4: 11.3 | K4: 13 | L4: 14.5 | M4: 14.8 | N4: 17.2 | O4: 17.9 | P4: 19.4 | Q4: 20.1 | R4: 20.7 | S4: 20.2 | T4: 20.7 | U4: 20.8 | V4: 21 | W4: 20.7 | X4: 21.8 | Y4: 22.3 | Z4: 22.8 | AA4: 22.6 | AB4: 22.6 | AC4: 22.9 | AD4: 23.8 | AE4: 23.2 | AF4: 23.2 | AG4: 23.4 | AH4: 23.2 | AI4: 25.8 | AJ4: 23.4 | AL4: 23.5 | AM4: 24.3 | AN4: 24.4 | AO4: 23.8 | AP4: 26.3 | AQ4: 25.4 | AR4: 25.8 | AS4: 26.8 | AT4: 24.7 | AU4: 25.3 | AV4: 25.3 | AW4: 25.6 | AX4: 25.8 | AY4: 26.5 | AZ4: 26 | BA4: 26.2 | BB4: 27 | BC4: 26.6 | BD4: 25.8 | BE4: 26.4 | BF4: 26.8 | BG4: 25.9 | BH4: 26.9 | BI4: 27.5 | BJ4: 26.8 | BK4: 26.8 | BM4: 26.9 | BN4: 27.6 | BO4: 27.3 | BP4: 27.6 | BQ4: 27.9 | BS4: 24 | BT4: 27.2 | BU4: 27.2
A5: P4_4 | E5: 8.6 | F5: 8.3 | G5: 8.4 | H5: 11 | I5: 10.8 | J5: 10.7 | K5: 13.6 | L5: 13.2 | M5: 16 | N5: 17.2 | O5: 17.8 | P5: 18.7 | Q5: 19.4 | R5: 19.7 | S5: 19.9 | T5: 20.4 | U5: 21.4 | V5: 21.6 | W5: 22.3 | X5: 20.9 | Y5: 21.5 | Z5: 22.4 | AA5: 22.9 | AB5: 22.8 | AC5: 23.1 | AD5: 22.9 | AE5: 24.1 | AF5: 24 | AG5: 24.9 | AH5: 24.5 | AI5: 24.8 | AJ5: 24.3 | AL5: 25 | AM5: 25.7 | AN5: 24.5 | AO5: 25.2 | AP5: 24.6 | AQ5: 26.5 | AR5: 24.1 | AS5: 25.4 | AT5: 25.5 | AU5: 25 | AV5: 25.4 | AW5: 25.6 | AX5: 26.8 | AY5: 26 | AZ5: 27.3 | BA5: 25.9 | BB5: 26.4 | BC5: 26.2 | BD5: 26.3 | BE5: 26.1 | BF5: 25.9 | BG5: 26.4 | BH5: 26.8 | BI5: 26.2 | BJ5: 27.5 | BK5: 27.3 | BM5: 26.2 | BN5: 27.9 | BO5: 27.7 | BP5: 27.9 | BQ5: 27.1 | BS5: 26.1 | BT5: 25 | BU5: 24.8
A6: P4_5 | E6: 7.9 | F6: 9.2 | G6: 9.5 | H6: 11.1 | I6: 9.4 | J6: 10.7 | K6: 14.5 | L6: 14.9 | M6: 14.7 | N6: 18.2 | O6: 19 | P6: 18.8 | Q6: 19.5 | R6: 20 | S6: 20.7 | T6: 20.4 | U6: 21.3 | V6: 20.4 | W6: 21.7 | X6: 21.7 | Y6: 22 | Z6: 22.5 | AA6: 23.3 | AB6: 23.4 | AC6: 23.8 | AD6: 22.8 | AE6: 23.6 | AF6: 23 | AG6: 23.9 | AH6: 23.6 | AI6: 23.8 | AJ6: 25 | AL6: 23.9 | AM6: 24.6 | AN6: 25.6 | AO6: 24.1 | AP6: 25.8 | AQ6: 24.9 | AR6: 21.2 | AS6: 26 | AT6: 25.8 | AU6: 25.2 | AV6: 21.7 | AW6: 26.3 | AX6: 25.8 | AY6: 27 | AZ6: 26.4 | BA6: 26.6 | BB6: 21 | BC6: 25.8 | BD6: 26.3 | BE6: 27.3 | BF6: 26.5 | BG6: 26.8 | BH6: 28.1 | BI6: 26.9 | BJ6: 26.8 | BK6: 26.9 | BM6: 26.1 | BN6: 26.6 | BO6: 26.8 | BP6: 27.6 | BQ6: 27.5 | BS6: 26.7 | BT6: 26.5 | BU6: 25.9
A7: P6_1 | E7: 3.7 | F7: 6.5 | G7: 7.3 | H7: 8.1 | I7: 9 | J7: 8.4 | K7: 7.8 | L7: 10.3 | M7: 11.8 | N7: 11.9 | O7: 12.7 | P7: 13.4 | Q7: 15.5 | R7: 16.4 | S7: 16 | T7: 16.9 | U7: 16.8 | V7: 20.3 | W7: 19.8 | X7: 22.3 | Y7: 20.9 | Z7: 21.1 | AA7: 22 | AB7: 22.4 | AC7: 22.7 | AD7: 20.7 | AE7: 20.6 | AF7: 20.9 | AG7: 20.9 | AH7: 21 | AI7: 21.4 | AJ7: 24.4 | AK7: 21.6 | AL7: 23.7 | AM7: 18.8 | AN7: 21.9 | AO7: 23 | AP7: 23.4 | AQ7: 21.9 | AR7: 22.2 | AS7: 22 | AU7: 22.3 | AV7: 25.3 | AW7: 22.4 | AX7: 19.6 | AY7: 21.5 | AZ7: 21.5 | BA7: 20.4 | BB7: 21.8 | BC7: 21.4 | BD7: 21.5 | BE7: 21.7 | BF7: 21.1 | BG7: 21.1 | BH7: 22.3 | BI7: 22.1 | BJ7: 21 | BK7: 21 | BL7: 21.3 | BM7: 20.7 | BN7: 22.8 | BO7: 22.6 | BP7: 22 | BQ7: 22.7 | BR7: 21.2 | BS7: 21.4 | BT7: 21.1
A8: P6_2 | E8: 5.6 | F8: 6.6 | G8: 7.8 | H8: 8.7 | I8: 7.9 | J8: 9.2 | K8: 10.6 | L8: 8.2 | M8: 10.6 | N8: 12 | O8: 13 | P8: 13.6 | Q8: 15.8 | R8: 18.5 | S8: 16.6 | T8: 18.7 | U8: 18.8 | V8: 19.1 | W8: 17.9 | X8: 20.6 | Y8: 18.7 | Z8: 18.7 | AA8: 21.6 | AB8: 19.3 | AC8: 20.3 | AD8: 22.9 | AE8: 23 | AF8: 22.8 | AG8: 23.3 | AH8: 22.7 | AI8: 21.4 | AJ8: 21.8 | AK8: 20.4 | AL8: 18 | AM8: 21.5 | AN8: 24.5 | AO8: 23 | AP8: 25.5 | AQ8: 24 | AR8: 25.1 | AS8: 24.6 | AU8: 24.8 | AV8: 22.6 | AW8: 25.3 | AX8: 19.6 | AY8: 20.6 | AZ8: 20.8 | BA8: 24.7 | BB8: 21.4 | BC8: 22.2 | BD8: 21.1 | BE8: 21.2 | BF8: 21.4 | BG8: 20.8 | BH8: 20.8 | BI8: 20.9 | BJ8: 22.3 | BK8: 22.6 | BL8: 22.1 | BM8: 21.2 | BN8: 21.4 | BO8: 24.1 | BP8: 20.8 | BQ8: 21.6 | BR8: 22.5 | BS8: 21.9 | BT8: 21.8
A9: P6_3 | E9: 5.5 | F9: 6.8 | G9: 7.5 | H9: 8.2 | I9: 8.2 | J9: 7.9 | K9: 9.6 | L9: 8.9 | M9: 9.1 | N9: 14.5 | O9: 15.3 | P9: 15.9 | Q9: 18.4 | R9: 16 | S9: 18.7 | T9: 19.9 | U9: 19.7 | V9: 17.1 | W9: 21.5 | X9: 18.4 | Y9: 22.3 | Z9: 21.7 | AA9: 19.2 | AB9: 21.6 | AC9: 22.4 | AD9: 22.9 | AE9: 22.6 | AF9: 23.1 | AG9: 22.7 | AH9: 23.7 | AI9: 23.4 | AJ9: 21 | AK9: 24.2 | AL9: 21.1 | AM9: 23.9 | AN9: 18.6 | AO9: 24.7 | AP9: 22.6 | AQ9: 25.2
A10: P7_1 | B10: 8.4 | C10: 8.2 | E10: 9.3 | F10: 9.7 | G10: 10 | H10: 15.7 | I10: 14.4 | J10: 18.8 | K10: 17.7 | M10: 22.8 | N10: 23.2 | O10: 22 | Q10: 24.8 | R10: 22.7 | S10: 24.4 | T10: 24.7 | U10: 23.2 | W10: 24.4 | X10: 23.8 | Y10: 26.1 | Z10: 26.9 | AB10: 24.6 | AC10: 25.9 | AE10: 28.6 | AF10: 25.1 | AG10: 26.7 | AH10: 25.9 | AI10: 29.3 | AJ10: 27.3 | AL10: 30.1 | AM10: 25.4 | AN10: 29.7 | AO10: 27.5 | AP10: 31.6 | AQ10: 31.6 | AR10: 28 | AS10: 30.8 | AT10: 29.8 | AU10: 27.1 | AV10: 30.9 | AW10: 32 | AX10: 31.2 | AY10: 29.4 | AZ10: 28.9 | BA10: 32.2 | BB10: 31.4 | BD10: 32.3 | BE10: 27.3 | BF10: 28.2 | BG10: 30.1 | BH10: 29.8 | BI10: 28.9 | BJ10: 28.9 | BK10: 32.4 | BL10: 30.6 | BM10: 29.7 | BN10: 33 | BO10: 31.7 | BP10: 30.1 | BQ10: 27.9 | BR10: 28.1 | BS10: 27.1 | BT10: 30.3 | BU10: 31
A11: P7_2 | B11: 8.2 | C11: 8 | E11: 7.4 | F11: 8.1 | G11: 9.6 | H11: 15.4 | I11: 15.4 | J11: 18.4 | K11: 20.8 | M11: 21.9 | N11: 21.3 | O11: 23.4 | Q11: 23 | R11: 22.8 | S11: 24.1 | T11: 23.9 | U11: 23.4 | W11: 25.6 | X11: 26 | Y11: 24.3 | Z11: 26.8 | AB11: 25.7 | AC11: 25 | AE11: 28.2 | AF11: 25.2 | AG11: 29.5 | AH11: 26.4 | AI11: 29.2 | AJ11: 29.8 | AL11: 28.3 | AM11: 29 | AN11: 27.6 | AO11: 31 | AP11: 31.1 | AQ11: 30.5 | AR11: 27.3 | AS11: 27.7 | AT11: 26.8 | AU11: 29.2 | AV11: 26.7 | AW11: 31.9 | AX11: 27.3 | AY11: 31.4 | AZ11: 30 | BA11: 27.4 | BB11: 32.4 | BD11: 29.5 | BE11: 32.1 | BF11: 26.7 | BG11: 27 | BH11: 32 | BI11: 31.2 | BJ11: 28 | BK11: 32.9 | BL11: 30.8 | BM11: 31.3 | BN11: 28.5 | BO11: 29.2 | BP11: 28.1 | BQ11: 30.6 | BR11: 31.3 | BS11: 30.5 | BT11: 27.3 | BU11: 33.9
A12: P7_3 | B12: 7.8 | C12: 7.3 | E12: 8.2 | F12: 9 | G12: 8.5 | H12: 13.6 | I12: 15.8 | J12: 16.1 | K12: 19.9 | M12: 21.3 | N12: 22.4 | O12: 22.3 | Q12: 25.1 | R12: 22.2 | S12: 23.6 | T12: 23.8 | U12: 22.4 | W12: 23.9 | X12: 24.1 | Y12: 24 | Z12: 25.4 | AB12: 24.9 | AC12: 24.7 | AE12: 25.6 | AF12: 26.5 | AG12: 27.6 | AH12: 28.4 | AI12: 26.9 | AJ12: 26 | AL12: 29.4 | AM12: 26.6 | AN12: 25.8 | AO12: 29.3 | AP12: 28.4 | AQ12: 28.5 | AR12: 25.9 | AS12: 30.3 | AT12: 27.9 | AU12: 27.1 | AV12: 31.7 | AW12: 27.3 | AX12: 32 | AY12: 32.2 | AZ12: 26.5 | BA12: 28.7 | BB12: 29.2 | BD12: 32.1 | BE12: 31.4 | BF12: 29.4 | BG12: 28.8 | BH12: 27.4 | BI12: 30.9 | BJ12: 29.9 | BK12: 28.1 | BL12: 28 | BM12: 29 | BN12: 32.6 | BO12: 28.1 | BP12: 29.4 | BQ12: 29.3 | BR12: 29.8 | BS12: 28.9 | BT12: 28.8 | BU12: 29.5
A13: P7_4 | B13: 7.9 | C13: 7.7 | E13: 8.8 | F13: 8.8 | G13: 10.7 | H13: 15.2 | I13: 16.2 | J13: 17.5 | K13: 20.6 | M13: 20.6 | N13: 21.7 | O13: 21.5 | Q13: 23.6 | R13: 22.5 | S13: 23.3 | T13: 25.1 | U13: 21.3 | W13: 24.6 | X13: 27.1 | Y13: 26.1 | Z13: 25.5 | AB13: 26.9 | AC13: 23.2 | AE13: 26.3 | AF13: 25.9 | AG13: 29.1 | AH13: 28.8 | AI13: 25.4 | AJ13: 29.3 | AL13: 26.8 | AM13: 29 | AN13: 30 | AO13: 26.2 | AP13: 27.3 | AQ13: 27.2 | AR13: 29 | AS13: 26.3 | AT13: 27.3 | AU13: 26.2 | AV13: 29.5 | AW13: 29 | AX13: 29 | AY13: 26.8 | AZ13: 28.2 | BA13: 32 | BB13: 27.6 | BD13: 27.8 | BE13: 29 | BF13: 28.8 | BG13: 30.7 | BH13: 31.6 | BI13: 26.7 | BJ13: 26.9 | BK13: 29.6 | BL13: 29.2 | BM13: 27.9 | BN13: 30.7 | BO13: 28.1
A14: P7_2_1 | B14: 3.3 | E14: 4.8 | F14: 5.9 | H14: 8.7 | I14: 8.9 | J14: 8.7 | K14: 11.9 | L14: 10.7 | N14: 16.4 | O14: 16 | P14: 16.3 | Q14: 17.7 | S14: 16.7 | T14: 18.2 | V14: 18.7 | W14: 19.1 | X14: 19.8 | Y14: 19.2 | Z14: 19.5 | AA14: 19.1 | AC14: 20.2 | AD14: 20 | AE14: 20.6 | AF14: 20.5 | AG14: 20.5 | AH14: 20.4 | AI14: 20.4 | AJ14: 20.6 | AK14: 20.2 | AL14: 20.6 | AM14: 20.5 | AN14: 20.8 | AO14: 21.7 | AP14: 21.6 | AQ14: 21.9 | AR14: 22.3 | AS14: 22.1 | AT14: 22.1 | AU14: 22.2 | AV14: 22.2 | AW14: 22.3 | AX14: 22.1 | AY14: 22.5 | AZ14: 22.3 | BA14: 22.1 | BB14: 22.6 | BC14: 22.6 | BD14: 22.7 | BE14: 22.6 | BF14: 22.9 | BG14: 22.4 | BH14: 22.7 | BI14: 22.9 | BJ14: 22.9 | BK14: 22.9 | BL14: 22.9 | BM14: 22.6 | BN14: 22.6 | BO14: 26.1 | BP14: 22.9 | BQ14: 23 | BR14: 23.3 | BS14: 27.7
A15: P7_2_2 | B15: 3 | E15: 6.2 | F15: 5.1 | H15: 8.1 | I15: 8.4 | J15: 9.8 | K15: 14.7 | L15: 12.2 | N15: 17.1 | O15: 16 | P15: 18.3 | Q15: 19.9 | S15: 18.3 | T15: 20.3 | V15: 20.4 | W15: 20.8 | X15: 22.3 | Y15: 20.2 | Z15: 20.7 | AA15: 20.6 | AC15: 22.5 | AD15: 20.9 | AE15: 21.4 | AF15: 20.2 | AG15: 20.7 | AH15: 22.3 | AI15: 22.9 | AJ15: 23.8 | AK15: 22 | AL15: 21.9 | AM15: 23.2 | AN15: 23.9 | AO15: 23 | AP15: 23.5 | AQ15: 23.6 | AR15: 23.2 | AS15: 24.1 | AT15: 24.2 | AU15: 24.6 | AV15: 24.2 | AW15: 23.6 | AX15: 24 | AY15: 24.3 | AZ15: 24.7 | BA15: 23.8 | BB15: 24.8 | BC15: 24.8 | BD15: 24.3 | BE15: 24.9 | BF15: 24.9 | BG15: 24.3 | BH15: 25.2 | BI15: 25.1 | BJ15: 24.8 | BK15: 25 | BL15: 25.4 | BM15: 25.1 | BN15: 26.1 | BO15: 25.6 | BP15: 25.3 | BQ15: 25.5 | BR15: 26.1 | BS15: 26.2
A16: P7_2_3 | B16: 4.2 | E16: 6 | F16: 6 | H16: 8.4 | I16: 8.5 | J16: 10.1 | K16: 14 | L16: 14.1 | N16: 17.7 | O16: 18.5 | P16: 16.9 | Q16: 18.7 | S16: 17.3 | T16: 18.9 | V16: 20 | W16: 20.1 | X16: 21.2 | Y16: 20 | Z16: 21.7 | AA16: 20.7 | AC16: 21.4 | AD16: 20.8 | AE16: 23 | AF16: 22.2 | AG16: 22.5 | AH16: 23.1 | AI16: 21.8 | AJ16: 22.3 | AK16: 22.3 | AL16: 23 | AM16: 22.5 | AN16: 23.3 | AO16: 23.8 | AP16: 23.3 | AQ16: 23.5 | AR16: 23.6 | AS16: 23.9 | AT16: 24 | AU16: 24.5 | AV16: 24.9 | AW16: 23.7 | AX16: 24.6 | AY16: 24.7 | AZ16: 24.5 | BA16: 24.1 | BB16: 24.6 | BC16: 25.6 | BD16: 23.9 | BE16: 25.2 | BF16: 24.7 | BG16: 25 | BH16: 24.9 | BI16: 24.7 | BJ16: 24.6 | BK16: 25.5 | BL16: 27.5 | BM16: 25.2 | BN16: 25.9 | BO16: 25.9 | BP16: 25.4 | BQ16: 25.8 | BR16: 26.1 | BS16: 26.1
A17: P7_2_4 | B17: 4.1 | E17: 6.2 | F17: 6.5 | H17: 9 | I17: 8.4 | J17: 9.9 | K17: 10.2 | L17: 9.1 | N17: 15.3 | O17: 17.3 | P17: 15.7 | Q17: 17.7 | S17: 18.5 | T17: 17.2 | V17: 20 | W17: 19.5 | X17: 17 | Y17: 20.8 | Z17: 21.2 | AA17: 21.5 | AC17: 21.7 | AD17: 22.6 | AE17: 22.1 | AF17: 22.4 | AG17: 23.5 | AH17: 23.1 | AI17: 22.6 | AJ17: 22.6 | AK17: 22.2 | AL17: 22.6 | AM17: 23.6 | AN17: 23.1 | AO17: 23.6 | AP17: 23.3 | AQ17: 22.9 | AR17: 24.1 | AS17: 24.8 | AT17: 23.5 | AU17: 24.5 | AV17: 24.3 | AW17: 23.8 | AX17: 24.3 | AY17: 24.4 | AZ17: 24.2 | BA17: 24 | BB17: 24.9 | BC17: 24.5 | BD17: 24.3 | BE17: 25 | BF17: 24.9 | BG17: 24.4 | BH17: 25.5 | BI17: 25.4 | BJ17: 25 | BK17: 25.6 | BL17: 25.5 | BM17: 25.1 | BN17: 26.1 | BO17: 26.1 | BP17: 25.2 | BQ17: 25.7 | BR17: 26 | BS17: 26.7
A18: P7_2_5 | B18: 4.5 | E18: 6.1 | F18: 6.1 | H18: 6.7 | I18: 9.4 | J18: 9.6 | K18: 12.2 | L18: 14.9 | N18: 18.1 | O18: 15.5 | P18: 16.7 | Q18: 18.7 | S18: 18.6 | T18: 18.2 | V18: 21.1 | W18: 19.8 | X18: 21.3 | Y18: 19.9 | Z18: 22.6 | AA18: 22.3 | AC18: 22.1 | AD18: 20.7 | AE18: 21.7 | AF18: 21.9 | AG18: 22.6 | AH18: 20.8 | AI18: 23.5 | AJ18: 23.3 | AK18: 20.7 | AL18: 23.4 | AM18: 24 | AN18: 24.4 | AO18: 24.5 | AP18: 24.2 | AQ18: 23.3 | AR18: 23.7 | AS18: 24.2 | AT18: 23.9 | AU18: 24.4 | AV18: 24.2 | AW18: 23.7 | AX18: 24.1 | AY18: 24.5 | AZ18: 24.3 | BA18: 23.6 | BB18: 25.1 | BC18: 24.3 | BD18: 24.2 | BE18: 24.8 | BF18: 25.3 | BG18: 24.7 | BH18: 25.7 | BI18: 24.9 | BJ18: 25.3 | BK18: 25 | BL18: 25.2 | BM18: 24.8 | BN18: 26.2 | BO18: 28.3 | BP18: 25.2 | BQ18: 25.5 | BR18: 26.1 | BS18: 26.8
A19: P7_2_6 | B19: 4 | E19: 6 | F19: 6.3 | H19: 8.5 | I19: 7.3 | J19: 9 | K19: 13 | L19: 13.3 | N19: 16.5 | O19: 17.4 | P19: 16.7 | Q19: 18.1 | S19: 18.9 | T19: 17.9 | V19: 19.9 | W19: 20.1 | X19: 22 | Y19: 21.6 | Z19: 22.1 | AA19: 22.2 | AC19: 22.8 | AD19: 22.9 | AE19: 21.6 | AF19: 23.2 | AG19: 24.2 | AH19: 24.2 | AI19: 22.3 | AJ19: 22.7 | AK19: 21.9 | AL19: 25.4 | AM19: 22 | AN19: 25.4 | AO19: 22.9 | AP19: 26 | AQ19: 25.9 | AR19: 26.1 | AS19: 25.9 | AT19: 26.5 | AU19: 25.9 | AV19: 26.6 | AW19: 26 | AX19: 23.2 | AY19: 27.2 | AZ19: 25.8 | BA19: 23.3 | BB19: 23.8 | BC19: 27.9 | BD19: 26.8 | BE19: 27.7 | BF19: 23.8 | BG19: 27.3 | BH19: 24.2 | BI19: 24 | BJ19: 28.4 | BK19: 26.8 | BL19: 28.8 | BM19: 24.1 | BN19: 24.2 | BO19: 24.2 | BP19: 26.9 | BQ19: 28.6 | BR19: 28.6 | BS19: 24.5
A20: P7_2_7 | B20: 4.2 | E20: 5 | F20: 5.2 | H20: 8.1 | I20: 9.9 | J20: 7.4 | K20: 11.6 | L20: 11.4 | N20: 19 | O20: 18.7 | P20: 16.9 | Q20: 20 | S20: 20.3 | T20: 17 | V20: 19.9 | W20: 20.7 | X20: 22.9 | Y20: 23.1 | Z20: 22.2 | AA20: 22.1 | AC20: 23.8 | AD20: 22.3 | AE20: 24.1 | AF20: 22.1 | AG20: 23.5 | AH20: 23.5 | AI20: 23.7 | AJ20: 25.2 | AK20: 23.4 | AL20: 22.5 | AM20: 23.9 | AN20: 24.4 | AO20: 24.8 | AP20: 24.8 | AQ20: 24.6 | AR20: 25.1 | AS20: 23.9 | AT20: 25.4 | AU20: 26.5 | AV20: 26.1 | AW20: 22.8 | AX20: 26 | AY20: 26.2 | AZ20: 27 | BA20: 26.6 | BB20: 27.1 | BC20: 27.1 | BD20: 22.9 | BE20: 27 | BF20: 27.5 | BG20: 25.9 | BH20: 28.3 | BI20: 28.6 | BJ20: 23.8 | BK20: 23.9 | BL20: 24.2 | BM20: 27 | BN20: 27.4 | BO20: 27.4 | BP20: 28 | BQ20: 24.2 | BR20: 24 | BS20: 28.8
A21: P7_2_8 | B21: 4.1 | E21: 6.5 | F21: 6.4 | H21: 7.7 | I21: 8.5 | J21: 9 | K21: 12.4 | L21: 11.4 | N21: 18.3 | O21: 17.6 | P21: 18.4 | Q21: 18.8 | S21: 17.1 | T21: 18.4 | V21: 21.2 | W21: 20.2 | X21: 21.8 | Y21: 21.4 | Z21: 21.2 | AA21: 21.7 | AC21: 222 | AD21: 20.9 | AE21: 22.8 | AF21: 21.8 | AG21: 23 | AH21: 22.6 | AI21: 24.7 | AJ21: 24.2 | AK21: 24.4 | AL21: 24.4 | AM21: 24.6 | AN21: 22.4 | AO21: 25.6 | AP21: 23 | AQ21: 22.6 | AR21: 23 | AS21: 26.7 | AT21: 23.5 | AU21: 23.4 | AV21: 23.3 | AW21: 25.1 | AX21: 26.9 | AY21: 23.4 | AZ21: 22.9 | BA21: 25.7 | BB21: 27.7 | BC21: 23.7 | BD21: 25.9 | BE21: 23.9 | BF21: 27 | BG21: 23.5 | BH21: 27.5 | BI21: 27.7 | BJ21: 26.4 | BK21: 28.3 | BL21: 19.2 | BM21: 28 | BN21: 29 | BO21: 22.8 | BP21: 24.1 | BQ21: 27.5 | BR21: 28.3 | BS21: 27.8
A22: P7_3_1 | B22: 4.3 | C22: 4.4 | D22: 5.9 | E22: 6.8 | F22: 5.9 | G22: 7.8 | H22: 10.1 | I22: 11.8 | J22: 11.9 | K22: 15.2 | L22: 15.4 | M22: 15.5 | N22: 17.2 | O22: 17.7 | P22: 17.4 | Q22: 18.1 | R22: 18.3 | S22: 18 | T22: 18.4 | U22: 19 | V22: 18.8 | W22: 18.7 | X22: 18.8 | Y22: 19 | Z22: 18.8 | AA22: 19.2 | AB22: 19.4 | AC22: 19.3 | AD22: 19.9 | AE22: 19.8 | AF22: 19.1 | AG22: 18.9 | AH22: 19 | AI22: 19.2 | AJ22: 20.3 | AK22: 19.9 | AL22: 19.3 | AM22: 20.4 | AN22: 19.9 | AO22: 19.9 | AP22: 20.6 | AQ22: 19.8 | AR22: 21.1 | AS22: 19.7 | AU22: 20.1 | AV22: 20.2 | AW22: 20 | AX22: 26.2 | AY22: 25.6 | AZ22: 25.7 | BA22: 22.6 | BB22: 26.1 | BC22: 26 | BD22: 23.2 | BE22: 26.1 | BF22: 22.8 | BG22: 23 | BH22: 26.8 | BI22: 26.7 | BJ22: 23.8 | BK22: 24.1 | BL22: 27.2 | BM22: 25.6 | BN22: 20 | BO22: 23.5 | BP22: 22.5 | BQ22: 19 | BR22: 18.5
A23: P7_3_2 | B23: 4.5 | C23: 4.8 | D23: 5.5 | E23: 6.4 | F23: 6.5 | G23: 7.4 | H23: 9.5 | I23: 11.4 | J23: 12.8 | K23: 14.3 | L23: 14.7 | M23: 15.5 | N23: 17.6 | O23: 17.1 | P23: 17.1 | Q23: 18.9 | R23: 17.9 | S23: 18.1 | T23: 18.2 | U23: 18.2 | V23: 18 | W23: 18.3 | X23: 19.4 | Y23: 19.8 | Z23: 18.7 | AA23: 19.9 | AB23: 19.8 | AC23: 19 | AD23: 19.5 | AE23: 19.7 | AF23: 19.5 | AG23: 19.1 | AH23: 19.7 | AI23: 19.1 | AJ23: 19.8 | AK23: 19.8 | AL23: 19 | AM23: 19.8 | AN23: 20.7 | AO23: 20.7 | AP23: 20 | AQ23: 20.7 | AR23: 19.7 | AS23: 20.7 | AU23: 20.2 | AV23: 21.1 | AW23: 20.7 | AX23: 23.6 | AY23: 22.8 | AZ23: 23.1 | BA23: 25.1 | BB23: 23.2 | BC23: 23 | BD23: 26.6 | BE23: 23.2 | BF23: 26.1 | BG23: 25.9 | BH23: 23.6 | BI23: 23.3 | BJ23: 27.1 | BK23: 27.5 | BL23: 24 | BM23: 23.5 | BN23: 24 | BO23: 19.2 | BP23: 19.8 | BQ23: 22.6 | BR23: 23.5
A24: P7_3_3 | B24: 4.4 | C24: 4.7 | D24: 5.3 | E24: 7.1 | F24: 6.4 | G24: 6.9 | H24: 9.9 | I24: 12.6 | J24: 13.9 | K24: 16.7 | L24: 16.1 | M24: 17.9 | N24: 18 | O24: 19.6 | P24: 20.1 | Q24: 20.9 | R24: 21.8 | S24: 20.6 | T24: 21.4 | U24: 22 | V24: 22.7 | W24: 20.3 | X24: 23 | Y24: 22.3 | Z24: 20.9 | AA24: 22.9 | AB24: 23.1 | AC24: 21.2 | AD24: 23.5 | AE24: 23.1 | AF24: 21.8 | AG24: 23.5 | AH24: 24 | AI24: 25 | AJ24: 26.1 | AK24: 24.3 | AL24: 24.3 | AM24: 24.6 | AN24: 25.4 | AO24: 25.1 | AP24: 25.3 | AQ24: 24.7 | AR24: 23.7 | AS24: 25.3 | AU24: 24.5 | AV24: 26.1 | AW24: 26.1 | AX24: 25.3 | AY24: 27.4 | AZ24: 27.1 | BA24: 25.6 | BB24: 25.1 | BC24: 23.3 | BD24: 26.4 | BE24: 27 | BF24: 26.2 | BG24: 26.8 | BH24: 26 | BI24: 26.7 | BJ24: 27.3 | BK24: 26.9 | BL24: 27.3 | BM24: 24.5 | BN24: 22.6 | BO24: 21.6 | BP24: 22.8 | BQ24: 25.1 | BR24: 21.4
A25: P7_3_4 | B25: 4.4 | C25: 4.8 | D25: 5.3 | E25: 6.9 | F25: 6.7 | G25: 7.3 | H25: 10 | I25: 11.7 | J25: 14.3 | K25: 17.4 | L25: 15.8 | M25: 18 | N25: 19.7 | O25: 20.3 | P25: 18.3 | Q25: 19.2 | R25: 21 | S25: 20.8 | T25: 22.4 | U25: 22.9 | V25: 21.9 | W25: 23.7 | X25: 22.9 | Y25: 21 | Z25: 23.6 | AA25: 24.3 | AB25: 24.4 | AC25: 24 | AD25: 22.1 | AE25: 24.6 | AF25: 20.7 | AG25: 23.5 | AH25: 25.6 | AI25: 23.7 | AJ25: 24.4 | AK25: 22.6 | AL25: 23.9 | AM25: 24.3 | AN25: 23 | AO25: 22.6 | AP25: 25.7 | AQ25: 23 | AR25: 25.7 | AS25: 23.2 | AU25: 23.6 | AV25: 23.4 | AW25: 23.4 | AX25: 24.3 | AY25: 25.6 | AZ25: 24 | BA25: 26.7 | BB25: 23.8 | BC25: 24.9 | BD25: 27.4 | BE25: 26.2 | BF25: 25.3 | BG25: 25.1 | BH25: 27.2 | BI25: 24.1 | BJ25: 27.2 | BK25: 25.7 | BL25: 24.1 | BM25: 26.3 | BN25: 24.8 | BO25: 24.7 | BP25: 24.7 | BQ25: 20.9 | BR25: 25
A26: P7_3_5 | B26: 4.6 | C26: 4.9 | D26: 5.8 | E26: 6.1 | F26: 6.8 | G26: 6.2 | H26: 10.5 | I26: 12.7 | J26: 13.1 | K26: 15.5 | L26: 17.4 | M26: 16.7 | N26: 20.3 | O26: 20.1 | P26: 20.7 | Q26: 21.6 | R26: 21.1 | S26: 18.6 | T26: 19.8 | U26: 20.1 | V26: 20.3 | W26: 21.8 | X26: 23.8 | Y26: 22.5 | Z26: 22.4 | AA26: 22.9 | AB26: 23.2 | AC26: 22.6 | AD26: 25.1 | AE26: 21.8 | AF26: 20.4 | AG26: 21.7 | AH26: 24.2 | AI26: 21.7 | AJ26: 24.7 | AK26: 24.5 | AL26: 25.2 | AM26: 25.5 | AN26: 26.1 | AO26: 25.8 | AP26: 23.4 | AQ26: 25.9 | AR26: 25.2 | AS26: 26 | AU26: 23.3 | AV26: 25.6 | AW26: 26.2 | AX26: 22.3 | AY26: 26.5 | AZ26: 26.6 | BA26: 23.5 | BB26: 27.2 | BC26: 27.1 | BD26: 24.8 | BE26: 23.5 | BF26: 27.1 | BG26: 25.8 | BH26: 24.2 | BI26: 25.6 | BJ26: 26.1 | BK26: 24.4 | BL26: 25.6 | BM26: 26 | BN26: 25.6 | BO26: 24.5 | BP26: 25.5 | BQ26: 23.8 | BR26: 22.7
A27: P7_3_6 | B27: 4.6 | C27: 4.7 | D27: 5.5 | E27: 6.2 | F27: 7.1 | G27: 7.2 | H27: 10.5 | I27: 11.7 | J27: 12.2 | K27: 15.7 | L27: 17.4 | M27: 16.3 | N27: 19.6 | O27: 18.1 | P27: 20.1 | Q27: 20.9 | R27: 19.2 | S27: 21.1 | T27: 21.6 | U27: 21.9 | V27: 22 | W27: 21.6 | X27: 20.4 | Y27: 23.5 | Z27: 22.6 | AA27: 21.2 | AB27: 21.5 | AC27: 22.8 | AD27: 23.6 | AE27: 23.2 | AF27: 24.7 | AG27: 25 | AH27: 21.8 | AI27: 23.9 | AJ27: 22.5 | AK27: 26 | AL27: 22.2 | AM27: 22.8 | AN27: 24.7 | AO27: 24.4 | AP27: 26.6 | AQ27: 24.9 | AR27: 26.7 | AS27: 24.6 | AU27: 21.7 | AV27: 24.6 | AW27: 24.4 | AX27: 25 | AY27: 23.8 | AZ27: 23.4 | BA27: 24.1 | BB27: 25.9 | BC27: 25.7 | BD27: 23.6 | BE27: 24.9 | BF27: 23.7 | BG27: 23.3 | BH27: 27.4 | BI27: 27.2 | BJ27: 24.3 | BK27: 27.5 | BL27: 27.2 | BM27: 26 | BN27: 24.7 | BO27: 26 | BP27: 24.1 | BQ27: 21.1 | BR27: 19.8
A28: P8_1 | E28: 7 | F28: 7.1 | H28: 11.8 | I28: 13.3 | J28: 11.4 | K28: 13.5 | L28: 14.4 | M28: 20 | N28: 19.1 | O28: 19.2 | P28: 18.5 | Q28: 18.6 | R28: 17.1 | S28: 24.8 | T28: 24.9 | V28: 21.9 | W28: 19.2 | X28: 18.8 | Z28: 22.5 | AA28: 26.3 | AB28: 22.2 | AC28: 21.9 | AD28: 24.2 | AF28: 21.6 | AG28: 27.1 | AH28: 26.3 | AI28: 27.1 | AK28: 26.4 | AL28: 25.1 | AN28: 26.3 | AO28: 26.1 | AP28: 24 | AQ28: 23.7 | AR28: 25.3 | AS28: 22.1 | AU28: 25.7 | AV28: 25 | AW28: 23.5 | AX28: 25.5 | AY28: 23.1 | AZ28: 21.6 | BA28: 23.2 | BB28: 23 | BC28: 26.1 | BD28: 26.3 | BE28: 26.4 | BF28: 23.4 | BG28: 23.9 | BH28: 23.7 | BI28: 23.7 | BJ28: 25.9 | BK28: 23.1 | BL28: 23.6
A29: P8_2 | E29: 7.9 | F29: 7.9 | H29: 10.4 | I29: 12.4 | J29: 13.9 | K29: 16.7 | L29: 16.5 | M29: 17.3 | N29: 22.1 | O29: 23 | P29: 21.2 | Q29: 24.8 | R29: 24.1 | S29: 21.8 | T29: 22 | V29: 25 | W29: 22.7 | X29: 22.6 | Z29: 26.3 | AA29: 21.7 | AB29: 26.7 | AC29: 26.9 | AD29: 19.4 | AF29: 25.7 | AG29: 22.4 | AH29: 23.1 | AI29: 21.4 | AK29: 20.7 | AL29: 20.3 | AN29: 20.8 | AO29: 21.8 | AP29: 28.2 | AQ29: 26.6 | AR29: 22.4 | AS29: 25.2 | AU29: 23.1 | AV29: 22.1 | AW29: 25.6 | AX29: 22.7 | AY29: 26.3 | AZ29: 25.9 | BA29: 25.7 | BB29: 26.6 | BC29: 23.2 | BD29: 23 | BE29: 22.9 | BF29: 26.2 | BG29: 26.7 | BH29: 26.9 | BI29: 26.7 | BJ29: 23 | BK29: 25.8 | BL29: 26
A30: P8_2_1 | E30: 6.2 | G30: 5.2 | H30: 5.9 | J30: 8.9 | K30: 8.2 | L30: 10.9 | M30: 10.8 | N30: 14.1 | O30: 14.4 | Q30: 14.9 | R30: 15.7 | S30: 15.7 | T30: 17.6 | U30: 16.4 | V30: 18.2 | W30: 15.7 | X30: 16.1 | Y30: 18.2 | Z30: 16.2 | AA30: 18.2 | AB30: 18.7 | AC30: 19 | AD30: 19.6 | AE30: 16.6 | AF30: 17.5 | AG30: 16.6 | AH30: 18 | AI30: 18.3 | AJ30: 17.7 | AK30: 18.6 | AL30: 21.6 | AM30: 21.8 | AN30: 19 | AO30: 18.2 | AP30: 19.6 | AQ30: 18.8 | AR30: 21.1 | AS30: 19.8 | AT30: 19.5 | AU30: 22.4 | AV30: 22.4 | AW30: 22.7 | AX30: 18.1 | AY30: 21 | AZ30: 23.3 | BA30: 20.8 | BB30: 19.2 | BC30: 19.4 | BD30: 22.8 | BE30: 18.9 | BF30: 21.5 | BG30: 21.3 | BH30: 21.2 | BI30: 22.8 | BJ30: 22 | BK30: 23.5 | BM30: 23.1 | BN30: 23.3 | BO30: 26.7 | BP30: 21.1 | BQ30: 23.9 | BR30: 24.6 | BS30: 21.9 | BT30: 22.1 | BU30: 21.9
A31: P8_2_2 | E31: 5.6 | G31: 6.2 | H31: 6.7 | J31: 7 | K31: 7.1 | L31: 9.6 | M31: 9.3 | N31: 14.9 | O31: 14.1 | Q31: 15.6 | R31: 12.8 | S31: 15.3 | T31: 15.5 | U31: 18.3 | V31: 16.4 | W31: 17.9 | X31: 16.7 | Y31: 16.2 | Z31: 16.4 | AA31: 16.8 | AB31: 16.5 | AC31: 21.4 | AD31: 17.2 | AE31: 17.3 | AF31: 20.2 | AG31: 17.8 | AH31: 20.9 | AI31: 17.3 | AJ31: 21.5 | AK31: 17.2 | AL31: 18 | AM31: 17.9 | AN31: 18 | AO31: 19.3 | AP31: 18.6 | AQ31: 22.4 | AR31: 18.3 | AS31: 22.1 | AT31: 18.6 | AU31: 20.5 | AV31: 19.1 | AW31: 19.4 | AX31: 22.1 | AY31: 18.3 | AZ31: 18.8 | BA31: 18.5 | BB31: 21.1 | BC31: 23.5 | BD31: 19.1 | BE31: 22.5 | BF31: 19.2 | BG31: 23 | BH31: 23.7 | BI31: 21.1 | BJ31: 23.8 | BK31: 21.5 | BM31: 21.1 | BN31: 21.7 | BO31: 23.2 | BP31: 22.5 | BQ31: 22.4 | BR31: 22.2 | BS31: 25.1 | BT31: 24.1 | BU31: 23.9
A32: P8_2_3 | E32: 5.5 | G32: 6.3 | H32: 4.2 | J32: 8.2 | K32: 7.1 | L32: 10.5 | M32: 11.3 | N32: 13.5 | O32: 12.8 | Q32: 16.5 | R32: 14.9 | S32: 17.4 | T32: 15.2 | U32: 16.1 | V32: 16 | W32: 16.1 | X32: 19 | Y32: 16.5 | Z32: 18.2 | AA32: 16.1 | AB32: 16.9 | AC32: 21.2 | AD32: 16.5 | AE32: 20.3 | AF32: 16.4 | AG32: 20.1 | AH32: 17 | AI32: 21.1 | AJ32: 19 | AK32: 22.7 | AL32: 19.1 | AM32: 18.9 | AN32: 21.6 | AO32: 21.7 | AP32: 21.9 | AQ32: 19.3 | AR32: 18 | AS32: 18.8 | AT32: 21.8 | AU32: 18.9 | AV32: 20.5 | AW32: 20.9 | AX32: 20 | AY32: 22.7 | AZ32: 21.2 | BA32: 23 | BB32: 23.5 | BC32: 23.3 | BD32: 21.1 | BE32: 21 | BF32: 23.4
A33: P8_2_4 | E33: 5.5 | G33: 5.7 | H33: 7.6 | J33: 8.7 | K33: 7.1 | L33: 10.5 | M33: 9.8 | N33: 15 | O33: 13.1 | Q33: 16.5 | R33: 16.7 | S33: 18.6 | T33: 18.2 | U33: 17.8 | V33: 18.4 | W33: 18.3 | X33: 19.7 | Y33: 19.5 | Z33: 18.5 | AA33: 18.5 | AB33: 21.1 | AC33: 19.3 | AD33: 18.5 | AE33: 21 | AF33: 21.4 | AG33: 21.8 | AH33: 21.8 | AI33: 22.2 | AJ33: 22 | AK33: 19.6 | AL33: 19.9 | AM33: 21 | AN33: 23.4 | AO33: 20.8 | AP33: 22.1 | AQ33: 22.4 | AR33: 23.2 | AS33: 22.2 | AT33: 24.3 | AU33: 22.5 | AV33: 22.7 | AW33: 24.3 | AX33: 23.8 | AY33: 23.7 | AZ33: 24.9 | BA33: 23 | BB33: 25.4 | BC33: 24.6 | BD33: 23.7 | BE33: 25.2 | BF33: 24.3 | BG33: 26.1 | BH33: 26.3 | BI33: 24.1 | BJ33: 26.8 | BK33: 25.3 | BM33: 25 | BN33: 26.4 | BO33: 25.3 | BP33: 25.6 | BQ33: 26.2 | BR33: 26.4 | BS33: 26 | BT33: 24.1 | BU33: 24
A34: P8_2_5 | E34: 5.5 | G34: 4.3 | H34: 7.6 | J34: 7.8 | K34: 7.5 | L34: 11.6 | M34: 10.5 | N34: 13.9 | O34: 13.8 | Q34: 17.1 | R34: 15.9 | S34: 17 | T34: 17.6 | U34: 18 | V34: 19.2 | W34: 18.8 | X34: 19.6 | Y34: 18.2 | Z34: 20 | AA34: 20 | AB34: 20.9 | AC34: 17.1 | AD34: 20.5 | AE34: 18.9 | AF34: 18.9 | AG34: 19 | AH34: 19.1 | AI34: 19.7 | AJ34: 23 | AK34: 22.5 | AL34: 22.5 | AM34: 23.4 | AN34: 23.8 | AO34: 22.9 | AP34: 23.5 | AQ34: 24.1 | AR34: 21.3 | AS34: 24.2 | AT34: 23.8 | AU34: 24.3 | AV34: 24.8 | AW34: 24.7 | AX34: 22.3 | AY34: 22.6 | AZ34: 24.4 | BA34: 23.4 | BB34: 24.8 | BC34: 24 | BD34: 23.4 | BE34: 24.5 | BF34: 25.9 | BG34: 24.1 | BH34: 25.5 | BI34: 24.9 | BJ34: 24.4 | BK34: 23.9 | BM34: 25.8 | BN34: 26 | BO34: 26.4 | BP34: 23.4 | BQ34: 24.8 | BR34: 24.5 | BS34: 23.9 | BT34: 26.4 | BU34: 25.6
A35: P8_2_6 | E35: 6.1 | G35: 6.4 | H35: 7.2 | J35: 7.9 | K35: 6.2 | L35: 10.5 | M35: 11 | N35: 16.1 | O35: 16 | Q35: 15.6 | R35: 16 | S35: 16.8 | T35: 17.3 | U35: 18.9 | V35: 17.9 | W35: 19.2 | X35: 18.5 | Y35: 19.4 | Z35: 20.4 | AA35: 20 | AB35: 18.9 | AC35: 16.6 | AD35: 21 | AE35: 21.6 | AF35: 21.8 | AG35: 22 | AH35: 22 | AI35: 22.7 | AJ35: 19.5 | AK35: 22.9 | AL35: 22.6 | AM35: 23.7 | AN35: 21.2 | AO35: 22.2 | AP35: 24 | AQ35: 24.5 | AR35: 22.7 | AS35: 23.6 | AT35: 22.1 | AU35: 23.9 | AV35: 24.4 | AW35: 22.5 | AX35: 23.1 | AY35: 24.4 | AZ35: 23.4 | BA35: 24.6 | BB35: 23.6 | BC35: 25.5 | BD35: 24.8 | BE35: 23.6 | BF35: 25.3 | BG35: 24.9 | BH35: 24.6 | BI35: 25.8 | BJ35: 25.8 | BK35: 26 | BM35: 23.4 | BN35: 24.1 | BO35: 23.9 | BP35: 24.8 | BQ35: 27.3 | BR35: 27 | BS35: 23.8 | BT35: 25.5 | BU35: 26

Sheet Week 1
B1: Date: | E1: Date: | H1: Date:
A2: Pup Number | B2: Weight (g) | C2: Fecal (Y/N) | D2: Sample Name | E2: Weight (g) | F2: Fecal (Y/N) | G2: Sample Name | H2: Weight (g) | I2: Fecal (Y/N) | J2: Sample Name | K2: Remarks
A3: P4_1 | D3: =if(C3="Y",CONCATENATE(A3,,"_",$C$1), ) | G3: =if(F3="Y",CONCATENATE($A3,,"_",$F$1), ) | J3: =if(I3="Y",CONCATENATE($A3,,"_",$I$1), ) | K3: no weights too small
A4: P4_2 | D4: =if(C4="Y",CONCATENATE(A4,,"_",$C$1), ) | G4: =if(F4="Y",CONCATENATE($A4,,"_",$F$1), ) | J4: =if(I4="Y",CONCATENATE($A4,,"_",$I$1), )
A5: P4_3 | D5: =if(C5="Y",CONCATENATE(A5,,"_",$C$1), ) | G5: =if(F5="Y",CONCATENATE($A5,,"_",$F$1), ) | J5: =if(I5="Y",CONCATENATE($A5,,"_",$I$1), )
A6: P4_4 | D6: =if(C6="Y",CONCATENATE(A6,,"_",$C$1), ) | G6: =if(F6="Y",CONCATENATE($A6,,"_",$F$1), ) | J6: =if(I6="Y",CONCATENATE($A6,,"_",$I$1), )
A7: P4_5 | D7: =if(C7="Y",CONCATENATE(A7,,"_",$C$1), ) | G7: =if(F7="Y",CONCATENATE($A7,,"_",$F$1), ) | J7: =if(I7="Y",CONCATENATE($A7,,"_",$I$1), )
B10: Date: | E10: Date: | H10: Date:
A11: Pup Number | B11: Weight (g) | C11: Fecal (Y/N) | D11: Sample Name | E11: Weight (g) | F11: Fecal (Y/N) | G11: Sample Name | H11: Weight (g) | I11: Fecal (Y/N) | J11: Sample Name | K11: Remarks
A12: P6_1 | D12: =if(C12="Y",CONCATENATE(A12,,"_",$C$10), ) | G12: =if(F12="Y",CONCATENATE($A12,,"_",$F$10), ) | J12: =if(I12="Y",CONCATENATE($A12,,"_",$I$10), ) | K12: no weights too small
A13: P6_2 | D13: =if(C13="Y",CONCATENATE(A13,,"_",$C$10), ) | G13: =if(F13="Y",CONCATENATE($A13,,"_",$F$10), ) | J13: =if(I13="Y",CONCATENATE($A13,,"_",$I$10), )
A14: P6_3 | D14: =if(C14="Y",CONCATENATE(A14,,"_",$C$10), ) | G14: =if(F14="Y",CONCATENATE($A14,,"_",$F$10), ) | J14: =if(I14="Y",CONCATENATE($A14,,"_",$I$10), )
B17: Date: | C17: 021721 | E17: Date: | F17: 021821 | H17: Date: | J17: no weights
A18: Pup Number | B18: Weight (g) | C18: Fecal (Y/N) | D18: Sample Name | E18: Weight (g) | F18: Fecal (Y/N) | G18: Sample Name | H18: Weight (g) | I18: Fecal (Y/N) | J18: Sample Name | K18: Remarks
A19: P7_1 | B19: 8.4 | C19: n | D19: =if(C19="Y",CONCATENATE(A19,,"_",$C$17), ) | E19: 8.2 | F19: n | G19: =if(F19="Y",CONCATENATE($A19,,"_",$F$17), ) | J19: =if(I19="Y",CONCATENATE($A19,,"_",$I$17), )
A20: P7_2 | B20: 8.2 | C20: n | D20: =if(C20="Y",CONCATENATE(A20,,"_",$C$17), ) | E20: 8 | F20: n | G20: =if(F20="Y",CONCATENATE($A20,,"_",$F$17), ) | J20: =if(I20="Y",CONCATENATE($A20,,"_",$I$17), )
A21: P7_3 | B21: 7.8 | C21: n | D21: =if(C21="Y",CONCATENATE(A21,,"_",$C$17), ) | E21: 7.3 | F21: n | G21: =if(F21="Y",CONCATENATE($A21,,"_",$F$17), ) | J21: =if(I21="Y",CONCATENATE($A21,,"_",$I$17), )
A22: P7_4 | B22: 7.9 | C22: n | D22: =if(C22="Y",CONCATENATE(A22,,"_",$C$17), ) | E22: 7.7 | F22: n | G22: =if(F22="Y",CONCATENATE($A22,,"_",$F$17), ) | J22: =if(I22="Y",CONCATENATE($A22,,"_",$I$17), )
B25: Date: | C25: 030921 | E25: Date: | H25: Date: | J25: no weights
A26: Pup Number | B26: Weight (g) | C26: Fecal (Y/N) | D26: Sample Name | E26: Weight (g) | F26: Fecal (Y/N) | G26: Sample Name | H26: Weight (g) | I26: Fecal (Y/N) | J26: Sample Name | K26: Remarks
A27: P7_2_1 | B27: 3.3 | C27: n | D27: =if(C27="Y",CONCATENATE(A27,,"_",$C$25), ) | G27: =if(F27="Y",CONCATENATE($A27,,"_",$F$25), ) | J27: =if(I27="Y",CONCATENATE($A27,,"_",$I$25), )
A28: P7_2_2 | B28: 3 | C28: n | D28: =if(C28="Y",CONCATENATE(A28,,"_",$C$25), ) | G28: =if(F28="Y",CONCATENATE($A28,,"_",$F$25), ) | J28: =if(I28="Y",CONCATENATE($A28,,"_",$I$25), )
A29: P7_2_3 | B29: 4.2 | C29: n | D29: =if(C29="Y",CONCATENATE(A29,,"_",$C$25), ) | G29: =if(F29="Y",CONCATENATE($A29,,"_",$F$25), ) | J29: =if(I29="Y",CONCATENATE($A29,,"_",$I$25), )
A30: P7_2_4 | B30: 4.1 | C30: n | D30: =if(C30="Y",CONCATENATE(A30,,"_",$C$25), ) | G30: =if(F30="Y",CONCATENATE($A30,,"_",$F$25), ) | J30: =if(I30="Y",CONCATENATE($A30,,"_",$I$25), )
A31: P7_2_5 | B31: 4.5 | C31: n | D31: =if(C31="Y",CONCATENATE(A31,,"_",$C$25), ) | G31: =if(F31="Y",CONCATENATE($A31,,"_",$F$25), ) | J31: =if(I31="Y",CONCATENATE($A31,,"_",$I$25), )
A32: P7_2_6 | B32: 4 | C32: n | D32: =if(C32="Y",CONCATENATE(A32,,"_",$C$25), ) | G32: =if(F32="Y",CONCATENATE($A32,,"_",$F$25), ) | J32: =if(I32="Y",CONCATENATE($A32,,"_",$I$25), )
A33: P7_2_7 | B33: 4.2 | C33: n | D33: =if(C33="Y",CONCATENATE(A33,,"_",$C$25), ) | G33: =if(F33="Y",CONCATENATE($A33,,"_",$F$25), ) | J33: =if(I33="Y",CONCATENATE($A33,,"_",$I$25), )
A34: P7_2_8 | B34: 4.1 | C34: n | D34: =if(C34="Y",CONCATENATE(A34,,"_",$C$25), ) | G34: =if(F34="Y",CONCATENATE($A34,,"_",$F$25), ) | J34: =if(I34="Y",CONCATENATE($A34,,"_",$I$25), )
B37: Date: | C37: 051121 | E37: Date: | F37: 051221 | H37: Date: | I37: 051421
A38: Pup Number | B38: Weight (g) | C38: Fecal (Y/N) | D38: Sample Name | E38: Weight (g) | F38: Fecal (Y/N) | G38: Sample Name | H38: Weight (g) | I38: Fecal (Y/N) | J38: Sample Name | K38: Remarks
A39: P7_3_1 | B39: 4.3 | C39: n | D39: =if(C39="Y",CONCATENATE(A39,,"_",$C$25), ) | E39: 4.4 | F39: n | G39: =if(F39="Y",CONCATENATE($A39,,"_",$F$25), ) | H39: 5.9 | I39: n | J39: =if(I39="Y",CONCATENATE($A39,,"_",$I$25), )
A40: P7_3_2 | B40: 4.5 | C40: n | D40: =if(C40="Y",CONCATENATE(A40,,"_",$C$25), ) | E40: 4.8 | F40: n | G40: =if(F40="Y",CONCATENATE($A40,,"_",$F$25), ) | H40: 5.5 | I40: n | J40: =if(I40="Y",CONCATENATE($A40,,"_",$I$25), )
A41: P7_3_3 | B41: 4.4 | C41: n | D41: =if(C41="Y",CONCATENATE(A41,,"_",$C$25), ) | E41: 4.7 | F41: n | G41: =if(F41="Y",CONCATENATE($A41,,"_",$F$25), ) | H41: 5.3 | I41: n | J41: =if(I41="Y",CONCATENATE($A41,,"_",$I$25), )
A42: P7_3_4 | B42: 4.4 | C42: n | D42: =if(C42="Y",CONCATENATE(A42,,"_",$C$25), ) | E42: 4.8 | F42: n | G42: =if(F42="Y",CONCATENATE($A42,,"_",$F$25), ) | H42: 5.3 | I42: n | J42: =if(I42="Y",CONCATENATE($A42,,"_",$I$25), )
A43: P7_3_5 | B43: 4.6 | C43: n | D43: =if(C43="Y",CONCATENATE(A43,,"_",$C$25), ) | E43: 4.9 | F43: n | G43: =if(F43="Y",CONCATENATE($A43,,"_",$F$25), ) | H43: 5.8 | I43: n | J43: =if(I43="Y",CONCATENATE($A43,,"_",$I$25), )
A44: P7_3_6 | B44: 4.6 | C44: n | D44: =if(C44="Y",CONCATENATE(A44,,"_",$C$25), ) | E44: 4.7 | F44: n | G44: =if(F44="Y",CONCATENATE($A44,,"_",$F$25), ) | H44: 5.5 | I44: n | J44: =if(I44="Y",CONCATENATE($A44,,"_",$I$25), )
B47: Date: | C47: 012421 | E47: Date: | F47: 012521 | H47: Date: | I47: 012621
A48: Pup Number | B48: Weight (g) | C48: Fecal (Y/N) | D48: Sample Name | E48: Weight (g) | F48: Fecal (Y/N) | G48: Sample Name | H48: Weight (g) | I48: Fecal (Y/N) | J48: Sample Name | K48: Remarks
A49: P8_1 | D49: =if(C49="Y",CONCATENATE(A49,,"_",$C$47), ) | G49: =if(F49="Y",CONCATENATE($A49,,"_",$F$47), ) | J49: =if(I49="Y",CONCATENATE($A49,,"_",$I$47), ) | K49: no weights
A50: P8_2 | D50: =if(C50="Y",CONCATENATE(A50,,"_",$C$47), ) | G50: =if(F50="Y",CONCATENATE($A50,,"_",$F$47), ) | J50: =if(I50="Y",CONCATENATE($A50,,"_",$I$47), )
...

Sheet Week 2
B1: Date: | C1: 061521 | E1: Date: | F1: 061621 | H1: Date: | I1: 061721
A2: Pup Number | B2: Weight (g) | C2: Fecal (Y/N) | D2: Sample Name | E2: Weight (g) | F2: Fecal (Y/N) | G2: Sample Name | H2: Weight (g) | I2: Fecal (Y/N) | J2: Sample Name | K2: Remarks
A3: P4_1 | B3: 7.5 | C3: n | D3: =if(C3="Y",CONCATENATE(A3,,"_",$C$1), ) | E3: 9 | F3: n | G3: =if(F3="Y",CONCATENATE($A3,,"_",$F$1), ) | H3: 9.1 | I3: n | J3: =if(I3="Y",CONCATENATE($A3,,"_",$I$1), )
A4: P4_2 | B4: 7.8 | C4: n | D4: =if(C4="Y",CONCATENATE(A4,,"_",$C$1), ) | E4: 8 | F4: n | G4: =if(F4="Y",CONCATENATE($A4,,"_",$F$1), ) | H4: 8.6 | I4: n | J4: =if(I4="Y",CONCATENATE($A4,,"_",$I$1), )
A5: P4_3 | B5: 8.6 | C5: n | D5: =if(C5="Y",CONCATENATE(A5,,"_",$C$1), ) | E5: 8.3 | F5: n | G5: =if(F5="Y",CONCATENATE($A5,,"_",$F$1), ) | H5: 8.5 | I5: n | J5: =if(I5="Y",CONCATENATE($A5,,"_",$I$1), )
A6: P4_4 | B6: 8.6 | C6: n | D6: =if(C6="Y",CONCATENATE(A6,,"_",$C$1), ) | E6: 8.3 | F6: n | G6: =if(F6="Y",CONCATENATE($A6,,"_",$F$1), ) | H6: 8.4 | I6: n | J6: =if(I6="Y",CONCATENATE($A6,,"_",$I$1), )
A7: P4_5 | B7: 7.9 | C7: n | D7: =if(C7="Y",CONCATENATE(A7,,"_",$C$1), ) | E7: 9.2 | F7: n | G7: =if(F7="Y",CONCATENATE($A7,,"_",$F$1), ) | H7: 9.5 | I7: n | J7: =if(I7="Y",CONCATENATE($A7,,"_",$I$1), )
B10: Date: | C10: 052421 | E10: Date: | F10: 052621 | H10: Date: | I10: 052821
A11: Pup Number | B11: Weight (g) | C11: Fecal (Y/N) | D11: Sample Name | E11: Weight (g) | F11: Fecal (Y/N) | G11: Sample Name | H11: Weight (g) | I11: Fecal (Y/N) | J11: Sample Name | K11: Remarks
A12: P6_1 | B12: 3.7 | C12: n | D12: =if(C12="Y",CONCATENATE(A12,,"_",$C$10), ) | E12: 6.5 | F12: n | G12: =if(F12="Y",CONCATENATE($A12,,"_",$F$10), ) | H12: 7.3 | I12: n | J12: =if(I12="Y",CONCATENATE($A12,,"_",$I$10), )
A13: P6_2 | B13: 5.6 | C13: n | D13: =if(C13="Y",CONCATENATE(A13,,"_",$C$10), ) | E13: 6.6 | F13: n | G13: =if(F13="Y",CONCATENATE($A13,,"_",$F$10), ) | H13: 7.8 | I13: n | J13: =if(I13="Y",CONCATENATE($A13,,"_",$I$10), )
A14: P6_3 | B14: 5.5 | C14: n | D14: =if(C14="Y",CONCATENATE(A14,,"_",$C$10), ) | E14: 6.8 | F14: n | G14: =if(F14="Y",CONCATENATE($A14,,"_",$F$10), ) | H14: 7.5 | I14: n | J14: =if(I14="Y",CONCATENATE($A14,,"_",$I$10), )
B17: Date: | C17: 022321 | E17: Date: | F17: 022421 | H17: Date: | I17: 022521
A18: Pup Number | B18: Weight (g) | C18: Fecal (Y/N) | D18: Sample Name | E18: Weight (g) | F18: Fecal (Y/N) | G18: Sample Name | H18: Weight (g) | I18: Fecal (Y/N) | J18: Sample Name | K18: Remarks
A19: P7_1 | B19: 9.3 | C19: n | D19: =if(C19="Y",CONCATENATE('Week 3'!A19,,"_",$C$17), ) | E19: 9.7 | F19: y | G19: =if(F19="Y",CONCATENATE('Week 3'!$A19,,"_",$F$17), ) -> #REF! | H19: 10 | I19: y | J19: =if(I19="Y",CONCATENATE('Week 3'!$A19,,"_",$I$17), ) -> #REF!
A20: P7_2 | B20: 7.4 | C20: n | D20: =if(C20="Y",CONCATENATE('Week 3'!A20,,"_",$C$17), ) | E20: 8.1 | F20: y | G20: =if(F20="Y",CONCATENATE('Week 3'!$A20,,"_",$F$17), ) -> #REF! | H20: 9.6 | I20: y | J20: =if(I20="Y",CONCATENATE('Week 3'!$A20,,"_",$I$17), ) -> #REF!
A21: P7_3 | B21: 8.2 | C21: n | D21: =if(C21="Y",CONCATENATE('Week 3'!A21,,"_",$C$17), ) | E21: 9 | F21: y | G21: =if(F21="Y",CONCATENATE('Week 3'!$A21,,"_",$F$17), ) -> #REF! | H21: 8.5 | I21: y | J21: =if(I21="Y",CONCATENATE('Week 3'!$A21,,"_",$I$17), ) -> #REF!
A22: P7_4 | B22: 8.8 | C22: n | D22: =if(C22="Y",CONCATENATE('Week 3'!A22,,"_",$C$17), ) | E22: 8.8 | F22: y | G22: =if(F22="Y",CONCATENATE('Week 3'!$A22,,"_",$F$17), ) -> #REF! | H22: 10.7 | I22: n | J22: =if(I22="Y",CONCATENATE('Week 3'!$A22,,"_",$I$17), )
B25: Date: | C25: 031621 | E25: Date: | F25: 031721 | H25: Date: | J25: no weights
A26: Pup Number | B26: Weight (g) | C26: Fecal (Y/N) | D26: Sample Name | E26: Weight (g) | F26: Fecal (Y/N) | G26: Sample Name | H26: Weight (g) | I26: Fecal (Y/N) | J26: Sample Name | K26: Remarks
A27: P7_2_1 | B27: 4.8 | C27: n | D27: =if(C27="Y",CONCATENATE(A27,,"_",$C$25), ) | E27: 5.9 | F27: n | G27: =if(F27="Y",CONCATENATE($A27,,"_",$F$25), ) | J27: =if(I27="Y",CONCATENATE($A27,,"_",$I$25), )
A28: P7_2_2 | B28: 6.2 | C28: n | D28: =if(C28="Y",CONCATENATE(A28,,"_",$C$25), ) | E28: 5.1 | F28: n | G28: =if(F28="Y",CONCATENATE($A28,,"_",$F$25), ) | J28: =if(I28="Y",CONCATENATE($A28,,"_",$I$25), )
A29: P7_2_3 | B29: 6 | C29: n | D29: =if(C29="Y",CONCATENATE(A29,,"_",$C$25), ) | E29: 6 | F29: n | G29: =if(F29="Y",CONCATENATE($A29,,"_",$F$25), ) | J29: =if(I29="Y",CONCATENATE($A29,,"_",$I$25), )
A30: P7_2_4 | B30: 6.2 | C30: n | D30: =if(C30="Y",CONCATENATE(A30,,"_",$C$25), ) | E30: 6.5 | F30: n | G30: =if(F30="Y",CONCATENATE($A30,,"_",$F$25), ) | J30: =if(I30="Y",CONCATENATE($A30,,"_",$I$25), )
A31: P7_2_5 | B31: 6.1 | C31: n | D31: =if(C31="Y",CONCATENATE(A31,,"_",$C$25), ) | E31: 6.1 | F31: n | G31: =if(F31="Y",CONCATENATE($A31,,"_",$F$25), ) | J31: =if(I31="Y",CONCATENATE($A31,,"_",$I$25), )
A32: P7_2_6 | B32: 6 | C32: n | D32: =if(C32="Y",CONCATENATE(A32,,"_",$C$25), ) | E32: 6.3 | F32: n | G32: =if(F32="Y",CONCATENATE($A32,,"_",$F$25), ) | J32: =if(I32="Y",CONCATENATE($A32,,"_",$I$25), )
A33: P7_2_7 | B33: 5 | C33: n | D33: =if(C33="Y",CONCATENATE(A33,,"_",$C$25), ) | E33: 5.2 | F33: n | G33: =if(F33="Y",CONCATENATE($A33,,"_",$F$25), ) | J33: =if(I33="Y",CONCATENATE($A33,,"_",$I$25), )
A34: P7_2_8 | B34: 6.5 | C34: n | D34: =if(C34="Y",CONCATENATE(A34,,"_",$C$25), ) | E34: 6.4 | F34: n | G34: =if(F34="Y",CONCATENATE($A34,,"_",$F$25), ) | J34: =if(I34="Y",CONCATENATE($A34,,"_",$I$25), )
B37: Date: | C37: 051821 | E37: Date: | F37: 051921 | H37: Date: | I37: 052021
A38: Pup Number | B38: Weight (g) | C38: Fecal (Y/N) | D38: Sample Name | E38: Weight (g) | F38: Fecal (Y/N) | G38: Sample Name | H38: Weight (g) | I38: Fecal (Y/N) | J38: Sample Name | K38: Remarks
A39: P7_3_1 | B39: 6.8 | C39: n | D39: =if(C39="Y",CONCATENATE(A39,,"_",$C$37), ) | E39: 5.9 | F39: n | G39: =if(F39="Y",CONCATENATE($A39,,"_",$F$37), ) | H39: 7.8 | I39: y | J39: =if(I39="Y",CONCATENATE($A39,,"_",$I$37), ) -> P7_3_1_052021
A40: P7_3_2 | B40: 6.4 | C40: n | D40: =if(C40="Y",CONCATENATE(A40,,"_",$C$37), ) | E40: 6.5 | F40: n | G40: =if(F40="Y",CONCATENATE($A40,,"_",$F$37), ) | H40: 7.4 | I40: y | J40: =if(I40="Y",CONCATENATE($A40,,"_",$I$37), ) -> P7_3_2_052021
A41: P7_3_3 | B41: 7.1 | C41: n | D41: =if(C41="Y",CONCATENATE(A41,,"_",$C$37), ) | E41: 6.4 | F41: n | G41: =if(F41="Y",CONCATENATE($A41,,"_",$F$37), ) | H41: 6.9 | I41: y | J41: =if(I41="Y",CONCATENATE($A41,,"_",$I$37), ) -> P7_3_3_052021
A42: P7_3_4 | B42: 6.9 | C42: n | D42: =if(C42="Y",CONCATENATE(A42,,"_",$C$37), ) | E42: 6.7 | F42: n | G42: =if(F42="Y",CONCATENATE($A42,,"_",$F$37), ) | H42: 7.3 | I42: y | J42: =if(I42="Y",CONCATENATE($A42,,"_",$I$37), ) -> P7_3_4_052021
A43: P7_3_5 | B43: 6.1 | C43: n | D43: =if(C43="Y",CONCATENATE(A43,,"_",$C$37), ) | E43: 6.8 | F43: n | G43: =if(F43="Y",CONCATENATE($A43,,"_",$F$37), ) | H43: 6.2 | I43: y | J43: =if(I43="Y",CONCATENATE($A43,,"_",$I$37), ) -> P7_3_5_052021
A44: P7_3_6 | B44: 6.2 | C44: n | D44: =if(C44="Y",CONCATENATE(A44,,"_",$C$37), ) | E44: 7.1 | F44: n | G44: =if(F44="Y",CONCATENATE($A44,,"_",$F$37), ) | H44: 7.2 | I44: y | J44: =if(I44="Y",CONCATENATE($A44,,"_",$I$37), ) -> P7_3_6_052021
B47: Date: | C47: 020221 | E47: Date: | F47: 020321 | H47: Date:
A48: Pup Number | B48: Weight (g) | C48: Fecal (Y/N) | D48: Sample Name | E48: Weight (g) | F48: Fecal (Y/N) | G48: Sample Name | H48: Weight (g) | I48: Fecal (Y/N) | J48: Sample Name | K48: Remarks
A49: P8_1 | B49: 7 | C49: n | D49: =if(C49="Y",CONCATENATE(A49,,"_",$C$47), ) | E49: 7.1 | F49: n | G49: =if(F49="Y",CONCATENATE($A49,,"_",$F$47), ) | J49: =if(I49="Y",CONCATENATE($A49,,"_",$I$47), ) | K49: no weights
A50: P8_2 | B50: 7.9 | C50: n | D50: =if(C50="Y",CONCATENATE(A50,,"_",$C$47), ) | E50: 7.9 | F50: n | G50: =if(F50="Y",CONCATENATE($A50,,"_",$F$47), ) | J50: =if(I50="Y",CONCATENATE($A50,,"_",$I$47), )
...

Sheet Week 3
B1: Date: | C1: 062221 | E1: Date: | F1: 062321 | H1: Date: | I1: 062421
A2: Pup Number | B2: Weight (g) | C2: Fecal (Y/N) | D2: Sample Name | E2: Weight (g) | F2: Fecal (Y/N) | G2: Sample Name | H2: Weight (g) | I2: Fecal (Y/N) | J2: Sample Name | K2: Remarks
A3: P4_1 | B3: 11.2 | C3: y | D3: =if(C3="Y",CONCATENATE(A3,,"_",$C$1), ) -> P4_1_062221 | E3: 10.9 | F3: n | G3: =if(F3="Y",CONCATENATE($A3,,"_",$F$1), ) | H3: 10.8 | I3: y | J3: =if(I3="Y",CONCATENATE($A3,,"_",$I$1), ) -> P4_1_062421
A4: P4_2 | B4: 11.1 | C4: y | D4: =if(C4="Y",CONCATENATE(A4,,"_",$C$1), ) -> P4_2_062221 | E4: 10.3 | F4: n | G4: =if(F4="Y",CONCATENATE($A4,,"_",$F$1), ) | H4: 9.8 | I4: y | J4: =if(I4="Y",CONCATENATE($A4,,"_",$I$1), ) -> P4_2_062421
A5: P4_3 | B5: 9.5 | C5: y | D5: =if(C5="Y",CONCATENATE(A5,,"_",$C$1), ) -> P4_3_062221 | E5: 10.8 | F5: n | G5: =if(F5="Y",CONCATENATE($A5,,"_",$F$1), ) | H5: 11.3 | I5: y | J5: =if(I5="Y",CONCATENATE($A5,,"_",$I$1), ) -> P4_3_062421
A6: P4_4 | B6: 11 | C6: y | D6: =if(C6="Y",CONCATENATE(A6,,"_",$C$1), ) -> P4_4_062221 | E6: 10.8 | F6: n | G6: =if(F6="Y",CONCATENATE($A6,,"_",$F$1), ) | H6: 10.7 | I6: y | J6: =if(I6="Y",CONCATENATE($A6,,"_",$I$1), ) -> P4_4_062421
A7: P4_5 | B7: 11.1 | C7: y | D7: =if(C7="Y",CONCATENATE(A7,,"_",$C$1), ) -> P4_5_062221 | E7: 9.4 | F7: n | G7: =if(F7="Y",CONCATENATE($A7,,"_",$F$1), ) | H7: 10.7 | I7: y | J7: =if(I7="Y",CONCATENATE($A7,,"_",$I$1), ) -> P4_5_062421
B10: Date: | C10: 060121 | E10: Date: | F10: 060221 | H10: Date: | I10: 060321
A11: Pup Number | B11: Weight (g) | C11: Fecal (Y/N) | D11: Sample Name | E11: Weight (g) | F11: Fecal (Y/N) | G11: Sample Name | H11: Weight (g) | I11: Fecal (Y/N) | J11: Sample Name | K11: Remarks
A12: P6_1 | B12: 8.1 | C12: y | D12: =if(C12="Y",CONCATENATE(A12,,"_",$C$10), ) -> P6_1_060121 | E12: 9 | F12: n | G12: =if(F12="Y",CONCATENATE($A12,,"_",$F$10), ) | H12: 8.4 | I12: n | J12: =if(I12="Y",CONCATENATE($A12,,"_",$I$10), )
A13: P6_2 | B13: 8.7 | C13: y | D13: =if(C13="Y",CONCATENATE(A13,,"_",$C$10), ) -> P6_2_060121 | E13: 7.9 | F13: n | G13: =if(F13="Y",CONCATENATE($A13,,"_",$F$10), ) | H13: 9.2 | I13: n | J13: =if(I13="Y",CONCATENATE($A13,,"_",$I$10), )
A14: P6_3 | B14: 8.2 | C14: y | D14: =if(C14="Y",CONCATENATE(A14,,"_",$C$10), ) -> P6_3_060121 | E14: 8.2 | F14: n | G14: =if(F14="Y",CONCATENATE($A14,,"_",$F$10), ) | H14: 7.9 | I14: n | J14: =if(I14="Y",CONCATENATE($A14,,"_",$I$10), )
B17: Date: | C17: 030221 | E17: Date: | F17: 030321 | H17: Date: | I17: 030421
A18: Pup Number | B18: Weight (g) | C18: Fecal (Y/N) | D18: Sample Name | E18: Weight (g) | F18: Fecal (Y/N) | G18: Sample Name | H18: Weight (g) | I18: Fecal (Y/N) | J18: Sample Name | K18: Remarks
A19: P7_1 | B19: 15.7 | C19: n | D19: =if(C19="Y",CONCATENATE('Week 4'!A19,,"_",$C$17), ) | E19: 14.4 | F19: y | G19: =if(F19="Y",CONCATENATE('Week 4'!$A19,,"_",$F$17), ) -> #REF! | H19: 18.8 | I19: y | J19: =if(I19="Y",CONCATENATE('Week 4'!$A19,,"_",$I$17), ) -> #REF!
A20: P7_2 | B20: 15.4 | C20: y | D20: =if(C20="Y",CONCATENATE('Week 4'!A20,,"_",$C$17), ) -> #REF! | E20: 15.4 | F20: y | G20: =if(F20="Y",CONCATENATE('Week 4'!$A20,,"_",$F$17), ) -> #REF! | H20: 18.4 | I20: y | J20: =if(I20="Y",CONCATENATE('Week 4'!$A20,,"_",$I$17), ) -> #REF!
A21: P7_3 | B21: 13.6 | C21: y | D21: =if(C21="Y",CONCATENATE('Week 4'!A21,,"_",$C$17), ) -> #REF! | E21: 15.8 | F21: y | G21: =if(F21="Y",CONCATENATE('Week 4'!$A21,,"_",$F$17), ) -> #REF! | H21: 16.1 | I21: y | J21: =if(I21="Y",CONCATENATE('Week 4'!$A21,,"_",$I$17), ) -> #REF!
A22: P7_4 | B22: 15.2 | C22: y | D22: =if(C22="Y",CONCATENATE('Week 4'!A22,,"_",$C$17), ) -> #REF! | E22: 16.2 | F22: y | G22: =if(F22="Y",CONCATENATE('Week 4'!$A22,,"_",$F$17), ) -> #REF! | H22: 17.5 | I22: y | J22: =if(I22="Y",CONCATENATE('Week 4'!$A22,,"_",$I$17), ) -> #REF!
B25: Date: | C25: 032321 | E25: Date: | F25: 032421 | H25: Date: | I25: 032521
A26: Pup Number | B26: Weight (g) | C26: Fecal (Y/N) | D26: Sample Name | E26: Weight (g) | F26: Fecal (Y/N) | G26: Sample Name | H26: Weight (g) | I26: Fecal (Y/N) | J26: Sample Name | K26: Remarks
A27: P7_2_1 | B27: 8.7 | C27: n | D27: =if(C27="Y",CONCATENATE(A27,,"_",$C$25), ) | E27: 8.9 | F27: n | G27: =if(F27="Y",CONCATENATE($A27,,"_",$F$25), ) | H27: 8.7 | I27: y | J27: =if(I27="Y",CONCATENATE($A27,,"_",$I$25), ) -> P7_2_1_032521
