Workbook

Sheet Title
A2: Additional File 2. MISTO video scoring workbook.
A3: This workbook contains the tools needed to score classroom videos for Scientific Teaching (ST) practices. Use the "Class Session" tabs to record ST practices from classroom videos. Survey responses will automatically populate on the "Survey Information" tab. Data to use in the MISTO general scoring template (Additional File 6) will automatically populate on the "MISTO data for score calculator" tab. The scoring template can be used to generate MISTO and MISTO subcategory scores.
A5: *note: some worksheets are protected to prevent errors and can be unlocked using the password "misto"

Sheet Class Session 1
A1: MISTO# | C1: video timestamp (0-4:59 increments): | D1: 0-5 | E1: 5-10 | F1: 10-15 | G1: 15-20 | H1: 20-25 | I1: 25-30 | J1: 30-35 | K1: 35-40 | L1: 40-45 | M1: 45-50 | N1: 50-55 | O1: 55-60 | P1: 60-65 | Q1: 65-70 | R1: > 70 | S1: Totals | T1: Comments | U1: Notes
C2: Learning Goals
A3: 2 | B3: indicate all that apply | C3: Learning goals: (A) not provided (B) each broad topic or chapter (C) each specific subtopic or chapter subsection (D) some or most individual activities or assignments (E) each individual activity or assignment | D3: > | E3: > | F3: > | G3: > | H3: > | I3: > | J3: > | K3: > | L3: > | M3: > | N3: > | O3: > | P3: > | Q3: > | R3: > | U3: Record each of these as A, B, C, D, E as described, type in all observed into totals box.
C4: Polling Questions
A5: 3 | B5: # times | C5: polling question asked (not a re-poll question) | S5: =SUM(D5:R5) -> 0 | U5: Count # times polling question asked; re-poll questions are not counted as an additional question.
A6: 1 | B6: # minutes | C6: spent on polling method (to nearest 0.25 min) | S6: =SUM(D6:R6) -> 0 | U6: Use a timer to time each event - include instructor introducing problem (specific to the polling question) students solving problem, and any overview of answer (round UP to nearest .25 min).
A7: 4&7 | B7: # times | C7: polling question discussed in groups | S7: =SUM(D7:R7) -> 0 | U7: Count # times students worked in groups of 2 or more; also include when audible discussion can be heard even if instructor does not verbally specify working in pairs/groups.
A8: 8 | B8: # minutes | C8: spent working in groups (to nearest 0.25 min) (polling method) | S8: =SUM(D8:R8) -> 0 | U8: Use a timer to time each event - include instructor introducing problem (specific to the polling question), students solving problem, and any overview of answer (round UP to nearest .25 min).
C9: Non-polling question/In-class activities | U9: Only include events in which students are actively engaged in doing something (not just passively listening or watching).
A10: 5 | B10: # times | C10: in-class activities used (includes non-polling questions, discussions & other activities) | S10: =SUM(D10:R10) -> 0 | U10: Count each event (include question/activity start and answers/follow-up on questions as one activity). If there are clear breaks (many minutes of another activity or lecture) between question and answer sessions then count as multiple events. In the case of somewhat continuous activity with unclear breaks between, use a change of slide or change of topic to delineate one activity from the next. DO NOT count exams or quizzes. DO count non-polling questions from the instructor (non-rhetorical) that require more than a one-word simple answer.
A11: 1 | B11: # minutes | C11: spent on in-class activities (to nearest 0.25 min) | S11: =SUM(D11:R11) -> 0 | U11: Use a timer to time each event - include instructor introducing activity/non-polling question, students completing the activity/question, and any overview of answer(s) (round UP to nearest .25 min).
A12: 9&7 | B12: # times | C12: students worked in groups on in-class activities | S12: =SUM(D12:R12) -> 0 | U12: Count # times students worked in groups of 2 or more during in-class activity (non-polling). Also include when audible discussion can be heard even if instructor does not verbally specify working in pairs/groups, follow individual activity guidelines specified in cell U10.
A13: 8 | B13: # minutes | C13: spent working in groups (to nearest 0.25 min) (in-class activity) | S13: =SUM(D13:R13) -> 0 | U13: Use a timer to time each event - include instructor introducing activity/non-polling question, students completing the activity/question, and any overview of answer(s) (round UP to nearest .25 min).
A14: 6 | B14: # times | C14: instructor gives feedback on in-class activity (beyond correct/incorrect) | S14: =SUM(D14:R14) -> 0 | U14: Count # times instructor provides additional information/feedback beyond correct/incorrect. Count once per activity. Include if instructor circulates among students during in-class activity and discusses activity/answers with individual or groups of students. DO NOT count feedback on polling questions.
C15: Other aspects of group work
A16: 11 | B16: # times | C16: students shared results of group work/discussion with whole class | S16: =SUM(D16:R16) -> 0 | U16: Count # times a student shared group work or group answer during whole-class discussions. Include polling methods AND other in-class/non-polling activities. ONLY use during group work, NOT individual work.
A17: 10 | B17: # times | C17: instructor used strategy to promote group participation (e.g. assign roles) | S17: =SUM(D17:R17) -> 0 | U17: Count # times participation strategy used during group work to hold individuals accountable for group effort. WOULD include random calling on an individual to answer for the group but would NOT include calling on the group and allowing anyone to answer for the group.
C18: Classroom dynamics
A19: 13 | B19: # times | C19: whole-class discussion occurred (non-group work) | S19: =SUM(D19:R19) -> 0 | U19: Count # times discussion occurred with the WHOLE class, without the group work component. Whole-class discussion = students are engaged in whole class discussion by offering explanations, opinion, judgment, etc. to whole class, often facilitated by instructor (Smith et al., 2013).
A20: 13 | B20: # times | C20: students EXPLICTLY encouraged to respond to classmates' ideas during whole-class discussions (groups AND non-group) | S20: =SUM(D20:R20) -> 0 | U20: Count # times one student responded to another student's idea or answer during whole-class discussion with or without group work component. Also includes if instructor explicitly encourages students to do so then waits enough time (>10 sec) to permit responses (even if no students respond). Only count one time per topic: if multiple students are asked to comment on the original idea, it is one group discussion.
A21: 13 | B21: # times | C21: students were IMPLICITLY encouraged to respond to classmates' ideas during whole-class discussions (groups AND non-group) using NON_VERBAL cues | S21: =SUM(D21:R21) -> 0 | U21: Count # times instructor used NON-VERBAL cues (e.g., wait time) during whole-class discussions to implicitly encourage students to respond to another student AND a student responded OR the instructor waited enough time (>10 sec) to permit responses. Includes both with and without group work. Only count one time per topic: if multiple students are asked to comment on the original idea, it is one group discussion.
A22: 13 | B22: # times | C22: students EXPLICITLY DIScouraged from responding to classmates' ideas during whole-class discussions (groups AND non-group) | S22: =SUM(D22:R22) -> 0 | U22: Count # times instructor made explicit request for students NOT to respond to others during whole-class discussions. Includes both with and without group work component.
A23: 13 | B23: # times | C23: students IMPLICITLY DIScouraged to respond to classmates' ideas during whole-class discussions (groups AND non-group) | S23: =SUM(D23:R23) -> 0 | U23: Count # times instructor made an implicit indication for students NOT to respond to others during whole-class discussions (including non-verbal cues). Includes both with and without group work component.
A24: 16 | B24: # times | C24: students state interests or ask non-clarification questions | S24: =SUM(D24:R24) -> 0 | U24: Count # times students asked original questions (not just to clarify course content) or talked about their own interests. Does NOT include if student B asks a direct follow-up to student A's original question. DOES include if student B asks a different original question or tangentially related question immediately after student A. Also includes if instructor refers question to an out-of-class forum accessible to all students (e.g., discussion board) to respond to question AFTER listening to student question.
A25: 16 | B25: # times | C25: students EXPLICITLY DIScouraged from stating interests or asking non-clarification questions | S25: =SUM(D25:R25) -> 0 | U25: Count # times instructor made explicit request for students NOT to state interests or ask original (non-clarification) questions.
A26: 16 | B26: # times | C26: students IMPLICITLY DIScouraged from stating interests or asking non-clarification questions | S26: =SUM(D26:R26) -> 0 | U26: Count # times instructor made implicit indication for students NOT to state interests or ask original (non-clarification) questions (includes non-verbal cues).
A27: 12 | B27: # times | C27: students asked to comment on each other's work (assignments, activities, or projects) | S27: =SUM(D27:R27) -> 0 | U27: Count # times students engaged in peer review of assignments.
C28: Instructor Awareness
A29: 17 | B29: # times | C29: it was obvious or seemed like students did not understand course content or held misconceptions | S29: =SUM(D29:R29) -> 0 | U29: Count # times it was obvious or seemed like a substantial portion (<15%) of students did not understand concepts or had misconceptions. Includes verbal and non-verbal indications; also includes if instructor solicits clarification questions from students AND either multiple students respond with confusion OR instructor waits for over 10 seconds for responses.
A30: 17 | B30: # times | C30: instructor was aware that students did not understand course content or held misconceptions | S30: =SUM(D30:R30) -> 0 | U30: Count # times instructor obviously recognized that a substantial portion (<15%) of students did not understand concepts or had misconceptions. Includes verbal and non-verbal indications; also includes if instructor solicits clarification questions from students AND either multiple students respond with confusion OR instructor waits for over 10 seconds for responses. Should coincide with previous item (students did not understand).
A31: 18 | B31: # times | C31: instructor provided follow-up on misunderstood concepts | S31: =SUM(D31:R31) -> 0 | U31: Count # times instructor took action to address lack of understanding or misconception (e.g. new explanation, exam study suggestions, etc). Should coincide with previous item (awareness of misunderstanding).
C32: Inclusivity
A33: 15 | B33: # times | C33: ideas/contributions of diverse groups were explicitly excluded from discussion | S33: =SUM(D33:R33) -> 0 | U33: Count # times ideas/contributions of researchers, patients, populations, or other group were mentioned but diverse groups were explicitly excluded from discussion or any exclusive language occurred (e.g. "There are no women geneticists").
A34: 15 | B34: # times | C34: ideas/contributions of unspecified or majority individuals/groups were discussed | S34: =SUM(D34:R34) -> 0 | U34: Count # times ideas/contributions of researchers, patients, populations or other group were discussed WITHOUT mentioning demographic traits OR majority group (white/males) was discussed. Does NOT include if author/researcher names are listed on a slide without verbal mention of names (e.g. "Smith and Jones showed this result"). DOES include verbal mention of author/researchers OR a picture of authors/researchers is shown.
A35: 15 | B35: # times | C35: ideas/contributions of diverse individuals/groups discussed (includes pictures if indicate diverse person(s)) | S35: =SUM(D35:R35) -> 0 | U35: Count # times idea/contribution discussed was attributed to diverse person/group (non-majority ethnicity, nationality, sex, gender, age, ETC). DOES include if picture allows identification of diverse person/group (e.g., photo of Henrietta Lacks) OR if name AND non-majority status is mentioned "a female/woman researcher..."). DOES NOT include if author/researcher names are on slide without either verbal mention of non-majority status or picture of authors.
A36: 14 | B36: # times | C36: examples/analogies of diverse groups were explicitly excluded from discussion | S36: =SUM(D36:R36) -> 0 | U36: Count # times that examples/analogies from diverse groups were explicitly excluded from discussion or any exclusive language occurred (e.g., "we're not going to focus on that population").
A37: 14 | B37: # times | C37: examples/analogies used represented unspecified or majority individuals/groups | S37: =SUM(D37:R37) -> 0 | U37: Count # times example/analogy highlights majority group (white/males) OR demographic identification not indicated.
A38: 14 | B38: # times | C38: examples/analogies used represented diverse individuals/groups | S38: =SUM(D38:R38) -> 0 | U38: Count # times example/analogy highlights diverse person/group (other ethnicity, nationality, sex, gender, age, ETC). Include if picture allows identification of diverse person/group.
C39: Real-life context
A40: 29 | B40: # times | C40: real-life/everyday examples discussed | S40: =SUM(D40:R40) -> 0 | U40: Count # times everyday human example or real-life example used. Must be specific, does not include "cell respiration in human mitochondria," but would include, "when you eat an apple, your body does this…" Main theme - scientific concepts are taken out of the standard abstract context and presented as reality/tangible examples. Includes uses of popularly familiar examples (e.g., dog breeds, deaf/blind individuals, etc.) unless whole course is devoted to that example. If multiple examples used to explain one concept, only count as one real-life example.
A41: 30 | B41: # times | C41: historical context of scientific contribution discussed | S41: =SUM(D41:R41) -> 0 | U41: Count # times history behind what made a scientific discovery so impactful was explained (e.g., everyone believed cells spontaneously appeared before Pasteur's swan-necked flask experiment).
C42: Visuals | U42: Only include events in which students are actively engaged in doing something (not just passively listening or watching).
A43: 26 | B43: # times | C43: made OR interpreted models of scientific process | S43: =SUM(D43:R43) -> 0 | U43: Count # times students were specifically asked to create or interpret a model (e.g., pathways, diagram, schematic, concept map, flow chart, tables, box & arrow diagrams, etc.) to explain a scientific process.
A44: 31 | B44: # times | C44: interpret/represent concepts in non-written format | S44: =SUM(D44:R44) -> 0 | U44: Count # times students were specifically asked to represent or interpret concepts in ANY non-written format (e.g., picture, diagram, videos, simulations, role-plays, graphs, mathematical models, etc.).
C45: Scientific communication | U45: Only include events in which students are actively engaged in doing something (not just passively listening or watching).
A46: 28 | B46: # times | C46: communicate through oral/written assignments | S46: =SUM(D46:R46) -> 0 | U46: Count # times students gave formal presentations or it was obvious they had to complete a paper.
A47: 27 | B47: # times | C47: interpret or critique literature or scientific media | S47: =SUM(D47:R47) -> 0 | U47: Count # times students worked with literature OR science media by interpreting or critiquing articles. Include use of primary literature, popular media (e.g., NY Times science section), and internet articles (e.g., trendy blog claiming scientific analysis/results/information).
C48: Experimental Design | U48: Only include events in which students are actively engaged in doing something (not just passively listening or watching).
A49: 21 | B49: # times | C49: design experiments | S49: =SUM(D49:R49) -> 0 | U49: Count # times students created an experiment or portions of an experiment.
A50: 23 | B50: # times | C50: made graphs or tables | S50: =SUM(D50:R50) -> 0 | U50: Count # times students created graphs or tables to show data. Does NOT include Punnett squares.
A51: 19 | B51: # times | C51: identify or formulate hypothesis or make prediction about results | S51: =SUM(D51:R51) -> 0 | U51: Count # times students made predictions, made an original (formalized) hypothesis, or identified hypothesis of an example study. Includes predicting results of demos or experiments being discussed in class.
A52: 20 | B52: # times | C52: critiqued hypotheses or experimental designs | S52: =SUM(D52:R52) -> 0 | U52: Count # times students critically evaluated hypotheses or other aspects of an experimental design/methods (e.g., is the hypothesis testable, does the design adequately control for other variables, does the experiment address the research question, etc.).
C53: Data analysis | U53: Only include events in which students are actively engaged in doing something (not just passively listening or watching).
A54: 22 | B54: # times | C54: summarize/interpret/analyze data with math/computation | S54: =SUM(D54:R54) -> 0 | U54: Count # times students use math (or equations) to summarize, interpret, or analyze data.
A55: 24 | B55: # times | C55: analyzed/interpreted data in graphs or tables | S55: =SUM(D55:R55) -> 0 | U55: Count # times students interpreted made conclusions from graphs and tables. INCLUDE diagrams/figures if show tables or graphical output (not pictures/cartoons).
A56: 25 | B56: # times | C56: used data to make decisions/defend conclusions | S56: =SUM(D56:R56) -> 0 | U56: Count # times students made decisions using data or defended experimental conclusions using data. Include inferences about meaning of data.
C57: Cognition | U57: Only include events in which students are actively engaged in doing something (not just passively listening or watching).
A58: 32 | B58: # times | C58: other STEM discipline used | S58: =SUM(D58:R58) -> 0 | U58: Count # times students explicitly used knowledge/skills from other STEM fields (e.g., statistical modeling in biology course). Count only once if whole lesson is interdisciplinary (e.g., chemistry of cellular molecules in a Biology course).
A59: 33 | B59: # times | C59: higher level processes (apply/analyze/incorporate/evaluate) used | S59: =SUM(D59:R59) -> 0 | U59: Count # times students asked to use higher order cognitive processes.
A60: 34 | B60: # times | C60: opened-ended exercise or case study | S60: =SUM(D60:R60) -> 0 | U60: Count # times students open-ended exercise/case study used (multiple correct answers possible).
C61: Reflection | U61: Only include events in which students are actively engaged in doing something (not just passively listening or watching).
A62: 35 | B62: # times | C62: students asked to reflect: effective study/learning strategies | S62: =SUM(D62:R62) -> 0 | U62: Count # times students specifically asked to consider their approaches to learning/studying.
A63: 36 | B63: # times | C63: students asked to reflect: problem solving strategies | S63: =SUM(D63:R63) -> 0 | U63: Count # times students specifically asked to consider their problem solving strategies.
C64: Activity totals (automated)
A65: 1 | B65: # minutes | C65: students were answering questions, solving problems, doing activities (totaled automatically) | D65: =SUM(D6+D11) -> 0 | E65: =SUM(E6+E11) -> 0 | F65: =SUM(F6+F11) -> 0 | G65: =SUM(G6+G11) -> 0 | H65: =SUM(H6+H11) -> 0 | I65: =SUM(I6+I11) -> 0 | J65: =SUM(J6+J11) -> 0 | K65: =SUM(K6+K11) -> 0 | ... R65: =SUM(R6+R11) -> 0 | S65: =SUM(D65:R65) -> 0 | U65: automatically totals each time students worked in groups =(row 6 + row 11)
A66: 7 | B66: # times | C66: students worked in groups (totaled automatically) | D66: =SUM(D7+D12) -> 0 | E66: =SUM(E7+E12) -> 0 | F66: =SUM(F7+F12) -> 0 | G66: =SUM(G7+G12) -> 0 | H66: =SUM(H7+H12) -> 0 | I66: =SUM(I7+I12) -> 0 | J66: =SUM(J7+J12) -> 0 | K66: =SUM(K7+K12) -> 0 | ... R66: =SUM(R7+R12) -> 0 | S66: =SUM(D66:R66) -> 0 | U66: automatically totals each time students worked in groups =(row7 + row 12)
A67: 8 | B67: # minutes | C67: students worked in groups (totaled automatically) | D67: =SUM(D8+D13) -> 0 | E67: =SUM(E8+E13) -> 0 | F67: =SUM(F8+F13) -> 0 | G67: =SUM(G8+G13) -> 0 | H67: =SUM(H8+H13) -> 0 | I67: =SUM(I8+I13) -> 0 | J67: =SUM(J8+J13) -> 0 | K67: =SUM(K8+K13) -> 0 | ... R67: =SUM(R8+R13) -> 0 | S67: =SUM(D67:R67) -> 0 | U67: automatically totals time students spent working in groups =(row8 + row13)
A68: 13 | B68: # times | C68: whole-class discussion occurred (totaled automatically) | D68: =SUM(D16+D19) -> 0 | E68: =SUM(E16+E19) -> 0 | F68: =SUM(F16+F19) -> 0 | G68: =SUM(G16+G19) -> 0 | H68: =SUM(H16+H19) -> 0 | I68: =SUM(I16+I19) -> 0 | J68: =SUM(J16+J19) -> 0 | K68: =SUM(K16+K19) -> 0 | ... R68: =SUM(R16+R19) -> 0 | S68: =SUM(D68:R68) -> 0 | U68: automatically totals each time whole class discussion occurred =(row16 + row 19)

Sheet Class Session 2
A1: MISTO# | C1: video timestamp (0-4:59 increments): | D1: 0-5 | E1: 5-10 | F1: 10-15 | G1: 15-20 | H1: 20-25 | I1: 25-30 | J1: 30-35 | K1: 35-40 | L1: 40-45 | M1: 45-50 | N1: 50-55 | O1: 55-60 | P1: 60-65 | Q1: 65-70 | R1: > 70 | S1: Totals | T1: Comments | U1: Notes
C2: Learning Goals
A3: 2 | B3: indicate all that apply | C3: Learning goals: (A) not provided (B) each broad topic or chapter (C) each specific subtopic or chapter subsection (D) some or most individual activities or assignments (E) each individual activity or assignment | D3: > | E3: > | F3: > | G3: > | H3: > | I3: > | J3: > | K3: > | L3: > | M3: > | N3: > | O3: > | P3: > | Q3: > | R3: > | U3: Record each of these as A, B, C, D, E as described, type in all observed into totals box.
C4: Polling Questions
A5: 3 | B5: # times | C5: polling question asked (not a re-poll question) | S5: =SUM(D5:R5) -> 0 | U5: Count # times polling question asked; re-poll questions are not counted as an additional question.
A6: 1 | B6: # minutes | C6: spent on polling method (to nearest 0.25 min) | S6: =SUM(D6:R6) -> 0 | U6: Use a timer to time each event - include instructor introducing problem (specific to the polling question) students solving problem, and any overview of answer (round UP to nearest .25 min).
A7: 4&7 | B7: # times | C7: polling question discussed in groups | S7: =SUM(D7:R7) -> 0 | U7: Count # times students worked in groups of 2 or more; also include when audible discussion can be heard even if instructor does not verbally specify working in pairs/groups.
A8: 8 | B8: # minutes | C8: spent working in groups (to nearest 0.25 min) (polling method) | S8: =SUM(D8:R8) -> 0 | U8: Use a timer to time each event - include instructor introducing problem (specific to the polling question), students solving problem, and any overview of answer (round UP to nearest .25 min).
C9: Non-polling question/In-class activities | U9: Only include events in which students are actively engaged in doing something (not just passively listening or watching).
A10: 5 | B10: # times | C10: in-class activities used (includes non-polling questions, discussions & other activities) | S10: =SUM(D10:R10) -> 0 | U10: Count each event (include question/activity start and answers/follow-up on questions as one activity). If there are clear breaks (many minutes of another activity or lecture) between question and answer sessions then count as multiple events. In the case of somewhat continuous activity with unclear breaks between, use a change of slide or change of topic to delineate one activity from the next. DO NOT count exams or quizzes. DO count non-polling questions from the instructor (non-rhetorical) that require more than a one-word simple answer.
A11: 1 | B11: # minutes | C11: spent on in-class activities (to nearest 0.25 min) | S11: =SUM(D11:R11) -> 0 | U11: Use a timer to time each event - include instructor introducing activity/non-polling question, students completing the activity/question, and any overview of answer(s) (round UP to nearest .25 min).
A12: 9&7 | B12: # times | C12: students worked in groups on in-class activities | S12: =SUM(D12:R12) -> 0 | U12: Count # times students worked in groups of 2 or more during in-class activity (non-polling). Also include when audible discussion can be heard even if instructor does not verbally specify working in pairs/groups, follow individual activity guidelines specified in cell U10.
A13: 8 | B13: # minutes | C13: spent working in groups (to nearest 0.25 min) (in-class activity) | S13: =SUM(D13:R13) -> 0 | U13: Use a timer to time each event - include instructor introducing activity/non-polling question, students completing the activity/question, and any overview of answer(s) (round UP to nearest .25 min).
A14: 6 | B14: # times | C14: instructor gives feedback on in-class activity (beyond correct/incorrect) | S14: =SUM(D14:R14) -> 0 | U14: Count # times instructor provides additional information/feedback beyond correct/incorrect. Count once per activity. Include if instructor circulates among students during in-class activity and discusses activity/answers with individual or groups of students. DO NOT count feedback on polling questions.
C15: Other aspects of group work
A16: 11 | B16: # times | C16: students shared results of group work/discussion with whole class | S16: =SUM(D16:R16) -> 0 | U16: Count # times a student shared group work or group answer during whole-class discussions. Include polling methods AND other in-class/non-polling activities. ONLY use during group work, NOT individual work.
A17: 10 | B17: # times | C17: instructor used strategy to promote group participation (e.g. assign roles) | S17: =SUM(D17:R17) -> 0 | U17: Count # times participation strategy used during group work to hold individuals accountable for group effort. WOULD include random calling on an individual to answer for the group but would NOT include calling on the group and allowing anyone to answer for the group.
C18: Classroom dynamics
A19: 13 | B19: # times | C19: whole-class discussion occurred (non-group work) | S19: =SUM(D19:R19) -> 0 | U19: Count # times discussion occurred with the WHOLE class, without the group work component. Whole-class discussion = students are engaged in whole class discussion by offering explanations, opinion, judgment, etc. to whole class, often facilitated by instructor (Smith et al., 2013).
A20: 13 | B20: # times | C20: students EXPLICTLY encouraged to respond to classmates' ideas during whole-class discussions (groups AND non-group) | S20: =SUM(D20:R20) -> 0 | U20: Count # times one student responded to another student's idea or answer during whole-class discussion with or without group work component. Also includes if instructor explicitly encourages students to do so then waits enough time (>10 sec) to permit responses (even if no students respond). Only count one time per topic: if multiple students are asked to comment on the original idea, it is one group discussion.
A21: 13 | B21: # times | C21: students were IMPLICITLY encouraged to respond to classmates' ideas during whole-class discussions (groups AND non-group) using NON_VERBAL cues | S21: =SUM(D21:R21) -> 0 | U21: Count # times instructor used NON-VERBAL cues (e.g., wait time) during whole-class discussions to implicitly encourage students to respond to another student AND a student responded OR the instructor waited enough time (>10 sec) to permit responses. Includes both with and without group work. Only count one time per topic: if multiple students are asked to comment on the original idea, it is one group discussion.
A22: 13 | B22: # times | C22: students EXPLICITLY DIScouraged from responding to classmates' ideas during whole-class discussions (groups AND non-group) | S22: =SUM(D22:R22) -> 0 | U22: Count # times instructor made explicit request for students NOT to respond to others during whole-class discussions. Includes both with and without group work component.
A23: 13 | B23: # times | C23: students IMPLICITLY DIScouraged to respond to classmates' ideas during whole-class discussions (groups AND non-group) | S23: =SUM(D23:R23) -> 0 | U23: Count # times instructor made an implicit indication for students NOT to respond to others during whole-class discussions (including non-verbal cues). Includes both with and without group work component.
A24: 16 | B24: # times | C24: students state interests or ask non-clarification questions | S24: =SUM(D24:R24) -> 0 | U24: Count # times students asked original questions (not just to clarify course content) or talked about their own interests. Does NOT include if student B asks a direct follow-up to student A's original question. DOES include if student B asks a different original question or tangentially related question immediately after student A. Also includes if instructor refers question to an out-of-class forum accessible to all students (e.g., discussion board) to respond to question AFTER listening to student question.
A25: 16 | B25: # times | C25: students EXPLICITLY DIScouraged from stating interests or asking non-clarification questions | S25: =SUM(D25:R25) -> 0 | U25: Count # times instructor made explicit request for students NOT to state interests or ask original (non-clarification) questions.
A26: 16 | B26: # times | C26: students IMPLICITLY DIScouraged from stating interests or asking non-clarification questions | S26: =SUM(D26:R26) -> 0 | U26: Count # times instructor made implicit indication for students NOT to state interests or ask original (non-clarification) questions (includes non-verbal cues).
A27: 12 | B27: # times | C27: students asked to comment on each other's work (assignments, activities, or projects) | S27: =SUM(D27:R27) -> 0 | U27: Count # times students engaged in peer review of assignments.
C28: Instructor Awareness
A29: 17 | B29: # times | C29: it was obvious or seemed like students did not understand course content or held misconceptions | S29: =SUM(D29:R29) -> 0 | U29: Count # times it was obvious or seemed like a substantial portion (<15%) of students did not understand concepts or had misconceptions. Includes verbal and non-verbal indications; also includes if instructor solicits clarification questions from students AND either multiple students respond with confusion OR instructor waits for over 10 seconds for responses.
A30: 17 | B30: # times | C30: instructor was aware that students did not understand course content or held misconceptions | S30: =SUM(D30:R30) -> 0 | U30: Count # times instructor obviously recognized that a substantial portion (<15%) of students did not understand concepts or had misconceptions. Includes verbal and non-verbal indications; also includes if instructor solicits clarification questions from students AND either multiple students respond with confusion OR instructor waits for over 10 seconds for responses. Should coincide with previous item (students did not understand).
A31: 18 | B31: # times | C31: instructor provided follow-up on misunderstood concepts | S31: =SUM(D31:R31) -> 0 | U31: Count # times instructor took action to address lack of understanding or misconception (e.g. new explanation, exam study suggestions, etc). Should coincide with previous item (awareness of misunderstanding).
C32: Inclusivity
A33: 15 | B33: # times | C33: ideas/contributions of diverse groups were explicitly excluded from discussion | S33: =SUM(D33:R33) -> 0 | U33: Count # times ideas/contributions of researchers, patients, populations, or other group were mentioned but diverse groups were explicitly excluded from discussion or any exclusive language occurred (e.g. "There are no women geneticists").
A34: 15 | B34: # times | C34: ideas/contributions of unspecified or majority individuals/groups were discussed | S34: =SUM(D34:R34) -> 0 | U34: Count # times ideas/contributions of researchers, patients, populations or other group were discussed WITHOUT mentioning demographic traits OR majority group (white/males) was discussed. Does NOT include if author/researcher names are listed on a slide without verbal mention of names (e.g. "Smith and Jones showed this result"). DOES include verbal mention of author/researchers OR a picture of authors/researchers is shown.
A35: 15 | B35: # times | C35: ideas/contributions of diverse individuals/groups discussed (includes pictures if indicate diverse person(s)) | S35: =SUM(D35:R35) -> 0 | U35: Count # times idea/contribution discussed was attributed to diverse person/group (non-majority ethnicity, nationality, sex, gender, age, ETC). DOES include if picture allows identification of diverse person/group (e.g., photo of Henrietta Lacks) OR if name AND non-majority status is mentioned "a female/woman researcher..."). DOES NOT include if author/researcher names are on slide without either verbal mention of non-majority status or picture of authors.
A36: 14 | B36: # times | C36: examples/analogies of diverse groups were explicitly excluded from discussion | S36: =SUM(D36:R36) -> 0 | U36: Count # times that examples/analogies from diverse groups were explicitly excluded from discussion or any exclusive language occurred (e.g., "we're not going to focus on that population").
A37: 14 | B37: # times | C37: examples/analogies used represented unspecified or majority individuals/groups | S37: =SUM(D37:R37) -> 0 | U37: Count # times example/analogy highlights majority group (white/males) OR demographic identification not indicated.
A38: 14 | B38: # times | C38: examples/analogies used represented diverse individuals/groups | S38: =SUM(D38:R38) -> 0 | U38: Count # times example/analogy highlights diverse person/group (other ethnicity, nationality, sex, gender, age, ETC). Include if picture allows identification of diverse person/group.
C39: Real-life context
A40: 29 | B40: # times | C40: real-life/everyday examples discussed | S40: =SUM(D40:R40) -> 0 | U40: Count # times everyday human example or real-life example used. Must be specific, does not include "cell respiration in human mitochondria," but would include, "when you eat an apple, your body does this…" Main theme - scientific concepts are taken out of the standard abstract context and presented as reality/tangible examples. Includes uses of popularly familiar examples (e.g., dog breeds, deaf/blind individuals, etc.) unless whole course is devoted to that example. If multiple examples used to explain one concept, only count as one real-life example.
A41: 30 | B41: # times | C41: historical context of scientific contribution discussed | S41: =SUM(D41:R41) -> 0 | U41: Count # times history behind what made a scientific discovery so impactful was explained (e.g., everyone believed cells spontaneously appeared before Pasteur's swan-necked flask experiment).
C42: Visuals | U42: Only include events in which students are actively engaged in doing something (not just passively listening or watching).
A43: 26 | B43: # times | C43: made OR interpreted models of scientific process | S43: =SUM(D43:R43) -> 0 | U43: Count # times students were specifically asked to create or interpret a model (e.g., pathways, diagram, schematic, concept map, flow chart, tables, box & arrow diagrams, etc.) to explain a scientific process.
A44: 31 | B44: # times | C44: interpret/represent concepts in non-written format | S44: =SUM(D44:R44) -> 0 | U44: Count # times students were specifically asked to represent or interpret concepts in ANY non-written format (e.g., picture, diagram, videos, simulations, role-plays, graphs, mathematical models, etc.).
C45: Scientific communication | U45: Only include events in which students are actively engaged in doing something (not just passively listening or watching).
A46: 28 | B46: # times | C46: communicate through oral/written assignments | S46: =SUM(D46:R46) -> 0 | U46: Count # times students gave formal presentations or it was obvious they had to complete a paper.
A47: 27 | B47: # times | C47: interpret or critique literature or scientific media | S47: =SUM(D47:R47) -> 0 | U47: Count # times students worked with literature OR science media by interpreting or critiquing articles. Include use of primary literature, popular media (e.g., NY Times science section), and internet articles (e.g., trendy blog claiming scientific analysis/results/information).
C48: Experimental Design | U48: Only include events in which students are actively engaged in doing something (not just passively listening or watching).
A49: 21 | B49: # times | C49: design experiments | S49: =SUM(D49:R49) -> 0 | U49: Count # times students created an experiment or portions of an experiment.
A50: 23 | B50: # times | C50: made graphs or tables | S50: =SUM(D50:R50) -> 0 | U50: Count # times students created graphs or tables to show data. Does NOT include Punnett squares.
A51: 19 | B51: # times | C51: identify or formulate hypothesis or make prediction about results | S51: =SUM(D51:R51) -> 0 | U51: Count # times students made predictions, made an original (formalized) hypothesis, or identified hypothesis of an example study. Includes predicting results of demos or experiments being discussed in class.
A52: 20 | B52: # times | C52: critiqued hypotheses or experimental designs | S52: =SUM(D52:R52) -> 0 | U52: Count # times students critically evaluated hypotheses or other aspects of an experimental design/methods (e.g., is the hypothesis testable, does the design adequately control for other variables, does the experiment address the research question, etc.).
C53: Data analysis | U53: Only include events in which students are actively engaged in doing something (not just passively listening or watching).
A54: 22 | B54: # times | C54: summarize/interpret/analyze data with math/computation | S54: =SUM(D54:R54) -> 0 | U54: Count # times students use math (or equations) to summarize, interpret, or analyze data.
A55: 24 | B55: # times | C55: analyzed/interpreted data in graphs or tables | S55: =SUM(D55:R55) -> 0 | U55: Count # times students interpreted made conclusions from graphs and tables. INCLUDE diagrams/figures if show tables or graphical output (not pictures/cartoons).
A56: 25 | B56: # times | C56: used data to make decisions/defend conclusions | S56: =SUM(D56:R56) -> 0 | U56: Count # times students made decisions using data or defended experimental conclusions using data. Include inferences about meaning of data.
C57: Cognition | U57: Only include events in which students are actively engaged in doing something (not just passively listening or watching).
A58: 32 | B58: # times | C58: other STEM discipline used | S58: =SUM(D58:R58) -> 0 | U58: Count # times students explicitly used knowledge/skills from other STEM fields (e.g., statistical modeling in biology course). Count only once if whole lesson is interdisciplinary (e.g., chemistry of cellular molecules in a Biology course).
A59: 33 | B59: # times | C59: higher level processes (apply/analyze/incorporate/evaluate) used | S59: =SUM(D59:R59) -> 0 | U59: Count # times students asked to use higher order cognitive processes.
A60: 34 | B60: # times | C60: opened-ended exercise or case study | S60: =SUM(D60:R60) -> 0 | U60: Count # times students open-ended exercise/case study used (multiple correct answers possible).
C61: Reflection | U61: Only include events in which students are actively engaged in doing something (not just passively listening or watching).
A62: 35 | B62: # times | C62: students asked to reflect: effective study/learning strategies | S62: =SUM(D62:R62) -> 0 | U62: Count # times students specifically asked to consider their approaches to learning/studying.
A63: 36 | B63: # times | C63: students asked to reflect: problem solving strategies | S63: =SUM(D63:R63) -> 0 | U63: Count # times students specifically asked to consider their problem solving strategies.
C64: Activity totals (automated)
A65: 1 | B65: # minutes | C65: students were answering questions, solving problems, doing activities (totaled automatically) | D65: =SUM(D6+D11) -> 0 | E65: =SUM(E6+E11) -> 0 | F65: =SUM(F6+F11) -> 0 | G65: =SUM(G6+G11) -> 0 | H65: =SUM(H6+H11) -> 0 | I65: =SUM(I6+I11) -> 0 | J65: =SUM(J6+J11) -> 0 | K65: =SUM(K6+K11) -> 0 | ... R65: =SUM(R6+R11) -> 0 | S65: =SUM(D65:R65) -> 0 | U65: automatically totals each time students worked in groups =(row 6 + row 11)
A66: 7 | B66: # times | C66: students worked in groups (totaled automatically) | D66: =SUM(D7+D12) -> 0 | E66: =SUM(E7+E12) -> 0 | F66: =SUM(F7+F12) -> 0 | G66: =SUM(G7+G12) -> 0 | H66: =SUM(H7+H12) -> 0 | I66: =SUM(I7+I12) -> 0 | J66: =SUM(J7+J12) -> 0 | K66: =SUM(K7+K12) -> 0 | ... R66: =SUM(R7+R12) -> 0 | S66: =SUM(D66:R66) -> 0 | U66: automatically totals each time students worked in groups =(row7 + row 12)
A67: 8 | B67: # minutes | C67: students worked in groups (totaled automatically) | D67: =SUM(D8+D13) -> 0 | E67: =SUM(E8+E13) -> 0 | F67: =SUM(F8+F13) -> 0 | G67: =SUM(G8+G13) -> 0 | H67: =SUM(H8+H13) -> 0 | I67: =SUM(I8+I13) -> 0 | J67: =SUM(J8+J13) -> 0 | K67: =SUM(K8+K13) -> 0 | ... R67: =SUM(R8+R13) -> 0 | S67: =SUM(D67:R67) -> 0 | U67: automatically totals time students spent working in groups =(row8 + row13)
A68: 13 | B68: # times | C68: whole-class discussion occurred (totaled automatically) | D68: =SUM(D16+D19) -> 0 | E68: =SUM(E16+E19) -> 0 | F68: =SUM(F16+F19) -> 0 | G68: =SUM(G16+G19) -> 0 | H68: =SUM(H16+H19) -> 0 | I68: =SUM(I16+I19) -> 0 | J68: =SUM(J16+J19) -> 0 | K68: =SUM(K16+K19) -> 0 | ... R68: =SUM(R16+R19) -> 0 | S68: =SUM(D68:R68) -> 0 | U68: automatically totals each time whole class discussion occurred =(row16 + row 19)

Sheet Class Session 3
A1: MISTO# | C1: video timestamp (0-4:59 increments): | D1: 0-5 | E1: 5-10 | F1: 10-15 | G1: 15-20 | H1: 20-25 | I1: 25-30 | J1: 30-35 | K1: 35-40 | L1: 40-45 | M1: 45-50 | N1: 50-55 | O1: 55-60 | P1: 60-65 | Q1: 65-70 | R1: > 70 | S1: Totals | T1: Comments | U1: Notes
C2: Learning Goals
A3: 2 | B3: indicate all that apply | C3: Learning goals: (A) not provided (B) each broad topic or chapter (C) each specific subtopic or chapter subsection (D) some or most individual activities or assignments (E) each individual activity or assignment | D3: > | E3: > | F3: > | G3: > | H3: > | I3: > | J3: > | K3: > | L3: > | M3: > | N3: > | O3: > | P3: > | Q3: > | R3: > | U3: Record each of these as A, B, C, D, E as described, type in all observed into totals box.
C4: Polling Questions
A5: 3 | B5: # times | C5: polling question asked (not a re-poll question) | S5: =SUM(D5:R5) -> 0 | U5: Count # times polling question asked; re-poll questions are not counted as an additional question.
A6: 1 | B6: # minutes | C6: spent on polling method (to nearest 0.25 min) | S6: =SUM(D6:R6) -> 0 | U6: Use a timer to time each event - include instructor introducing problem (specific to the polling question) students solving problem, and any overview of answer (round UP to nearest .25 min).
A7: 4&7 | B7: # times | C7: polling question discussed in groups | S7: =SUM(D7:R7) -> 0 | U7: Count # times students worked in groups of 2 or more; also include when audible discussion can be heard even if instructor does not verbally specify working in pairs/groups.
A8: 8 | B8: # minutes | C8: spent working in groups (to nearest 0.25 min) (polling method) | S8: =SUM(D8:R8) -> 0 | U8: Use a timer to time each event - include instructor introducing problem (specific to the polling question), students solving problem, and any overview of answer (round UP to nearest .25 min).
C9: Non-polling question/In-class activities | U9: Only include events in which students are actively engaged in doing something (not just passively listening or watching).
A10: 5 | B10: # times | C10: in-class activities used (includes non-polling questions, discussions & other activities) | S10: =SUM(D10:R10) -> 0 | U10: Count each event (include question/activity start and answers/follow-up on questions as one activity). If there are clear breaks (many minutes of another activity or lecture) between question and answer sessions then count as multiple events. In the case of somewhat continuous activity with unclear breaks between, use a change of slide or change of topic to delineate one activity from the next. DO NOT count exams or quizzes. DO count non-polling questions from the instructor (non-rhetorical) that require more than a one-word simple answer.
A11: 1 | B11: # minutes | C11: spent on in-class activities (to nearest 0.25 min) | S11: =SUM(D11:R11) -> 0 | U11: Use a timer to time each event - include instructor introducing activity/non-polling question, students completing the activity/question, and any overview of answer(s) (round UP to nearest .25 min).
A12: 9&7 | B12: # times | C12: students worked in groups on in-class activities | S12: =SUM(D12:R12) -> 0 | U12: Count # times students worked in groups of 2 or more during in-class activity (non-polling). Also include when audible discussion can be heard even if instructor does not verbally specify working in pairs/groups, follow individual activity guidelines specified in cell U10.
A13: 8 | B13: # minutes | C13: spent working in groups (to nearest 0.25 min) (in-class activity) | S13: =SUM(D13:R13) -> 0 | U13: Use a timer to time each event - include instructor introducing activity/non-polling question, students completing the activity/question, and any overview of answer(s) (round UP to nearest .25 min).
A14: 6 | B14: # times | C14: instructor gives feedback on in-class activity (beyond correct/incorrect) | S14: =SUM(D14:R14) -> 0 | U14: Count # times instructor provides additional information/feedback beyond correct/incorrect. Count once per activity. Include if instructor circulates among students during in-class activity and discusses activity/answers with individual or groups of students. DO NOT count feedback on polling questions.
C15: Other aspects of group work
A16: 11 | B16: # times | C16: students shared results of group work/discussion with whole class | S16: =SUM(D16:R16) -> 0 | U16: Count # times a student shared group work or group answer during whole-class discussions. Include polling methods AND other in-class/non-polling activities. ONLY use during group work, NOT individual work.
A17: 10 | B17: # times | C17: instructor used strategy to promote group participation (e.g. assign roles) | S17: =SUM(D17:R17) -> 0 | U17: Count # times participation strategy used during group work to hold individuals accountable for group effort. WOULD include random calling on an individual to answer for the group but would NOT include calling on the group and allowing anyone to answer for the group.
C18: Classroom dynamics
A19: 13 | B19: # times | C19: whole-class discussion occurred (non-group work) | S19: =SUM(D19:R19) -> 0 | U19: Count # times discussion occurred with the WHOLE class, without the group work component. Whole-class discussion = students are engaged in whole class discussion by offering explanations, opinion, judgment, etc. to whole class, often facilitated by instructor (Smith et al., 2013).
A20: 13 | B20: # times | C20: students EXPLICTLY encouraged to respond to classmates' ideas during whole-class discussions (groups AND non-group) | S20: =SUM(D20:R20) -> 0 | U20: Count # times one student responded to another student's idea or answer during whole-class discussion with or without group work component. Also includes if instructor explicitly encourages students to do so then waits enough time (>10 sec) to permit responses (even if no students respond). Only count one time per topic: if multiple students are asked to comment on the original idea, it is one group discussion.
A21: 13 | B21: # times | C21: students were IMPLICITLY encouraged to respond to classmates' ideas during whole-class discussions (groups AND non-group) using NON_VERBAL cues | S21: =SUM(D21:R21) -> 0 | U21: Count # times instructor used NON-VERBAL cues (e.g., wait time) during whole-class discussions to implicitly encourage students to respond to another student AND a student responded OR the instructor waited enough time (>10 sec) to permit responses. Includes both with and without group work. Only count one time per topic: if multiple students are asked to comment on the original idea, it is one group discussion.
A22: 13 | B22: # times | C22: students EXPLICITLY DIScouraged from responding to classmates' ideas during whole-class discussions (groups AND non-group) | S22: =SUM(D22:R22) -> 0 | U22: Count # times instructor made explicit request for students NOT to respond to others during whole-class discussions. Includes both with and without group work component.
A23: 13 | B23: # times | C23: students IMPLICITLY DIScouraged to respond to classmates' ideas during whole-class discussions (groups AND non-group) | S23: =SUM(D23:R23) -> 0 | U23: Count # times instructor made an implicit indication for students NOT to respond to others during whole-class discussions (including non-verbal cues). Includes both with and without group work component.
A24: 16 | B24: # times | C24: students state interests or ask non-clarification questions | S24: =SUM(D24:R24) -> 0 | U24: Count # times students asked original questions (not just to clarify course content) or talked about their own interests. Does NOT include if student B asks a direct follow-up to student A's original question. DOES include if student B asks a different original question or tangentially related question immediately after student A. Also includes if instructor refers question to an out-of-class forum accessible to all students (e.g., discussion board) to respond to question AFTER listening to student question.
A25: 16 | B25: # times | C25: students EXPLICITLY DIScouraged from stating interests or asking non-clarification questions | S25: =SUM(D25:R25) -> 0 | U25: Count # times instructor made explicit request for students NOT to state interests or ask original (non-clarification) questions.
A26: 16 | B26: # times | C26: students IMPLICITLY DIScouraged from stating interests or asking non-clarification questions | S26: =SUM(D26:R26) -> 0 | U26: Count # times instructor made implicit indication for students NOT to state interests or ask original (non-clarification) questions (includes non-verbal cues).
A27: 12 | B27: # times | C27: students asked to comment on each other's work (assignments, activities, or projects) | S27: =SUM(D27:R27) -> 0 | U27: Count # times students engaged in peer review of assignments.
C28: Instructor Awareness
A29: 17 | B29: # times | C29: it was obvious or seemed like students did not understand course content or held misconceptions | S29: =SUM(D29:R29) -> 0 | U29: Count # times it was obvious or seemed like a substantial portion (<15%) of students did not understand concepts or had misconceptions. Includes verbal and non-verbal indications; also includes if instructor solicits clarification questions from students AND either multiple students respond with confusion OR instructor waits for over 10 seconds for responses.
A30: 17 | B30: # times | C30: instructor was aware that students did not understand course content or held misconceptions | S30: =SUM(D30:R30) -> 0 | U30: Count # times instructor obviously recognized that a substantial portion (<15%) of students did not understand concepts or had misconceptions. Includes verbal and non-verbal indications; also includes if instructor solicits clarification questions from students AND either multiple students respond with confusion OR instructor waits for over 10 seconds for responses. Should coincide with previous item (students did not understand).
A31: 18 | B31: # times | C31: instructor provided follow-up on misunderstood concepts | S31: =SUM(D31:R31) -> 0 | U31: Count # times instructor took action to address lack of understanding or misconception (e.g. new explanation, exam study suggestions, etc). Should coincide with previous item (awareness of misunderstanding).
C32: Inclusivity
A33: 15 | B33: # times | C33: ideas/contributions of diverse groups were explicitly excluded from discussion | S33: =SUM(D33:R33) -> 0 | U33: Count # times ideas/contributions of researchers, patients, populations, or other group were mentioned but diverse groups were explicitly excluded from discussion or any exclusive language occurred (e.g. "There are no women geneticists").
A34: 15 | B34: # times | C34: ideas/contributions of unspecified or majority individuals/groups were discussed | S34: =SUM(D34:R34) -> 0 | U34: Count # times ideas/contributions of researchers, patients, populations or other group were discussed WITHOUT mentioning demographic traits OR majority group (white/males) was discussed. Does NOT include if author/researcher names are listed on a slide without verbal mention of names (e.g. "Smith and Jones showed this result"). DOES include verbal mention of author/researchers OR a picture of authors/researchers is shown.
A35: 15 | B35: # times | C35: ideas/contributions of diverse individuals/groups discussed (includes pictures if indicate diverse person(s)) | S35: =SUM(D35:R35) -> 0 | U35: Count # times idea/contribution discussed was attributed to diverse person/group (non-majority ethnicity, nationality, sex, gender, age, ETC). DOES include if picture allows identification of diverse person/group (e.g., photo of Henrietta Lacks) OR if name AND non-majority status is mentioned "a female/woman researcher..."). DOES NOT include if author/researcher names are on slide without either verbal mention of non-majority status or picture of authors.
A36: 14 | B36: # times | C36: examples/analogies of diverse groups were explicitly excluded from discussion | S36: =SUM(D36:R36) -> 0 | U36: Count # times that examples/analogies from diverse groups were explicitly excluded from discussion or any exclusive language occurred (e.g., "we're not going to focus on that population").
A37: 14 | B37: # times | C37: examples/analogies used represented unspecified or majority individuals/groups | S37: =SUM(D37:R37) -> 0 | U37: Count # times example/analogy highlights majority group (white/males) OR demographic identification not indicated.
A38: 14 | B38: # times | C38: examples/analogies used represented diverse individuals/groups | S38: =SUM(D38:R38) -> 0 | U38: Count # times example/analogy highlights diverse person/group (other ethnicity, nationality, sex, gender, age, ETC). Include if picture allows identification of diverse person/group.
C39: Real-life context
A40: 29 | B40: # times | C40: real-life/everyday examples discussed | S40: =SUM(D40:R40) -> 0 | U40: Count # times everyday human example or real-life example used. Must be specific, does not include "cell respiration in human mitochondria," but would include, "when you eat an apple, your body does this…" Main theme - scientific concepts are taken out of the standard abstract context and presented as reality/tangible examples. Includes uses of popularly familiar examples (e.g., dog breeds, deaf/blind individuals, etc.) unless whole course is devoted to that example. If multiple examples used to explain one concept, only count as one real-life example.
A41: 30 | B41: # times | C41: historical context of scientific contribution discussed | S41: =SUM(D41:R41) -> 0 | U41: Count # times history behind what made a scientific discovery so impactful was explained (e.g., everyone believed cells spontaneously appeared before Pasteur's swan-necked flask experiment).
C42: Visuals | U42: Only include events in which students are actively engaged in doing something (not just passively listening or watching).
A43: 26 | B43: # times | C43: made OR interpreted models of scientific process | S43: =SUM(D43:R43) -> 0 | U43: Count # times students were specifically asked to create or interpret a model (e.g., pathways, diagram, schematic, concept map, flow chart, tables, box & arrow diagrams, etc.) to explain a scientific process.
A44: 31 | B44: # times | C44: interpret/represent concepts in non-written format | S44: =SUM(D44:R44) -> 0 | U44: Count # times students were specifically asked to represent or interpret concepts in ANY non-written format (e.g., picture, diagram, videos, simulations, role-plays, graphs, mathematical models, etc.).
C45: Scientific communication | U45: Only include events in which students are actively engaged in doing something (not just passively listening or watching).
A46: 28 | B46: # times | C46: communicate through oral/written assignments | S46: =SUM(D46:R46) -> 0 | U46: Count # times students gave formal presentations or it was obvious they had to complete a paper.
A47: 27 | B47: # times | C47: interpret or critique literature or scientific media | S47: =SUM(D47:R47) -> 0 | U47: Count # times students worked with literature OR science media by interpreting or critiquing articles. Include use of primary literature, popular media (e.g., NY Times science section), and internet articles (e.g., trendy blog claiming scientific analysis/results/information).
C48: Experimental Design | U48: Only include events in which students are actively engaged in doing something (not just passively listening or watching).
A49: 21 | B49: # times | C49: design experiments | S49: =SUM(D49:R49) -> 0 | U49: Count # times students created an experiment or portions of an experiment.
A50: 23 | B50: # times | C50: made graphs or tables | S50: =SUM(D50:R50) -> 0 | U50: Count # times students created graphs or tables to show data. Does NOT include Punnett squares.
A51: 19 | B51: # times | C51: identify or formulate hypothesis or make prediction about results | S51: =SUM(D51:R51) -> 0 | U51: Count # times students made predictions, made an original (formalized) hypothesis, or identified hypothesis of an example study. Includes predicting results of demos or experiments being discussed in class.
A52: 20 | B52: # times | C52: critiqued hypotheses or experimental designs | S52: =SUM(D52:R52) -> 0 | U52: Count # times students critically evaluated hypotheses or other aspects of an experimental design/methods (e.g., is the hypothesis testable, does the design adequately control for other variables, does the experiment address the research question, etc.).
C53: Data analysis | U53: Only include events in which students are actively engaged in doing something (not just passively listening or watching).
A54: 22 | B54: # times | C54: summarize/interpret/analyze data with math/computation | S54: =SUM(D54:R54) -> 0 | U54: Count # times students use math (or equations) to summarize, interpret, or analyze data.
A55: 24 | B55: # times | C55: analyzed/interpreted data in graphs or tables | S55: =SUM(D55:R55) -> 0 | U55: Count # times students interpreted made conclusions from graphs and tables. INCLUDE diagrams/figures if show tables or graphical output (not pictures/cartoons).
A56: 25 | B56: # times | C56: used data to make decisions/defend conclusions | S56: =SUM(D56:R56) -> 0 | U56: Count # times students made decisions using data or defended experimental conclusions using data. Include inferences about meaning of data.
C57: Cognition | U57: Only include events in which students are actively engaged in doing something (not just passively listening or watching).
A58: 32 | B58: # times | C58: other STEM discipline used | S58: =SUM(D58:R58) -> 0 | U58: Count # times students explicitly used knowledge/skills from other STEM fields (e.g., statistical modeling in biology course). Count only once if whole lesson is interdisciplinary (e.g., chemistry of cellular molecules in a Biology course).
A59: 33 | B59: # times | C59: higher level processes (apply/analyze/incorporate/evaluate) used | S59: =SUM(D59:R59) -> 0 | U59: Count # times students asked to use higher order cognitive processes.
A60: 34 | B60: # times | C60: opened-ended exercise or case study | S60: =SUM(D60:R60) -> 0 | U60: Count # times students open-ended exercise/case study used (multiple correct answers possible).
C61: Reflection | U61: Only include events in which students are actively engaged in doing something (not just passively listening or watching).
A62: 35 | B62: # times | C62: students asked to reflect: effective study/learning strategies | S62: =SUM(D62:R62) -> 0 | U62: Count # times students specifically asked to consider their approaches to learning/studying.
A63: 36 | B63: # times | C63: students asked to reflect: problem solving strategies | S63: =SUM(D63:R63) -> 0 | U63: Count # times students specifically asked to consider their problem solving strategies.
C64: Activity totals (automated)
A65: 1 | B65: # minutes | C65: students were answering questions, solving problems, doing activities (totaled automatically) | D65: =SUM(D6+D11) -> 0 | E65: =SUM(E6+E11) -> 0 | F65: =SUM(F6+F11) -> 0 | G65: =SUM(G6+G11) -> 0 | H65: =SUM(H6+H11) -> 0 | I65: =SUM(I6+I11) -> 0 | J65: =SUM(J6+J11) -> 0 | K65: =SUM(K6+K11) -> 0 | ... R65: =SUM(R6+R11) -> 0 | S65: =SUM(D65:R65) -> 0 | U65: automatically totals each time students worked in groups =(row 6 + row 11)
A66: 7 | B66: # times | C66: students worked in groups (totaled automatically) | D66: =SUM(D7+D12) -> 0 | E66: =SUM(E7+E12) -> 0 | F66: =SUM(F7+F12) -> 0 | G66: =SUM(G7+G12) -> 0 | H66: =SUM(H7+H12) -> 0 | I66: =SUM(I7+I12) -> 0 | J66: =SUM(J7+J12) -> 0 | K66: =SUM(K7+K12) -> 0 | ... R66: =SUM(R7+R12) -> 0 | S66: =SUM(D66:R66) -> 0 | U66: automatically totals each time students worked in groups =(row7 + row 12)
A67: 8 | B67: # minutes | C67: students worked in groups (totaled automatically) | D67: =SUM(D8+D13) -> 0 | E67: =SUM(E8+E13) -> 0 | F67: =SUM(F8+F13) -> 0 | G67: =SUM(G8+G13) -> 0 | H67: =SUM(H8+H13) -> 0 | I67: =SUM(I8+I13) -> 0 | J67: =SUM(J8+J13) -> 0 | K67: =SUM(K8+K13) -> 0 | ... R67: =SUM(R8+R13) -> 0 | S67: =SUM(D67:R67) -> 0 | U67: automatically totals time students spent working in groups =(row8 + row13)
A68: 13 | B68: # times | C68: whole-class discussion occurred (totaled automatically) | D68: =SUM(D16+D19) -> 0 | E68: =SUM(E16+E19) -> 0 | F68: =SUM(F16+F19) -> 0 | G68: =SUM(G16+G19) -> 0 | H68: =SUM(H16+H19) -> 0 | I68: =SUM(I16+I19) -> 0 | J68: =SUM(J16+J19) -> 0 | K68: =SUM(K16+K19) -> 0 | ... R68: =SUM(R16+R19) -> 0 | S68: =SUM(D68:R68) -> 0 | U68: automatically totals each time whole class discussion occurred =(row16 + row 19)

Sheet Tool Totals Page
A1: MISTO# | C1: Totals | D1: Comments for Class 1 | E1: Comments for Class 2 | F1: Comments for Class 3 | G1: *these formulas are protected to prevent errors - if unlocking is required, use the password "misto"
B2: Learning Goals
A3: 2 | B3: Learning goals: (A) not provided (B) each broad topic or chapter (C) each specific subtopic or chapter subsection (D) some or most individual activities or assignments (E) each individual activity or assignment | C3: ='Class Session 1'!S3&'Class Session 2'!S3&'Class Session 3'!S3 | D3: ='Class Session 1'!T3 -> 0 | E3: ='Class Session 2'!T3 -> 0 | F3: ='Class Session 3'!T3 -> 0 | G3: =IF(ISNUMBER(SEARCH("A",C3)),"not provided to students","")&IF(C3="","no information","") -> no information | H3: =IF(OR(ISNUMBER(SEARCH("B",C3)),ISNUMBER(SEARCH("c",C3)),ISNUMBER(SEARCH("d",C3)),ISNUMBER(SEARCH("E",C3))),"yes","") | I3: =IF(ISNUMBER(SEARCH("B",C3)),"each broad topic or chapter, ","")&IF(ISNUMBER(SEARCH("c",C3)),"each specific subtopic or chapter subsection, ","")&IF(ISNUMBER(SEARCH("d",C3)),"some or most individual activities or assignments, ","")&IF(ISNUMBER(SEARCH("E",C3)),"each individual activity or assignment","")
B4: Polling Questions
A5: 3 | B5: polling question asked (not a re-poll question) | C5: ='Class Session 1'!S5+'Class Session 2'!S5+'Class Session 3'!S5 -> 0 | D5: ='Class Session 1'!T5 -> 0 | E5: ='Class Session 2'!T5 -> 0 | F5: ='Class Session 3'!T5 -> 0
A6: 1 | B6: spent on polling method (to nearest 0.25 min) | C6: ='Class Session 1'!S6+'Class Session 2'!S6+'Class Session 3'!S6 -> 0 | D6: ='Class Session 1'!T6 -> 0 | E6: ='Class Session 2'!T6 -> 0 | F6: ='Class Session 3'!T6 -> 0
A7: 4&7 | B7: polling question discussed in groups | C7: ='Class Session 1'!S7+'Class Session 2'!S7+'Class Session 3'!S7 -> 0 | D7: ='Class Session 1'!T7 -> 0 | E7: ='Class Session 2'!T7 -> 0 | F7: ='Class Session 3'!T7 -> 0
A8: 8 | B8: spent working in groups (to nearest 0.25 min) (polling method) | C8: ='Class Session 1'!S8+'Class Session 2'!S8+'Class Session 3'!S8 -> 0 | D8: ='Class Session 1'!T8 -> 0 | E8: ='Class Session 2'!T8 -> 0 | F8: ='Class Session 3'!T8 -> 0
B9: Non-polling question/In-class activities
A10: 5 | B10: in-class activities used (includes non-polling questions, discussions & other activities) | C10: ='Class Session 1'!S10+'Class Session 2'!S10+'Class Session 3'!S10 -> 0 | D10: ='Class Session 1'!T10 -> 0 | E10: ='Class Session 2'!T10 -> 0 | F10: ='Class Session 3'!T10 -> 0
A11: 1 | B11: spent on in-class activities (to nearest 0.25 min) | C11: ='Class Session 1'!S11+'Class Session 2'!S11+'Class Session 3'!S11 -> 0 | D11: ='Class Session 1'!T11 -> 0 | E11: ='Class Session 2'!T11 -> 0 | F11: ='Class Session 3'!T11 -> 0
A12: 9&7 | B12: students worked in groups on in-class activities | C12: ='Class Session 1'!S12+'Class Session 2'!S12+'Class Session 3'!S12 -> 0 | D12: ='Class Session 1'!T12 -> 0 | E12: ='Class Session 2'!T12 -> 0 | F12: ='Class Session 3'!T12 -> 0
A13: 8 | B13: spent working in groups (to nearest 0.25 min) (in-class activity) | C13: ='Class Session 1'!S13+'Class Session 2'!S13+'Class Session 3'!S13 -> 0 | D13: ='Class Session 1'!T13 -> 0 | E13: ='Class Session 2'!T13 -> 0 | F13: ='Class Session 3'!T13 -> 0
A14: 6 | B14: instructor gives feedback on in-class activity (beyond correct/incorrect) | C14: ='Class Session 1'!S14+'Class Session 2'!S14+'Class Session 3'!S14 -> 0 | D14: ='Class Session 1'!T14 -> 0 | E14: ='Class Session 2'!T14 -> 0 | F14: ='Class Session 3'!T14 -> 0
B15: Other aspects of group work
A16: 11 | B16: students shared results of group work/discussion with whole class | C16: ='Class Session 1'!S16+'Class Session 2'!S16+'Class Session 3'!S16 -> 0 | D16: ='Class Session 1'!T16 -> 0 | E16: ='Class Session 2'!T16 -> 0 | F16: ='Class Session 3'!T16 -> 0
A17: 10 | B17: instructor used strategy to promote group participation (e.g. assign roles) | C17: ='Class Session 1'!S17+'Class Session 2'!S17+'Class Session 3'!S17 -> 0 | D17: ='Class Session 1'!T17 -> 0 | E17: ='Class Session 2'!T17 -> 0 | F17: ='Class Session 3'!T17 -> 0
B18: Classroom dynamics
A19: 13 | B19: any whole-class discussion occurred (group + non-group work) | C19: ='Class Session 1'!S68+'Class Session 2'!S68+'Class Session 3'!S68 -> 0 | D19: ='Class Session 1'!T19 -> 0 | E19: ='Class Session 2'!T19 -> 0 | F19: ='Class Session 3'!T19 -> 0 | I19: strongly disagree | J19: disagree | K19: somewhat disagree | L19: somewhat agree | M19: agree | N19: strongly agree
A20: 13 | B20: students EXPLICTLY encouraged to respond to classmates' ideas during whole-class discussions | C20: ='Class Session 1'!S20+'Class Session 2'!S20+'Class Session 3'!S20 -> 0 | D20: ='Class Session 1'!T20 -> 0 | E20: ='Class Session 2'!T20 -> 0 | F20: ='Class Session 3'!T20 -> 0 | G20: total EN= | H20: =C20+C21 -> 0 | I20: =IF(C22>3, "yes", "no") -> no | J20: =IF(AND(C22=0,C23>3),"yes","no") -> no | K20: =IF(AND(C19>0,H20=0,H21=0),"yes","no") -> no | L20: =IF(AND(H21=0,C20=0,C21>0),"yes","no") -> no | M20: =IF(AND(H21=0,C20>0,C20<3),"yes","no") -> no | N20: =IF(AND(H21=0,C20>2),"yes","no") -> no
A21: 13 | B21: students were IMPLICITLY encouraged to respond to classmates' ideas during whole-class discussions (groups AND non-group) using NON_VERBAL cues | C21: ='Class Session 1'!S21+'Class Session 2'!S21+'Class Session 3'!S21 -> 0 | D21: ='Class Session 1'!T21 -> 0 | E21: ='Class Session 2'!T21 -> 0 | F21: ='Class Session 3'!T21 -> 0 | G21: total DIS= | H21: =C22+C23 -> 0 | I21: =IF(AND(H22<0,C22>0,C23>=0),"yes","no") -> no | J21: =IF(AND(H22<0,C22=0,C23>0),"yes","no") -> no | L21: =IF(AND(H21>0,H22>0),"yes","no") -> no
A22: 13 | B22: students EXPLICITLY DIScouraged from responding to classmates' ideas during whole-class discussions | C22: ='Class Session 1'!S22+'Class Session 2'!S22+'Class Session 3'!S22 -> 0 | D22: ='Class Session 1'!T22 -> 0 | E22: ='Class Session 2'!T22 -> 0 | F22: ='Class Session 3'!T22 -> 0 | G22: EN-DIS= | H22: =H20-H21 -> 0 | I22: =IF(OR(I20="yes",I21="yes"),"strongly disagree","no") -> no | J22: =IF(OR(J20="yes",J21="yes"),"disagree","no") -> no | K22: =IF(OR(K20="yes",K21="yes"),"somewhat disagree","no") -> no | L22: =IF(OR(L20="yes",L21="yes"),"somewhat agree","no") -> no | M22: =IF(OR(M20="yes",M21="yes"),"agree","no") -> no | N22: =IF(OR(N20="yes",N21="yes"),"strongly agree","no") -> no
A23: 13 | B23: students IMPLICITLY DIScouraged to respond to classmates' ideas during whole-class discussions | C23: ='Class Session 1'!S23+'Class Session 2'!S23+'Class Session 3'!S23 -> 0 | D23: ='Class Session 1'!T23 -> 0 | E23: ='Class Session 2'!T23 -> 0 | F23: ='Class Session 3'!T23 -> 0 | I23: strongly disagree | J23: disagree | K23: somewhat disagree | L23: somewhat agree | M23: agree | N23: strongly agree
A24: 16 | B24: students state interests or ask non-clarification questions | C24: ='Class Session 1'!S24+'Class Session 2'!S24+'Class Session 3'!S24 -> 0 | D24: ='Class Session 1'!T18 -> 0 | E24: ='Class Session 2'!T25 -> 0 | F24: ='Class Session 3'!T25 -> 0 | G24: total EN= | H24: =C24 -> 0 | I24: =IF(C25>3, "yes", "no") -> no | J24: =IF(AND(C25=0,C26>3),"yes","no") -> no | K24: =IF(AND(H24=0,H25=0),"yes","no") -> yes | L24: =IF(AND(H25=0,C24>0,C24<3),"yes","no") -> no | M24: =IF(AND(H25=0,C24>2,C24<6),"yes","no") -> no | N24: =IF(AND(H25=0,C24>5),"yes","no") -> no
A25: 16 | B25: students EXPLICITLY DIScouraged from stating interests or asking non-clarification questions | C25: ='Class Session 1'!S25+'Class Session 2'!S25+'Class Session 3'!S25 -> 0 | D25: ='Class Session 1'!T24 -> 0 | E25: ='Class Session 2'!T26 -> 0 | F25: ='Class Session 3'!T26 -> 0 | G25: total DIS= | H25: =C25+C26 -> 0 | I25: =IF(AND(H26<0,C25>0,C26>=0),"yes","no") -> no | J25: =IF(AND(H26<0,C25=0,C26>0),"yes","no") -> no | L25: =IF(AND(H25>0,H26>0),"yes","no") -> no
A26: 16 | B26: students IMPLICITLY DIScouraged from stating interests or asking non-clarification questions | C26: ='Class Session 1'!S26+'Class Session 2'!S26+'Class Session 3'!S26 -> 0 | D26: ='Class Session 1'!T24 -> 0 | E26: ='Class Session 2'!T26 -> 0 | F26: ='Class Session 3'!T26 -> 0 | G26: EN-DIS= | H26: =H24-H25 -> 0 | I26: =IF(OR(I24="yes",I25="yes"),"strongly disagree","no") -> no | J26: =IF(OR(J24="yes",J25="yes"),"disagree","no") -> no | K26: =IF(OR(K24="yes",K25="yes"),"somewhat disagree","no") -> somewhat disagree | L26: =IF(OR(L24="yes",L25="yes"),"somewhat agree","no") -> no | M26: =IF(OR(M24="yes",M25="yes"),"agree","no") -> no | N26: =IF(OR(N24="yes",N25="yes"),"strongly agree","no") -> no
A27: 12 | B27: students asked to comment on each other's work (assignments, activities, or projects) | C27: ='Class Session 1'!S27+'Class Session 2'!S27+'Class Session 3'!S27 -> 0 | D27: ='Class Session 1'!T27 -> 0 | E27: ='Class Session 2'!T27 -> 0 | F27: ='Class Session 3'!T27 -> 0
B28: Instructor Awareness
A29: 17 | B29: it was obvious or seemed like students did not understand course content or held misconceptions | C29: ='Class Session 1'!S29+'Class Session 2'!S29+'Class Session 3'!S29 -> 0 | D29: ='Class Session 1'!T29 -> 0 | E29: ='Class Session 2'!T29 -> 0 | F29: ='Class Session 3'!T29 -> 0
A30: 17 | B30: instructor was aware of student misconceptions or lack of understanding content | C30: ='Class Session 1'!S30+'Class Session 2'!S30+'Class Session 3'!S30 -> 0 | D30: ='Class Session 1'!T30 -> 0 | E30: ='Class Session 2'!T30 -> 0 | F30: ='Class Session 3'!T30 -> 0
A31: 18 | B31: instructor provided follow-up on misunderstood concepts | C31: ='Class Session 1'!S31+'Class Session 2'!S31+'Class Session 3'!S31 -> 0 | D31: ='Class Session 1'!T31 -> 0 | E31: ='Class Session 2'!T31 -> 0 | F31: ='Class Session 3'!T31 -> 0
B32: Inclusivity
A33: 15 | B33: ideas/contributions of diverse groups were explicitly excluded from discussion | C33: ='Class Session 1'!S33+'Class Session 2'!S33+'Class Session 3'!S33 -> 0 | D33: ='Class Session 1'!T33 -> 0 | E33: ='Class Session 2'!T33 -> 0 | F33: ='Class Session 3'!T33 -> 0 | G33: =IF((C33)>0, "yes","no") -> no
A34: 15 | B34: ideas/contributions of unspecified or majority individuals/groups were discussed | C34: ='Class Session 1'!S34+'Class Session 2'!S34+'Class Session 3'!S34 -> 0 | D34: ='Class Session 1'!T34 -> 0 | E34: ='Class Session 2'!T34 -> 0 | F34: ='Class Session 3'!T34 -> 0 | G34: =C33+C34+C35 -> 0
A35: 15 | B35: ideas/contributions of diverse individuals/groups discussed (includes pictures if indicate diverse person(s)) | C35: ='Class Session 1'!S35+'Class Session 2'!S35+'Class Session 3'!S35 -> 0 | D35: ='Class Session 1'!T35 -> 0 | E35: ='Class Session 2'!T35 -> 0 | F35: ='Class Session 3'!T35 -> 0 | G35: =IF(G34=0,0,(C35/G34)) -> 0
A36: 14 | B36: examples/analogies of diverse groups were explicitly excluded from discussion | C36: ='Class Session 1'!S36+'Class Session 2'!S36+'Class Session 3'!S36 -> 0 | D36: ='Class Session 1'!T36 -> 0 | E36: ='Class Session 2'!T36 -> 0 | F36: ='Class Session 3'!T36 -> 0 | G36: =IF((C36)>0, "yes","no") -> no
A37: 14 | B37: examples/analogies used represented unspecified or majority individuals/groups | C37: ='Class Session 1'!S37+'Class Session 2'!S37+'Class Session 3'!S37 -> 0 | D37: ='Class Session 1'!T37 -> 0 | E37: ='Class Session 2'!T37 -> 0 | F37: ='Class Session 3'!T37 -> 0 | G37: =C36+C37+C38 -> 0
A38: 14 | B38: examples/analogies used represented diverse individuals/groups | C38: ='Class Session 1'!S38+'Class Session 2'!S38+'Class Session 3'!S38 -> 0 | D38: ='Class Session 1'!T38 -> 0 | E38: ='Class Session 2'!T38 -> 0 | F38: ='Class Session 3'!T38 -> 0 | G38: =IF(G37=0,0,(C38/G37)) -> 0
B39: Real-life context
A40: 29 | B40: real-life/everyday examples discussed | C40: ='Class Session 1'!S40+'Class Session 2'!S40+'Class Session 3'!S40 -> 0 | D40: ='Class Session 1'!T40 -> 0 | E40: ='Class Session 2'!T40 -> 0 | F40: ='Class Session 3'!T40 -> 0
A41: 30 | B41: historical context of scientific contribution discussed | C41: ='Class Session 1'!S41+'Class Session 2'!S41+'Class Session 3'!S41 -> 0 | D41: ='Class Session 1'!T41 -> 0 | E41: ='Class Session 2'!T41 -> 0 | F41: ='Class Session 3'!T41 -> 0
B42: Visuals
A43: 26 | B43: made OR interpreted models of scientific process | C43: ='Class Session 1'!S43+'Class Session 2'!S43+'Class Session 3'!S43 -> 0 | D43: ='Class Session 1'!T43 -> 0 | E43: ='Class Session 2'!T43 -> 0 | F43: ='Class Session 3'!T43 -> 0
A44: 31 | B44: interpret/represent concepts in non-written format | C44: ='Class Session 1'!S44+'Class Session 2'!S44+'Class Session 3'!S44 -> 0 | D44: ='Class Session 1'!T44 -> 0 | E44: ='Class Session 2'!T44 -> 0 | F44: ='Class Session 3'!T44 -> 0
B45: Scientific communication
A46: 28 | B46: communicate through written/oral assignments | C46: ='Class Session 1'!S46+'Class Session 2'!S46+'Class Session 3'!S46 -> 0 | D46: ='Class Session 1'!T46 -> 0 | E46: ='Class Session 2'!T46 -> 0 | F46: ='Class Session 3'!T46 -> 0
A47: 27 | B47: interpret or critique literature or scientific media | C47: ='Class Session 1'!S47+'Class Session 2'!S47+'Class Session 3'!S47 -> 0 | D47: ='Class Session 1'!T47 -> 0 | E47: ='Class Session 2'!T47 -> 0 | F47: ='Class Session 3'!T47 -> 0
B48: Experimental Design
A49: 21 | B49: design experiments | C49: ='Class Session 1'!S49+'Class Session 2'!S49+'Class Session 3'!S49 -> 0 | D49: ='Class Session 1'!T49 -> 0 | E49: ='Class Session 2'!T49 -> 0 | F49: ='Class Session 3'!T49 -> 0
A50: 23 | B50: made graphs or tables | C50: ='Class Session 1'!S50+'Class Session 2'!S50+'Class Session 3'!S50 -> 0 | D50: ='Class Session 1'!T50 -> 0 | E50: ='Class Session 2'!T50 -> 0 | F50: ='Class Session 3'!T50 -> 0
A51: 19 | B51: identify or formulate hypothesis or make prediction about results | C51: ='Class Session 1'!S51+'Class Session 2'!S51+'Class Session 3'!S51 -> 0 | D51: ='Class Session 1'!T51 -> 0 | E51: ='Class Session 2'!T51 -> 0 | F51: ='Class Session 3'!T51 -> 0
A52: 20 | B52: critiqued hypotheses or experimental designs | C52: ='Class Session 1'!S52+'Class Session 2'!S52+'Class Session 3'!S52 -> 0 | D52: ='Class Session 1'!T52 -> 0 | E52: ='Class Session 2'!T52 -> 0 | F52: ='Class Session 3'!T52 -> 0
B53: Data analysis
A54: 22 | B54: summarize/interpret/analyze data with math/computation | C54: ='Class Session 1'!S54+'Class Session 2'!S54+'Class Session 3'!S54 -> 0 | D54: ='Class Session 1'!T54 -> 0 | E54: ='Class Session 2'!T54 -> 0 | F54: ='Class Session 3'!T54 -> 0
A55: 24 | B55: analyzed/interpreted data in graphs or tables | C55: ='Class Session 1'!S55+'Class Session 2'!S55+'Class Session 3'!S55 -> 0 | D55: ='Class Session 1'!T55 -> 0 | E55: ='Class Session 2'!T55 -> 0 | F55: ='Class Session 3'!T55 -> 0
A56: 25 | B56: used data to make decisions/defend conclusions | C56: ='Class Session 1'!S56+'Class Session 2'!S56+'Class Session 3'!S56 -> 0 | D56: ='Class Session 1'!T56 -> 0 | E56: ='Class Session 2'!T56 -> 0 | F56: ='Class Session 3'!T56 -> 0
B57: Cognition
A58: 32 | B58: other STEM discipline used | C58: ='Class Session 1'!S58+'Class Session 2'!S58+'Class Session 3'!S58 -> 0 | D58: ='Class Session 1'!T58 -> 0 | E58: ='Class Session 2'!T58 -> 0 | F58: ='Class Session 3'!T58 -> 0
A59: 33 | B59: higher level processes (apply/analyze/incorporate/evaluate) used | C59: ='Class Session 1'!S59+'Class Session 2'!S59+'Class Session 3'!S59 -> 0 | D59: ='Class Session 1'!T59 -> 0 | E59: ='Class Session 2'!T59 -> 0 | F59: ='Class Session 3'!T59 -> 0
A60: 34 | B60: opened-ended exercise or case study | C60: ='Class Session 1'!S60+'Class Session 2'!S60+'Class Session 3'!S60 -> 0 | D60: ='Class Session 1'!T60 -> 0 | E60: ='Class Session 2'!T60 -> 0 | F60: ='Class Session 3'!T60 -> 0
B61: Reflection
A62: 35 | B62: students asked to reflect: effective study/learning strategies | C62: ='Class Session 1'!S62+'Class Session 2'!S62+'Class Session 3'!S62 -> 0 | D62: ='Class Session 1'!T62 -> 0 | E62: ='Class Session 2'!T62 -> 0 | F62: ='Class Session 3'!T62 -> 0
A63: 36 | B63: students asked to reflect: problem solving strategies | C63: ='Class Session 1'!S63+'Class Session 2'!S63+'Class Session 3'!S63 -> 0 | D63: ='Class Session 1'!T63 -> 0 | E63: ='Class Session 2'!T63 -> 0 | F63: ='Class Session 3'!T63 -> 0
B64: Activity totals (automated)
A65: 1 | B65: students were answering questions, solving problems, doing activities (totaled automatically) | C65: ='Class Session 1'!S65+'Class Session 2'!S65+'Class Session 3'!S65 -> 0 | D65: ='Class Session 1'!T65 -> 0 | E65: ='Class Session 2'!T65 -> 0 | F65: ='Class Session 3'!T65 -> 0
A66: 7 | B66: # times students worked in groups (totaled automatically) | C66: ='Class Session 1'!S66+'Class Session 2'!S66+'Class Session 3'!S66 -> 0 | D66: ='Class Session 1'!T66 -> 0 | E66: ='Class Session 2'!T66 -> 0 | F66: ='Class Session 3'!T66 -> 0
A67: 8 | B67: # mins students worked in groups (totaled automatically) | C67: ='Class Session 1'!S67+'Class Session 2'!S67+'Class Session 3'!S67 -> 0 | D67: ='Class Session 1'!T67 -> 0 | E67: ='Class Session 2'!T67 -> 0 | F67: ='Class Session 3'!T67 -> 0
A68: 13 | B68: whole-class discussion occurred (totaled automatically) | C68: ='Class Session 1'!S68+'Class Session 2'!S68+'Class Session 3'!S68 -> 0 | D68: ='Class Session 1'!T68 -> 0 | E68: ='Class Session 2'!T68 -> 0 | F68: ='Class Session 3'!T68 -> 0

Sheet Survey Information
A1: Instructions: Yellow boxes need to be answered manually; all other questions are answered automatically from observation sheets. Use the course information to fill in the yellow boxes in Column B.
A2: Course Information | D2: Q# | E2: MISTO question | F2: Observed totals | J2: Survey response | L2: Answer options
A3: Observer | D3: 1 | E3: Indicate the average percent of class time during which students were asked to answer questions, solve problems, or complete activities other than listening to a lecture: | F3: =IF('Tool Totals Page'!C65=0,0,(('Tool Totals Page'!C65)/B7)) -> 0 | J3: =F3 -> 0 | L3: slider bar 0-100%
A4: Course code | D4: 2 | E4: Learning goals are statements provided by the instructor that inform students of the specific knowledge and skills that the instructor expects students to master in a course. Learning goals can be presented to students in the form of learning objectives, specific study questions, study guides, focal points, etc. Learning goals were provided for: Please select all that apply. | F4: ='Tool Totals Page'!C3 | J4: =IF('Tool Totals Page'!H3="yes",'Tool Totals Page'!I3,'Tool Totals Page'!G3) -> no information | L4: not provided to students | M4: the course as a whole | N4: each unit or exam | O4: each broad topic or chapter | P4: each specific subtopic or chapter subsection | Q4: some or most individual activities or assignments | R4: each individual activity or assignment
A5: Instructor code | D5: 3 | E5: Students were asked to use a polling method to answer questions in the classroom approximately: | F5: ='Tool Totals Page'!C5 -> 0 | J5: =IF(F5=0,L5,(IF(F5=1,N5,IF(AND(F5>1,F5<4),O5,IF(AND(F5>3,F5<6),P5,IF(AND(F5>5,F5<11),Q5,IF(F5>10,R5,"?"))))))) -> zero questions | L5: zero questions | M5: 1-2 questions per month | N5: up to 1 question per week | O5: 2-3 questions per week | P5: 4-5 questions per week | Q5: 6-10 questions per week | R5: more than 10 questions per week
A6: Course subject | D6: 4 | E6: If a YES option to #3 ONLY: Indicate the approximate percent of polling questions for which students were asked to discuss the question in pairs or small groups: | F6: =IF('Tool Totals Page'!C7=0,0,('Tool Totals Page'!C7/'Tool Totals Page'!C5)) -> 0 | J6: =IFERROR(F6,0) -> 0 | L6: slider bar 0-100%
A7: total observation time (mins) | D7: 5 | E7: Students were asked to complete in-class activities approximately: | F7: ='Tool Totals Page'!C10 -> 0 | J7: =IF(F7=0,L7,(IF(F7=1,O7,IF(AND(F7>1,F7<4),P7,IF(AND(F7>3,F7<6),Q7,IF(F7>5,R7,"?")))))) -> zero times | L7: zero times | M7: up to 1 activity per month | N7: 2-3 activities per month | O7: 1 activity per week | P7: 2-3 activities per week | Q7: 4-5 activities per week | R7: more than 5 activities per week
D8: 6 | E8: If a YES option to #6 ONLY: Indicate the approximate percent of in-class activities for which students were given some form of general or individualized feedback during class beyond simply providing correct or incorrect answers: Automatically calculated: number of activities in which feedback was given divided by the total number of activities | F8: =IF('Tool Totals Page'!C14=0,0,('Tool Totals Page'!C14/'Tool Totals Page'!C10)) -> 0 | J8: =IFERROR(F8,0) -> 0 | L8: slider bar 0-100%
D9: 7 | E9: Students were asked to work in groups of two or more for any portion of this course: If "no" is selected, skips to #22 Observers: include statements of "work in groups," "discuss among yourselves," or obvious audible discussion | F9: =IF('Tool Totals Page'!C66>0,"yes","no") -> no | J9: =(F9) -> no | L9: yes | M9: no
D10: 8 | E10: Indicate the average percent of class time during which students were asked to work in groups of two or more: Automatically calculated: amount of time (min) spent on group work (polling/non-polling/discussing) divided by total class time (three 50 min classes=150min) | F10: =IF('Tool Totals Page'!C67=0,0,(('Tool Totals Page'!C67)/B7)) -> 0 | J10: =IFERROR(F10,0) -> 0 | L10: slider bar 0-100%
D11: 9 | E11: Students were asked to work in groups of two or more on in-class activities, discussions, assignments, or projects other than polling questions approximately: | F11: ='Tool Totals Page'!C66 -> 0 | J11: =IF(F11=0,L11,(IF(AND(F11>0,F11<3),P11,IF(AND(F11>2,F11<5),Q11,IF(F11>4,R11,"?"))))) -> zero times | L11: zero times | M11: 1-2 times during the semester | N11: about 1 time per month | O11: 2-3 times per month | P11: 1-2 times per week | Q11: 3-4 times per week | R11: more than 4 times per week
D12: 10 | E12: The instructor used a strategy, such as assigning roles, to promote the participation of each group member during in-class group activities: Automatically calculated: uses number of group activities in which roles were assigned (or other method) in comparison to total group work: returns % value | F12: =IF('Tool Totals Page'!C17=0,0,(('Tool Totals Page'!C17)/('Tool Totals Page'!C66))) -> 0 | J12: =IF(F12=0,L12,(IF(AND(F12>0,F12<45),N12,IF(AND(F12>44,F12<55),O12,IF(AND(F12>54,F12<95),P12,IF(F12>94,R12,"?")))))) -> not at all | L12: not at all | M12: rarely | N12: less than half of the time | O12: half of the time | P12: more than half of the time | Q12: almost always | R12: always
D13: 11 | E13: At least some students were asked to verbally share the results of any group work or group discussions with the whole class approximately: | F13: ='Tool Totals Page'!C16 -> 0 | J13: =IF(F13=0,L13,(IF(AND(F13>0,F13<3),P13,IF(AND(F13>2,F13<5),Q13,IF(F13>4,R13,"?"))))) -> zero times | L13: zero times | M13: 1-2 times during the semester | N13: about 1 time per month | O13: 2-3 times per month | P13: 1-2 times per week | Q13: 3-4 times per week | R13: more than 4 times per week
D14: 12 | E14: Students were asked to comment or make suggestions on each other's work on class assignments, activities, or projects approximately: | F14: ='Tool Totals Page'!C27 -> 0 | J14: =IF(F14=0,L14,(IF(AND(F14>0,F14<3),P14,IF(AND(F14>2,F14<5),Q14,IF(F14>4,R14,"?"))))) -> zero times | L14: zero times | M14: 1-2 times during the semester | N14: about 1 time per month | O14: 2-3 times per month | P14: 1-2 times per week | Q14: 3-4 times per week | R14: more than 4 times per week
D15: 13 | E15: Students were encouraged to respond to classmates' ideas during whole-class discussions: | F15: ="whole class discussion: "&'Tool Totals Page'!C68&" "&"explictly encouraged: "&'Tool Totals Page'!C20&" "&"implicitly encouraged: "&'Tool Totals Page'!C21&" "&"explictly discouraged: "& 'Tool Totals Page'!C22&" "&"implicitly discouraged: "&'Tool Totals Page'!C23 -> whole class discussion: 0 explictly encouraged: 0 implicitly encouraged: 0 explictly discouraged: 0 implicitly discouraged: 0 | J15: =IF('Tool Totals Page'!C19=0,L15, IF('Tool Totals Page'!I22="strongly disagree","strongly disagree", IF('Tool Totals Page'!J22="disagree","disagree", IF('Tool Totals Page'!K22="somewhat disagree","somewhat disagree", IF('Tool Totals Page'!L22="somewhat agree","somewhat agree", IF('Tool Totals Page'!M22="agree","agree", IF('Tool Totals Page'!N22="strongly agree","strongly agree","?"))))))) -> this class did not include whole class discussions | L15: this class did not include whole class discussions | M15: strongly disagree students were explicitly discouraged from responding to classmates' ideas {more than 3 times, more than encouraged, simultaneously with implicit discouragement, or only explicit discouragement} | N15: disagree students were implicitly discouraged from responding to classmates' ideas {more than 3 times, more than encouraged, or only implicit discouragement} | O15: somewhat disagree students were not given explicit encouragement to respond to classmates' ideas, and the instructor provided little opportunity to engage in this behavior (e.g. no wait time) {no encourage or discourage during whole class disc.} | P15: somewhat agree students were not given explicit encouragement to repsond to classmates' ideas, but other nonverbal cues helped students engage in this behavior (e.g. wait time) {implicit encourage yes, no explicit encourage, total encourage more than any non-zero level of discourage} | Q15: agree students were explicitly encouraged to respond to classmates' ideas once or twice a week {no discourage, explicit encourage 1-2 times} | R15: strongly agree students were explicitly encouraged to respond to classmates' ideas all or nearly all the time {no discourage, explicit encourage more than 2 times}
D16: 14 | E16: Examples or analogies used in this course included a diversity of people and cultures. | F16: ='Tool Totals Page'!C36+'Tool Totals Page'!C37+'Tool Totals Page'!C38 -> 0 | G16: total examples <---- % diverse ----> | H16: ='Tool Totals Page'!G38 -> 0 | J16: =IF(F16=0,L16,IF('Tool Totals Page'!G36="yes","strongly disagree", IF(AND(F16>2,'Tool Totals Page'!C38=0),"disagree", IF(AND(F16<3,'Tool Totals Page'!C38=0),"somewhat disagree", IF(AND(H16>0,H16<0.5),"somewhat agree", IF(AND(H16>0.49,H16<0.75),"agree", IF(H16>0.74,"strongly agree","?"))))))) -> humans were not discussed in this course | L16: humans were not discussed in this course | M16: strongly disagree diverse examples and analogies were explicilty excluded from this course | N16: disagree the course used more than 2 examples/analogies, and they all represented majority groups/cultures | O16: somewhat disagree the course used only 1 to 2 examples/analogies, and they all represented majority groups/cultures | P16: somewhat agree the course used 1 or more examples/analogies from non-majority groups/cultures, and these examples/analogies constituted less than 50% of all examples/analogies | Q16: agree: the course used 1 or more examples/analogies from non-majority groups/cultures, and these examples/analogies constituted 50 - 74% of all examples/analogies mentioned | R16: strongly agree the course used 1 or more examples/analogies from non-majority groups/cultures, and these examples/analogies constituted at least 75% of all examples/analogies mentioned
D17: 15 | E17: Students were encouraged to consider the ideas and contributions of a diversity of researchers and other people involved in science. | F17: ='Tool Totals Page'!C33+'Tool Totals Page'!C34+'Tool Totals Page'!C35 -> 0 | G17: total discussed <---- % diverse ----> | H17: ='Tool Totals Page'!G35 -> 0 | J17: =IF(F17=0,L17,IF('Tool Totals Page'!G33="yes","strongly disagree", IF(AND(F17>2,'Tool Totals Page'!C35=0),"disagree", IF(AND(F17<3,'Tool Totals Page'!C35=0),"somewhat disagree", IF(AND(H17>0,H17<0.26),"somewhat agree", IF(AND(H17>0.25,H17<0.5),"agree", IF(H17>0.49,"strongly agree","?"))))))) -> humans were not discussed in this course | L17: humans were not discussed in this course | M17: strongly disagree contributions from diverse groups/cultures were explicitly excluded from this course | N17: disagree the course recognized more than 2 contributions, and they all represented majority groups/cultures | O17: somewhat disagree the course recognized only 1 to 2 contributions, and they all represented majority groups/cultures | P17: somewhat agree the course recognized 1 or more contributions from non-majority groups/cultures, and these contributions constituted 25% or less of all contributions mentioned | Q17: agree the course recognized 1 or more contributions from non-majority groups/cultures, and these contributions constituted more than 25% but less than half of all contributions mentioned | R17: strongly agree the course recognized 1 or more contributions from non-majority groups/cultures, and these contributions constituted at least 50% of all contributions mentioned
D18: 16 | E18: Students stated interests or asked questions related to the topic at hand during class: | F18: ="encouraged: "&'Tool Totals Page'!C24&" "&"explictly discouraged: "& 'Tool Totals Page'!C25&" "&"implicitly discouraged: "&'Tool Totals Page'!C26 -> encouraged: 0 explictly discouraged: 0 implicitly discouraged: 0 | J18: =IF('Tool Totals Page'!I26="strongly disagree","strongly disagree", IF('Tool Totals Page'!J26="disagree","disagree", IF('Tool Totals Page'!K26="somewhat disagree","somewhat disagree", IF('Tool Totals Page'!L26="somewhat agree","somewhat agree", IF('Tool Totals Page'!M26="agree","agree", IF('Tool Totals Page'!N26="strongly agree","strongly agree","?")))))) -> somewhat disagree | L18: not at all | M18: strongly disagree students were explicitly discouraged from stating interests or asking questions {more than 3 times, more than encouraged, simultaneously with implicit discouragement, or only explicit discouragement} | N18: disagree students were implicitly discouraged from stating interests or asking questions {more than 3 times, more than encouraged, or only implicit discouragement} | O18: somewhat disagree students did not state interests or ask any questions | P18: somewhat agree students stated interests or asked questions 1-2 per week {interests/questions = 1-2, total encourage more than any non-zero level of discourage} | Q18: agree students stated interests or asked questions 3-5 times per week {interests/questions = 3-5} | R18: strongly agree students stated interests or asked questions more than 5 times per class {interests/questions = more than 5}
D19: 17 | E19: The instructor was generally aware of instances when a concept was not understood by the majority of students in the class prior to an exam: If students were never obviously confused, "more than half the time" is selected. | F19: ="students confused: "&('Tool Totals Page'!C29)&" "&"instructor aware of it: "&('Tool Totals Page'!C30) -> students confused: 0 instructor aware of it: 0 | J19: =IF('Tool Totals Page'!C29=0,P19,IF(('Tool Totals Page'!C30/'Tool Totals Page'!C29)*100=0,L19,IF(AND(('Tool Totals Page'!C30/'Tool Totals Page'!C29)*100>0,('Tool Totals Page'!C30/'Tool Totals Page'!C29)*100<45),N19,IF(AND(('Tool Totals Page'!C30/'Tool Totals Page'!C29)*100>44,('Tool Totals Page'!C30/'Tool Totals Page'!C29)*100<56),O19,IF(AND(('Tool Totals Page'!C30/'Tool Totals Page'!C29)*100>55,('Tool Totals Page'!C30/'Tool Totals Page'!C29)*100<95),P19,IF(('Tool Totals Page'!C30/'Tool Totals Page'!C29)*100>94,R19,"?")))))) -> more than half of the time | L19: not at all | M19: rarely | N19: less than half of the time | O19: half of the time | P19: more than half of the time | Q19: most of the time | R19: always
D20: 18 | E20: When it became clear that the class did not understand a concept, students were provided with follow-up discussion, activities, or resources. Automatically calculated: number of instructor follow-ups in comparison to number of times instructor was aware of student confusion: returns % value | F20: =IF('Tool Totals Page'!C31=0,0,'Tool Totals Page'!C31/'Tool Totals Page'!C30) -> 0 | J20: =IF(F20=0,L20,IF(AND(F20>0,F20<45),N20,IF(AND(F20>44,F20<56),O20,IF(AND(F20>55,F20<95),P20, IF(F20>94,R20,"?"))))) -> not part of this course | L20: not part of this course | M20: rarely | N20: less than half of the time | O20: half of the time | P20: more than half of the time | Q20: most of the time | R20: always
D21: 19 | E21: Students were asked to identify or formulate hypotheses or make predictions about the results of demonstrations, experiments, or examples approximately: | F21: ='Tool Totals Page'!C51 -> 0 | J21: =IF(F21=0,L21,(IF(AND(F21>0,F21<3),P21,IF(AND(F21>2,F21<5),Q21,IF(F21>4,R21,"?"))))) -> zero times | L21: zero times | M21: 1-2 times during the semester | N21: about 1 time per month | O21: 2-3 times per month | P21: 1-2 times per week | Q21: 3-4 times per week | R21: more than 4 times per week
D22: 20 | E22: Students were asked to critique scientific hypotheses or experimental strategies approximately: | F22: ='Tool Totals Page'!C52 -> 0 | J22: =IF(F22=0,L22,(IF(AND(F22>0,F22<3),P22,IF(AND(F22>2,F22<5),Q22,IF(F22>4,R22,"?"))))) -> zero times | L22: zero times | M22: 1-2 times during the semester | N22: about 1 time per month | O22: 2-3 times per month | P22: 1-2 times per week | Q22: 3-4 times per week | R22: more than 4 times per week
D23: 21 | E23: Students were asked to design experiments to answer scientific questions approximately: | F23: ='Tool Totals Page'!C49 -> 0 | J23: =IF(F23=0,L23,(IF(AND(F23>0,F23<3),P23,IF(AND(F23>2,F23<5),Q23,IF(F23>4,R23,"?"))))) -> zero times | L23: zero times | M23: 1-2 times during the semester | N23: about 1 time per month | O23: 2-3 times per month | P23: 1-2 times per week | Q23: 3-4 times per week | R23: more than 4 times per week
D24: 22 | E24: Students were asked to summarize, interpret, or analyze data using mathematical or computational procedures approximately: | F24: ='Tool Totals Page'!C54 -> 0 | J24: =IF(F24=0,L24,(IF(AND(F24>0,F24<3),P24,IF(AND(F24>2,F24<5),Q24,IF(F24>4,R24,"?"))))) -> zero times | L24: zero times | M24: 1-2 times during the semester | N24: about 1 time per month | O24: 2-3 times per month | P24: 1-2 times per week | Q24: 3-4 times per week | R24: more than 4 times per week
D25: 23 | E25: Students were asked to make graphs or tables approximately: | F25: ='Tool Totals Page'!C50 -> 0 | J25: =IF(F25=0,L25,(IF(AND(F25>0,F25<3),P25,IF(AND(F25>2,F25<5),Q25,IF(F25>4,R25,"?"))))) -> zero times | L25: zero times | M25: 1-2 times during the semester | N25: about 1 time per month | O25: 2-3 times per month | P25: 1-2 times per week | Q25: 3-4 times per week | R25: more than 4 times per week
D26: 24 | E26: Students were asked to analyze or interpret scientific data shown in graphs or tables approximately: | F26: ='Tool Totals Page'!C55 -> 0 | J26: =IF(F26=0,L26,(IF(AND(F26>0,F26<3),P26,IF(AND(F26>2,F26<5),Q26,IF(F26>4,R26,"?"))))) -> zero times | L26: zero times | M26: 1-2 times during the semester | N26: about 1 time per month | O26: 2-3 times per month | P26: 1-2 times per week | Q26: 3-4 times per week | R26: more than 4 times per week
D27: 25 | E27: Students were asked to use data to make decisions or defend scientific conclusions approximately: | F27: ='Tool Totals Page'!C56 -> 0 | J27: =IF(F27=0,L27,(IF(AND(F27>0,F27<3),P27,IF(AND(F27>2,F27<5),Q27,IF(F27>4,R27,"?"))))) -> zero times | L27: zero times | M27: 1-2 times during the semester | N27: about 1 time per month | O27: 2-3 times per month | P27: 1-2 times per week | Q27: 3-4 times per week | R27: more than 4 times per week
D28: 26 | E28: Models are tools used to summarize a scientific process, including drawing pathways, diagrams, schematics, concept maps, flow charts, "road maps", tables, illustrative models, box-and-arrow diagrams, etc. Students were asked to make or interpret models to summarize scientific processes approximately: | F28: ='Tool Totals Page'!C43 -> 0 | J28: =IF(F28=0,L28,(IF(AND(F28>0,F28<3),P28,IF(AND(F28>2,F28<5),Q28,IF(F28>4,R28,"?"))))) -> zero times | L28: zero times | M28: 1-2 times during the semester | N28: about 1 time per month | O28: 2-3 times per month | P28: 1-2 times per week | Q28: 3-4 times per week | R28: more than 4 times per week
D29: 27 | E29: Students were asked to interpret or critique scientific literature or media articles related to science approximately: | F29: ='Tool Totals Page'!C47 -> 0 | J29: =IF(F29=0,L29,(IF(AND(F29>0,F29<3),P29,IF(AND(F29>2,F29<5),Q29,IF(F29>4,R29,"?"))))) -> zero times | L29: zero times | M29: 1-2 times during the semester | N29: about 1 time per month | O29: 2-3 times per month | P29: 1-2 times per week | Q29: 3-4 times per week | R29: more than 4 times per week
D30: 28 | E30: Students were asked to communicate scientific ideas in formal written papers or oral presentations approximately: | F30: ='Tool Totals Page'!C46 -> 0 | J30: =IF(F30=0,L30,(IF(AND(F30>0,F30<3),P30,IF(AND(F30>2,F30<5),Q30,IF(F30>4,R30,"?"))))) -> zero times | L30: zero times | M30: 1-2 times during the semester | N30: about 1 time per month | O30: 2-3 times per month | P30: 1-2 times per week | Q30: 3-4 times per week | R30: more than 4 times per week
D31: 29 | E31: Students were provided with examples or explanations showing that course concepts are applicable to everyday human experiences or real-life applications approximately: | F31: ='Tool Totals Page'!C40 -> 0 | J31: =IF(F31=0,L31,(IF(AND(F31>0,F31<3),P31,IF(AND(F31>2,F31<5),Q31,IF(F31>4,R31,"?"))))) -> zero times | L31: zero times | M31: 1-2 times during the semester | N31: about 1 time per month | O31: 2-3 times per month | P31: 1-2 times per week | Q31: 3-4 times per week | R31: more than 4 times per week
D32: 30 | E32: Historical context was used to recognize why certain discoveries or advancements changed the way people viewed related scientific principles approximately: | F32: ='Tool Totals Page'!C41 -> 0 | J32: =IF(F32=0,L32,(IF(AND(F32>0,F32<3),P32,IF(AND(F32>2,F32<5),Q32,IF(F32>4,R32,"?"))))) -> zero times | L32: zero times | M32: 1-2 times during the semester | N32: about 1 time per month | O32: 2-3 times per month | P32: 1-2 times per week | Q32: 3-4 times per week | R32: more than 4 times per week
D33: 31 | E33: Students were asked to interpret or represent concepts in non-written formats, such as pictures, diagrams, videos, simulations, role-plays, graphs, mathematical models, etc. | F33: ='Tool Totals Page'!C44 -> 0 | J33: =IF(F33=0,L33,(IF(AND(F33>0,F33<3),P33,IF(AND(F33>2,F33<5),Q33,IF(F33>4,R33,"?"))))) -> zero times | L33: zero times | M33: 1-2 times during the semester | N33: about 1 time per month | O33: 2-3 times per month | P33: 1-2 times per week | Q33: 3-4 times per week | R33: more than 4 times per week
D34: 32 | E34: Students were asked to practice knowledge or skills from other Science, Technology, Engineering, and Math (STEM) subjects when answering questions or completing class activities. | F34: ='Tool Totals Page'!C58 -> 0 | J34: =IF(F34=0,L34,(IF(AND(F34>0,F34<3),P34,IF(AND(F34>2,F34<5),Q34,IF(F34>4,R34,"?"))))) -> zero times | L34: zero times | M34: 1-2 times during the semester | N34: about 1 time per month | O34: 2-3 times per month | P34: 1-2 times per week | Q34: 3-4 times per week | R34: more than 4 times per week
D35: 33 | E35: Students engaged in higher level thought processes that required them to apply, analyze, incorporate, or evaluate their knowledge or skills rather than just memorizing facts or processes approximately: | F35: ='Tool Totals Page'!C59 -> 0 | J35: =IF(F35=0,L35,(IF(AND(F35>0,F35<3),P35,IF(AND(F35>2,F35<5),Q35,IF(F35>4,R35,"?"))))) -> zero times | L35: zero times | M35: 1-2 times during the semester | N35: about 1 time per month | O35: 2-3 times per month | P35: 1-2 times per week | Q35: 3-4 times per week | R35: more than 4 times per week
D36: 34 | E36: Students were asked to participate in open-ended exercises, such as case-studies or questions in which multiple correct answers are possible: | F36: ='Tool Totals Page'!C60 -> 0 | J36: =IF(F36=0,L36,(IF(AND(F36>0,F36<3),P36,IF(AND(F36>2,F36<5),Q36,IF(F36>4,R36,"?"))))) -> zero times | L36: zero times | M36: 1-2 times during the semester | N36: about 1 time per month | O36: 2-3 times per month | P36: 1-2 times per week | Q36: 3-4 times per week | R36: more than 4 times per week
D37: 35 | E37: Students were provided with opportunities or suggestions to reflect on whether their study habits were effective for learning approximately: | F37: ='Tool Totals Page'!C62 -> 0 | J37: =IF(F37=0,L37,(IF(AND(F37>0,F37<3),P37,IF(AND(F37>2,F37<5),Q37,IF(F37>4,R37,"?"))))) -> zero times | L37: zero times | M37: 1-2 times during the semester | N37: about 1 time per month | O37: 2-3 times per month | P37: 1-2 times per week | Q37: 3-4 times per week | R37: more than 4 times per week
D38: 36 | E38: Students were provided with opportunities or suggestions to reflect on their problem-solving strategies approximately: | F38: ='Tool Totals Page'!C63 -> 0 | J38: =IF(F38=0,L38,(IF(AND(F38>0,F38<3),P38,IF(AND(F38>2,F38<5),Q38,IF(F38>4,R38,"?"))))) -> zero times | L38: zero times | M38: 1-2 times during the semester | N38: about 1 time per month | O38: 2-3 times per month | P38: 1-2 times per week | Q38: 3-4 times per week | R38: more than 4 times per week

Sheet MISTO data for score calculator
A1: V1 | B1: V2 | C1: V3 | D1: V4 | E1: V5 | F1: V6 | G1: V7 | H1: V8 | I1: V9 | J1: V10 | K1: logo | L1: intro | M1: Pg2.2 | N1: Q1_1 | O1: Q2_1 | P1: Q2_4 | Q1: Q2_5 | R1: Q2_6 | S1: Q2_7 | T1: Pg3.2 | U1: Q3 | V1: Q4_4 | W1: Pg4.2 | X1: Q5 | Y1: Q6_1 | Z1: Pg7.2 | AA1: Q7 | AB1: Q8_1 | AC1: Pg8.2 | AD1: Q9 | AE1: Pg9.2 | AF1: Q10 | AG1: Q11 | AH1: Pg10.2 | AI1: Q12 | AJ1: Pg11.2 | AK1: Q13 | AL1: Pg12.2 | AM1: Pg12.3 | AN1: Q14 | AO1: Q15 | AP1: Pg14.2 | AQ1: Q16 | AR1: Pg14.3 | AS1: Q17 | AT1: Q18 | AU1: Pg15.2 | AV1: Q19 | AW1: Q20 | AX1: Q21 | AY1: Pg16.2 | AZ1: Q22 | BA1: Q23 | BB1: Pg17.2 | BC1: Q24 | BD1: Q25 | BE1: Pg18.2 | BF1: Q26 | BG1: Pg19.2 | BH1: Q27 | BI1: Q28 | BJ1: Pg20.2 | BK1: Q29 | BL1: Q30 | BM1: Pg21.2 | BN1: Q31 | BO1: Q32 | BP1: Pg22.2 | BQ1: Q33 | BR1: Q34 | BS1: Pg23.2 | BT1: Q35 | BU1: Q36 | BV1: Open | BW1: LocationLatitude | BX1: LocationLongitude | BY1: LocationAccuracy
A2: ResponseID | B2: ResponseSet | C2: Name | D2: ExternalDataReference | E2: EmailAddress | F2: IPAddress | G2: Status | H2: StartDate | I2: EndDate | J2: Finished | K2: Misto logo | L2: Thank you for taking the time to complete the Measurement Instrument for Scientific Teaching - Ob... | M2: Please complete the survey based only on the lecture portion of this course for the week specifie... | N2: Indicate the average percent of class time during which students were asked to answer questions,...-&nbsp; | O2: Learning goals are statements provided by the instructor that inform students of the specific kno...-<span style="font-size: 13px;">not provided<br>to students</span> | P2: Learning goals are statements provided by the instructor that inform students of the specific kno...-<span style="font-size: 13px;">each broad topic<br>or chapter</span> | Q2: Learning goals are statements provided by the instructor that inform students of the specific kno...-<span style="font-size: 13px;">each specific<br>subtopic or chapter subsection</span> | R2: Learning goals are statements provided by the instructor that inform students of the specific kno...-<span style="font-size: 13px;">some or most individual activities or assignments</span> | S2: Learning goals are statements provided by the instructor that inform students of the specific kno...-<span style="font-size: 13px;">each individual activity or assignment</span> | T2: Please complete the survey based only on the lecture portion of this course for the week specifie... | U2: Polling methods include clickers, Poll Anywhere, Learning Catalytics, colored cards, or other aud... | V2: Indicate the approximate percent of polling questions for which students were asked to discuss th...-&nbsp; | W2: Please complete the survey based only on the lecture portion of this course for the week specifie... | X2: In-class activities other than polling questions include any exercise or activity in which the st... | Y2: Indicate the approximate percent of in-class activities for which students were given some form o...-&nbsp; | Z2: Please complete the survey based only on the lecture portion of this course for the week specifie... | AA2: Students were asked to work in groups of two or more for any portion of this course: | AB2: Indicate the average percent of class time during which students were asked to work in groups of...-&nbsp; | AC2: Please complete the survey based only on the lecture portion of this course for the week specifie... | AD2: In-class activities other than polling questions include any exercise or activity in which the st... | AE2: Please complete the survey based only on the lecture portion of this course for the week specifie... | AF2: The instructor used a strategy, such as assigning roles, to promote the participation of each gro... | AG2: At least some students were asked to verbally share the results of any group work or group discus... | AH2: Please complete the survey based only on the lecture portion of this course for the week specifie... | AI2: Students were asked to comment or make suggestions on each other's work on class assignments, act... | AJ2: Please complete the survey based only on the lecture portion of this course for the week specifie... | AK2: To what extent do you agree with the following statement: Students were encouraged to respond t... | AL2: Please complete the survey based only on the lecture portion of this course for the week specifie... | AM2: Diversity includes differences in race, ethnicity, culture, background, religion, affiliation, ag... | AN2: Examples or analogies used in this course included a diversity of people and cultures. | AO2: Students were encouraged to consider the ideas and contributions of a diversity of researchers an... | AP2: Please complete the survey based only on the lecture portion of this course for the week specifie... | AQ2: To what extent do you agree with the following statement: Students stated interests or asked qu... | AR2: Please complete the survey based only on the lecture portion of this course for the week specifie... | AS2: The instructor was generally aware of instances when a concept was not understood by the majority... | AT2: When it became clear that the class did not understand a concept, students were provided with fol... | AU2: Please complete the survey based only on the lecture portion of this course for the week specifie... | AV2: Students were asked to identify or formulate hypotheses or make predictions about the results of... | AW2: Students were asked to critique scientific hypotheses or experimental strategies approximately: | AX2: Students were asked to design experiments to answer scientific questions approximately: | AY2: Please complete the survey based only on the lecture portion of this course for the week specifie... | AZ2: Students were asked to summarize, interpret, or analyze data using mathematical or computational... | BA2: Students were asked to make graphs or tables approximately: | BB2: Please complete the survey based only on the lecture portion of this course for the week specifie... | BC2: Students were asked to analyze or interpret scientific data shown in graphs or tables approximately: | BD2: Students were asked to use data to make decisions or defend scientific conclusions approximately: | BE2: Please complete the survey based only on the lecture portion of this course for the week specifie... | BF2: Models are tools used to summarize a scientific process, including drawing pathways, diagrams, sc... | BG2: Please complete the survey based only on the lecture portion of this course for the week specifie... | BH2: Students were asked to interpret or critique scientific literature or media articles related to s... | BI2: Students were asked to communicate scientific ideas in formal written papers or oral presentation... | BJ2: Please complete the survey based only on the lecture portion of this course for the week specifie... | BK2: Students were provided with examples or explanations showing that course concepts are applicable... | BL2: Historical context was used to recognize why certain discoveries or advancements changed the way... | BM2: Please complete the survey based only on the lecture portion of this course for the week specifie... | BN2: Students were asked to interpret or represent concepts in non-written formats, such as pictures,... | BO2: Students were asked to practice knowledge or skills from other Science, Technology, Engineering,... | BP2: Please complete the survey based only on the lecture portion of this course for the week specifie... | BQ2: Students engaged in higher level thought processes that required them to apply, analyze, incorpor... | BR2: Students were asked to participate in open-ended exercises, such as case-studies or questions in... | BS2: Please complete the survey based only on the lecture portion of this course for the week specifie... | BT2: Students were provided with opportunities or suggestions to reflect on whether their study habits... | BU2: Students were provided with opportunities or suggestions to reflect on their problem-solving stra... | BV2: Please provide any additional feedback or comments about this course or any of your survey respon... | BW2: LocationLatitude | BX2: LocationLongitude | BY2: LocationAccuracy
A3: . | B3: . | C3: . | D3: . | E3: . | F3: . | G3: . | H3: . | I3: . | J3: . | K3: . | L3: . | M3: . | N3: ='Survey Information'!J3*10 -> 0 | O3: =IF(ISNUMBER(SEARCH("not provided to students",'Survey Information'!J4)),1,".") -> . | P3: =IF(ISNUMBER(SEARCH("each broad topic or chapter",'Survey Information'!J4)),1,".") -> . | Q3: =IF(ISNUMBER(SEARCH("each specific subtopic or chapter subsection",'Survey Information'!J4)),1,".") -> . | R3: =IF(ISNUMBER(SEARCH("some or most individual activities or assignments",'Survey Information'!J4)),1,".") -> . | S3: =IF(ISNUMBER(SEARCH("each individual activity or assignment",'Survey Information'!J4)),1,".") -> . | T3: . | U3: =(IF('Survey Information'!J5='Survey Information'!L5,0, (IF('Survey Information'!J5='Survey Information'!M5,1, (IF('Survey Information'!J5='Survey Information'!N5,2, (IF('Survey Information'!J5='Survey Information'!O5,3, (IF('Survey Information'!J5='Survey Information'!P5,4, (IF('Survey Information'!J5='Survey Information'!Q5,5,( IF('Survey Information'!J5='Survey Information'!R5,6,"NA")))))))))))))) -> 0 | V3: ='Survey Information'!J6*10 -> 0 | W3: . | X3: =(IF('Survey Information'!J7='Survey Information'!L7,0, (IF('Survey Information'!J7='Survey Information'!M7,1, (IF('Survey Information'!J7='Survey Information'!N7,2, (IF('Survey Information'!J7='Survey Information'!O7,3, (IF('Survey Information'!J7='Survey Information'!P7,4, (IF('Survey Information'!J7='Survey Information'!Q7,5, (IF('Survey Information'!J7='Survey Information'!R7,6,"NA")))))))))))))) -> 0 | Y3: ='Survey Information'!J8*10 -> 0 | Z3: . | AA3: =(IF('Survey Information'!J9='Survey Information'!L9,1, (IF('Survey Information'!J9='Survey Information'!M9,0,"NA")))) -> 0 | AB3: ='Survey Information'!J10*10 -> 0 | AC3: . | AD3: =(IF('Survey Information'!J11='Survey Information'!L11,0, (IF('Survey Information'!J11='Survey Information'!M11,1, (IF('Survey Information'!J11='Survey Information'!N11,2, (IF('Survey Information'!J11='Survey Information'!O11,3, (IF('Survey Information'!J11='Survey Information'!P11,4, (IF('Survey Information'!J11='Survey Information'!Q11,5, (IF('Survey Information'!J11='Survey Information'!R11,6,"NA")))))))))))))) -> 0 | AE3: . | AF3: =(IF('Survey Information'!J12='Survey Information'!L12,0, (IF('Survey Information'!J12='Survey Information'!M12,1, (IF('Survey Information'!J12='Survey Information'!N12,2, (IF('Survey Information'!J12='Survey Information'!O12,3, (IF('Survey Information'!J12='Survey Information'!P12,4, (IF('Survey Information'!J12='Survey Information'!Q12,5, (IF('Survey Information'!J12='Survey Information'!R12,6,"NA")))))))))))))) -> 0 | AG3: =(IF('Survey Information'!J13='Survey Information'!L13,0, (IF('Survey Information'!J13='Survey Information'!M13,1, (IF('Survey Information'!J13='Survey Information'!N13,2, (IF('Survey Information'!J13='Survey Information'!O13,3, (IF('Survey Information'!J13='Survey Information'!P13,4, (IF('Survey Information'!J13='Survey Information'!Q13,5, (IF('Survey Information'!J13='Survey Information'!R13,6,"NA")))))))))))))) -> 0 | AH3: . | AI3: =(IF('Survey Information'!J14='Survey Information'!L14,0, (IF('Survey Information'!J14='Survey Information'!M14,1, (IF('Survey Information'!J14='Survey Information'!N14,2, (IF('Survey Information'!J14='Survey Information'!O14,3, (IF('Survey Information'!J14='Survey Information'!P14,4, (IF('Survey Information'!J14='Survey Information'!Q14,5, (IF('Survey Information'!J14='Survey Information'!R14,6,"NA")))))))))))))) -> 0 | AJ3: . | AK3: =(IF('Survey Information'!J15='Survey Information'!L15,0, (IF('Survey Information'!J15="strongly disagree",1, (IF('Survey Information'!J15="disagree",2, (IF('Survey Information'!J15="somewhat disagree",3, (IF('Survey Information'!J15="somewhat agree",4, (IF('Survey Information'!J15="agree",5, (IF('Survey Information'!J15="strongly agree",6,"NA")))))))))))))) -> 0 | AL3: . | AM3: . | AN3: =(IF('Survey Information'!J16='Survey Information'!L16,0, (IF('Survey Information'!J16="strongly disagree",1, (IF('Survey Information'!J16="disagree",2, (IF('Survey Information'!J16="somewhat disagree",3, (IF('Survey Information'!J16="somewhat agree",4, (IF('Survey Information'!J16="agree",5, (IF('Survey Information'!J16="strongly agree",6,"NA")))))))))))))) -> 0 | AO3: =(IF('Survey Information'!J17='Survey Information'!L17,0, (IF('Survey Information'!J17="strongly disagree",1, (IF('Survey Information'!J17="disagree",2, (IF('Survey Information'!J17="somewhat disagree",3, (IF('Survey Information'!J17="somewhat agree",4, (IF('Survey Information'!J17="agree",5, (IF('Survey Information'!J17="strongly agree",6,"NA")))))))))))))) -> 0 | AP3: . | AQ3: =(IF('Survey Information'!J18='Survey Information'!L18,0, (IF('Survey Information'!J18="strongly disagree",1, (IF('Survey Information'!J18="disagree",2, (IF('Survey Information'!J18="somewhat disagree",3, (IF('Survey Information'!J18="somewhat agree",4, (IF('Survey Information'!J18="agree",5, (IF('Survey Information'!J18="strongly agree",6,"NA")))))))))))))) -> 3 | AR3: . | AS3: =(IF('Survey Information'!J19='Survey Information'!L19,0, (IF('Survey Information'!J19='Survey Information'!M19,1, (IF('Survey Information'!J19='Survey Information'!N19,2, (IF('Survey Information'!J19='Survey Information'!O19,3, (IF('Survey Information'!J19='Survey Information'!P19,4, (IF('Survey Information'!J19='Survey Information'!Q19,5, (IF('Survey Information'!J19='Survey Information'!R19,6,"NA")))))))))))))) -> 4 | AT3: =(IF('Survey Information'!J20='Survey Information'!L20,0, (IF('Survey Information'!J20='Survey Information'!M20,1, (IF('Survey Information'!J20='Survey Information'!N20,2, (IF('Survey Information'!J20='Survey Information'!O20,3, (IF('Survey Information'!J20='Survey Information'!P20,4, (IF('Survey Information'!J20='Survey Information'!Q20,5, (IF('Survey Information'!J20='Survey Information'!R20,6,"NA")))))))))))))) -> 0 | AU3: . | AV3: =(IF('Survey Information'!J21='Survey Information'!L21,0, (IF('Survey Information'!J21='Survey Information'!M21,1, (IF('Survey Information'!J21='Survey Information'!N21,2, (IF('Survey Information'!J21='Survey Information'!O21,3, (IF('Survey Information'!J21='Survey Information'!P21,4, (IF('Survey Information'!J21='Survey Information'!Q21,5, (IF('Survey Information'!J21='Survey Information'!R21,6,"NA")))))))))))))) -> 0 | AW3: =(IF('Survey Information'!J22='Survey Information'!L22,0, (IF('Survey Information'!J22='Survey Information'!M22,1, (IF('Survey Information'!J22='Survey Information'!N22,2, (IF('Survey Information'!J22='Survey Information'!O22,3, (IF('Survey Information'!J22='Survey Information'!P22,4, (IF('Survey Information'!J22='Survey Information'!Q22,5, (IF('Survey Information'!J22='Survey Information'!R22,6,"NA")))))))))))))) -> 0 | AX3: =(IF('Survey Information'!J23='Survey Information'!L23,0, (IF('Survey Information'!J23='Survey Information'!M23,1, (IF('Survey Information'!J23='Survey Information'!N23,2, (IF('Survey Information'!J23='Survey Information'!O23,3, (IF('Survey Information'!J23='Survey Information'!P23,4, (IF('Survey Information'!J23='Survey Information'!Q23,5, (IF('Survey Information'!J23='Survey Information'!R23,6,"NA")))))))))))))) -> 0 | AY3: . | AZ3: =(IF('Survey Information'!J24='Survey Information'!L24,0, (IF('Survey Information'!J24='Survey Information'!M24,1, (IF('Survey Information'!J24='Survey Information'!N24,2, (IF('Survey Information'!J24='Survey Information'!O24,3, (IF('Survey Information'!J24='Survey Information'!P24,4, (IF('Survey Information'!J24='Survey Information'!Q24,5, (IF('Survey Information'!J24='Survey Information'!R24,6,"NA")))))))))))))) -> 0 | BA3: =(IF('Survey Information'!J25='Survey Information'!L25,0, (IF('Survey Information'!J25='Survey Information'!M25,1, (IF('Survey Information'!J25='Survey Information'!N25,2, (IF('Survey Information'!J25='Survey Information'!O25,3, (IF('Survey Information'!J25='Survey Information'!P25,4, (IF('Survey Information'!J25='Survey Information'!Q25,5, (IF('Survey Information'!J25='Survey Information'!R25,6,"NA")))))))))))))) -> 0 | BB3: . | BC3: =(IF('Survey Information'!J26='Survey Information'!L26,0, (IF('Survey Information'!J26='Survey Information'!M26,1, (IF('Survey Information'!J26='Survey Information'!N26,2, (IF('Survey Information'!J26='Survey Information'!O26,3, (IF('Survey Information'!J26='Survey Information'!P26,4, (IF('Survey Information'!J26='Survey Information'!Q26,5, (IF('Survey Information'!J26='Survey Information'!R26,6,"NA")))))))))))))) -> 0 | BD3: =(IF('Survey Information'!J27='Survey Information'!L27,0, (IF('Survey Information'!J27='Survey Information'!M27,1, (IF('Survey Information'!J27='Survey Information'!N27,2, (IF('Survey Information'!J27='Survey Information'!O27,3, (IF('Survey Information'!J27='Survey Information'!P27,4, (IF('Survey Information'!J27='Survey Information'!Q27,5, (IF('Survey Information'!J27='Survey Information'!R27,6,"NA")))))))))))))) -> 0 | BE3: . | BF3: =(IF('Survey Information'!J28='Survey Information'!L28,0, (IF('Survey Information'!J28='Survey Information'!M28,1, (IF('Survey Information'!J28='Survey Information'!N28,2, (IF('Survey Information'!J28='Survey Information'!O28,3, (IF('Survey Information'!J28='Survey Information'!P28,4, (IF('Survey Information'!J28='Survey Information'!Q28,5, (IF('Survey Information'!J28='Survey Information'!R28,6,"NA")))))))))))))) -> 0 | BG3: . | BH3: =(IF('Survey Information'!J29='Survey Information'!L29,0, (IF('Survey Information'!J29='Survey Information'!M29,1, (IF('Survey Information'!J29='Survey Information'!N29,2, (IF('Survey Information'!J29='Survey Information'!O29,3, (IF('Survey Information'!J29='Survey Information'!P29,4, (IF('Survey Information'!J29='Survey Information'!Q29,5, (IF('Survey Information'!J29='Survey Information'!R29,6,"NA")))))))))))))) -> 0 | BI3: =(IF('Survey Information'!J30='Survey Information'!L30,0, (IF('Survey Information'!J30='Survey Information'!M30,1, (IF('Survey Information'!J30='Survey Information'!N30,2, (IF('Survey Information'!J30='Survey Information'!O30,3, (IF('Survey Information'!J30='Survey Information'!P30,4, (IF('Survey Information'!J30='Survey Information'!Q30,5, (IF('Survey Information'!J30='Survey Information'!R30,6,"NA")))))))))))))) -> 0 | BJ3: . | BK3: =(IF('Survey Information'!J31='Survey Information'!L31,0, (IF('Survey Information'!J31='Survey Information'!M31,1, (IF('Survey Information'!J31='Survey Information'!N31,2, (IF('Survey Information'!J31='Survey Information'!O31,3, (IF('Survey Information'!J31='Survey Information'!P31,4, (IF('Survey Information'!J31='Survey Information'!Q31,5, (IF('Survey Information'!J31='Survey Information'!R31,6,"NA")))))))))))))) -> 0 | BL3: =(IF('Survey Information'!J32='Survey Information'!L32,0, (IF('Survey Information'!J32='Survey Information'!M32,1, (IF('Survey Information'!J32='Survey Information'!N32,2, (IF('Survey Information'!J32='Survey Information'!O32,3, (IF('Survey Information'!J32='Survey Information'!P32,4, (IF('Survey Information'!J32='Survey Information'!Q32,5, (IF('Survey Information'!J32='Survey Information'!R32,6,"NA")))))))))))))) -> 0 | BM3: . | BN3: =(IF('Survey Information'!J33='Survey Information'!L33,0, (IF('Survey Information'!J33='Survey Information'!M33,1, (IF('Survey Information'!J33='Survey Information'!N33,2, (IF('Survey Information'!J33='Survey Information'!O33,3, (IF('Survey Information'!J33='Survey Information'!P33,4, (IF('Survey Information'!J33='Survey Information'!Q33,5, (IF('Survey Information'!J33='Survey Information'!R33,6,"NA")))))))))))))) -> 0 | BO3: =(IF('Survey Information'!J34='Survey Information'!L34,0, (IF('Survey Information'!J34='Survey Information'!M34,1, (IF('Survey Information'!J34='Survey Information'!N34,2, (IF('Survey Information'!J34='Survey Information'!O34,3, (IF('Survey Information'!J34='Survey Information'!P34,4, (IF('Survey Information'!J34='Survey Information'!Q34,5, (IF('Survey Information'!J34='Survey Information'!R34,6,"NA")))))))))))))) -> 0 | BP3: . | BQ3: =(IF('Survey Information'!J35='Survey Information'!L35,0, (IF('Survey Information'!J35='Survey Information'!M35,1, (IF('Survey Information'!J35='Survey Information'!N35,2, (IF('Survey Information'!J35='Survey Information'!O35,3, (IF('Survey Information'!J35='Survey Information'!P35,4, (IF('Survey Information'!J35='Survey Information'!Q35,5, (IF('Survey Information'!J35='Survey Information'!R35,6,"NA")))))))))))))) -> 0 | BR3: =(IF('Survey Information'!J36='Survey Information'!L36,0, (IF('Survey Information'!J36='Survey Information'!M36,1, (IF('Survey Information'!J36='Survey Information'!N36,2, (IF('Survey Information'!J36='Survey Information'!O36,3, (IF('Survey Information'!J36='Survey Information'!P36,4, (IF('Survey Information'!J36='Survey Information'!Q36,5, (IF('Survey Information'!J36='Survey Information'!R36,6,"NA")))))))))))))) -> 0 | BS3: . | BT3: =(IF('Survey Information'!J37='Survey Information'!L37,0, (IF('Survey Information'!J37='Survey Information'!M37,1, (IF('Survey Information'!J37='Survey Information'!N37,2, (IF('Survey Information'!J37='Survey Information'!O37,3, (IF('Survey Information'!J37='Survey Information'!P37,4, (IF('Survey Information'!J37='Survey Information'!Q37,5, (IF('Survey Information'!J37='Survey Information'!R37,6,"NA")))))))))))))) -> 0 | BU3: =(IF('Survey Information'!J38='Survey Information'!L38,0, (IF('Survey Information'!J38='Survey Information'!M38,1, (IF('Survey Information'!J38='Survey Information'!N38,2, (IF('Survey Information'!J38='Survey Information'!O38,3, (IF('Survey Information'!J38='Survey Information'!P38,4, (IF('Survey Information'!J38='Survey Information'!Q38,5, (IF('Survey Information'!J38='Survey Information'!R38,6,"NA")))))))))))))) -> 0 | BV3: . | BW3: . | BX3: . | BY3: .
