Workbook

Sheet Title
A2: Additional File 2. MISTO video scoring workbook.
A3: This workbook contains the tools needed to score classroom videos for Scientific Teaching (ST) practices. Use the "Class Session" tabs to record ST practices from classroom videos. Survey responses will automatically populate on the "Survey Information" tab. Data to use in the MISTO general scoring template (Additional File 6) will automatically populate on the "MISTO data for score calculator" tab. The scoring template can be used to generate MISTO and MISTO subcategory scores.
A5: *note: some worksheets are protected to prevent errors and can be unlocked using the password "misto"

Sheet Class Session 1
A1: MISTO# | C1: video timestamp (0-4:59 increments): | D1: 0-5 | E1: 5-10 | F1: 10-15 | G1: 15-20 | H1: 20-25 | I1: 25-30 | J1: 30-35 | K1: 35-40 | L1: 40-45 | M1: 45-50 | N1: 50-55 | O1: 55-60 | P1: 60-65 | Q1: 65-70 | R1: > 70 | S1: Totals | T1: Comments | U1: Notes
C2: Learning Goals
A3: 2 | B3: indicate all that apply | C3: Learning goals: (A) not provided (B) each broad topic or chapter (C) each specific subtopic or chapter subsection (D) some or most individual activities or assignments (E) each individual activity or assignment | D3: > | E3: > | F3: > | G3: > | H3: > | I3: > | J3: > | K3: > | L3: > | M3: > | N3: > | O3: > | P3: > | Q3: > | R3: > | U3: Record each of these as A, B, C, D, E as described, type in all observed into totals box.
C4: Polling Questions
A5: 3 | B5: # times | C5: polling question asked (not a re-poll question) | S5: =SUM(D5:R5) -> 0 | U5: Count # times polling question asked; re-poll questions are not counted as an additional question.
A6: 1 | B6: # minutes | C6: spent on polling method (to nearest 0.25 min) | S6: =SUM(D6:R6) -> 0 | U6: Use a timer to time each event - include instructor introducing problem (specific to the polling question) students solving problem, and any overview of answer (round UP to nearest .25 min).
A7: 4&7 | B7: # times | C7: polling question discussed in groups | S7: =SUM(D7:R7) -> 0 | U7: Count # times students worked in groups of 2 or more; also include when audible discussion can be heard even if instructor does not verbally specify working in pairs/groups.
A8: 8 | B8: # minutes | C8: spent working in groups (to nearest 0.25 min) (polling method) | S8: =SUM(D8:R8) -> 0 | U8: Use a timer to time each event - include instructor introducing problem (specific to the polling question), students solving problem, and any overview of answer (round UP to nearest .25 min).
C9: Non-polling question/In-class activities | U9: Only include events in which students are actively engaged in doing something (not just passively listening or watching).
A10: 5 | B10: # times | C10: in-class activities used (includes non-polling questions, discussions & other activities) | S10: =SUM(D10:R10) -> 0 | U10: Count each event (include question/activity start and answers/follow-up on questions as one activity). If there are clear breaks (many minutes of another activity or lecture) between question and answer sessions then count as multiple events. In the case of somewhat continuous activity with unclear breaks between, use a change of slide or change of topic to delineate one activity from the next. DO NOT count exams or quizzes. DO count non-polling questions from the instructor (non-rhetorical) that require more than a one-word simple answer.
A11: 1 | B11: # minutes | C11: spent on in-class activities (to nearest 0.25 min) | S11: =SUM(D11:R11) -> 0 | U11: Use a timer to time each event - include instructor introducing activity/non-polling question, students completing the activity/question, and any overview of answer(s) (round UP to nearest .25 min).
A12: 9&7 | B12: # times | C12: students worked in groups on in-class activities | S12: =SUM(D12:R12) -> 0 | U12: Count # times students worked in groups of 2 or more during in-class activity (non-polling). Also include when audible discussion can be heard even if instructor does not verbally specify working in pairs/groups, follow individual activity guidelines specified in cell U10.
A13: 8 | B13: # minutes | C13: spent working in groups (to nearest 0.25 min) (in-class activity) | S13: =SUM(D13:R13) -> 0 | U13: Use a timer to time each event - include instructor introducing activity/non-polling question, students completing the activity/question, and any overview of answer(s) (round UP to nearest .25 min).
A14: 6 | B14: # times | C14: instructor gives feedback on in-class activity (beyond correct/incorrect) | S14: =SUM(D14:R14) -> 0 | U14: Count # times instructor provides additional information/feedback beyond correct/incorrect. Count once per activity. Include if instructor circulates among students during in-class activity and discusses activity/answers with individual or groups of students. DO NOT count feedback on polling questions.
C15: Other aspects of group work
A16: 11 | B16: # times | C16: students shared results of group work/discussion with whole class | S16: =SUM(D16:R16) -> 0 | U16: Count # times a student shared group work or group answer during whole-class discussions. Include polling methods AND other in-class/non-polling activities. ONLY use during group work, NOT individual work.
A17: 10 | B17: # times | C17: instructor used strategy to promote group participation (e.g. assign roles) | S17: =SUM(D17:R17) -> 0 | U17: Count # times participation strategy used during group work to hold individuals accountable for group effort. WOULD include random calling on an individual to answer for the group but would NOT include calling on the group and allowing anyone to answer for the group.
C18: Classroom dynamics
A19: 13 | B19: # times | C19: whole-class discussion occurred (non-group work) | S19: =SUM(D19:R19) -> 0 | U19: Count # times discussion occurred with the WHOLE class, without the group work component. Whole-class discussion = students are engaged in whole class discussion by offering explanations, opinion, judgment, etc. to whole class, often facilitated by instructor (Smith et al., 2013).
A20: 13 | B20: # times | C20: students EXPLICTLY encouraged to respond to classmates' ideas during whole-class discussions (groups AND non-group) | S20: =SUM(D20:R20) -> 0 | U20: Count # times one student responded to another student's idea or answer during whole-class discussion with or without group work component. Also includes if instructor explicitly encourages students to do so then waits enough time (>10 sec) to permit responses (even if no students respond). Only count one time per topic: if multiple students are asked to comment on the original idea, it is one group discussion.
A21: 13 | B21: # times | C21: students were IMPLICITLY encouraged to respond to classmates' ideas during whole-class discussions (groups AND non-group) using NON_VERBAL cues | S21: =SUM(D21:R21) -> 0 | U21: Count # times instructor used NON-VERBAL cues (e.g., wait time) during whole-class discussions to implicitly encourage students to respond to another student AND a student responded OR the instructor waited enough time (>10 sec) to permit responses. Includes both with and without group work. Only count one time per topic: if multiple students are asked to comment on the original idea, it is one group discussion.
A22: 13 | B22: # times | C22: students EXPLICITLY DIScouraged from responding to classmates' ideas during whole-class discussions (groups AND non-group) | S22: =SUM(D22:R22) -> 0 | U22: Count # times instructor made explicit request for students NOT to respond to others during whole-class discussions. Includes both with and without group work component.
A23: 13 | B23: # times | C23: students IMPLICITLY DIScouraged to respond to classmates' ideas during whole-class discussions (groups AND non-group) | S23: =SUM(D23:R23) -> 0 | U23: Count # times instructor made an implicit indication for students NOT to respond to others during whole-class discussions (including non-verbal cues). Includes both with and without group work component.
A24: 16 | B24: # times | C24: students state interests or ask non-clarification questions | S24: =SUM(D24:R24) -> 0 | U24: Count # times students asked original questions (not just to clarify course content) or talked about their own interests. Does NOT include if student B asks a direct follow-up to student A's original question. DOES include if student B asks a different original question or tangentially related question immediately after student A. Also includes if instructor refers question to an out-of-class forum accessible to all students (e.g., discussion board) to respond to question AFTER listening to student question.
A25: 16 | B25: # times | C25: students EXPLICITLY DIScouraged from stating interests or asking non-clarification questions | S25: =SUM(D25:R25) -> 0 | U25: Count # times instructor made explicit request for students NOT to state interests or ask original (non-clarification) questions.
A26: 16 | B26: # times | C26: students IMPLICITLY DIScouraged from stating interests or asking non-clarification questions | S26: =SUM(D26:R26) -> 0 | U26: Count # times instructor made implicit indication for students NOT to state interests or ask original (non-clarification) questions (includes non-verbal cues).
A27: 12 | B27: # times | C27: students asked to comment on each other's work (assignments, activities, or projects) | S27: =SUM(D27:R27) -> 0 | U27: Count # times students engaged in peer review of assignments.
C28: Instructor Awareness
A29: 17 | B29: # times | C29: it was obvious or seemed like students did not understand course content or held misconceptions | S29: =SUM(D29:R29) -> 0 | U29: Count # times it was obvious or seemed like a substantial portion (<15%) of students did not understand concepts or had misconceptions. Includes verbal and non-verbal indications; also includes if instructor solicits clarification questions from students AND either multiple students respond with confusion OR instructor waits for over 10 seconds for responses.
A30: 17 | B30: # times | C30: instructor was aware that students did not understand course content or held misconceptions | S30: =SUM(D30:R30) -> 0 | U30: Count # times instructor obviously recognized that a substantial portion (<15%) of students did not understand concepts or had misconceptions. Includes verbal and non-verbal indications; also includes if instructor solicits clarification questions from students AND either multiple students respond with confusion OR instructor waits for over 10 seconds for responses. Should coincide with previous item (students did not understand).
A31: 18 | B31: # times | C31: instructor provided follow-up on misunderstood concepts | S31: =SUM(D31:R31) -> 0 | U31: Count # times instructor took action to address lack of understanding or misconception (e.g. new explanation, exam study suggestions, etc). Should coincide with previous item (awareness of misunderstanding).
C32: Inclusivity
A33: 15 | B33: # times | C33: ideas/contributions of diverse groups were explicitly excluded from discussion | S33: =SUM(D33:R33) -> 0 | U33: Count # times ideas/contributions of researchers, patients, populations, or other group were mentioned but diverse groups were explicitly excluded from discussion or any exclusive language occurred (e.g. "There are no women geneticists").
A34: 15 | B34: # times | C34: ideas/contributions of unspecified or majority individuals/groups were discussed | S34: =SUM(D34:R34) -> 0 | U34: Count # times ideas/contributions of researchers, patients, populations or other group were discussed WITHOUT mentioning demographic traits OR majority group (white/males) was discussed. Does NOT include if author/researcher names are listed on a slide without verbal mention of names (e.g. "Smith and Jones showed this result"). DOES include verbal mention of author/researchers OR a picture of authors/researchers is shown.
A35: 15 | B35: # times | C35: ideas/contributions of diverse individuals/groups discussed (includes pictures if indicate diverse person(s)) | S35: =SUM(D35:R35) -> 0 | U35: Count # times idea/contribution discussed was attributed to diverse person/group (non-majority ethnicity, nationality, sex, gender, age, ETC). DOES include if picture allows identification of diverse person/group (e.g., photo of Henrietta Lacks) OR if name AND non-majority status is mentioned "a female/woman researcher..."). DOES NOT include if author/researcher names are on slide without either verbal mention of non-majority status or picture of authors.
A36: 14 | B36: # times | C36: examples/analogies of diverse groups were explicitly excluded from discussion | S36: =SUM(D36:R36) -> 0 | U36: Count # times that examples/analogies from diverse groups were explicitly excluded from discussion or any exclusive language occurred (e.g., "we're not going to focus on that population").
A37: 14 | B37: # times | C37: examples/analogies used represented unspecified or majority individuals/groups | S37: =SUM(D37:R37) -> 0 | U37: Count # times example/analogy highlights majority group (white/males) OR demographic identification not indicated.
A38: 14 | B38: # times | C38: examples/analogies used represented diverse individuals/groups | S38: =SUM(D38:R38) -> 0 | U38: Count # times example/analogy highlights diverse person/group (other ethnicity, nationality, sex, gender, age, ETC). Include if picture allows identification of diverse person/group.
C39: Real-life context
A40: 29 | B40: # times | C40: real-life/everyday examples discussed | S40: =SUM(D40:R40) -> 0 | U40: Count # times everyday human example or real-life example used. Must be specific, does not include "cell respiration in human mitochondria," but would include, "when you eat an apple, your body does this…" Main theme - scientific concepts are taken out of the standard abstract context and presented as reality/tangible examples. Includes uses of popularly familiar examples (e.g., dog breeds, deaf/blind individuals, etc.) unless whole course is devoted to that example. If multiple examples used to explain one concept, only count as one real-life example.
...

Sheet Class Session 2
A1: MISTO# | C1: video timestamp (0-4:59 increments): | D1: 0-5 | E1: 5-10 | F1: 10-15 | G1: 15-20 | H1: 20-25 | I1: 25-30 | J1: 30-35 | K1: 35-40 | L1: 40-45 | M1: 45-50 | N1: 50-55 | O1: 55-60 | P1: 60-65 | Q1: 65-70 | R1: > 70 | S1: Totals | T1: Comments | U1: Notes
C2: Learning Goals
A3: 2 | B3: indicate all that apply | C3: Learning goals: (A) not provided (B) each broad topic or chapter (C) each specific subtopic or chapter subsection (D) some or most individual activities or assignments (E) each individual activity or assignment | D3: > | E3: > | F3: > | G3: > | H3: > | I3: > | J3: > | K3: > | L3: > | M3: > | N3: > | O3: > | P3: > | Q3: > | R3: > | U3: Record each of these as A, B, C, D, E as described, type in all observed into totals box.
C4: Polling Questions
A5: 3 | B5: # times | C5: polling question asked (not a re-poll question) | S5: =SUM(D5:R5) -> 0 | U5: Count # times polling question asked; re-poll questions are not counted as an additional question.
A6: 1 | B6: # minutes | C6: spent on polling method (to nearest 0.25 min) | S6: =SUM(D6:R6) -> 0 | U6: Use a timer to time each event - include instructor introducing problem (specific to the polling question) students solving problem, and any overview of answer (round UP to nearest .25 min).
A7: 4&7 | B7: # times | C7: polling question discussed in groups | S7: =SUM(D7:R7) -> 0 | U7: Count # times students worked in groups of 2 or more; also include when audible discussion can be heard even if instructor does not verbally specify working in pairs/groups.
A8: 8 | B8: # minutes | C8: spent working in groups (to nearest 0.25 min) (polling method) | S8: =SUM(D8:R8) -> 0 | U8: Use a timer to time each event - include instructor introducing problem (specific to the polling question), students solving problem, and any overview of answer (round UP to nearest .25 min).
C9: Non-polling question/In-class activities | U9: Only include events in which students are actively engaged in doing something (not just passively listening or watching).
A10: 5 | B10: # times | C10: in-class activities used (includes non-polling questions, discussions & other activities) | S10: =SUM(D10:R10) -> 0 | U10: Count each event (include question/activity start and answers/follow-up on questions as one activity). If there are clear breaks (many minutes of another activity or lecture) between question and answer sessions then count as multiple events. In the case of somewhat continuous activity with unclear breaks between, use a change of slide or change of topic to delineate one activity from the next. DO NOT count exams or quizzes. DO count non-polling questions from the instructor (non-rhetorical) that require more than a one-word simple answer.
A11: 1 | B11: # minutes | C11: spent on in-class activities (to nearest 0.25 min) | S11: =SUM(D11:R11) -> 0 | U11: Use a timer to time each event - include instructor introducing activity/non-polling question, students completing the activity/question, and any overview of answer(s) (round UP to nearest .25 min).
A12: 9&7 | B12: # times | C12: students worked in groups on in-class activities | S12: =SUM(D12:R12) -> 0 | U12: Count # times students worked in groups of 2 or more during in-class activity (non-polling). Also include when audible discussion can be heard even if instructor does not verbally specify working in pairs/groups, follow individual activity guidelines specified in cell U10.
A13: 8 | B13: # minutes | C13: spent working in groups (to nearest 0.25 min) (in-class activity) | S13: =SUM(D13:R13) -> 0 | U13: Use a timer to time each event - include instructor introducing activity/non-polling question, students completing the activity/question, and any overview of answer(s) (round UP to nearest .25 min).
A14: 6 | B14: # times | C14: instructor gives feedback on in-class activity (beyond correct/incorrect) | S14: =SUM(D14:R14) -> 0 | U14: Count # times instructor provides additional information/feedback beyond correct/incorrect. Count once per activity. Include if instructor circulates among students during in-class activity and discusses activity/answers with individual or groups of students. DO NOT count feedback on polling questions.
C15: Other aspects of group work
A16: 11 | B16: # times | C16: students shared results of group work/discussion with whole class | S16: =SUM(D16:R16) -> 0 | U16: Count # times a student shared group work or group answer during whole-class discussions. Include polling methods AND other in-class/non-polling activities. ONLY use during group work, NOT individual work.
A17: 10 | B17: # times | C17: instructor used strategy to promote group participation (e.g. assign roles) | S17: =SUM(D17:R17) -> 0 | U17: Count # times participation strategy used during group work to hold individuals accountable for group effort. WOULD include random calling on an individual to answer for the group but would NOT include calling on the group and allowing anyone to answer for the group.
C18: Classroom dynamics
A19: 13 | B19: # times | C19: whole-class discussion occurred (non-group work) | S19: =SUM(D19:R19) -> 0 | U19: Count # times discussion occurred with the WHOLE class, without the group work component. Whole-class discussion = students are engaged in whole class discussion by offering explanations, opinion, judgment, etc. to whole class, often facilitated by instructor (Smith et al., 2013).
A20: 13 | B20: # times | C20: students EXPLICTLY encouraged to respond to classmates' ideas during whole-class discussions (groups AND non-group) | S20: =SUM(D20:R20) -> 0 | U20: Count # times one student responded to another student's idea or answer during whole-class discussion with or without group work component. Also includes if instructor explicitly encourages students to do so then waits enough time (>10 sec) to permit responses (even if no students respond). Only count one time per topic: if multiple students are asked to comment on the original idea, it is one group discussion.
A21: 13 | B21: # times | C21: students were IMPLICITLY encouraged to respond to classmates' ideas during whole-class discussions (groups AND non-group) using NON_VERBAL cues | S21: =SUM(D21:R21) -> 0 | U21: Count # times instructor used NON-VERBAL cues (e.g., wait time) during whole-class discussions to implicitly encourage students to respond to another student AND a student responded OR the instructor waited enough time (>10 sec) to permit responses. Includes both with and without group work. Only count one time per topic: if multiple students are asked to comment on the original idea, it is one group discussion.
A22: 13 | B22: # times | C22: students EXPLICITLY DIScouraged from responding to classmates' ideas during whole-class discussions (groups AND non-group) | S22: =SUM(D22:R22) -> 0 | U22: Count # times instructor made explicit request for students NOT to respond to others during whole-class discussions. Includes both with and without group work component.
A23: 13 | B23: # times | C23: students IMPLICITLY DIScouraged to respond to classmates' ideas during whole-class discussions (groups AND non-group) | S23: =SUM(D23:R23) -> 0 | U23: Count # times instructor made an implicit indication for students NOT to respond to others during whole-class discussions (including non-verbal cues). Includes both with and without group work component.
A24: 16 | B24: # times | C24: students state interests or ask non-clarification questions | S24: =SUM(D24:R24) -> 0 | U24: Count # times students asked original questions (not just to clarify course content) or talked about their own interests. Does NOT include if student B asks a direct follow-up to student A's original question. DOES include if student B asks a different original question or tangentially related question immediately after student A. Also includes if instructor refers question to an out-of-class forum accessible to all students (e.g., discussion board) to respond to question AFTER listening to student question.
A25: 16 | B25: # times | C25: students EXPLICITLY DIScouraged from stating interests or asking non-clarification questions | S25: =SUM(D25:R25) -> 0 | U25: Count # times instructor made explicit request for students NOT to state interests or ask original (non-clarification) questions.
A26: 16 | B26: # times | C26: students IMPLICITLY DIScouraged from stating interests or asking non-clarification questions | S26: =SUM(D26:R26) -> 0 | U26: Count # times instructor made implicit indication for students NOT to state interests or ask original (non-clarification) questions (includes non-verbal cues).
A27: 12 | B27: # times | C27: students asked to comment on each other's work (assignments, activities, or projects) | S27: =SUM(D27:R27) -> 0 | U27: Count # times students engaged in peer review of assignments.
C28: Instructor Awareness
A29: 17 | B29: # times | C29: it was obvious or seemed like students did not understand course content or held misconceptions | S29: =SUM(D29:R29) -> 0 | U29: Count # times it was obvious or seemed like a substantial portion (<15%) of students did not understand concepts or had misconceptions. Includes verbal and non-verbal indications; also includes if instructor solicits clarification questions from students AND either multiple students respond with confusion OR instructor waits for over 10 seconds for responses.
A30: 17 | B30: # times | C30: instructor was aware that students did not understand course content or held misconceptions | S30: =SUM(D30:R30) -> 0 | U30: Count # times instructor obviously recognized that a substantial portion (<15%) of students did not understand concepts or had misconceptions. Includes verbal and non-verbal indications; also includes if instructor solicits clarification questions from students AND either multiple students respond with confusion OR instructor waits for over 10 seconds for responses. Should coincide with previous item (students did not understand).
A31: 18 | B31: # times | C31: instructor provided follow-up on misunderstood concepts | S31: =SUM(D31:R31) -> 0 | U31: Count # times instructor took action to address lack of understanding or misconception (e.g. new explanation, exam study suggestions, etc). Should coincide with previous item (awareness of misunderstanding).
C32: Inclusivity
A33: 15 | B33: # times | C33: ideas/contributions of diverse groups were explicitly excluded from discussion | S33: =SUM(D33:R33) -> 0 | U33: Count # times ideas/contributions of researchers, patients, populations, or other group were mentioned but diverse groups were explicitly excluded from discussion or any exclusive language occurred (e.g. "There are no women geneticists").
A34: 15 | B34: # times | C34: ideas/contributions of unspecified or majority individuals/groups were discussed | S34: =SUM(D34:R34) -> 0 | U34: Count # times ideas/contributions of researchers, patients, populations or other group were discussed WITHOUT mentioning demographic traits OR majority group (white/males) was discussed. Does NOT include if author/researcher names are listed on a slide without verbal mention of names (e.g. "Smith and Jones showed this result"). DOES include verbal mention of author/researchers OR a picture of authors/researchers is shown.
A35: 15 | B35: # times | C35: ideas/contributions of diverse individuals/groups discussed (includes pictures if indicate diverse person(s)) | S35: =SUM(D35:R35) -> 0 | U35: Count # times idea/contribution discussed was attributed to diverse person/group (non-majority ethnicity, nationality, sex, gender, age, ETC). DOES include if picture allows identification of diverse person/group (e.g., photo of Henrietta Lacks) OR if name AND non-majority status is mentioned "a female/woman researcher..."). DOES NOT include if author/researcher names are on slide without either verbal mention of non-majority status or picture of authors.
A36: 14 | B36: # times | C36: examples/analogies of diverse groups were explicitly excluded from discussion | S36: =SUM(D36:R36) -> 0 | U36: Count # times that examples/analogies from diverse groups were explicitly excluded from discussion or any exclusive language occurred (e.g., "we're not going to focus on that population").
A37: 14 | B37: # times | C37: examples/analogies used represented unspecified or majority individuals/groups | S37: =SUM(D37:R37) -> 0 | U37: Count # times example/analogy highlights majority group (white/males) OR demographic identification not indicated.
A38: 14 | B38: # times | C38: examples/analogies used represented diverse individuals/groups | S38: =SUM(D38:R38) -> 0 | U38: Count # times example/analogy highlights diverse person/group (other ethnicity, nationality, sex, gender, age, ETC). Include if picture allows identification of diverse person/group.
C39: Real-life context
A40: 29 | B40: # times | C40: real-life/everyday examples discussed | S40: =SUM(D40:R40) -> 0 | U40: Count # times everyday human example or real-life example used. Must be specific, does not include "cell respiration in human mitochondria," but would include, "when you eat an apple, your body does this…" Main theme - scientific concepts are taken out of the standard abstract context and presented as reality/tangible examples. Includes uses of popularly familiar examples (e.g., dog breeds, deaf/blind individuals, etc.) unless whole course is devoted to that example. If multiple examples used to explain one concept, only count as one real-life example.
...

Sheet Class Session 3
A1: MISTO# | C1: video timestamp (0-4:59 increments): | D1: 0-5 | E1: 5-10 | F1: 10-15 | G1: 15-20 | H1: 20-25 | I1: 25-30 | J1: 30-35 | K1: 35-40 | L1: 40-45 | M1: 45-50 | N1: 50-55 | O1: 55-60 | P1: 60-65 | Q1: 65-70 | R1: > 70 | S1: Totals | T1: Comments | U1: Notes
C2: Learning Goals
A3: 2 | B3: indicate all that apply | C3: Learning goals: (A) not provided (B) each broad topic or chapter (C) each specific subtopic or chapter subsection (D) some or most individual activities or assignments (E) each individual activity or assignment | D3: > | E3: > | F3: > | G3: > | H3: > | I3: > | J3: > | K3: > | L3: > | M3: > | N3: > | O3: > | P3: > | Q3: > | R3: > | U3: Record each of these as A, B, C, D, E as described, type in all observed into totals box.
C4: Polling Questions
A5: 3 | B5: # times | C5: polling question asked (not a re-poll question) | S5: =SUM(D5:R5) -> 0 | U5: Count # times polling question asked; re-poll questions are not counted as an additional question.
A6: 1 | B6: # minutes | C6: spent on polling method (to nearest 0.25 min) | S6: =SUM(D6:R6) -> 0 | U6: Use a timer to time each event - include instructor introducing problem (specific to the polling question) students solving problem, and any overview of answer (round UP to nearest .25 min).
A7: 4&7 | B7: # times | C7: polling question discussed in groups | S7: =SUM(D7:R7) -> 0 | U7: Count # times students worked in groups of 2 or more; also include when audible discussion can be heard even if instructor does not verbally specify working in pairs/groups.
A8: 8 | B8: # minutes | C8: spent working in groups (to nearest 0.25 min) (polling method) | S8: =SUM(D8:R8) -> 0 | U8: Use a timer to time each event - include instructor introducing problem (specific to the polling question), students solving problem, and any overview of answer (round UP to nearest .25 min).
C9: Non-polling question/In-class activities | U9: Only include events in which students are actively engaged in doing something (not just passively listening or watching).
A10: 5 | B10: # times | C10: in-class activities used (includes non-polling questions, discussions & other activities) | S10: =SUM(D10:R10) -> 0 | U10: Count each event (include question/activity start and answers/follow-up on questions as one activity). If there are clear breaks (many minutes of another activity or lecture) between question and answer sessions then count as multiple events. In the case of somewhat continuous activity with unclear breaks between, use a change of slide or change of topic to delineate one activity from the next. DO NOT count exams or quizzes. DO count non-polling questions from the instructor (non-rhetorical) that require more than a one-word simple answer.
A11: 1 | B11: # minutes | C11: spent on in-class activities (to nearest 0.25 min) | S11: =SUM(D11:R11) -> 0 | U11: Use a timer to time each event - include instructor introducing activity/non-polling question, students completing the activity/question, and any overview of answer(s) (round UP to nearest .25 min).
A12: 9&7 | B12: # times | C12: students worked in groups on in-class activities | S12: =SUM(D12:R12) -> 0 | U12: Count # times students worked in groups of 2 or more during in-class activity (non-polling). Also include when audible discussion can be heard even if instructor does not verbally specify working in pairs/groups, follow individual activity guidelines specified in cell U10.
A13: 8 | B13: # minutes | C13: spent working in groups (to nearest 0.25 min) (in-class activity) | S13: =SUM(D13:R13) -> 0 | U13: Use a timer to time each event - include instructor introducing activity/non-polling question, students completing the activity/question, and any overview of answer(s) (round UP to nearest .25 min).
A14: 6 | B14: # times | C14: instructor gives feedback on in-class activity (beyond correct/incorrect) | S14: =SUM(D14:R14) -> 0 | U14: Count # times instructor provides additional information/feedback beyond correct/incorrect. Count once per activity. Include if instructor circulates among students during in-class activity and discusses activity/answers with individual or groups of students. DO NOT count feedback on polling questions.
C15: Other aspects of group work
A16: 11 | B16: # times | C16: students shared results of group work/discussion with whole class | S16: =SUM(D16:R16) -> 0 | U16: Count # times a student shared group work or group answer during whole-class discussions. Include polling methods AND other in-class/non-polling activities. ONLY use during group work, NOT individual work.
A17: 10 | B17: # times | C17: instructor used strategy to promote group participation (e.g. assign roles) | S17: =SUM(D17:R17) -> 0 | U17: Count # times participation strategy used during group work to hold individuals accountable for group effort. WOULD include random calling on an individual to answer for the group but would NOT include calling on the group and allowing anyone to answer for the group.
C18: Classroom dynamics
A19: 13 | B19: # times | C19: whole-class discussion occurred (non-group work) | S19: =SUM(D19:R19) -> 0 | U19: Count # times discussion occurred with the WHOLE class, without the group work component. Whole-class discussion = students are engaged in whole class discussion by offering explanations, opinion, judgment, etc. to whole class, often facilitated by instructor (Smith et al., 2013).
A20: 13 | B20: # times | C20: students EXPLICTLY encouraged to respond to classmates' ideas during whole-class discussions (groups AND non-group) | S20: =SUM(D20:R20) -> 0 | U20: Count # times one student responded to another student's idea or answer during whole-class discussion with or without group work component. Also includes if instructor explicitly encourages students to do so then waits enough time (>10 sec) to permit responses (even if no students respond). Only count one time per topic: if multiple students are asked to comment on the original idea, it is one group discussion.
A21: 13 | B21: # times | C21: students were IMPLICITLY encouraged to respond to classmates' ideas during whole-class discussions (groups AND non-group) using NON_VERBAL cues | S21: =SUM(D21:R21) -> 0 | U21: Count # times instructor used NON-VERBAL cues (e.g., wait time) during whole-class discussions to implicitly encourage students to respond to another student AND a student responded OR the instructor waited enough time (>10 sec) to permit responses. Includes both with and without group work. Only count one time per topic: if multiple students are asked to comment on the original idea, it is one group discussion.
A22: 13 | B22: # times | C22: students EXPLICITLY DIScouraged from responding to classmates' ideas during whole-class discussions (groups AND non-group) | S22: =SUM(D22:R22) -> 0 | U22: Count # times instructor made explicit request for students NOT to respond to others during whole-class discussions. Includes both with and without group work component.
A23: 13 | B23: # times | C23: students IMPLICITLY DIScouraged to respond to classmates' ideas during whole-class discussions (groups AND non-group) | S23: =SUM(D23:R23) -> 0 | U23: Count # times instructor made an implicit indication for students NOT to respond to others during whole-class discussions (including non-verbal cues). Includes both with and without group work component.
A24: 16 | B24: # times | C24: students state interests or ask non-clarification questions | S24: =SUM(D24:R24) -> 0 | U24: Count # times students asked original questions (not just to clarify course content) or talked about their own interests. Does NOT include if student B asks a direct follow-up to student A's original question. DOES include if student B asks a different original question or tangentially related question immediately after student A. Also includes if instructor refers question to an out-of-class forum accessible to all students (e.g., discussion board) to respond to question AFTER listening to student question.
A25: 16 | B25: # times | C25: students EXPLICITLY DIScouraged from stating interests or asking non-clarification questions | S25: =SUM(D25:R25) -> 0 | U25: Count # times instructor made explicit request for students NOT to state interests or ask original (non-clarification) questions.
A26: 16 | B26: # times | C26: students IMPLICITLY DIScouraged from stating interests or asking non-clarification questions | S26: =SUM(D26:R26) -> 0 | U26: Count # times instructor made implicit indication for students NOT to state interests or ask original (non-clarification) questions (includes non-verbal cues).
A27: 12 | B27: # times | C27: students asked to comment on each other's work (assignments, activities, or projects) | S27: =SUM(D27:R27) -> 0 | U27: Count # times students engaged in peer review of assignments.
C28: Instructor Awareness
A29: 17 | B29: # times | C29: it was obvious or seemed like students did not understand course content or held misconceptions | S29: =SUM(D29:R29) -> 0 | U29: Count # times it was obvious or seemed like a substantial portion (<15%) of students did not understand concepts or had misconceptions. Includes verbal and non-verbal indications; also includes if instructor solicits clarification questions from students AND either multiple students respond with confusion OR instructor waits for over 10 seconds for responses.
A30: 17 | B30: # times | C30: instructor was aware that students did not understand course content or held misconceptions | S30: =SUM(D30:R30) -> 0 | U30: Count # times instructor obviously recognized that a substantial portion (<15%) of students did not understand concepts or had misconceptions. Includes verbal and non-verbal indications; also includes if instructor solicits clarification questions from students AND either multiple students respond with confusion OR instructor waits for over 10 seconds for responses. Should coincide with previous item (students did not understand).
A31: 18 | B31: # times | C31: instructor provided follow-up on misunderstood concepts | S31: =SUM(D31:R31) -> 0 | U31: Count # times instructor took action to address lack of understanding or misconception (e.g. new explanation, exam study suggestions, etc). Should coincide with previous item (awareness of misunderstanding).
C32: Inclusivity
A33: 15 | B33: # times | C33: ideas/contributions of diverse groups were explicitly excluded from discussion | S33: =SUM(D33:R33) -> 0 | U33: Count # times ideas/contributions of researchers, patients, populations, or other group were mentioned but diverse groups were explicitly excluded from discussion or any exclusive language occurred (e.g. "There are no women geneticists").
A34: 15 | B34: # times | C34: ideas/contributions of unspecified or majority individuals/groups were discussed | S34: =SUM(D34:R34) -> 0 | U34: Count # times ideas/contributions of researchers, patients, populations or other group were discussed WITHOUT mentioning demographic traits OR majority group (white/males) was discussed. Does NOT include if author/researcher names are listed on a slide without verbal mention of names (e.g. "Smith and Jones showed this result"). DOES include verbal mention of author/researchers OR a picture of authors/researchers is shown.
A35: 15 | B35: # times | C35: ideas/contributions of diverse individuals/groups discussed (includes pictures if indicate diverse person(s)) | S35: =SUM(D35:R35) -> 0 | U35: Count # times idea/contribution discussed was attributed to diverse person/group (non-majority ethnicity, nationality, sex, gender, age, ETC). DOES include if picture allows identification of diverse person/group (e.g., photo of Henrietta Lacks) OR if name AND non-majority status is mentioned "a female/woman researcher..."). DOES NOT include if author/researcher names are on slide without either verbal mention of non-majority status or picture of authors.
A36: 14 | B36: # times | C36: examples/analogies of diverse groups were explicitly excluded from discussion | S36: =SUM(D36:R36) -> 0 | U36: Count # times that examples/analogies from diverse groups were explicitly excluded from discussion or any exclusive language occurred (e.g., "we're not going to focus on that population").
A37: 14 | B37: # times | C37: examples/analogies used represented unspecified or majority individuals/groups | S37: =SUM(D37:R37) -> 0 | U37: Count # times example/analogy highlights majority group (white/males) OR demographic identification not indicated.
A38: 14 | B38: # times | C38: examples/analogies used represented diverse individuals/groups | S38: =SUM(D38:R38) -> 0 | U38: Count # times example/analogy highlights diverse person/group (other ethnicity, nationality, sex, gender, age, ETC). Include if picture allows identification of diverse person/group.
C39: Real-life context
A40: 29 | B40: # times | C40: real-life/everyday examples discussed | S40: =SUM(D40:R40) -> 0 | U40: Count # times everyday human example or real-life example used. Must be specific, does not include "cell respiration in human mitochondria," but would include, "when you eat an apple, your body does this…" Main theme - scientific concepts are taken out of the standard abstract context and presented as reality/tangible examples. Includes uses of popularly familiar examples (e.g., dog breeds, deaf/blind individuals, etc.) unless whole course is devoted to that example. If multiple examples used to explain one concept, only count as one real-life example.
...

Sheet Tool Totals Page
A1: MISTO# | C1: Totals | D1: Comments for Class 1 | E1: Comments for Class 2 | F1: Comments for Class 3 | G1: *these formulas are protected to prevent errors - if unlocking is required, use the password "misto"
B2: Learning Goals
A3: 2 | B3: Learning goals: (A) not provided (B) each broad topic or chapter (C) each specific subtopic or chapter subsection (D) some or most individual activities or assignments (E) each individual activity or assignment | C3: ='Class Session 1'!S3&'Class Session 2'!S3&'Class Session 3'!S3 | D3: ='Class Session 1'!T3 -> 0 | E3: ='Class Session 2'!T3 -> 0 | F3: ='Class Session 3'!T3 -> 0 | G3: =IF(ISNUMBER(SEARCH("A",C3)),"not provided to students","")&IF(C3="","no information","") -> no information | H3: =IF(OR(ISNUMBER(SEARCH("B",C3)),ISNUMBER(SEARCH("c",C3)),ISNUMBER(SEARCH("d",C3)),ISNUMBER(SEARCH("E",C3))),"yes","") | I3: =IF(ISNUMBER(SEARCH("B",C3)),"each broad topic or chapter, ","")&IF(ISNUMBER(SEARCH("c",C3)),"each specific subtopic or chapter subsection, ","")&IF(ISNUMBER(SEARCH("d",C3)),"some or most individual activities or assignments, ","")&IF(ISNUMBER(SEARCH("E",C3)),"each individual activity or assignment","")
B4: Polling Questions
A5: 3 | B5: polling question asked (not a re-poll question) | C5: ='Class Session 1'!S5+'Class Session 2'!S5+'Class Session 3'!S5 -> 0 | D5: ='Class Session 1'!T5 -> 0 | E5: ='Class Session 2'!T5 -> 0 | F5: ='Class Session 3'!T5 -> 0
A6: 1 | B6: spent on polling method (to nearest 0.25 min) | C6: ='Class Session 1'!S6+'Class Session 2'!S6+'Class Session 3'!S6 -> 0 | D6: ='Class Session 1'!T6 -> 0 | E6: ='Class Session 2'!T6 -> 0 | F6: ='Class Session 3'!T6 -> 0
A7: 4&7 | B7: polling question discussed in groups | C7: ='Class Session 1'!S7+'Class Session 2'!S7+'Class Session 3'!S7 -> 0 | D7: ='Class Session 1'!T7 -> 0 | E7: ='Class Session 2'!T7 -> 0 | F7: ='Class Session 3'!T7 -> 0
A8: 8 | B8: spent working in groups (to nearest 0.25 min) (polling method) | C8: ='Class Session 1'!S8+'Class Session 2'!S8+'Class Session 3'!S8 -> 0 | D8: ='Class Session 1'!T8 -> 0 | E8: ='Class Session 2'!T8 -> 0 | F8: ='Class Session 3'!T8 -> 0
B9: Non-polling question/In-class activities
A10: 5 | B10: in-class activities used (includes non-polling questions, discussions & other activities) | C10: ='Class Session 1'!S10+'Class Session 2'!S10+'Class Session 3'!S10 -> 0 | D10: ='Class Session 1'!T10 -> 0 | E10: ='Class Session 2'!T10 -> 0 | F10: ='Class Session 3'!T10 -> 0
A11: 1 | B11: spent on in-class activities (to nearest 0.25 min) | C11: ='Class Session 1'!S11+'Class Session 2'!S11+'Class Session 3'!S11 -> 0 | D11: ='Class Session 1'!T11 -> 0 | E11: ='Class Session 2'!T11 -> 0 | F11: ='Class Session 3'!T11 -> 0
A12: 9&7 | B12: students worked in groups on in-class activities | C12: ='Class Session 1'!S12+'Class Session 2'!S12+'Class Session 3'!S12 -> 0 | D12: ='Class Session 1'!T12 -> 0 | E12: ='Class Session 2'!T12 -> 0 | F12: ='Class Session 3'!T12 -> 0
A13: 8 | B13: spent working in groups (to nearest 0.25 min) (in-class activity) | C13: ='Class Session 1'!S13+'Class Session 2'!S13+'Class Session 3'!S13 -> 0 | D13: ='Class Session 1'!T13 -> 0 | E13: ='Class Session 2'!T13 -> 0 | F13: ='Class Session 3'!T13 -> 0
A14: 6 | B14: instructor gives feedback on in-class activity (beyond correct/incorrect) | C14: ='Class Session 1'!S14+'Class Session 2'!S14+'Class Session 3'!S14 -> 0 | D14: ='Class Session 1'!T14 -> 0 | E14: ='Class Session 2'!T14 -> 0 | F14: ='Class Session 3'!T14 -> 0
B15: Other aspects of group work
A16: 11 | B16: students shared results of group work/discussion with whole class | C16: ='Class Session 1'!S16+'Class Session 2'!S16+'Class Session 3'!S16 -> 0 | D16: ='Class Session 1'!T16 -> 0 | E16: ='Class Session 2'!T16 -> 0 | F16: ='Class Session 3'!T16 -> 0
A17: 10 | B17: instructor used strategy to promote group participation (e.g. assign roles) | C17: ='Class Session 1'!S17+'Class Session 2'!S17+'Class Session 3'!S17 -> 0 | D17: ='Class Session 1'!T17 -> 0 | E17: ='Class Session 2'!T17 -> 0 | F17: ='Class Session 3'!T17 -> 0
B18: Classroom dynamics
A19: 13 | B19: any whole-class discussion occurred (group + non-group work) | C19: ='Class Session 1'!S68+'Class Session 2'!S68+'Class Session 3'!S68 -> 0 | D19: ='Class Session 1'!T19 -> 0 | E19: ='Class Session 2'!T19 -> 0 | F19: ='Class Session 3'!T19 -> 0 | I19: strongly disagree | J19: disagree | K19: somewhat disagree | L19: somewhat agree | M19: agree | N19: strongly agree
A20: 13 | B20: students EXPLICTLY encouraged to respond to classmates' ideas during whole-class discussions | C20: ='Class Session 1'!S20+'Class Session 2'!S20+'Class Session 3'!S20 -> 0 | D20: ='Class Session 1'!T20 -> 0 | E20: ='Class Session 2'!T20 -> 0 | F20: ='Class Session 3'!T20 -> 0 | G20: total EN= | H20: =C20+C21 -> 0 | I20: =IF(C22>3, "yes", "no") -> no | J20: =IF(AND(C22=0,C23>3),"yes","no") -> no | K20: =IF(AND(C19>0,H20=0,H21=0),"yes","no") -> no | L20: =IF(AND(H21=0,C20=0,C21>0),"yes","no") -> no | M20: =IF(AND(H21=0,C20>0,C20<3),"yes","no") -> no | N20: =IF(AND(H21=0,C20>2),"yes","no") -> no
A21: 13 | B21: students were IMPLICITLY encouraged to respond to classmates' ideas during whole-class discussions (groups AND non-group) using NON_VERBAL cues | C21: ='Class Session 1'!S21+'Class Session 2'!S21+'Class Session 3'!S21 -> 0 | D21: ='Class Session 1'!T21 -> 0 | E21: ='Class Session 2'!T21 -> 0 | F21: ='Class Session 3'!T21 -> 0 | G21: total DIS= | H21: =C22+C23 -> 0 | I21: =IF(AND(H22<0,C22>0,C23>=0),"yes","no") -> no | J21: =IF(AND(H22<0,C22=0,C23>0),"yes","no") -> no | L21: =IF(AND(H21>0,H22>0),"yes","no") -> no
A22: 13 | B22: students EXPLICITLY DIScouraged from responding to classmates' ideas during whole-class discussions | C22: ='Class Session 1'!S22+'Class Session 2'!S22+'Class Session 3'!S22 -> 0 | D22: ='Class Session 1'!T22 -> 0 | E22: ='Class Session 2'!T22 -> 0 | F22: ='Class Session 3'!T22 -> 0 | G22: EN-DIS= | H22: =H20-H21 -> 0 | I22: =IF(OR(I20="yes",I21="yes"),"strongly disagree","no") -> no | J22: =IF(OR(J20="yes",J21="yes"),"disagree","no") -> no | K22: =IF(OR(K20="yes",K21="yes"),"somewhat disagree","no") -> no | L22: =IF(OR(L20="yes",L21="yes"),"somewhat agree","no") -> no | M22: =IF(OR(M20="yes",M21="yes"),"agree","no") -> no | N22: =IF(OR(N20="yes",N21="yes"),"strongly agree","no") -> no
A23: 13 | B23: students IMPLICITLY DIScouraged to respond to classmates' ideas during whole-class discussions | C23: ='Class Session 1'!S23+'Class Session 2'!S23+'Class Session 3'!S23 -> 0 | D23: ='Class Session 1'!T23 -> 0 | E23: ='Class Session 2'!T23 -> 0 | F23: ='Class Session 3'!T23 -> 0 | I23: strongly disagree | J23: disagree | K23: somewhat disagree | L23: somewhat agree | M23: agree | N23: strongly agree
A24: 16 | B24: students state interests or ask non-clarification questions | C24: ='Class Session 1'!S24+'Class Session 2'!S24+'Class Session 3'!S24 -> 0 | D24: ='Class Session 1'!T18 -> 0 | E24: ='Class Session 2'!T25 -> 0 | F24: ='Class Session 3'!T25 -> 0 | G24: total EN= | H24: =C24 -> 0 | I24: =IF(C25>3, "yes", "no") -> no | J24: =IF(AND(C25=0,C26>3),"yes","no") -> no | K24: =IF(AND(H24=0,H25=0),"yes","no") -> yes | L24: =IF(AND(H25=0,C24>0,C24<3),"yes","no") -> no | M24: =IF(AND(H25=0,C24>2,C24<6),"yes","no") -> no | N24: =IF(AND(H25=0,C24>5),"yes","no") -> no
A25: 16 | B25: students EXPLICITLY DIScouraged from stating interests or asking non-clarification questions | C25: ='Class Session 1'!S25+'Class Session 2'!S25+'Class Session 3'!S25 -> 0 | D25: ='Class Session 1'!T24 -> 0 | E25: ='Class Session 2'!T26 -> 0 | F25: ='Class Session 3'!T26 -> 0 | G25: total DIS= | H25: =C25+C26 -> 0 | I25: =IF(AND(H26<0,C25>0,C26>=0),"yes","no") -> no | J25: =IF(AND(H26<0,C25=0,C26>0),"yes","no") -> no | L25: =IF(AND(H25>0,H26>0),"yes","no") -> no
A26: 16 | B26: students IMPLICITLY DIScouraged from stating interests or asking non-clarification questions | C26: ='Class Session 1'!S26+'Class Session 2'!S26+'Class Session 3'!S26 -> 0 | D26: ='Class Session 1'!T24 -> 0 | E26: ='Class Session 2'!T26 -> 0 | F26: ='Class Session 3'!T26 -> 0 | G26: EN-DIS= | H26: =H24-H25 -> 0 | I26: =IF(OR(I24="yes",I25="yes"),"strongly disagree","no") -> no | J26: =IF(OR(J24="yes",J25="yes"),"disagree","no") -> no | K26: =IF(OR(K24="yes",K25="yes"),"somewhat disagree","no") -> somewhat disagree | L26: =IF(OR(L24="yes",L25="yes"),"somewhat agree","no") -> no | M26: =IF(OR(M24="yes",M25="yes"),"agree","no") -> no | N26: =IF(OR(N24="yes",N25="yes"),"strongly agree","no") -> no
A27: 12 | B27: students asked to comment on each other's work (assignments, activities, or projects) | C27: ='Class Session 1'!S27+'Class Session 2'!S27+'Class Session 3'!S27 -> 0 | D27: ='Class Session 1'!T27 -> 0 | E27: ='Class Session 2'!T27 -> 0 | F27: ='Class Session 3'!T27 -> 0
B28: Instructor Awareness
A29: 17 | B29: it was obvious or seemed like students did not understand course content or held misconceptions | C29: ='Class Session 1'!S29+'Class Session 2'!S29+'Class Session 3'!S29 -> 0 | D29: ='Class Session 1'!T29 -> 0 | E29: ='Class Session 2'!T29 -> 0 | F29: ='Class Session 3'!T29 -> 0
A30: 17 | B30: instructor was aware of student misconceptions or lack of understanding content | C30: ='Class Session 1'!S30+'Class Session 2'!S30+'Class Session 3'!S30 -> 0 | D30: ='Class Session 1'!T30 -> 0 | E30: ='Class Session 2'!T30 -> 0 | F30: ='Class Session 3'!T30 -> 0
A31: 18 | B31: instructor provided follow-up on misunderstood concepts | C31: ='Class Session 1'!S31+'Class Session 2'!S31+'Class Session 3'!S31 -> 0 | D31: ='Class Session 1'!T31 -> 0 | E31: ='Class Session 2'!T31 -> 0 | F31: ='Class Session 3'!T31 -> 0
B32: Inclusivity
A33: 15 | B33: ideas/contributions of diverse groups were explicitly excluded from discussion | C33: ='Class Session 1'!S33+'Class Session 2'!S33+'Class Session 3'!S33 -> 0 | D33: ='Class Session 1'!T33 -> 0 | E33: ='Class Session 2'!T33 -> 0 | F33: ='Class Session 3'!T33 -> 0 | G33: =IF((C33)>0, "yes","no") -> no
A34: 15 | B34: ideas/contributions of unspecified or majority individuals/groups were discussed | C34: ='Class Session 1'!S34+'Class Session 2'!S34+'Class Session 3'!S34 -> 0 | D34: ='Class Session 1'!T34 -> 0 | E34: ='Class Session 2'!T34 -> 0 | F34: ='Class Session 3'!T34 -> 0 | G34: =C33+C34+C35 -> 0
A35: 15 | B35: ideas/contributions of diverse individuals/groups discussed (includes pictures if indicate diverse person(s)) | C35: ='Class Session 1'!S35+'Class Session 2'!S35+'Class Session 3'!S35 -> 0 | D35: ='Class Session 1'!T35 -> 0 | E35: ='Class Session 2'!T35 -> 0 | F35: ='Class Session 3'!T35 -> 0 | G35: =IF(G34=0,0,(C35/G34)) -> 0
A36: 14 | B36: examples/analogies of diverse groups were explicitly excluded from discussion | C36: ='Class Session 1'!S36+'Class Session 2'!S36+'Class Session 3'!S36 -> 0 | D36: ='Class Session 1'!T36 -> 0 | E36: ='Class Session 2'!T36 -> 0 | F36: ='Class Session 3'!T36 -> 0 | G36: =IF((C36)>0, "yes","no") -> no
A37: 14 | B37: examples/analogies used represented unspecified or majority individuals/groups | C37: ='Class Session 1'!S37+'Class Session 2'!S37+'Class Session 3'!S37 -> 0 | D37: ='Class Session 1'!T37 -> 0 | E37: ='Class Session 2'!T37 -> 0 | F37: ='Class Session 3'!T37 -> 0 | G37: =C36+C37+C38 -> 0
A38: 14 | B38: examples/analogies used represented diverse individuals/groups | C38: ='Class Session 1'!S38+'Class Session 2'!S38+'Class Session 3'!S38 -> 0 | D38: ='Class Session 1'!T38 -> 0 | E38: ='Class Session 2'!T38 -> 0 | F38: ='Class Session 3'!T38 -> 0 | G38: =IF(G37=0,0,(C38/G37)) -> 0
B39: Real-life context
A40: 29 | B40: real-life/everyday examples discussed | C40: ='Class Session 1'!S40+'Class Session 2'!S40+'Class Session 3'!S40 -> 0 | D40: ='Class Session 1'!T40 -> 0 | E40: ='Class Session 2'!T40 -> 0 | F40: ='Class Session 3'!T40 -> 0
...

Sheet Survey Information
A1: Instructions: Yellow boxes need to be answered manually; all other questions are answered automatically from observation sheets. Use the course information to fill in the yellow boxes in Column B.
A2: Course Information | D2: Q# | E2: MISTO question | F2: Observed totals | J2: Survey response | L2: Answer options
A3: Observer | D3: 1 | E3: Indicate the average percent of class time during which students were asked to answer questions, solve problems, or complete activities other than listening to a lecture: | F3: =IF('Tool Totals Page'!C65=0,0,(('Tool Totals Page'!C65)/B7)) -> 0 | J3: =F3 -> 0 | L3: slider bar 0-100%
A4: Course code | D4: 2 | E4: Learning goals are statements provided by the instructor that inform students of the specific knowledge and skills that the instructor expects students to master in a course. Learning goals can be presented to students in the form of learning objectives, specific study questions, study guides, focal points, etc. Learning goals were provided for: Please select all that apply. | F4: ='Tool Totals Page'!C3 | J4: =IF('Tool Totals Page'!H3="yes",'Tool Totals Page'!I3,'Tool Totals Page'!G3) -> no information | L4: not provided to students | M4: the course as a whole | N4: each unit or exam | O4: each broad topic or chapter | P4: each specific subtopic or chapter subsection | Q4: some or most individual activities or assignments | R4: each individual activity or assignment
A5: Instructor code | D5: 3 | E5: Students were asked to use a polling method to answer questions in the classroom approximately: | F5: ='Tool Totals Page'!C5 -> 0 | J5: =IF(F5=0,L5,(IF(F5=1,N5,IF(AND(F5>1,F5<4),O5,IF(AND(F5>3,F5<6),P5,IF(AND(F5>5,F5<11),Q5,IF(F5>10,R5,"?"))))))) -> zero questions | L5: zero questions | M5: 1-2 questions per month | N5: up to 1 question per week | O5: 2-3 questions per week | P5: 4-5 questions per week | Q5: 6-10 questions per week | R5: more than 10 questions per week
A6: Course subject | D6: 4 | E6: If a YES option to #3 ONLY: Indicate the approximate percent of polling questions for which students were asked to discuss the question in pairs or small groups: | F6: =IF('Tool Totals Page'!C7=0,0,('Tool Totals Page'!C7/'Tool Totals Page'!C5)) -> 0 | J6: =IFERROR(F6,0) -> 0 | L6: slider bar 0-100%
A7: total observation time (mins) | D7: 5 | E7: Students were asked to complete in-class activities approximately: | F7: ='Tool Totals Page'!C10 -> 0 | J7: =IF(F7=0,L7,(IF(F7=1,O7,IF(AND(F7>1,F7<4),P7,IF(AND(F7>3,F7<6),Q7,IF(F7>5,R7,"?")))))) -> zero times | L7: zero times | M7: up to 1 activity per month | N7: 2-3 activities per month | O7: 1 activity per week | P7: 2-3 activities per week | Q7: 4-5 activities per week | R7: more than 5 activities per week
D8: 6 | E8: If a YES option to #6 ONLY: Indicate the approximate percent of in-class activities for which students were given some form of general or individualized feedback during class beyond simply providing correct or incorrect answers: Automatically calculated: number of activities in which feedback was given divided by the total number of activities | F8: =IF('Tool Totals Page'!C14=0,0,('Tool Totals Page'!C14/'Tool Totals Page'!C10)) -> 0 | J8: =IFERROR(F8,0) -> 0 | L8: slider bar 0-100%
D9: 7 | E9: Students were asked to work in groups of two or more for any portion of this course: If "no" is selected, skips to #22 Observers: include statements of "work in groups," "discuss among yourselves," or obvious audible discussion | F9: =IF('Tool Totals Page'!C66>0,"yes","no") -> no | J9: =(F9) -> no | L9: yes | M9: no
D10: 8 | E10: Indicate the average percent of class time during which students were asked to work in groups of two or more: Automatically calculated: amount of time (min) spent on group work (polling/non-polling/discussing) divided by total class time (three 50 min classes=150min) | F10: =IF('Tool Totals Page'!C67=0,0,(('Tool Totals Page'!C67)/B7)) -> 0 | J10: =IFERROR(F10,0) -> 0 | L10: slider bar 0-100%
D11: 9 | E11: Students were asked to work in groups of two or more on in-class activities, discussions, assignments, or projects other than polling questions approximately: | F11: ='Tool Totals Page'!C66 -> 0 | J11: =IF(F11=0,L11,(IF(AND(F11>0,F11<3),P11,IF(AND(F11>2,F11<5),Q11,IF(F11>4,R11,"?"))))) -> zero times | L11: zero times | M11: 1-2 times during the semester | N11: about 1 time per month | O11: 2-3 times per month | P11: 1-2 times per week | Q11: 3-4 times per week | R11: more than 4 times per week
D12: 10 | E12: The instructor used a strategy, such as assigning roles, to promote the participation of each group member during in-class group activities: Automatically calculated: uses number of group activities in which roles were assigned (or other method) in comparison to total group work: returns % value | F12: =IF('Tool Totals Page'!C17=0,0,(('Tool Totals Page'!C17)/('Tool Totals Page'!C66))) -> 0 | J12: =IF(F12=0,L12,(IF(AND(F12>0,F12<45),N12,IF(AND(F12>44,F12<55),O12,IF(AND(F12>54,F12<95),P12,IF(F12>94,R12,"?")))))) -> not at all | L12: not at all | M12: rarely | N12: less than half of the time | O12: half of the time | P12: more than half of the time | Q12: almost always | R12: always
D13: 11 | E13: At least some students were asked to verbally share the results of any group work or group discussions with the whole class approximately: | F13: ='Tool Totals Page'!C16 -> 0 | J13: =IF(F13=0,L13,(IF(AND(F13>0,F13<3),P13,IF(AND(F13>2,F13<5),Q13,IF(F13>4,R13,"?"))))) -> zero times | L13: zero times | M13: 1-2 times during the semester | N13: about 1 time per month | O13: 2-3 times per month | P13: 1-2 times per week | Q13: 3-4 times per week | R13: more than 4 times per week
D14: 12 | E14: Students were asked to comment or make suggestions on each other's work on class assignments, activities, or projects approximately: | F14: ='Tool Totals Page'!C27 -> 0 | J14: =IF(F14=0,L14,(IF(AND(F14>0,F14<3),P14,IF(AND(F14>2,F14<5),Q14,IF(F14>4,R14,"?"))))) -> zero times | L14: zero times | M14: 1-2 times during the semester | N14: about 1 time per month | O14: 2-3 times per month | P14: 1-2 times per week | Q14: 3-4 times per week | R14: more than 4 times per week
