Workbook

Sheet BG TFT-1
A1: WO3 BG TFT-1 (Ag source/drain contacts) – dynamic NO2 response
A2: Values as recorded in the original measurement record. NO2 introduced at t = 60 s; air reintroduced at t = 240 s. Bias during sensing: VD = 2 V, VG = 3 V. BG TFT-1 currents are a factor of 10 lower than BG TFT-2 at the same bias (baseline 0.25 nA vs 2.5 nA).
A4: Time (s) | B4: 0.1 ppm (nA) | C4: 0.25 ppm (nA) | D4: 0.5 ppm (nA) | E4: 1 ppm (nA) | F4: 2 ppm (nA) | G4: 5 ppm (nA) | H4: 10 ppm (nA) | I4: Phase
A5: 0 | B5: 0.25 | C5: 0.25 | D5: 0.25 | E5: 0.25 | F5: 0.25 | G5: 0.25 | H5: 0.25 | I5: Air Baseline
A6: 30 | B6: 0.25 | C6: 0.25 | D6: 0.25 | E6: 0.25 | F6: 0.25 | G6: 0.25 | H6: 0.25 | I6: Air Baseline
A7: 60 | B7: 0.25 | C7: 0.25 | D7: 0.25 | E7: 0.25 | F7: 0.25 | G7: 0.25 | H7: 0.25 | I7: Gas Introduced
A8: 90 | B8: 0.22 | C8: 0.2 | D8: 0.17 | E8: 0.12 | F8: 0.08 | G8: 0.04 | H8: 0.015 | I8: NO2 Exposure
A9: 120 | B9: 0.205 | C9: 0.175 | D9: 0.135 | E9: 0.085 | F9: 0.055 | G9: 0.02 | H9: 0.005 | I9: NO2 Exposure
A10: 180 | B10: 0.198 | C10: 0.165 | D10: 0.122 | E10: 0.072 | F10: 0.042 | G10: 0.012 | H10: 0.002 | I10: NO2 Exposure
A11: 240 | B11: 0.198 | C11: 0.165 | D11: 0.122 | E11: 0.072 | F11: 0.042 | G11: 0.012 | H11: 0.002 | I11: Air Reintroduced
A12: 260 | B12: 0.208 | C12: 0.18 | D12: 0.14 | E12: 0.1 | F12: 0.075 | G12: 0.035 | H12: 0.018 | I12: Air Recovery
A13: 300 | B13: 0.226 | C13: 0.205 | D13: 0.184 | E13: 0.186 | F13: 0.15 | G13: 0.095 | H13: 0.07 | I13: Air Recovery
A14: 400 | B14: 0.24 | C14: 0.231 | D14: 0.22 | E14: 0.236 | F14: 0.22 | G14: 0.205 | H14: 0.18 | I14: Air Recovery
A15: 600 | B15: 0.249 | C15: 0.247 | D15: 0.245 | E15: 0.246 | F15: 0.242 | G15: 0.244 | H15: 0.237 | I15: Air Recovery

Sheet BG TFT-2
A1: WO3 BG TFT-2 (Pd source/drain contacts) – dynamic NO2 response
A2: Values as recorded in the original measurement record. NO2 introduced at t = 60 s; air reintroduced at t = 240 s. Bias during sensing: VD = 2 V, VG = 3 V. BG TFT-1 currents are a factor of 10 lower than BG TFT-2 at the same bias (baseline 0.25 nA vs 2.5 nA).
A4: Time (s) | B4: 0.1 ppm (nA) | C4: 0.25 ppm (nA) | D4: 0.5 ppm (nA) | E4: 1 ppm (nA) | F4: 2 ppm (nA) | G4: 5 ppm (nA) | H4: 10 ppm (nA) | I4: Phase
A5: 0 | B5: 2.5 | C5: 2.5 | D5: 2.5 | E5: 2.5 | F5: 2.5 | G5: 2.5 | H5: 2.5 | I5: Air Baseline
A6: 30 | B6: 2.5 | C6: 2.5 | D6: 2.5 | E6: 2.5 | F6: 2.5 | G6: 2.5 | H6: 2.5 | I6: Air Baseline
A7: 60 | B7: 2.5 | C7: 2.5 | D7: 2.5 | E7: 2.5 | F7: 2.5 | G7: 2.5 | H7: 2.5 | I7: Gas Introduced
A8: 90 | B8: 2.27 | C8: 2.12 | D8: 1.9 | E8: 1.55 | F8: 1.2 | G8: 0.75 | H8: 0.35 | I8: NO2 Exposure
A9: 120 | B9: 2.15 | C9: 1.95 | D9: 1.62 | E9: 1.25 | F9: 0.95 | G9: 0.45 | H9: 0.18 | I9: NO2 Exposure
A10: 180 | B10: 2.08 | C10: 1.82 | D10: 1.48 | E10: 1 | F10: 0.8 | G10: 0.3 | H10: 0.1 | I10: NO2 Exposure
A11: 240 | B11: 2.08 | C11: 1.82 | D11: 1.48 | E11: 1 | F11: 0.8 | G11: 0.3 | H11: 0.1 | I11: Air Reintroduced
A12: 260 | B12: 2.16 | C12: 1.95 | D12: 1.62 | E12: 1.2 | F12: 1 | G12: 0.55 | H12: 0.28 | I12: Air Recovery
A13: 300 | B13: 2.31 | C13: 2.15 | D13: 1.92 | E13: 1.75 | F13: 1.55 | G13: 1.05 | H13: 0.8 | I13: Air Recovery
A14: 400 | B14: 2.43 | C14: 2.35 | D14: 2.23 | E14: 2.26 | F14: 2.15 | G14: 1.95 | H14: 1.72 | I14: Air Recovery
A15: 600 | B15: 2.49 | C15: 2.47 | D15: 2.45 | E15: 2.44 | F15: 2.4 | G15: 2.42 | H15: 2.31 | I15: Air Recovery

Sheet Response metrics
A1: Sensor response and response time (calculated by formula from the data sheets)
A3: Gas-on time t_on (s) | B3: 60 | C3: From the Phase column of the data sheets
A4: Response/recovery criterion (fraction of total change) | B4: 0.9 | C4: t90 criterion, Eq. (7)
A5: Gas-off time t_off (s) | B5: 240
A6: Device | B6: Conc. (ppm) | C6: I_air (nA) | D6: I_min (nA) | E6: Response R (%) | F6: 90% level (nA) | G6: Index before crossing | H6: t90 (s) | I6: Response time t_res (s) | J6: 90% recovery level (nA) | K6: Index (recovery) | L6: t90,rec (s) | M6: Recovery time (s) | N6: Baseline recovered at 600 s (%)
A7: BG TFT-1 | B7: 0.1 | C7: ='BG TFT-1'!B5 -> 0.25 | D7: =MIN('BG TFT-1'!$B$7:$B$11) -> 0.198 | E7: =(C7-D7)/C7*100 -> 20.8 | F7: =C7-$B$4*(C7-D7) -> 0.2032 | G7: =MATCH(F7,'BG TFT-1'!$B$7:$B$11,-1) -> 3 | H7: =INDEX('BG TFT-1'!$A$7:$A$11,G7)+(INDEX('BG TFT-1'!$B$7:$B$11,G7)-F7)/(INDEX('BG TFT-1'!$B$7:$B$11,G7)-INDEX('BG TFT-1'!$B$7:$B$11,G7+1))*(INDEX('BG TFT-1'!$A$7:$A$11,G7+1)-INDEX('BG TFT-1'!$A$7:$A$11,G7)) -> 135.42857 | I7: =H7-$B$3 -> 75.428571 | J7: =D7+$B$4*(C7-D7) -> 0.2448 | K7: =MATCH(J7,'BG TFT-1'!$B$11:$B$15,1) -> 4 | L7: =INDEX('BG TFT-1'!$A$11:$A$15,K7)+(J7-INDEX('BG TFT-1'!$B$11:$B$15,K7))/(INDEX('BG TFT-1'!$B$11:$B$15,K7+1)-INDEX('BG TFT-1'!$B$11:$B$15,K7))*(INDEX('BG TFT-1'!$A$11:$A$15,K7+1)-INDEX('BG TFT-1'!$A$11:$A$15,K7)) -> 506.66667 | M7: =L7-$B$5 -> 266.66667 | N7: =('BG TFT-1'!B15-D7)/(C7-D7)*100 -> 98.076923
A8: BG TFT-1 | B8: 0.25 | C8: ='BG TFT-1'!C5 -> 0.25 | D8: =MIN('BG TFT-1'!$C$7:$C$11) -> 0.165 | E8: =(C8-D8)/C8*100 -> 34 | F8: =C8-$B$4*(C8-D8) -> 0.1735 | G8: =MATCH(F8,'BG TFT-1'!$C$7:$C$11,-1) -> 3 | H8: =INDEX('BG TFT-1'!$A$7:$A$11,G8)+(INDEX('BG TFT-1'!$C$7:$C$11,G8)-F8)/(INDEX('BG TFT-1'!$C$7:$C$11,G8)-INDEX('BG TFT-1'!$C$7:$C$11,G8+1))*(INDEX('BG TFT-1'!$A$7:$A$11,G8+1)-INDEX('BG TFT-1'!$A$7:$A$11,G8)) -> 129 | I8: =H8-$B$3 -> 69 | J8: =D8+$B$4*(C8-D8) -> 0.2415 | K8: =MATCH(J8,'BG TFT-1'!$C$11:$C$15,1) -> 4 | L8: =INDEX('BG TFT-1'!$A$11:$A$15,K8)+(J8-INDEX('BG TFT-1'!$C$11:$C$15,K8))/(INDEX('BG TFT-1'!$C$11:$C$15,K8+1)-INDEX('BG TFT-1'!$C$11:$C$15,K8))*(INDEX('BG TFT-1'!$A$11:$A$15,K8+1)-INDEX('BG TFT-1'!$A$11:$A$15,K8)) -> 531.25 | M8: =L8-$B$5 -> 291.25 | N8: =('BG TFT-1'!C15-D8)/(C8-D8)*100 -> 96.470588
A9: BG TFT-1 | B9: 0.5 | C9: ='BG TFT-1'!D5 -> 0.25 | D9: =MIN('BG TFT-1'!$D$7:$D$11) -> 0.122 | E9: =(C9-D9)/C9*100 -> 51.2 | F9: =C9-$B$4*(C9-D9) -> 0.1348 | G9: =MATCH(F9,'BG TFT-1'!$D$7:$D$11,-1) -> 3 | H9: =INDEX('BG TFT-1'!$A$7:$A$11,G9)+(INDEX('BG TFT-1'!$D$7:$D$11,G9)-F9)/(INDEX('BG TFT-1'!$D$7:$D$11,G9)-INDEX('BG TFT-1'!$D$7:$D$11,G9+1))*(INDEX('BG TFT-1'!$A$7:$A$11,G9+1)-INDEX('BG TFT-1'!$A$7:$A$11,G9)) -> 120.92308 | I9: =H9-$B$3 -> 60.923077 | J9: =D9+$B$4*(C9-D9) -> 0.2372 | K9: =MATCH(J9,'BG TFT-1'!$D$11:$D$15,1) -> 4 | L9: =INDEX('BG TFT-1'!$A$11:$A$15,K9)+(J9-INDEX('BG TFT-1'!$D$11:$D$15,K9))/(INDEX('BG TFT-1'!$D$11:$D$15,K9+1)-INDEX('BG TFT-1'!$D$11:$D$15,K9))*(INDEX('BG TFT-1'!$A$11:$A$15,K9+1)-INDEX('BG TFT-1'!$A$11:$A$15,K9)) -> 537.6 | M9: =L9-$B$5 -> 297.6 | N9: =('BG TFT-1'!D15-D9)/(C9-D9)*100 -> 96.09375
A10: BG TFT-1 | B10: 1 | C10: ='BG TFT-1'!E5 -> 0.25 | D10: =MIN('BG TFT-1'!$E$7:$E$11) -> 0.072 | E10: =(C10-D10)/C10*100 -> 71.2 | F10: =C10-$B$4*(C10-D10) -> 0.0898 | G10: =MATCH(F10,'BG TFT-1'!$E$7:$E$11,-1) -> 2 | H10: =INDEX('BG TFT-1'!$A$7:$A$11,G10)+(INDEX('BG TFT-1'!$E$7:$E$11,G10)-F10)/(INDEX('BG TFT-1'!$E$7:$E$11,G10)-INDEX('BG TFT-1'!$E$7:$E$11,G10+1))*(INDEX('BG TFT-1'!$A$7:$A$11,G10+1)-INDEX('BG TFT-1'!$A$7:$A$11,G10)) -> 115.88571 | I10: =H10-$B$3 -> 55.885714 | J10: =D10+$B$4*(C10-D10) -> 0.2322 | K10: =MATCH(J10,'BG TFT-1'!$E$11:$E$15,1) -> 3 | L10: =INDEX('BG TFT-1'!$A$11:$A$15,K10)+(J10-INDEX('BG TFT-1'!$E$11:$E$15,K10))/(INDEX('BG TFT-1'!$E$11:$E$15,K10+1)-INDEX('BG TFT-1'!$E$11:$E$15,K10))*(INDEX('BG TFT-1'!$A$11:$A$15,K10+1)-INDEX('BG TFT-1'!$A$11:$A$15,K10)) -> 392.4 | M10: =L10-$B$5 -> 152.4 | N10: =('BG TFT-1'!E15-D10)/(C10-D10)*100 -> 97.752809
A11: BG TFT-1 | B11: 2 | C11: ='BG TFT-1'!F5 -> 0.25 | D11: =MIN('BG TFT-1'!$F$7:$F$11) -> 0.042 | E11: =(C11-D11)/C11*100 -> 83.2 | F11: =C11-$B$4*(C11-D11) -> 0.0628 | G11: =MATCH(F11,'BG TFT-1'!$F$7:$F$11,-1) -> 2 | H11: =INDEX('BG TFT-1'!$A$7:$A$11,G11)+(INDEX('BG TFT-1'!$F$7:$F$11,G11)-F11)/(INDEX('BG TFT-1'!$F$7:$F$11,G11)-INDEX('BG TFT-1'!$F$7:$F$11,G11+1))*(INDEX('BG TFT-1'!$A$7:$A$11,G11+1)-INDEX('BG TFT-1'!$A$7:$A$11,G11)) -> 110.64 | I11: =H11-$B$3 -> 50.64 | J11: =D11+$B$4*(C11-D11) -> 0.2292 | K11: =MATCH(J11,'BG TFT-1'!$F$11:$F$15,1) -> 4 | L11: =INDEX('BG TFT-1'!$A$11:$A$15,K11)+(J11-INDEX('BG TFT-1'!$F$11:$F$15,K11))/(INDEX('BG TFT-1'!$F$11:$F$15,K11+1)-INDEX('BG TFT-1'!$F$11:$F$15,K11))*(INDEX('BG TFT-1'!$A$11:$A$15,K11+1)-INDEX('BG TFT-1'!$A$11:$A$15,K11)) -> 483.63636 | M11: =L11-$B$5 -> 243.63636 | N11: =('BG TFT-1'!F15-D11)/(C11-D11)*100 -> 96.153846
A12: BG TFT-1 | B12: 5 | C12: ='BG TFT-1'!G5 -> 0.25 | D12: =MIN('BG TFT-1'!$G$7:$G$11) -> 0.012 | E12: =(C12-D12)/C12*100 -> 95.2 | F12: =C12-$B$4*(C12-D12) -> 0.0358 | G12: =MATCH(F12,'BG TFT-1'!$G$7:$G$11,-1) -> 2 | H12: =INDEX('BG TFT-1'!$A$7:$A$11,G12)+(INDEX('BG TFT-1'!$G$7:$G$11,G12)-F12)/(INDEX('BG TFT-1'!$G$7:$G$11,G12)-INDEX('BG TFT-1'!$G$7:$G$11,G12+1))*(INDEX('BG TFT-1'!$A$7:$A$11,G12+1)-INDEX('BG TFT-1'!$A$7:$A$11,G12)) -> 96.3 | I12: =H12-$B$3 -> 36.3 | J12: =D12+$B$4*(C12-D12) -> 0.2262 | K12: =MATCH(J12,'BG TFT-1'!$G$11:$G$15,1) -> 4 | L12: =INDEX('BG TFT-1'!$A$11:$A$15,K12)+(J12-INDEX('BG TFT-1'!$G$11:$G$15,K12))/(INDEX('BG TFT-1'!$G$11:$G$15,K12+1)-INDEX('BG TFT-1'!$G$11:$G$15,K12))*(INDEX('BG TFT-1'!$A$11:$A$15,K12+1)-INDEX('BG TFT-1'!$A$11:$A$15,K12)) -> 508.71795 | M12: =L12-$B$5 -> 268.71795 | N12: =('BG TFT-1'!G15-D12)/(C12-D12)*100 -> 97.478992
A13: BG TFT-1 | B13: 10 | C13: ='BG TFT-1'!H5 -> 0.25 | D13: =MIN('BG TFT-1'!$H$7:$H$11) -> 0.002 | E13: =(C13-D13)/C13*100 -> 99.2 | F13: =C13-$B$4*(C13-D13) -> 0.0268 | G13: =MATCH(F13,'BG TFT-1'!$H$7:$H$11,-1) -> 1 | H13: =INDEX('BG TFT-1'!$A$7:$A$11,G13)+(INDEX('BG TFT-1'!$H$7:$H$11,G13)-F13)/(INDEX('BG TFT-1'!$H$7:$H$11,G13)-INDEX('BG TFT-1'!$H$7:$H$11,G13+1))*(INDEX('BG TFT-1'!$A$7:$A$11,G13+1)-INDEX('BG TFT-1'!$A$7:$A$11,G13)) -> 88.493617 | I13: =H13-$B$3 -> 28.493617 | J13: =D13+$B$4*(C13-D13) -> 0.2252 | K13: =MATCH(J13,'BG TFT-1'!$H$11:$H$15,1) -> 4 | L13: =INDEX('BG TFT-1'!$A$11:$A$15,K13)+(J13-INDEX('BG TFT-1'!$H$11:$H$15,K13))/(INDEX('BG TFT-1'!$H$11:$H$15,K13+1)-INDEX('BG TFT-1'!$H$11:$H$15,K13))*(INDEX('BG TFT-1'!$A$11:$A$15,K13+1)-INDEX('BG TFT-1'!$A$11:$A$15,K13)) -> 558.59649 | M13: =L13-$B$5 -> 318.59649 | N13: =('BG TFT-1'!H15-D13)/(C13-D13)*100 -> 94.758065
A14: BG TFT-2 | B14: 0.1 | C14: ='BG TFT-2'!B5 -> 2.5 | D14: =MIN('BG TFT-2'!$B$7:$B$11) -> 2.08 | E14: =(C14-D14)/C14*100 -> 16.8 | F14: =C14-$B$4*(C14-D14) -> 2.122 | G14: =MATCH(F14,'BG TFT-2'!$B$7:$B$11,-1) -> 3 | H14: =INDEX('BG TFT-2'!$A$7:$A$11,G14)+(INDEX('BG TFT-2'!$B$7:$B$11,G14)-F14)/(INDEX('BG TFT-2'!$B$7:$B$11,G14)-INDEX('BG TFT-2'!$B$7:$B$11,G14+1))*(INDEX('BG TFT-2'!$A$7:$A$11,G14+1)-INDEX('BG TFT-2'!$A$7:$A$11,G14)) -> 144 | I14: =H14-$B$3 -> 84 | J14: =D14+$B$4*(C14-D14) -> 2.458 | K14: =MATCH(J14,'BG TFT-2'!$B$11:$B$15,1) -> 4 | L14: =INDEX('BG TFT-2'!$A$11:$A$15,K14)+(J14-INDEX('BG TFT-2'!$B$11:$B$15,K14))/(INDEX('BG TFT-2'!$B$11:$B$15,K14+1)-INDEX('BG TFT-2'!$B$11:$B$15,K14))*(INDEX('BG TFT-2'!$A$11:$A$15,K14+1)-INDEX('BG TFT-2'!$A$11:$A$15,K14)) -> 493.33333 | M14: =L14-$B$5 -> 253.33333 | N14: =('BG TFT-2'!B15-D14)/(C14-D14)*100 -> 97.619048
A15: BG TFT-2 | B15: 0.25 | C15: ='BG TFT-2'!C5 -> 2.5 | D15: =MIN('BG TFT-2'!$C$7:$C$11) -> 1.82 | E15: =(C15-D15)/C15*100 -> 27.2 | F15: =C15-$B$4*(C15-D15) -> 1.888 | G15: =MATCH(F15,'BG TFT-2'!$C$7:$C$11,-1) -> 3 | H15: =INDEX('BG TFT-2'!$A$7:$A$11,G15)+(INDEX('BG TFT-2'!$C$7:$C$11,G15)-F15)/(INDEX('BG TFT-2'!$C$7:$C$11,G15)-INDEX('BG TFT-2'!$C$7:$C$11,G15+1))*(INDEX('BG TFT-2'!$A$7:$A$11,G15+1)-INDEX('BG TFT-2'!$A$7:$A$11,G15)) -> 148.61538 | I15: =H15-$B$3 -> 88.615385 | J15: =D15+$B$4*(C15-D15) -> 2.432 | K15: =MATCH(J15,'BG TFT-2'!$C$11:$C$15,1) -> 4 | L15: =INDEX('BG TFT-2'!$A$11:$A$15,K15)+(J15-INDEX('BG TFT-2'!$C$11:$C$15,K15))/(INDEX('BG TFT-2'!$C$11:$C$15,K15+1)-INDEX('BG TFT-2'!$C$11:$C$15,K15))*(INDEX('BG TFT-2'!$A$11:$A$15,K15+1)-INDEX('BG TFT-2'!$A$11:$A$15,K15)) -> 536.66667 | M15: =L15-$B$5 -> 296.66667 | N15: =('BG TFT-2'!C15-D15)/(C15-D15)*100 -> 95.588235
A16: BG TFT-2 | B16: 0.5 | C16: ='BG TFT-2'!D5 -> 2.5 | D16: =MIN('BG TFT-2'!$D$7:$D$11) -> 1.48 | E16: =(C16-D16)/C16*100 -> 40.8 | F16: =C16-$B$4*(C16-D16) -> 1.582 | G16: =MATCH(F16,'BG TFT-2'!$D$7:$D$11,-1) -> 3 | H16: =INDEX('BG TFT-2'!$A$7:$A$11,G16)+(INDEX('BG TFT-2'!$D$7:$D$11,G16)-F16)/(INDEX('BG TFT-2'!$D$7:$D$11,G16)-INDEX('BG TFT-2'!$D$7:$D$11,G16+1))*(INDEX('BG TFT-2'!$A$7:$A$11,G16+1)-INDEX('BG TFT-2'!$A$7:$A$11,G16)) -> 136.28571 | I16: =H16-$B$3 -> 76.285714 | J16: =D16+$B$4*(C16-D16) -> 2.398 | K16: =MATCH(J16,'BG TFT-2'!$D$11:$D$15,1) -> 4 | L16: =INDEX('BG TFT-2'!$A$11:$A$15,K16)+(J16-INDEX('BG TFT-2'!$D$11:$D$15,K16))/(INDEX('BG TFT-2'!$D$11:$D$15,K16+1)-INDEX('BG TFT-2'!$D$11:$D$15,K16))*(INDEX('BG TFT-2'!$A$11:$A$15,K16+1)-INDEX('BG TFT-2'!$A$11:$A$15,K16)) -> 552.72727 | M16: =L16-$B$5 -> 312.72727 | N16: =('BG TFT-2'!D15-D16)/(C16-D16)*100 -> 95.098039
A17: BG TFT-2 | B17: 1 | C17: ='BG TFT-2'!E5 -> 2.5 | D17: =MIN('BG TFT-2'!$E$7:$E$11) -> 1 | E17: =(C17-D17)/C17*100 -> 60 | F17: =C17-$B$4*(C17-D17) -> 1.15 | G17: =MATCH(F17,'BG TFT-2'!$E$7:$E$11,-1) -> 3 | H17: =INDEX('BG TFT-2'!$A$7:$A$11,G17)+(INDEX('BG TFT-2'!$E$7:$E$11,G17)-F17)/(INDEX('BG TFT-2'!$E$7:$E$11,G17)-INDEX('BG TFT-2'!$E$7:$E$11,G17+1))*(INDEX('BG TFT-2'!$A$7:$A$11,G17+1)-INDEX('BG TFT-2'!$A$7:$A$11,G17)) -> 144 | I17: =H17-$B$3 -> 84 | J17: =D17+$B$4*(C17-D17) -> 2.35 | K17: =MATCH(J17,'BG TFT-2'!$E$11:$E$15,1) -> 4 | L17: =INDEX('BG TFT-2'!$A$11:$A$15,K17)+(J17-INDEX('BG TFT-2'!$E$11:$E$15,K17))/(INDEX('BG TFT-2'!$E$11:$E$15,K17+1)-INDEX('BG TFT-2'!$E$11:$E$15,K17))*(INDEX('BG TFT-2'!$A$11:$A$15,K17+1)-INDEX('BG TFT-2'!$A$11:$A$15,K17)) -> 500 | M17: =L17-$B$5 -> 260 | N17: =('BG TFT-2'!E15-D17)/(C17-D17)*100 -> 96
A18: BG TFT-2 | B18: 2 | C18: ='BG TFT-2'!F5 -> 2.5 | D18: =MIN('BG TFT-2'!$F$7:$F$11) -> 0.8 | E18: =(C18-D18)/C18*100 -> 68 | F18: =C18-$B$4*(C18-D18) -> 0.97 | G18: =MATCH(F18,'BG TFT-2'!$F$7:$F$11,-1) -> 2 | H18: =INDEX('BG TFT-2'!$A$7:$A$11,G18)+(INDEX('BG TFT-2'!$F$7:$F$11,G18)-F18)/(INDEX('BG TFT-2'!$F$7:$F$11,G18)-INDEX('BG TFT-2'!$F$7:$F$11,G18+1))*(INDEX('BG TFT-2'!$A$7:$A$11,G18+1)-INDEX('BG TFT-2'!$A$7:$A$11,G18)) -> 117.6 | I18: =H18-$B$3 -> 57.6 | J18: =D18+$B$4*(C18-D18) -> 2.33 | K18: =MATCH(J18,'BG TFT-2'!$F$11:$F$15,1) -> 4 | L18: =INDEX('BG TFT-2'!$A$11:$A$15,K18)+(J18-INDEX('BG TFT-2'!$F$11:$F$15,K18))/(INDEX('BG TFT-2'!$F$11:$F$15,K18+1)-INDEX('BG TFT-2'!$F$11:$F$15,K18))*(INDEX('BG TFT-2'!$A$11:$A$15,K18+1)-INDEX('BG TFT-2'!$A$11:$A$15,K18)) -> 544 | M18: =L18-$B$5 -> 304 | N18: =('BG TFT-2'!F15-D18)/(C18-D18)*100 -> 94.117647
A19: BG TFT-2 | B19: 5 | C19: ='BG TFT-2'!G5 -> 2.5 | D19: =MIN('BG TFT-2'!$G$7:$G$11) -> 0.3 | E19: =(C19-D19)/C19*100 -> 88 | F19: =C19-$B$4*(C19-D19) -> 0.52 | G19: =MATCH(F19,'BG TFT-2'!$G$7:$G$11,-1) -> 2 | H19: =INDEX('BG TFT-2'!$A$7:$A$11,G19)+(INDEX('BG TFT-2'!$G$7:$G$11,G19)-F19)/(INDEX('BG TFT-2'!$G$7:$G$11,G19)-INDEX('BG TFT-2'!$G$7:$G$11,G19+1))*(INDEX('BG TFT-2'!$A$7:$A$11,G19+1)-INDEX('BG TFT-2'!$A$7:$A$11,G19)) -> 113 | I19: =H19-$B$3 -> 53 | J19: =D19+$B$4*(C19-D19) -> 2.28 | K19: =MATCH(J19,'BG TFT-2'!$G$11:$G$15,1) -> 4 | L19: =INDEX('BG TFT-2'!$A$11:$A$15,K19)+(J19-INDEX('BG TFT-2'!$G$11:$G$15,K19))/(INDEX('BG TFT-2'!$G$11:$G$15,K19+1)-INDEX('BG TFT-2'!$G$11:$G$15,K19))*(INDEX('BG TFT-2'!$A$11:$A$15,K19+1)-INDEX('BG TFT-2'!$A$11:$A$15,K19)) -> 540.42553 | M19: =L19-$B$5 -> 300.42553 | N19: =('BG TFT-2'!G15-D19)/(C19-D19)*100 -> 96.363636
A20: BG TFT-2 | B20: 10 | C20: ='BG TFT-2'!H5 -> 2.5 | D20: =MIN('BG TFT-2'!$H$7:$H$11) -> 0.1 | E20: =(C20-D20)/C20*100 -> 96 | F20: =C20-$B$4*(C20-D20) -> 0.34 | G20: =MATCH(F20,'BG TFT-2'!$H$7:$H$11,-1) -> 2 | H20: =INDEX('BG TFT-2'!$A$7:$A$11,G20)+(INDEX('BG TFT-2'!$H$7:$H$11,G20)-F20)/(INDEX('BG TFT-2'!$H$7:$H$11,G20)-INDEX('BG TFT-2'!$H$7:$H$11,G20+1))*(INDEX('BG TFT-2'!$A$7:$A$11,G20+1)-INDEX('BG TFT-2'!$A$7:$A$11,G20)) -> 91.764706 | I20: =H20-$B$3 -> 31.764706 | J20: =D20+$B$4*(C20-D20) -> 2.26 | K20: =MATCH(J20,'BG TFT-2'!$H$11:$H$15,1) -> 4 | L20: =INDEX('BG TFT-2'!$A$11:$A$15,K20)+(J20-INDEX('BG TFT-2'!$H$11:$H$15,K20))/(INDEX('BG TFT-2'!$H$11:$H$15,K20+1)-INDEX('BG TFT-2'!$H$11:$H$15,K20))*(INDEX('BG TFT-2'!$A$11:$A$15,K20+1)-INDEX('BG TFT-2'!$A$11:$A$15,K20)) -> 583.05085 | M20: =L20-$B$5 -> 343.05085 | N20: =('BG TFT-2'!H15-D20)/(C20-D20)*100 -> 92.083333
A22: Notes
A23: Recovery time = t at which the current has returned to within 10 % of baseline, minus t_off (240 s); the recording interval in recovery is 100-200 s, so recovery times are approximate (uncertainty of order +/-50 s).
A24: Response R = (I_air − I_min)/I_air × 100, Eq. (6). I_min is the lowest current during NO2 exposure (60–240 s).
A25: t90 is the time at which the current first falls to I_air − 0.9(I_air − I_min), found by linear interpolation between adjacent sampled points; t_res = t90 − t_on, Eq. (7).
A26: Sampling interval during exposure is 30 s (60–120 s) and 60 s (120–240 s), so response times carry an uncertainty of roughly ±15 s.
