Workbook

Sheet Cover
B2: WHO/HSE/GCR/LYO/2012.2/Add.1 (2015)
A21: =Language!B4 -> Laboratory Assessment Tool - short version for EVD/VHF (Only for Ebola/VHF diagnosis capacity and not for clinical testing for Ebola/VHF patients)
A25: =Language!B5 -> Annex 1: Laboratory Assessment Tool / System Questionnaire
A38: © World Health Organization 2015
A40: All rights reserved.
A42: All rights reserved. Publications of the World Health Organization are available on the WHO website (www.who.int) or can be purchased from WHO Press, World Health Organization, 20 Avenue Appia, 1211 Geneva 27, Switzerland (tel.: +41 22 791 3264; fax: +41 22 791 4857; e-mail: bookorders@who.int). Requests for permission to reproduce or translate WHO publications –whether for sale or for non-commercial distribution– should be addressed to WHO Press through the WHO website (www.who.int/about/licensing/copyright_form/en/index.html). The designations employed and the presentation of the material in this publication do not imply the expression of any opinion whatsoever on the part of the World Health Organization concerning the legal status of any country, territory, city or area or of its authorities, or concerning the delimitation of its frontiers or boundaries. Dotted and dashed lines on maps represent approximate border lines for which there may not yet be full agreement. The mention of specific companies or of certain manufacturers’ products does not imply that they are endorsed or recommended by the World Health Organization in preference to others of a similar nature that are not mentioned. Errors and omissions excepted, the names of proprietary products are distinguished by initial capital letters. All reasonable precautions have been taken by the World Health Organization to verify the information contained in this publication. However, the published material is being distributed without warranty of any kind, either expressed or implied. The responsibility for the interpretation and use of the material lies with the reader. In no event shall the World Health Organization be liable for damages arising from its use.

Sheet General Info
A1: =Language!B6 -> General information
A4: =Language!B7 -> Country assessed
A5: =Language!B8 -> Date of the assessment (DD/MM/YYYY)
A6: =Language!B9 -> Name and contact details of the assessor
A7: =Language!B10 -> List name/s, contact details and level/s of authority of key interviewed person/s
A11: =Language!B156 -> Comments

Sheet 1. Coord
A1: 1. | B1: =Language!B15 -> Coordination and management | C1: =IF(COUNT(G6:G17)=0," ",AVERAGE(G6:G17)) -> 1 | I1: 1
B2: =Language!B11 -> Possible answers (unless otherwise advised): 1.Yes; 2.Partial; 3.No; 4.Non applicable | I2: 2
I3: 3
C4: =Language!B12 -> Documents to be collected | D4: =Language!B13 -> 1; 2; 3; 4 | E4: =Language!B14 -> Provide here the answer to the open question/s and/or insert any additional information | I4: 4
B5: =Language!B16 -> Coordination
A6: 1.1 | B6: =Language!B17 -> Does the relevant Ministry have a dedicated unit in charge of health laboratory coordination? | D6: 1 | F6: =IF(D6=1,1,IF(D6=3,0,IF(D6=2,0.5," "))) -> 1 | G6: =F6 -> 1
A7: 1.2 | B7: =Language!B18 -> If yes, please provide name/s, terms of reference and contact details of the unit and responsible person/s
A8: 1.3 | B8: =Language!B19 -> Has this unit a dedicated budget for EVD/VHF outbreak response in case of an event? | D8: 1 | F8: =IF(D8=1,1,IF(D8=3,0,IF(D8=2,0.5," "))) -> 1 | G8: =F8 -> 1
A9: 1.4 | B9: =Language!B20 -> Has this unit developed coordination mechanisms with EVD/VHF rapid response team (RRT) and relevant stakeholders? | D9: 1 | F9: =IF(D9=1,1,IF(D9=3,0,IF(D9=2,0.5," "))) -> 1 | G9: =F9 -> 1
A10: 1.5 | B10: =Language!B21 -> Does this unit participate in public health-related committees such as Ebola preparedness committee or EVD/VHF emergency committees? | D10: 1 | F10: =IF(D10=1,1,IF(D10=3,0,IF(D10=2,0.5," "))) -> 1 | G10: =F10 -> 1
B12: =Language!B22 -> Funding
A13: 1.6 | B13: =Language!B23 -> Is there a specific budget assigned for public health laboratory activities (such as reference laboratories and networks operations) specific for an EVD/VHF outbreak event? | D13: 1 | F13: =IF(D13=1,1,IF(D13=3,0,IF(D13=2,0.5," "))) -> 1 | G13: =F13 -> 1
A14: 1.7 | B14: =Language!B24 -> Has a cost-effectiveness analysis been performed to select technically and financially appropriate laboratory technologies and methods in case of such event? | D14: 1 | F14: =IF(D14=1,1,IF(D14=3,0,IF(D14=2,0.5," "))) -> 1 | G14: =F14 -> 1
B16: =Language!B25 -> Equipment and supply management
A17: 1.8 | B17: =Language!B26 -> Are coordination mechanisms established with donors for equipment and supply donation or procurement in case of an EVD/VHF outbreak? | D17: 1 | F17: =IF(D17=1,1,IF(D17=3,0,IF(D17=2,0.5," "))) -> 1 | G17: =F17 -> 1
B19: =Language!B156 -> Comments

Sheet 2. Structure
A1: 2. | B1: =Language!B27 -> Structure and organization | C1: =IF(COUNT(G6:G37)=0," ",AVERAGE(G6:G37)) -> 1 | I1: 1
B2: =Language!B11 -> Possible answers (unless otherwise advised): 1.Yes; 2.Partial; 3.No; 4.Non applicable | I2: 2
I3: 3
C4: =Language!B12 -> Documents to be collected | D4: =Language!B13 -> 1; 2; 3; 4 | E4: =Language!B14 -> Provide here the answer to the open question/s and/or insert any additional information | I4: 4
B5: =Language!B28 -> Structure
A6: 2.1 | B6: =Language!B29 -> Is an Ebola Operating Centre (EOC) clearly defined with lines of authority? | D6: 1 | F6: =IF(D6=1,1,IF(D6=3,0,IF(D6=2,0.5," "))) -> 1 | G6: =F6 -> 1
A7: 2.2 | B7: =Language!B30 -> If yes, is there a laboratory desk in the EOC? | D7: 1 | F7: =IF(D7=1,1,IF(D7=3,0,IF(D7=2,0.5," "))) -> 1 | G7: =F7 -> 1
A8: 2.3 | B8: =Language!B31 -> If yes, who are the focal points for laboratory in the EOC? provide names and affiliation
A9: 2.4 | B9: =Language!B32 -> Is laboratory represented in the Ebola RRT? | D9: 1 | F9: =IF(D9=1,1,IF(D9=3,0,IF(D9=2,0.5," "))) -> 1 | G9: =F9 -> 1
A10: 2.5 | B10: =Language!B33 -> If yes, who are the focal points for laboratory in the RRT? provide names and affiliation?
B11: =Language!B34 -> Please estimate the number of laboratories designated for EVD/VHF within the following definitions:
A12: 2.6 | B12: =Language!B35 -> Central/national/reference laboratories
A13: 2.7 | B13: =Language!B36 -> Intermediate laboratories (regional or provincial level)
A14: 2.8 | B14: =Language!B37 -> Peripheral laboratories (district or health centre level)
B16: =Language!B38 -> Reference laboratories
A17: 2.9 | B17: =Language!B39 -> Are reference laboratories identified for EVD/VHF outbreak response? | D17: 1 | F17: =IF(D17=1,1,IF(D17=3,0,IF(D17=2,0.5," "))) -> 1 | G17: =F17 -> 1
A18: 2.10 | B18: =Language!B40 -> If yes or partial, please provide the list of reference laboratories and their locations.
A19: 2.11 | B19: =Language!B41 -> Are these reference laboratories competent in testing for EVD? If yes, how is their competency verified? (EQA?, training?) | D19: 1 | F19: =IF(D19=1,1,IF(D19=3,0,IF(D19=2,0.5," "))) -> 1 | G19: =F19 -> 1
A20: 2.12 | B20: =Language!B42 -> Does the reference laboratory identified above have a Biosafety level 3 facility? | D20: 1 | F20: =IF(D20=1,1,IF(D20=3,0,IF(D20=2,0.5," "))) -> 1 | G20: =F20 -> 1
A21: 2.13 | B21: =Language!B43 -> Is the national laboratory able to perform differential diagnosis? For example: Typhoid, Lassa, Marburg, Malaria, etc.? | D21: 1 | F21: =IF(D21=1,1,IF(D21=3,0,IF(D21=2,0.5," "))) -> 1 | G21: =F21 -> 1
A22: 2.14 | B22: =Language!B44 -> Do representatives from the identified reference laboratory(s) participate in the EVD/VHF RRT? | D22: 1 | F22: =IF(D22=1,1,IF(D22=3,0,IF(D22=2,0.5," "))) -> 1 | G22: =F22 -> 1
B23: =Language!B45 -> Regarding laboratory services involvement in the EVD/VHF event RRT, are the following items available:
A24: 2.15 | B24: =Language!B46 -> Personal protective equipment (PPE)? | D24: 1 | F24: =IF(D24=1,1,IF(D24=3,0,IF(D24=2,0.5," "))) -> 1 | G24: =F24 -> 1
A25: 2.16 | B25: =Language!B47 -> Specimen collection kits? | D25: 1 | F25: =IF(D25=1,1,IF(D25=3,0,IF(D25=2,0.5," "))) -> 1 | G25: =F25 -> 1
A26: 2.17 | B26: =Language!B48 -> Triple packaging for specimen transportation? | D26: 1 | F26: =IF(D26=1,1,IF(D26=3,0,IF(D26=2,0.5," "))) -> 1 | G26: =F26 -> 1
A27: 2.18 | B27: =Language!B50 -> SOPs to describe specimen collection and transport? | D27: 1 | F27: =IF(D27=1,1,IF(D27=3,0,IF(D27=2,0.5," "))) -> 1 | G27: =F27 -> 1
B29: =Language!B51 -> Networking mechanisms
A30: 2.19 | B30: =Language!B52 -> Is a list of WHO Collaborating Centres (WHOCC) for EVD/VHF available with clear contact details? | D30: 1 | F30: =IF(D30=1,1,IF(D30=3,0,IF(D30=2,0.5," "))) -> 1 | G30: =F30 -> 1
A31: 2.20 | B31: =Language!B53 -> If yes or partial, please describe: Which WHOCC will be contacted in case of an EVD/VHF event and the contact protocol, documentation developed (SOPs, testing algorithm, reports forms) and funding sources for liaising with such WHOCC. | C31: X
A32: 2.21 | B32: =Language!B54 -> If yes or partial, is it a member of the WHO EDPLN? | D32: 1 | F32: =IF(D32=1,1,IF(D32=3,0,IF(D32=2,0.5," "))) -> 1 | G32: =F32 -> 1
A33: 2.22 | B33: =Language!B55 -> Is there a stock of emergency sample collection and transport supplies (personal protective equipment, sample collection material, transport media)? | D33: 1 | F33: =IF(D33=1,1,IF(D33=3,0,IF(D33=2,0.5," "))) -> 1 | G33: =F33 -> 1
B34: =Language!B56 -> If yes, where are they positioned/stored?
A35: 2.23 | B35: =Language!B57 -> Central/reference level | D35: 1
A36: 2.24 | B36: =Language!B58 -> Intermediate level | D36: 1
A37: 2.25 | B37: =Language!B59 -> Peripheral level | D37: 1
B39: =Language!B156 -> Comments

Sheet 3. Reg
A1: 3. | B1: =Language!B60 -> Regulations | C1: =IF(COUNT(G6:G37)=0," ",AVERAGE(G6:G37)) -> 1 | I1: 1
B2: =Language!B11 -> Possible answers (unless otherwise advised): 1.Yes; 2.Partial; 3.No; 4.Non applicable | I2: 2
I3: 3
C4: =Language!B12 -> Documents to be collected | D4: =Language!B13 -> 1; 2; 3; 4 | E4: =Language!B14 -> Provide here the answer to the open question/s and/or insert any additional information | I4: 4
A5: 3.1 | B5: =Language!B61 -> Are there national regulations specific for laboratories handling dangerous pathogens like Ebola virus? | D5: 1 | F5: =IF(D5=1,1,IF(D5=3,0,IF(D5=2,0.5," "))) -> 1 | G5: =F5 -> 1
A6: 3.2 | B6: =Language!B62 -> Are there national guidelines for import or export of such pathogens? | D6: 1 | F6: =IF(D6=1,1,IF(D6=3,0,IF(D6=2,0.5," "))) -> 1 | G6: =F6 -> 1
B8: =Language!B156 -> Comments

Sheet 4. Quality
A1: 4. | B1: =Language!B63 -> Quality of laboratory system | C1: =IF(COUNT(G6:G21)=0," ",AVERAGE(G6:G21)) -> 0.88888889 | I1: 1
B2: =Language!B11 -> Possible answers (unless otherwise advised): 1.Yes; 2.Partial; 3.No; 4.Non applicable | I2: 2
I3: 3
C4: =Language!B12 -> Documents to be collected | D4: =Language!B13 -> 1; 2; 3; 4 | E4: =Language!B14 -> Provide here the answer to the open question/s and/or insert any additional information | I4: 4
B5: =Language!B64 -> National standardization
A6: 4.1 | B6: =Language!B65 -> Are national general quality norms/sets of standards related to EVD/VHF outbreak laboratory response established? | C6: X | D6: 1 | F6: =IF(D6=1,1,IF(D6=3,0,IF(D6=2,0.5," "))) -> 1 | G6: =F6 -> 1
B7: =Language!B66 -> If yes or partial, do they address these topics:
A8: 4.2 | B8: =Language!B67 -> Specimen collection and transport? | D8: 1 | F8: =IF(D8=1,1,IF(D8=3,0,IF(D8=2,0.5," "))) -> 1 | G8: =F8 -> 1
A9: 4.3 | B9: =Language!B68 -> SOPs for specimen processing? | D9: 1 | F9: =IF(D9=1,1,IF(D9=3,0,IF(D9=2,0.5," "))) -> 1 | G9: =F9 -> 1
A10: 4.4 | B10: =Language!B69 -> Biorisk management? | D10: 1 | F10: =IF(D10=1,1,IF(D10=3,0,IF(D10=2,0.5," "))) -> 1 | G10: =F10 -> 1
A11: 4.5 | B11: =Language!B70 -> Equipment, reagents, reference materials, consumables management? | D11: 1 | F11: =IF(D11=1,1,IF(D11=3,0,IF(D11=2,0.5," "))) -> 1 | G11: =F11 -> 1
A12: 4.6 | B12: =Language!B71 -> Collaboration with referral laboratories? | D12: 1 | F12: =IF(D12=1,1,IF(D12=3,0,IF(D12=2,0.5," "))) -> 1 | G12: =F12 -> 1
A13: 4.7 | B13: =Language!B72 -> External quality assessment procedures? | D13: 1 | F13: =IF(D13=1,1,IF(D13=3,0,IF(D13=2,0.5," "))) -> 1 | G13: =F13 -> 1
B15: =Language!B73 -> Quality assessment
A16: 4.08 | B16: =Language!B74 -> Are there indicators to measure the progress in laboratory test quality? | D16: 1 | F16: =IF(D16=1,1,IF(D16=3,0,IF(D16=2,0.5," "))) -> 1 | G16: =F16 -> 1
A17: 4.09 | B17: =Language!B75 -> Please list these indicators
B18: =Language!B76 -> Does your country participate in an EVD/VHF EQA programme (proficiency-testing or rechecking) in the following areas:
A19: 4.1 | B19: =Language!B77 -> Molecular testing? | D19: 3 | F19: =IF(D19=1,1,IF(D19=3,0,IF(D19=2,0.5," "))) -> 0 | G19: =F19 -> 0
A20: 4.11 | B20: =Language!B78 -> Serology? | D20: 4 | F20: =IF(D20=1,1,IF(D20=3,0,IF(D20=2,0.5," "))) | G20: =F20
A21: 4.12 | B21: =Language!B79 -> Please describe the EQA programme/s organization by providing for each: name of the programme, contact person/s, one line of description
B23: =Language!B156 -> Comments

Sheet 5. Info
A1: 5. | B1: =Language!B80 -> Laboratory information management | C1: =IF(COUNT(G5:G13)=0," ",AVERAGE(G5:G13)) -> 1 | I1: 1
B2: =Language!B11 -> Possible answers (unless otherwise advised): 1.Yes; 2.Partial; 3.No; 4.Non applicable | I2: 2
I3: 3
C4: =Language!B12 -> Documents to be collected | D4: =Language!B13 -> 1; 2; 3; 4 | E4: =Language!B14 -> Provide here the answer to the open question/s and/or insert any additional information | I4: 4
A5: 5.1 | B5: =Language!B81 -> Does the MoH laboratory coordination unit have a mechanism to collect laboratory data in case of EVD/VHF outbreak event? | D5: 1 | F5: =IF(D5=1,1,IF(D5=3,0,IF(D5=2,0.5," "))) -> 1 | G5: =F5 -> 1
A6: 5.2 | B6: =Language!B82 -> If yes or partial, please describe which kind of data (tests ordered and/or performed, logistics data, scientific data, etc.) and data collection mechanisms
A7: 5.3 | B7: =Language!B83 -> Are standardized forms specific for EVD/VHF available to collect these data? | D7: 1 | F7: =IF(D7=1,1,IF(D7=3,0,IF(D7=2,0.5," "))) -> 1 | G7: =F7 -> 1
A8: 5.4 | B8: =Language!B84 -> How are lab results communicated to the Ebola Treatment Center? (Phone, email, SMS etc.)
A9: 5.5 | B9: =Language!B85 -> Who is responsible for communicating lab results back to MoH/EOC/RRT? Provide name/details
A10: 5.6 | B10: =Language!B86 -> Does the MoH laboratory coordination unit share data with other agencies or units? | D10: 1 | F10: =IF(D10=1,1,IF(D10=3,0,IF(D10=2,0.5," "))) -> 1 | G10: =F10 -> 1
A11: 5.7 | B11: =Language!B87 -> If yes or partial, please describe which data and for which purpose
A12: 5.8 | B12: =Language!B88 -> Does the MoH laboratory coordination unit ensure feedback to the laboratory community? | D12: 1 | F12: =IF(D12=1,1,IF(D12=3,0,IF(D12=2,0.5," "))) -> 1 | G12: =F12 -> 1
A13: 5.9 | B13: =Language!B89 -> If yes, please describe the communication mechanisms and procedures (e.g. newsletter, website)
B15: =Language!B156 -> Comments

Sheet 6. Infrastructure
A1: 6. | B1: =Language!B90 -> Infrastructure | C1: =IF(COUNT(#REF!)=0," ",AVERAGE(#REF!)) | E1: This part is covered in the facility assessment sheet | I1: 1
B2: =Language!B11 -> Possible answers (unless otherwise advised): 1.Yes; 2.Partial; 3.No; 4.Non applicable | I2: 2
I3: 3
C4: =Language!B12 -> Documents to be collected | D4: =Language!B13 -> 1; 2; 3; 4 | E4: =Language!B14 -> Provide here the answer to the open question/s and/or insert any additional information | I4: 4
B6: =Language!B156 -> Comments

Sheet 7. HR
A1: 7. | B1: =Language!B91 -> Human resources | C1: =IF(COUNT(G6:G20)=0," ",AVERAGE(G6:G20)) -> 1 | I1: 1
B2: =Language!B11 -> Possible answers (unless otherwise advised): 1.Yes; 2.Partial; 3.No; 4.Non applicable | I2: 2
I3: 3
C4: =Language!B12 -> Documents to be collected | D4: =Language!B13 -> 1; 2; 3; 4 | E4: =Language!B14 -> Provide here the answer to the open question/s and/or insert any additional information | I4: 4
B5: =Language!B92 -> Staff
A6: 7.1 | B6: =Language!B93 -> Is the laboratory staff, who will do the testing and/or sample collection, in the selected reference laboratory(ies) for EVD/VHF response, identified in case of an EVD/VHF event? | D6: 1 | F6: =IF(D6=1,1,IF(D6=3,0,IF(D6=2,0.5," "))) -> 1 | G6: =F6 -> 1
A7: 7.2 | B7: =Language!B94 -> Do they understand the risk and willing to perform the work? | D7: 1 | F7: =IF(D7=1,1,IF(D7=3,0,IF(D7=2,0.5," "))) -> 1 | G7: =F7 -> 1
A8: 7.3 | B8: =Language!B95 -> Are there trained biomedical engineers/technicians (for specific laboratory equipment maintenance) inside the country? | D8: 1 | F8: =IF(D8=1,1,IF(D8=3,0,IF(D8=2,0.5," "))) -> 1 | G8: =F8 -> 1
A9: 7.4 | B9: =Language!B96 -> How many laboratory workers are estimated to participate in an EVD/VHF outbreak event?
B11: =Language!B97 -> Specimen collection, testing, packaging and transportation
B12: =Language!B98 -> Are the selected laboratory workers trained on the followings:
A13: 7.5 | B13: =Language!B99 -> Diagnostic laboratory procedures specific for EVD/VHF pathogens? | D13: 1 | F13: =IF(D13=1,1,IF(D13=3,0,IF(D13=2,0.5," "))) -> 1 | G13: =F13 -> 1
A14: 7.6 | B14: =Language!B100 -> Laboratory waste disposal? | D14: 1 | F14: =IF(D14=1,1,IF(D14=3,0,IF(D14=2,0.5," "))) -> 1 | G14: =F14 -> 1
A15: 7.7 | B15: =Language!B101 -> Laboratory quality assurance? | D15: 1 | F15: =IF(D15=1,1,IF(D15=3,0,IF(D15=2,0.5," "))) -> 1 | G15: =F15 -> 1
A16: 7.8 | B16: =Language!B102 -> Biorisk management (biosafety and laboratory biosecurity)? | D16: 1 | F16: =IF(D16=1,1,IF(D16=3,0,IF(D16=2,0.5," "))) -> 1 | G16: =F16 -> 1
A17: 7.9 | B17: =Language!B103 -> Laboratory management? | D17: 1 | F17: =IF(D17=1,1,IF(D17=3,0,IF(D17=2,0.5," "))) -> 1 | G17: =F17 -> 1
A18: 7.1 | B18: =Language!B104 -> Specimen collection? | D18: 1 | F18: =IF(D18=1,1,IF(D18=3,0,IF(D18=2,0.5," "))) -> 1 | G18: =F18 -> 1
A19: 7.11 | B19: =Language!B105 -> Specimen transport (national and international transport)? | D19: 1 | F19: =IF(D19=1,1,IF(D19=3,0,IF(D19=2,0.5," "))) -> 1 | G19: =F19 -> 1
A20: 7.12 | B20: =Language!B106 -> Data management? | D20: 1 | F20: =IF(D20=1,1,IF(D20=3,0,IF(D20=2,0.5," "))) -> 1 | G20: =F20 -> 1
B22: =Language!B156 -> Comments

Sheet 8. Biorisk
A1: 8. | B1: =Language!B107 -> Biorisk management | C1: =IF(COUNT(G5:G25)=0," ",AVERAGE(G5:G25)) -> 1 | I1: 1
B2: =Language!B11 -> Possible answers (unless otherwise advised): 1.Yes; 2.Partial; 3.No; 4.Non applicable | I2: 2
I3: 3
C4: =Language!B12 -> Documents to be collected | D4: =Language!B13 -> 1; 2; 3; 4 | E4: =Language!B14 -> Provide here the answer to the open question/s and/or insert any additional information | I4: 4
A5: 8.1 | B5: =Language!B108 -> Does the relevant ministry have a dedicated unit in charge of biosafety/biosecurity at national level? | D5: 1 | F5: =IF(D5=1,1,IF(D5=3,0,IF(D5=2,0.5," "))) -> 1 | G5: =F5 -> 1
A6: 8.2 | B6: =Language!B109 -> Does a national up-to-date legislation define minimal biosafety levels, measures or requirements for operation? | D6: 1 | F6: =IF(D6=1,1,IF(D6=3,0,IF(D6=2,0.5," "))) -> 1 | G6: =F6 -> 1
A7: 8.3 | B7: =Language!B110 -> If yes, please describe them shortly and provide relevant documentation
A8: 8.4 | B8: =Language!B111 -> Are specific policy or regulation for waste management and disposal available? | D8: 1 | F8: =IF(D8=1,1,IF(D8=3,0,IF(D8=2,0.5," "))) -> 1 | G8: =F8 -> 1
A9: 8.5 | B9: =Language!B112 -> If yes, please describe them shortly and provide relevant documentation
A10: 8.6 | B10: =Language!B113 -> Are inspections of laboratories performed by national authorities to evaluate compliance with biosafety requirement? | D10: 1 | F10: =IF(D10=1,1,IF(D10=3,0,IF(D10=2,0.5," "))) -> 1 | G10: =F10 -> 1
A11: 8.7 | B11: =Language!B114 -> Does the country have functional BSL-3 laboratories to deal with highly dangerous pathogens? | D11: 1 | F11: =IF(D11=1,1,IF(D11=3,0,IF(D11=2,0.5," "))) -> 1 | G11: =F11 -> 1
A12: 8.8 | B12: =Language!B115 -> If yes, number of functional BSL-3 laboratories:
A13: 8.9 | B13: =Language!B116 -> Please also provide the number of functional BSL-4 laboratories:
A14: 8.10 | B14: =Language!B117 -> Are biosafety cabinets (BSC) certified by local certification bodies? | D14: 1 | F14: =IF(D14=1,1,IF(D14=3,0,IF(D14=2,0.5," "))) -> 1 | G14: =F14 -> 1
A15: 8.11 | B15: =Language!B118 -> Is there a specific national document for specimen packaging and transportation? | D15: 1 | F15: =IF(D15=1,1,IF(D15=3,0,IF(D15=2,0.5," "))) -> 1 | G15: =F15 -> 1
A16: 8.12 | B16: =Language!B119 -> If yes, is its application mandatory by law or decree? | D16: 1 | F16: =IF(D16=1,1,IF(D16=3,0,IF(D16=2,0.5," "))) -> 1 | G16: =F16 -> 1
A17: 8.13 | B17: =Language!B120 -> Are specific packages (like triple packages complying with P620; Category A, and P650; Category B, requirements) available? | D17: 1 | F17: =IF(D17=1,1,IF(D17=3,0,IF(D17=2,0.5," "))) -> 1 | G17: =F17 -> 1
A18: 8.14 | B18: =Language!B121 -> If yes, from which source/s? Local suppliers, foreign suppliers, external assistance (e.g. NGO, UN)
A19: 8.15 | B19: =Language!B122 -> Are national regulations in place and up-to-date for the transport of infectious substances (Categories A and B)? | D19: 1 | F19: =IF(D19=1,1,IF(D19=3,0,IF(D19=2,0.5," "))) -> 1 | G19: =F19 -> 1
A20: 8.16 | B20: =Language!B123 -> Do local carriers ensure the transport of infectious substances according to the national requirements? | D20: 1 | F20: =IF(D20=1,1,IF(D20=3,0,IF(D20=2,0.5," "))) -> 1 | G20: =F20 -> 1
A21: 8.17 | B21: =Language!B124 -> Do central/reference laboratories ready for EVD/VHF response, have access to express courier service/s (e.g. DHL, FedEx, World Courier)? | D21: 1 | F21: =IF(D21=1,1,IF(D21=3,0,IF(D21=2,0.5," "))) -> 1 | G21: =F21 -> 1
A22: 8.18 | B22: =Language!B125 -> Do the people responsible for the shipment of specimens have access to training on infectious substance transport? | D22: 1 | F22: =IF(D22=1,1,IF(D22=3,0,IF(D22=2,0.5," "))) -> 1 | G22: =F22 -> 1
A23: 8.19 | B23: =Language!B126 -> If yes, are these trainings in line with the United Nations regulations on the transport of infectious substances, if national specific regulations do not exist? | D23: 1 | F23: =IF(D23=1,1,IF(D23=3,0,IF(D23=2,0.5," "))) -> 1 | G23: =F23 -> 1
A24: 8.20 | B24: =Language!B127 -> Does laboratory staff have access to occupational/worker health services in all facilities? | D24: 1 | F24: =IF(D24=1,1,IF(D24=3,0,IF(D24=2,0.5," "))) -> 1 | G24: =F24 -> 1
A25: 8.21 | B25: =Language!B128 -> Is/are central/reference laboratory(s) chosen for EVD/VHF response aware of the "WHO Ebola Shipment Fund Project with World Courier"? | C25: X | D25: 1 | F25: =IF(D25=1,1,IF(D25=3,0,IF(D25=2,0.5," "))) -> 1 | G25: =F25 -> 1
B27: =Language!B156 -> Comments

Sheet 9. Gap Analysis
A1: 9. | B1: =Language!B129 -> Gap analysis
B2: =Language!B130 -> What are the biggest needs/weaknesses of the national laboratory system?
B3: =Language!B131 -> Score from 0 (no gap) to 5 (high gap) for the items below and please provide comments for the area/s that display the biggest weaknesses (scores 4 and 5)
C5: =Language!B132 -> 0; 1; 2; 3; 4; 5 | D5: =Language!B156 -> Comments
A6: 9.1 | B6: =Language!B133 -> Financial resources for laboratory activities
A7: 9.2 | B7: =Language!B134 -> Human resources – qualifications and availability of suitable laboratory staff
A8: 9.3 | B8: =Language!B135 -> Equipment adequacy
A9: 9.4 | B9: =Language!B136 -> Reagent and consumable quality
A10: 9.5 | B10: =Language!B137 -> National guidelines on specific laboratory practices
A11: 9.6 | B11: =Language!B138 -> Collection of specimens
A12: 9.7 | B12: =Language!B139 -> Transportation of specimens
A13: 9.8 | B13: =Language!B140 -> Laboratory organization, service delivery structure, and networking
A14: 9.9 | B14: =Language!B141 -> Regulatory framework
A15: 9.10 | B15: =Language!B142 -> Laboratory safety or security
A16: 9.11 | B16: =Language!B143 -> Quality assurance
A17: 9.12 | B17: =Language!B144 -> Recognition of importance of laboratory services
... A19: 9.14 | B19: =Language!B146 -> Other
B20: =Language!B147 -> For other, please specify:
B23: =Language!B148 -> Gap analysis, from 0 (no gap) to 5 (high gap)
B53: =Language!B156 -> Comments

Sheet Summary
B1: =Language!B149 -> EVD/VHF Laboratory Assessment Tool: System Questionnaire Report
B2: =Language!B150 -> All data in this module are automatically retrieved, nothing is to be filled in here except the comment boxes
B5: ='General Info'!A1 -> General information
B6: ='General Info'!A4 -> Country assessed | C6: ='General Info'!B4 -> 0
B7: ='General Info'!A5 -> Date of the assessment (DD/MM/YYYY) | C7: ='General Info'!B5 -> 0
B8: ='General Info'!A6 -> Name and contact details of the assessor | C8: ='General Info'!B6 -> 0
B9: ='General Info'!A7 -> List name/s, contact details and level/s of authority of key interviewed person/s | C9: ='General Info'!B7 -> 0
B13: =Language!B151 -> Average indicator | C13: =AVERAGE(C15:C22) -> 0.98412698
A15: 1. | B15: ='1. Coord'!B1 -> Coordination and management | C15: ='1. Coord'!C1 -> 1
A16: 2. | B16: ='2. Structure'!B1 -> Structure and organization | C16: ='2. Structure'!C1 -> 1
A17: 3. | B17: ='3. Reg'!B1 -> Regulations | C17: ='3. Reg'!C1 -> 1
A18: 4. | B18: ='4. Quality'!B1 -> Quality of laboratory system | C18: ='4. Quality'!C1 -> 0.88888889
A19: 5. | B19: ='5. Info'!B1 -> Laboratory information management | C19: ='5. Info'!C1 -> 1
A20: 6. | B20: ='6. Infrastructure'!B1 -> Infrastructure | C20: ='6. Infrastructure'!C1
A21: 7. | B21: ='7. HR'!B1 -> Human resources | C21: ='7. HR'!C1 -> 1
A22: 8. | B22: ='8. Biorisk'!B1 -> Biorisk management | C22: ='8. Biorisk'!C1 -> 1
A49: =Language!B148 -> Gap analysis, from 0 (no gap) to 5 (high gap)
B78: =Language!B152 -> General comments on the assessment | D78: =Language!B153 -> Conclusions and recommendations

Sheet Language
A1: Enter in cell A3 the number corresponding to the language (1-English, 2- French). If you translate the cells in column 5, you can use the tool in another language.
A2: Translations in Spanish (column 3) and Russian (column 4) are not completed. Therefore the tool shouldn't be used in Spanish and Russian.
A3: 1 | C3: 1- English | D3: 2- French | E3: 3- Spanish | F3: 4- Russian | G3: 5- Language 5
A4: =A$3 -> 1 | B4: =IF(A4=5,G4,IF(A4=4,F4,IF(A4=3,E4,IF(A4=2,D4,C4)))) -> Laboratory Assessment Tool - short version for EVD/VHF (Only for Ebola/VHF diagnosis capacity and not for clinical testing for Ebola/VHF patients) | C4: Laboratory Assessment Tool - short version for EVD/VHF (Only for Ebola/VHF diagnosis capacity and not for clinical testing for Ebola/VHF patients) | D4: Outil d'Evaluation des Laboratoires - version courte pour EVD / FHV (uniquement pour les capacités de diagnostic de Ebola / FHV, et non pour le suivi clinique des patients atteints de Ebola / FHV) | E4: Instrumento para la Evaluación de Laboratorios | F4: Инструмент для оценки качества лабораторий
A5: =A$3 -> 1 | B5: =IF(A5=5,G5,IF(A5=4,F5,IF(A5=3,E5,IF(A5=2,D5,C5)))) -> Annex 1: Laboratory Assessment Tool / System Questionnaire | C5: Annex 1: Laboratory Assessment Tool / System Questionnaire | D5: Annexe 1 : Outil d'Evaluation des Laboratoires / Questionnaire Système | E5: Anexo 1: Instrumento para la Evaluación de Laboratorios / Cuestionario sobre el sistema | F5: Приложение 1. Вопросник "Инструмент для оценки качества лабораторий/система"
A6: =A$3 -> 1 | B6: =IF(A6=5,G6,IF(A6=4,F6,IF(A6=3,E6,IF(A6=2,D6,C6)))) -> General information | C6: General information | D6: Informations générales | E6: Información general | F6: Общая информация
A7: =A$3 -> 1 | B7: =IF(A7=5,G7,IF(A7=4,F7,IF(A7=3,E7,IF(A7=2,D7,C7)))) -> Country assessed | C7: Country assessed | D7: Pays évalué | E7: País evaluado | F7: Страна, в которой проводится оценка
A8: =A$3 -> 1 | B8: =IF(A8=5,G8,IF(A8=4,F8,IF(A8=3,E8,IF(A8=2,D8,C8)))) -> Date of the assessment (DD/MM/YYYY) | C8: Date of the assessment (DD/MM/YYYY) | D8: Date de l'évaluation (JJ/MM/AAAA) | E8: Fecha de la evaluación (DD/MM/AAAA) | F8: Дата проведения оценки (день/месяц/год)
A9: =A$3 -> 1 | B9: =IF(A9=5,G9,IF(A9=4,F9,IF(A9=3,E9,IF(A9=2,D9,C9)))) -> Name and contact details of the assessor | C9: Name and contact details of the assessor | D9: Nom et coordonnées de l'évaluateur | E9: Nombre y datos de contacto del evaluador | F9: ФИО и контактные данные оценщика
A10: =A$3 -> 1 | B10: =IF(A10=5,G10,IF(A10=4,F10,IF(A10=3,E10,IF(A10=2,D10,C10)))) -> List name/s, contact details and level/s of authority of key interviewed person/s | C10: List name/s, contact details and level/s of authority of key interviewed person/s | D10: Veuillez lister les noms, coordonnées et niveau hiérarchique des principales personnes interrogées | E10: Indique el nombre, datos de contacto y nivel jerárquico de la(s) persona(s) entrevistada(s) | F10: Перечень основных опрашиваемых лиц с указанием имен, контактных данных и уровня полномочий
A11: =A$3 -> 1 | B11: =IF(A11=5,G11,IF(A11=4,F11,IF(A11=3,E11,IF(A11=2,D11,C11)))) -> Possible answers (unless otherwise advised): 1.Yes; 2.Partial; 3.No; 4.Non applicable | C11: Possible answers (unless otherwise advised): 1.Yes; 2.Partial; 3.No; 4.Non applicable | D11: Réponses possibles (à moins d'une autre indication) : 1. Oui ; 2. Partiellement ; 3. Non ; 4. Non applicable | E11: Respuestas posibles (salvo que se indique otra cosa): 1.Sí; 2.En parte; 3.No; 4.No procede | F11: Возможные ответы (если не указано иное): 1. Да; 2. Отчасти; 3. Нет; 4. Неприменимо
A12: =A$3 -> 1 | B12: =IF(A12=5,G12,IF(A12=4,F12,IF(A12=3,E12,IF(A12=2,D12,C12)))) -> Documents to be collected | C12: Documents to be collected | D12: Documents à réunir | E12: Documentos que deben recopilarse | F12: Документы, которые должны быть собраны
A13: =A$3 -> 1 | B13: =IF(A13=5,G13,IF(A13=4,F13,IF(A13=3,E13,IF(A13=2,D13,C13)))) -> 1; 2; 3; 4 | C13: 1; 2; 3; 4 | D13: 1; 2; 3; 4 | E13: 1; 2; 3; 4 | F13: 1; 2; 3; 4
A14: =A$3 -> 1 | B14: =IF(A14=5,G14,IF(A14=4,F14,IF(A14=3,E14,IF(A14=2,D14,C14)))) -> Provide here the answer to the open question/s and/or insert any additional information | C14: Provide here the answer to the open question/s and/or insert any additional information | D14: Donner ici les réponses aux questions ouvertes et/ou insérer toute information complémentaire | E14: Escriba aquí la respuesta a las preguntas abiertas y/o cualquier información adicional | F14: Здесь поместите ответ на открытые вопросы и/или внесите любую дополнительную информацию
A15: =A$3 -> 1 | B15: =IF(A15=5,G15,IF(A15=4,F15,IF(A15=3,E15,IF(A15=2,D15,C15)))) -> Coordination and management | C15: Coordination and management | D15: Coordination et gestion | E15: Coordinación y gestión | F15: Координация и управление
... A44: =A$3 -> 1 | B44: =IF(A44=5,G44,IF(A44=4,F44,IF(A44=3,E44,IF(A44=2,D44,C44)))) -> Do representatives from the identified reference laboratory(s) participate in the EVD/VHF RRT? | C44: Do representatives from the identified reference laboratory(s) participate in the EVD/VHF RRT? | D44: Des représentants du(des) laboratoire(s) de référence identifié(s) font-ils partie des équipes d'intervention rapide EVD / FHV ? | E44: ¿Participan regularmente representantes de los laboratorios de referencia en investigaciones de campo durante los eventos de salud pública (p. ej., brotes epidémicos)? | F44: Принимают ли представители базовых лабораторий регулярное участие в полевых исследованиях в период событий, касающихся общественного здоровья (например, вспышки заболевания)?
B45: =IF(A45=5,G45,IF(A45=4,F45,IF(A45=3,E45,IF(A45=2,D45,C45)))) -> Regarding laboratory services involvement in the EVD/VHF event RRT, are the following items available: | C45: Regarding laboratory services involvement in the EVD/VHF event RRT, are the following items available: | D45: En ce qui concerne l'implication des services de laboratoire dans les équipes d'intervention rapide EVD / FHV :
B46: =IF(A46=5,G46,IF(A46=4,F46,IF(A46=3,E46,IF(A46=2,D46,C46)))) -> Personal protective equipment (PPE)? | C46: Personal protective equipment (PPE)? | D46: Equipements de protection individuelle (EPI) ?
B47: =IF(A47=5,G47,IF(A47=4,F47,IF(A47=3,E47,IF(A47=2,D47,C47)))) -> Specimen collection kits? | C47: Specimen collection kits? | D47: Kits pour la collecte des échantillons ?
B48: =IF(A48=5,G48,IF(A48=4,F48,IF(A48=3,E48,IF(A48=2,D48,C48)))) -> Triple packaging for specimen transportation? | C48: Triple packaging for specimen transportation? | D48: Triple emballages pour le transport des échantillons ?
B49: =IF(A49=5,G49,IF(A49=4,F49,IF(A49=3,E49,IF(A49=2,D49,C49)))) -> SOPs to describe specimen collection and transport? | C49: SOPs to describe specimen collection and transport? | D49: POS pour la collecte et le transport des échantillons ?
A50: =A$3 -> 1 | B50: =IF(A50=5,G50,IF(A50=4,F50,IF(A50=3,E50,IF(A50=2,D50,C50)))) -> SOPs to describe specimen collection and transport? | C50: SOPs to describe specimen collection and transport? | D50: POS pour la collecte et le transport des échantillons ?
A51: =A$3 -> 1 | B51: =IF(A51=5,G51,IF(A51=4,F51,IF(A51=3,E51,IF(A51=2,D51,C51)))) -> Networking mechanisms | C51: Networking mechanisms | D51: Mécanismes de mise en réseau | E51: Mecanismos de establecimiento de redes | F51: Механизмы организации сетей
A52: =A$3 -> 1 | B52: =IF(A52=5,G52,IF(A52=4,F52,IF(A52=3,E52,IF(A52=2,D52,C52)))) -> Is a list of WHO Collaborating Centres (WHOCC) for EVD/VHF available with clear contact details? | C52: Is a list of WHO Collaborating Centres (WHOCC) for EVD/VHF available with clear contact details? | D52: Une liste de centres collaborateurs OMS pour EVD / FHV est-elle disponible indiquant clairement les coordonnées de ces centres ? | E52: ¿Están organizados los laboratorios en redes con vistas a la realización de pruebas clínicas (p. ej., acceso a pruebas especializadas o de confirmación que no están disponibles en la localidad del paciente)? | F52: Организованы ли лаборатории в сеть (сети) для проведения клинических тестов (например, доступ к специализированным или подтверждающим тестам, которые не проводятся по месту жительства пациента)?
A53: =A$3 -> 1 | B53: =IF(A53=5,G53,IF(A53=4,F53,IF(A53=3,E53,IF(A53=2,D53,C53)))) -> If yes or partial, please describe: Which WHOCC will be contacted in case of an EVD/VHF event and the contact protocol, documentation developed (SOPs, testing algorithm, reports forms) and funding sources for liaising with such WHOCC. | C53: If yes or partial, please describe: Which WHOCC will be contacted in case of an EVD/VHF event and the contact protocol, documentation developed (SOPs, testing algorithm, reports forms) and funding sources for liaising with such WHOCC. | D53: Si oui ou partiellement, veuillez décrire : Quels centres collaborateurs OMS sont contactés en cas d'un événement EVD / FHV, le protocole de contact, la documentation développée (POS, algorithme de test, formulaires), et les sources de financement pour assurer la liaison avec les centres collaborateurs OMS. | E53: Si la respuesta es sí o en parte, indique para cada una de las redes: los nombres o tipos de laboratorios que forman parte de la red, los mecanismos de funcionamiento de la red (especialmente cómo se comparten las muestras y los datos entre las distintas redes), la documentación elaborada (POE, algoritmo de prueba, formularios de informe) y las fuentes de financiación | F53: В случае ответа "Да" или "Отчасти" – опишите по каждой сети: названия и типы лабораторий, входящих в сеть, механизмы образования сетей (в особенности порядок обмена образцами и данными между сетями), разработанную документацию (СОП, алгоритм тестов, формы отчетности) и источники финансирования
A54: =A$3 -> 1 | B54: =IF(A54=5,G54,IF(A54=4,F54,IF(A54=3,E54,IF(A54=2,D54,C54)))) -> If yes or partial, is it a member of the WHO EDPLN? | C54: If yes or partial, is it a member of the WHO EDPLN? | D54: Si oui ou partiellement, est-il un membre du réseau OMS de laboratoires pour les agents pathogènes émergents et dangereux (EDPLN) ? | E54: Si la respuesta es sí o en parte, proporcione el listado de los laboratorios y las redes | F54: В случае ответа "Да" или "Отчасти" – представьте список лабораторий и сетей
A55: =A$3 -> 1 | B55: =IF(A55=5,G55,IF(A55=4,F55,IF(A55=3,E55,IF(A55=2,D55,C55)))) -> Is there a stock of emergency sample collection and transport supplies (personal protective equipment, sample collection material, transport media)? | C55: Is there a stock of emergency sample collection and transport supplies (personal protective equipment, sample collection material, transport media)? | D55: Y a-t-il un stock de fournitures d'urgence pour le transport et le prélèvement d'échantillons (équipement de protection individuelle, matériel de prélèvement d'échantillons, milieux de transport) ? | E55: ¿Se dispone de existencias de material para la recogida y transporte de emergencia de muestras (equipos de protección personal, material para la recogida de muestras, medios de transporte)? | F55: Имеется ли неприкосновенный запас для сбора и транспортирования образцов (средства индивидуальной защиты, материал для сбора образцов, транспортные средства)?
A56: =A$3 -> 1 | B56: =IF(A56=5,G56,IF(A56=4,F56,IF(A56=3,E56,IF(A56=2,D56,C56)))) -> If yes, where are they positioned/stored? | C56: If yes, where are they positioned/stored? | D56: Si oui, où se trouve-t-il ? | E56: Si la respuesta es sí, ¿dónde se encuentran/almacenan? | F56: Если "Да", то где они расположены/хранятся?
A57: =A$3 -> 1 | B57: =IF(A57=5,G57,IF(A57=4,F57,IF(A57=3,E57,IF(A57=2,D57,C57)))) -> Central/reference level | C57: Central/reference level | D57: Niveau central/de référence | E57: Nivel central/de referencia | F57: Центральный/базовый уровень
A58: =A$3 -> 1 | B58: =IF(A58=5,G58,IF(A58=4,F58,IF(A58=3,E58,IF(A58=2,D58,C58)))) -> Intermediate level | C58: Intermediate level | D58: Niveau intermédiaire | E58: Nivel intermedio | F58: Промежуточный уровень
A59: =A$3 -> 1 | B59: =IF(A59=5,G59,IF(A59=4,F59,IF(A59=3,E59,IF(A59=2,D59,C59)))) -> Peripheral level | C59: Peripheral level | D59: Niveau périphérique | E59: Nivel periférico | F59: Периферийный уровень
A60: =A$3 -> 1 | B60: =IF(A60=5,G60,IF(A60=4,F60,IF(A60=3,E60,IF(A60=2,D60,C60)))) -> Regulations | C60: Regulations | D60: Réglementation | E60: Reglamentaciones | F60: Нормативно-правовая база
A61: =A$3 -> 1 | B61: =IF(A61=5,G61,IF(A61=4,F61,IF(A61=3,E61,IF(A61=2,D61,C61)))) -> Are there national regulations specific for laboratories handling dangerous pathogens like Ebola virus? | C61: Are there national regulations specific for laboratories handling dangerous pathogens like Ebola virus? | D61: Y a-t-il une réglementation nationale spécifique pour les laboratoires manipulant des pathogènes dangereux tels le virus Ebola ?
A62: =A$3 -> 1 | B62: =IF(A62=5,G62,IF(A62=4,F62,IF(A62=3,E62,IF(A62=2,D62,C62)))) -> Are there national guidelines for import or export of such pathogens? | C62: Are there national guidelines for import or export of such pathogens? | D62: Y a-t-il des directives nationales pour l'importation ou l'exportation de tels pathogènes ?
A63: =A$3 -> 1 | B63: =IF(A63=5,G63,IF(A63=4,F63,IF(A63=3,E63,IF(A63=2,D63,C63)))) -> Quality of laboratory system | C63: Quality of laboratory system | D63: Qualité du système de laboratoire | E63: Calidad del sistema de laboratorios | F63: Качество лабораторной системы
A64: =A$3 -> 1 | B64: =IF(A64=5,G64,IF(A64=4,F64,IF(A64=3,E64,IF(A64=2,D64,C64)))) -> National standardization | C64: National standardization | D64: Normalisation au niveau national | E64: Estandarización a nivel nacional | F64: Национальная стандартизация
A65: =A$3 -> 1 | B65: =IF(A65=5,G65,IF(A65=4,F65,IF(A65=3,E65,IF(A65=2,D65,C65)))) -> Are national general quality norms/sets of standards related to EVD/VHF outbreak laboratory response established? | C65: Are national general quality norms/sets of standards related to EVD/VHF outbreak laboratory response established? | D65: Des normes de qualité nationales générales ont-elle été établies pour la réponse de laboratoire aux épidémies de EVD / FHV ? | E65: ¿Existen unas reglas/conjunto de normas de calidad generales a nivel nacional? | F65: Установлены ли общенациональные нормы/комплексы стандартов качества?
A66: =A$3 -> 1 | B66: =IF(A66=5,G66,IF(A66=4,F66,IF(A66=3,E66,IF(A66=2,D66,C66)))) -> If yes or partial, do they address these topics: | C66: If yes or partial, do they address these topics: | D66: Si oui ou partiellement, abordent-elles les sujets suivants ? | E66: Si la respuesta es sí o en parte, ¿abordan estos temas? | F66: В случае ответа "Да" или "Отчасти" – относятся ли они к следующим направлениям:
A67: =A$3 -> 1 | B67: =IF(A67=5,G67,IF(A67=4,F67,IF(A67=3,E67,IF(A67=2,D67,C67)))) -> Specimen collection and transport? | C67: Specimen collection and transport? | D67: Prélèvement et transport d'échantillons | E67: Recogida y transporte de muestras | F67: Сбор и транспортирование образцов?
A68: =A$3 -> 1 | B68: =IF(A68=5,G68,IF(A68=4,F68,IF(A68=3,E68,IF(A68=2,D68,C68)))) -> SOPs for specimen processing? | C68: SOPs for specimen processing? | D68: POS pour le traitement des échantillons | E68: Procedimientos operativos estándar para el procesamiento de muestras | F68: СОП для обработки образцов?
...

Sheet Export
A1: =Language!B154 -> Export
B4: =Summary!B6 -> Country assessed | C4: =Summary!B7 -> Date of the assessment (DD/MM/YYYY) | D4: =Summary!B13 -> Average indicator | E4: =Summary!B15 -> Coordination and management | F4: =Summary!B16 -> Structure and organization | G4: =Summary!B17 -> Regulations | H4: =Summary!B18 -> Quality of laboratory system | I4: =Summary!B19 -> Laboratory information management | J4: =Summary!B20 -> Infrastructure | K4: =Summary!B21 -> Human resources | L4: =Summary!B22 -> Biorisk management
B5: =Summary!C6 -> 0 | C5: =Summary!C7 -> 0 | D5: =Summary!C13 -> 0.98412698 | E5: =Summary!C15 -> 1 | F5: =Summary!C16 -> 1 | G5: =Summary!C17 -> 1 | H5: =Summary!C18 -> 0.88888889 | I5: =Summary!C19 -> 1 | J5: =Summary!C20 | K5: =Summary!C21 -> 1 | L5: =Summary!C22 -> 1

Sheet Acronyms
A1: =Language!B155 -> Acronyms referred to in this document
A4: =Language!B157 -> BSC | B4: =Language!B158 -> Biosafety Cabinet
A5: =Language!B159 -> BSL | B5: =Language!B160 -> Biosafety Level
A6: =Language!B161 -> EDPLN | B6: =Language!B162 -> Emerging and Dangerous Pathogens Laboratory Network
A7: =Language!B163 -> EOC | B7: =Language!B164 -> Ebola Operating Centre
A8: =Language!B165 -> EQA | B8: =Language!B166 -> External Quality Assessment
A9: =Language!B167 -> EVD | B9: =Language!B168 -> Ebola virus disease
A10: =Language!B169 -> MoH | B10: =Language!B170 -> Ministry of Health
A11: =Language!B171 -> NGO | B11: =Language!B172 -> Non-Governmental Organization
A12: =Language!B173 -> PPE | B12: =Language!B174 -> Personal protective equipment
A13: =Language!B175 -> RRT | B13: =Language!B176 -> Rapid Response Team
A14: =Language!B177 -> SOP | B14: =Language!B178 -> Standard Operating Procedure/s
A15: =Language!B179 -> UN | B15: =Language!B180 -> United Nations
A16: =Language!B181 -> VHF | B16: =Language!B182 -> Viral haemorrhagic fever
A17: =Language!B183 -> WHO | B17: =Language!B184 -> World Health Organization
A18: =Language!B185 -> WHOCC | B18: =Language!B186 -> WHO Collaborating Centres

Sheet Sheet1
