Workbook

Sheet list_papers
A1: Year | B1: DOI | C1: Link | D1: Dynapenia testing | E1: Inclusion of specific power measures?
A2: 2023 | B2: 10.1186/s40101-023-00334-3 | C2: https://pubmed.ncbi.nlm.nih.gov/37537693/ | D2: Handgrip | E2: No
A3: 2023 | B3: 10.3390/nu15132963 | C3: https://pubmed.ncbi.nlm.nih.gov/37447288/ | D3: Handgrip | E3: No
A4: 2023 | B4: 10.1016/j.maturitas.2023.04.006 | C4: https://pubmed.ncbi.nlm.nih.gov/37393660/ | D4: Handgrip | E4: No
A5: 2023 | B5: 10.1016/j.numecd.2023.05.011 | C5: https://pubmed.ncbi.nlm.nih.gov/37344283/ | D5: Handgrip | E5: No
A6: 2023 | B6: 10.1038/s41598-023-37125-w | C6: https://pubmed.ncbi.nlm.nih.gov/37336997/ | D6: Handgrip | E6: No
A7: 2023 | B7: 10.1016/j.jbmt.2023.04.031 | C7: https://pubmed.ncbi.nlm.nih.gov/37330759/ | D7: Handgrip | E7: No
A8: 2023 | B8: 10.1111/ggi.14621 | C8: https://pubmed.ncbi.nlm.nih.gov/37310107/ | D8: Handgrip | E8: No
A9: 2023 | B9: 10.1159/000531371 | C9: https://pubmed.ncbi.nlm.nih.gov/37276853/ | D9: Handgrip | E9: No
A10: 2023 | B10: 10.1007/s40520-023-02455-2 | C10: https://pubmed.ncbi.nlm.nih.gov/37273091/ | D10: Handgrip | E10: No
A11: 2023 | B11: 10.3389/fnut.2023.1153399 | C11: https://pubmed.ncbi.nlm.nih.gov/37215209/ | D11: Sit to stand | E11: No
A12: 2023 | B12: 10.1177/10760296231169503 | C12: https://pubmed.ncbi.nlm.nih.gov/37192648/ | D12: Handgrip | E12: No
A13: 2023 | B13: 10.1186/s12877-023-03847-9 | C13: https://pubmed.ncbi.nlm.nih.gov/37158860/ | D13: Handgrip | E13: No
... A221: 2009 | B221: 10.1093/gerona/glp159 | C221: https://pubmed.ncbi.nlm.nih.gov/19887536/ | D221: Isokinetic leg extension | E221: No

Sheet summary
B2: Type of test to diagnose dynapenia | C2: n | D2: %
B3: Handgrip | C3: =COUNTIF(list_papers!D$2:D$503,B3) -> 170 | D3: =C3/SUM(C$2:C$19) -> 0.77272727
B4: Handgrip and 6-m walk | C4: =COUNTIF(list_papers!D$2:D$503,B4) -> 20 | D4: =C4/SUM(C$2:C$19) -> 0.090909091
B5: Handgrip and isometric leg extension | C5: =COUNTIF(list_papers!D$2:D$503,B5) -> 5 | D5: =C5/SUM(C$2:C$19) -> 0.022727273
B6: Isometric leg extension | C6: =COUNTIF(list_papers!D$2:D$503,B6) -> 4 | D6: =C6/SUM(C$2:C$19) -> 0.018181818
B7: Isokinetic leg extension | C7: =COUNTIF(list_papers!D$2:D$503,B7) -> 4 | D7: =C7/SUM(C$2:C$19) -> 0.018181818
B8: Handgrip and sit to stand | C8: =COUNTIF(list_papers!D$2:D$503,B8) -> 4 | D8: =C8/SUM(C$2:C$19) -> 0.018181818
B9: Sit to stand | C9: =COUNTIF(list_papers!D$2:D$503,B9) -> 2 | D9: =C9/SUM(C$2:C$19) -> 0.0090909091
B10: Mid-thigh pull | C10: =COUNTIF(list_papers!D$2:D$503,B10) -> 2 | D10: =C10/SUM(C$2:C$19) -> 0.0090909091
B11: Sit to stand power | C11: =COUNTIF(list_papers!D$2:D$503,B11) -> 1 | D11: =C11/SUM(C$2:C$19) -> 0.0045454545
B12: Phase angle (BIA) | C12: =COUNTIF(list_papers!D$2:D$503,B12) -> 1 | D12: =C12/SUM(C$2:C$19) -> 0.0045454545
B13: Leg press and bench press | C13: =COUNTIF(list_papers!D$2:D$503,B13) -> 1 | D13: =C13/SUM(C$2:C$19) -> 0.0045454545
B14: Isometric leg extension strength and power | C14: =COUNTIF(list_papers!D$2:D$503,B14) -> 1 | D14: =C14/SUM(C$2:C$19) -> 0.0045454545
... B19: Bench press and knee extension | C19: =COUNTIF(list_papers!D$2:D$503,B19) -> 1 | D19: =C19/SUM(C$2:C$19) -> 0.0045454545
B20: Inclusion of specific power measures? | C20: n | D20: %
B21: Yes | C21: =COUNTIF(list_papers!E2:E509,B21) -> 2 | D21: =C21/SUM(C$21:C$22) -> 0.0090909091
B22: No | C22: =COUNTIF(list_papers!E2:E509,B22) -> 218 | D22: =C22/SUM(C$21:C$22) -> 0.99090909
