Workbook

Sheet Normative values
A1: SQUAT | G1: BENCH PRESS | M1: DEADLIFT | S1: TOTAL
A2: Max di Relative_SQ | B2: Etichette di colonna | G2: Max di Relative_BP | H2: Etichette di colonna | M2: Max di Relative_DL | N2: Etichette di colonna | S2: Max di Relative_TOT | T2: Etichette di colonna
A3: Etichette di riga | B3: 1 | C3: 2 | D3: 3 | E3: 4 | G3: Etichette di riga | H3: 1 | I3: 2 | J3: 3 | K3: 4 | M3: Etichette di riga | N3: 1 | O3: 2 | P3: 3 | Q3: 4 | S3: Etichette di riga | T3: 1 | U3: 2 | V3: 3 | W3: 4
A4: F | G4: F | H4: 0.79407094 | I4: 0.94339623 | J4: 1.1049272 | K4: 1.9792182 | M4: F | N4: 1.8442623 | O4: 2.076412 | P4: 2.3465704 | Q4: 3.6407767 | S4: F | T4: 4.1733547 | U4: 4.7151277 | V4: 5.3435115 | W4: 7.7272727
A5: Junior | G5: Junior | H5: 0.78909613 | I5: 0.92307692 | J5: 1.0645093 | K5: 1.9792182 | M5: Junior | N5: 1.8442623 | O5: 2.0393299 | P5: 2.3015873 | Q5: 3.4448819 | S5: Junior | T5: 4.1733547 | U5: 4.6996466 | V5: 5.1601423 | W5: 7.5586095
A6: 47 | B6: 1.4008621 | C6: 1.6184352 | D6: 1.880531 | E6: 2.5549806 | G6: 47 | H6: 0.7751938 | I6: 0.91991342 | J6: 1.0645093 | K6: 1.576087 | M6: 47 | N6: 1.6607355 | O6: 1.8874172 | P6: 2.2676991 | Q6: 3.3333333 | S6: 47 | T6: 2.8478892 | U6: 4.619507 | V6: 5.1354402 | W6: 7.1335505
A7: 52 | B7: 1.4705882 | C7: 1.6949153 | D7: 1.884058 | E7: 2.5678295 | G7: 52 | H7: 0.78895464 | I7: 0.9223301 | J7: 1.0630073 | K7: 1.719057 | M7: 52 | N7: 1.723782 | O7: 2.038835 | P7: 2.2899243 | Q7: 3.4448819 | S7: 52 | T7: 3.9184953 | U7: 4.6862266 | V7: 5.1536174 | W7: 7.2189922
A8: 57 | B8: 1.481149 | C8: 1.6941392 | D8: 1.8892794 | E8: 2.687039 | G8: 57 | H8: 0.77272727 | I8: 0.92267135 | J8: 1.0638298 | K8: 1.5379113 | M8: 57 | N8: 1.7985612 | O8: 2.0390071 | P8: 2.300885 | Q8: 2.919708 | S8: 57 | T8: 4.1363636 | U8: 4.6892762 | V8: 5.1601423 | W8: 6.6484517
A9: 63 | B9: 1.4847512 | C9: 1.6949153 | D9: 1.8890675 | E9: 2.829426 | G9: 63 | H9: 0.78707539 | I9: 0.92147436 | J9: 1.0629599 | K9: 1.9792182 | M9: 63 | N9: 1.8442623 | O9: 2.0338983 | P9: 2.3015873 | Q9: 3.1932094 | S9: 63 | T9: 4.1733547 | U9: 4.6915796 | V9: 5.16 | W9: 7.5586095
A10: 69 | B10: 1.4876633 | C10: 1.6975309 | D10: 1.8903592 | E10: 2.5231798 | G10: 69 | H10: 0.78125 | I10: 0.92307692 | J10: 1.0630499 | K10: 1.5641139 | M10: 69 | N10: 1.7993874 | O10: 2.0393299 | P10: 2.2988506 | Q10: 3.1749765 | S10: 69 | T10: 4.1727141 | U10: 4.6895449 | V10: 5.1272455 | W10: 6.7811226
A11: 76 | B11: 1.4788732 | C11: 1.6973126 | D11: 1.8791946 | E11: 2.3986486 | G11: 76 | H11: 0.78909613 | I11: 0.92112445 | J11: 1.0644337 | K11: 1.7022697 | M11: 76 | N11: 1.8043304 | O11: 2.0387008 | P11: 2.2733351 | Q11: 2.8113879 | S11: 76 | T11: 4.169022 | U11: 4.6996466 | V11: 5.156038 | W11: 6.4527027
A12: -84 | B12: 1.4819588 | C12: 1.6943734 | D12: 1.8685567 | E12: 2.2727273 | G12: -84 | H12: 0.78419072 | I12: 0.89461994 | J12: 1.0391198 | K12: 1.342711 | M12: -84 | N12: 1.8041237 | O12: 2.0236613 | P12: 2.2224892 | Q12: 2.7948403 | S12: -84 | T12: 4.0774099 | U12: 4.6966732 | V12: 5.1234568 | W12: 6.0503686
A13: 84 | B13: 1.486014 | C13: 1.6939252 | D13: 1.7164435 | G13: 84 | H13: 0.76849183 | I13: 0.92059839 | J13: 0.97613883 | K13: 1.1498218 | M13: 84 | N13: 1.7688679 | O13: 1.9230769 | S13: 84 | T13: 4.1083916 | U13: 4.4055384
A14: Master 1 | G14: Master 1 | H14: 0.72463768 | I14: 0.86538462 | J14: 1.0226443 | K14: 1.754386 | M14: Master 1 | N14: 1.6531027 | O14: 1.9121813 | P14: 2.1460843 | Q14: 3.1982942 | S14: Master 1 | T14: 3.7174721 | U14: 4.2925278 | V14: 4.8685492 | W14: 7.4626866
A15: 47 | B15: 1.026805 | C15: 1.4130435 | D15: 1.4893617 | E15: 2.368065 | G15: 47 | H15: 0.69148936 | J15: 0.86956522 | K15: 1.4925373 | M15: 47 | N15: 1.5131863 | P15: 1.9148936 | Q15: 3.0849825 | S15: 47 | T15: 3.080415 | U15: 4.0957447 | V15: 4.5108696 | W15: 6.4144028
A16: 52 | B16: 1.2572534 | C16: 1.4311094 | D16: 1.693902 | E16: 2.7137042 | G16: 52 | H16: 0.68897638 | I16: 0.86538462 | J16: 1.0154739 | K16: 1.5506881 | M16: 52 | O16: 1.8269231 | P16: 2.1297193 | Q16: 3.1982942 | S16: 52 | T16: 3.7037037 | U16: 4.2788462 | V16: 4.7918683 | W16: 7.4626866
A17: 57 | B17: 1.1946903 | C17: 1.473384 | D17: 1.6964286 | E17: 2.1532847 | G17: 57 | H17: 0.72463768 | I17: 0.86520947 | J17: 1.0185185 | K17: 1.754386 | M17: 57 | N17: 1.6270888 | O17: 1.8315018 | P17: 2.140255 | Q17: 3.0864198 | S17: 57 | T17: 3.7174721 | U17: 4.1461637 | V17: 4.8500882 | W17: 6.2610229
A18: 63 | B18: 1.2396694 | C18: 1.4802632 | D18: 1.7034393 | E18: 2.5345248 | G18: 63 | H18: 0.70247934 | I18: 0.86490939 | J18: 1.0221465 | K18: 1.4473053 | M18: 63 | N18: 1.6366612 | O18: 1.9118869 | P18: 2.1452145 | Q18: 2.658289 | S18: 63 | T18: 3.5123967 | U18: 4.2925278 | V18: 4.8571429 | W18: 6.3688058
A19: 69 | B19: 1.2345679 | C19: 1.4641288 | D19: 1.7043806 | E19: 2.0527859 | G19: 69 | H19: 0.71860817 | I19: 0.86518206 | J19: 1.0226443 | K19: 1.1671687 | M19: 69 | N19: 1.6219404 | O19: 1.8910741 | P19: 2.1460843 | Q19: 2.4885145 | S19: 69 | T19: 3.6798179 | U19: 4.2824074 | V19: 4.845815 | W19: 5.474732
A20: 76 | B20: 1.2640449 | C20: 1.4588859 | D20: 1.7029973 | E20: 2.1315029 | G20: 76 | H20: 0.70126227 | I20: 0.85808581 | J20: 1.0211268 | K20: 1.5934844 | M20: 76 | N20: 1.6197183 | O20: 1.9121813 | P20: 2.1246459 | Q20: 2.5412088 | S20: 76 | T20: 3.6875892 | U20: 4.2847025 | V20: 4.8611111 | W20: 5.8526012
A21: -84 | B21: 1.2650602 | C21: 1.4311815 | D21: 1.6666667 | E21: 2.3966447 | G21: -84 | H21: 0.71866017 | I21: 0.84797093 | J21: 1.0191847 | K21: 1.6237268 | M21: -84 | N21: 1.6414141 | O21: 1.910828 | P21: 2.1391028 | Q21: 2.4067389 | S21: -84 | T21: 3.6967419 | U21: 4.2729592 | V21: 4.8685492 | W21: 6.3571001
A22: 84 | B22: 1.2439024 | C22: 1.4511873 | D22: 1.6644128 | E22: 1.7747279 | G22: 84 | H22: 0.71921749 | I22: 0.84302326 | J22: 0.97222222 | K22: 1.300578 | M22: 84 | N22: 1.6531027 | O22: 1.8882979 | P22: 2.0288931 | S22: 84 | T22: 3.6748927 | U22: 4.2196532 | V22: 4.6048438
A23: Master 2 | G23: Master 2 | H23: 0.67394095 | I23: 0.80307263 | J23: 0.97847358 | K23: 1.5859031 | M23: Master 2 | N23: 1.507159 | O23: 1.7780939 | P23: 2.1477663 | Q23: 2.6752768 | S23: Master 2 | T23: 3.2333333 | U23: 3.9598438 | V23: 4.7025723 | W23: 5.7744565
A24: 47 | D24: 1.5337423 | E24: 1.8256014 | G24: 47 | J24: 0.87642419 | K24: 1.1275773 | M24: 47 | P24: 2.1477663 | Q24: 2.5881057 | S24: 47 | V24: 4.3821209 | W24: 5.2863436
A25: 52 | C25: 1.2720157 | D25: 1.552795 | E25: 2.0380435 | G25: 52 | I25: 0.77002053 | J25: 0.97847358 | K25: 1.3461538 | M25: 52 | O25: 1.7206478 | Q25: 2.5961538 | S25: 52 | U25: 3.7955466 | V25: 4.5687885 | W25: 5.7744565
A26: 57 | B26: 0.97638914 | C26: 1.3215859 | D26: 1.5569395 | E26: 2.0929818 | G26: 57 | H26: 0.65237651 | I26: 0.80067822 | J26: 0.97690941 | K26: 1.5859031 | M26: 57 | N26: 1.507159 | O26: 1.7761989 | P26: 2.1428571 | Q26: 2.6752768 | S26: 57 | T26: 2.889096 | U26: 3.9380531 | V26: 4.5982143 | W26: 5.6676187
A27: 63 | B27: 1.059322 | C27: 1.3192612 | D27: 1.5447154 | E27: 1.9197208 | G27: 63 | H27: 0.6655574 | I27: 0.79365079 | J27: 0.9771987 | K27: 1.3325796 | M27: 63 | N27: 1.4975042 | O27: 1.7529215 | P27: 2.1172638 | Q27: 2.5 | S27: 63 | T27: 3.1732419 | U27: 3.9586919 | V27: 4.7025723 | W27: 5.4101222
A28: 69 | B28: 1.0630499 | C28: 1.2313433 | D28: 1.5698587 | E28: 1.6393443 | G28: 69 | H28: 0.65982405 | I28: 0.74626866 | J28: 0.86342229 | K28: 1.1549925 | M28: 69 | N28: 1.4925373 | O28: 1.7164179 | P28: 1.9927536 | Q28: 2.2578241 | S28: 69 | T28: 3.1531532 | U28: 3.6940299 | V28: 4.3171115 | W28: 5.052161
A29: 76 | B29: 0.84626234 | C29: 1.321004 | D29: 1.5446608 | E29: 2.0422535 | G29: 76 | H29: 0.67159167 | I29: 0.80307263 | J29: 0.96378907 | K29: 1.3623978 | M29: 76 | N29: 1.3399154 | O29: 1.7780939 | P29: 2.1376086 | Q29: 2.4513287 | S29: 76 | T29: 3.2333333 | U29: 3.801593 | V29: 4.6875 | W29: 5.4929577
A30: -84 | B30: 1.0618932 | C30: 1.3117755 | D30: 1.5228426 | E30: 1.9950125 | G30: -84 | H30: 0.67394095 | I30: 0.7457847 | J30: 0.96269555 | K30: 1.0910224 | M30: -84 | N30: 1.4948139 | O30: 1.7220172 | Q30: 2.6184539 | S30: -84 | T30: 3.1771502 | U30: 3.7822878 | V30: 4.0312876 | W30: 5.7044888
A31: 84 | B31: 1.0822511 | C31: 1.3031161 | D31: 1.4537902 | G31: 84 | H31: 0.65897858 | I31: 0.79320113 | J31: 0.91954023 | K31: 1.0596765 | M31: 84 | N31: 1.4486193 | O31: 1.7653167 | P31: 1.7847183 | S31: 84 | T31: 3.2149281 | U31: 3.9598438
A32: Master 3 | G32: Master 3 | H32: 0.58735583 | I32: 0.74041812 | J32: 0.81866197 | K32: 1.2131148 | M32: Master 3 | N32: 1.4842801 | O32: 1.7156863 | P32: 1.9292605 | Q32: 2.7179384 | S32: Master 3 | T32: 3.0120482 | U32: 3.6585366 | V32: 4.0996785 | W32: 5.8888665
A33: 47 | B33: 0.64075182 | G33: 47 | H33: 0.58735583 | M33: 47 | N33: 1.2815036 | S33: 47 | T33: 2.5096113
A34: 52 | E34: 2.1139521 | G34: 52 | K34: 1.056976 | M34: 52 | Q34: 2.7179384 | S34: 52 | W34: 5.8888665
A35: 57 | B35: 0.63405797 | C35: 1.0733453 | D35: 1.3696129 | E35: 1.4524648 | G35: 57 | I35: 0.71942446 | J35: 0.81866197 | K35: 0.94765343 | M35: 57 | N35: 1.4492754 | O35: 1.6994633 | P35: 1.9190141 | Q35: 2.2826881 | S35: 57 | T35: 2.9438406 | U35: 3.3989267 | V35: 4.0017986 | W35: 4.5197224
A36: 63 | B36: 0.92436975 | C36: 1.1324042 | D36: 1.3278008 | E36: 1.607717 | G36: 63 | H36: 0.56270096 | I36: 0.74041812 | J36: 0.77868852 | K36: 0.83598726 | M36: 63 | N36: 1.4446228 | O36: 1.7156863 | P36: 1.9292605 | S36: 63 | U36: 3.647541 | V36: 4.0996785
A37: 69 | C37: 1.0188679 | D37: 1.3368984 | E37: 1.7523364 | G37: 69 | H37: 0.557041 | I37: 0.64228502 | J37: 0.78369906 | K37: 0.85669782 | M37: 69 | O37: 1.6189759 | P37: 1.7241379 | Q37: 2.3364486 | S37: 69 | T37: 3.0120482 | V37: 4.004836 | W37: 4.9454829
A38: 76 | B38: 0.80960734 | C38: 1.1477762 | D38: 1.1888112 | E38: 1.4371658 | G38: 76 | H38: 0.47227095 | I38: 0.73529412 | J38: 0.78909613 | K38: 0.94405594 | M38: 76 | N38: 1.4842801 | O38: 1.5708556 | P38: 1.7216643 | Q38: 2.0979021 | S38: 76 | T38: 2.7661584 | U38: 3.6585366 | V38: 3.7433155 | W38: 4.2307692
A39: -84 | E39: 1.6046213 | G39: -84 | J39: 0.77021823 | K39: 1.2131148 | M39: -84 | P39: 1.8613607 | S39: -84 | W39: 4.6229508
A40: 84 | B40: 0.94007051 | D40: 1.2804878 | G40: 84 | H40: 0.5521666 | I40: 0.64629847 | J40: 0.81300813 | M40: 84 | N40: 1.3219741 | O40: 1.5853659 | S40: 84 | T40: 2.9083431 | V40: 3.6788618
A41: Master 4 | G41: Master 4 | H41: 0.62774639 | I41: 0.9 | J41: 0.92879257 | K41: 1.001168 | M41: Master 4 | N41: 1.1927181 | O41: 2.0389249 | P41: 2.2 | Q41: 2.2187822 | S41: Master 4 | T41: 2.7934714 | U41: 4.1241891 | V41: 4.5 | W41: 4.5923633
A42: 52 | D42: 1.4 | E42: 1.4447884 | G42: 52 | I42: 0.9 | J42: 0.92879257 | M42: 52 | P42: 2.2 | Q42: 2.2187822 | S42: 52 | V42: 4.5 | W42: 4.5923633
A43: 57 | C43: 1.3901761 | G43: 57 | I43: 0.69508804 | M43: 57 | O43: 2.0389249 | S43: 57 | U43: 4.1241891
A44: 63 | B44: 0.48154093 | C44: 1.0845987 | D44: 1.3923014 | G44: 63 | H44: 0.52166934 | J44: 0.9009009 | K44: 1.001168 | M44: 63 | N44: 0.80256822 | O44: 1.8354747 | P44: 2.1703522 | S44: 63 | T44: 1.8057785 | U44: 3.9212414 | V44: 4.4635545
A45: -84 | B45: 0.97300691 | G45: -84 | H45: 0.62774639 | M45: -84 | N45: 1.1927181 | S45: -84 | T45: 2.7934714
A46: Open | G46: Open | H46: 0.79407094 | I46: 0.94339623 | J46: 1.1049272 | K46: 1.9480519 | M46: Open | N46: 1.7953321 | O46: 2.076412 | P46: 2.3465704 | Q46: 3.6407767 | S46: Open | T46: 4.0886392 | U46: 4.7151277 | V46: 5.3435115 | W46: 7.7272727
A47: 47 | B47: 1.4008621 | C47: 1.5350877 | D47: 1.9157088 | E47: 2.6362039 | G47: 47 | H47: 0.65075922 | I47: 0.88008801 | J47: 1.0881393 | K47: 1.9480519 | M47: 47 | O47: 2.0454545 | P47: 2.2865854 | Q47: 2.9657293 | S47: 47 | T47: 3.9045553 | U47: 4.5454545 | V47: 5.2742616 | W47: 7.0847979
A48: 52 | B48: 1.44453 | C48: 1.6699411 | D48: 1.9114688 | E48: 2.7640671 | G48: 52 | H48: 0.79207921 | I48: 0.93320236 | J48: 1.0839574 | K48: 1.875 | M48: 52 | N48: 1.7902071 | O48: 2.0628684 | P48: 2.3300971 | Q48: 3.6407767 | S48: 52 | T48: 3.9840637 | U48: 4.7151277 | V48: 5.3431373 | W48: 7.5024679
A49: 57 | B49: 1.4519056 | C49: 1.6784452 | D49: 1.9196429 | E49: 2.9545455 | G49: 57 | H49: 0.79086116 | I49: 0.9375 | J49: 1.093693 | K49: 1.7714792 | M49: 57 | N49: 1.7850768 | O49: 2.0758123 | P49: 2.3465704 | Q49: 3.1455399 | S49: 57 | T49: 4.0250447 | U49: 4.708439 | V49: 5.3418803 | W49: 7.7272727
A50: 63 | B50: 1.453958 | C50: 1.6775777 | D50: 1.9161774 | E50: 2.700933 | G50: 63 | H50: 0.78512397 | I50: 0.94262295 | J50: 1.1049272 | K50: 1.6973579 | M50: 63 | N50: 1.7953321 | O50: 2.076412 | P50: 2.3387097 | Q50: 3.0904359 | S50: 63 | T50: 4.0725806 | U50: 4.7025723 | V50: 5.3259141 | W50: 7.0387952
A51: 69 | B51: 1.4545455 | C51: 1.6766021 | D51: 1.9202363 | E51: 2.4354244 | G51: 69 | H51: 0.78947368 | I51: 0.94339623 | J51: 1.0997067 | K51: 1.4401773 | M51: 69 | N51: 1.7940718 | O51: 2.0740741 | P51: 2.3419204 | Q51: 2.7982327 | S51: 69 | T51: 4.0764898 | U51: 4.7140649 | V51: 5.3435115 | W51: 6.4575646
A52: 76 | B52: 1.4550265 | C52: 1.6690341 | D52: 1.9179004 | E52: 2.5245442 | G52: 76 | H52: 0.79407094 | I52: 0.9383378 | J52: 1.1047755 | K52: 1.6056967 | M52: 76 | N52: 1.7907303 | O52: 2.0749665 | P52: 2.3280649 | Q52: 2.9569892 | S52: 76 | T52: 4.0884718 | U52: 4.7074647 | V52: 5.3084648 | W52: 6.8067579
A53: -84 | B53: 1.4556962 | C53: 1.6666667 | D53: 1.8983466 | E53: 2.3809524 | G53: -84 | H53: 0.79171742 | I53: 0.94339623 | J53: 1.1011905 | K53: 1.3024142 | M53: -84 | N53: 1.7900485 | O53: 2.0583606 | P53: 2.309613 | Q53: 2.5903614 | S53: -84 | T53: 4.0886392 | U53: 4.7133605 | V53: 5.2716688 | W53: 6.0110294
A54: 84 | B54: 1.4551804 | C54: 1.6772701 | D54: 1.8297402 | E54: 2.2088808 | G54: 84 | H54: 0.79365079 | I54: 0.9430331 | J54: 1.1044404 | K54: 1.2789575 | M54: 84 | N54: 1.758658 | O54: 2.0383312 | P54: 2.3250434 | Q54: 2.8318985 | S54: 84 | T54: 4.0490144 | U54: 4.6363187 | V54: 5.2606178 | W54: 6.1452198
A55: Sub-junior | G55: Sub-junior | H55: 0.73018081 | I55: 0.86571758 | J55: 0.99522293 | K55: 1.47343 | M55: Sub-junior | N55: 1.6591252 | O55: 1.9188043 | P55: 2.1505376 | Q55: 2.7055151 | S55: Sub-junior | T55: 3.8043478 | U55: 4.3566775 | V55: 4.8916315 | W55: 6.4412238
A56: 47 | B56: 1.3414634 | C56: 1.5345269 | D56: 1.729448 | E56: 2.3178808 | G56: 47 | H56: 0.69148936 | I56: 0.85324232 | J56: 0.98317675 | K56: 1.2693157 | M56: 47 | N56: 1.402439 | O56: 1.8704575 | P56: 2.1505376 | Q56: 2.6490066 | S56: 47 | T56: 3.4146341 | U56: 4.2643923 | V56: 4.8831112 | W56: 6.2362031
A57: 52 | B57: 1.3306039 | C57: 1.5077821 | D57: 1.7822736 | E57: 2.6670692 | G57: 52 | H57: 0.72016461 | I57: 0.86571758 | J57: 0.98855359 | K57: 1.3586957 | M57: 52 | N57: 1.6460905 | O57: 1.9133938 | P57: 2.1235521 | Q57: 2.7055151 | S57: 52 | T57: 3.7181996 | U57: 4.3303122 | V57: 4.8350977 | W57: 6.4412238
A58: 57 | B58: 1.2433393 | C58: 1.5432099 | D58: 1.7746229 | E58: 2.3245614 | G58: 57 | H58: 0.71748879 | I58: 0.85247667 | J58: 0.98214286 | K58: 1.330259 | M58: 57 | N58: 1.6574586 | O58: 1.8959436 | P58: 2.1352313 | Q58: 2.5882353 | S58: 57 | T58: 3.7701975 | U58: 4.3399638 | V58: 4.8782687 | W58: 5.8516289
A59: 63 | B59: 1.3582343 | C59: 1.5522876 | D59: 1.752988 | E59: 2.1336554 | G59: 63 | H59: 0.72580645 | I59: 0.86400553 | J59: 0.99522293 | K59: 1.47343 | M59: 63 | N59: 1.6485328 | O59: 1.9166667 | P59: 2.1207178 | Q59: 2.5693312 | S59: 63 | T59: 3.7542662 | U59: 4.3566775 | V59: 4.8883819 | W59: 5.942029
A60: 69 | B60: 1.2931034 | C60: 1.5564202 | D60: 1.7804154 | E60: 2.2348485 | G60: 69 | H60: 0.70474777 | I60: 0.85059172 | J60: 0.99342809 | K60: 1.3905152 | M60: 69 | N60: 1.6591252 | O60: 1.9104386 | P60: 2.1446078 | Q60: 2.3780488 | S60: 69 | T60: 3.7743191 | U60: 4.3561725 | V60: 4.8916315 | W60: 5.7084309
A61: 76 | B61: 1.3513514 | C61: 1.5540541 | D61: 1.7683773 | E61: 2.2808268 | G61: 76 | H61: 0.73018081 | I61: 0.86206897 | J61: 0.9601707 | K61: 1.3657375 | M61: 76 | N61: 1.6582552 | O61: 1.9175455 | P61: 2.1459227 | Q61: 2.668441 | S61: 76 | T61: 3.8029101 | U61: 4.297044 | V61: 4.8424069 | W61: 6.2753887
A62: -84 | B62: 1.3521819 | C62: 1.4911168 | D62: 1.7811705 | E62: 1.8652226 | G62: -84 | H62: 0.72969543 | I62: 0.85123101 | J62: 0.97911227 | K62: 1.1063307 | M62: -84 | N62: 1.6516517 | O62: 1.8447837 | P62: 1.9855596 | Q62: 2.2485946 | S62: -84 | T62: 3.7584565 | U62: 4.302397 | V62: 4.871955
A63: 84 | B63: 1.3354106 | C63: 1.5148455 | D63: 1.5739769 | G63: 84 | H63: 0.72463768 | I63: 0.81797235 | J63: 0.93415472 | M63: 84 | N63: 1.6563147 | O63: 1.9188043 | P63: 2.0294118 | S63: 84 | T63: 3.8043478 | U63: 4.1470588 | V63: 4.3678045
A64: M | G64: M | H64: 1.328125 | I64: 1.5255906 | J64: 1.7204301 | K64: 2.8680028 | M64: M | N64: 2.4014778 | O64: 2.6449071 | P64: 2.9069767 | Q64: 4.3732174 | S64: M | T64: 5.8060879 | U64: 6.3830943 | V64: 7.0602624 | W64: 10.281135
A65: Junior | G65: Junior | H65: 1.3068182 | I65: 1.4687882 | J65: 1.6444233 | K65: 2.8680028 | M65: Junior | N65: 2.4014778 | O65: 2.6449071 | P65: 2.8991699 | Q65: 4.2270531 | S65: Junior | T65: 5.7942708 | U65: 6.3830943 | V65: 6.954612 | W65: 9.4333103
A66: 59 | B66: 1.9633508 | C66: 2.179219 | D66: 2.4691358 | E66: 3.3019675 | G66: 59 | H66: 1.2953368 | I66: 1.4298094 | J66: 1.6407599 | K66: 2.0958084 | M66: 59 | N66: 2.3972603 | O66: 2.6324728 | P66: 2.8813559 | Q66: 3.95189 | S66: 59 | T66: 5.6506849 | U66: 6.2928082 | V66: 6.9437045 | W66: 8.9905902
A67: 66 | B67: 2.0061728 | C67: 2.2257552 | D67: 2.4729521 | E67: 3.1322149 | G67: 66 | H67: 1.2987013 | I67: 1.4626636 | J67: 1.6329705 | K67: 2.2501907 | M67: 66 | N67: 2.3183926 | O67: 2.6377036 | P67: 2.8963415 | Q67: 3.9893617 | S67: 66 | T67: 5.7844691 | U67: 6.3664596 | V67: 6.9230769 | W67: 9.118541
A68: 74 | B68: 2.0155587 | C68: 2.2444751 | D68: 2.4691358 | E68: 3.2472067 | G68: 74 | H68: 1.3062409 | I68: 1.4684814 | J68: 1.6438356 | K68: 2.8680028 | M68: 74 | N68: 2.4005487 | O68: 2.6388889 | P68: 2.8985507 | Q68: 3.7614553 | S68: 74 | T68: 5.7580175 | U68: 6.3773742 | V68: 6.9522472 | W68: 9.4333103
A69: 83 | B69: 2.0158827 | C69: 2.2447724 | D69: 2.4746193 | E69: 3.3920417 | G69: 83 | H69: 1.3043478 | I69: 1.4687882 | J69: 1.6443362 | K69: 2.2256098 | M69: 83 | N69: 2.4014778 | O69: 2.6445264 | P69: 2.8991699 | Q69: 4.2270531 | S69: 83 | T69: 5.7942708 | U69: 6.3753928 | V69: 6.9532238 | W69: 9.0881643
A70: 93 | B70: 2.013715 | C70: 2.2428884 | D70: 2.4755229 | E70: 3.1556039 | G70: 93 | H70: 1.3068182 | I70: 1.4673913 | J70: 1.6436182 | K70: 2.2058824 | M70: 93 | N70: 2.3991276 | O70: 2.6449071 | P70: 2.8973035 | Q70: 3.8192577 | S70: 93 | T70: 5.7883131 | U70: 6.3830943 | V70: 6.950431 | W70: 8.7143626
A71: 105 | B71: 2.0163226 | C71: 2.2445081 | D71: 2.4596616 | E71: 3.0780417 | G71: 105 | H71: 1.3045191 | I71: 1.4646465 | J71: 1.6444233 | K71: 2.2636937 | M71: 105 | N71: 2.3972603 | O71: 2.6448233 | P71: 2.893401 | Q71: 3.2961706 | S71: 105 | T71: 5.7871506 | U71: 6.3803376 | V71: 6.954612 | W71: 8.637906
A72: -120 | B72: 2.0135747 | C72: 2.2313297 | D72: 2.4373882 | E72: 2.7979982 | G72: -120 | H72: 1.3023057 | I72: 1.4614703 | J72: 1.642984 | K72: 1.9927536 | M72: -120 | N72: 2.4013722 | O72: 2.6223776 | P72: 2.875 | S72: -120 | T72: 5.7874763 | U72: 6.284153 | V72: 6.7964602 | W72: 7.5523203
A73: 120 | B73: 1.9904459 | C73: 2.1771218 | D73: 2.3440193 | G73: 120 | H73: 1.2376238 | I73: 1.4650639 | J73: 1.5511892 | M73: 120 | N73: 2.34375 | O73: 2.4180328 | S73: 120 | T73: 5.772549 | U73: 6.204757
A74: Master 1 | G74: Master 1 | H74: 1.2960437 | I74: 1.456044 | J74: 1.6377649 | K74: 2.3310811 | M74: Master 1 | N74: 2.0710059 | O74: 2.5648253 | P74: 2.7117611 | Q74: 3.7550744 | S74: Master 1 | T74: 5.8060879 | U74: 5.8769231 | V74: 6.5533981 | W74: 9.0540541
A75: 59 | B75: 1.7331023 | C75: 2.0031353 | E75: 2.7989822 | G75: 59 | H75: 1.1322069 | J75: 1.6211604 | K75: 2.0886616 | M75: 59 | P75: 2.6127852 | Q75: 3.6556404 | S75: 59 | U75: 5.7481275 | V75: 6.3453953 | W75: 7.9813401
A76: 66 | B76: 1.552795 | C76: 2.0145669 | D76: 2.265625 | E76: 2.9185868 | G76: 66 | I76: 1.4230769 | J76: 1.6324981 | K76: 2.2620905 | M76: 66 | O76: 2.3899848 | P76: 2.6676829 | Q76: 3.3840304 | S76: 66 | U76: 5.8599696 | V76: 6.3262195 | W76: 7.9877112
A77: 74 | B77: 1.7241379 | C77: 1.9764216 | D77: 2.2633745 | E77: 3.1081081 | G77: 74 | H77: 1.2960437 | I77: 1.4538909 | J77: 1.6362149 | K77: 2.3310811 | M77: 74 | N77: 2.0689655 | O77: 2.3287671 | P77: 2.7081923 | Q77: 3.7550744 | S77: 74 | T77: 5.1638177 | U77: 5.7534247 | V77: 6.5001361 | W77: 9.0540541
A78: 83 | B78: 1.7361111 | C78: 2.0024272 | D78: 2.267231 | E78: 2.969697 | G78: 83 | H78: 1.2632979 | I78: 1.4545455 | J78: 1.6347784 | K78: 2.0481928 | M78: 83 | N78: 1.9963145 | O78: 2.3989899 | P78: 2.7117611 | Q78: 3.2727273 | S78: 83 | T78: 5.102657 | U78: 5.8769231 | V78: 6.5533981 | W78: 8.2424242
A79: 93 | B79: 1.7431726 | C79: 2.0293123 | D79: 2.269289 | E79: 2.972973 | G79: 93 | H79: 1.2777778 | I79: 1.456044 | J79: 1.6339869 | K79: 2.2580645 | M79: 93 | N79: 2.0670391 | O79: 2.5648253 | P79: 2.688172 | Q79: 3.2432432 | S79: 93 | T79: 5.8060879 | U79: 5.8690745 | V79: 6.5456546 | W79: 8.0540541
A80: 105 | B80: 1.7509728 | C80: 2.0120724 | D80: 2.2617902 | E80: 2.817574 | G80: 105 | H80: 1.2770138 | I80: 1.4530358 | J80: 1.6377649 | K80: 1.9512195 | M80: 105 | N80: 2.0710059 | O80: 2.3809524 | P80: 2.7092404 | Q80: 3.108305 | S80: 105 | T80: 5.1923077 | U80: 5.8638996 | V80: 6.5505327 | W80: 7.5692455
A81: -120 | B81: 1.7249417 | C81: 2.0157756 | D81: 2.21202 | E81: 2.4647583 | G81: -120 | H81: 1.2826283 | I81: 1.4553991 | J81: 1.5977844 | K81: 1.7772512 | M81: -120 | N81: 2.070207 | O81: 2.3998331 | P81: 2.6377238 | Q81: 2.7128548 | S81: -120 | T81: 5.1923077 | U81: 5.8513079 | V81: 6.4380531 | W81: 6.6986644
A82: 120 | B82: 1.7463089 | C82: 2.0304569 | D82: 2.2052927 | G82: 120 | H82: 1.2783505 | I82: 1.4363031 | J82: 1.6188215 | K82: 1.7222625 | M82: 120 | N82: 2.0700637 | O82: 2.3659306 | S82: 120 | T82: 5.1717089 | U82: 5.773906 | V82: 6.1094996
A83: Master 2 | G83: Master 2 | H83: 1.2150668 | I83: 1.3712405 | J83: 1.5458937 | K83: 2.1367521 | M83: Master 2 | N83: 1.978022 | O83: 2.2615907 | P83: 2.5522042 | Q83: 3.6725325 | S83: Master 2 | T83: 4.9365839 | U83: 5.5952381 | V83: 6.1904762 | W83: 8.6840092
A84: 59 | B84: 1.5570934 | C84: 1.8580782 | E84: 2.7920962 | G84: 59 | H84: 1.1946903 | J84: 1.5034364 | K84: 1.6972166 | M84: 59 | N84: 1.8669382 | O84: 2.2562378 | Q84: 2.8780069 | S84: 59 | T84: 4.9307958 | U84: 5.5309735 | W84: 7.1735395
A85: 66 | B85: 1.5769231 | C85: 1.914242 | D85: 2.1689498 | E85: 2.9456771 | G85: 66 | H85: 1.0333863 | I85: 1.3657056 | J85: 1.5390505 | K85: 2.0657995 | M85: 66 | N85: 1.9230769 | O85: 2.2450533 | P85: 2.5356577 | Q85: 3.6725325 | S85: 66 | T85: 4.8003072 | U85: 5.5640244 | V85: 6.1718871 | W85: 8.6840092
A86: 74 | B86: 1.6830295 | C86: 1.921757 | D86: 2.1195652 | E86: 2.6928675 | G86: 74 | H86: 1.1667811 | I86: 1.3623978 | J86: 1.5441176 | K86: 2.1367521 | M86: 74 | N86: 1.9635344 | O86: 2.2346369 | P86: 2.5 | Q86: 3.4086214 | S86: 74 | T86: 4.9113233 | U86: 5.5865922 | V86: 6.1904762 | W86: 7.5058532
A87: 83 | B87: 1.6887817 | C87: 1.9147622 | D87: 2.1610274 | E87: 2.9948868 | G87: 83 | H87: 1.2150668 | I87: 1.3677812 | J87: 1.5225335 | K87: 2.1237864 | M87: 83 | N87: 1.9363427 | O87: 2.2614622 | P87: 2.5513379 | Q87: 3.0867971 | S87: 83 | T87: 4.9013675 | U87: 5.5762082 | V87: 6.119951 | W87: 7.5115096
A88: 93 | B88: 1.7032967 | C88: 1.8508438 | D88: 2.1598272 | E88: 2.7777778 | G88: 93 | H88: 1.211187 | I88: 1.3506064 | J88: 1.5069968 | K88: 1.9058296 | M88: 93 | N88: 1.978022 | O88: 2.2432432 | P88: 2.5522042 | Q88: 2.9808774 | S88: 93 | T88: 4.869076 | U88: 5.5945946 | V88: 6.1816193 | W88: 7.3801743
A89: 105 | B89: 1.6853933 | C89: 1.9210245 | D89: 2.1642892 | E89: 2.4654832 | G89: 105 | H89: 1.2142857 | I89: 1.3634593 | J89: 1.5458937 | K89: 1.8705036 | M89: 105 | N89: 1.9556025 | O89: 2.2466539 | P89: 2.5419664 | Q89: 2.8392685 | S89: 105 | T89: 4.9356431 | U89: 5.5673383 | V89: 6.1630219 | W89: 6.6568047
A90: -120 | B90: 1.7008286 | C90: 1.919147 | D90: 2.1422261 | E90: 2.6544822 | G90: -120 | H90: 1.1978705 | I90: 1.3712405 | J90: 1.5448216 | K90: 1.8330389 | M90: -120 | N90: 1.9642857 | O90: 2.2107244 | P90: 2.5337838 | Q90: 2.6979983 | S90: -120 | T90: 4.9107143 | U90: 5.5042017 | V90: 6.0869565 | W90: 6.897302
A91: 120 | B91: 1.6708438 | C91: 1.8541409 | D91: 2.1108179 | G91: 120 | H91: 1.185922 | I91: 1.364366 | J91: 1.5451174 | K91: 1.5525478 | M91: 120 | N91: 1.9746336 | O91: 2.2615907 | S91: 120 | T91: 4.9365839 | U91: 5.5952381 | V91: 5.7670562
A92: Master 3 | G92: Master 3 | H92: 1.0736196 | I92: 1.2584217 | J92: 1.4109347 | K92: 1.7721645 | M92: Master 3 | N92: 1.9373673 | O92: 2.2326291 | P92: 2.5027203 | Q92: 3.4578147 | S92: Master 3 | T92: 4.5647558 | U92: 5.3191489 | V92: 5.7752668 | W92: 7.3651452
A93: 59 | B93: 1.3805004 | C93: 1.6666667 | D93: 1.9031142 | E93: 2.0797227 | G93: 59 | H93: 0.95320624 | I93: 1.2110727 | J93: 1.3888889 | M93: 59 | N93: 1.7256255 | P93: 2.2491349 | Q93: 2.8162912 | S93: 59 | T93: 3.7963762 | V93: 5.7407407 | W93: 5.8492201
A94: 66 | B94: 1.2157562 | C94: 1.7843289 | D94: 1.9615385 | E94: 2.2324865 | G94: 66 | H94: 1.0662605 | I94: 1.2157562 | J94: 1.3899614 | K94: 1.7067494 | M94: 66 | N94: 1.594642 | O94: 2.1442794 | P94: 2.4825446 | Q94: 3.0124224 | S94: 66 | T94: 3.986605 | U94: 5.0926635 | V94: 5.7545732 | W94: 6.552795
A95: 74 | B95: 1.4416315 | C95: 1.6666667 | D95: 1.9994484 | E95: 2.9391425 | G95: 74 | H95: 0.96818811 | I95: 1.2557698 | J95: 1.3985537 | K95: 1.7623929 | M95: 74 | N95: 1.9112628 | O95: 2.1428571 | P95: 2.4857955 | Q95: 3.4578147 | S95: 74 | U95: 5.2702703 | V95: 5.7692308 | W95: 7.3651452
A96: 83 | B96: 1.3510194 | C96: 1.7177914 | D96: 2.0138452 | E96: 2.7564103 | G96: 83 | H96: 1.0736196 | I96: 1.2554928 | J96: 1.3817244 | K96: 1.7605634 | M96: 83 | N96: 1.9041769 | O96: 2.2316043 | P96: 2.4449878 | Q96: 3.1226812 | S96: 83 | T96: 4.452223 | U96: 5.3119627 | V96: 5.7752668 | W96: 6.8910256
A97: 93 | B97: 1.4705882 | C97: 1.7650303 | D97: 2.0130577 | E97: 2.4106176 | G97: 93 | H97: 1.0590858 | I97: 1.2222222 | J97: 1.3978495 | K97: 1.7712831 | M97: 93 | N97: 1.8518519 | O97: 2.2326291 | P97: 2.5027203 | Q97: 2.979415 | S97: 93 | T97: 4.5353367 | U97: 5.2396878 | V97: 5.7142857 | W97: 6.8255688
A98: 105 | B98: 1.4577259 | C98: 1.6983017 | D98: 2.0007808 | E98: 2.0966454 | G98: 105 | H98: 1.047619 | I98: 1.1517276 | J98: 1.3839057 | K98: 1.7721645 | M98: 105 | N98: 1.9373673 | O98: 2.123938 | P98: 2.484472 | S98: 105 | T98: 4.5647558 | U98: 5.3191489 | V98: 5.5722139 | W98: 5.9904153
A99: -120 | B99: 1.350211 | C99: 1.7467249 | D99: 2.0157465 | G99: -120 | H99: 1.0402219 | I99: 1.2568773 | J99: 1.4109347 | K99: 1.4628821 | M99: -120 | N99: 1.8955155 | O99: 2.0282187 | P99: 2.3240372 | S99: -120 | T99: 4.5625 | U99: 4.9563319 | V99: 5.596661
A100: 120 | B100: 1.4624506 | C100: 1.6316032 | G100: 120 | H100: 0.98814229 | I100: 1.2584217 | J100: 1.2860872 | K100: 1.4520443 | M100: 120 | N100: 1.7037094 | S100: 120 | T100: 4.2011926 | U100: 4.5876843
...

Sheet Title Page
A1: Predicting future performance in powerlifting: a machine learning approach.
A2: Sports Medicine - Open
A3: Luca Ferrari1,2, Gianluca Bochicchio1, Alberto Bottari1, Francesco Lucertini2, Silvia Pogliaghi1,3
A4: 1University of Verona, Department of Neurosciences, Biomedicine and Movement Sciences, 37131 Verona, Italy;
A5: 2University of Urbino, Department of Biomolecular Sciences, 61029 Urbino, Italy;
A6: 3University of Western Ontario, Research Associate Canadian Center for Activity and Ageing, ON N6A 3K7, London, Canada
A7: * Corresponding author: Silvia Pogliaghi, via Felice Casorati, 43, 37131, Verona, Italy; Tel.: +39-045-8425128; silvia.pogliaghi@univr.it
A9: Luca Ferrari: 0000-0002-9855-9659
A10: Gianluca Bochicchio: 0000-0002-9575-9209
A11: Alberto Bottari: 0009-0002-2869-7324
A12: Francesco Lucertini: 0000-0003-3134-4511
A13: Silvia Pogliaghi: 0000-0002-4394-8550

Sheet Calculator
H3: First competition's year | I3: 2019 | Q3: Years | R3: =I3 -> 2019 | S3: =R3+1 -> 2020 | T3: =S3+1 -> 2021 | U3: =T3+1 -> 2022 | V3: =U3+1 -> 2023 | W3: =V3+1 -> 2024 | X3: =W3+1 -> 2025 | Y3: =X3+1 -> 2026 | Z3: =Y3+1 -> 2027 | ... AB3: =AA3+1 -> 2029
A4: Age | B4: 0.44453566 | C4: 0.053546302 | D4: 8.3018927 | E4: 1.0539936e-16 | H4: Sex | I4: 0 | J4: Male=0; Females=1 | Q4: Log_time | R4: 0 | S4: 3.871201 | T4: 4.5643482 | U4: 4.9698133 | V4: 5.2574954 | W4: 5.4806389 | X4: 5.6629605 | Y4: 5.8171112 | Z4: 5.9506426 | AA4: 6.0684256 | AB4: 6.1737861
A5: SQUAT | H5: First competition's Bodyweight | I5: 98 | J5: kg | K5: =IF(I4=1,IF(I5<=46.9,"47",IF(I5<=51.9,"52",IF(I5<=56.9,"57",IF(I5<=62.9,"63",IF(I5<=68.9,"69",IF(I5<=75.9,"76",IF(I5<=83.9,"-84","84"))))))),IF(I5<=58.9,"59",IF(I5<=65.9,"66",IF(I5<=73.9,"74",IF(I5<=82.9,"83",IF(I5<=92.9,"93",IF(I5<=104.9,"105",IF(I5<=119.9,"-120","120")))))))) -> 105 | L5: Weight category | P5: SQUAT | Q5: Absolute (kg) | R5: =IF($I$7="SQUAT",$B$8+$B$9*$I$4+$B$4*$I$10+$B$10*$I$11+$B$11*$I$9+$B$12*R$4+($B$13*$I$4*$I$10)+($B$14*$I$4*$I$11)+($B$15*$I$4*$I$9)+($B$16*$I$4*R$4)+($B$17*$I$10*$I$11)+($B$18*$I$10*$I$9)+($B$19*$I$10*R$4)+($B$20*$I$11*$I$9)+($B$21*$I$11*R$4)+($B$22*$I$9*R$4),"") -> 207.94622 | S5: =IF($I$7="SQUAT",$B$8+$B$9*$I$4+$B$4*$I$10+$B$10*$I$11+$B$11*$I$9+$B$12*S$4+($B$13*$I$4*$I$10)+($B$14*$I$4*$I$11)+($B$15*$I$4*$I$9)+($B$16*$I$4*S$4)+($B$17*$I$10*$I$11)+($B$18*$I$10*$I$9)+($B$19*$I$10*S$4)+($B$20*$I$11*$I$9)+($B$21*$I$11*S$4)+($B$22*$I$9*S$4),"") -> 230.26207 | T5: =IF($I$7="SQUAT",$B$8+$B$9*$I$4+$B$4*$I$10+$B$10*$I$11+$B$11*$I$9+$B$12*T$4+($B$13*$I$4*$I$10)+($B$14*$I$4*$I$11)+($B$15*$I$4*$I$9)+($B$16*$I$4*T$4)+($B$17*$I$10*$I$11)+($B$18*$I$10*$I$9)+($B$19*$I$10*T$4)+($B$20*$I$11*$I$9)+($B$21*$I$11*T$4)+($B$22*$I$9*T$4),"") -> 234.25777 | U5: =IF($I$7="SQUAT",$B$8+$B$9*$I$4+$B$4*$I$10+$B$10*$I$11+$B$11*$I$9+$B$12*U$4+($B$13*$I$4*$I$10)+($B$14*$I$4*$I$11)+($B$15*$I$4*$I$9)+($B$16*$I$4*U$4)+($B$17*$I$10*$I$11)+($B$18*$I$10*$I$9)+($B$19*$I$10*U$4)+($B$20*$I$11*$I$9)+($B$21*$I$11*U$4)+($B$22*$I$9*U$4),"") -> 236.59511 | V5: =IF($I$7="SQUAT",$B$8+$B$9*$I$4+$B$4*$I$10+$B$10*$I$11+$B$11*$I$9+$B$12*V$4+($B$13*$I$4*$I$10)+($B$14*$I$4*$I$11)+($B$15*$I$4*$I$9)+($B$16*$I$4*V$4)+($B$17*$I$10*$I$11)+($B$18*$I$10*$I$9)+($B$19*$I$10*V$4)+($B$20*$I$11*$I$9)+($B$21*$I$11*V$4)+($B$22*$I$9*V$4),"") -> 238.25348 | W5: =IF($I$7="SQUAT",$B$8+$B$9*$I$4+$B$4*$I$10+$B$10*$I$11+$B$11*$I$9+$B$12*W$4+($B$13*$I$4*$I$10)+($B$14*$I$4*$I$11)+($B$15*$I$4*$I$9)+($B$16*$I$4*W$4)+($B$17*$I$10*$I$11)+($B$18*$I$10*$I$9)+($B$19*$I$10*W$4)+($B$20*$I$11*$I$9)+($B$21*$I$11*W$4)+($B$22*$I$9*W$4),"") -> 239.53981 | X5: =IF($I$7="SQUAT",$B$8+$B$9*$I$4+$B$4*$I$10+$B$10*$I$11+$B$11*$I$9+$B$12*X$4+($B$13*$I$4*$I$10)+($B$14*$I$4*$I$11)+($B$15*$I$4*$I$9)+($B$16*$I$4*X$4)+($B$17*$I$10*$I$11)+($B$18*$I$10*$I$9)+($B$19*$I$10*X$4)+($B$20*$I$11*$I$9)+($B$21*$I$11*X$4)+($B$22*$I$9*X$4),"") -> 240.59081 | Y5: =IF($I$7="SQUAT",$B$8+$B$9*$I$4+$B$4*$I$10+$B$10*$I$11+$B$11*$I$9+$B$12*Y$4+($B$13*$I$4*$I$10)+($B$14*$I$4*$I$11)+($B$15*$I$4*$I$9)+($B$16*$I$4*Y$4)+($B$17*$I$10*$I$11)+($B$18*$I$10*$I$9)+($B$19*$I$10*Y$4)+($B$20*$I$11*$I$9)+($B$21*$I$11*Y$4)+($B$22*$I$9*Y$4),"") -> 241.47943 | ... AB5: =IF($I$7="SQUAT",$B$8+$B$9*$I$4+$B$4*$I$10+$B$10*$I$11+$B$11*$I$9+$B$12*AB$4+($B$13*$I$4*$I$10)+($B$14*$I$4*$I$11)+($B$15*$I$4*$I$9)+($B$16*$I$4*AB$4)+($B$17*$I$10*$I$11)+($B$18*$I$10*$I$9)+($B$19*$I$10*AB$4)+($B$20*$I$11*$I$9)+($B$21*$I$11*AB$4)+($B$22*$I$9*AB$4),"") -> 243.53551
Q6: Scaled (% of baseline strength) | R6: 1 | S6: =S5/$R$5 -> 1.1073155 | T6: =T5/$R$5 -> 1.1265306 | U6: =U5/$R$5 -> 1.1377707 | V6: =V5/$R$5 -> 1.1457456 | W6: =W5/$R$5 -> 1.1519315 | X6: =X5/$R$5 -> 1.1569857 | Y6: =Y5/$R$5 -> 1.161259 | Z6: =Z5/$R$5 -> 1.1649607 | ... AB6: =AB5/$R$5 -> 1.1711466
B7: Estimate | C7: SE | D7: tStat | E7: pValue | I7: SQUAT | J7: BENCH PRESS | K7: DEADLIFT | L7: TOTAL | P7: BENCH PRESS | Q7: Absolute (kg) | R7: =IF($J$7="BENCH PRESS",$B$25+$B$26*$I$4+$B$27*$I$10+$B$28*$I$11+$B$29*$J$9+$B$30*R$4+($B$31*$I$4*$I$10)+($B$32*$I$4*$I$11)+($B$33*$I$4*$J$9)+($B$34*$I$4*R$4)+($B$35*$I$10*$I$11)+($B$36*$I$10*$J$9)+($B$37*$I$10*R$4)+($B$38*$I$11*$J$9)+($B$39*$I$11*R$4)+($B$40*$J$9*R$4),"") -> 130.05902 | S7: =IF($J$7="BENCH PRESS",$B$25+$B$26*$I$4+$B$27*$I$10+$B$28*$I$11+$B$29*$J$9+$B$30*S$4+($B$31*$I$4*$I$10)+($B$32*$I$4*$I$11)+($B$33*$I$4*$J$9)+($B$34*$I$4*S$4)+($B$35*$I$10*$I$11)+($B$36*$I$10*$J$9)+($B$37*$I$10*S$4)+($B$38*$I$11*$J$9)+($B$39*$I$11*S$4)+($B$40*$J$9*S$4),"") -> 143.06338 | T7: =IF($J$7="BENCH PRESS",$B$25+$B$26*$I$4+$B$27*$I$10+$B$28*$I$11+$B$29*$J$9+$B$30*T$4+($B$31*$I$4*$I$10)+($B$32*$I$4*$I$11)+($B$33*$I$4*$J$9)+($B$34*$I$4*T$4)+($B$35*$I$10*$I$11)+($B$36*$I$10*$J$9)+($B$37*$I$10*T$4)+($B$38*$I$11*$J$9)+($B$39*$I$11*T$4)+($B$40*$J$9*T$4),"") -> 145.39184 | U7: =IF($J$7="BENCH PRESS",$B$25+$B$26*$I$4+$B$27*$I$10+$B$28*$I$11+$B$29*$J$9+$B$30*U$4+($B$31*$I$4*$I$10)+($B$32*$I$4*$I$11)+($B$33*$I$4*$J$9)+($B$34*$I$4*U$4)+($B$35*$I$10*$I$11)+($B$36*$I$10*$J$9)+($B$37*$I$10*U$4)+($B$38*$I$11*$J$9)+($B$39*$I$11*U$4)+($B$40*$J$9*U$4),"") -> 146.7539 | V7: =IF($J$7="BENCH PRESS",$B$25+$B$26*$I$4+$B$27*$I$10+$B$28*$I$11+$B$29*$J$9+$B$30*V$4+($B$31*$I$4*$I$10)+($B$32*$I$4*$I$11)+($B$33*$I$4*$J$9)+($B$34*$I$4*V$4)+($B$35*$I$10*$I$11)+($B$36*$I$10*$J$9)+($B$37*$I$10*V$4)+($B$38*$I$11*$J$9)+($B$39*$I$11*V$4)+($B$40*$J$9*V$4),"") -> 147.7203 | W7: =IF($J$7="BENCH PRESS",$B$25+$B$26*$I$4+$B$27*$I$10+$B$28*$I$11+$B$29*$J$9+$B$30*W$4+($B$31*$I$4*$I$10)+($B$32*$I$4*$I$11)+($B$33*$I$4*$J$9)+($B$34*$I$4*W$4)+($B$35*$I$10*$I$11)+($B$36*$I$10*$J$9)+($B$37*$I$10*W$4)+($B$38*$I$11*$J$9)+($B$39*$I$11*W$4)+($B$40*$J$9*W$4),"") -> 148.46989 | X7: =IF($J$7="BENCH PRESS",$B$25+$B$26*$I$4+$B$27*$I$10+$B$28*$I$11+$B$29*$J$9+$B$30*X$4+($B$31*$I$4*$I$10)+($B$32*$I$4*$I$11)+($B$33*$I$4*$J$9)+($B$34*$I$4*X$4)+($B$35*$I$10*$I$11)+($B$36*$I$10*$J$9)+($B$37*$I$10*X$4)+($B$38*$I$11*$J$9)+($B$39*$I$11*X$4)+($B$40*$J$9*X$4),"") -> 149.08236 | Y7: =IF($J$7="BENCH PRESS",$B$25+$B$26*$I$4+$B$27*$I$10+$B$28*$I$11+$B$29*$J$9+$B$30*Y$4+($B$31*$I$4*$I$10)+($B$32*$I$4*$I$11)+($B$33*$I$4*$J$9)+($B$34*$I$4*Y$4)+($B$35*$I$10*$I$11)+($B$36*$I$10*$J$9)+($B$37*$I$10*Y$4)+($B$38*$I$11*$J$9)+($B$39*$I$11*Y$4)+($B$40*$J$9*Y$4),"") -> 149.60019 | ... AB7: =IF($J$7="BENCH PRESS",$B$25+$B$26*$I$4+$B$27*$I$10+$B$28*$I$11+$B$29*$J$9+$B$30*AB$4+($B$31*$I$4*$I$10)+($B$32*$I$4*$I$11)+($B$33*$I$4*$J$9)+($B$34*$I$4*AB$4)+($B$35*$I$10*$I$11)+($B$36*$I$10*$J$9)+($B$37*$I$10*AB$4)+($B$38*$I$11*$J$9)+($B$39*$I$11*AB$4)+($B$40*$J$9*AB$4),"") -> 150.79835
A8: Intercept | B8: -59.284012 | C8: 3.2282305 | D8: -18.364244 | E8: 4.9043961e-75 | H8: First competition's 1 Repetition Maximum | I8: 212.5 | J8: 132.5 | K8: 250 | L8: =SUM(I8:K8) -> 595 | M8: kg | Q8: Scaled (% of baseline strength) | R8: 1 | S8: =S7/$R$7 -> 1.0999881 | T8: =T7/$R$7 -> 1.1178912 | U8: =U7/$R$7 -> 1.1283639 | V8: =V7/$R$7 -> 1.1357943 | W8: =W7/$R$7 -> 1.1415579 | X8: =X7/$R$7 -> 1.146267 | Y8: =Y7/$R$7 -> 1.1502485 | Z8: =Z7/$R$7 -> 1.1536974 | ... AB8: =AB7/$R$7 -> 1.159461
A9: Sex_num | B9: -0.78114976 | C9: 1.9631053 | D9: -0.39791537 | E9: 0.69069453 | H9: Initial Strength (kg/kg) | I9: =I$8/$I$5 -> 2.1683673 | J9: =J$8/$I$5 -> 1.3520408 | K9: =K$8/$I$5 -> 2.5510204 | L9: =L$8/$I$5 -> 6.0714286 | P9: DEADLIFT | Q9: Absolute (kg) | R9: =IF($K$7="DEADLIFT",$B$43+$B$44*$I$4+$B$45*$I$10+$B$46*$I$11+$B$47*$K$9+$B$48*R$4+($B$49*$I$4*$I$10)+($B$50*$I$4*$I$11)+($B$51*$I$4*$K$9)+($B$52*$I$4*R$4)+($B$53*$I$10*$I$11)+($B$54*$I$10*$K$9)+($B$55*$I$10*R$4)+($B$56*$I$11*$K$9)+($B$57*$I$11*R$4)+($B$58*$K$9*R$4),"") -> 245.79186 | S9: =IF($K$7="DEADLIFT",$B$43+$B$44*$I$4+$B$45*$I$10+$B$46*$I$11+$B$47*$K$9+$B$48*S$4+($B$49*$I$4*$I$10)+($B$50*$I$4*$I$11)+($B$51*$I$4*$K$9)+($B$52*$I$4*S$4)+($B$53*$I$10*$I$11)+($B$54*$I$10*$K$9)+($B$55*$I$10*S$4)+($B$56*$I$11*$K$9)+($B$57*$I$11*S$4)+($B$58*$K$9*S$4),"") -> 261.05434 | T9: =IF($K$7="DEADLIFT",$B$43+$B$44*$I$4+$B$45*$I$10+$B$46*$I$11+$B$47*$K$9+$B$48*T$4+($B$49*$I$4*$I$10)+($B$50*$I$4*$I$11)+($B$51*$I$4*$K$9)+($B$52*$I$4*T$4)+($B$53*$I$10*$I$11)+($B$54*$I$10*$K$9)+($B$55*$I$10*T$4)+($B$56*$I$11*$K$9)+($B$57*$I$11*T$4)+($B$58*$K$9*T$4),"") -> 263.78712 | U9: =IF($K$7="DEADLIFT",$B$43+$B$44*$I$4+$B$45*$I$10+$B$46*$I$11+$B$47*$K$9+$B$48*U$4+($B$49*$I$4*$I$10)+($B$50*$I$4*$I$11)+($B$51*$I$4*$K$9)+($B$52*$I$4*U$4)+($B$53*$I$10*$I$11)+($B$54*$I$10*$K$9)+($B$55*$I$10*U$4)+($B$56*$I$11*$K$9)+($B$57*$I$11*U$4)+($B$58*$K$9*U$4),"") -> 265.3857 | V9: =IF($K$7="DEADLIFT",$B$43+$B$44*$I$4+$B$45*$I$10+$B$46*$I$11+$B$47*$K$9+$B$48*V$4+($B$49*$I$4*$I$10)+($B$50*$I$4*$I$11)+($B$51*$I$4*$K$9)+($B$52*$I$4*V$4)+($B$53*$I$10*$I$11)+($B$54*$I$10*$K$9)+($B$55*$I$10*V$4)+($B$56*$I$11*$K$9)+($B$57*$I$11*V$4)+($B$58*$K$9*V$4),"") -> 266.5199 | W9: =IF($K$7="DEADLIFT",$B$43+$B$44*$I$4+$B$45*$I$10+$B$46*$I$11+$B$47*$K$9+$B$48*W$4+($B$49*$I$4*$I$10)+($B$50*$I$4*$I$11)+($B$51*$I$4*$K$9)+($B$52*$I$4*W$4)+($B$53*$I$10*$I$11)+($B$54*$I$10*$K$9)+($B$55*$I$10*W$4)+($B$56*$I$11*$K$9)+($B$57*$I$11*W$4)+($B$58*$K$9*W$4),"") -> 267.39966 | X9: =IF($K$7="DEADLIFT",$B$43+$B$44*$I$4+$B$45*$I$10+$B$46*$I$11+$B$47*$K$9+$B$48*X$4+($B$49*$I$4*$I$10)+($B$50*$I$4*$I$11)+($B$51*$I$4*$K$9)+($B$52*$I$4*X$4)+($B$53*$I$10*$I$11)+($B$54*$I$10*$K$9)+($B$55*$I$10*X$4)+($B$56*$I$11*$K$9)+($B$57*$I$11*X$4)+($B$58*$K$9*X$4),"") -> 268.11848 | Y9: =IF($K$7="DEADLIFT",$B$43+$B$44*$I$4+$B$45*$I$10+$B$46*$I$11+$B$47*$K$9+$B$48*Y$4+($B$49*$I$4*$I$10)+($B$50*$I$4*$I$11)+($B$51*$I$4*$K$9)+($B$52*$I$4*Y$4)+($B$53*$I$10*$I$11)+($B$54*$I$10*$K$9)+($B$55*$I$10*Y$4)+($B$56*$I$11*$K$9)+($B$57*$I$11*Y$4)+($B$58*$K$9*Y$4),"") -> 268.72623 | ... AB9: =IF($K$7="DEADLIFT",$B$43+$B$44*$I$4+$B$45*$I$10+$B$46*$I$11+$B$47*$K$9+$B$48*AB$4+($B$49*$I$4*$I$10)+($B$50*$I$4*$I$11)+($B$51*$I$4*$K$9)+($B$52*$I$4*AB$4)+($B$53*$I$10*$I$11)+($B$54*$I$10*$K$9)+($B$55*$I$10*AB$4)+($B$56*$I$11*$K$9)+($B$57*$I$11*AB$4)+($B$58*$K$9*AB$4),"") -> 270.13244
A10: BodyweightKg | B10: 0.65461839 | C10: 0.030882082 | D10: 21.197353 | E10: 3.2371542e-99 | H10: First competition's Age | I10: 26 | J10: years | Q10: Scaled (% of baseline strength) | R10: 1 | S10: =S9/$R$9 -> 1.0620951 | T10: =T9/$R$9 -> 1.0732134 | U10: =U9/$R$9 -> 1.0797172 | V10: =V9/$R$9 -> 1.0843317 | W10: =W9/$R$9 -> 1.087911 | X10: =X9/$R$9 -> 1.0908354 | Y10: =Y9/$R$9 -> 1.0933081 | Z10: =Z9/$R$9 -> 1.0954499 | ... AB10: =AB9/$R$9 -> 1.0990292
A11: TOT_Start | B11: 23.232375 | C11: 1.251239 | D11: 18.567497 | E11: 1.1711581e-76 | H11: Bodyweight | I11: =I5 -> 98 | J11: kg | K11: =IF(I10<=18,"Sub-junior",IF(I10<=23,"Junior",IF(I10<=39,"Open",IF(I10<=49,"Master 1",IF(I10<=59,"Master 2",IF(I10<=69,"Master 3","Master 4")))))) -> Open | L11: Age category | P11: TOTAL | Q11: Absolute (kg) | R11: =IF($L$7="TOTAL",$B$61+$B$62*$I$4+$B$63*$I$10+$B$64*$I$11+$B$65*$L$9+$B$66*R$4+($B$67*$I$4*$I$10)+($B$68*$I$4*$I$11)+($B$69*$I$4*$L$9)+($B$70*$I$4*R$4)+($B$71*$I$10*$I$11)+($B$72*$I$10*$L$9)+($B$73*$I$10*R$4)+($B$74*$I$11*$L$9)+($B$75*$I$11*R$4)+($B$76*$L$9*R$4),"") -> 584.36796 | S11: =IF($L$7="TOTAL",$B$61+$B$62*$I$4+$B$63*$I$10+$B$64*$I$11+$B$65*$L$9+$B$66*S$4+($B$67*$I$4*$I$10)+($B$68*$I$4*$I$11)+($B$69*$I$4*$L$9)+($B$70*$I$4*S$4)+($B$71*$I$10*$I$11)+($B$72*$I$10*$L$9)+($B$73*$I$10*S$4)+($B$74*$I$11*$L$9)+($B$75*$I$11*S$4)+($B$76*$L$9*S$4),"") -> 635.2942 | T11: =IF($L$7="TOTAL",$B$61+$B$62*$I$4+$B$63*$I$10+$B$64*$I$11+$B$65*$L$9+$B$66*T$4+($B$67*$I$4*$I$10)+($B$68*$I$4*$I$11)+($B$69*$I$4*$L$9)+($B$70*$I$4*T$4)+($B$71*$I$10*$I$11)+($B$72*$I$10*$L$9)+($B$73*$I$10*T$4)+($B$74*$I$11*$L$9)+($B$75*$I$11*T$4)+($B$76*$L$9*T$4),"") -> 644.41266 | U11: =IF($L$7="TOTAL",$B$61+$B$62*$I$4+$B$63*$I$10+$B$64*$I$11+$B$65*$L$9+$B$66*U$4+($B$67*$I$4*$I$10)+($B$68*$I$4*$I$11)+($B$69*$I$4*$L$9)+($B$70*$I$4*U$4)+($B$71*$I$10*$I$11)+($B$72*$I$10*$L$9)+($B$73*$I$10*U$4)+($B$74*$I$11*$L$9)+($B$75*$I$11*U$4)+($B$76*$L$9*U$4),"") -> 649.74661 | V11: =IF($L$7="TOTAL",$B$61+$B$62*$I$4+$B$63*$I$10+$B$64*$I$11+$B$65*$L$9+$B$66*V$4+($B$67*$I$4*$I$10)+($B$68*$I$4*$I$11)+($B$69*$I$4*$L$9)+($B$70*$I$4*V$4)+($B$71*$I$10*$I$11)+($B$72*$I$10*$L$9)+($B$73*$I$10*V$4)+($B$74*$I$11*$L$9)+($B$75*$I$11*V$4)+($B$76*$L$9*V$4),"") -> 653.53112 | W11: =IF($L$7="TOTAL",$B$61+$B$62*$I$4+$B$63*$I$10+$B$64*$I$11+$B$65*$L$9+$B$66*W$4+($B$67*$I$4*$I$10)+($B$68*$I$4*$I$11)+($B$69*$I$4*$L$9)+($B$70*$I$4*W$4)+($B$71*$I$10*$I$11)+($B$72*$I$10*$L$9)+($B$73*$I$10*W$4)+($B$74*$I$11*$L$9)+($B$75*$I$11*W$4)+($B$76*$L$9*W$4),"") -> 656.4666 | X11: =IF($L$7="TOTAL",$B$61+$B$62*$I$4+$B$63*$I$10+$B$64*$I$11+$B$65*$L$9+$B$66*X$4+($B$67*$I$4*$I$10)+($B$68*$I$4*$I$11)+($B$69*$I$4*$L$9)+($B$70*$I$4*X$4)+($B$71*$I$10*$I$11)+($B$72*$I$10*$L$9)+($B$73*$I$10*X$4)+($B$74*$I$11*$L$9)+($B$75*$I$11*X$4)+($B$76*$L$9*X$4),"") -> 658.86507 | Y11: =IF($L$7="TOTAL",$B$61+$B$62*$I$4+$B$63*$I$10+$B$64*$I$11+$B$65*$L$9+$B$66*Y$4+($B$67*$I$4*$I$10)+($B$68*$I$4*$I$11)+($B$69*$I$4*$L$9)+($B$70*$I$4*Y$4)+($B$71*$I$10*$I$11)+($B$72*$I$10*$L$9)+($B$73*$I$10*Y$4)+($B$74*$I$11*$L$9)+($B$75*$I$11*Y$4)+($B$76*$L$9*Y$4),"") -> 660.89295 | ... AB11: =IF($L$7="TOTAL",$B$61+$B$62*$I$4+$B$63*$I$10+$B$64*$I$11+$B$65*$L$9+$B$66*AB$4+($B$67*$I$4*$I$10)+($B$68*$I$4*$I$11)+($B$69*$I$4*$L$9)+($B$70*$I$4*AB$4)+($B$71*$I$10*$I$11)+($B$72*$I$10*$L$9)+($B$73*$I$10*AB$4)+($B$74*$I$11*$L$9)+($B$75*$I$11*AB$4)+($B$76*$L$9*AB$4),"") -> 665.58506
A12: Log_time | B12: 23.89895 | C12: 0.46707416 | D12: 51.167356 | E12: 0 | Q12: Scaled (% of baseline strength) | R12: 1 | S12: =S11/$R$11 -> 1.0871476 | T12: =T11/$R$11 -> 1.1027515 | U12: =U11/$R$11 -> 1.1118793 | V12: =V11/$R$11 -> 1.1183555 | W12: =W11/$R$11 -> 1.1233789 | X12: =X11/$R$11 -> 1.1274832 | Y12: =Y11/$R$11 -> 1.1309534 | Z12: =Z11/$R$11 -> 1.1339595 | ... AB12: =AB11/$R$11 -> 1.1389828
A13: Sex*Age | B13: 0.18279357 | C13: 0.019183135 | D13: 9.5288682 | E13: 1.6693395e-21
A14: Sex*BW | B14: -0.06059645 | C14: 0.013525767 | D14: -4.4800749 | E14: 7.4807864e-06
A15: Sex*Starting Strength | B15: -0.12709294 | C15: 0.59707339 | D15: -0.21285983 | E15: 0.8314373
A16: Sex*Log_time | B16: -3.2491509 | C16: 0.14598686 | D16: -22.256462 | E16: 4.0149574e-109
A17: Age*BW | B17: -0.004402534 | C17: 0.0003947451 | D17: -11.152853 | E17: 7.5932181e-29 | I17: SQUAT | J17: BENCH PRESS | K17: DEADLIFT | L17: TOTAL
A18: Age*starting strength | B18: 0.0012790587 | C18: 0.016847376 | D18: 0.075920354 | E18: 0.93948281 | I18: {=IF(I4=0,IF(I9<INDEX('Normative values'!A65:E127,MATCH(K11,'Normative values'!A65:A127,0)+IF(K5="-120",1,IF(K5="59",2,IF(K5="66",3,IF(K5="74",4,IF(K5="83",5,IF(K5="93",6,IF(K5="105",7,IF(K5="120",8)))))))),2),1,IF(I9<INDEX('Normative values'!A65:E127,MATCH(K11,'Normative values'!A65:A127,0)+IF(K5="-120",1,IF(K5="59",2,IF(K5="66",3,IF(K5="74",4,IF(K5="83",5,IF(K5="93",6,IF(K5="105",7,IF(K5="120",8)))))))),3),2,IF(I9<INDEX('Normative values'!A65:E127,MATCH(K11,'Normative values'!A65:A127,0)+IF(K5="-120",1,IF(K5="59",2,IF(K5="66",3,IF(K5="74",4,IF(K5="83",5,IF(K5="93",6,IF(K5="105",7,IF(K5="120",8)))))))),4),3,IF(I9<INDEX('Normative values'!A65:E127,MATCH(K11,'Normative values'!A65:A127,0)+IF(K5="-120",1,IF(K5="59",2,IF(K5="66",3,IF(K5="74",4,IF(K5="83",5,IF(K5="93",6,IF(K5="105",7,IF(K5="120",8)))))))),5),4)))),IF(I9<INDEX('Normative values'!A5:F63,MATCH(K11,'Normative values'!A5:A63,0)+IF(K5="-84",1,IF(K5="47",2,IF(K5="52",3,IF(K5="57",4,IF(K5="63",5,IF(K5="69",6,IF(K5="76",7,IF(K5="84",8)))))))),2),1,IF(I9<INDEX('Normative values'!A5:F63,MATCH(K11,'Normative values'!A5:A63,0)+IF(K5="-84",1,IF(K5="47",2,IF(K5="52",3,IF(K5="57",4,IF(K5="63",5,IF(K5="69",6,IF(K5="76",7,IF(K5="84",8)))))))),3),2,IF(I9<INDEX('Normative values'!A5:F63,MATCH(K11,'Normative values'!A5:A63,0)+IF(K5="-84",1,IF(K5="47",2,IF(K5="52",3,IF(K5="57",4,IF(K5="63",5,IF(K5="69",6,IF(K5="76",7,IF(K5="84",8)))))))),4),3,IF(I9<INDEX('Normative values'!A5:F63,MATCH(K11,'Normative values'!A5:A63,0)+IF(K5="-84",1,IF(K5="47",2,IF(K5="52",3,IF(K5="57",4,IF(K5="63",5,IF(K5="69",6,IF(K5="76",7,IF(K5="84",8)))))))),5),4)))))} -> 2 | J18: {=IF(I4=0,IF(J9<INDEX('Normative values'!G65:K127,MATCH(K11,'Normative values'!G65:G127,0)+IF(K5="-120",1,IF(K5="59",2,IF(K5="66",3,IF(K5="74",4,IF(K5="83",5,IF(K5="93",6,IF(K5="105",7,IF(K5="120",8)))))))),2),1,IF(J9<INDEX('Normative values'!G65:K127,MATCH(K11,'Normative values'!G65:G127,0)+IF(K5="-120",1,IF(K5="59",2,IF(K5="66",3,IF(K5="74",4,IF(K5="83",5,IF(K5="93",6,IF(K5="105",7,IF(K5="120",8)))))))),3),2,IF(J9<INDEX('Normative values'!G65:K127,MATCH(K11,'Normative values'!G65:G127,0)+IF(K5="-120",1,IF(K5="59",2,IF(K5="66",3,IF(K5="74",4,IF(K5="83",5,IF(K5="93",6,IF(K5="105",7,IF(K5="120",8)))))))),4),3,IF(J9<INDEX('Normative values'!G65:K127,MATCH(K11,'Normative values'!G65:G127,0)+IF(K5="-120",1,IF(K5="59",2,IF(K5="66",3,IF(K5="74",4,IF(K5="83",5,IF(K5="93",6,IF(K5="105",7,IF(K5="120",8)))))))),5),4)))),IF(J9<INDEX('Normative values'!G5:K63,MATCH(K11,'Normative values'!G5:G63,0)+IF(K5="-84",1,IF(K5="47",2,IF(K5="52",3,IF(K5="57",4,IF(K5="63",5,IF(K5="69",6,IF(K5="76",7,IF(K5="84",8)))))))),2),1,IF(J9<INDEX('Normative values'!G5:K63,MATCH(K11,'Normative values'!G5:G63,0)+IF(K5="-84",1,IF(K5="47",2,IF(K5="52",3,IF(K5="57",4,IF(K5="63",5,IF(K5="69",6,IF(K5="76",7,IF(K5="84",8)))))))),3),2,IF(J9<INDEX('Normative values'!G5:K63,MATCH(K11,'Normative values'!G5:G63,0)+IF(K5="-84",1,IF(K5="47",2,IF(K5="52",3,IF(K5="57",4,IF(K5="63",5,IF(K5="69",6,IF(K5="76",7,IF(K5="84",8)))))))),4),3,IF(J9<INDEX('Normative values'!G5:K63,MATCH(K11,'Normative values'!G5:G63,0)+IF(K5="-84",1,IF(K5="47",2,IF(K5="52",3,IF(K5="57",4,IF(K5="63",5,IF(K5="69",6,IF(K5="76",7,IF(K5="84",8)))))))),5),4)))))} -> 2 | K18: {=IF(I4=0,IF(K9<INDEX('Normative values'!M65:Q127,MATCH(K11,'Normative values'!M65:M127,0)+IF(K5="-120",1,IF(K5="59",2,IF(K5="66",3,IF(K5="74",4,IF(K5="83",5,IF(K5="93",6,IF(K5="105",7,IF(K5="120",8)))))))),2),1,IF(K9<INDEX('Normative values'!M65:Q127,MATCH(K11,'Normative values'!M65:M127,0)+IF(K5="-120",1,IF(K5="59",2,IF(K5="66",3,IF(K5="74",4,IF(K5="83",5,IF(K5="93",6,IF(K5="105",7,IF(K5="120",8)))))))),3),2,IF(K9<INDEX('Normative values'!M65:Q127,MATCH(K11,'Normative values'!M65:M127,0)+IF(K5="-120",1,IF(K5="59",2,IF(K5="66",3,IF(K5="74",4,IF(K5="83",5,IF(K5="93",6,IF(K5="105",7,IF(K5="120",8)))))))),4),3,IF(K9<INDEX('Normative values'!M65:Q127,MATCH(K11,'Normative values'!M65:M127,0)+IF(K5="-120",1,IF(K5="59",2,IF(K5="66",3,IF(K5="74",4,IF(K5="83",5,IF(K5="93",6,IF(K5="105",7,IF(K5="120",8)))))))),5),4)))),IF(K9<INDEX('Normative values'!M5:Q63,MATCH(K11,'Normative values'!M5:M63,0)+IF(K5="-84",1,IF(K5="47",2,IF(K5="52",3,IF(K5="57",4,IF(K5="63",5,IF(K5="69",6,IF(K5="76",7,IF(K5="84",8)))))))),2),1,IF(K9<INDEX('Normative values'!M5:Q63,MATCH(K11,'Normative values'!M5:M63,0)+IF(K5="-84",1,IF(K5="47",2,IF(K5="52",3,IF(K5="57",4,IF(K5="63",5,IF(K5="69",6,IF(K5="76",7,IF(K5="84",8)))))))),3),2,IF(K9<INDEX('Normative values'!M5:Q63,MATCH(K11,'Normative values'!M5:M63,0)+IF(K5="-84",1,IF(K5="47",2,IF(K5="52",3,IF(K5="57",4,IF(K5="63",5,IF(K5="69",6,IF(K5="76",7,IF(K5="84",8)))))))),4),3,IF(K9<INDEX('Normative values'!M5:Q63,MATCH(K11,'Normative values'!M5:M63,0)+IF(K5="-84",1,IF(K5="47",2,IF(K5="52",3,IF(K5="57",4,IF(K5="63",5,IF(K5="69",6,IF(K5="76",7,IF(K5="84",8)))))))),5),4)))))} -> 2 | L18: {=IF(I4=0,IF(L9<INDEX('Normative values'!S65:W127,MATCH(K11,'Normative values'!S65:S127,0)+IF(K5="-120",1,IF(K5="59",2,IF(K5="66",3,IF(K5="74",4,IF(K5="83",5,IF(K5="93",6,IF(K5="105",7,IF(K5="120",8)))))))),2),1,IF(L9<INDEX('Normative values'!S65:W127,MATCH(K11,'Normative values'!S65:S127,0)+IF(K5="-120",1,IF(K5="59",2,IF(K5="66",3,IF(K5="74",4,IF(K5="83",5,IF(K5="93",6,IF(K5="105",7,IF(K5="120",8)))))))),3),2,IF(L9<INDEX('Normative values'!S65:W127,MATCH(K11,'Normative values'!S65:S127,0)+IF(K5="-120",1,IF(K5="59",2,IF(K5="66",3,IF(K5="74",4,IF(K5="83",5,IF(K5="93",6,IF(K5="105",7,IF(K5="120",8)))))))),4),3,IF(L9<INDEX('Normative values'!S65:W127,MATCH(K11,'Normative values'!S65:S127,0)+IF(K5="-120",1,IF(K5="59",2,IF(K5="66",3,IF(K5="74",4,IF(K5="83",5,IF(K5="93",6,IF(K5="105",7,IF(K5="120",8)))))))),5),4)))),IF(L9<INDEX('Normative values'!S5:W63,MATCH(K11,'Normative values'!S5:S63,0)+IF(K5="-84",1,IF(K5="47",2,IF(K5="52",3,IF(K5="57",4,IF(K5="63",5,IF(K5="69",6,IF(K5="76",7,IF(K5="84",8)))))))),2),1,IF(L9<INDEX('Normative values'!S5:W63,MATCH(K11,'Normative values'!S5:S63,0)+IF(K5="-84",1,IF(K5="47",2,IF(K5="52",3,IF(K5="57",4,IF(K5="63",5,IF(K5="69",6,IF(K5="76",7,IF(K5="84",8)))))))),3),2,IF(L9<INDEX('Normative values'!S5:W63,MATCH(K11,'Normative values'!S5:S63,0)+IF(K5="-84",1,IF(K5="47",2,IF(K5="52",3,IF(K5="57",4,IF(K5="63",5,IF(K5="69",6,IF(K5="76",7,IF(K5="84",8)))))))),4),3,IF(L9<INDEX('Normative values'!S5:W63,MATCH(K11,'Normative values'!S5:S63,0)+IF(K5="-84",1,IF(K5="47",2,IF(K5="52",3,IF(K5="57",4,IF(K5="63",5,IF(K5="69",6,IF(K5="76",7,IF(K5="84",8)))))))),5),4)))))} -> 2
A19: Age*Log_time | B19: -0.18842954 | C19: 0.0036431908 | D19: -51.721018 | E19: 0
A20: BW*Starting strength | B20: 0.71665377 | C20: 0.012380201 | D20: 57.887087 | E20: 0
A21: BW*Log_time | B21: -0.030864445 | C21: 0.0028565501 | D21: -10.804797 | E21: 3.538879e-27
A22: Starting Strength*Log_time | B22: -4.7088357 | C22: 0.13354685 | D22: -35.259804 | E22: 1.5848568e-268
A23: BENCH PRESS
B24: Estimate | C24: SE | D24: tStat | E24: pValue
A25: Intercept | B25: -31.962038 | C25: 1.7866615 | D25: -17.889252 | E25: 2.587659e-71
A26: Sex_num | B26: 0.44394201 | C26: 1.1853722 | D26: 0.37451697 | E26: 0.70802157
A27: Age | B27: 0.40769303 | C27: 0.031916025 | D27: 12.773929 | E27: 2.6784385e-37
A28: BodyweightKg | B28: 0.25413176 | C28: 0.016994326 | D28: 14.953918 | E28: 1.9639433e-50
A29: TOT_Start | B29: 18.956895 | C29: 1.0696849 | D29: 17.721944 | E29: 5.0267142e-70
A30: Log_time | B30: 12.969069 | C30: 0.25764236 | D30: 50.337486 | E30: 0
A31: Sex*Age | B31: 0.017109654 | C31: 0.01246502 | D31: 1.3726134 | E31: 0.16987968
A32: Sex*BW | B32: -0.029640175 | C32: 0.0091416839 | D32: -3.2423102 | E32: 0.001186547
A33: Sex*Starting Strength | B33: 1.3067055 | C33: 0.53486708 | D33: 2.4430473 | E33: 0.014567803
A34: Sex*Log_time | B34: -1.68641 | C34: 0.097055643 | D34: -17.375703 | E34: 2.1374641e-67
A35: Age*BW | B35: -0.0015750072 | C35: 0.00022682309 | D35: -6.9437695 | E35: 3.8714982e-12
A36: Age*starting strength | B36: -0.15035096 | C36: 0.015054139 | D36: -9.9873504 | E36: 1.8359562e-23
... A40: Starting Strength*Log_time | B40: -3.3170725 | C40: 0.11088157 | D40: -29.915455 | E40: 1.2060417e-194
A41: DEADLIFT
B42: Estimate | C42: SE | D42: tStat | E42: pValue
A43: Intercept | B43: -46.004129 | C43: 3.8569268 | D43: -11.927665 | E43: 9.5598379e-33
A44: Sex_num | B44: -11.220764 | C44: 2.3808435 | D44: -4.7129364 | E44: 2.4493157e-06
A45: Age | B45: 0.2740105 | C45: 0.072343368 | D45: 3.7876382 | E45: 0.00015229187
A46: BodyweightKg | B46: 0.49590176 | C46: 0.033889535 | D46: 14.632888 | E46: 2.2623343e-48
A47: TOT_Start | B47: 16.207049 | C47: 1.2291379 | D47: 13.185704 | E47: 1.2650969e-39 | R47: SQUAT | S47: BENCH PRESS | T47: DEADLIFT | U47: TOTAL
A48: Log_time | B48: 32.898146 | C48: 0.59067058 | D48: 55.696266 | E48: 0 | Q48: Slope | R48: =SLOPE(R6:AB6,$R$4:$AB$4) -> 0.027721498 | S48: =SLOPE(R8:AB8,$R$4:$AB$4) -> 0.025828714 | T48: =SLOPE(R10:AB10,$R$4:$AB$4) -> 0.016040275 | U48: =SLOPE(R12:AB12,$R$4:$AB$4) -> 0.022511765
A49: Sex*Age | B49: 0.18304285 | C49: 0.022026791 | D49: 8.3100099 | E49: 9.8444603e-17 | R49: =IF(R48<=0.05,0.1-Calculator!R48,IF(AND(R48>0.05,R48<0.1),0.15-Calculator!R48,0.2)) -> 0.072278502 | S49: =Elenchi!L82-Calculator!S48 -> 0.27417129 | T49: =Elenchi!M82-Calculator!T48 -> 0.28395973 | U49: =Elenchi!N82-Calculator!U48 -> 0.27748824
A50: Sex*BW | B50: 0.0047341372 | C50: 0.015538905 | D50: 0.3046635 | E50: 0.76062392
A51: Sex*Starting Strength | B51: 2.6337046 | C51: 0.62071543 | D51: 4.2430145 | E51: 2.2099588e-05
A52: Sex*Log_time | B52: -4.6596048 | C52: 0.16909228 | D52: -27.556578 | E52: 1.0050971e-165
A53: Age*BW | B53: -0.0018536623 | C53: 0.00046657003 | D53: -3.9729561 | E53: 7.110115e-05
A54: Age*starting strength | B54: -0.012296685 | C54: 0.018720611 | D54: -0.65685277 | E54: 0.51127908
A55: Age*Log_time | B55: -0.17438994 | C55: 0.0040094712 | D55: -43.494499 | E55: 0
A56: BW*Starting strength | B56: 0.80107025 | C56: 0.011585109 | D56: 69.146544 | E56: 0
A57: BW*Log_time | B57: -0.10865186 | C57: 0.0034196927 | D57: -31.772404 | E57: 5.2161684e-219
A58: Starting Strength*Log_time | B58: -5.3992342 | C58: 0.14033227 | D58: -38.474644 | E58: 5.2161684e-219
A59: TOTAL
B60: Estimate | C60: SE | D60: tStat | E60: pValue
A61: Intercept | B61: -135.88851 | C61: 8.268245 | D61: -16.434989 | E61: 1.6405438e-60
A62: Sex_num | B62: -11.337434 | C62: 5.1494636 | D62: -2.2016728 | E62: 0.027693691
A63: Age | B63: 1.4571756 | C63: 0.1452297 | D63: 10.033592 | E63: 1.1516733e-23
A64: BodyweightKg | B64: 1.2502246 | C64: 0.075070168 | D64: 16.65408 | E64: 4.4157385e-62
A65: TOT_Start | B65: 18.752907 | C65: 1.1371846 | D65: 16.490645 | E65: 6.5780234e-61
A66: Log_time | B66: 67.385028 | C66: 1.2244076 | D66: 55.034799 | E66: 0
A67: Sex*Age | B67: 0.3038554 | C67: 0.048206227 | D67: 6.3032396 | E67: 2.9429253e-10
A68: Sex*BW | B68: -0.055604284 | C68: 0.034130807 | D68: -1.6291523 | E68: 0.10328806
A69: Sex*Starting Strength | B69: 1.4588213 | C69: 0.56747678 | D69: 2.5707153 | E69: 0.010152186
A70: Sex*Log_time | B70: -9.300354 | C70: 0.37506077 | D70: -24.796926 | E70: 8.4978946e-135
A71: Age*BW | B71: -0.0078015898 | C71: 0.00093950366 | D71: -8.3039483 | E71: 1.0359363e-16
A72: Age*starting strength | B72: -0.098376875 | C72: 0.016673215 | D72: -5.9002942 | E72: 3.6554968e-09
... A76: Starting Strength*Log_time | B76: -4.3878755 | C76: 0.12602835 | D76: -34.816574 | E76: 5.8032016e-262

Sheet Elenchi
A1: Sex | B1: Initial body weight | C1: Actual Age | D1: Actual bodyweight | F1: SQUAT | G1: BENCH PRESS | H1: DEADLIFT | I1: TOTAL | K1: SQUAT | L1: BENCH PRESS | M1: DEADLIFT | N1: TOTAL
A2: 0 | B2: 35 | C2: 10 | D2: 35 | F2: 4 | G2: 4 | H2: 4 | I2: 4 | K2: -0.1 | L2: -0.1 | M2: -0.1 | N2: -0.1
A3: 1 | B3: =B2+1 -> 36 | C3: =C2+1 -> 11 | D3: =D2+1 -> 36 | K3: =K2+0.005 -> -0.095 | L3: =L2+0.005 -> -0.095 | M3: =M2+0.005 -> -0.095 | N3: =N2+0.005 -> -0.095
B4: =B3+1 -> 37 | C4: =C3+1 -> 12 | D4: =D3+1 -> 37 | K4: =K3+0.005 -> -0.09 | L4: =L3+0.005 -> -0.09 | M4: =M3+0.005 -> -0.09 | N4: =N3+0.005 -> -0.09
B5: =B4+1 -> 38 | C5: =C4+1 -> 13 | D5: =D4+1 -> 38 | K5: =K4+0.005 -> -0.085 | L5: =L4+0.005 -> -0.085 | M5: =M4+0.005 -> -0.085 | N5: =N4+0.005 -> -0.085
B6: =B5+1 -> 39 | C6: =C5+1 -> 14 | D6: =D5+1 -> 39 | K6: =K5+0.005 -> -0.08 | L6: =L5+0.005 -> -0.08 | M6: =M5+0.005 -> -0.08 | N6: =N5+0.005 -> -0.08
B7: =B6+1 -> 40 | C7: =C6+1 -> 15 | D7: =D6+1 -> 40 | K7: =K6+0.005 -> -0.075 | L7: =L6+0.005 -> -0.075 | M7: =M6+0.005 -> -0.075 | N7: =N6+0.005 -> -0.075
B8: =B7+1 -> 41 | C8: =C7+1 -> 16 | D8: =D7+1 -> 41 | K8: =K7+0.005 -> -0.07 | L8: =L7+0.005 -> -0.07 | M8: =M7+0.005 -> -0.07 | N8: =N7+0.005 -> -0.07
B9: =B8+1 -> 42 | C9: =C8+1 -> 17 | D9: =D8+1 -> 42 | K9: =K8+0.005 -> -0.065 | L9: =L8+0.005 -> -0.065 | M9: =M8+0.005 -> -0.065 | N9: =N8+0.005 -> -0.065
B10: =B9+1 -> 43 | C10: =C9+1 -> 18 | D10: =D9+1 -> 43 | K10: =K9+0.005 -> -0.06 | L10: =L9+0.005 -> -0.06 | M10: =M9+0.005 -> -0.06 | N10: =N9+0.005 -> -0.06
B11: =B10+1 -> 44 | C11: =C10+1 -> 19 | D11: =D10+1 -> 44 | K11: =K10+0.005 -> -0.055 | L11: =L10+0.005 -> -0.055 | M11: =M10+0.005 -> -0.055 | N11: =N10+0.005 -> -0.055
B12: =B11+1 -> 45 | C12: =C11+1 -> 20 | D12: =D11+1 -> 45 | K12: =K11+0.005 -> -0.05 | L12: =L11+0.005 -> -0.05 | M12: =M11+0.005 -> -0.05 | N12: =N11+0.005 -> -0.05
B13: =B12+1 -> 46 | C13: =C12+1 -> 21 | D13: =D12+1 -> 46 | K13: =K12+0.005 -> -0.045 | L13: =L12+0.005 -> -0.045 | M13: =M12+0.005 -> -0.045 | N13: =N12+0.005 -> -0.045
B14: =B13+1 -> 47 | C14: =C13+1 -> 22 | D14: =D13+1 -> 47 | K14: =K13+0.005 -> -0.04 | L14: =L13+0.005 -> -0.04 | M14: =M13+0.005 -> -0.04 | N14: =N13+0.005 -> -0.04
B15: =B14+1 -> 48 | C15: =C14+1 -> 23 | D15: =D14+1 -> 48 | K15: =K14+0.005 -> -0.035 | L15: =L14+0.005 -> -0.035 | M15: =M14+0.005 -> -0.035 | N15: =N14+0.005 -> -0.035
... B82: =B81+1 -> 115 | C82: =C81+1 -> 90 | D82: =D81+1 -> 115 | K82: =K81+0.005 -> 0.3 | L82: =L81+0.005 -> 0.3 | M82: =M81+0.005 -> 0.3 | N82: =N81+0.005 -> 0.3
B83: =B82+1 -> 116 | D83: =D82+1 -> 116
B84: =B83+1 -> 117 | D84: =D83+1 -> 117
B85: =B84+1 -> 118 | D85: =D84+1 -> 118
B86: =B85+1 -> 119 | D86: =D85+1 -> 119
B87: =B86+1 -> 120 | D87: =D86+1 -> 120
B88: =B87+1 -> 121 | D88: =D87+1 -> 121
B89: =B88+1 -> 122 | D89: =D88+1 -> 122
B90: =B89+1 -> 123 | D90: =D89+1 -> 123
B91: =B90+1 -> 124 | D91: =D90+1 -> 124
B92: =B91+1 -> 125 | D92: =D91+1 -> 125
B93: =B92+1 -> 126 | D93: =D92+1 -> 126
B94: =B93+1 -> 127 | D94: =D93+1 -> 127
... B167: =B166+1 -> 200 | D167: =D166+1 -> 200
