Workbook

Sheet Normative values
A1: SQUAT | G1: BENCH PRESS | M1: DEADLIFT | S1: TOTAL
A2: Max di Relative_SQ | B2: Etichette di colonna | G2: Max di Relative_BP | H2: Etichette di colonna | M2: Max di Relative_DL | N2: Etichette di colonna | S2: Max di Relative_TOT | T2: Etichette di colonna
A3: Etichette di riga | B3: 1 | C3: 2 | D3: 3 | E3: 4 | G3: Etichette di riga | H3: 1 | I3: 2 | J3: 3 | K3: 4 | M3: Etichette di riga | N3: 1 | O3: 2 | P3: 3 | Q3: 4 | S3: Etichette di riga | T3: 1 | U3: 2 | V3: 3 | W3: 4
A4: F | G4: F | H4: 0.79407094 | I4: 0.94339623 | J4: 1.1049272 | K4: 1.9792182 | M4: F | N4: 1.8442623 | O4: 2.076412 | P4: 2.3465704 | Q4: 3.6407767 | S4: F | T4: 4.1733547 | U4: 4.7151277 | V4: 5.3435115 | W4: 7.7272727
A5: Junior | G5: Junior | H5: 0.78909613 | I5: 0.92307692 | J5: 1.0645093 | K5: 1.9792182 | M5: Junior | N5: 1.8442623 | O5: 2.0393299 | P5: 2.3015873 | Q5: 3.4448819 | S5: Junior | T5: 4.1733547 | U5: 4.6996466 | V5: 5.1601423 | W5: 7.5586095
A6: 47 | B6: 1.4008621 | C6: 1.6184352 | D6: 1.880531 | E6: 2.5549806 | G6: 47 | H6: 0.7751938 | I6: 0.91991342 | J6: 1.0645093 | K6: 1.576087 | M6: 47 | N6: 1.6607355 | O6: 1.8874172 | P6: 2.2676991 | Q6: 3.3333333 | S6: 47 | T6: 2.8478892 | U6: 4.619507 | V6: 5.1354402 | W6: 7.1335505
A7: 52 | B7: 1.4705882 | C7: 1.6949153 | D7: 1.884058 | E7: 2.5678295 | G7: 52 | H7: 0.78895464 | I7: 0.9223301 | J7: 1.0630073 | K7: 1.719057 | M7: 52 | N7: 1.723782 | O7: 2.038835 | P7: 2.2899243 | Q7: 3.4448819 | S7: 52 | T7: 3.9184953 | U7: 4.6862266 | V7: 5.1536174 | W7: 7.2189922
A8: 57 | B8: 1.481149 | C8: 1.6941392 | D8: 1.8892794 | E8: 2.687039 | G8: 57 | H8: 0.77272727 | I8: 0.92267135 | J8: 1.0638298 | K8: 1.5379113 | M8: 57 | N8: 1.7985612 | O8: 2.0390071 | P8: 2.300885 | Q8: 2.919708 | S8: 57 | T8: 4.1363636 | U8: 4.6892762 | V8: 5.1601423 | W8: 6.6484517
A9: 63 | B9: 1.4847512 | C9: 1.6949153 | D9: 1.8890675 | E9: 2.829426 | G9: 63 | H9: 0.78707539 | I9: 0.92147436 | J9: 1.0629599 | K9: 1.9792182 | M9: 63 | N9: 1.8442623 | O9: 2.0338983 | P9: 2.3015873 | Q9: 3.1932094 | S9: 63 | T9: 4.1733547 | U9: 4.6915796 | V9: 5.16 | W9: 7.5586095
A10: 69 | B10: 1.4876633 | C10: 1.6975309 | D10: 1.8903592 | E10: 2.5231798 | G10: 69 | H10: 0.78125 | I10: 0.92307692 | J10: 1.0630499 | K10: 1.5641139 | M10: 69 | N10: 1.7993874 | O10: 2.0393299 | P10: 2.2988506 | Q10: 3.1749765 | S10: 69 | T10: 4.1727141 | U10: 4.6895449 | V10: 5.1272455 | W10: 6.7811226
A11: 76 | B11: 1.4788732 | C11: 1.6973126 | D11: 1.8791946 | E11: 2.3986486 | G11: 76 | H11: 0.78909613 | I11: 0.92112445 | J11: 1.0644337 | K11: 1.7022697 | M11: 76 | N11: 1.8043304 | O11: 2.0387008 | P11: 2.2733351 | Q11: 2.8113879 | S11: 76 | T11: 4.169022 | U11: 4.6996466 | V11: 5.156038 | W11: 6.4527027
A12: -84 | B12: 1.4819588 | C12: 1.6943734 | D12: 1.8685567 | E12: 2.2727273 | G12: -84 | H12: 0.78419072 | I12: 0.89461994 | J12: 1.0391198 | K12: 1.342711 | M12: -84 | N12: 1.8041237 | O12: 2.0236613 | P12: 2.2224892 | Q12: 2.7948403 | S12: -84 | T12: 4.0774099 | U12: 4.6966732 | V12: 5.1234568 | W12: 6.0503686
A13: 84 | B13: 1.486014 | C13: 1.6939252 | D13: 1.7164435 | G13: 84 | H13: 0.76849183 | I13: 0.92059839 | J13: 0.97613883 | K13: 1.1498218 | M13: 84 | N13: 1.7688679 | O13: 1.9230769 | S13: 84 | T13: 4.1083916 | U13: 4.4055384
A14: Master 1 | G14: Master 1 | H14: 0.72463768 | I14: 0.86538462 | J14: 1.0226443 | K14: 1.754386 | M14: Master 1 | N14: 1.6531027 | O14: 1.9121813 | P14: 2.1460843 | Q14: 3.1982942 | S14: Master 1 | T14: 3.7174721 | U14: 4.2925278 | V14: 4.8685492 | W14: 7.4626866
A15: 47 | B15: 1.026805 | C15: 1.4130435 | D15: 1.4893617 | E15: 2.368065 | G15: 47 | H15: 0.69148936 | J15: 0.86956522 | K15: 1.4925373 | M15: 47 | N15: 1.5131863 | P15: 1.9148936 | Q15: 3.0849825 | S15: 47 | T15: 3.080415 | U15: 4.0957447 | V15: 4.5108696 | W15: 6.4144028
A16: 52 | B16: 1.2572534 | C16: 1.4311094 | D16: 1.693902 | E16: 2.7137042 | G16: 52 | H16: 0.68897638 | I16: 0.86538462 | J16: 1.0154739 | K16: 1.5506881 | M16: 52 | O16: 1.8269231 | P16: 2.1297193 | Q16: 3.1982942 | S16: 52 | T16: 3.7037037 | U16: 4.2788462 | V16: 4.7918683 | W16: 7.4626866
A17: 57 | B17: 1.1946903 | C17: 1.473384 | D17: 1.6964286 | E17: 2.1532847 | G17: 57 | H17: 0.72463768 | I17: 0.86520947 | J17: 1.0185185 | K17: 1.754386 | M17: 57 | N17: 1.6270888 | O17: 1.8315018 | P17: 2.140255 | Q17: 3.0864198 | S17: 57 | T17: 3.7174721 | U17: 4.1461637 | V17: 4.8500882 | W17: 6.2610229
A18: 63 | B18: 1.2396694 | C18: 1.4802632 | D18: 1.7034393 | E18: 2.5345248 | G18: 63 | H18: 0.70247934 | I18: 0.86490939 | J18: 1.0221465 | K18: 1.4473053 | M18: 63 | N18: 1.6366612 | O18: 1.9118869 | P18: 2.1452145 | Q18: 2.658289 | S18: 63 | T18: 3.5123967 | U18: 4.2925278 | V18: 4.8571429 | W18: 6.3688058
A19: 69 | B19: 1.2345679 | C19: 1.4641288 | D19: 1.7043806 | E19: 2.0527859 | G19: 69 | H19: 0.71860817 | I19: 0.86518206 | J19: 1.0226443 | K19: 1.1671687 | M19: 69 | N19: 1.6219404 | O19: 1.8910741 | P19: 2.1460843 | Q19: 2.4885145 | S19: 69 | T19: 3.6798179 | U19: 4.2824074 | V19: 4.845815 | W19: 5.474732
A20: 76 | B20: 1.2640449 | C20: 1.4588859 | D20: 1.7029973 | E20: 2.1315029 | G20: 76 | H20: 0.70126227 | I20: 0.85808581 | J20: 1.0211268 | K20: 1.5934844 | M20: 76 | N20: 1.6197183 | O20: 1.9121813 | P20: 2.1246459 | Q20: 2.5412088 | S20: 76 | T20: 3.6875892 | U20: 4.2847025 | V20: 4.8611111 | W20: 5.8526012
A21: -84 | B21: 1.2650602 | C21: 1.4311815 | D21: 1.6666667 | E21: 2.3966447 | G21: -84 | H21: 0.71866017 | I21: 0.84797093 | J21: 1.0191847 | K21: 1.6237268 | M21: -84 | N21: 1.6414141 | O21: 1.910828 | P21: 2.1391028 | Q21: 2.4067389 | S21: -84 | T21: 3.6967419 | U21: 4.2729592 | V21: 4.8685492 | W21: 6.3571001
A22: 84 | B22: 1.2439024 | C22: 1.4511873 | D22: 1.6644128 | E22: 1.7747279 | G22: 84 | H22: 0.71921749 | I22: 0.84302326 | J22: 0.97222222 | K22: 1.300578 | M22: 84 | N22: 1.6531027 | O22: 1.8882979 | P22: 2.0288931 | S22: 84 | T22: 3.6748927 | U22: 4.2196532 | V22: 4.6048438
A23: Master 2 | G23: Master 2 | H23: 0.67394095 | I23: 0.80307263 | J23: 0.97847358 | K23: 1.5859031 | M23: Master 2 | N23: 1.507159 | O23: 1.7780939 | P23: 2.1477663 | Q23: 2.6752768 | S23: Master 2 | T23: 3.2333333 | U23: 3.9598438 | V23: 4.7025723 | W23: 5.7744565
A24: 47 | D24: 1.5337423 | E24: 1.8256014 | G24: 47 | J24: 0.87642419 | K24: 1.1275773 | M24: 47 | P24: 2.1477663 | Q24: 2.5881057 | S24: 47 | V24: 4.3821209 | W24: 5.2863436
A25: 52 | C25: 1.2720157 | D25: 1.552795 | E25: 2.0380435 | G25: 52 | I25: 0.77002053 | J25: 0.97847358 | K25: 1.3461538 | M25: 52 | O25: 1.7206478 | Q25: 2.5961538 | S25: 52 | U25: 3.7955466 | V25: 4.5687885 | W25: 5.7744565
A26: 57 | B26: 0.97638914 | C26: 1.3215859 | D26: 1.5569395 | E26: 2.0929818 | G26: 57 | H26: 0.65237651 | I26: 0.80067822 | J26: 0.97690941 | K26: 1.5859031 | M26: 57 | N26: 1.507159 | O26: 1.7761989 | P26: 2.1428571 | Q26: 2.6752768 | S26: 57 | T26: 2.889096 | U26: 3.9380531 | V26: 4.5982143 | W26: 5.6676187
A27: 63 | B27: 1.059322 | C27: 1.3192612 | D27: 1.5447154 | E27: 1.9197208 | G27: 63 | H27: 0.6655574 | I27: 0.79365079 | J27: 0.9771987 | K27: 1.3325796 | M27: 63 | N27: 1.4975042 | O27: 1.7529215 | P27: 2.1172638 | Q27: 2.5 | S27: 63 | T27: 3.1732419 | U27: 3.9586919 | V27: 4.7025723 | W27: 5.4101222
A28: 69 | B28: 1.0630499 | C28: 1.2313433 | D28: 1.5698587 | E28: 1.6393443 | G28: 69 | H28: 0.65982405 | I28: 0.74626866 | J28: 0.86342229 | K28: 1.1549925 | M28: 69 | N28: 1.4925373 | O28: 1.7164179 | P28: 1.9927536 | Q28: 2.2578241 | S28: 69 | T28: 3.1531532 | U28: 3.6940299 | V28: 4.3171115 | W28: 5.052161
A29: 76 | B29: 0.84626234 | C29: 1.321004 | D29: 1.5446608 | E29: 2.0422535 | G29: 76 | H29: 0.67159167 | I29: 0.80307263 | J29: 0.96378907 | K29: 1.3623978 | M29: 76 | N29: 1.3399154 | O29: 1.7780939 | P29: 2.1376086 | Q29: 2.4513287 | S29: 76 | T29: 3.2333333 | U29: 3.801593 | V29: 4.6875 | W29: 5.4929577
A30: -84 | B30: 1.0618932 | C30: 1.3117755 | D30: 1.5228426 | E30: 1.9950125 | G30: -84 | H30: 0.67394095 | I30: 0.7457847 | J30: 0.96269555 | K30: 1.0910224 | M30: -84 | N30: 1.4948139 | O30: 1.7220172 | Q30: 2.6184539 | S30: -84 | T30: 3.1771502 | U30: 3.7822878 | V30: 4.0312876 | W30: 5.7044888
A31: 84 | B31: 1.0822511 | C31: 1.3031161 | D31: 1.4537902 | G31: 84 | H31: 0.65897858 | I31: 0.79320113 | J31: 0.91954023 | K31: 1.0596765 | M31: 84 | N31: 1.4486193 | O31: 1.7653167 | P31: 1.7847183 | S31: 84 | T31: 3.2149281 | U31: 3.9598438
A32: Master 3 | G32: Master 3 | H32: 0.58735583 | I32: 0.74041812 | J32: 0.81866197 | K32: 1.2131148 | M32: Master 3 | N32: 1.4842801 | O32: 1.7156863 | P32: 1.9292605 | Q32: 2.7179384 | S32: Master 3 | T32: 3.0120482 | U32: 3.6585366 | V32: 4.0996785 | W32: 5.8888665
A33: 47 | B33: 0.64075182 | G33: 47 | H33: 0.58735583 | M33: 47 | N33: 1.2815036 | S33: 47 | T33: 2.5096113
A34: 52 | E34: 2.1139521 | G34: 52 | K34: 1.056976 | M34: 52 | Q34: 2.7179384 | S34: 52 | W34: 5.8888665
A35: 57 | B35: 0.63405797 | C35: 1.0733453 | D35: 1.3696129 | E35: 1.4524648 | G35: 57 | I35: 0.71942446 | J35: 0.81866197 | K35: 0.94765343 | M35: 57 | N35: 1.4492754 | O35: 1.6994633 | P35: 1.9190141 | Q35: 2.2826881 | S35: 57 | T35: 2.9438406 | U35: 3.3989267 | V35: 4.0017986 | W35: 4.5197224
A36: 63 | B36: 0.92436975 | C36: 1.1324042 | D36: 1.3278008 | E36: 1.607717 | G36: 63 | H36: 0.56270096 | I36: 0.74041812 | J36: 0.77868852 | K36: 0.83598726 | M36: 63 | N36: 1.4446228 | O36: 1.7156863 | P36: 1.9292605 | S36: 63 | U36: 3.647541 | V36: 4.0996785
A37: 69 | C37: 1.0188679 | D37: 1.3368984 | E37: 1.7523364 | G37: 69 | H37: 0.557041 | I37: 0.64228502 | J37: 0.78369906 | K37: 0.85669782 | M37: 69 | O37: 1.6189759 | P37: 1.7241379 | Q37: 2.3364486 | S37: 69 | T37: 3.0120482 | V37: 4.004836 | W37: 4.9454829
A38: 76 | B38: 0.80960734 | C38: 1.1477762 | D38: 1.1888112 | E38: 1.4371658 | G38: 76 | H38: 0.47227095 | I38: 0.73529412 | J38: 0.78909613 | K38: 0.94405594 | M38: 76 | N38: 1.4842801 | O38: 1.5708556 | P38: 1.7216643 | Q38: 2.0979021 | S38: 76 | T38: 2.7661584 | U38: 3.6585366 | V38: 3.7433155 | W38: 4.2307692
A39: -84 | E39: 1.6046213 | G39: -84 | J39: 0.77021823 | K39: 1.2131148 | M39: -84 | P39: 1.8613607 | S39: -84 | W39: 4.6229508
A40: 84 | B40: 0.94007051 | D40: 1.2804878 | G40: 84 | H40: 0.5521666 | I40: 0.64629847 | J40: 0.81300813 | M40: 84 | N40: 1.3219741 | O40: 1.5853659 | S40: 84 | T40: 2.9083431 | V40: 3.6788618
...

Sheet Title Page
A1: Predicting future performance in powerlifting: a machine learning approach.
A2: Sports Medicine - Open
A3: Luca Ferrari1,2, Gianluca Bochicchio1, Alberto Bottari1, Francesco Lucertini2, Silvia Pogliaghi1,3
A4: 1University of Verona, Department of Neurosciences, Biomedicine and Movement Sciences, 37131 Verona, Italy;
A5: 2University of Urbino, Department of Biomolecular Sciences, 61029 Urbino, Italy;
A6: 3University of Western Ontario, Research Associate Canadian Center for Activity and Ageing, ON N6A 3K7, London, Canada
A7: * Corresponding author: Silvia Pogliaghi, via Felice Casorati, 43, 37131, Verona, Italy; Tel.: +39-045-8425128; silvia.pogliaghi@univr.it
A9: Luca Ferrari: 0000-0002-9855-9659
A10: Gianluca Bochicchio: 0000-0002-9575-9209
A11: Alberto Bottari: 0009-0002-2869-7324
A12: Francesco Lucertini: 0000-0003-3134-4511
A13: Silvia Pogliaghi: 0000-0002-4394-8550

Sheet Calculator
H3: First competition's year | I3: 2019 | Q3: Years | R3: =I3 -> 2019 | S3: =R3+1 -> 2020 | T3: =S3+1 -> 2021 | U3: =T3+1 -> 2022 | V3: =U3+1 -> 2023 | W3: =V3+1 -> 2024 | X3: =W3+1 -> 2025 | Y3: =X3+1 -> 2026 | Z3: =Y3+1 -> 2027 | ... AB3: =AA3+1 -> 2029
A4: Age | B4: 0.44453566 | C4: 0.053546302 | D4: 8.3018927 | E4: 1.0539936e-16 | H4: Sex | I4: 0 | J4: Male=0; Females=1 | Q4: Log_time | R4: 0 | S4: 3.871201 | T4: 4.5643482 | U4: 4.9698133 | V4: 5.2574954 | W4: 5.4806389 | X4: 5.6629605 | Y4: 5.8171112 | Z4: 5.9506426 | AA4: 6.0684256 | AB4: 6.1737861
A5: SQUAT | H5: First competition's Bodyweight | I5: 98 | J5: kg | K5: =IF(I4=1,IF(I5<=46.9,"47",IF(I5<=51.9,"52",IF(I5<=56.9,"57",IF(I5<=62.9,"63",IF(I5<=68.9,"69",IF(I5<=75.9,"76",IF(I5<=83.9,"-84","84"))))))),IF(I5<=58.9,"59",IF(I5<=65.9,"66",IF(I5<=73.9,"74",IF(I5<=82.9,"83",IF(I5<=92.9,"93",IF(I5<=104.9,"105",IF(I5<=119.9,"-120","120")))))))) -> 105 | L5: Weight category | P5: SQUAT | Q5: Absolute (kg) | R5: =IF($I$7="SQUAT",$B$8+$B$9*$I$4+$B$4*$I$10+$B$10*$I$11+$B$11*$I$9+$B$12*R$4+($B$13*$I$4*$I$10)+($B$14*$I$4*$I$11)+($B$15*$I$4*$I$9)+($B$16*$I$4*R$4)+($B$17*$I$10*$I$11)+($B$18*$I$10*$I$9)+($B$19*$I$10*R$4)+($B$20*$I$11*$I$9)+($B$21*$I$11*R$4)+($B$22*$I$9*R$4),"") -> 207.94622 | S5: =IF($I$7="SQUAT",$B$8+$B$9*$I$4+$B$4*$I$10+$B$10*$I$11+$B$11*$I$9+$B$12*S$4+($B$13*$I$4*$I$10)+($B$14*$I$4*$I$11)+($B$15*$I$4*$I$9)+($B$16*$I$4*S$4)+($B$17*$I$10*$I$11)+($B$18*$I$10*$I$9)+($B$19*$I$10*S$4)+($B$20*$I$11*$I$9)+($B$21*$I$11*S$4)+($B$22*$I$9*S$4),"") -> 230.26207 | T5: =IF($I$7="SQUAT",$B$8+$B$9*$I$4+$B$4*$I$10+$B$10*$I$11+$B$11*$I$9+$B$12*T$4+($B$13*$I$4*$I$10)+($B$14*$I$4*$I$11)+($B$15*$I$4*$I$9)+($B$16*$I$4*T$4)+($B$17*$I$10*$I$11)+($B$18*$I$10*$I$9)+($B$19*$I$10*T$4)+($B$20*$I$11*$I$9)+($B$21*$I$11*T$4)+($B$22*$I$9*T$4),"") -> 234.25777 | U5: =IF($I$7="SQUAT",$B$8+$B$9*$I$4+$B$4*$I$10+$B$10*$I$11+$B$11*$I$9+$B$12*U$4+($B$13*$I$4*$I$10)+($B$14*$I$4*$I$11)+($B$15*$I$4*$I$9)+($B$16*$I$4*U$4)+($B$17*$I$10*$I$11)+($B$18*$I$10*$I$9)+($B$19*$I$10*U$4)+($B$20*$I$11*$I$9)+($B$21*$I$11*U$4)+($B$22*$I$9*U$4),"") -> 236.59511 | V5: =IF($I$7="SQUAT",$B$8+$B$9*$I$4+$B$4*$I$10+$B$10*$I$11+$B$11*$I$9+$B$12*V$4+($B$13*$I$4*$I$10)+($B$14*$I$4*$I$11)+($B$15*$I$4*$I$9)+($B$16*$I$4*V$4)+($B$17*$I$10*$I$11)+($B$18*$I$10*$I$9)+($B$19*$I$10*V$4)+($B$20*$I$11*$I$9)+($B$21*$I$11*V$4)+($B$22*$I$9*V$4),"") -> 238.25348 | W5: =IF($I$7="SQUAT",$B$8+$B$9*$I$4+$B$4*$I$10+$B$10*$I$11+$B$11*$I$9+$B$12*W$4+($B$13*$I$4*$I$10)+($B$14*$I$4*$I$11)+($B$15*$I$4*$I$9)+($B$16*$I$4*W$4)+($B$17*$I$10*$I$11)+($B$18*$I$10*$I$9)+($B$19*$I$10*W$4)+($B$20*$I$11*$I$9)+($B$21*$I$11*W$4)+($B$22*$I$9*W$4),"") -> 239.53981 | X5: =IF($I$7="SQUAT",$B$8+$B$9*$I$4+$B$4*$I$10+$B$10*$I$11+$B$11*$I$9+$B$12*X$4+($B$13*$I$4*$I$10)+($B$14*$I$4*$I$11)+($B$15*$I$4*$I$9)+($B$16*$I$4*X$4)+($B$17*$I$10*$I$11)+($B$18*$I$10*$I$9)+($B$19*$I$10*X$4)+($B$20*$I$11*$I$9)+($B$21*$I$11*X$4)+($B$22*$I$9*X$4),"") -> 240.59081 | Y5: =IF($I$7="SQUAT",$B$8+$B$9*$I$4+$B$4*$I$10+$B$10*$I$11+$B$11*$I$9+$B$12*Y$4+($B$13*$I$4*$I$10)+($B$14*$I$4*$I$11)+($B$15*$I$4*$I$9)+($B$16*$I$4*Y$4)+($B$17*$I$10*$I$11)+($B$18*$I$10*$I$9)+($B$19*$I$10*Y$4)+($B$20*$I$11*$I$9)+($B$21*$I$11*Y$4)+($B$22*$I$9*Y$4),"") -> 241.47943 | ... AB5: =IF($I$7="SQUAT",$B$8+$B$9*$I$4+$B$4*$I$10+$B$10*$I$11+$B$11*$I$9+$B$12*AB$4+($B$13*$I$4*$I$10)+($B$14*$I$4*$I$11)+($B$15*$I$4*$I$9)+($B$16*$I$4*AB$4)+($B$17*$I$10*$I$11)+($B$18*$I$10*$I$9)+($B$19*$I$10*AB$4)+($B$20*$I$11*$I$9)+($B$21*$I$11*AB$4)+($B$22*$I$9*AB$4),"") -> 243.53551
Q6: Scaled (% of baseline strength) | R6: 1 | S6: =S5/$R$5 -> 1.1073155 | T6: =T5/$R$5 -> 1.1265306 | U6: =U5/$R$5 -> 1.1377707 | V6: =V5/$R$5 -> 1.1457456 | W6: =W5/$R$5 -> 1.1519315 | X6: =X5/$R$5 -> 1.1569857 | Y6: =Y5/$R$5 -> 1.161259 | Z6: =Z5/$R$5 -> 1.1649607 | ... AB6: =AB5/$R$5 -> 1.1711466
B7: Estimate | C7: SE | D7: tStat | E7: pValue | I7: SQUAT | J7: BENCH PRESS | K7: DEADLIFT | L7: TOTAL | P7: BENCH PRESS | Q7: Absolute (kg) | R7: =IF($J$7="BENCH PRESS",$B$25+$B$26*$I$4+$B$27*$I$10+$B$28*$I$11+$B$29*$J$9+$B$30*R$4+($B$31*$I$4*$I$10)+($B$32*$I$4*$I$11)+($B$33*$I$4*$J$9)+($B$34*$I$4*R$4)+($B$35*$I$10*$I$11)+($B$36*$I$10*$J$9)+($B$37*$I$10*R$4)+($B$38*$I$11*$J$9)+($B$39*$I$11*R$4)+($B$40*$J$9*R$4),"") -> 130.05902 | S7: =IF($J$7="BENCH PRESS",$B$25+$B$26*$I$4+$B$27*$I$10+$B$28*$I$11+$B$29*$J$9+$B$30*S$4+($B$31*$I$4*$I$10)+($B$32*$I$4*$I$11)+($B$33*$I$4*$J$9)+($B$34*$I$4*S$4)+($B$35*$I$10*$I$11)+($B$36*$I$10*$J$9)+($B$37*$I$10*S$4)+($B$38*$I$11*$J$9)+($B$39*$I$11*S$4)+($B$40*$J$9*S$4),"") -> 143.06338 | T7: =IF($J$7="BENCH PRESS",$B$25+$B$26*$I$4+$B$27*$I$10+$B$28*$I$11+$B$29*$J$9+$B$30*T$4+($B$31*$I$4*$I$10)+($B$32*$I$4*$I$11)+($B$33*$I$4*$J$9)+($B$34*$I$4*T$4)+($B$35*$I$10*$I$11)+($B$36*$I$10*$J$9)+($B$37*$I$10*T$4)+($B$38*$I$11*$J$9)+($B$39*$I$11*T$4)+($B$40*$J$9*T$4),"") -> 145.39184 | U7: =IF($J$7="BENCH PRESS",$B$25+$B$26*$I$4+$B$27*$I$10+$B$28*$I$11+$B$29*$J$9+$B$30*U$4+($B$31*$I$4*$I$10)+($B$32*$I$4*$I$11)+($B$33*$I$4*$J$9)+($B$34*$I$4*U$4)+($B$35*$I$10*$I$11)+($B$36*$I$10*$J$9)+($B$37*$I$10*U$4)+($B$38*$I$11*$J$9)+($B$39*$I$11*U$4)+($B$40*$J$9*U$4),"") -> 146.7539 | V7: =IF($J$7="BENCH PRESS",$B$25+$B$26*$I$4+$B$27*$I$10+$B$28*$I$11+$B$29*$J$9+$B$30*V$4+($B$31*$I$4*$I$10)+($B$32*$I$4*$I$11)+($B$33*$I$4*$J$9)+($B$34*$I$4*V$4)+($B$35*$I$10*$I$11)+($B$36*$I$10*$J$9)+($B$37*$I$10*V$4)+($B$38*$I$11*$J$9)+($B$39*$I$11*V$4)+($B$40*$J$9*V$4),"") -> 147.7203 | W7: =IF($J$7="BENCH PRESS",$B$25+$B$26*$I$4+$B$27*$I$10+$B$28*$I$11+$B$29*$J$9+$B$30*W$4+($B$31*$I$4*$I$10)+($B$32*$I$4*$I$11)+($B$33*$I$4*$J$9)+($B$34*$I$4*W$4)+($B$35*$I$10*$I$11)+($B$36*$I$10*$J$9)+($B$37*$I$10*W$4)+($B$38*$I$11*$J$9)+($B$39*$I$11*W$4)+($B$40*$J$9*W$4),"") -> 148.46989 | X7: =IF($J$7="BENCH PRESS",$B$25+$B$26*$I$4+$B$27*$I$10+$B$28*$I$11+$B$29*$J$9+$B$30*X$4+($B$31*$I$4*$I$10)+($B$32*$I$4*$I$11)+($B$33*$I$4*$J$9)+($B$34*$I$4*X$4)+($B$35*$I$10*$I$11)+($B$36*$I$10*$J$9)+($B$37*$I$10*X$4)+($B$38*$I$11*$J$9)+($B$39*$I$11*X$4)+($B$40*$J$9*X$4),"") -> 149.08236 | Y7: =IF($J$7="BENCH PRESS",$B$25+$B$26*$I$4+$B$27*$I$10+$B$28*$I$11+$B$29*$J$9+$B$30*Y$4+($B$31*$I$4*$I$10)+($B$32*$I$4*$I$11)+($B$33*$I$4*$J$9)+($B$34*$I$4*Y$4)+($B$35*$I$10*$I$11)+($B$36*$I$10*$J$9)+($B$37*$I$10*Y$4)+($B$38*$I$11*$J$9)+($B$39*$I$11*Y$4)+($B$40*$J$9*Y$4),"") -> 149.60019 | ... AB7: =IF($J$7="BENCH PRESS",$B$25+$B$26*$I$4+$B$27*$I$10+$B$28*$I$11+$B$29*$J$9+$B$30*AB$4+($B$31*$I$4*$I$10)+($B$32*$I$4*$I$11)+($B$33*$I$4*$J$9)+($B$34*$I$4*AB$4)+($B$35*$I$10*$I$11)+($B$36*$I$10*$J$9)+($B$37*$I$10*AB$4)+($B$38*$I$11*$J$9)+($B$39*$I$11*AB$4)+($B$40*$J$9*AB$4),"") -> 150.79835
A8: Intercept | B8: -59.284012 | C8: 3.2282305 | D8: -18.364244 | E8: 4.9043961e-75 | H8: First competition's 1 Repetition Maximum | I8: 212.5 | J8: 132.5 | K8: 250 | L8: =SUM(I8:K8) -> 595 | M8: kg | Q8: Scaled (% of baseline strength) | R8: 1 | S8: =S7/$R$7 -> 1.0999881 | T8: =T7/$R$7 -> 1.1178912 | U8: =U7/$R$7 -> 1.1283639 | V8: =V7/$R$7 -> 1.1357943 | W8: =W7/$R$7 -> 1.1415579 | X8: =X7/$R$7 -> 1.146267 | Y8: =Y7/$R$7 -> 1.1502485 | Z8: =Z7/$R$7 -> 1.1536974 | ... AB8: =AB7/$R$7 -> 1.159461
A9: Sex_num | B9: -0.78114976 | C9: 1.9631053 | D9: -0.39791537 | E9: 0.69069453 | H9: Initial Strength (kg/kg) | I9: =I$8/$I$5 -> 2.1683673 | J9: =J$8/$I$5 -> 1.3520408 | K9: =K$8/$I$5 -> 2.5510204 | L9: =L$8/$I$5 -> 6.0714286 | P9: DEADLIFT | Q9: Absolute (kg) | R9: =IF($K$7="DEADLIFT",$B$43+$B$44*$I$4+$B$45*$I$10+$B$46*$I$11+$B$47*$K$9+$B$48*R$4+($B$49*$I$4*$I$10)+($B$50*$I$4*$I$11)+($B$51*$I$4*$K$9)+($B$52*$I$4*R$4)+($B$53*$I$10*$I$11)+($B$54*$I$10*$K$9)+($B$55*$I$10*R$4)+($B$56*$I$11*$K$9)+($B$57*$I$11*R$4)+($B$58*$K$9*R$4),"") -> 245.79186 | S9: =IF($K$7="DEADLIFT",$B$43+$B$44*$I$4+$B$45*$I$10+$B$46*$I$11+$B$47*$K$9+$B$48*S$4+($B$49*$I$4*$I$10)+($B$50*$I$4*$I$11)+($B$51*$I$4*$K$9)+($B$52*$I$4*S$4)+($B$53*$I$10*$I$11)+($B$54*$I$10*$K$9)+($B$55*$I$10*S$4)+($B$56*$I$11*$K$9)+($B$57*$I$11*S$4)+($B$58*$K$9*S$4),"") -> 261.05434 | T9: =IF($K$7="DEADLIFT",$B$43+$B$44*$I$4+$B$45*$I$10+$B$46*$I$11+$B$47*$K$9+$B$48*T$4+($B$49*$I$4*$I$10)+($B$50*$I$4*$I$11)+($B$51*$I$4*$K$9)+($B$52*$I$4*T$4)+($B$53*$I$10*$I$11)+($B$54*$I$10*$K$9)+($B$55*$I$10*T$4)+($B$56*$I$11*$K$9)+($B$57*$I$11*T$4)+($B$58*$K$9*T$4),"") -> 263.78712 | U9: =IF($K$7="DEADLIFT",$B$43+$B$44*$I$4+$B$45*$I$10+$B$46*$I$11+$B$47*$K$9+$B$48*U$4+($B$49*$I$4*$I$10)+($B$50*$I$4*$I$11)+($B$51*$I$4*$K$9)+($B$52*$I$4*U$4)+($B$53*$I$10*$I$11)+($B$54*$I$10*$K$9)+($B$55*$I$10*U$4)+($B$56*$I$11*$K$9)+($B$57*$I$11*U$4)+($B$58*$K$9*U$4),"") -> 265.3857 | V9: =IF($K$7="DEADLIFT",$B$43+$B$44*$I$4+$B$45*$I$10+$B$46*$I$11+$B$47*$K$9+$B$48*V$4+($B$49*$I$4*$I$10)+($B$50*$I$4*$I$11)+($B$51*$I$4*$K$9)+($B$52*$I$4*V$4)+($B$53*$I$10*$I$11)+($B$54*$I$10*$K$9)+($B$55*$I$10*V$4)+($B$56*$I$11*$K$9)+($B$57*$I$11*V$4)+($B$58*$K$9*V$4),"") -> 266.5199 | W9: =IF($K$7="DEADLIFT",$B$43+$B$44*$I$4+$B$45*$I$10+$B$46*$I$11+$B$47*$K$9+$B$48*W$4+($B$49*$I$4*$I$10)+($B$50*$I$4*$I$11)+($B$51*$I$4*$K$9)+($B$52*$I$4*W$4)+($B$53*$I$10*$I$11)+($B$54*$I$10*$K$9)+($B$55*$I$10*W$4)+($B$56*$I$11*$K$9)+($B$57*$I$11*W$4)+($B$58*$K$9*W$4),"") -> 267.39966 | X9: =IF($K$7="DEADLIFT",$B$43+$B$44*$I$4+$B$45*$I$10+$B$46*$I$11+$B$47*$K$9+$B$48*X$4+($B$49*$I$4*$I$10)+($B$50*$I$4*$I$11)+($B$51*$I$4*$K$9)+($B$52*$I$4*X$4)+($B$53*$I$10*$I$11)+($B$54*$I$10*$K$9)+($B$55*$I$10*X$4)+($B$56*$I$11*$K$9)+($B$57*$I$11*X$4)+($B$58*$K$9*X$4),"") -> 268.11848 | Y9: =IF($K$7="DEADLIFT",$B$43+$B$44*$I$4+$B$45*$I$10+$B$46*$I$11+$B$47*$K$9+$B$48*Y$4+($B$49*$I$4*$I$10)+($B$50*$I$4*$I$11)+($B$51*$I$4*$K$9)+($B$52*$I$4*Y$4)+($B$53*$I$10*$I$11)+($B$54*$I$10*$K$9)+($B$55*$I$10*Y$4)+($B$56*$I$11*$K$9)+($B$57*$I$11*Y$4)+($B$58*$K$9*Y$4),"") -> 268.72623 | ... AB9: =IF($K$7="DEADLIFT",$B$43+$B$44*$I$4+$B$45*$I$10+$B$46*$I$11+$B$47*$K$9+$B$48*AB$4+($B$49*$I$4*$I$10)+($B$50*$I$4*$I$11)+($B$51*$I$4*$K$9)+($B$52*$I$4*AB$4)+($B$53*$I$10*$I$11)+($B$54*$I$10*$K$9)+($B$55*$I$10*AB$4)+($B$56*$I$11*$K$9)+($B$57*$I$11*AB$4)+($B$58*$K$9*AB$4),"") -> 270.13244
A10: BodyweightKg | B10: 0.65461839 | C10: 0.030882082 | D10: 21.197353 | E10: 3.2371542e-99 | H10: First competition's Age | I10: 26 | J10: years | Q10: Scaled (% of baseline strength) | R10: 1 | S10: =S9/$R$9 -> 1.0620951 | T10: =T9/$R$9 -> 1.0732134 | U10: =U9/$R$9 -> 1.0797172 | V10: =V9/$R$9 -> 1.0843317 | W10: =W9/$R$9 -> 1.087911 | X10: =X9/$R$9 -> 1.0908354 | Y10: =Y9/$R$9 -> 1.0933081 | Z10: =Z9/$R$9 -> 1.0954499 | ... AB10: =AB9/$R$9 -> 1.0990292
A11: TOT_Start | B11: 23.232375 | C11: 1.251239 | D11: 18.567497 | E11: 1.1711581e-76 | H11: Bodyweight | I11: =I5 -> 98 | J11: kg | K11: =IF(I10<=18,"Sub-junior",IF(I10<=23,"Junior",IF(I10<=39,"Open",IF(I10<=49,"Master 1",IF(I10<=59,"Master 2",IF(I10<=69,"Master 3","Master 4")))))) -> Open | L11: Age category | P11: TOTAL | Q11: Absolute (kg) | R11: =IF($L$7="TOTAL",$B$61+$B$62*$I$4+$B$63*$I$10+$B$64*$I$11+$B$65*$L$9+$B$66*R$4+($B$67*$I$4*$I$10)+($B$68*$I$4*$I$11)+($B$69*$I$4*$L$9)+($B$70*$I$4*R$4)+($B$71*$I$10*$I$11)+($B$72*$I$10*$L$9)+($B$73*$I$10*R$4)+($B$74*$I$11*$L$9)+($B$75*$I$11*R$4)+($B$76*$L$9*R$4),"") -> 584.36796 | S11: =IF($L$7="TOTAL",$B$61+$B$62*$I$4+$B$63*$I$10+$B$64*$I$11+$B$65*$L$9+$B$66*S$4+($B$67*$I$4*$I$10)+($B$68*$I$4*$I$11)+($B$69*$I$4*$L$9)+($B$70*$I$4*S$4)+($B$71*$I$10*$I$11)+($B$72*$I$10*$L$9)+($B$73*$I$10*S$4)+($B$74*$I$11*$L$9)+($B$75*$I$11*S$4)+($B$76*$L$9*S$4),"") -> 635.2942 | T11: =IF($L$7="TOTAL",$B$61+$B$62*$I$4+$B$63*$I$10+$B$64*$I$11+$B$65*$L$9+$B$66*T$4+($B$67*$I$4*$I$10)+($B$68*$I$4*$I$11)+($B$69*$I$4*$L$9)+($B$70*$I$4*T$4)+($B$71*$I$10*$I$11)+($B$72*$I$10*$L$9)+($B$73*$I$10*T$4)+($B$74*$I$11*$L$9)+($B$75*$I$11*T$4)+($B$76*$L$9*T$4),"") -> 644.41266 | U11: =IF($L$7="TOTAL",$B$61+$B$62*$I$4+$B$63*$I$10+$B$64*$I$11+$B$65*$L$9+$B$66*U$4+($B$67*$I$4*$I$10)+($B$68*$I$4*$I$11)+($B$69*$I$4*$L$9)+($B$70*$I$4*U$4)+($B$71*$I$10*$I$11)+($B$72*$I$10*$L$9)+($B$73*$I$10*U$4)+($B$74*$I$11*$L$9)+($B$75*$I$11*U$4)+($B$76*$L$9*U$4),"") -> 649.74661 | V11: =IF($L$7="TOTAL",$B$61+$B$62*$I$4+$B$63*$I$10+$B$64*$I$11+$B$65*$L$9+$B$66*V$4+($B$67*$I$4*$I$10)+($B$68*$I$4*$I$11)+($B$69*$I$4*$L$9)+($B$70*$I$4*V$4)+($B$71*$I$10*$I$11)+($B$72*$I$10*$L$9)+($B$73*$I$10*V$4)+($B$74*$I$11*$L$9)+($B$75*$I$11*V$4)+($B$76*$L$9*V$4),"") -> 653.53112 | W11: =IF($L$7="TOTAL",$B$61+$B$62*$I$4+$B$63*$I$10+$B$64*$I$11+$B$65*$L$9+$B$66*W$4+($B$67*$I$4*$I$10)+($B$68*$I$4*$I$11)+($B$69*$I$4*$L$9)+($B$70*$I$4*W$4)+($B$71*$I$10*$I$11)+($B$72*$I$10*$L$9)+($B$73*$I$10*W$4)+($B$74*$I$11*$L$9)+($B$75*$I$11*W$4)+($B$76*$L$9*W$4),"") -> 656.4666 | X11: =IF($L$7="TOTAL",$B$61+$B$62*$I$4+$B$63*$I$10+$B$64*$I$11+$B$65*$L$9+$B$66*X$4+($B$67*$I$4*$I$10)+($B$68*$I$4*$I$11)+($B$69*$I$4*$L$9)+($B$70*$I$4*X$4)+($B$71*$I$10*$I$11)+($B$72*$I$10*$L$9)+($B$73*$I$10*X$4)+($B$74*$I$11*$L$9)+($B$75*$I$11*X$4)+($B$76*$L$9*X$4),"") -> 658.86507 | Y11: =IF($L$7="TOTAL",$B$61+$B$62*$I$4+$B$63*$I$10+$B$64*$I$11+$B$65*$L$9+$B$66*Y$4+($B$67*$I$4*$I$10)+($B$68*$I$4*$I$11)+($B$69*$I$4*$L$9)+($B$70*$I$4*Y$4)+($B$71*$I$10*$I$11)+($B$72*$I$10*$L$9)+($B$73*$I$10*Y$4)+($B$74*$I$11*$L$9)+($B$75*$I$11*Y$4)+($B$76*$L$9*Y$4),"") -> 660.89295 | ... AB11: =IF($L$7="TOTAL",$B$61+$B$62*$I$4+$B$63*$I$10+$B$64*$I$11+$B$65*$L$9+$B$66*AB$4+($B$67*$I$4*$I$10)+($B$68*$I$4*$I$11)+($B$69*$I$4*$L$9)+($B$70*$I$4*AB$4)+($B$71*$I$10*$I$11)+($B$72*$I$10*$L$9)+($B$73*$I$10*AB$4)+($B$74*$I$11*$L$9)+($B$75*$I$11*AB$4)+($B$76*$L$9*AB$4),"") -> 665.58506
A12: Log_time | B12: 23.89895 | C12: 0.46707416 | D12: 51.167356 | E12: 0 | Q12: Scaled (% of baseline strength) | R12: 1 | S12: =S11/$R$11 -> 1.0871476 | T12: =T11/$R$11 -> 1.1027515 | U12: =U11/$R$11 -> 1.1118793 | V12: =V11/$R$11 -> 1.1183555 | W12: =W11/$R$11 -> 1.1233789 | X12: =X11/$R$11 -> 1.1274832 | Y12: =Y11/$R$11 -> 1.1309534 | Z12: =Z11/$R$11 -> 1.1339595 | ... AB12: =AB11/$R$11 -> 1.1389828
A13: Sex*Age | B13: 0.18279357 | C13: 0.019183135 | D13: 9.5288682 | E13: 1.6693395e-21
A14: Sex*BW | B14: -0.06059645 | C14: 0.013525767 | D14: -4.4800749 | E14: 7.4807864e-06
A15: Sex*Starting Strength | B15: -0.12709294 | C15: 0.59707339 | D15: -0.21285983 | E15: 0.8314373
A16: Sex*Log_time | B16: -3.2491509 | C16: 0.14598686 | D16: -22.256462 | E16: 4.0149574e-109
A17: Age*BW | B17: -0.004402534 | C17: 0.0003947451 | D17: -11.152853 | E17: 7.5932181e-29 | I17: SQUAT | J17: BENCH PRESS | K17: DEADLIFT | L17: TOTAL
A18: Age*starting strength | B18: 0.0012790587 | C18: 0.016847376 | D18: 0.075920354 | E18: 0.93948281 | I18: {=IF(I4=0,IF(I9<INDEX('Normative values'!A65:E127,MATCH(K11,'Normative values'!A65:A127,0)+IF(K5="-120",1,IF(K5="59",2,IF(K5="66",3,IF(K5="74",4,IF(K5="83",5,IF(K5="93",6,IF(K5="105",7,IF(K5="120",8)))))))),2),1,IF(I9<INDEX('Normative values'!A65:E127,MATCH(K11,'Normative values'!A65:A127,0)+IF(K5="-120",1,IF(K5="59",2,IF(K5="66",3,IF(K5="74",4,IF(K5="83",5,IF(K5="93",6,IF(K5="105",7,IF(K5="120",8)))))))),3),2,IF(I9<INDEX('Normative values'!A65:E127,MATCH(K11,'Normative values'!A65:A127,0)+IF(K5="-120",1,IF(K5="59",2,IF(K5="66",3,IF(K5="74",4,IF(K5="83",5,IF(K5="93",6,IF(K5="105",7,IF(K5="120",8)))))))),4),3,IF(I9<INDEX('Normative values'!A65:E127,MATCH(K11,'Normative values'!A65:A127,0)+IF(K5="-120",1,IF(K5="59",2,IF(K5="66",3,IF(K5="74",4,IF(K5="83",5,IF(K5="93",6,IF(K5="105",7,IF(K5="120",8)))))))),5),4)))),IF(I9<INDEX('Normative values'!A5:F63,MATCH(K11,'Normative values'!A5:A63,0)+IF(K5="-84",1,IF(K5="47",2,IF(K5="52",3,IF(K5="57",4,IF(K5="63",5,IF(K5="69",6,IF(K5="76",7,IF(K5="84",8)))))))),2),1,IF(I9<INDEX('Normative values'!A5:F63,MATCH(K11,'Normative values'!A5:A63,0)+IF(K5="-84",1,IF(K5="47",2,IF(K5="52",3,IF(K5="57",4,IF(K5="63",5,IF(K5="69",6,IF(K5="76",7,IF(K5="84",8)))))))),3),2,IF(I9<INDEX('Normative values'!A5:F63,MATCH(K11,'Normative values'!A5:A63,0)+IF(K5="-84",1,IF(K5="47",2,IF(K5="52",3,IF(K5="57",4,IF(K5="63",5,IF(K5="69",6,IF(K5="76",7,IF(K5="84",8)))))))),4),3,IF(I9<INDEX('Normative values'!A5:F63,MATCH(K11,'Normative values'!A5:A63,0)+IF(K5="-84",1,IF(K5="47",2,IF(K5="52",3,IF(K5="57",4,IF(K5="63",5,IF(K5="69",6,IF(K5="76",7,IF(K5="84",8)))))))),5),4)))))} -> 2 | J18: {=IF(I4=0,IF(J9<INDEX('Normative values'!G65:K127,MATCH(K11,'Normative values'!G65:G127,0)+IF(K5="-120",1,IF(K5="59",2,IF(K5="66",3,IF(K5="74",4,IF(K5="83",5,IF(K5="93",6,IF(K5="105",7,IF(K5="120",8)))))))),2),1,IF(J9<INDEX('Normative values'!G65:K127,MATCH(K11,'Normative values'!G65:G127,0)+IF(K5="-120",1,IF(K5="59",2,IF(K5="66",3,IF(K5="74",4,IF(K5="83",5,IF(K5="93",6,IF(K5="105",7,IF(K5="120",8)))))))),3),2,IF(J9<INDEX('Normative values'!G65:K127,MATCH(K11,'Normative values'!G65:G127,0)+IF(K5="-120",1,IF(K5="59",2,IF(K5="66",3,IF(K5="74",4,IF(K5="83",5,IF(K5="93",6,IF(K5="105",7,IF(K5="120",8)))))))),4),3,IF(J9<INDEX('Normative values'!G65:K127,MATCH(K11,'Normative values'!G65:G127,0)+IF(K5="-120",1,IF(K5="59",2,IF(K5="66",3,IF(K5="74",4,IF(K5="83",5,IF(K5="93",6,IF(K5="105",7,IF(K5="120",8)))))))),5),4)))),IF(J9<INDEX('Normative values'!G5:K63,MATCH(K11,'Normative values'!G5:G63,0)+IF(K5="-84",1,IF(K5="47",2,IF(K5="52",3,IF(K5="57",4,IF(K5="63",5,IF(K5="69",6,IF(K5="76",7,IF(K5="84",8)))))))),2),1,IF(J9<INDEX('Normative values'!G5:K63,MATCH(K11,'Normative values'!G5:G63,0)+IF(K5="-84",1,IF(K5="47",2,IF(K5="52",3,IF(K5="57",4,IF(K5="63",5,IF(K5="69",6,IF(K5="76",7,IF(K5="84",8)))))))),3),2,IF(J9<INDEX('Normative values'!G5:K63,MATCH(K11,'Normative values'!G5:G63,0)+IF(K5="-84",1,IF(K5="47",2,IF(K5="52",3,IF(K5="57",4,IF(K5="63",5,IF(K5="69",6,IF(K5="76",7,IF(K5="84",8)))))))),4),3,IF(J9<INDEX('Normative values'!G5:K63,MATCH(K11,'Normative values'!G5:G63,0)+IF(K5="-84",1,IF(K5="47",2,IF(K5="52",3,IF(K5="57",4,IF(K5="63",5,IF(K5="69",6,IF(K5="76",7,IF(K5="84",8)))))))),5),4)))))} -> 2 | K18: {=IF(I4=0,IF(K9<INDEX('Normative values'!M65:Q127,MATCH(K11,'Normative values'!M65:M127,0)+IF(K5="-120",1,IF(K5="59",2,IF(K5="66",3,IF(K5="74",4,IF(K5="83",5,IF(K5="93",6,IF(K5="105",7,IF(K5="120",8)))))))),2),1,IF(K9<INDEX('Normative values'!M65:Q127,MATCH(K11,'Normative values'!M65:M127,0)+IF(K5="-120",1,IF(K5="59",2,IF(K5="66",3,IF(K5="74",4,IF(K5="83",5,IF(K5="93",6,IF(K5="105",7,IF(K5="120",8)))))))),3),2,IF(K9<INDEX('Normative values'!M65:Q127,MATCH(K11,'Normative values'!M65:M127,0)+IF(K5="-120",1,IF(K5="59",2,IF(K5="66",3,IF(K5="74",4,IF(K5="83",5,IF(K5="93",6,IF(K5="105",7,IF(K5="120",8)))))))),4),3,IF(K9<INDEX('Normative values'!M65:Q127,MATCH(K11,'Normative values'!M65:M127,0)+IF(K5="-120",1,IF(K5="59",2,IF(K5="66",3,IF(K5="74",4,IF(K5="83",5,IF(K5="93",6,IF(K5="105",7,IF(K5="120",8)))))))),5),4)))),IF(K9<INDEX('Normative values'!M5:Q63,MATCH(K11,'Normative values'!M5:M63,0)+IF(K5="-84",1,IF(K5="47",2,IF(K5="52",3,IF(K5="57",4,IF(K5="63",5,IF(K5="69",6,IF(K5="76",7,IF(K5="84",8)))))))),2),1,IF(K9<INDEX('Normative values'!M5:Q63,MATCH(K11,'Normative values'!M5:M63,0)+IF(K5="-84",1,IF(K5="47",2,IF(K5="52",3,IF(K5="57",4,IF(K5="63",5,IF(K5="69",6,IF(K5="76",7,IF(K5="84",8)))))))),3),2,IF(K9<INDEX('Normative values'!M5:Q63,MATCH(K11,'Normative values'!M5:M63,0)+IF(K5="-84",1,IF(K5="47",2,IF(K5="52",3,IF(K5="57",4,IF(K5="63",5,IF(K5="69",6,IF(K5="76",7,IF(K5="84",8)))))))),4),3,IF(K9<INDEX('Normative values'!M5:Q63,MATCH(K11,'Normative values'!M5:M63,0)+IF(K5="-84",1,IF(K5="47",2,IF(K5="52",3,IF(K5="57",4,IF(K5="63",5,IF(K5="69",6,IF(K5="76",7,IF(K5="84",8)))))))),5),4)))))} -> 2 | L18: {=IF(I4=0,IF(L9<INDEX('Normative values'!S65:W127,MATCH(K11,'Normative values'!S65:S127,0)+IF(K5="-120",1,IF(K5="59",2,IF(K5="66",3,IF(K5="74",4,IF(K5="83",5,IF(K5="93",6,IF(K5="105",7,IF(K5="120",8)))))))),2),1,IF(L9<INDEX('Normative values'!S65:W127,MATCH(K11,'Normative values'!S65:S127,0)+IF(K5="-120",1,IF(K5="59",2,IF(K5="66",3,IF(K5="74",4,IF(K5="83",5,IF(K5="93",6,IF(K5="105",7,IF(K5="120",8)))))))),3),2,IF(L9<INDEX('Normative values'!S65:W127,MATCH(K11,'Normative values'!S65:S127,0)+IF(K5="-120",1,IF(K5="59",2,IF(K5="66",3,IF(K5="74",4,IF(K5="83",5,IF(K5="93",6,IF(K5="105",7,IF(K5="120",8)))))))),4),3,IF(L9<INDEX('Normative values'!S65:W127,MATCH(K11,'Normative values'!S65:S127,0)+IF(K5="-120",1,IF(K5="59",2,IF(K5="66",3,IF(K5="74",4,IF(K5="83",5,IF(K5="93",6,IF(K5="105",7,IF(K5="120",8)))))))),5),4)))),IF(L9<INDEX('Normative values'!S5:W63,MATCH(K11,'Normative values'!S5:S63,0)+IF(K5="-84",1,IF(K5="47",2,IF(K5="52",3,IF(K5="57",4,IF(K5="63",5,IF(K5="69",6,IF(K5="76",7,IF(K5="84",8)))))))),2),1,IF(L9<INDEX('Normative values'!S5:W63,MATCH(K11,'Normative values'!S5:S63,0)+IF(K5="-84",1,IF(K5="47",2,IF(K5="52",3,IF(K5="57",4,IF(K5="63",5,IF(K5="69",6,IF(K5="76",7,IF(K5="84",8)))))))),3),2,IF(L9<INDEX('Normative values'!S5:W63,MATCH(K11,'Normative values'!S5:S63,0)+IF(K5="-84",1,IF(K5="47",2,IF(K5="52",3,IF(K5="57",4,IF(K5="63",5,IF(K5="69",6,IF(K5="76",7,IF(K5="84",8)))))))),4),3,IF(L9<INDEX('Normative values'!S5:W63,MATCH(K11,'Normative values'!S5:S63,0)+IF(K5="-84",1,IF(K5="47",2,IF(K5="52",3,IF(K5="57",4,IF(K5="63",5,IF(K5="69",6,IF(K5="76",7,IF(K5="84",8)))))))),5),4)))))} -> 2
A19: Age*Log_time | B19: -0.18842954 | C19: 0.0036431908 | D19: -51.721018 | E19: 0
A20: BW*Starting strength | B20: 0.71665377 | C20: 0.012380201 | D20: 57.887087 | E20: 0
A21: BW*Log_time | B21: -0.030864445 | C21: 0.0028565501 | D21: -10.804797 | E21: 3.538879e-27
A22: Starting Strength*Log_time | B22: -4.7088357 | C22: 0.13354685 | D22: -35.259804 | E22: 1.5848568e-268
A23: BENCH PRESS
B24: Estimate | C24: SE | D24: tStat | E24: pValue
A25: Intercept | B25: -31.962038 | C25: 1.7866615 | D25: -17.889252 | E25: 2.587659e-71
A26: Sex_num | B26: 0.44394201 | C26: 1.1853722 | D26: 0.37451697 | E26: 0.70802157
A27: Age | B27: 0.40769303 | C27: 0.031916025 | D27: 12.773929 | E27: 2.6784385e-37
A28: BodyweightKg | B28: 0.25413176 | C28: 0.016994326 | D28: 14.953918 | E28: 1.9639433e-50
A29: TOT_Start | B29: 18.956895 | C29: 1.0696849 | D29: 17.721944 | E29: 5.0267142e-70
A30: Log_time | B30: 12.969069 | C30: 0.25764236 | D30: 50.337486 | E30: 0
A31: Sex*Age | B31: 0.017109654 | C31: 0.01246502 | D31: 1.3726134 | E31: 0.16987968
A32: Sex*BW | B32: -0.029640175 | C32: 0.0091416839 | D32: -3.2423102 | E32: 0.001186547
A33: Sex*Starting Strength | B33: 1.3067055 | C33: 0.53486708 | D33: 2.4430473 | E33: 0.014567803
A34: Sex*Log_time | B34: -1.68641 | C34: 0.097055643 | D34: -17.375703 | E34: 2.1374641e-67
A35: Age*BW | B35: -0.0015750072 | C35: 0.00022682309 | D35: -6.9437695 | E35: 3.8714982e-12
A36: Age*starting strength | B36: -0.15035096 | C36: 0.015054139 | D36: -9.9873504 | E36: 1.8359562e-23
... A40: Starting Strength*Log_time | B40: -3.3170725 | C40: 0.11088157 | D40: -29.915455 | E40: 1.2060417e-194
A41: DEADLIFT
B42: Estimate | C42: SE | D42: tStat | E42: pValue
A43: Intercept | B43: -46.004129 | C43: 3.8569268 | D43: -11.927665 | E43: 9.5598379e-33
A44: Sex_num | B44: -11.220764 | C44: 2.3808435 | D44: -4.7129364 | E44: 2.4493157e-06
A45: Age | B45: 0.2740105 | C45: 0.072343368 | D45: 3.7876382 | E45: 0.00015229187
...

Sheet Elenchi
A1: Sex | B1: Initial body weight | C1: Actual Age | D1: Actual bodyweight | F1: SQUAT | G1: BENCH PRESS | H1: DEADLIFT | I1: TOTAL | K1: SQUAT | L1: BENCH PRESS | M1: DEADLIFT | N1: TOTAL
A2: 0 | B2: 35 | C2: 10 | D2: 35 | F2: 4 | G2: 4 | H2: 4 | I2: 4 | K2: -0.1 | L2: -0.1 | M2: -0.1 | N2: -0.1
A3: 1 | B3: =B2+1 -> 36 | C3: =C2+1 -> 11 | D3: =D2+1 -> 36 | K3: =K2+0.005 -> -0.095 | L3: =L2+0.005 -> -0.095 | M3: =M2+0.005 -> -0.095 | N3: =N2+0.005 -> -0.095
B4: =B3+1 -> 37 | C4: =C3+1 -> 12 | D4: =D3+1 -> 37 | K4: =K3+0.005 -> -0.09 | L4: =L3+0.005 -> -0.09 | M4: =M3+0.005 -> -0.09 | N4: =N3+0.005 -> -0.09
B5: =B4+1 -> 38 | C5: =C4+1 -> 13 | D5: =D4+1 -> 38 | K5: =K4+0.005 -> -0.085 | L5: =L4+0.005 -> -0.085 | M5: =M4+0.005 -> -0.085 | N5: =N4+0.005 -> -0.085
B6: =B5+1 -> 39 | C6: =C5+1 -> 14 | D6: =D5+1 -> 39 | K6: =K5+0.005 -> -0.08 | L6: =L5+0.005 -> -0.08 | M6: =M5+0.005 -> -0.08 | N6: =N5+0.005 -> -0.08
B7: =B6+1 -> 40 | C7: =C6+1 -> 15 | D7: =D6+1 -> 40 | K7: =K6+0.005 -> -0.075 | L7: =L6+0.005 -> -0.075 | M7: =M6+0.005 -> -0.075 | N7: =N6+0.005 -> -0.075
B8: =B7+1 -> 41 | C8: =C7+1 -> 16 | D8: =D7+1 -> 41 | K8: =K7+0.005 -> -0.07 | L8: =L7+0.005 -> -0.07 | M8: =M7+0.005 -> -0.07 | N8: =N7+0.005 -> -0.07
B9: =B8+1 -> 42 | C9: =C8+1 -> 17 | D9: =D8+1 -> 42 | K9: =K8+0.005 -> -0.065 | L9: =L8+0.005 -> -0.065 | M9: =M8+0.005 -> -0.065 | N9: =N8+0.005 -> -0.065
B10: =B9+1 -> 43 | C10: =C9+1 -> 18 | D10: =D9+1 -> 43 | K10: =K9+0.005 -> -0.06 | L10: =L9+0.005 -> -0.06 | M10: =M9+0.005 -> -0.06 | N10: =N9+0.005 -> -0.06
B11: =B10+1 -> 44 | C11: =C10+1 -> 19 | D11: =D10+1 -> 44 | K11: =K10+0.005 -> -0.055 | L11: =L10+0.005 -> -0.055 | M11: =M10+0.005 -> -0.055 | N11: =N10+0.005 -> -0.055
B12: =B11+1 -> 45 | C12: =C11+1 -> 20 | D12: =D11+1 -> 45 | K12: =K11+0.005 -> -0.05 | L12: =L11+0.005 -> -0.05 | M12: =M11+0.005 -> -0.05 | N12: =N11+0.005 -> -0.05
B13: =B12+1 -> 46 | C13: =C12+1 -> 21 | D13: =D12+1 -> 46 | K13: =K12+0.005 -> -0.045 | L13: =L12+0.005 -> -0.045 | M13: =M12+0.005 -> -0.045 | N13: =N12+0.005 -> -0.045
B14: =B13+1 -> 47 | C14: =C13+1 -> 22 | D14: =D13+1 -> 47 | K14: =K13+0.005 -> -0.04 | L14: =L13+0.005 -> -0.04 | M14: =M13+0.005 -> -0.04 | N14: =N13+0.005 -> -0.04
B15: =B14+1 -> 48 | C15: =C14+1 -> 23 | D15: =D14+1 -> 48 | K15: =K14+0.005 -> -0.035 | L15: =L14+0.005 -> -0.035 | M15: =M14+0.005 -> -0.035 | N15: =N14+0.005 -> -0.035
... B82: =B81+1 -> 115 | C82: =C81+1 -> 90 | D82: =D81+1 -> 115 | K82: =K81+0.005 -> 0.3 | L82: =L81+0.005 -> 0.3 | M82: =M81+0.005 -> 0.3 | N82: =N81+0.005 -> 0.3
B83: =B82+1 -> 116 | D83: =D82+1 -> 116
B84: =B83+1 -> 117 | D84: =D83+1 -> 117
B85: =B84+1 -> 118 | D85: =D84+1 -> 118
B86: =B85+1 -> 119 | D86: =D85+1 -> 119
B87: =B86+1 -> 120 | D87: =D86+1 -> 120
B88: =B87+1 -> 121 | D88: =D87+1 -> 121
B89: =B88+1 -> 122 | D89: =D88+1 -> 122
B90: =B89+1 -> 123 | D90: =D89+1 -> 123
B91: =B90+1 -> 124 | D91: =D90+1 -> 124
B92: =B91+1 -> 125 | D92: =D91+1 -> 125
B93: =B92+1 -> 126 | D93: =D92+1 -> 126
B94: =B93+1 -> 127 | D94: =D93+1 -> 127
... B167: =B166+1 -> 200 | D167: =D166+1 -> 200
