Workbook

Sheet Table_S1
A1: Table S1. General information of selected animals of the study for whole-metagenomic sequencing. Weights are expressed in Kg. ADWG: Average Daily Weight Gain. G1: trimethoprim/sulfamethoxazole, G2: colistin, G3: oral vaccinated, G4: gentamicin, G5: untreated control with water acidification, G6: untreated control, GG: amoxicillin (farm of origin).
A8: Group | B8: Animal ID | C8: Sow ID | D8: Parity | E8: Initial weight | F8: Final weight | G8: ADWG
A9: G1 | B9: 782 | C9: 5599 | D9: 2 | E9: 6.48 | F9: 25.35 | G9: 0.44928571
B10: 788 | C10: 5680 | D10: 2 | E10: 4.2 | F10: 18.6 | G10: 0.34285714
B11: 806 | C11: 5131 | D11: 1 | E11: 6.74 | F11: 27.2 | G11: 0.48714286
B12: 807 | C12: 5426 | D12: 3 | E12: 5.58 | F12: 24.65 | G12: 0.45404762
B13: 819 | C13: 4570 | D13: 6 | E13: 6.44 | F13: 26.3 | G13: 0.47285714
B14: 825 | C14: 5689 | D14: 2 | E14: 4.62 | F14: 16 | G14: 0.27095238
B15: 831 | C15: 5379 | D15: 3 | E15: 4.16 | F15: 22.55 | G15: 0.43785714
B16: 882 | C16: 4230 | D16: 6 | E16: 8.02 | F16: 27.55 | G16: 0.465
B17: 900 | C17: 5172 | D17: 4 | E17: 5.62 | F17: 23.2 | G17: 0.41857143
B18: 960 | C18: 5668 | D18: 2 | E18: 4.54 | F18: 18.2 | G18: 0.3252381
A19: G2 | B19: 777 | C19: 5929 | D19: 1 | E19: 4.84 | F19: 23 | G19: 0.43238095
B20: 783 | C20: 5599 | D20: 2 | E20: 6.06 | F20: 21.15 | G20: 0.35928571
B21: 795 | C21: 4221 | D21: 7 | E21: 5.56 | F21: 17.05 | G21: 0.27357143
B22: 820 | C22: 4570 | D22: 6 | E22: 4.88 | F22: 18.1 | G22: 0.3147619
B23: 856 | C23: 3722 | D23: 9 | E23: 4.8 | F23: 19.25 | G23: 0.34404762
B24: 883 | C24: 4230 | D24: 6 | E24: 7.54 | F24: 25.4 | G24: 0.4252381
B25: 925 | C25: 6135 | D25: 1 | E25: 4.56 | F25: 20.5 | G25: 0.37952381
B26: 931 | C26: 5884 | D26: 1 | E26: 6.22 | F26: 25.6 | G26: 0.46142857
B27: 943 | C27: 4863 | D27: 6 | E27: 5.34 | F27: 22.4 | G27: 0.40619048
B28: 961 | C28: 5668 | D28: 2 | E28: 5.06 | F28: 19.3 | G28: 0.33904762
A29: G3 | B29: 778 | C29: 5929 | D29: 1 | E29: 4.5 | F29: 20.9 | G29: 0.39047619
B30: 790 | C30: 5680 | D30: 2 | E30: 5.56 | F30: 19.35 | G30: 0.32833333
B31: 796 | C31: 4221 | D31: 7 | E31: 4.44 | F31: 17.7 | G31: 0.31571429
B32: 802 | C32: 5131 | D32: 4 | E32: 5.12 | F32: 21.75 | G32: 0.39595238
B33: 821 | C33: 4570 | D33: 6 | E33: 4.42 | F33: 18.3 | G33: 0.33047619
B34: 845 | C34: 4856 | D34: 5 | E34: 4.46 | F34: 17 | G34: 0.29857143
B35: 884 | C35: 4230 | D35: 6 | E35: 4.3 | F35: 15.2 | G35: 0.25952381
B36: 926 | C36: 6135 | D36: 1 | E36: 4.24 | F36: 19.55 | G36: 0.36452381
B37: 944 | C37: 4863 | D37: 6 | E37: 5.38 | F37: 21.85 | G37: 0.39214286
B38: 962 | C38: 5668 | D38: 2 | E38: 5.54 | F38: 16.9 | G38: 0.27047619
A39: G4 | B39: 779 | C39: 5929 | D39: 1 | E39: 4.7 | F39: 20.8 | G39: 0.38333333
B40: 785 | C40: 5599 | D40: 2 | E40: 6.7 | F40: 23.1 | G40: 0.39047619
B41: 810 | C41: 5426 | D41: 3 | E41: 6.48 | F41: 20.35 | G41: 0.3302381
B42: 822 | C42: 4570 | D42: 6 | E42: 5.26 | F42: 21.9 | G42: 0.39619048
B43: 840 | C43: 5246 | D43: 3 | E43: 3.74 | F43: 15.3 | G43: 0.2752381
B44: 858 | C44: 3722 | D44: 9 | E44: 3.96 | F44: 18.5 | G44: 0.34619048
B45: 885 | C45: 4230 | D45: 6 | E45: 4.58 | F45: 19.85 | G45: 0.36357143
B46: 897 | C46: 5933 | D46: 1 | E46: 4.58 | F46: 20.45 | G46: 0.37785714
...

Sheet Table_S2
A1: Table S2. Metagenomics sequencing information of DNA extracted from faecal samples of the animals selected in this study. Includes host contamination after removal of adapter and low quality sequences, diversity indexes defined by the Shannon index, and raw and normalized sequencing depth of antimicrobial resistance genes (ARGs) identified by Resfinder. G1: trimethoprim/sulfamethoxazole, G2: colistin, G3: oral vaccinated, G4: gentamicin, G5: untreated control with water acidification, G6: untreated control, GG: amoxicillin (farm of origin). ST1: one day before weaning, ST2: three days post-treatment, ST3: two weeks post-treatment, ST4: four weeks post-treatment.
H8: Raw Sequencing Depth of ARGs from Resfinder | IC8: Normalized Abundance of ARGs from Resfinder
A9: Sampling Time | B9: Group | C9: Animal ID | D9: Final PE reads | E9: Trimmed PE reads | F9: Host contamination (%) | G9: Shannon index | H9: aac(3)-IIa | I9: aac(3)-IId | J9: aac(3)-IV | K9: aac(3)-IVa | L9: aac(3)-XI | M9: aac(6')-aph(2'') | N9: aac(6')-Ib3 | O9: aac(6')-Ii | P9: aac(6')-Iid | Q9: aac(6')-Im | R9: aadA1 | S9: aadA11 | T9: aadA13 | U9: aadA14 | V9: aadA2 | W9: aadA22 | X9: aadA24 | Y9: aadA3 | Z9: aadA5 | AA9: aadA7 | AB9: aadA9 | AC9: aadD | AD9: aadE-Cc | AE9: ant(3'')-Ia | AF9: ant(6)-Ia | AG9: ant(6)-Ib | AH9: ant(9)-Ia | AI9: aph(2'')-Ia | AJ9: aph(2'')-Ib | AK9: aph(2'')-Ic | AL9: aph(2'')-If | AM9: aph(2'')-Ig | AN9: aph(2'')-Ih | AO9: aph(3'')-Ib | AP9: aph(3')-Ia | AQ9: aph(3')-Ib | AR9: aph(3')-IIa | AS9: aph(3')-III | AT9: aph(3')-IIIa | AU9: aph(4)-Ia | AV9: aph(6)-Id | AW9: npmA | AX9: rmtD2 | AY9: rmtF | AZ9: str | BA9: blaACI-1 | BB9: blaCARB-10 | BC9: blaCARB-14 | BD9: blaCARB-16 | BE9: blaCTX-M-1 | BF9: blaCTX-M-14 | BG9: blaCTX-M-15 | BH9: blaCTX-M-32 | BI9: blaCTX-M-55 | BJ9: blaIMP-64 | BK9: blaLAP-2 | BL9: blaOXA-1 | BM9: blaOXA-193 | BN9: blaOXA-347 | BO9: blaOXA-450 | BP9: blaOXA-451 | BQ9: blaOXA-452 | BR9: blaOXA-453 | BS9: blaOXA-460 | BT9: blaOXA-489 | BU9: blaOXA-58 | BV9: blaOXA-61 | BW9: blaOXA-85 | BX9: blaROB-1 | BY9: blaSHV-12 | BZ9: blaSHV-70 | CA9: blaTEM-1A | CB9: blaTEM-1B | CC9: blaTEM-1C | CD9: blaTEM-1D | CE9: cepA | CF9: cepA-29 | CG9: cepA-44 | CH9: cepA-49 | CI9: cfiA2 | CJ9: cfiA4 | CK9: cfxA | CL9: cfxA2 | CM9: cfxA3 | CN9: cfxA4 | CO9: cfxA5 | CP9: cfxA6 | CQ9: cat | CR9: cat(pC194) | CS9: cat(pC221) | CT9: cat(pC233) | CU9: catA1 | CV9: catA2 | CW9: catA3 | CX9: catB2 | CY9: catB3 | CZ9: catP | DA9: catQ | DB9: catS | DC9: cfr | DD9: cfr(C) | DE9: Cfr(D) | DF9: Cfr(E) | DG9: cmlA1 | DH9: cmx | DI9: fexA | DJ9: fexB | DK9: floR | DL9: dfrA1 | DM9: dfrA12 | DN9: dfrA14 | DO9: dfrA16 | DP9: dfrA17 | DQ9: dfrA20 | DR9: dfrA36 | DS9: dfrA5 | DT9: dfrA8 | DU9: dfrD | DV9: dfrE | DW9: dfrG | DX9: dfrK | DY9: ere(D) | DZ9: erm(45) | EA9: erm(47) | EB9: erm(48) | EC9: erm(50) | ED9: erm(A) | EE9: erm(B) | EF9: erm(C) | EG9: erm(F) | EH9: erm(G) | EI9: erm(N) | EJ9: erm(Q) | EK9: erm(T) | EL9: erm(X) | EM9: erm(Y) | EN9: lnu(A) | EO9: lnu(B) | EP9: lnu(C) | EQ9: lnu(F) | ER9: lnu(G) | ES9: lnu(P) | ET9: lsa(A) | EU9: lsa(B) | EV9: lsa(C) | EW9: lsa(E) | EX9: mdt(A) | EY9: mef(A) | EZ9: mef(B) | FA9: mef(C) | FB9: mph(A) | FC9: mph(B) | FD9: mph(C) | FE9: mph(E) | FF9: mph(F) | FG9: mph(G) | FH9: mph(N) | FI9: msr(A) | FJ9: msr(C) | FK9: msr(D) | FL9: msr(E) | FM9: vga(C) | FN9: vga(E) | FO9: tet(31) | FP9: tet(32) | FQ9: tet(33) | FR9: tet(40) | FS9: tet(44) | FT9: tet(45) | FU9: tet(A) | FV9: tet(B) | FW9: tet(C) | FX9: tet(D) | FY9: tet(G) | FZ9: tet(H) | GA9: tet(K) | GB9: tet(L) | GC9: tet(M) | GD9: tet(O) | GE9: tet(O/32/O) | GF9: tet(O/W) | GG9: tet(O/W)-1 | GH9: tet(O/W)-2 | GI9: tet(O/W/32/O) | GJ9: tet(O/W/32/O/W/O) | GK9: tet(O/W/O)-1 | GL9: tet(O/W/O)-2 | GM9: tet(Q) | GN9: tet(S) | GO9: tet(S/M) | GP9: tet(T) | GQ9: tet(W) | GR9: tet(W/32/O) | GS9: tet(X) | GT9: tet(X3) | GU9: tet(X6) | GV9: tet(Y) | GW9: tet(Z) | GX9: tetA(P) | GY9: tetB(P) | GZ9: nimA | HA9: nimB | HB9: nimC | HC9: nimD | HD9: nimH | HE9: nimJ | HF9: qnrB19 | HG9: qnrB5 | HH9: qnrD1 | HI9: qnrS1 | HJ9: OqxA | HK9: qnrS3 | HL9: sul1 | HM9: sul2 | HN9: sul3 | HO9: VanC1XY | HP9: VanG2XY | HQ9: VanGXY | HR9: VanHBX | HS9: VanHDX | HT9: fosA | HU9: fusC | HV9: mcr-1.1 | HW9: mcr-1.26 | HX9: NarA | HY9: NarB | HZ9: optrA | IA9: poxtA | IB9: bleO | IC9: aac(3)-IIa | ID9: aac(3)-IId | IE9: aac(3)-IV | IF9: aac(3)-IVa | IG9: aac(3)-XI | IH9: aac(6')-aph(2'') | II9: aac(6')-Ib3 | IJ9: aac(6')-Ii | IK9: aac(6')-Iid | IL9: aac(6')-Im | IM9: aadA1 | IN9: aadA11 | IO9: aadA13 | IP9: aadA14 | IQ9: aadA2 | IR9: aadA22 | IS9: aadA24 | IT9: aadA3 | IU9: aadA5 | IV9: aadA7 | IW9: aadA9 | IX9: aadD | IY9: aadE-Cc | IZ9: ant(3'')-Ia | JA9: ant(6)-Ia | JB9: ant(6)-Ib | JC9: ant(9)-Ia | JD9: aph(2'')-Ia | JE9: aph(2'')-Ib | JF9: aph(2'')-Ic | JG9: aph(2'')-If | JH9: aph(2'')-Ig | JI9: aph(2'')-Ih | JJ9: aph(3'')-Ib | JK9: aph(3')-Ia | JL9: aph(3')-Ib | JM9: aph(3')-IIa | JN9: aph(3')-III | JO9: aph(3')-IIIa | JP9: aph(4)-Ia | JQ9: aph(6)-Id | JR9: npmA | JS9: rmtD2 | JT9: rmtF | JU9: str | JV9: blaACI-1 | JW9: blaCARB-10 | JX9: blaCARB-14 | JY9: blaCARB-16 | JZ9: blaCTX-M-1 | KA9: blaCTX-M-14 | KB9: blaCTX-M-15 | KC9: blaCTX-M-32 | KD9: blaCTX-M-55 | KE9: blaIMP-64 | KF9: blaLAP-2 | KG9: blaOXA-1 | KH9: blaOXA-193 | KI9: blaOXA-347 | KJ9: blaOXA-450 | KK9: blaOXA-451 | KL9: blaOXA-452 | KM9: blaOXA-453 | KN9: blaOXA-460 | KO9: blaOXA-489 | KP9: blaOXA-58 | KQ9: blaOXA-61 | KR9: blaOXA-85 | KS9: blaROB-1 | KT9: blaSHV-12 | KU9: blaSHV-70 | KV9: blaTEM-1A | KW9: blaTEM-1B | KX9: blaTEM-1C | KY9: blaTEM-1D | KZ9: cepA | LA9: cepA-29 | LB9: cepA-44 | LC9: cepA-49 | LD9: cfiA2 | LE9: cfiA4 | LF9: cfxA | LG9: cfxA2 | LH9: cfxA3 | LI9: cfxA4 | LJ9: cfxA5 | LK9: cfxA6 | LL9: cat | LM9: cat(pC194) | LN9: cat(pC221) | LO9: cat(pC233) | LP9: catA1 | LQ9: catA2 | LR9: catA3 | LS9: catB2 | LT9: catB3 | LU9: catP | LV9: catQ | LW9: catS | LX9: cfr | LY9: cfr(C) | LZ9: Cfr(D) | MA9: Cfr(E) | MB9: cmlA1 | MC9: cmx | MD9: fexA | ME9: fexB | MF9: floR | MG9: dfrA1 | MH9: dfrA12 | MI9: dfrA14 | MJ9: dfrA16 | MK9: dfrA17 | ML9: dfrA20 | MM9: dfrA36 | MN9: dfrA5 | MO9: dfrA8 | MP9: dfrD | MQ9: dfrE | MR9: dfrG | MS9: dfrK | MT9: ere(D) | MU9: erm(45) | MV9: erm(47) | MW9: erm(48) | MX9: erm(50) | MY9: erm(A) | MZ9: erm(B) | NA9: erm(C) | NB9: erm(F) | NC9: erm(G) | ND9: erm(N) | NE9: erm(Q) | NF9: erm(T) | NG9: erm(X) | NH9: erm(Y) | NI9: lnu(A) | NJ9: lnu(B) | NK9: lnu(C) | NL9: lnu(F) | NM9: lnu(G) | NN9: lnu(P) | NO9: lsa(A) | NP9: lsa(B) | NQ9: lsa(C) | NR9: lsa(E) | NS9: mdt(A) | NT9: mef(A) | NU9: mef(B) | NV9: mef(C) | NW9: mph(A) | NX9: mph(B) | NY9: mph(C) | NZ9: mph(E) | OA9: mph(F) | OB9: mph(G) | OC9: mph(N) | OD9: msr(A) | OE9: msr(C) | OF9: msr(D) | OG9: msr(E) | OH9: vga(C) | OI9: vga(E) | OJ9: tet(31) | OK9: tet(32) | OL9: tet(33) | OM9: tet(40) | ON9: tet(44) | OO9: tet(45) | OP9: tet(A) | OQ9: tet(B) | OR9: tet(C) | OS9: tet(D) | OT9: tet(G) | OU9: tet(H) | OV9: tet(K) | OW9: tet(L) | OX9: tet(M) | OY9: tet(O) | OZ9: tet(O/32/O) | PA9: tet(O/W) | PB9: tet(O/W)-1 | PC9: tet(O/W)-2 | PD9: tet(O/W/32/O) | PE9: tet(O/W/32/O/W/O) | PF9: tet(O/W/O)-1 | PG9: tet(O/W/O)-2 | PH9: tet(Q) | PI9: tet(S) | PJ9: tet(S/M) | PK9: tet(T) | PL9: tet(W) | PM9: tet(W/32/O) | PN9: tet(X) | PO9: tet(X3) | PP9: tet(X6) | PQ9: tet(Y) | PR9: tet(Z) | PS9: tetA(P) | PT9: tetB(P) | PU9: nimA | PV9: nimB | PW9: nimC | PX9: nimD | PY9: nimH | PZ9: nimJ | QA9: qnrB19 | QB9: qnrB5 | QC9: qnrD1 | QD9: qnrS1 | QE9: OqxA | QF9: qnrS3 | QG9: sul1 | QH9: sul2 | QI9: sul3 | QJ9: VanC1XY | QK9: VanG2XY | QL9: VanGXY | QM9: VanHBX | QN9: VanHDX | QO9: fosA | QP9: fusC | QQ9: mcr-1.1 | QR9: mcr-1.26 | QS9: NarA | QT9: NarB | QU9: optrA | QV9: poxtA | QW9: bleO
A10: ST1 | B10: G1 | C10: 788 | D10: 28459804 | E10: 28725588 | F10: =100-(D10/E10)*100 -> 0.92525173 | G10: 3.8146402 | H10: 0 | I10: 0 | J10: 0 | K10: 0 | L10: 0 | M10: 0 | N10: 0 | O10: 0 | P10: 0 | Q10: 26.85 | R10: 86.59 | S10: 0 | T10: 2.95 | U10: 0 | V10: 0 | W10: 0 | X10: 0 | Y10: 0 | Z10: 0 | AA10: 0 | AB10: 0 | AC10: 0 | AD10: 0 | AE10: 16.97 | AF10: 762.63 | AG10: 19.23 | AH10: 0 | AI10: 0 | AJ10: 22.71 | AK10: 0 | AL10: 34.12 | AM10: 12.79 | AN10: 0 | AO10: 20.82 | AP10: 25.54 | AQ10: 0 | AR10: 15.06 | AS10: 847.06 | AT10: 0 | AU10: 0 | AV10: 21.42 | AW10: 15.53 | AX10: 0 | AY10: 0 | AZ10: 0 | BA10: 25.09 | BB10: 0 | BC10: 0 | BD10: 0 | BE10: 0 | BF10: 0 | BG10: 0 | BH10: 0 | BI10: 0 | BJ10: 0 | BK10: 0 | BL10: 0 | BM10: 0 | BN10: 2.78 | BO10: 0 | BP10: 0 | BQ10: 0 | BR10: 0 | BS10: 0 | BT10: 0 | BU10: 0 | BV10: 0 | BW10: 0 | BX10: 0 | BY10: 20.35 | BZ10: 0 | CA10: 0 | CB10: 155.13 | CC10: 5.36 | CD10: 0 | CE10: 2.61 | CF10: 0 | CG10: 0 | CH10: 0 | CI10: 0 | CJ10: 19.28 | CK10: 90.67 | CL10: 0 | CM10: 0 | CN10: 0 | CO10: 0 | CP10: 0 | CQ10: 0 | CR10: 0 | CS10: 0 | CT10: 0 | CU10: 19.82 | CV10: 0 | CW10: 0 | CX10: 0 | CY10: 0 | CZ10: 0 | DA10: 0 | DB10: 0 | DC10: 0 | DD10: 16.54 | DE10: 0 | DF10: 9.44 | DG10: 0 | DH10: 0 | DI10: 6.32 | DJ10: 0 | DK10: 0 | DL10: 90.6 | DM10: 0 | DN10: 0 | DO10: 0 | DP10: 23.61 | DQ10: 0 | DR10: 0 | DS10: 0 | DT10: 0 | DU10: 0 | DV10: 0 | DW10: 5.61 | DX10: 0 | DY10: 0 | DZ10: 0 | EA10: 2.25 | EB10: 0 | EC10: 0 | ED10: 0 | EE10: 1672.56 | EF10: 0 | EG10: 75.57 | EH10: 1003.66 | EI10: 39.13 | EJ10: 0 | EK10: 0 | EL10: 0 | EM10: 0 | EN10: 115.19 | EO10: 40.31 | EP10: 136.59 | EQ10: 3.02 | ER10: 3.57 | ES10: 0 | ET10: 0 | EU10: 0 | EV10: 0 | EW10: 36.43 | EX10: 0 | EY10: 68.79 | EZ10: 0 | FA10: 190.4 | FB10: 104.41 | FC10: 0 | FD10: 0 | FE10: 0 | FF10: 0 | FG10: 185.75 | FH10: 0 | FI10: 0 | FJ10: 0 | FK10: 0 | FL10: 0 | FM10: 0 | FN10: 0 | FO10: 0 | FP10: 0 | FQ10: 0 | FR10: 405.54 | FS10: 25.34 | FT10: 10.75 | FU10: 124.95 | FV10: 4.36 | FW10: 15.36 | FX10: 0 | FY10: 0 | FZ10: 0 | GA10: 0 | GB10: 92.6 | GC10: 41.7 | GD10: 130.78 | GE10: 0 | GF10: 910.49 | GG10: 0 | GH10: 128.6 | GI10: 0 | GJ10: 0 | GK10: 0 | GL10: 0 | GM10: 626.09 | GN10: 0 | GO10: 0 | GP10: 0 | GQ10: 940.51 | GR10: 65.75 | GS10: 59.13 | GT10: 0 | GU10: 0 | GV10: 0 | GW10: 0 | GX10: 0 | GY10: 0 | GZ10: 0 | HA10: 0 | HB10: 0 | HC10: 0 | HD10: 0 | HE10: 0 | HF10: 28.71 | HG10: 0 | HH10: 0 | HI10: 14.03 | HJ10: 0 | HK10: 0 | HL10: 30.4 | HM10: 62.1 | HN10: 13.43 | HO10: 0 | HP10: 0 | HQ10: 0 | HR10: 0 | HS10: 0 | HT10: 0 | HU10: 0 | HV10: 0 | HW10: 0 | HX10: 0 | HY10: 0 | HZ10: 0 | IA10: 0 | IB10: 0 | IC10: =(H10/$D10)*1000000 -> 0 | ID10: =(I10/$D10)*1000000 -> 0 | IE10: =(J10/$D10)*1000000 -> 0 | IF10: =(K10/$D10)*1000000 -> 0 | IG10: =(L10/$D10)*1000000 -> 0 | IH10: =(M10/$D10)*1000000 -> 0 | II10: =(N10/$D10)*1000000 -> 0 | IJ10: =(O10/$D10)*1000000 -> 0 | ... QW10: =(IB10/$D10)*1000000 -> 0
C11: 806 | D11: 23885517 | E11: 24922818 | F11: =100-(D11/E11)*100 -> 4.1620534 | G11: 3.7743809 | H11: 0 | I11: 0 | J11: 0 | K11: 0 | L11: 0 | M11: 0 | N11: 0 | O11: 0 | P11: 0 | Q11: 33.23 | R11: 32.12 | S11: 0 | T11: 10.52 | U11: 0 | V11: 3.62 | W11: 0 | X11: 0 | Y11: 0 | Z11: 0 | AA11: 0 | AB11: 0 | AC11: 0 | AD11: 17.35 | AE11: 0 | AF11: 362.33 | AG11: 0 | AH11: 0 | AI11: 0 | AJ11: 24.32 | AK11: 0 | AL11: 0 | AM11: 4.2 | AN11: 0 | AO11: 9.01 | AP11: 0 | AQ11: 0 | AR11: 0 | AS11: 131.94 | AT11: 0 | AU11: 0 | AV11: 8.46 | AW11: 13.99 | AX11: 0 | AY11: 0 | AZ11: 0 | BA11: 24.36 | BB11: 0 | BC11: 0 | BD11: 0 | BE11: 0 | BF11: 0 | BG11: 0 | BH11: 0 | BI11: 0 | BJ11: 0 | BK11: 0 | BL11: 0 | BM11: 2.91 | BN11: 9.65 | BO11: 0 | BP11: 21.63 | BQ11: 0 | BR11: 0 | BS11: 0 | BT11: 0 | BU11: 0 | BV11: 0 | BW11: 0 | BX11: 0 | BY11: 0 | BZ11: 0 | CA11: 0 | CB11: 110.18 | CC11: 0 | CD11: 0 | CE11: 30.62 | CF11: 0 | CG11: 0 | CH11: 0 | CI11: 0 | CJ11: 0 | CK11: 0 | CL11: 0 | CM11: 59.43 | CN11: 0 | CO11: 0 | CP11: 0 | CQ11: 0 | CR11: 0 | CS11: 0 | CT11: 0 | CU11: 7.47 | CV11: 0 | CW11: 0 | CX11: 0 | CY11: 0 | CZ11: 0 | DA11: 0 | DB11: 0 | DC11: 0 | DD11: 0 | DE11: 0 | DF11: 0 | DG11: 5.09 | DH11: 0 | DI11: 0 | DJ11: 0 | DK11: 3.9 | DL11: 27.28 | DM11: 3.18 | DN11: 0 | DO11: 0 | DP11: 0 | DQ11: 0 | DR11: 0 | DS11: 2.72 | DT11: 0 | DU11: 0 | DV11: 0 | DW11: 0 | DX11: 0 | DY11: 0 | DZ11: 0 | EA11: 0 | EB11: 0 | EC11: 0 | ED11: 0 | EE11: 299.34 | EF11: 0 | EG11: 985.1 | EH11: 765.78 | EI11: 0 | EJ11: 3.41 | EK11: 0 | EL11: 0 | EM11: 0 | EN11: 1.15 | EO11: 30.71 | EP11: 501.6 | EQ11: 0 | ER11: 0 | ES11: 0 | ET11: 0 | EU11: 0 | EV11: 0 | EW11: 29.59 | EX11: 0 | EY11: 191.4 | EZ11: 0 | FA11: 65.62 | FB11: 25.14 | FC11: 0 | FD11: 0 | FE11: 0 | FF11: 0 | FG11: 70.88 | FH11: 0 | FI11: 0 | FJ11: 0 | FK11: 24.85 | FL11: 0 | FM11: 0 | FN11: 0 | FO11: 0 | FP11: 9.44 | FQ11: 0 | FR11: 343.53 | FS11: 35.97 | FT11: 0 | FU11: 27.14 | FV11: 0 | FW11: 0 | FX11: 0 | FY11: 0 | FZ11: 0 | GA11: 0 | GB11: 0 | GC11: 12.44 | GD11: 63.34 | GE11: 0 | GF11: 140.45 | GG11: 22.59 | GH11: 0 | GI11: 0 | GJ11: 0 | GK11: 0 | GL11: 0 | GM11: 1291.83 | GN11: 0 | GO11: 0 | GP11: 0 | GQ11: 602.31 | GR11: 0 | GS11: 77.74 | GT11: 0 | GU11: 0 | GV11: 0 | GW11: 0 | GX11: 0 | GY11: 0 | GZ11: 0 | HA11: 0 | HB11: 0 | HC11: 0 | HD11: 0 | HE11: 0 | HF11: 30.57 | HG11: 0 | HH11: 0 | HI11: 67.86 | HJ11: 0 | HK11: 0 | HL11: 8.06 | HM11: 17.36 | HN11: 20.33 | HO11: 0 | HP11: 0 | HQ11: 0 | HR11: 0 | HS11: 0 | HT11: 0 | HU11: 0 | HV11: 0 | HW11: 0 | HX11: 0 | HY11: 0 | HZ11: 0 | IA11: 0 | IB11: 0 | IC11: =(H11/$D11)*1000000 -> 0 | ID11: =(I11/$D11)*1000000 -> 0 | IE11: =(J11/$D11)*1000000 -> 0 | IF11: =(K11/$D11)*1000000 -> 0 | IG11: =(L11/$D11)*1000000 -> 0 | IH11: =(M11/$D11)*1000000 -> 0 | II11: =(N11/$D11)*1000000 -> 0 | IJ11: =(O11/$D11)*1000000 -> 0 | ... QW11: =(IB11/$D11)*1000000 -> 0
C12: 807 | D12: 15523730 | E12: 28688409 | F12: =100-(D12/E12)*100 -> 45.888495 | G12: 4.0390087 | H12: 0 | I12: 0 | J12: 0 | K12: 0 | L12: 0 | M12: 0 | N12: 0 | O12: 0 | P12: 0 | Q12: 52.74 | R12: 28.81 | S12: 0 | T12: 7.72 | U12: 0 | V12: 0 | W12: 0 | X12: 0 | Y12: 0 | Z12: 0 | AA12: 0 | AB12: 0 | AC12: 0 | AD12: 0 | AE12: 0 | AF12: 344.63 | AG12: 19.87 | AH12: 0 | AI12: 0 | AJ12: 29.13 | AK12: 0 | AL12: 5.17 | AM12: 7.59 | AN12: 0 | AO12: 9.79 | AP12: 0 | AQ12: 0 | AR12: 0 | AS12: 221.16 | AT12: 0 | AU12: 0 | AV12: 7.41 | AW12: 0 | AX12: 0 | AY12: 0 | AZ12: 0 | BA12: 4.62 | BB12: 0 | BC12: 0 | BD12: 0 | BE12: 0 | BF12: 0 | BG12: 0 | BH12: 0 | BI12: 0 | BJ12: 0 | BK12: 0 | BL12: 0 | BM12: 0 | BN12: 0 | BO12: 0 | BP12: 0 | BQ12: 0 | BR12: 0 | BS12: 0 | BT12: 0 | BU12: 0 | BV12: 0 | BW12: 0 | BX12: 0 | BY12: 0 | BZ12: 0 | CA12: 0 | CB12: 104.96 | CC12: 0 | CD12: 0 | CE12: 0 | CF12: 0 | CG12: 0 | CH12: 0 | CI12: 0 | CJ12: 0 | CK12: 0 | CL12: 0 | CM12: 18.97 | CN12: 0 | CO12: 0 | CP12: 3.96 | CQ12: 0 | CR12: 0 | CS12: 0 | CT12: 0 | CU12: 0 | CV12: 0 | CW12: 0 | CX12: 0 | CY12: 0 | CZ12: 0 | DA12: 0 | DB12: 0 | DC12: 0 | DD12: 0 | DE12: 0 | DF12: 6.2 | DG12: 0 | DH12: 0 | DI12: 0 | DJ12: 0 | DK12: 0 | DL12: 34.54 | DM12: 0 | DN12: 0 | DO12: 0 | DP12: 0 | DQ12: 0 | DR12: 0 | DS12: 0 | DT12: 0 | DU12: 0 | DV12: 0 | DW12: 0 | DX12: 0 | DY12: 0 | DZ12: 0 | EA12: 0 | EB12: 0 | EC12: 0 | ED12: 0 | EE12: 228.19 | EF12: 0 | EG12: 394.02 | EH12: 114.06 | EI12: 0 | EJ12: 3.63 | EK12: 6.14 | EL12: 0 | EM12: 0 | EN12: 0 | EO12: 0 | EP12: 290.98 | EQ12: 0 | ER12: 0 | ES12: 5.8 | ET12: 0 | EU12: 0 | EV12: 0 | EW12: 0 | EX12: 0 | EY12: 175.09 | EZ12: 0 | FA12: 63.85 | FB12: 49.04 | FC12: 0 | FD12: 0 | FE12: 0 | FF12: 0 | FG12: 62.88 | FH12: 0 | FI12: 0 | FJ12: 0 | FK12: 0 | FL12: 0 | FM12: 0 | FN12: 0 | FO12: 0 | FP12: 0 | FQ12: 0 | FR12: 372.85 | FS12: 39.53 | FT12: 0 | FU12: 32.81 | FV12: 0 | FW12: 32.32 | FX12: 0 | FY12: 0 | FZ12: 0 | GA12: 0 | GB12: 0 | GC12: 5.3 | GD12: 11.68 | GE12: 61.38 | GF12: 98.46 | GG12: 43.65 | GH12: 0 | GI12: 0 | GJ12: 0 | GK12: 0 | GL12: 0 | GM12: 665.57 | GN12: 0 | GO12: 0 | GP12: 0 | GQ12: 505.71 | GR12: 73.78 | GS12: 3.51 | GT12: 0 | GU12: 0 | GV12: 0 | GW12: 0 | GX12: 9.34 | GY12: 3.87 | GZ12: 0 | HA12: 0 | HB12: 0 | HC12: 0 | HD12: 0 | HE12: 0 | HF12: 4.25 | HG12: 0 | HH12: 0 | HI12: 50.74 | HJ12: 0 | HK12: 0 | HL12: 31.39 | HM12: 22.29 | HN12: 6.23 | HO12: 0 | HP12: 0 | HQ12: 0 | HR12: 0 | HS12: 0 | HT12: 0 | HU12: 0 | HV12: 0 | HW12: 0 | HX12: 0 | HY12: 0 | HZ12: 0 | IA12: 0 | IB12: 0 | IC12: =(H12/$D12)*1000000 -> 0 | ID12: =(I12/$D12)*1000000 -> 0 | IE12: =(J12/$D12)*1000000 -> 0 | IF12: =(K12/$D12)*1000000 -> 0 | IG12: =(L12/$D12)*1000000 -> 0 | IH12: =(M12/$D12)*1000000 -> 0 | II12: =(N12/$D12)*1000000 -> 0 | IJ12: =(O12/$D12)*1000000 -> 0 | ... QW12: =(IB12/$D12)*1000000 -> 0
C13: 819 | D13: 19731025 | E13: 24926062 | F13: =100-(D13/E13)*100 -> 20.841788 | G13: 3.5130305 | H13: 0 | I13: 0 | J13: 0 | K13: 0 | L13: 0 | M13: 0 | N13: 0 | O13: 0 | P13: 0 | Q13: 61.01 | R13: 0 | S13: 0 | T13: 0 | U13: 0 | V13: 6.19 | W13: 0 | X13: 0 | Y13: 0 | Z13: 0 | AA13: 0 | AB13: 0 | AC13: 0 | AD13: 0 | AE13: 8.74 | AF13: 884.87 | AG13: 173.37 | AH13: 0 | AI13: 0 | AJ13: 52.91 | AK13: 0 | AL13: 161.73 | AM13: 12.94 | AN13: 0 | AO13: 221 | AP13: 11.74 | AQ13: 0 | AR13: 0 | AS13: 389.98 | AT13: 0 | AU13: 0 | AV13: 239.85 | AW13: 3.17 | AX13: 0 | AY13: 0 | AZ13: 0 | BA13: 3.72 | BB13: 0 | BC13: 0 | BD13: 0 | BE13: 0 | BF13: 0 | BG13: 0 | BH13: 0 | BI13: 0 | BJ13: 0 | BK13: 0 | BL13: 0 | BM13: 0 | BN13: 0 | BO13: 0 | BP13: 0 | BQ13: 0 | BR13: 0 | BS13: 0 | BT13: 0 | BU13: 0 | BV13: 0 | BW13: 0 | BX13: 2.46 | BY13: 0 | BZ13: 0 | CA13: 4.25 | CB13: 22.49 | CC13: 0 | CD13: 0 | CE13: 0 | CF13: 0 | CG13: 0 | CH13: 118.55 | CI13: 0 | CJ13: 0 | CK13: 0 | CL13: 0 | CM13: 0 | CN13: 0 | CO13: 23.78 | CP13: 10.66 | CQ13: 0 | CR13: 0 | CS13: 0 | CT13: 0 | CU13: 0 | CV13: 0 | CW13: 0 | CX13: 0 | CY13: 0 | CZ13: 0 | DA13: 0 | DB13: 0 | DC13: 0 | DD13: 0 | DE13: 0 | DF13: 6.02 | DG13: 1.94 | DH13: 0 | DI13: 0 | DJ13: 0 | DK13: 0 | DL13: 7.78 | DM13: 0 | DN13: 0 | DO13: 0 | DP13: 21.16 | DQ13: 0 | DR13: 0 | DS13: 0 | DT13: 0 | DU13: 0 | DV13: 0 | DW13: 0 | DX13: 0 | DY13: 0 | DZ13: 0 | EA13: 0 | EB13: 0 | EC13: 0 | ED13: 0 | EE13: 964.95 | EF13: 0 | EG13: 193.84 | EH13: 178.47 | EI13: 19.85 | EJ13: 6.43 | EK13: 14.77 | EL13: 0 | EM13: 0 | EN13: 13.66 | EO13: 0 | EP13: 803.42 | EQ13: 2.12 | ER13: 3.18 | ES13: 12.99 | ET13: 0 | EU13: 0 | EV13: 0 | EW13: 0 | EX13: 0 | EY13: 56.43 | EZ13: 0 | FA13: 21.11 | FB13: 2.24 | FC13: 0 | FD13: 0 | FE13: 0 | FF13: 0 | FG13: 26.11 | FH13: 0 | FI13: 0 | FJ13: 0 | FK13: 4.12 | FL13: 0 | FM13: 0 | FN13: 0 | FO13: 0 | FP13: 20.38 | FQ13: 0 | FR13: 342.31 | FS13: 253.54 | FT13: 0 | FU13: 30.88 | FV13: 3.32 | FW13: 0 | FX13: 0 | FY13: 0 | FZ13: 0 | GA13: 0 | GB13: 0 | GC13: 9.46 | GD13: 43.67 | GE13: 44.19 | GF13: 88.93 | GG13: 0 | GH13: 34.82 | GI13: 0 | GJ13: 0 | GK13: 0 | GL13: 0 | GM13: 249.85 | GN13: 0 | GO13: 0 | GP13: 0 | GQ13: 1410.73 | GR13: 93.44 | GS13: 22.55 | GT13: 0 | GU13: 0 | GV13: 0 | GW13: 0 | GX13: 16.92 | GY13: 7.15 | GZ13: 0 | HA13: 0 | HB13: 0 | HC13: 0 | HD13: 0 | HE13: 0 | HF13: 16.15 | HG13: 0 | HH13: 0 | HI13: 5.47 | HJ13: 0 | HK13: 0 | HL13: 4.7 | HM13: 304.86 | HN13: 11.24 | HO13: 0 | HP13: 0 | HQ13: 0 | HR13: 2.35 | HS13: 0 | HT13: 0 | HU13: 0 | HV13: 0 | HW13: 0 | HX13: 0 | HY13: 0 | HZ13: 0 | IA13: 0 | IB13: 0 | IC13: =(H13/$D13)*1000000 -> 0 | ID13: =(I13/$D13)*1000000 -> 0 | IE13: =(J13/$D13)*1000000 -> 0 | IF13: =(K13/$D13)*1000000 -> 0 | IG13: =(L13/$D13)*1000000 -> 0 | IH13: =(M13/$D13)*1000000 -> 0 | II13: =(N13/$D13)*1000000 -> 0 | IJ13: =(O13/$D13)*1000000 -> 0 | ... QW13: =(IB13/$D13)*1000000 -> 0
C14: 825 | D14: 21865821 | E14: 29071279 | F14: =100-(D14/E14)*100 -> 24.785487 | G14: 3.9045015 | H14: 0 | I14: 0 | J14: 0 | K14: 0 | L14: 0 | M14: 0 | N14: 0 | O14: 0 | P14: 0 | Q14: 44.71 | R14: 0 | S14: 0 | T14: 0 | U14: 0 | V14: 0 | W14: 0 | X14: 0 | Y14: 0 | Z14: 0 | AA14: 0 | AB14: 0 | AC14: 0 | AD14: 0 | AE14: 0 | AF14: 491.52 | AG14: 11.01 | AH14: 0 | AI14: 0 | AJ14: 25.36 | AK14: 0 | AL14: 7.72 | AM14: 7.73 | AN14: 0 | AO14: 4.46 | AP14: 1.03 | AQ14: 0 | AR14: 0 | AS14: 481.34 | AT14: 0 | AU14: 0 | AV14: 3.97 | AW14: 0 | AX14: 0 | AY14: 0 | AZ14: 0 | BA14: 17.72 | BB14: 0 | BC14: 0 | BD14: 0 | BE14: 0 | BF14: 0 | BG14: 0 | BH14: 0 | BI14: 0 | BJ14: 0 | BK14: 0 | BL14: 0 | BM14: 0 | BN14: 0 | BO14: 4.02 | BP14: 0 | BQ14: 0 | BR14: 0 | BS14: 0 | BT14: 0 | BU14: 0 | BV14: 0 | BW14: 0 | BX14: 0 | BY14: 0 | BZ14: 0 | CA14: 0 | CB14: 10.71 | CC14: 0 | CD14: 0 | CE14: 0 | CF14: 0 | CG14: 0 | CH14: 0 | CI14: 0 | CJ14: 0 | CK14: 125.48 | CL14: 0 | CM14: 0 | CN14: 0 | CO14: 0 | CP14: 23.31 | CQ14: 0 | CR14: 0 | CS14: 0 | CT14: 0 | CU14: 1.97 | CV14: 0 | CW14: 0 | CX14: 0 | CY14: 0 | CZ14: 0 | DA14: 0 | DB14: 0 | DC14: 0 | DD14: 0 | DE14: 0 | DF14: 5.1 | DG14: 0 | DH14: 0 | DI14: 0 | DJ14: 0 | DK14: 0 | DL14: 4.39 | DM14: 0 | DN14: 0 | DO14: 0 | DP14: 30.78 | DQ14: 0 | DR14: 0 | DS14: 0 | DT14: 0 | DU14: 0 | DV14: 0 | DW14: 0 | DX14: 0 | DY14: 0 | DZ14: 0 | EA14: 0 | EB14: 0 | EC14: 0 | ED14: 0 | EE14: 355.57 | EF14: 0 | EG14: 114.47 | EH14: 242.79 | EI14: 45.12 | EJ14: 19.34 | EK14: 56.09 | EL14: 0 | EM14: 0 | EN14: 0 | EO14: 0 | EP14: 557.11 | EQ14: 0 | ER14: 0 | ES14: 4.22 | ET14: 0 | EU14: 0 | EV14: 0 | EW14: 0 | EX14: 0 | EY14: 154.98 | EZ14: 0 | FA14: 58.4 | FB14: 4.38 | FC14: 0 | FD14: 0 | FE14: 0 | FF14: 0 | FG14: 58.69 | FH14: 0 | FI14: 0 | FJ14: 0 | FK14: 11.48 | FL14: 0 | FM14: 0 | FN14: 0 | FO14: 0 | FP14: 0 | FQ14: 0 | FR14: 385.41 | FS14: 14.55 | FT14: 0 | FU14: 64.96 | FV14: 0 | FW14: 0 | FX14: 0 | FY14: 0 | FZ14: 0 | GA14: 0 | GB14: 0 | GC14: 0 | GD14: 28.06 | GE14: 28.49 | GF14: 104.6 | GG14: 98.91 | GH14: 0 | GI14: 0 | GJ14: 0 | GK14: 0 | GL14: 0 | GM14: 749.41 | GN14: 0 | GO14: 0 | GP14: 0 | GQ14: 1173.05 | GR14: 117.29 | GS14: 72.95 | GT14: 0 | GU14: 0 | GV14: 0 | GW14: 0 | GX14: 23.24 | GY14: 25.73 | GZ14: 0 | HA14: 0 | HB14: 0 | HC14: 0 | HD14: 0 | HE14: 0 | HF14: 176.32 | HG14: 0 | HH14: 0 | HI14: 2.39 | HJ14: 0 | HK14: 0 | HL14: 4.35 | HM14: 76.3 | HN14: 0 | HO14: 0 | HP14: 0 | HQ14: 0 | HR14: 0 | HS14: 0 | HT14: 0 | HU14: 0 | HV14: 0 | HW14: 0 | HX14: 0 | HY14: 0 | HZ14: 0 | IA14: 0 | IB14: 0 | IC14: =(H14/$D14)*1000000 -> 0 | ID14: =(I14/$D14)*1000000 -> 0 | IE14: =(J14/$D14)*1000000 -> 0 | IF14: =(K14/$D14)*1000000 -> 0 | IG14: =(L14/$D14)*1000000 -> 0 | IH14: =(M14/$D14)*1000000 -> 0 | II14: =(N14/$D14)*1000000 -> 0 | IJ14: =(O14/$D14)*1000000 -> 0 | ... QW14: =(IB14/$D14)*1000000 -> 0
C15: 831 | D15: 27087232 | E15: 27705645 | F15: =100-(D15/E15)*100 -> 2.232083 | G15: 3.6570809 | H15: 0 | I15: 0 | J15: 0 | K15: 0 | L15: 0 | M15: 0 | N15: 0 | O15: 0 | P15: 0 | Q15: 545.09 | R15: 19.31 | S15: 0 | T15: 0 | U15: 6.46 | V15: 0 | W15: 0 | X15: 0 | Y15: 0 | Z15: 0 | AA15: 0 | AB15: 0 | AC15: 0 | AD15: 0 | AE15: 0 | AF15: 790.96 | AG15: 64.13 | AH15: 1 | AI15: 0 | AJ15: 531.61 | AK15: 5.59 | AL15: 47.54 | AM15: 0 | AN15: 0 | AO15: 215.31 | AP15: 0 | AQ15: 5.28 | AR15: 0 | AS15: 547.07 | AT15: 0 | AU15: 0 | AV15: 213.47 | AW15: 15.32 | AX15: 0 | AY15: 0 | AZ15: 0 | BA15: 6.16 | BB15: 0 | BC15: 0 | BD15: 0 | BE15: 0 | BF15: 0 | BG15: 0 | BH15: 0 | BI15: 0 | BJ15: 0 | BK15: 0 | BL15: 0 | BM15: 0 | BN15: 0 | BO15: 0 | BP15: 0 | BQ15: 0 | BR15: 0 | BS15: 0 | BT15: 0 | BU15: 0 | BV15: 0 | BW15: 2.82 | BX15: 0 | BY15: 0 | BZ15: 0 | CA15: 0 | CB15: 114.15 | CC15: 0 | CD15: 0 | CE15: 34.6 | CF15: 0 | CG15: 0 | CH15: 0 | CI15: 0 | CJ15: 0 | CK15: 29.86 | CL15: 0 | CM15: 0 | CN15: 0 | CO15: 0 | CP15: 0 | CQ15: 0 | CR15: 0 | CS15: 0 | CT15: 0 | CU15: 0 | CV15: 0 | CW15: 0 | CX15: 0 | CY15: 0 | CZ15: 0 | DA15: 0 | DB15: 0 | DC15: 0 | DD15: 11.64 | DE15: 0 | DF15: 19.59 | DG15: 0 | DH15: 9.02 | DI15: 0 | DJ15: 0 | DK15: 0 | DL15: 16.59 | DM15: 0 | DN15: 0 | DO15: 0 | DP15: 0 | DQ15: 0 | DR15: 0 | DS15: 0 | DT15: 0 | DU15: 0 | DV15: 0 | DW15: 0 | DX15: 0 | DY15: 0 | DZ15: 0 | EA15: 0 | EB15: 0 | EC15: 0 | ED15: 0 | EE15: 1683.38 | EF15: 0 | EG15: 239.48 | EH15: 320.26 | EI15: 0 | EJ15: 3.02 | EK15: 15.16 | EL15: 5.27 | EM15: 0 | EN15: 44.93 | EO15: 0 | EP15: 193.04 | EQ15: 0 | ER15: 0 | ES15: 6.74 | ET15: 0 | EU15: 0 | EV15: 0 | EW15: 0 | EX15: 0 | EY15: 71.38 | EZ15: 0 | FA15: 77.69 | FB15: 38.13 | FC15: 0 | FD15: 0 | FE15: 0 | FF15: 0 | FG15: 66.87 | FH15: 0 | FI15: 0 | FJ15: 0 | FK15: 13.56 | FL15: 0 | FM15: 0 | FN15: 0 | FO15: 0 | FP15: 20.11 | FQ15: 2.27 | FR15: 441.95 | FS15: 40.76 | FT15: 0 | FU15: 23.69 | FV15: 12.34 | FW15: 0 | FX15: 0 | FY15: 1.42 | FZ15: 0 | GA15: 0 | GB15: 0 | GC15: 24.09 | GD15: 157.87 | GE15: 42.21 | GF15: 205.92 | GG15: 112.9 | GH15: 0 | GI15: 0 | GJ15: 0 | GK15: 0 | GL15: 0 | GM15: 402.7 | GN15: 0 | GO15: 0 | GP15: 0 | GQ15: 1637.21 | GR15: 230.96 | GS15: 103.33 | GT15: 0 | GU15: 0 | GV15: 0 | GW15: 6.79 | GX15: 3.71 | GY15: 5.75 | GZ15: 0 | HA15: 0 | HB15: 0 | HC15: 1.92 | HD15: 0 | HE15: 0 | HF15: 0 | HG15: 0 | HH15: 0 | HI15: 54.19 | HJ15: 0 | HK15: 0 | HL15: 8.84 | HM15: 232.65 | HN15: 0 | HO15: 0 | HP15: 0 | HQ15: 0 | HR15: 0 | HS15: 5.81 | HT15: 0 | HU15: 0 | HV15: 0 | HW15: 0 | HX15: 0 | HY15: 0 | HZ15: 0 | IA15: 0 | IB15: 0 | IC15: =(H15/$D15)*1000000 -> 0 | ID15: =(I15/$D15)*1000000 -> 0 | IE15: =(J15/$D15)*1000000 -> 0 | IF15: =(K15/$D15)*1000000 -> 0 | IG15: =(L15/$D15)*1000000 -> 0 | IH15: =(M15/$D15)*1000000 -> 0 | II15: =(N15/$D15)*1000000 -> 0 | IJ15: =(O15/$D15)*1000000 -> 0 | ... QW15: =(IB15/$D15)*1000000 -> 0
C16: 882 | D16: 24329220 | E16: 24693484 | F16: =100-(D16/E16)*100 -> 1.4751422 | G16: 3.84224 | H16: 0 | I16: 0 | J16: 0 | K16: 0 | L16: 0 | M16: 0 | N16: 0 | O16: 0 | P16: 0 | Q16: 85.19 | R16: 6.75 | S16: 0 | T16: 0 | U16: 0 | V16: 4.32 | W16: 0 | X16: 0 | Y16: 0 | Z16: 0 | AA16: 0 | AB16: 0 | AC16: 0 | AD16: 25.08 | AE16: 34.15 | AF16: 865.5 | AG16: 253.18 | AH16: 0 | AI16: 0 | AJ16: 89.88 | AK16: 0 | AL16: 140.64 | AM16: 0 | AN16: 0 | AO16: 8.44 | AP16: 16.41 | AQ16: 0 | AR16: 0 | AS16: 2046.42 | AT16: 0 | AU16: 0 | AV16: 10.68 | AW16: 2.94 | AX16: 0 | AY16: 0 | AZ16: 0 | BA16: 7.66 | BB16: 0 | BC16: 0 | BD16: 0 | BE16: 0 | BF16: 0 | BG16: 0 | BH16: 0 | BI16: 0 | BJ16: 0 | BK16: 0 | BL16: 0 | BM16: 0 | BN16: 0 | BO16: 0 | BP16: 13.82 | BQ16: 0 | BR16: 0 | BS16: 0 | BT16: 0 | BU16: 0 | BV16: 0 | BW16: 0 | BX16: 2.66 | BY16: 0 | BZ16: 0 | CA16: 0 | CB16: 65.21 | CC16: 0 | CD16: 0 | CE16: 0 | CF16: 0 | CG16: 0 | CH16: 0 | CI16: 0 | CJ16: 30.85 | CK16: 0 | CL16: 0 | CM16: 52.74 | CN16: 0 | CO16: 0 | CP16: 0 | CQ16: 0 | CR16: 0 | CS16: 0 | CT16: 0 | CU16: 0 | CV16: 0 | CW16: 0 | CX16: 2.62 | CY16: 0 | CZ16: 0 | DA16: 0 | DB16: 0 | DC16: 0 | DD16: 0 | DE16: 0 | DF16: 13.71 | DG16: 0 | DH16: 0 | DI16: 0 | DJ16: 0 | DK16: 0 | DL16: 29.68 | DM16: 2.9 | DN16: 0 | DO16: 0 | DP16: 26.59 | DQ16: 0 | DR16: 0 | DS16: 12.21 | DT16: 0 | DU16: 0 | DV16: 0 | DW16: 0 | DX16: 0 | DY16: 0 | DZ16: 0 | EA16: 0 | EB16: 0 | EC16: 0 | ED16: 0 | EE16: 692.73 | EF16: 0 | EG16: 1179.93 | EH16: 518.69 | EI16: 40.36 | EJ16: 8.32 | EK16: 33.05 | EL16: 0 | EM16: 0 | EN16: 4.79 | EO16: 0 | EP16: 430.76 | EQ16: 4.17 | ER16: 8.41 | ES16: 23.66 | ET16: 0 | EU16: 0 | EV16: 0 | EW16: 0 | EX16: 0 | EY16: 543.89 | EZ16: 0 | FA16: 82.13 | FB16: 7.27 | FC16: 2.88 | FD16: 0 | FE16: 0 | FF16: 0 | FG16: 85.92 | FH16: 0 | FI16: 0 | FJ16: 0 | FK16: 0 | FL16: 0 | FM16: 0 | FN16: 0 | FO16: 0 | FP16: 15.92 | FQ16: 0 | FR16: 286.14 | FS16: 246.39 | FT16: 0 | FU16: 101.7 | FV16: 18.47 | FW16: 2.17 | FX16: 0 | FY16: 0 | FZ16: 0 | GA16: 0 | GB16: 0 | GC16: 3.34 | GD16: 54.91 | GE16: 0 | GF16: 119.88 | GG16: 55.14 | GH16: 0 | GI16: 0 | GJ16: 0 | GK16: 0 | GL16: 0 | GM16: 2443.54 | GN16: 0 | GO16: 0 | GP16: 0 | GQ16: 940.96 | GR16: 138.37 | GS16: 53.65 | GT16: 0 | GU16: 0 | GV16: 0 | GW16: 0 | GX16: 17.66 | GY16: 6.58 | GZ16: 0 | HA16: 0 | HB16: 0 | HC16: 13.08 | HD16: 0 | HE16: 0 | HF16: 95.21 | HG16: 0 | HH16: 0 | HI16: 3.42 | HJ16: 0 | HK16: 0 | HL16: 6.48 | HM16: 136.45 | HN16: 35.82 | HO16: 0 | HP16: 0 | HQ16: 0 | HR16: 0 | HS16: 0 | HT16: 0 | HU16: 0 | HV16: 0 | HW16: 0 | HX16: 0 | HY16: 0 | HZ16: 0 | IA16: 0 | IB16: 0 | IC16: =(H16/$D16)*1000000 -> 0 | ID16: =(I16/$D16)*1000000 -> 0 | IE16: =(J16/$D16)*1000000 -> 0 | IF16: =(K16/$D16)*1000000 -> 0 | IG16: =(L16/$D16)*1000000 -> 0 | IH16: =(M16/$D16)*1000000 -> 0 | II16: =(N16/$D16)*1000000 -> 0 | IJ16: =(O16/$D16)*1000000 -> 0 | ... QW16: =(IB16/$D16)*1000000 -> 0
C17: 900 | D17: 25373610 | E17: 28395378 | F17: =100-(D17/E17)*100 -> 10.64176 | G17: 3.3378783 | H17: 0 | I17: 0 | J17: 0 | K17: 3.52 | L17: 0 | M17: 0 | N17: 0 | O17: 0 | P17: 0 | Q17: 60.01 | R17: 0 | S17: 0 | T17: 145.89 | U17: 0 | V17: 0 | W17: 0 | X17: 0 | Y17: 0 | Z17: 0 | AA17: 0 | AB17: 0 | AC17: 0 | AD17: 0 | AE17: 30.38 | AF17: 354.12 | AG17: 0 | AH17: 0 | AI17: 0 | AJ17: 34.57 | AK17: 0 | AL17: 55.28 | AM17: 18.47 | AN17: 0 | AO17: 8.47 | AP17: 5.97 | AQ17: 0 | AR17: 0 | AS17: 365.6 | AT17: 0 | AU17: 3.27 | AV17: 13.41 | AW17: 0 | AX17: 0 | AY17: 0 | AZ17: 0 | BA17: 15.18 | BB17: 0 | BC17: 0 | BD17: 0 | BE17: 0 | BF17: 0 | BG17: 0 | BH17: 0 | BI17: 0 | BJ17: 0 | BK17: 0 | BL17: 0 | BM17: 0 | BN17: 0 | BO17: 0 | BP17: 0 | BQ17: 0 | BR17: 0 | BS17: 0 | BT17: 0 | BU17: 0 | BV17: 0 | BW17: 4.54 | BX17: 2.94 | BY17: 0 | BZ17: 0 | CA17: 0 | CB17: 17.24 | CC17: 0 | CD17: 0 | CE17: 6.52 | CF17: 0 | CG17: 0 | CH17: 0 | CI17: 0 | CJ17: 0 | CK17: 132.81 | CL17: 0 | CM17: 0 | CN17: 0 | CO17: 0 | CP17: 0 | CQ17: 0 | CR17: 0 | CS17: 0 | CT17: 0 | CU17: 2.15 | CV17: 0 | CW17: 0 | CX17: 0 | CY17: 0 | CZ17: 0 | DA17: 0 | DB17: 0 | DC17: 0 | DD17: 0 | DE17: 0 | DF17: 0 | DG17: 0 | DH17: 0 | DI17: 0 | DJ17: 0 | DK17: 3.21 | DL17: 9.66 | DM17: 0 | DN17: 3.16 | DO17: 0 | DP17: 0 | DQ17: 0 | DR17: 0 | DS17: 0 | DT17: 0 | DU17: 0 | DV17: 0 | DW17: 0 | DX17: 0 | DY17: 0 | DZ17: 0 | EA17: 0 | EB17: 0 | EC17: 0 | ED17: 0 | EE17: 1378.33 | EF17: 2.24 | EG17: 205.4 | EH17: 100.88 | EI17: 0 | EJ17: 0 | EK17: 0 | EL17: 0 | EM17: 0 | EN17: 1.47 | EO17: 0 | EP17: 249.19 | EQ17: 0 | ER17: 0 | ES17: 0 | ET17: 0 | EU17: 0 | EV17: 0 | EW17: 2.98 | EX17: 0 | EY17: 376.56 | EZ17: 0 | FA17: 16.09 | FB17: 7.01 | FC17: 0 | FD17: 0 | FE17: 2.16 | FF17: 0 | FG17: 15.93 | FH17: 0 | FI17: 0 | FJ17: 0 | FK17: 0 | FL17: 0 | FM17: 0 | FN17: 0 | FO17: 0 | FP17: 0 | FQ17: 0 | FR17: 150.18 | FS17: 0 | FT17: 0 | FU17: 16.76 | FV17: 5.95 | FW17: 2.62 | FX17: 0 | FY17: 5.98 | FZ17: 0 | GA17: 0 | GB17: 0 | GC17: 0 | GD17: 70.3 | GE17: 118.07 | GF17: 469.23 | GG17: 0 | GH17: 0 | GI17: 0 | GJ17: 0 | GK17: 0 | GL17: 0 | GM17: 1382.23 | GN17: 0 | GO17: 0 | GP17: 0 | GQ17: 491.59 | GR17: 31.67 | GS17: 22.23 | GT17: 0 | GU17: 0 | GV17: 0 | GW17: 0 | GX17: 0 | GY17: 0 | GZ17: 0 | HA17: 0 | HB17: 0 | HC17: 0 | HD17: 0 | HE17: 0 | HF17: 40.57 | HG17: 0 | HH17: 0 | HI17: 0 | HJ17: 0 | HK17: 0 | HL17: 142.96 | HM17: 10.27 | HN17: 2.61 | HO17: 0 | HP17: 0 | HQ17: 0 | HR17: 0 | HS17: 0 | HT17: 0 | HU17: 0 | HV17: 0 | HW17: 0 | HX17: 0 | HY17: 0 | HZ17: 0 | IA17: 0 | IB17: 0 | IC17: =(H17/$D17)*1000000 -> 0 | ID17: =(I17/$D17)*1000000 -> 0 | IE17: =(J17/$D17)*1000000 -> 0 | IF17: =(K17/$D17)*1000000 -> 0.13872681 | IG17: =(L17/$D17)*1000000 -> 0 | IH17: =(M17/$D17)*1000000 -> 0 | II17: =(N17/$D17)*1000000 -> 0 | IJ17: =(O17/$D17)*1000000 -> 0 | ... QW17: =(IB17/$D17)*1000000 -> 0
C18: 960 | D18: 11703521 | E18: 25813392 | F18: =100-(D18/E18)*100 -> 54.66105 | G18: 3.7896874 | H18: 0 | I18: 0 | J18: 0 | K18: 0 | L18: 0 | M18: 0 | N18: 0 | O18: 0 | P18: 0 | Q18: 13.8 | R18: 0 | S18: 0 | T18: 0 | U18: 0 | V18: 0 | W18: 0 | X18: 0 | Y18: 0 | Z18: 0 | AA18: 0 | AB18: 0 | AC18: 0 | AD18: 1.22 | AE18: 28.3 | AF18: 129.27 | AG18: 27.92 | AH18: 0 | AI18: 0 | AJ18: 11.27 | AK18: 0 | AL18: 0 | AM18: 0 | AN18: 0 | AO18: 12.05 | AP18: 3.01 | AQ18: 0 | AR18: 0 | AS18: 132.17 | AT18: 0 | AU18: 0 | AV18: 11.37 | AW18: 0 | AX18: 0 | AY18: 0 | AZ18: 0 | BA18: 0 | BB18: 0 | BC18: 0 | BD18: 0 | BE18: 0 | BF18: 0 | BG18: 0 | BH18: 0 | BI18: 0 | BJ18: 0 | BK18: 0 | BL18: 0 | BM18: 0 | BN18: 0 | BO18: 1.77 | BP18: 0 | BQ18: 0 | BR18: 0 | BS18: 0 | BT18: 0 | BU18: 0 | BV18: 0 | BW18: 0 | BX18: 0 | BY18: 0 | BZ18: 0 | CA18: 0 | CB18: 5.7 | CC18: 0 | CD18: 0 | CE18: 0 | CF18: 0 | CG18: 0 | CH18: 0 | CI18: 0 | CJ18: 0 | CK18: 0 | CL18: 0 | CM18: 24.95 | CN18: 0 | CO18: 0 | CP18: 0 | CQ18: 0 | CR18: 0 | CS18: 0 | CT18: 0 | CU18: 0 | CV18: 0 | CW18: 0 | CX18: 0 | CY18: 0 | CZ18: 0 | DA18: 0 | DB18: 0 | DC18: 0 | DD18: 0 | DE18: 0 | DF18: 0 | DG18: 0 | DH18: 0 | DI18: 0 | DJ18: 0 | DK18: 0 | DL18: 4.23 | DM18: 0 | DN18: 0 | DO18: 0 | DP18: 7.89 | DQ18: 0 | DR18: 0 | DS18: 0 | DT18: 0 | DU18: 0 | DV18: 0 | DW18: 0 | DX18: 0 | DY18: 0 | DZ18: 0 | EA18: 0 | EB18: 0 | EC18: 0 | ED18: 0 | EE18: 198.89 | EF18: 0 | EG18: 741.72 | EH18: 37.29 | EI18: 9.13 | EJ18: 0 | EK18: 0 | EL18: 0 | EM18: 0 | EN18: 5.2 | EO18: 0 | EP18: 139.79 | EQ18: 0 | ER18: 0 | ES18: 0 | ET18: 0 | EU18: 0 | EV18: 0 | EW18: 0 | EX18: 0 | EY18: 79.71 | EZ18: 0 | FA18: 18.18 | FB18: 0 | FC18: 5.8 | FD18: 0 | FE18: 0 | FF18: 0 | FG18: 21.38 | FH18: 0 | FI18: 0 | FJ18: 0 | FK18: 0 | FL18: 0 | FM18: 0 | FN18: 0 | FO18: 0 | FP18: 0 | FQ18: 0 | FR18: 63.41 | FS18: 66.74 | FT18: 0 | FU18: 22.61 | FV18: 2.15 | FW18: 11.14 | FX18: 0 | FY18: 0 | FZ18: 0 | GA18: 0 | GB18: 0 | GC18: 0 | GD18: 35.94 | GE18: 0 | GF18: 128.1 | GG18: 0 | GH18: 0 | GI18: 0 | GJ18: 0 | GK18: 0 | GL18: 0 | GM18: 1109.27 | GN18: 0 | GO18: 0 | GP18: 0 | GQ18: 140.32 | GR18: 0 | GS18: 28.82 | GT18: 0 | GU18: 0 | GV18: 0 | GW18: 0 | GX18: 0 | GY18: 0 | GZ18: 0 | HA18: 0 | HB18: 0 | HC18: 0 | HD18: 0 | HE18: 0 | HF18: 41.37 | HG18: 0 | HH18: 0 | HI18: 3.63 | HJ18: 0 | HK18: 0 | HL18: 22.74 | HM18: 12.27 | HN18: 8.31 | HO18: 0 | HP18: 0 | HQ18: 0 | HR18: 0 | HS18: 0 | HT18: 0 | HU18: 0 | HV18: 0 | HW18: 0 | HX18: 0 | HY18: 0 | HZ18: 0 | IA18: 0 | IB18: 0 | IC18: =(H18/$D18)*1000000 -> 0 | ID18: =(I18/$D18)*1000000 -> 0 | IE18: =(J18/$D18)*1000000 -> 0 | IF18: =(K18/$D18)*1000000 -> 0 | IG18: =(L18/$D18)*1000000 -> 0 | IH18: =(M18/$D18)*1000000 -> 0 | II18: =(N18/$D18)*1000000 -> 0 | IJ18: =(O18/$D18)*1000000 -> 0 | ... QW18: =(IB18/$D18)*1000000 -> 0
B19: G2 | C19: 777 | D19: 23455620 | E19: 25976551 | F19: =100-(D19/E19)*100 -> 9.7046409 | G19: 3.6900463 | H19: 0 | I19: 0 | J19: 0 | K19: 0 | L19: 0 | M19: 0 | N19: 0 | O19: 0 | P19: 0 | Q19: 29.22 | R19: 0 | S19: 0 | T19: 0 | U19: 0 | V19: 6.49 | W19: 0 | X19: 0 | Y19: 0 | Z19: 0 | AA19: 0 | AB19: 0 | AC19: 0 | AD19: 0 | AE19: 13.6 | AF19: 397.66 | AG19: 15.93 | AH19: 0 | AI19: 0 | AJ19: 28.01 | AK19: 0 | AL19: 25.6 | AM19: 2.2 | AN19: 0 | AO19: 11.21 | AP19: 288.91 | AQ19: 0 | AR19: 484.1 | AS19: 415.01 | AT19: 0 | AU19: 0 | AV19: 9.26 | AW19: 4.21 | AX19: 0 | AY19: 0 | AZ19: 0 | BA19: 7.45 | BB19: 0 | BC19: 0 | BD19: 0 | BE19: 0 | BF19: 0 | BG19: 0 | BH19: 0 | BI19: 0 | BJ19: 0 | BK19: 1.82 | BL19: 0 | BM19: 0 | BN19: 0 | BO19: 0 | BP19: 0 | BQ19: 0 | BR19: 0 | BS19: 0 | BT19: 0 | BU19: 0 | BV19: 0 | BW19: 5.89 | BX19: 0 | BY19: 989.93 | BZ19: 0 | CA19: 0 | CB19: 37.07 | CC19: 2.77 | CD19: 0 | CE19: 7.94 | CF19: 0 | CG19: 0 | CH19: 0 | CI19: 0 | CJ19: 0 | CK19: 0 | CL19: 0 | CM19: 19.43 | CN19: 0 | CO19: 0 | CP19: 8.87 | CQ19: 0 | CR19: 0 | CS19: 0 | CT19: 0 | CU19: 0 | CV19: 0 | CW19: 0 | CX19: 0 | CY19: 0 | CZ19: 0 | DA19: 0 | DB19: 0 | DC19: 0 | DD19: 9.33 | DE19: 0 | DF19: 4.13 | DG19: 4.68 | DH19: 0 | DI19: 0 | DJ19: 0 | DK19: 0 | DL19: 7.68 | DM19: 0 | DN19: 0 | DO19: 0 | DP19: 0 | DQ19: 0 | DR19: 0 | DS19: 0 | DT19: 0 | DU19: 0 | DV19: 0 | DW19: 0 | DX19: 0 | DY19: 0 | DZ19: 0 | EA19: 0 | EB19: 0 | EC19: 0 | ED19: 0 | EE19: 758.8 | EF19: 0 | EG19: 862.97 | EH19: 137.6 | EI19: 3.71 | EJ19: 6.22 | EK19: 12.07 | EL19: 0 | EM19: 0 | EN19: 0 | EO19: 0 | EP19: 148.7 | EQ19: 0 | ER19: 0 | ES19: 25.6 | ET19: 0 | EU19: 0 | EV19: 0 | EW19: 0 | EX19: 0 | EY19: 68.46 | EZ19: 0 | FA19: 12.69 | FB19: 3.75 | FC19: 0 | FD19: 0 | FE19: 0 | FF19: 0 | FG19: 18.55 | FH19: 0 | FI19: 0 | FJ19: 0 | FK19: 0 | FL19: 0 | FM19: 0 | FN19: 0 | FO19: 0 | FP19: 0 | FQ19: 0 | FR19: 160.67 | FS19: 30.51 | FT19: 0 | FU19: 892.56 | FV19: 7.79 | FW19: 0 | FX19: 0 | FY19: 0 | FZ19: 0 | GA19: 0 | GB19: 5.54 | GC19: 6.19 | GD19: 38.14 | GE19: 58.24 | GF19: 356.13 | GG19: 51.55 | GH19: 0 | GI19: 0 | GJ19: 0 | GK19: 0 | GL19: 0 | GM19: 1021.32 | GN19: 0 | GO19: 0 | GP19: 0 | GQ19: 660.42 | GR19: 0 | GS19: 52.09 | GT19: 0 | GU19: 0 | GV19: 0 | GW19: 0 | GX19: 24.45 | GY19: 9.46 | GZ19: 1.9 | HA19: 0 | HB19: 0 | HC19: 0 | HD19: 0 | HE19: 0 | HF19: 47.32 | HG19: 0 | HH19: 0 | HI19: 884.16 | HJ19: 0 | HK19: 0 | HL19: 0 | HM19: 13.55 | HN19: 10.21 | HO19: 0 | HP19: 0 | HQ19: 0 | HR19: 0 | HS19: 0 | HT19: 0 | HU19: 0 | HV19: 0 | HW19: 0 | HX19: 0 | HY19: 0 | HZ19: 0 | IA19: 0 | IB19: 0 | IC19: =(H19/$D19)*1000000 -> 0 | ID19: =(I19/$D19)*1000000 -> 0 | IE19: =(J19/$D19)*1000000 -> 0 | IF19: =(K19/$D19)*1000000 -> 0 | IG19: =(L19/$D19)*1000000 -> 0 | IH19: =(M19/$D19)*1000000 -> 0 | II19: =(N19/$D19)*1000000 -> 0 | IJ19: =(O19/$D19)*1000000 -> 0 | ... QW19: =(IB19/$D19)*1000000 -> 0
C20: 783 | D20: 20488544 | E20: 24629183 | F20: =100-(D20/E20)*100 -> 16.811922 | G20: 3.8225711 | H20: 0 | I20: 0 | J20: 0 | K20: 0 | L20: 0 | M20: 0 | N20: 0 | O20: 0 | P20: 0 | Q20: 16.21 | R20: 32.04 | S20: 0 | T20: 0 | U20: 0 | V20: 0 | W20: 0 | X20: 0 | Y20: 0 | Z20: 0 | AA20: 0 | AB20: 0 | AC20: 0 | AD20: 5.11 | AE20: 0 | AF20: 614.13 | AG20: 45.34 | AH20: 0 | AI20: 0 | AJ20: 8.59 | AK20: 0 | AL20: 118.44 | AM20: 2.83 | AN20: 0 | AO20: 2.1 | AP20: 3.98 | AQ20: 0 | AR20: 0 | AS20: 763.89 | AT20: 0 | AU20: 0 | AV20: 7.19 | AW20: 0 | AX20: 0 | AY20: 0 | AZ20: 0 | BA20: 12.89 | BB20: 0 | BC20: 0 | BD20: 0 | BE20: 0 | BF20: 0 | BG20: 0 | BH20: 0 | BI20: 0 | BJ20: 0 | BK20: 0 | BL20: 0 | BM20: 5.25 | BN20: 0 | BO20: 0 | BP20: 0 | BQ20: 0 | BR20: 0 | BS20: 0 | BT20: 0 | BU20: 0 | BV20: 0 | BW20: 0 | BX20: 0 | BY20: 0 | BZ20: 0 | CA20: 0 | CB20: 131.99 | CC20: 0 | CD20: 0 | CE20: 76.73 | CF20: 0 | CG20: 0 | CH20: 0 | CI20: 0 | CJ20: 0 | CK20: 48.77 | CL20: 0 | CM20: 0 | CN20: 0 | CO20: 0 | CP20: 0 | CQ20: 0 | CR20: 0 | CS20: 0 | CT20: 0 | CU20: 0 | CV20: 0 | CW20: 0 | CX20: 0 | CY20: 0 | CZ20: 0 | DA20: 0 | DB20: 0 | DC20: 0 | DD20: 0 | DE20: 0 | DF20: 24.12 | DG20: 0 | DH20: 0 | DI20: 0 | DJ20: 0 | DK20: 0 | DL20: 25.79 | DM20: 0 | DN20: 0 | DO20: 0 | DP20: 0 | DQ20: 0 | DR20: 0 | DS20: 0 | DT20: 0 | DU20: 0 | DV20: 0 | DW20: 0 | DX20: 0 | DY20: 0 | DZ20: 0 | EA20: 0 | EB20: 0 | EC20: 0 | ED20: 0 | EE20: 665.79 | EF20: 0 | EG20: 524.66 | EH20: 322.55 | EI20: 0 | EJ20: 2.2 | EK20: 0 | EL20: 0 | EM20: 0 | EN20: 1.77 | EO20: 0 | EP20: 560.04 | EQ20: 0 | ER20: 3.44 | ES20: 0 | ET20: 0 | EU20: 0 | EV20: 0 | EW20: 0 | EX20: 0 | EY20: 286.26 | EZ20: 0 | FA20: 71.68 | FB20: 30.8 | FC20: 2.28 | FD20: 0 | FE20: 0 | FF20: 0 | FG20: 77.05 | FH20: 0 | FI20: 0 | FJ20: 0 | FK20: 0 | FL20: 0 | FM20: 0 | FN20: 0 | FO20: 0 | FP20: 0 | FQ20: 0 | FR20: 253.95 | FS20: 78.08 | FT20: 0 | FU20: 31.06 | FV20: 0 | FW20: 2.84 | FX20: 0 | FY20: 0 | FZ20: 0 | GA20: 0 | GB20: 11.55 | GC20: 0 | GD20: 43.87 | GE20: 104.68 | GF20: 0 | GG20: 99.31 | GH20: 0 | GI20: 0 | GJ20: 0 | GK20: 0 | GL20: 0 | GM20: 1633.13 | GN20: 0 | GO20: 0 | GP20: 0 | GQ20: 591.56 | GR20: 103.1 | GS20: 60.95 | GT20: 0 | GU20: 0 | GV20: 0 | GW20: 0 | GX20: 3.35 | GY20: 3.47 | GZ20: 0 | HA20: 0 | HB20: 0 | HC20: 28.43 | HD20: 0 | HE20: 0 | HF20: 27.2 | HG20: 0 | HH20: 0 | HI20: 69.25 | HJ20: 0 | HK20: 0 | HL20: 2.71 | HM20: 7.62 | HN20: 4.28 | HO20: 0 | HP20: 0 | HQ20: 0 | HR20: 0 | HS20: 0 | HT20: 0 | HU20: 0 | HV20: 0 | HW20: 0 | HX20: 0 | HY20: 0 | HZ20: 0 | IA20: 0 | IB20: 0 | IC20: =(H20/$D20)*1000000 -> 0 | ID20: =(I20/$D20)*1000000 -> 0 | IE20: =(J20/$D20)*1000000 -> 0 | IF20: =(K20/$D20)*1000000 -> 0 | IG20: =(L20/$D20)*1000000 -> 0 | IH20: =(M20/$D20)*1000000 -> 0 | II20: =(N20/$D20)*1000000 -> 0 | IJ20: =(O20/$D20)*1000000 -> 0 | ... QW20: =(IB20/$D20)*1000000 -> 0
C21: 795 | D21: 12467583 | E21: 28945816 | F21: =100-(D21/E21)*100 -> 56.927858 | G21: 3.3865723 | H21: 0 | I21: 0 | J21: 0 | K21: 0 | L21: 0 | M21: 0 | N21: 0 | O21: 0 | P21: 0 | Q21: 46.6 | R21: 27.25 | S21: 0 | T21: 0 | U21: 0 | V21: 0 | W21: 0 | X21: 0 | Y21: 0 | Z21: 0 | AA21: 0 | AB21: 0 | AC21: 0 | AD21: 0 | AE21: 0 | AF21: 235.6 | AG21: 4.11 | AH21: 0 | AI21: 0 | AJ21: 51.06 | AK21: 0 | AL21: 5.62 | AM21: 4.6 | AN21: 0 | AO21: 4.1 | AP21: 0 | AQ21: 0 | AR21: 0 | AS21: 541.31 | AT21: 0 | AU21: 0 | AV21: 3.31 | AW21: 0 | AX21: 0 | AY21: 0 | AZ21: 0 | BA21: 2.97 | BB21: 0 | BC21: 0 | BD21: 0 | BE21: 0 | BF21: 0 | BG21: 0 | BH21: 0 | BI21: 0 | BJ21: 0 | BK21: 0 | BL21: 0 | BM21: 0 | BN21: 0 | BO21: 0 | BP21: 0 | BQ21: 0 | BR21: 0 | BS21: 0 | BT21: 0 | BU21: 0 | BV21: 0 | BW21: 0 | BX21: 0 | BY21: 6.73 | BZ21: 0 | CA21: 0 | CB21: 68.28 | CC21: 0 | CD21: 0 | CE21: 0 | CF21: 0 | CG21: 0 | CH21: 0 | CI21: 0 | CJ21: 120.58 | CK21: 0 | CL21: 0 | CM21: 0 | CN21: 0 | CO21: 31.71 | CP21: 4.3 | CQ21: 0 | CR21: 0 | CS21: 0 | CT21: 0 | CU21: 0 | CV21: 0 | CW21: 0 | CX21: 0 | CY21: 0 | CZ21: 0 | DA21: 0 | DB21: 0 | DC21: 0 | DD21: 0 | DE21: 0 | DF21: 0 | DG21: 0 | DH21: 0 | DI21: 0 | DJ21: 0 | DK21: 0 | DL21: 12.98 | DM21: 0 | DN21: 0 | DO21: 0 | DP21: 0 | DQ21: 0 | DR21: 0 | DS21: 0 | DT21: 0 | DU21: 0 | DV21: 0 | DW21: 0 | DX21: 0 | DY21: 0 | DZ21: 0 | EA21: 0 | EB21: 0 | EC21: 0 | ED21: 0 | EE21: 721.58 | EF21: 0 | EG21: 287.4 | EH21: 122.1 | EI21: 15.47 | EJ21: 3.71 | EK21: 12.28 | EL21: 0 | EM21: 0 | EN21: 2.99 | EO21: 0 | EP21: 136.87 | EQ21: 0 | ER21: 0 | ES21: 1.97 | ET21: 0 | EU21: 0 | EV21: 0 | EW21: 0 | EX21: 0 | EY21: 63.43 | EZ21: 0 | FA21: 56.57 | FB21: 17.83 | FC21: 13.85 | FD21: 0 | FE21: 0 | FF21: 0 | FG21: 54.54 | FH21: 0 | FI21: 0 | FJ21: 0 | FK21: 0 | FL21: 0 | FM21: 0 | FN21: 0 | FO21: 0 | FP21: 0 | FQ21: 0 | FR21: 104.01 | FS21: 0 | FT21: 0 | FU21: 49.56 | FV21: 2.79 | FW21: 7.39 | FX21: 0 | FY21: 0 | FZ21: 0 | GA21: 0 | GB21: 3.88 | GC21: 5.56 | GD21: 8.61 | GE21: 44.26 | GF21: 133.87 | GG21: 51.53 | GH21: 0 | GI21: 0 | GJ21: 0 | GK21: 0 | GL21: 0 | GM21: 2532.76 | GN21: 0 | GO21: 0 | GP21: 0 | GQ21: 340.53 | GR21: 8.61 | GS21: 190.65 | GT21: 0 | GU21: 0 | GV21: 0 | GW21: 0 | GX21: 2.8 | GY21: 2.86 | GZ21: 0 | HA21: 0 | HB21: 0 | HC21: 19.91 | HD21: 0 | HE21: 0 | HF21: 13.11 | HG21: 0 | HH21: 0 | HI21: 27.08 | HJ21: 0 | HK21: 0 | HL21: 8.38 | HM21: 53.06 | HN21: 4.54 | HO21: 0 | HP21: 0 | HQ21: 0 | HR21: 0 | HS21: 0 | HT21: 0 | HU21: 0 | HV21: 0 | HW21: 0 | HX21: 0 | HY21: 0 | HZ21: 0 | IA21: 0 | IB21: 0 | IC21: =(H21/$D21)*1000000 -> 0 | ID21: =(I21/$D21)*1000000 -> 0 | IE21: =(J21/$D21)*1000000 -> 0 | IF21: =(K21/$D21)*1000000 -> 0 | IG21: =(L21/$D21)*1000000 -> 0 | IH21: =(M21/$D21)*1000000 -> 0 | II21: =(N21/$D21)*1000000 -> 0 | IJ21: =(O21/$D21)*1000000 -> 0 | ... QW21: =(IB21/$D21)*1000000 -> 0
C22: 820 | D22: 21466081 | E22: 26252364 | F22: =100-(D22/E22)*100 -> 18.231817 | G22: 3.7298637 | H22: 0 | I22: 0 | J22: 0 | K22: 0 | L22: 0 | M22: 0 | N22: 0 | O22: 0 | P22: 0 | Q22: 109.84 | R22: 0 | S22: 0 | T22: 0 | U22: 0 | V22: 1.42 | W22: 0 | X22: 0 | Y22: 0 | Z22: 0 | AA22: 0 | AB22: 0 | AC22: 0 | AD22: 0 | AE22: 26.4 | AF22: 1039.36 | AG22: 258.09 | AH22: 0 | AI22: 0 | AJ22: 125.67 | AK22: 0 | AL22: 84.77 | AM22: 17.27 | AN22: 0 | AO22: 42.57 | AP22: 7.6 | AQ22: 16.19 | AR22: 0 | AS22: 523.75 | AT22: 0 | AU22: 0 | AV22: 39.28 | AW22: 3.86 | AX22: 0 | AY22: 0 | AZ22: 0 | BA22: 6.33 | BB22: 0 | BC22: 0 | BD22: 0 | BE22: 0 | BF22: 0 | BG22: 0 | BH22: 0 | BI22: 0 | BJ22: 0 | BK22: 0 | BL22: 0 | BM22: 0 | BN22: 0 | BO22: 0 | BP22: 0 | BQ22: 0 | BR22: 0 | BS22: 0 | BT22: 0 | BU22: 0 | BV22: 0 | BW22: 0 | BX22: 0 | BY22: 0 | BZ22: 0 | CA22: 0 | CB22: 5.08 | CC22: 0 | CD22: 0 | CE22: 0 | CF22: 0 | CG22: 0 | CH22: 35.01 | CI22: 0 | CJ22: 0 | CK22: 0 | CL22: 0 | CM22: 15.24 | CN22: 0 | CO22: 0 | CP22: 0 | CQ22: 0 | CR22: 0 | CS22: 0 | CT22: 0 | CU22: 1.63 | CV22: 0 | CW22: 0 | CX22: 0 | CY22: 0 | CZ22: 0 | DA22: 0 | DB22: 0 | DC22: 0 | DD22: 5.98 | DE22: 0 | DF22: 48.5 | DG22: 0 | DH22: 1.76 | DI22: 0 | DJ22: 0 | DK22: 0 | DL22: 0 | DM22: 0 | DN22: 0 | DO22: 0 | DP22: 109.92 | DQ22: 0 | DR22: 0 | DS22: 0 | DT22: 0 | DU22: 0 | DV22: 0 | DW22: 0 | DX22: 0 | DY22: 0 | DZ22: 0 | EA22: 0 | EB22: 0 | EC22: 0 | ED22: 0 | EE22: 479.51 | EF22: 0 | EG22: 67.75 | EH22: 144.69 | EI22: 135.64 | EJ22: 49.95 | EK22: 49.79 | EL22: 0 | EM22: 0 | EN22: 0 | EO22: 0 | EP22: 854.71 | EQ22: 0 | ER22: 0 | ES22: 32.08 | ET22: 0 | EU22: 0 | EV22: 0 | EW22: 0 | EX22: 0 | EY22: 111.21 | EZ22: 0 | FA22: 166.18 | FB22: 0 | FC22: 0 | FD22: 0 | FE22: 0 | FF22: 0 | FG22: 182.3 | FH22: 0 | FI22: 0 | FJ22: 0 | FK22: 5.82 | FL22: 0 | FM22: 0 | FN22: 0 | FO22: 0 | FP22: 23.26 | FQ22: 0 | FR22: 518.16 | FS22: 236.13 | FT22: 0 | FU22: 177.95 | FV22: 0 | FW22: 0 | FX22: 0 | FY22: 0 | FZ22: 0 | GA22: 0 | GB22: 0 | GC22: 3.53 | GD22: 82.74 | GE22: 151.98 | GF22: 100.07 | GG22: 92.35 | GH22: 0 | GI22: 0 | GJ22: 0 | GK22: 0 | GL22: 0 | GM22: 162.96 | GN22: 0 | GO22: 0 | GP22: 0 | GQ22: 1509.92 | GR22: 94.94 | GS22: 43.36 | GT22: 0 | GU22: 0 | GV22: 0 | GW22: 0 | GX22: 101.19 | GY22: 55.53 | GZ22: 0 | HA22: 0 | HB22: 0 | HC22: 15.65 | HD22: 0 | HE22: 0 | HF22: 764.31 | HG22: 2.93 | HH22: 0 | HI22: 0 | HJ22: 0 | HK22: 0 | HL22: 1.48 | HM22: 259.14 | HN22: 1.88 | HO22: 0 | HP22: 0 | HQ22: 2.95 | HR22: 14.56 | HS22: 0 | HT22: 0 | HU22: 0 | HV22: 0 | HW22: 0 | HX22: 0 | HY22: 0 | HZ22: 0 | IA22: 0 | IB22: 0 | IC22: =(H22/$D22)*1000000 -> 0 | ID22: =(I22/$D22)*1000000 -> 0 | IE22: =(J22/$D22)*1000000 -> 0 | IF22: =(K22/$D22)*1000000 -> 0 | IG22: =(L22/$D22)*1000000 -> 0 | IH22: =(M22/$D22)*1000000 -> 0 | II22: =(N22/$D22)*1000000 -> 0 | IJ22: =(O22/$D22)*1000000 -> 0 | ... QW22: =(IB22/$D22)*1000000 -> 0
C23: 856 | D23: 25559788 | E23: 27740134 | F23: =100-(D23/E23)*100 -> 7.8598971 | G23: 3.8250479 | H23: 0 | I23: 0 | J23: 3.84 | K23: 0 | L23: 0 | M23: 0 | N23: 0 | O23: 0 | P23: 0 | Q23: 13.6 | R23: 0 | S23: 2.85 | T23: 5.8 | U23: 4.58 | V23: 0 | W23: 0 | X23: 0 | Y23: 0 | Z23: 0 | AA23: 0 | AB23: 0 | AC23: 0 | AD23: 0 | AE23: 10.42 | AF23: 345.87 | AG23: 9.92 | AH23: 0 | AI23: 0 | AJ23: 0 | AK23: 0 | AL23: 46.97 | AM23: 3.32 | AN23: 0 | AO23: 40.29 | AP23: 4.06 | AQ23: 0 | AR23: 0 | AS23: 393.84 | AT23: 0 | AU23: 4.18 | AV23: 28.24 | AW23: 0 | AX23: 0 | AY23: 0 | AZ23: 0 | BA23: 1.88 | BB23: 0 | BC23: 0 | BD23: 0 | BE23: 0 | BF23: 0 | BG23: 0 | BH23: 0 | BI23: 0 | BJ23: 0 | BK23: 0 | BL23: 0 | BM23: 0 | BN23: 0 | BO23: 0 | BP23: 0 | BQ23: 0 | BR23: 0 | BS23: 0 | BT23: 0 | BU23: 0 | BV23: 0 | BW23: 1.3 | BX23: 16.8 | BY23: 0 | BZ23: 0 | CA23: 0 | CB23: 20.3 | CC23: 0 | CD23: 0 | CE23: 0 | CF23: 0 | CG23: 0 | CH23: 3.62 | CI23: 0 | CJ23: 0 | CK23: 63.19 | CL23: 0 | CM23: 0 | CN23: 0 | CO23: 0 | CP23: 0 | CQ23: 0 | CR23: 0 | CS23: 0 | CT23: 0 | CU23: 6.82 | CV23: 0 | CW23: 0 | CX23: 0 | CY23: 0 | CZ23: 0 | DA23: 0 | DB23: 0 | DC23: 0 | DD23: 0 | DE23: 0 | DF23: 3.86 | DG23: 0 | DH23: 0 | DI23: 0 | DJ23: 0 | DK23: 0 | DL23: 6.05 | DM23: 0 | DN23: 0 | DO23: 0 | DP23: 0 | DQ23: 0 | DR23: 0 | DS23: 0 | DT23: 0 | DU23: 0 | DV23: 0 | DW23: 0 | DX23: 0 | DY23: 0 | DZ23: 0 | EA23: 0 | EB23: 0 | EC23: 0 | ED23: 0 | EE23: 790.18 | EF23: 0 | EG23: 187.14 | EH23: 86.89 | EI23: 0 | EJ23: 5.77 | EK23: 0 | EL23: 0 | EM23: 0 | EN23: 4.74 | EO23: 2.61 | EP23: 566.28 | EQ23: 0 | ER23: 0 | ES23: 0 | ET23: 0 | EU23: 0 | EV23: 0 | EW23: 0 | EX23: 0 | EY23: 103.17 | EZ23: 0 | FA23: 16.04 | FB23: 0 | FC23: 0 | FD23: 0 | FE23: 0 | FF23: 0 | FG23: 15.83 | FH23: 0 | FI23: 0 | FJ23: 0 | FK23: 0 | FL23: 0 | FM23: 0 | FN23: 0 | FO23: 0 | FP23: 0 | FQ23: 0 | FR23: 137.77 | FS23: 11.27 | FT23: 0 | FU23: 15.66 | FV23: 19.44 | FW23: 0 | FX23: 0 | FY23: 2.34 | FZ23: 0 | GA23: 0 | GB23: 2.19 | GC23: 0 | GD23: 534.58 | GE23: 0 | GF23: 233.12 | GG23: 0 | GH23: 0 | GI23: 0 | GJ23: 0 | GK23: 0 | GL23: 0 | GM23: 1701.97 | GN23: 0 | GO23: 0 | GP23: 0 | GQ23: 252.62 | GR23: 10.46 | GS23: 35.37 | GT23: 0 | GU23: 0 | GV23: 0 | GW23: 0 | GX23: 0 | GY23: 0 | GZ23: 0 | HA23: 0 | HB23: 0 | HC23: 0 | HD23: 0 | HE23: 0 | HF23: 4.49 | HG23: 0 | HH23: 0 | HI23: 6.23 | HJ23: 0 | HK23: 0 | HL23: 6.91 | HM23: 37.78 | HN23: 0 | HO23: 0 | HP23: 0 | HQ23: 0 | HR23: 0 | HS23: 0 | HT23: 0 | HU23: 0 | HV23: 0 | HW23: 0 | HX23: 0 | HY23: 0 | HZ23: 0 | IA23: 0 | IB23: 0 | IC23: =(H23/$D23)*1000000 -> 0 | ID23: =(I23/$D23)*1000000 -> 0 | IE23: =(J23/$D23)*1000000 -> 0.15023599 | IF23: =(K23/$D23)*1000000 -> 0 | IG23: =(L23/$D23)*1000000 -> 0 | IH23: =(M23/$D23)*1000000 -> 0 | II23: =(N23/$D23)*1000000 -> 0 | IJ23: =(O23/$D23)*1000000 -> 0 | ... QW23: =(IB23/$D23)*1000000 -> 0
C24: 883 | D24: 21656617 | E24: 25858373 | F24: =100-(D24/E24)*100 -> 16.249112 | G24: 3.5860211 | H24: 0 | I24: 0 | J24: 0 | K24: 0 | L24: 0 | M24: 0 | N24: 0 | O24: 0 | P24: 0 | Q24: 104.69 | R24: 0 | S24: 0 | T24: 0 | U24: 0 | V24: 0 | W24: 0 | X24: 3.38 | Y24: 0 | Z24: 0 | AA24: 0 | AB24: 0 | AC24: 0 | AD24: 0 | AE24: 13.69 | AF24: 654.77 | AG24: 41.83 | AH24: 0 | AI24: 0 | AJ24: 107.74 | AK24: 0 | AL24: 41.61 | AM24: 13.41 | AN24: 0 | AO24: 4.65 | AP24: 4.37 | AQ24: 0 | AR24: 0 | AS24: 1141.6 | AT24: 0 | AU24: 0 | AV24: 5.82 | AW24: 7.26 | AX24: 0 | AY24: 36.15 | AZ24: 0 | BA24: 0 | BB24: 0 | BC24: 0 | BD24: 0 | BE24: 0 | BF24: 0 | BG24: 0 | BH24: 0 | BI24: 0 | BJ24: 0 | BK24: 0 | BL24: 0 | BM24: 0 | BN24: 0 | BO24: 0 | BP24: 0 | BQ24: 0 | BR24: 0 | BS24: 0 | BT24: 0 | BU24: 0 | BV24: 0 | BW24: 0 | BX24: 0 | BY24: 0 | BZ24: 0 | CA24: 0 | CB24: 11.15 | CC24: 0 | CD24: 0 | CE24: 0 | CF24: 0 | CG24: 0 | CH24: 9.81 | CI24: 0 | CJ24: 5.75 | CK24: 0 | CL24: 0 | CM24: 28.41 | CN24: 0 | CO24: 0 | CP24: 0 | CQ24: 0 | CR24: 0 | CS24: 0 | CT24: 0 | CU24: 0 | CV24: 0 | CW24: 0 | CX24: 1.76 | CY24: 0 | CZ24: 0 | DA24: 0 | DB24: 0 | DC24: 0 | DD24: 0 | DE24: 0 | DF24: 10.89 | DG24: 0 | DH24: 7.84 | DI24: 0 | DJ24: 0 | DK24: 0 | DL24: 4.11 | DM24: 0 | DN24: 0 | DO24: 0 | DP24: 0 | DQ24: 0 | DR24: 0 | DS24: 2.25 | DT24: 0 | DU24: 0 | DV24: 0 | DW24: 0 | DX24: 0 | DY24: 2.21 | DZ24: 0 | EA24: 0 | EB24: 0 | EC24: 0 | ED24: 0 | EE24: 1256.97 | EF24: 0 | EG24: 123.8 | EH24: 167.32 | EI24: 4.8 | EJ24: 12.78 | EK24: 25.41 | EL24: 2.36 | EM24: 0 | EN24: 0 | EO24: 3.15 | EP24: 221.78 | EQ24: 0 | ER24: 0 | ES24: 40.51 | ET24: 0 | EU24: 0 | EV24: 0 | EW24: 0 | EX24: 0 | EY24: 110.49 | EZ24: 0 | FA24: 9.42 | FB24: 4.39 | FC24: 0 | FD24: 0 | FE24: 0 | FF24: 0 | FG24: 15.22 | FH24: 0 | FI24: 0 | FJ24: 0 | FK24: 0 | FL24: 0 | FM24: 0 | FN24: 0 | FO24: 0 | FP24: 0 | FQ24: 0 | FR24: 305.21 | FS24: 56.28 | FT24: 0 | FU24: 14.87 | FV24: 2.05 | FW24: 0 | FX24: 0 | FY24: 0 | FZ24: 0 | GA24: 0 | GB24: 3.36 | GC24: 17.39 | GD24: 10.97 | GE24: 85.14 | GF24: 646.59 | GG24: 232.11 | GH24: 0 | GI24: 0 | GJ24: 0 | GK24: 0 | GL24: 0 | GM24: 575.21 | GN24: 0 | GO24: 0 | GP24: 1.53 | GQ24: 751.51 | GR24: 26.58 | GS24: 28.76 | GT24: 0 | GU24: 0 | GV24: 0 | GW24: 8.24 | GX24: 61.37 | GY24: 24.43 | GZ24: 0 | HA24: 0 | HB24: 0 | HC24: 0 | HD24: 0 | HE24: 0 | HF24: 8.27 | HG24: 0 | HH24: 0 | HI24: 1.37 | HJ24: 0 | HK24: 0 | HL24: 15.51 | HM24: 166.81 | HN24: 2.59 | HO24: 0 | HP24: 0 | HQ24: 10.81 | HR24: 0 | HS24: 3.19 | HT24: 0 | HU24: 0 | HV24: 0 | HW24: 0 | HX24: 0 | HY24: 0 | HZ24: 0 | IA24: 0 | IB24: 0 | IC24: =(H24/$D24)*1000000 -> 0 | ID24: =(I24/$D24)*1000000 -> 0 | IE24: =(J24/$D24)*1000000 -> 0 | IF24: =(K24/$D24)*1000000 -> 0 | IG24: =(L24/$D24)*1000000 -> 0 | IH24: =(M24/$D24)*1000000 -> 0 | II24: =(N24/$D24)*1000000 -> 0 | IJ24: =(O24/$D24)*1000000 -> 0 | ... QW24: =(IB24/$D24)*1000000 -> 0
C25: 925 | D25: 8222511 | E25: 24956892 | F25: =100-(D25/E25)*100 -> 67.053145 | G25: 3.867905 | H25: 0 | I25: 0 | J25: 0 | K25: 0 | L25: 0 | M25: 0 | N25: 0 | O25: 0 | P25: 0 | Q25: 15.81 | R25: 10.86 | S25: 0 | T25: 0 | U25: 1.8 | V25: 6.58 | W25: 0 | X25: 0 | Y25: 0 | Z25: 0 | AA25: 0 | AB25: 0 | AC25: 0 | AD25: 0 | AE25: 3.36 | AF25: 86.8 | AG25: 0 | AH25: 0 | AI25: 0 | AJ25: 10.6 | AK25: 0 | AL25: 9.26 | AM25: 0 | AN25: 0 | AO25: 6.68 | AP25: 3.6 | AQ25: 0 | AR25: 0 | AS25: 92.76 | AT25: 0 | AU25: 0 | AV25: 7.29 | AW25: 0 | AX25: 0 | AY25: 0 | AZ25: 0 | BA25: 2.45 | BB25: 0 | BC25: 0 | BD25: 0 | BE25: 0 | BF25: 0 | BG25: 0 | BH25: 0 | BI25: 0 | BJ25: 0 | BK25: 0 | BL25: 0 | BM25: 0 | BN25: 0 | BO25: 0 | BP25: 0 | BQ25: 0 | BR25: 0 | BS25: 0 | BT25: 0 | BU25: 0 | BV25: 0 | BW25: 50.3 | BX25: 7.55 | BY25: 0 | BZ25: 0 | CA25: 0 | CB25: 46.32 | CC25: 0 | CD25: 0 | CE25: 2.64 | CF25: 0 | CG25: 0 | CH25: 0 | CI25: 0 | CJ25: 0 | CK25: 5.89 | CL25: 0 | CM25: 0 | CN25: 0 | CO25: 0 | CP25: 0 | CQ25: 0 | CR25: 0 | CS25: 0 | CT25: 0 | CU25: 0 | CV25: 0 | CW25: 0 | CX25: 0 | CY25: 0 | CZ25: 0 | DA25: 0 | DB25: 0 | DC25: 0 | DD25: 0 | DE25: 0 | DF25: 0 | DG25: 2.74 | DH25: 0 | DI25: 0 | DJ25: 0 | DK25: 0 | DL25: 12.16 | DM25: 2.35 | DN25: 3.8 | DO25: 4.11 | DP25: 0 | DQ25: 0 | DR25: 0 | DS25: 0 | DT25: 0 | DU25: 0 | DV25: 0 | DW25: 0 | DX25: 0 | DY25: 0 | DZ25: 0 | EA25: 0 | EB25: 0 | EC25: 0 | ED25: 0 | EE25: 125.67 | EF25: 0 | EG25: 96.22 | EH25: 289.88 | EI25: 0 | EJ25: 0 | EK25: 0 | EL25: 0 | EM25: 0 | EN25: 0 | EO25: 0 | EP25: 163.7 | EQ25: 2.85 | ER25: 0 | ES25: 0 | ET25: 0 | EU25: 0 | EV25: 0 | EW25: 0 | EX25: 0 | EY25: 186.67 | EZ25: 0 | FA25: 23.43 | FB25: 8.16 | FC25: 0 | FD25: 0 | FE25: 0 | FF25: 0 | FG25: 31.21 | FH25: 0 | FI25: 0 | FJ25: 0 | FK25: 0 | FL25: 0 | FM25: 0 | FN25: 0 | FO25: 0 | FP25: 0 | FQ25: 0 | FR25: 44.83 | FS25: 7.69 | FT25: 0 | FU25: 20.43 | FV25: 7.18 | FW25: 2.05 | FX25: 0 | FY25: 0 | FZ25: 0 | GA25: 0 | GB25: 7.01 | GC25: 0 | GD25: 37.25 | GE25: 0 | GF25: 80 | GG25: 0 | GH25: 0 | GI25: 0 | GJ25: 0 | GK25: 0 | GL25: 0 | GM25: 656.87 | GN25: 0 | GO25: 0 | GP25: 0 | GQ25: 103.7 | GR25: 0 | GS25: 59.97 | GT25: 0 | GU25: 0 | GV25: 0 | GW25: 0 | GX25: 0 | GY25: 0 | GZ25: 89.99 | HA25: 0 | HB25: 0 | HC25: 0 | HD25: 0 | HE25: 0 | HF25: 34.54 | HG25: 0 | HH25: 0 | HI25: 11.15 | HJ25: 0 | HK25: 0 | HL25: 4.55 | HM25: 8.75 | HN25: 8.93 | HO25: 0 | HP25: 0 | HQ25: 0 | HR25: 0 | HS25: 0 | HT25: 0 | HU25: 0 | HV25: 0 | HW25: 0 | HX25: 0 | HY25: 0 | HZ25: 0 | IA25: 0 | IB25: 0 | IC25: =(H25/$D25)*1000000 -> 0 | ID25: =(I25/$D25)*1000000 -> 0 | IE25: =(J25/$D25)*1000000 -> 0 | IF25: =(K25/$D25)*1000000 -> 0 | IG25: =(L25/$D25)*1000000 -> 0 | IH25: =(M25/$D25)*1000000 -> 0 | II25: =(N25/$D25)*1000000 -> 0 | IJ25: =(O25/$D25)*1000000 -> 0 | ... QW25: =(IB25/$D25)*1000000 -> 0
