Workbook

Sheet Table_S1
A1: Table S1. General information of selected animals of the study for whole-metagenomic sequencing. Weights are expressed in Kg. ADWG: Average Daily Weight Gain. G1: trimethoprim/sulfamethoxazole, G2: colistin, G3: oral vaccinated, G4: gentamicin, G5: untreated control with water acidification, G6: untreated control, GG: amoxicillin (farm of origin).
A8: Group | B8: Animal ID | C8: Sow ID | D8: Parity | E8: Initial weight | F8: Final weight | G8: ADWG
A9: G1 | B9: 782 | C9: 5599 | D9: 2 | E9: 6.48 | F9: 25.35 | G9: 0.44928571
B10: 788 | C10: 5680 | D10: 2 | E10: 4.2 | F10: 18.6 | G10: 0.34285714
B11: 806 | C11: 5131 | D11: 1 | E11: 6.74 | F11: 27.2 | G11: 0.48714286
B12: 807 | C12: 5426 | D12: 3 | E12: 5.58 | F12: 24.65 | G12: 0.45404762
B13: 819 | C13: 4570 | D13: 6 | E13: 6.44 | F13: 26.3 | G13: 0.47285714
B14: 825 | C14: 5689 | D14: 2 | E14: 4.62 | F14: 16 | G14: 0.27095238
B15: 831 | C15: 5379 | D15: 3 | E15: 4.16 | F15: 22.55 | G15: 0.43785714
B16: 882 | C16: 4230 | D16: 6 | E16: 8.02 | F16: 27.55 | G16: 0.465
B17: 900 | C17: 5172 | D17: 4 | E17: 5.62 | F17: 23.2 | G17: 0.41857143
B18: 960 | C18: 5668 | D18: 2 | E18: 4.54 | F18: 18.2 | G18: 0.3252381
A19: G2 | B19: 777 | C19: 5929 | D19: 1 | E19: 4.84 | F19: 23 | G19: 0.43238095
B20: 783 | C20: 5599 | D20: 2 | E20: 6.06 | F20: 21.15 | G20: 0.35928571
B21: 795 | C21: 4221 | D21: 7 | E21: 5.56 | F21: 17.05 | G21: 0.27357143
B22: 820 | C22: 4570 | D22: 6 | E22: 4.88 | F22: 18.1 | G22: 0.3147619
B23: 856 | C23: 3722 | D23: 9 | E23: 4.8 | F23: 19.25 | G23: 0.34404762
B24: 883 | C24: 4230 | D24: 6 | E24: 7.54 | F24: 25.4 | G24: 0.4252381
B25: 925 | C25: 6135 | D25: 1 | E25: 4.56 | F25: 20.5 | G25: 0.37952381
B26: 931 | C26: 5884 | D26: 1 | E26: 6.22 | F26: 25.6 | G26: 0.46142857
B27: 943 | C27: 4863 | D27: 6 | E27: 5.34 | F27: 22.4 | G27: 0.40619048
B28: 961 | C28: 5668 | D28: 2 | E28: 5.06 | F28: 19.3 | G28: 0.33904762
A29: G3 | B29: 778 | C29: 5929 | D29: 1 | E29: 4.5 | F29: 20.9 | G29: 0.39047619
B30: 790 | C30: 5680 | D30: 2 | E30: 5.56 | F30: 19.35 | G30: 0.32833333
B31: 796 | C31: 4221 | D31: 7 | E31: 4.44 | F31: 17.7 | G31: 0.31571429
B32: 802 | C32: 5131 | D32: 4 | E32: 5.12 | F32: 21.75 | G32: 0.39595238
B33: 821 | C33: 4570 | D33: 6 | E33: 4.42 | F33: 18.3 | G33: 0.33047619
B34: 845 | C34: 4856 | D34: 5 | E34: 4.46 | F34: 17 | G34: 0.29857143
B35: 884 | C35: 4230 | D35: 6 | E35: 4.3 | F35: 15.2 | G35: 0.25952381
B36: 926 | C36: 6135 | D36: 1 | E36: 4.24 | F36: 19.55 | G36: 0.36452381
B37: 944 | C37: 4863 | D37: 6 | E37: 5.38 | F37: 21.85 | G37: 0.39214286
B38: 962 | C38: 5668 | D38: 2 | E38: 5.54 | F38: 16.9 | G38: 0.27047619
A39: G4 | B39: 779 | C39: 5929 | D39: 1 | E39: 4.7 | F39: 20.8 | G39: 0.38333333
B40: 785 | C40: 5599 | D40: 2 | E40: 6.7 | F40: 23.1 | G40: 0.39047619
B41: 810 | C41: 5426 | D41: 3 | E41: 6.48 | F41: 20.35 | G41: 0.3302381
B42: 822 | C42: 4570 | D42: 6 | E42: 5.26 | F42: 21.9 | G42: 0.39619048
B43: 840 | C43: 5246 | D43: 3 | E43: 3.74 | F43: 15.3 | G43: 0.2752381
B44: 858 | C44: 3722 | D44: 9 | E44: 3.96 | F44: 18.5 | G44: 0.34619048
B45: 885 | C45: 4230 | D45: 6 | E45: 4.58 | F45: 19.85 | G45: 0.36357143
B46: 897 | C46: 5933 | D46: 1 | E46: 4.58 | F46: 20.45 | G46: 0.37785714
B47: 957 | C47: 4105 | D47: 7 | E47: 3.54 | F47: 15.4 | G47: 0.28238095
B48: 963 | C48: 5668 | D48: 2 | E48: 6.38 | F48: 23.4 | G48: 0.4052381
A49: G5 | B49: 798 | C49: 4221 | D49: 7 | E49: 5.34 | F49: 17.7 | G49: 0.29428571
B50: 804 | C50: 5131 | D50: 4 | E50: 7.46 | F50: 24.65 | G50: 0.40928571
B51: 823 | C51: 4570 | D51: 6 | E51: 5.4 | F51: 24.6 | G51: 0.45714286
B52: 835 | C52: 5379 | D52: 3 | E52: 5.78 | F52: 20.7 | G52: 0.3552381
B53: 859 | C53: 3722 | D53: 9 | E53: 4.1 | F53: 12.75 | G53: 0.20595238
B54: 880 | C54: 4543 | D54: 6 | E54: 7.24 | F54: 23.9 | G54: 0.39666667
B55: 892 | C55: 5687 | D55: 2 | E55: 5.18 | F55: 22.7 | G55: 0.41714286
B56: 928 | C56: 6135 | D56: 1 | E56: 4.38 | F56: 16.7 | G56: 0.29333333
B57: 946 | C57: 4863 | D57: 6 | E57: 4.38 | F57: 14.15 | G57: 0.23261905
B58: 958 | C58: 4105 | D58: 7 | E58: 4.86 | F58: 17.95 | G58: 0.31166667
A59: G6 | B59: 781 | C59: 5929 | D59: 1 | E59: 5.32 | F59: 22.25 | G59: 0.40309524
B60: 793 | C60: 5680 | D60: 2 | E60: 3.28 | F60: 17.15 | G60: 0.3302381
B61: 799 | C61: 4221 | D61: 7 | E61: 3.7 | F61: 13.95 | G61: 0.24404762
B62: 805 | C62: 5131 | D62: 4 | E62: 5.58 | F62: 17.85 | G62: 0.29214286
B63: 812 | C63: 5426 | D63: 3 | E63: 5.7 | F63: 21.65 | G63: 0.3797619
B64: 830 | C64: 5689 | D64: 2 | E64: 5.1 | F64: 16.6 | G64: 0.27380952
B65: 836 | C65: 5379 | D65: 3 | E65: 6.32 | F65: 22.85 | G65: 0.39357143
B66: 860 | C66: 3722 | D66: 9 | E66: 4.62 | F66: 11.55 | G66: 0.165
B67: 866 | C67: 4076 | D67: 7 | E67: 6.78 | F67: 22.05 | G67: 0.36357143
B68: 887 | C68: 4230 | D68: 6 | E68: 5.14 | F68: 19.3 | G68: 0.33714286
A69: GG | B69: 3052 | C69: 5599 | D69: 2 | E69: / | F69: / | G69: /
B70: 3053 | C70: 5680 | D70: 2 | E70: / | F70: / | G70: /
B71: 3056 | C71: 5426 | D71: 3 | E71: / | F71: / | G71: /
B72: 3058 | C72: 4570 | D72: 6 | E72: / | F72: / | G72: /
B73: 3059 | C73: 5689 | D73: 2 | E73: / | F73: / | G73: /
B74: 3062 | C74: 4856 | D74: 5 | E74: / | F74: / | G74: /
B75: 3067 | C75: 4230 | D75: 6 | E75: / | F75: / | G75: /
B76: 3070 | C76: 5172 | D76: 4 | E76: / | F76: / | G76: /
B77: 3074 | C77: 6135 | D77: 1 | E77: / | F77: / | G77: /
B78: 3078 | C78: 5648 | D78: 2 | E78: / | F78: / | G78: /

Sheet Table_S2
A1: Table S2. Metagenomics sequencing information of DNA extracted from faecal samples of the animals selected in this study. Includes host contamination after removal of adapter and low quality sequences, diversity indexes defined by the Shannon index, and raw and normalized sequencing depth of antimicrobial resistance genes (ARGs) identified by Resfinder. G1: trimethoprim/sulfamethoxazole, G2: colistin, G3: oral vaccinated, G4: gentamicin, G5: untreated control with water acidification, G6: untreated control, GG: amoxicillin (farm of origin). ST1: one day before weaning, ST2: three days post-treatment, ST3: two weeks post-treatment, ST4: four weeks post-treatment.
H8: Raw Sequencing Depth of ARGs from Resfinder | IC8: Normalized Abundance of ARGs from Resfinder
A9: Sampling Time | B9: Group | C9: Animal ID | D9: Final PE reads | E9: Trimmed PE reads | F9: Host contamination (%) | G9: Shannon index | H9: aac(3)-IIa | I9: aac(3)-IId | J9: aac(3)-IV | K9: aac(3)-IVa | L9: aac(3)-XI | M9: aac(6')-aph(2'') | N9: aac(6')-Ib3 | O9: aac(6')-Ii | P9: aac(6')-Iid | Q9: aac(6')-Im | R9: aadA1 | S9: aadA11 | T9: aadA13 | U9: aadA14 | V9: aadA2 | W9: aadA22 | X9: aadA24 | Y9: aadA3 | Z9: aadA5 | AA9: aadA7 | AB9: aadA9 | AC9: aadD | AD9: aadE-Cc | AE9: ant(3'')-Ia | AF9: ant(6)-Ia | AG9: ant(6)-Ib | AH9: ant(9)-Ia | AI9: aph(2'')-Ia | AJ9: aph(2'')-Ib | AK9: aph(2'')-Ic | AL9: aph(2'')-If | AM9: aph(2'')-Ig | AN9: aph(2'')-Ih | AO9: aph(3'')-Ib | AP9: aph(3')-Ia | AQ9: aph(3')-Ib | AR9: aph(3')-IIa | AS9: aph(3')-III | AT9: aph(3')-IIIa | AU9: aph(4)-Ia | AV9: aph(6)-Id | AW9: npmA | AX9: rmtD2 | AY9: rmtF | AZ9: str | BA9: blaACI-1 | BB9: blaCARB-10 | BC9: blaCARB-14 | BD9: blaCARB-16 | BE9: blaCTX-M-1 | BF9: blaCTX-M-14 | BG9: blaCTX-M-15 | BH9: blaCTX-M-32 | BI9: blaCTX-M-55 | BJ9: blaIMP-64 | BK9: blaLAP-2 | BL9: blaOXA-1 | BM9: blaOXA-193 | BN9: blaOXA-347 | BO9: blaOXA-450 | BP9: blaOXA-451 | BQ9: blaOXA-452 | BR9: blaOXA-453 | BS9: blaOXA-460 | BT9: blaOXA-489 | BU9: blaOXA-58 | BV9: blaOXA-61 | BW9: blaOXA-85 | BX9: blaROB-1 | BY9: blaSHV-12 | BZ9: blaSHV-70 | CA9: blaTEM-1A | CB9: blaTEM-1B | CC9: blaTEM-1C | CD9: blaTEM-1D | CE9: cepA | CF9: cepA-29 | CG9: cepA-44 | CH9: cepA-49 | CI9: cfiA2 | CJ9: cfiA4 | CK9: cfxA | CL9: cfxA2 | CM9: cfxA3 | CN9: cfxA4 | CO9: cfxA5 | CP9: cfxA6 | CQ9: cat | CR9: cat(pC194) | CS9: cat(pC221) | CT9: cat(pC233) | CU9: catA1 | CV9: catA2 | CW9: catA3 | CX9: catB2 | CY9: catB3 | CZ9: catP | DA9: catQ | DB9: catS | DC9: cfr | DD9: cfr(C) | DE9: Cfr(D) | DF9: Cfr(E) | DG9: cmlA1 | DH9: cmx | DI9: fexA | DJ9: fexB | DK9: floR | DL9: dfrA1 | DM9: dfrA12 | DN9: dfrA14 | DO9: dfrA16 | DP9: dfrA17 | DQ9: dfrA20 | DR9: dfrA36 | DS9: dfrA5 | DT9: dfrA8 | DU9: dfrD | DV9: dfrE | DW9: dfrG | DX9: dfrK | DY9: ere(D) | DZ9: erm(45) | EA9: erm(47) | EB9: erm(48) | EC9: erm(50) | ED9: erm(A) | EE9: erm(B) | EF9: erm(C) | EG9: erm(F) | EH9: erm(G) | EI9: erm(N) | EJ9: erm(Q) | EK9: erm(T) | EL9: erm(X) | EM9: erm(Y) | EN9: lnu(A) | EO9: lnu(B) | EP9: lnu(C) | EQ9: lnu(F) | ER9: lnu(G) | ES9: lnu(P) | ET9: lsa(A) | EU9: lsa(B) | EV9: lsa(C) | EW9: lsa(E) | EX9: mdt(A) | EY9: mef(A) | EZ9: mef(B) | FA9: mef(C) | FB9: mph(A) | FC9: mph(B) | FD9: mph(C) | FE9: mph(E) | FF9: mph(F) | FG9: mph(G) | FH9: mph(N) | FI9: msr(A) | FJ9: msr(C) | FK9: msr(D) | FL9: msr(E) | FM9: vga(C) | FN9: vga(E) | FO9: tet(31) | FP9: tet(32) | FQ9: tet(33) | FR9: tet(40) | FS9: tet(44) | FT9: tet(45) | FU9: tet(A) | FV9: tet(B) | FW9: tet(C) | FX9: tet(D) | FY9: tet(G) | FZ9: tet(H) | GA9: tet(K) | GB9: tet(L) | GC9: tet(M) | GD9: tet(O) | GE9: tet(O/32/O) | GF9: tet(O/W) | GG9: tet(O/W)-1 | GH9: tet(O/W)-2 | GI9: tet(O/W/32/O) | GJ9: tet(O/W/32/O/W/O) | GK9: tet(O/W/O)-1 | GL9: tet(O/W/O)-2 | GM9: tet(Q) | GN9: tet(S) | GO9: tet(S/M) | GP9: tet(T) | GQ9: tet(W) | GR9: tet(W/32/O) | GS9: tet(X) | GT9: tet(X3) | GU9: tet(X6) | GV9: tet(Y) | GW9: tet(Z) | GX9: tetA(P) | GY9: tetB(P) | GZ9: nimA | HA9: nimB | HB9: nimC | HC9: nimD | HD9: nimH | HE9: nimJ | HF9: qnrB19 | HG9: qnrB5 | HH9: qnrD1 | HI9: qnrS1 | HJ9: OqxA | HK9: qnrS3 | HL9: sul1 | HM9: sul2 | HN9: sul3 | HO9: VanC1XY | HP9: VanG2XY | HQ9: VanGXY | HR9: VanHBX | HS9: VanHDX | HT9: fosA | HU9: fusC | HV9: mcr-1.1 | HW9: mcr-1.26 | HX9: NarA | HY9: NarB | HZ9: optrA | IA9: poxtA | IB9: bleO | IC9: aac(3)-IIa | ID9: aac(3)-IId | IE9: aac(3)-IV | IF9: aac(3)-IVa | IG9: aac(3)-XI | IH9: aac(6')-aph(2'') | II9: aac(6')-Ib3 | IJ9: aac(6')-Ii | IK9: aac(6')-Iid | IL9: aac(6')-Im | IM9: aadA1 | IN9: aadA11 | IO9: aadA13 | IP9: aadA14 | IQ9: aadA2 | IR9: aadA22 | IS9: aadA24 | IT9: aadA3 | IU9: aadA5 | IV9: aadA7 | IW9: aadA9 | IX9: aadD | IY9: aadE-Cc | IZ9: ant(3'')-Ia | JA9: ant(6)-Ia | JB9: ant(6)-Ib | JC9: ant(9)-Ia | JD9: aph(2'')-Ia | JE9: aph(2'')-Ib | JF9: aph(2'')-Ic | JG9: aph(2'')-If | JH9: aph(2'')-Ig | JI9: aph(2'')-Ih | JJ9: aph(3'')-Ib | JK9: aph(3')-Ia | JL9: aph(3')-Ib | JM9: aph(3')-IIa | JN9: aph(3')-III | JO9: aph(3')-IIIa | JP9: aph(4)-Ia | JQ9: aph(6)-Id | JR9: npmA | JS9: rmtD2 | JT9: rmtF | JU9: str | JV9: blaACI-1 | JW9: blaCARB-10 | JX9: blaCARB-14 | JY9: blaCARB-16 | JZ9: blaCTX-M-1 | KA9: blaCTX-M-14 | KB9: blaCTX-M-15 | KC9: blaCTX-M-32 | KD9: blaCTX-M-55 | KE9: blaIMP-64 | KF9: blaLAP-2 | KG9: blaOXA-1 | KH9: blaOXA-193 | KI9: blaOXA-347 | KJ9: blaOXA-450 | KK9: blaOXA-451 | KL9: blaOXA-452 | KM9: blaOXA-453 | KN9: blaOXA-460 | KO9: blaOXA-489 | KP9: blaOXA-58 | KQ9: blaOXA-61 | KR9: blaOXA-85 | KS9: blaROB-1 | KT9: blaSHV-12 | KU9: blaSHV-70 | KV9: blaTEM-1A | KW9: blaTEM-1B | KX9: blaTEM-1C | KY9: blaTEM-1D | KZ9: cepA | LA9: cepA-29 | LB9: cepA-44 | LC9: cepA-49 | LD9: cfiA2 | LE9: cfiA4 | LF9: cfxA | LG9: cfxA2 | LH9: cfxA3 | LI9: cfxA4 | LJ9: cfxA5 | LK9: cfxA6 | LL9: cat | LM9: cat(pC194) | LN9: cat(pC221) | LO9: cat(pC233) | LP9: catA1 | LQ9: catA2 | LR9: catA3 | LS9: catB2 | LT9: catB3 | LU9: catP | LV9: catQ | LW9: catS | LX9: cfr | LY9: cfr(C) | LZ9: Cfr(D) | MA9: Cfr(E) | MB9: cmlA1 | MC9: cmx | MD9: fexA | ME9: fexB | MF9: floR | MG9: dfrA1 | MH9: dfrA12 | MI9: dfrA14 | MJ9: dfrA16 | MK9: dfrA17 | ML9: dfrA20 | MM9: dfrA36 | MN9: dfrA5 | MO9: dfrA8 | MP9: dfrD | MQ9: dfrE | MR9: dfrG | MS9: dfrK | MT9: ere(D) | MU9: erm(45) | MV9: erm(47) | MW9: erm(48) | MX9: erm(50) | MY9: erm(A) | MZ9: erm(B) | NA9: erm(C) | NB9: erm(F) | NC9: erm(G) | ND9: erm(N) | NE9: erm(Q) | NF9: erm(T) | NG9: erm(X) | NH9: erm(Y) | NI9: lnu(A) | NJ9: lnu(B) | NK9: lnu(C) | NL9: lnu(F) | NM9: lnu(G) | NN9: lnu(P) | NO9: lsa(A) | NP9: lsa(B) | NQ9: lsa(C) | NR9: lsa(E) | NS9: mdt(A) | NT9: mef(A) | NU9: mef(B) | NV9: mef(C) | NW9: mph(A) | NX9: mph(B) | NY9: mph(C) | NZ9: mph(E) | OA9: mph(F) | OB9: mph(G) | OC9: mph(N) | OD9: msr(A) | OE9: msr(C) | OF9: msr(D) | OG9: msr(E) | OH9: vga(C) | OI9: vga(E) | OJ9: tet(31) | OK9: tet(32) | OL9: tet(33) | OM9: tet(40) | ON9: tet(44) | OO9: tet(45) | OP9: tet(A) | OQ9: tet(B) | OR9: tet(C) | OS9: tet(D) | OT9: tet(G) | OU9: tet(H) | OV9: tet(K) | OW9: tet(L) | OX9: tet(M) | OY9: tet(O) | OZ9: tet(O/32/O) | PA9: tet(O/W) | PB9: tet(O/W)-1 | PC9: tet(O/W)-2 | PD9: tet(O/W/32/O) | PE9: tet(O/W/32/O/W/O) | PF9: tet(O/W/O)-1 | PG9: tet(O/W/O)-2 | PH9: tet(Q) | PI9: tet(S) | PJ9: tet(S/M) | PK9: tet(T) | PL9: tet(W) | PM9: tet(W/32/O) | PN9: tet(X) | PO9: tet(X3) | PP9: tet(X6) | PQ9: tet(Y) | PR9: tet(Z) | PS9: tetA(P) | PT9: tetB(P) | PU9: nimA | PV9: nimB | PW9: nimC | PX9: nimD | PY9: nimH | PZ9: nimJ | QA9: qnrB19 | QB9: qnrB5 | QC9: qnrD1 | QD9: qnrS1 | QE9: OqxA | QF9: qnrS3 | QG9: sul1 | QH9: sul2 | QI9: sul3 | QJ9: VanC1XY | QK9: VanG2XY | QL9: VanGXY | QM9: VanHBX | QN9: VanHDX | QO9: fosA | QP9: fusC | QQ9: mcr-1.1 | QR9: mcr-1.26 | QS9: NarA | QT9: NarB | QU9: optrA | QV9: poxtA | QW9: bleO
A10: ST1 | B10: G1 | C10: 788 | D10: 28459804 | E10: 28725588 | F10: =100-(D10/E10)*100 -> 0.92525173 | G10: 3.8146402 | H10: 0 | I10: 0 | J10: 0 | K10: 0 | L10: 0 | M10: 0 | N10: 0 | O10: 0 | P10: 0 | Q10: 26.85 | R10: 86.59 | S10: 0 | T10: 2.95 | U10: 0 | V10: 0 | W10: 0 | X10: 0 | Y10: 0 | Z10: 0 | AA10: 0 | AB10: 0 | AC10: 0 | AD10: 0 | AE10: 16.97 | AF10: 762.63 | AG10: 19.23 | AH10: 0 | AI10: 0 | AJ10: 22.71 | AK10: 0 | AL10: 34.12 | AM10: 12.79 | AN10: 0 | AO10: 20.82 | AP10: 25.54 | AQ10: 0 | AR10: 15.06 | AS10: 847.06 | AT10: 0 | AU10: 0 | AV10: 21.42 | AW10: 15.53 | AX10: 0 | AY10: 0 | AZ10: 0 | BA10: 25.09 | BB10: 0 | BC10: 0 | BD10: 0 | BE10: 0 | BF10: 0 | BG10: 0 | BH10: 0 | BI10: 0 | BJ10: 0 | BK10: 0 | BL10: 0 | BM10: 0 | BN10: 2.78 | BO10: 0 | BP10: 0 | BQ10: 0 | BR10: 0 | BS10: 0 | BT10: 0 | BU10: 0 | BV10: 0 | BW10: 0 | BX10: 0 | BY10: 20.35 | BZ10: 0 | CA10: 0 | CB10: 155.13 | CC10: 5.36 | CD10: 0 | CE10: 2.61 | CF10: 0 | CG10: 0 | CH10: 0 | CI10: 0 | CJ10: 19.28 | CK10: 90.67 | CL10: 0 | CM10: 0 | CN10: 0 | CO10: 0 | CP10: 0 | CQ10: 0 | CR10: 0 | CS10: 0 | CT10: 0 | CU10: 19.82 | CV10: 0 | CW10: 0 | CX10: 0 | CY10: 0 | CZ10: 0 | DA10: 0 | DB10: 0 | DC10: 0 | DD10: 16.54 | DE10: 0 | DF10: 9.44 | DG10: 0 | DH10: 0 | DI10: 6.32 | DJ10: 0 | DK10: 0 | DL10: 90.6 | DM10: 0 | DN10: 0 | DO10: 0 | DP10: 23.61 | DQ10: 0 | DR10: 0 | DS10: 0 | DT10: 0 | DU10: 0 | DV10: 0 | DW10: 5.61 | DX10: 0 | DY10: 0 | DZ10: 0 | EA10: 2.25 | EB10: 0 | EC10: 0 | ED10: 0 | EE10: 1672.56 | EF10: 0 | EG10: 75.57 | EH10: 1003.66 | EI10: 39.13 | EJ10: 0 | EK10: 0 | EL10: 0 | EM10: 0 | EN10: 115.19 | EO10: 40.31 | EP10: 136.59 | EQ10: 3.02 | ER10: 3.57 | ES10: 0 | ET10: 0 | EU10: 0 | EV10: 0 | EW10: 36.43 | EX10: 0 | EY10: 68.79 | EZ10: 0 | FA10: 190.4 | FB10: 104.41 | FC10: 0 | FD10: 0 | FE10: 0 | FF10: 0 | FG10: 185.75 | FH10: 0 | FI10: 0 | FJ10: 0 | FK10: 0 | FL10: 0 | FM10: 0 | FN10: 0 | FO10: 0 | FP10: 0 | FQ10: 0 | FR10: 405.54 | FS10: 25.34 | FT10: 10.75 | FU10: 124.95 | FV10: 4.36 | FW10: 15.36 | FX10: 0 | FY10: 0 | FZ10: 0 | GA10: 0 | GB10: 92.6 | GC10: 41.7 | GD10: 130.78 | GE10: 0 | GF10: 910.49 | GG10: 0 | GH10: 128.6 | GI10: 0 | GJ10: 0 | GK10: 0 | GL10: 0 | GM10: 626.09 | GN10: 0 | GO10: 0 | GP10: 0 | GQ10: 940.51 | GR10: 65.75 | GS10: 59.13 | GT10: 0 | GU10: 0 | GV10: 0 | GW10: 0 | GX10: 0 | GY10: 0 | GZ10: 0 | HA10: 0 | HB10: 0 | HC10: 0 | HD10: 0 | HE10: 0 | HF10: 28.71 | HG10: 0 | HH10: 0 | HI10: 14.03 | HJ10: 0 | HK10: 0 | HL10: 30.4 | HM10: 62.1 | HN10: 13.43 | HO10: 0 | HP10: 0 | HQ10: 0 | HR10: 0 | HS10: 0 | HT10: 0 | HU10: 0 | HV10: 0 | HW10: 0 | HX10: 0 | HY10: 0 | HZ10: 0 | IA10: 0 | IB10: 0 | IC10: =(H10/$D10)*1000000 -> 0 | ID10: =(I10/$D10)*1000000 -> 0 | IE10: =(J10/$D10)*1000000 -> 0 | IF10: =(K10/$D10)*1000000 -> 0 | IG10: =(L10/$D10)*1000000 -> 0 | IH10: =(M10/$D10)*1000000 -> 0 | II10: =(N10/$D10)*1000000 -> 0 | IJ10: =(O10/$D10)*1000000 -> 0 | ... QW10: =(IB10/$D10)*1000000 -> 0
C11: 806 | D11: 23885517 | E11: 24922818 | F11: =100-(D11/E11)*100 -> 4.1620534 | G11: 3.7743809 | H11: 0 | I11: 0 | J11: 0 | K11: 0 | L11: 0 | M11: 0 | N11: 0 | O11: 0 | P11: 0 | Q11: 33.23 | R11: 32.12 | S11: 0 | T11: 10.52 | U11: 0 | V11: 3.62 | W11: 0 | X11: 0 | Y11: 0 | Z11: 0 | AA11: 0 | AB11: 0 | AC11: 0 | AD11: 17.35 | AE11: 0 | AF11: 362.33 | AG11: 0 | AH11: 0 | AI11: 0 | AJ11: 24.32 | AK11: 0 | AL11: 0 | AM11: 4.2 | AN11: 0 | AO11: 9.01 | AP11: 0 | AQ11: 0 | AR11: 0 | AS11: 131.94 | AT11: 0 | AU11: 0 | AV11: 8.46 | AW11: 13.99 | AX11: 0 | AY11: 0 | AZ11: 0 | BA11: 24.36 | BB11: 0 | BC11: 0 | BD11: 0 | BE11: 0 | BF11: 0 | BG11: 0 | BH11: 0 | BI11: 0 | BJ11: 0 | BK11: 0 | BL11: 0 | BM11: 2.91 | BN11: 9.65 | BO11: 0 | BP11: 21.63 | BQ11: 0 | BR11: 0 | BS11: 0 | BT11: 0 | BU11: 0 | BV11: 0 | BW11: 0 | BX11: 0 | BY11: 0 | BZ11: 0 | CA11: 0 | CB11: 110.18 | CC11: 0 | CD11: 0 | CE11: 30.62 | CF11: 0 | CG11: 0 | CH11: 0 | CI11: 0 | CJ11: 0 | CK11: 0 | CL11: 0 | CM11: 59.43 | CN11: 0 | CO11: 0 | CP11: 0 | CQ11: 0 | CR11: 0 | CS11: 0 | CT11: 0 | CU11: 7.47 | CV11: 0 | CW11: 0 | CX11: 0 | CY11: 0 | CZ11: 0 | DA11: 0 | DB11: 0 | DC11: 0 | DD11: 0 | DE11: 0 | DF11: 0 | DG11: 5.09 | DH11: 0 | DI11: 0 | DJ11: 0 | DK11: 3.9 | DL11: 27.28 | DM11: 3.18 | DN11: 0 | DO11: 0 | DP11: 0 | DQ11: 0 | DR11: 0 | DS11: 2.72 | DT11: 0 | DU11: 0 | DV11: 0 | DW11: 0 | DX11: 0 | DY11: 0 | DZ11: 0 | EA11: 0 | EB11: 0 | EC11: 0 | ED11: 0 | EE11: 299.34 | EF11: 0 | EG11: 985.1 | EH11: 765.78 | EI11: 0 | EJ11: 3.41 | EK11: 0 | EL11: 0 | EM11: 0 | EN11: 1.15 | EO11: 30.71 | EP11: 501.6 | EQ11: 0 | ER11: 0 | ES11: 0 | ET11: 0 | EU11: 0 | EV11: 0 | EW11: 29.59 | EX11: 0 | EY11: 191.4 | EZ11: 0 | FA11: 65.62 | FB11: 25.14 | FC11: 0 | FD11: 0 | FE11: 0 | FF11: 0 | FG11: 70.88 | FH11: 0 | FI11: 0 | FJ11: 0 | FK11: 24.85 | FL11: 0 | FM11: 0 | FN11: 0 | FO11: 0 | FP11: 9.44 | FQ11: 0 | FR11: 343.53 | FS11: 35.97 | FT11: 0 | FU11: 27.14 | FV11: 0 | FW11: 0 | FX11: 0 | FY11: 0 | FZ11: 0 | GA11: 0 | GB11: 0 | GC11: 12.44 | GD11: 63.34 | GE11: 0 | GF11: 140.45 | GG11: 22.59 | GH11: 0 | GI11: 0 | GJ11: 0 | GK11: 0 | GL11: 0 | GM11: 1291.83 | GN11: 0 | GO11: 0 | GP11: 0 | GQ11: 602.31 | GR11: 0 | GS11: 77.74 | GT11: 0 | GU11: 0 | GV11: 0 | GW11: 0 | GX11: 0 | GY11: 0 | GZ11: 0 | HA11: 0 | HB11: 0 | HC11: 0 | HD11: 0 | HE11: 0 | HF11: 30.57 | HG11: 0 | HH11: 0 | HI11: 67.86 | HJ11: 0 | HK11: 0 | HL11: 8.06 | HM11: 17.36 | HN11: 20.33 | HO11: 0 | HP11: 0 | HQ11: 0 | HR11: 0 | HS11: 0 | HT11: 0 | HU11: 0 | HV11: 0 | HW11: 0 | HX11: 0 | HY11: 0 | HZ11: 0 | IA11: 0 | IB11: 0 | IC11: =(H11/$D11)*1000000 -> 0 | ID11: =(I11/$D11)*1000000 -> 0 | IE11: =(J11/$D11)*1000000 -> 0 | IF11: =(K11/$D11)*1000000 -> 0 | IG11: =(L11/$D11)*1000000 -> 0 | IH11: =(M11/$D11)*1000000 -> 0 | II11: =(N11/$D11)*1000000 -> 0 | IJ11: =(O11/$D11)*1000000 -> 0 | ... QW11: =(IB11/$D11)*1000000 -> 0
C12: 807 | D12: 15523730 | E12: 28688409 | F12: =100-(D12/E12)*100 -> 45.888495 | G12: 4.0390087 | H12: 0 | I12: 0 | J12: 0 | K12: 0 | L12: 0 | M12: 0 | N12: 0 | O12: 0 | P12: 0 | Q12: 52.74 | R12: 28.81 | S12: 0 | T12: 7.72 | U12: 0 | V12: 0 | W12: 0 | X12: 0 | Y12: 0 | Z12: 0 | AA12: 0 | AB12: 0 | AC12: 0 | AD12: 0 | AE12: 0 | AF12: 344.63 | AG12: 19.87 | AH12: 0 | AI12: 0 | AJ12: 29.13 | AK12: 0 | AL12: 5.17 | AM12: 7.59 | AN12: 0 | AO12: 9.79 | AP12: 0 | AQ12: 0 | AR12: 0 | AS12: 221.16 | AT12: 0 | AU12: 0 | AV12: 7.41 | AW12: 0 | AX12: 0 | AY12: 0 | AZ12: 0 | BA12: 4.62 | BB12: 0 | BC12: 0 | BD12: 0 | BE12: 0 | BF12: 0 | BG12: 0 | BH12: 0 | BI12: 0 | BJ12: 0 | BK12: 0 | BL12: 0 | BM12: 0 | BN12: 0 | BO12: 0 | BP12: 0 | BQ12: 0 | BR12: 0 | BS12: 0 | BT12: 0 | BU12: 0 | BV12: 0 | BW12: 0 | BX12: 0 | BY12: 0 | BZ12: 0 | CA12: 0 | CB12: 104.96 | CC12: 0 | CD12: 0 | CE12: 0 | CF12: 0 | CG12: 0 | CH12: 0 | CI12: 0 | CJ12: 0 | CK12: 0 | CL12: 0 | CM12: 18.97 | CN12: 0 | CO12: 0 | CP12: 3.96 | CQ12: 0 | CR12: 0 | CS12: 0 | CT12: 0 | CU12: 0 | CV12: 0 | CW12: 0 | CX12: 0 | CY12: 0 | CZ12: 0 | DA12: 0 | DB12: 0 | DC12: 0 | DD12: 0 | DE12: 0 | DF12: 6.2 | DG12: 0 | DH12: 0 | DI12: 0 | DJ12: 0 | DK12: 0 | DL12: 34.54 | DM12: 0 | DN12: 0 | DO12: 0 | DP12: 0 | DQ12: 0 | DR12: 0 | DS12: 0 | DT12: 0 | DU12: 0 | DV12: 0 | DW12: 0 | DX12: 0 | DY12: 0 | DZ12: 0 | EA12: 0 | EB12: 0 | EC12: 0 | ED12: 0 | EE12: 228.19 | EF12: 0 | EG12: 394.02 | EH12: 114.06 | EI12: 0 | EJ12: 3.63 | EK12: 6.14 | EL12: 0 | EM12: 0 | EN12: 0 | EO12: 0 | EP12: 290.98 | EQ12: 0 | ER12: 0 | ES12: 5.8 | ET12: 0 | EU12: 0 | EV12: 0 | EW12: 0 | EX12: 0 | EY12: 175.09 | EZ12: 0 | FA12: 63.85 | FB12: 49.04 | FC12: 0 | FD12: 0 | FE12: 0 | FF12: 0 | FG12: 62.88 | FH12: 0 | FI12: 0 | FJ12: 0 | FK12: 0 | FL12: 0 | FM12: 0 | FN12: 0 | FO12: 0 | FP12: 0 | FQ12: 0 | FR12: 372.85 | FS12: 39.53 | FT12: 0 | FU12: 32.81 | FV12: 0 | FW12: 32.32 | FX12: 0 | FY12: 0 | FZ12: 0 | GA12: 0 | GB12: 0 | GC12: 5.3 | GD12: 11.68 | GE12: 61.38 | GF12: 98.46 | GG12: 43.65 | GH12: 0 | GI12: 0 | GJ12: 0 | GK12: 0 | GL12: 0 | GM12: 665.57 | GN12: 0 | GO12: 0 | GP12: 0 | GQ12: 505.71 | GR12: 73.78 | GS12: 3.51 | GT12: 0 | GU12: 0 | GV12: 0 | GW12: 0 | GX12: 9.34 | GY12: 3.87 | GZ12: 0 | HA12: 0 | HB12: 0 | HC12: 0 | HD12: 0 | HE12: 0 | HF12: 4.25 | HG12: 0 | HH12: 0 | HI12: 50.74 | HJ12: 0 | HK12: 0 | HL12: 31.39 | HM12: 22.29 | HN12: 6.23 | HO12: 0 | HP12: 0 | HQ12: 0 | HR12: 0 | HS12: 0 | HT12: 0 | HU12: 0 | HV12: 0 | HW12: 0 | HX12: 0 | HY12: 0 | HZ12: 0 | IA12: 0 | IB12: 0 | IC12: =(H12/$D12)*1000000 -> 0 | ID12: =(I12/$D12)*1000000 -> 0 | IE12: =(J12/$D12)*1000000 -> 0 | IF12: =(K12/$D12)*1000000 -> 0 | IG12: =(L12/$D12)*1000000 -> 0 | IH12: =(M12/$D12)*1000000 -> 0 | II12: =(N12/$D12)*1000000 -> 0 | IJ12: =(O12/$D12)*1000000 -> 0 | ... QW12: =(IB12/$D12)*1000000 -> 0
C13: 819 | D13: 19731025 | E13: 24926062 | F13: =100-(D13/E13)*100 -> 20.841788 | G13: 3.5130305 | H13: 0 | I13: 0 | J13: 0 | K13: 0 | L13: 0 | M13: 0 | N13: 0 | O13: 0 | P13: 0 | Q13: 61.01 | R13: 0 | S13: 0 | T13: 0 | U13: 0 | V13: 6.19 | W13: 0 | X13: 0 | Y13: 0 | Z13: 0 | AA13: 0 | AB13: 0 | AC13: 0 | AD13: 0 | AE13: 8.74 | AF13: 884.87 | AG13: 173.37 | AH13: 0 | AI13: 0 | AJ13: 52.91 | AK13: 0 | AL13: 161.73 | AM13: 12.94 | AN13: 0 | AO13: 221 | AP13: 11.74 | AQ13: 0 | AR13: 0 | AS13: 389.98 | AT13: 0 | AU13: 0 | AV13: 239.85 | AW13: 3.17 | AX13: 0 | AY13: 0 | AZ13: 0 | BA13: 3.72 | BB13: 0 | BC13: 0 | BD13: 0 | BE13: 0 | BF13: 0 | BG13: 0 | BH13: 0 | BI13: 0 | BJ13: 0 | BK13: 0 | BL13: 0 | BM13: 0 | BN13: 0 | BO13: 0 | BP13: 0 | BQ13: 0 | BR13: 0 | BS13: 0 | BT13: 0 | BU13: 0 | BV13: 0 | BW13: 0 | BX13: 2.46 | BY13: 0 | BZ13: 0 | CA13: 4.25 | CB13: 22.49 | CC13: 0 | CD13: 0 | CE13: 0 | CF13: 0 | CG13: 0 | CH13: 118.55 | CI13: 0 | CJ13: 0 | CK13: 0 | CL13: 0 | CM13: 0 | CN13: 0 | CO13: 23.78 | CP13: 10.66 | CQ13: 0 | CR13: 0 | CS13: 0 | CT13: 0 | CU13: 0 | CV13: 0 | CW13: 0 | CX13: 0 | CY13: 0 | CZ13: 0 | DA13: 0 | DB13: 0 | DC13: 0 | DD13: 0 | DE13: 0 | DF13: 6.02 | DG13: 1.94 | DH13: 0 | DI13: 0 | DJ13: 0 | DK13: 0 | DL13: 7.78 | DM13: 0 | DN13: 0 | DO13: 0 | DP13: 21.16 | DQ13: 0 | DR13: 0 | DS13: 0 | DT13: 0 | DU13: 0 | DV13: 0 | DW13: 0 | DX13: 0 | DY13: 0 | DZ13: 0 | EA13: 0 | EB13: 0 | EC13: 0 | ED13: 0 | EE13: 964.95 | EF13: 0 | EG13: 193.84 | EH13: 178.47 | EI13: 19.85 | EJ13: 6.43 | EK13: 14.77 | EL13: 0 | EM13: 0 | EN13: 13.66 | EO13: 0 | EP13: 803.42 | EQ13: 2.12 | ER13: 3.18 | ES13: 12.99 | ET13: 0 | EU13: 0 | EV13: 0 | EW13: 0 | EX13: 0 | EY13: 56.43 | EZ13: 0 | FA13: 21.11 | FB13: 2.24 | FC13: 0 | FD13: 0 | FE13: 0 | FF13: 0 | FG13: 26.11 | FH13: 0 | FI13: 0 | FJ13: 0 | FK13: 4.12 | FL13: 0 | FM13: 0 | FN13: 0 | FO13: 0 | FP13: 20.38 | FQ13: 0 | FR13: 342.31 | FS13: 253.54 | FT13: 0 | FU13: 30.88 | FV13: 3.32 | FW13: 0 | FX13: 0 | FY13: 0 | FZ13: 0 | GA13: 0 | GB13: 0 | GC13: 9.46 | GD13: 43.67 | GE13: 44.19 | GF13: 88.93 | GG13: 0 | GH13: 34.82 | GI13: 0 | GJ13: 0 | GK13: 0 | GL13: 0 | GM13: 249.85 | GN13: 0 | GO13: 0 | GP13: 0 | GQ13: 1410.73 | GR13: 93.44 | GS13: 22.55 | GT13: 0 | GU13: 0 | GV13: 0 | GW13: 0 | GX13: 16.92 | GY13: 7.15 | GZ13: 0 | HA13: 0 | HB13: 0 | HC13: 0 | HD13: 0 | HE13: 0 | HF13: 16.15 | HG13: 0 | HH13: 0 | HI13: 5.47 | HJ13: 0 | HK13: 0 | HL13: 4.7 | HM13: 304.86 | HN13: 11.24 | HO13: 0 | HP13: 0 | HQ13: 0 | HR13: 2.35 | HS13: 0 | HT13: 0 | HU13: 0 | HV13: 0 | HW13: 0 | HX13: 0 | HY13: 0 | HZ13: 0 | IA13: 0 | IB13: 0 | IC13: =(H13/$D13)*1000000 -> 0 | ID13: =(I13/$D13)*1000000 -> 0 | IE13: =(J13/$D13)*1000000 -> 0 | IF13: =(K13/$D13)*1000000 -> 0 | IG13: =(L13/$D13)*1000000 -> 0 | IH13: =(M13/$D13)*1000000 -> 0 | II13: =(N13/$D13)*1000000 -> 0 | IJ13: =(O13/$D13)*1000000 -> 0 | ... QW13: =(IB13/$D13)*1000000 -> 0
C14: 825 | D14: 21865821 | E14: 29071279 | F14: =100-(D14/E14)*100 -> 24.785487 | G14: 3.9045015 | H14: 0 | I14: 0 | J14: 0 | K14: 0 | L14: 0 | M14: 0 | N14: 0 | O14: 0 | P14: 0 | Q14: 44.71 | R14: 0 | S14: 0 | T14: 0 | U14: 0 | V14: 0 | W14: 0 | X14: 0 | Y14: 0 | Z14: 0 | AA14: 0 | AB14: 0 | AC14: 0 | AD14: 0 | AE14: 0 | AF14: 491.52 | AG14: 11.01 | AH14: 0 | AI14: 0 | AJ14: 25.36 | AK14: 0 | AL14: 7.72 | AM14: 7.73 | AN14: 0 | AO14: 4.46 | AP14: 1.03 | AQ14: 0 | AR14: 0 | AS14: 481.34 | AT14: 0 | AU14: 0 | AV14: 3.97 | AW14: 0 | AX14: 0 | AY14: 0 | AZ14: 0 | BA14: 17.72 | BB14: 0 | BC14: 0 | BD14: 0 | BE14: 0 | BF14: 0 | BG14: 0 | BH14: 0 | BI14: 0 | BJ14: 0 | BK14: 0 | BL14: 0 | BM14: 0 | BN14: 0 | BO14: 4.02 | BP14: 0 | BQ14: 0 | BR14: 0 | BS14: 0 | BT14: 0 | BU14: 0 | BV14: 0 | BW14: 0 | BX14: 0 | BY14: 0 | BZ14: 0 | CA14: 0 | CB14: 10.71 | CC14: 0 | CD14: 0 | CE14: 0 | CF14: 0 | CG14: 0 | CH14: 0 | CI14: 0 | CJ14: 0 | CK14: 125.48 | CL14: 0 | CM14: 0 | CN14: 0 | CO14: 0 | CP14: 23.31 | CQ14: 0 | CR14: 0 | CS14: 0 | CT14: 0 | CU14: 1.97 | CV14: 0 | CW14: 0 | CX14: 0 | CY14: 0 | CZ14: 0 | DA14: 0 | DB14: 0 | DC14: 0 | DD14: 0 | DE14: 0 | DF14: 5.1 | DG14: 0 | DH14: 0 | DI14: 0 | DJ14: 0 | DK14: 0 | DL14: 4.39 | DM14: 0 | DN14: 0 | DO14: 0 | DP14: 30.78 | DQ14: 0 | DR14: 0 | DS14: 0 | DT14: 0 | DU14: 0 | DV14: 0 | DW14: 0 | DX14: 0 | DY14: 0 | DZ14: 0 | EA14: 0 | EB14: 0 | EC14: 0 | ED14: 0 | EE14: 355.57 | EF14: 0 | EG14: 114.47 | EH14: 242.79 | EI14: 45.12 | EJ14: 19.34 | EK14: 56.09 | EL14: 0 | EM14: 0 | EN14: 0 | EO14: 0 | EP14: 557.11 | EQ14: 0 | ER14: 0 | ES14: 4.22 | ET14: 0 | EU14: 0 | EV14: 0 | EW14: 0 | EX14: 0 | EY14: 154.98 | EZ14: 0 | FA14: 58.4 | FB14: 4.38 | FC14: 0 | FD14: 0 | FE14: 0 | FF14: 0 | FG14: 58.69 | FH14: 0 | FI14: 0 | FJ14: 0 | FK14: 11.48 | FL14: 0 | FM14: 0 | FN14: 0 | FO14: 0 | FP14: 0 | FQ14: 0 | FR14: 385.41 | FS14: 14.55 | FT14: 0 | FU14: 64.96 | FV14: 0 | FW14: 0 | FX14: 0 | FY14: 0 | FZ14: 0 | GA14: 0 | GB14: 0 | GC14: 0 | GD14: 28.06 | GE14: 28.49 | GF14: 104.6 | GG14: 98.91 | GH14: 0 | GI14: 0 | GJ14: 0 | GK14: 0 | GL14: 0 | GM14: 749.41 | GN14: 0 | GO14: 0 | GP14: 0 | GQ14: 1173.05 | GR14: 117.29 | GS14: 72.95 | GT14: 0 | GU14: 0 | GV14: 0 | GW14: 0 | GX14: 23.24 | GY14: 25.73 | GZ14: 0 | HA14: 0 | HB14: 0 | HC14: 0 | HD14: 0 | HE14: 0 | HF14: 176.32 | HG14: 0 | HH14: 0 | HI14: 2.39 | HJ14: 0 | HK14: 0 | HL14: 4.35 | HM14: 76.3 | HN14: 0 | HO14: 0 | HP14: 0 | HQ14: 0 | HR14: 0 | HS14: 0 | HT14: 0 | HU14: 0 | HV14: 0 | HW14: 0 | HX14: 0 | HY14: 0 | HZ14: 0 | IA14: 0 | IB14: 0 | IC14: =(H14/$D14)*1000000 -> 0 | ID14: =(I14/$D14)*1000000 -> 0 | IE14: =(J14/$D14)*1000000 -> 0 | IF14: =(K14/$D14)*1000000 -> 0 | IG14: =(L14/$D14)*1000000 -> 0 | IH14: =(M14/$D14)*1000000 -> 0 | II14: =(N14/$D14)*1000000 -> 0 | IJ14: =(O14/$D14)*1000000 -> 0 | ... QW14: =(IB14/$D14)*1000000 -> 0
C15: 831 | D15: 27087232 | E15: 27705645 | F15: =100-(D15/E15)*100 -> 2.232083 | G15: 3.6570809 | H15: 0 | I15: 0 | J15: 0 | K15: 0 | L15: 0 | M15: 0 | N15: 0 | O15: 0 | P15: 0 | Q15: 545.09 | R15: 19.31 | S15: 0 | T15: 0 | U15: 6.46 | V15: 0 | W15: 0 | X15: 0 | Y15: 0 | Z15: 0 | AA15: 0 | AB15: 0 | AC15: 0 | AD15: 0 | AE15: 0 | AF15: 790.96 | AG15: 64.13 | AH15: 1 | AI15: 0 | AJ15: 531.61 | AK15: 5.59 | AL15: 47.54 | AM15: 0 | AN15: 0 | AO15: 215.31 | AP15: 0 | AQ15: 5.28 | AR15: 0 | AS15: 547.07 | AT15: 0 | AU15: 0 | AV15: 213.47 | AW15: 15.32 | AX15: 0 | AY15: 0 | AZ15: 0 | BA15: 6.16 | BB15: 0 | BC15: 0 | BD15: 0 | BE15: 0 | BF15: 0 | BG15: 0 | BH15: 0 | BI15: 0 | BJ15: 0 | BK15: 0 | BL15: 0 | BM15: 0 | BN15: 0 | BO15: 0 | BP15: 0 | BQ15: 0 | BR15: 0 | BS15: 0 | BT15: 0 | BU15: 0 | BV15: 0 | BW15: 2.82 | BX15: 0 | BY15: 0 | BZ15: 0 | CA15: 0 | CB15: 114.15 | CC15: 0 | CD15: 0 | CE15: 34.6 | CF15: 0 | CG15: 0 | CH15: 0 | CI15: 0 | CJ15: 0 | CK15: 29.86 | CL15: 0 | CM15: 0 | CN15: 0 | CO15: 0 | CP15: 0 | CQ15: 0 | CR15: 0 | CS15: 0 | CT15: 0 | CU15: 0 | CV15: 0 | CW15: 0 | CX15: 0 | CY15: 0 | CZ15: 0 | DA15: 0 | DB15: 0 | DC15: 0 | DD15: 11.64 | DE15: 0 | DF15: 19.59 | DG15: 0 | DH15: 9.02 | DI15: 0 | DJ15: 0 | DK15: 0 | DL15: 16.59 | DM15: 0 | DN15: 0 | DO15: 0 | DP15: 0 | DQ15: 0 | DR15: 0 | DS15: 0 | DT15: 0 | DU15: 0 | DV15: 0 | DW15: 0 | DX15: 0 | DY15: 0 | DZ15: 0 | EA15: 0 | EB15: 0 | EC15: 0 | ED15: 0 | EE15: 1683.38 | EF15: 0 | EG15: 239.48 | EH15: 320.26 | EI15: 0 | EJ15: 3.02 | EK15: 15.16 | EL15: 5.27 | EM15: 0 | EN15: 44.93 | EO15: 0 | EP15: 193.04 | EQ15: 0 | ER15: 0 | ES15: 6.74 | ET15: 0 | EU15: 0 | EV15: 0 | EW15: 0 | EX15: 0 | EY15: 71.38 | EZ15: 0 | FA15: 77.69 | FB15: 38.13 | FC15: 0 | FD15: 0 | FE15: 0 | FF15: 0 | FG15: 66.87 | FH15: 0 | FI15: 0 | FJ15: 0 | FK15: 13.56 | FL15: 0 | FM15: 0 | FN15: 0 | FO15: 0 | FP15: 20.11 | FQ15: 2.27 | FR15: 441.95 | FS15: 40.76 | FT15: 0 | FU15: 23.69 | FV15: 12.34 | FW15: 0 | FX15: 0 | FY15: 1.42 | FZ15: 0 | GA15: 0 | GB15: 0 | GC15: 24.09 | GD15: 157.87 | GE15: 42.21 | GF15: 205.92 | GG15: 112.9 | GH15: 0 | GI15: 0 | GJ15: 0 | GK15: 0 | GL15: 0 | GM15: 402.7 | GN15: 0 | GO15: 0 | GP15: 0 | GQ15: 1637.21 | GR15: 230.96 | GS15: 103.33 | GT15: 0 | GU15: 0 | GV15: 0 | GW15: 6.79 | GX15: 3.71 | GY15: 5.75 | GZ15: 0 | HA15: 0 | HB15: 0 | HC15: 1.92 | HD15: 0 | HE15: 0 | HF15: 0 | HG15: 0 | HH15: 0 | HI15: 54.19 | HJ15: 0 | HK15: 0 | HL15: 8.84 | HM15: 232.65 | HN15: 0 | HO15: 0 | HP15: 0 | HQ15: 0 | HR15: 0 | HS15: 5.81 | HT15: 0 | HU15: 0 | HV15: 0 | HW15: 0 | HX15: 0 | HY15: 0 | HZ15: 0 | IA15: 0 | IB15: 0 | IC15: =(H15/$D15)*1000000 -> 0 | ID15: =(I15/$D15)*1000000 -> 0 | IE15: =(J15/$D15)*1000000 -> 0 | IF15: =(K15/$D15)*1000000 -> 0 | IG15: =(L15/$D15)*1000000 -> 0 | IH15: =(M15/$D15)*1000000 -> 0 | II15: =(N15/$D15)*1000000 -> 0 | IJ15: =(O15/$D15)*1000000 -> 0 | ... QW15: =(IB15/$D15)*1000000 -> 0
C16: 882 | D16: 24329220 | E16: 24693484 | F16: =100-(D16/E16)*100 -> 1.4751422 | G16: 3.84224 | H16: 0 | I16: 0 | J16: 0 | K16: 0 | L16: 0 | M16: 0 | N16: 0 | O16: 0 | P16: 0 | Q16: 85.19 | R16: 6.75 | S16: 0 | T16: 0 | U16: 0 | V16: 4.32 | W16: 0 | X16: 0 | Y16: 0 | Z16: 0 | AA16: 0 | AB16: 0 | AC16: 0 | AD16: 25.08 | AE16: 34.15 | AF16: 865.5 | AG16: 253.18 | AH16: 0 | AI16: 0 | AJ16: 89.88 | AK16: 0 | AL16: 140.64 | AM16: 0 | AN16: 0 | AO16: 8.44 | AP16: 16.41 | AQ16: 0 | AR16: 0 | AS16: 2046.42 | AT16: 0 | AU16: 0 | AV16: 10.68 | AW16: 2.94 | AX16: 0 | AY16: 0 | AZ16: 0 | BA16: 7.66 | BB16: 0 | BC16: 0 | BD16: 0 | BE16: 0 | BF16: 0 | BG16: 0 | BH16: 0 | BI16: 0 | BJ16: 0 | BK16: 0 | BL16: 0 | BM16: 0 | BN16: 0 | BO16: 0 | BP16: 13.82 | BQ16: 0 | BR16: 0 | BS16: 0 | BT16: 0 | BU16: 0 | BV16: 0 | BW16: 0 | BX16: 2.66 | BY16: 0 | BZ16: 0 | CA16: 0 | CB16: 65.21 | CC16: 0 | CD16: 0 | CE16: 0 | CF16: 0 | CG16: 0 | CH16: 0 | CI16: 0 | CJ16: 30.85 | CK16: 0 | CL16: 0 | CM16: 52.74 | CN16: 0 | CO16: 0 | CP16: 0 | CQ16: 0 | CR16: 0 | CS16: 0 | CT16: 0 | CU16: 0 | CV16: 0 | CW16: 0 | CX16: 2.62 | CY16: 0 | CZ16: 0 | DA16: 0 | DB16: 0 | DC16: 0 | DD16: 0 | DE16: 0 | DF16: 13.71 | DG16: 0 | DH16: 0 | DI16: 0 | DJ16: 0 | DK16: 0 | DL16: 29.68 | DM16: 2.9 | DN16: 0 | DO16: 0 | DP16: 26.59 | DQ16: 0 | DR16: 0 | DS16: 12.21 | DT16: 0 | DU16: 0 | DV16: 0 | DW16: 0 | DX16: 0 | DY16: 0 | DZ16: 0 | EA16: 0 | EB16: 0 | EC16: 0 | ED16: 0 | EE16: 692.73 | EF16: 0 | EG16: 1179.93 | EH16: 518.69 | EI16: 40.36 | EJ16: 8.32 | EK16: 33.05 | EL16: 0 | EM16: 0 | EN16: 4.79 | EO16: 0 | EP16: 430.76 | EQ16: 4.17 | ER16: 8.41 | ES16: 23.66 | ET16: 0 | EU16: 0 | EV16: 0 | EW16: 0 | EX16: 0 | EY16: 543.89 | EZ16: 0 | FA16: 82.13 | FB16: 7.27 | FC16: 2.88 | FD16: 0 | FE16: 0 | FF16: 0 | FG16: 85.92 | FH16: 0 | FI16: 0 | FJ16: 0 | FK16: 0 | FL16: 0 | FM16: 0 | FN16: 0 | FO16: 0 | FP16: 15.92 | FQ16: 0 | FR16: 286.14 | FS16: 246.39 | FT16: 0 | FU16: 101.7 | FV16: 18.47 | FW16: 2.17 | FX16: 0 | FY16: 0 | FZ16: 0 | GA16: 0 | GB16: 0 | GC16: 3.34 | GD16: 54.91 | GE16: 0 | GF16: 119.88 | GG16: 55.14 | GH16: 0 | GI16: 0 | GJ16: 0 | GK16: 0 | GL16: 0 | GM16: 2443.54 | GN16: 0 | GO16: 0 | GP16: 0 | GQ16: 940.96 | GR16: 138.37 | GS16: 53.65 | GT16: 0 | GU16: 0 | GV16: 0 | GW16: 0 | GX16: 17.66 | GY16: 6.58 | GZ16: 0 | HA16: 0 | HB16: 0 | HC16: 13.08 | HD16: 0 | HE16: 0 | HF16: 95.21 | HG16: 0 | HH16: 0 | HI16: 3.42 | HJ16: 0 | HK16: 0 | HL16: 6.48 | HM16: 136.45 | HN16: 35.82 | HO16: 0 | HP16: 0 | HQ16: 0 | HR16: 0 | HS16: 0 | HT16: 0 | HU16: 0 | HV16: 0 | HW16: 0 | HX16: 0 | HY16: 0 | HZ16: 0 | IA16: 0 | IB16: 0 | IC16: =(H16/$D16)*1000000 -> 0 | ID16: =(I16/$D16)*1000000 -> 0 | IE16: =(J16/$D16)*1000000 -> 0 | IF16: =(K16/$D16)*1000000 -> 0 | IG16: =(L16/$D16)*1000000 -> 0 | IH16: =(M16/$D16)*1000000 -> 0 | II16: =(N16/$D16)*1000000 -> 0 | IJ16: =(O16/$D16)*1000000 -> 0 | ... QW16: =(IB16/$D16)*1000000 -> 0
C17: 900 | D17: 25373610 | E17: 28395378 | F17: =100-(D17/E17)*100 -> 10.64176 | G17: 3.3378783 | H17: 0 | I17: 0 | J17: 0 | K17: 3.52 | L17: 0 | M17: 0 | N17: 0 | O17: 0 | P17: 0 | Q17: 60.01 | R17: 0 | S17: 0 | T17: 145.89 | U17: 0 | V17: 0 | W17: 0 | X17: 0 | Y17: 0 | Z17: 0 | AA17: 0 | AB17: 0 | AC17: 0 | AD17: 0 | AE17: 30.38 | AF17: 354.12 | AG17: 0 | AH17: 0 | AI17: 0 | AJ17: 34.57 | AK17: 0 | AL17: 55.28 | AM17: 18.47 | AN17: 0 | AO17: 8.47 | AP17: 5.97 | AQ17: 0 | AR17: 0 | AS17: 365.6 | AT17: 0 | AU17: 3.27 | AV17: 13.41 | AW17: 0 | AX17: 0 | AY17: 0 | AZ17: 0 | BA17: 15.18 | BB17: 0 | BC17: 0 | BD17: 0 | BE17: 0 | BF17: 0 | BG17: 0 | BH17: 0 | BI17: 0 | BJ17: 0 | BK17: 0 | BL17: 0 | BM17: 0 | BN17: 0 | BO17: 0 | BP17: 0 | BQ17: 0 | BR17: 0 | BS17: 0 | BT17: 0 | BU17: 0 | BV17: 0 | BW17: 4.54 | BX17: 2.94 | BY17: 0 | BZ17: 0 | CA17: 0 | CB17: 17.24 | CC17: 0 | CD17: 0 | CE17: 6.52 | CF17: 0 | CG17: 0 | CH17: 0 | CI17: 0 | CJ17: 0 | CK17: 132.81 | CL17: 0 | CM17: 0 | CN17: 0 | CO17: 0 | CP17: 0 | CQ17: 0 | CR17: 0 | CS17: 0 | CT17: 0 | CU17: 2.15 | CV17: 0 | CW17: 0 | CX17: 0 | CY17: 0 | CZ17: 0 | DA17: 0 | DB17: 0 | DC17: 0 | DD17: 0 | DE17: 0 | DF17: 0 | DG17: 0 | DH17: 0 | DI17: 0 | DJ17: 0 | DK17: 3.21 | DL17: 9.66 | DM17: 0 | DN17: 3.16 | DO17: 0 | DP17: 0 | DQ17: 0 | DR17: 0 | DS17: 0 | DT17: 0 | DU17: 0 | DV17: 0 | DW17: 0 | DX17: 0 | DY17: 0 | DZ17: 0 | EA17: 0 | EB17: 0 | EC17: 0 | ED17: 0 | EE17: 1378.33 | EF17: 2.24 | EG17: 205.4 | EH17: 100.88 | EI17: 0 | EJ17: 0 | EK17: 0 | EL17: 0 | EM17: 0 | EN17: 1.47 | EO17: 0 | EP17: 249.19 | EQ17: 0 | ER17: 0 | ES17: 0 | ET17: 0 | EU17: 0 | EV17: 0 | EW17: 2.98 | EX17: 0 | EY17: 376.56 | EZ17: 0 | FA17: 16.09 | FB17: 7.01 | FC17: 0 | FD17: 0 | FE17: 2.16 | FF17: 0 | FG17: 15.93 | FH17: 0 | FI17: 0 | FJ17: 0 | FK17: 0 | FL17: 0 | FM17: 0 | FN17: 0 | FO17: 0 | FP17: 0 | FQ17: 0 | FR17: 150.18 | FS17: 0 | FT17: 0 | FU17: 16.76 | FV17: 5.95 | FW17: 2.62 | FX17: 0 | FY17: 5.98 | FZ17: 0 | GA17: 0 | GB17: 0 | GC17: 0 | GD17: 70.3 | GE17: 118.07 | GF17: 469.23 | GG17: 0 | GH17: 0 | GI17: 0 | GJ17: 0 | GK17: 0 | GL17: 0 | GM17: 1382.23 | GN17: 0 | GO17: 0 | GP17: 0 | GQ17: 491.59 | GR17: 31.67 | GS17: 22.23 | GT17: 0 | GU17: 0 | GV17: 0 | GW17: 0 | GX17: 0 | GY17: 0 | GZ17: 0 | HA17: 0 | HB17: 0 | HC17: 0 | HD17: 0 | HE17: 0 | HF17: 40.57 | HG17: 0 | HH17: 0 | HI17: 0 | HJ17: 0 | HK17: 0 | HL17: 142.96 | HM17: 10.27 | HN17: 2.61 | HO17: 0 | HP17: 0 | HQ17: 0 | HR17: 0 | HS17: 0 | HT17: 0 | HU17: 0 | HV17: 0 | HW17: 0 | HX17: 0 | HY17: 0 | HZ17: 0 | IA17: 0 | IB17: 0 | IC17: =(H17/$D17)*1000000 -> 0 | ID17: =(I17/$D17)*1000000 -> 0 | IE17: =(J17/$D17)*1000000 -> 0 | IF17: =(K17/$D17)*1000000 -> 0.13872681 | IG17: =(L17/$D17)*1000000 -> 0 | IH17: =(M17/$D17)*1000000 -> 0 | II17: =(N17/$D17)*1000000 -> 0 | IJ17: =(O17/$D17)*1000000 -> 0 | ... QW17: =(IB17/$D17)*1000000 -> 0
C18: 960 | D18: 11703521 | E18: 25813392 | F18: =100-(D18/E18)*100 -> 54.66105 | G18: 3.7896874 | H18: 0 | I18: 0 | J18: 0 | K18: 0 | L18: 0 | M18: 0 | N18: 0 | O18: 0 | P18: 0 | Q18: 13.8 | R18: 0 | S18: 0 | T18: 0 | U18: 0 | V18: 0 | W18: 0 | X18: 0 | Y18: 0 | Z18: 0 | AA18: 0 | AB18: 0 | AC18: 0 | AD18: 1.22 | AE18: 28.3 | AF18: 129.27 | AG18: 27.92 | AH18: 0 | AI18: 0 | AJ18: 11.27 | AK18: 0 | AL18: 0 | AM18: 0 | AN18: 0 | AO18: 12.05 | AP18: 3.01 | AQ18: 0 | AR18: 0 | AS18: 132.17 | AT18: 0 | AU18: 0 | AV18: 11.37 | AW18: 0 | AX18: 0 | AY18: 0 | AZ18: 0 | BA18: 0 | BB18: 0 | BC18: 0 | BD18: 0 | BE18: 0 | BF18: 0 | BG18: 0 | BH18: 0 | BI18: 0 | BJ18: 0 | BK18: 0 | BL18: 0 | BM18: 0 | BN18: 0 | BO18: 1.77 | BP18: 0 | BQ18: 0 | BR18: 0 | BS18: 0 | BT18: 0 | BU18: 0 | BV18: 0 | BW18: 0 | BX18: 0 | BY18: 0 | BZ18: 0 | CA18: 0 | CB18: 5.7 | CC18: 0 | CD18: 0 | CE18: 0 | CF18: 0 | CG18: 0 | CH18: 0 | CI18: 0 | CJ18: 0 | CK18: 0 | CL18: 0 | CM18: 24.95 | CN18: 0 | CO18: 0 | CP18: 0 | CQ18: 0 | CR18: 0 | CS18: 0 | CT18: 0 | CU18: 0 | CV18: 0 | CW18: 0 | CX18: 0 | CY18: 0 | CZ18: 0 | DA18: 0 | DB18: 0 | DC18: 0 | DD18: 0 | DE18: 0 | DF18: 0 | DG18: 0 | DH18: 0 | DI18: 0 | DJ18: 0 | DK18: 0 | DL18: 4.23 | DM18: 0 | DN18: 0 | DO18: 0 | DP18: 7.89 | DQ18: 0 | DR18: 0 | DS18: 0 | DT18: 0 | DU18: 0 | DV18: 0 | DW18: 0 | DX18: 0 | DY18: 0 | DZ18: 0 | EA18: 0 | EB18: 0 | EC18: 0 | ED18: 0 | EE18: 198.89 | EF18: 0 | EG18: 741.72 | EH18: 37.29 | EI18: 9.13 | EJ18: 0 | EK18: 0 | EL18: 0 | EM18: 0 | EN18: 5.2 | EO18: 0 | EP18: 139.79 | EQ18: 0 | ER18: 0 | ES18: 0 | ET18: 0 | EU18: 0 | EV18: 0 | EW18: 0 | EX18: 0 | EY18: 79.71 | EZ18: 0 | FA18: 18.18 | FB18: 0 | FC18: 5.8 | FD18: 0 | FE18: 0 | FF18: 0 | FG18: 21.38 | FH18: 0 | FI18: 0 | FJ18: 0 | FK18: 0 | FL18: 0 | FM18: 0 | FN18: 0 | FO18: 0 | FP18: 0 | FQ18: 0 | FR18: 63.41 | FS18: 66.74 | FT18: 0 | FU18: 22.61 | FV18: 2.15 | FW18: 11.14 | FX18: 0 | FY18: 0 | FZ18: 0 | GA18: 0 | GB18: 0 | GC18: 0 | GD18: 35.94 | GE18: 0 | GF18: 128.1 | GG18: 0 | GH18: 0 | GI18: 0 | GJ18: 0 | GK18: 0 | GL18: 0 | GM18: 1109.27 | GN18: 0 | GO18: 0 | GP18: 0 | GQ18: 140.32 | GR18: 0 | GS18: 28.82 | GT18: 0 | GU18: 0 | GV18: 0 | GW18: 0 | GX18: 0 | GY18: 0 | GZ18: 0 | HA18: 0 | HB18: 0 | HC18: 0 | HD18: 0 | HE18: 0 | HF18: 41.37 | HG18: 0 | HH18: 0 | HI18: 3.63 | HJ18: 0 | HK18: 0 | HL18: 22.74 | HM18: 12.27 | HN18: 8.31 | HO18: 0 | HP18: 0 | HQ18: 0 | HR18: 0 | HS18: 0 | HT18: 0 | HU18: 0 | HV18: 0 | HW18: 0 | HX18: 0 | HY18: 0 | HZ18: 0 | IA18: 0 | IB18: 0 | IC18: =(H18/$D18)*1000000 -> 0 | ID18: =(I18/$D18)*1000000 -> 0 | IE18: =(J18/$D18)*1000000 -> 0 | IF18: =(K18/$D18)*1000000 -> 0 | IG18: =(L18/$D18)*1000000 -> 0 | IH18: =(M18/$D18)*1000000 -> 0 | II18: =(N18/$D18)*1000000 -> 0 | IJ18: =(O18/$D18)*1000000 -> 0 | ... QW18: =(IB18/$D18)*1000000 -> 0
B19: G2 | C19: 777 | D19: 23455620 | E19: 25976551 | F19: =100-(D19/E19)*100 -> 9.7046409 | G19: 3.6900463 | H19: 0 | I19: 0 | J19: 0 | K19: 0 | L19: 0 | M19: 0 | N19: 0 | O19: 0 | P19: 0 | Q19: 29.22 | R19: 0 | S19: 0 | T19: 0 | U19: 0 | V19: 6.49 | W19: 0 | X19: 0 | Y19: 0 | Z19: 0 | AA19: 0 | AB19: 0 | AC19: 0 | AD19: 0 | AE19: 13.6 | AF19: 397.66 | AG19: 15.93 | AH19: 0 | AI19: 0 | AJ19: 28.01 | AK19: 0 | AL19: 25.6 | AM19: 2.2 | AN19: 0 | AO19: 11.21 | AP19: 288.91 | AQ19: 0 | AR19: 484.1 | AS19: 415.01 | AT19: 0 | AU19: 0 | AV19: 9.26 | AW19: 4.21 | AX19: 0 | AY19: 0 | AZ19: 0 | BA19: 7.45 | BB19: 0 | BC19: 0 | BD19: 0 | BE19: 0 | BF19: 0 | BG19: 0 | BH19: 0 | BI19: 0 | BJ19: 0 | BK19: 1.82 | BL19: 0 | BM19: 0 | BN19: 0 | BO19: 0 | BP19: 0 | BQ19: 0 | BR19: 0 | BS19: 0 | BT19: 0 | BU19: 0 | BV19: 0 | BW19: 5.89 | BX19: 0 | BY19: 989.93 | BZ19: 0 | CA19: 0 | CB19: 37.07 | CC19: 2.77 | CD19: 0 | CE19: 7.94 | CF19: 0 | CG19: 0 | CH19: 0 | CI19: 0 | CJ19: 0 | CK19: 0 | CL19: 0 | CM19: 19.43 | CN19: 0 | CO19: 0 | CP19: 8.87 | CQ19: 0 | CR19: 0 | CS19: 0 | CT19: 0 | CU19: 0 | CV19: 0 | CW19: 0 | CX19: 0 | CY19: 0 | CZ19: 0 | DA19: 0 | DB19: 0 | DC19: 0 | DD19: 9.33 | DE19: 0 | DF19: 4.13 | DG19: 4.68 | DH19: 0 | DI19: 0 | DJ19: 0 | DK19: 0 | DL19: 7.68 | DM19: 0 | DN19: 0 | DO19: 0 | DP19: 0 | DQ19: 0 | DR19: 0 | DS19: 0 | DT19: 0 | DU19: 0 | DV19: 0 | DW19: 0 | DX19: 0 | DY19: 0 | DZ19: 0 | EA19: 0 | EB19: 0 | EC19: 0 | ED19: 0 | EE19: 758.8 | EF19: 0 | EG19: 862.97 | EH19: 137.6 | EI19: 3.71 | EJ19: 6.22 | EK19: 12.07 | EL19: 0 | EM19: 0 | EN19: 0 | EO19: 0 | EP19: 148.7 | EQ19: 0 | ER19: 0 | ES19: 25.6 | ET19: 0 | EU19: 0 | EV19: 0 | EW19: 0 | EX19: 0 | EY19: 68.46 | EZ19: 0 | FA19: 12.69 | FB19: 3.75 | FC19: 0 | FD19: 0 | FE19: 0 | FF19: 0 | FG19: 18.55 | FH19: 0 | FI19: 0 | FJ19: 0 | FK19: 0 | FL19: 0 | FM19: 0 | FN19: 0 | FO19: 0 | FP19: 0 | FQ19: 0 | FR19: 160.67 | FS19: 30.51 | FT19: 0 | FU19: 892.56 | FV19: 7.79 | FW19: 0 | FX19: 0 | FY19: 0 | FZ19: 0 | GA19: 0 | GB19: 5.54 | GC19: 6.19 | GD19: 38.14 | GE19: 58.24 | GF19: 356.13 | GG19: 51.55 | GH19: 0 | GI19: 0 | GJ19: 0 | GK19: 0 | GL19: 0 | GM19: 1021.32 | GN19: 0 | GO19: 0 | GP19: 0 | GQ19: 660.42 | GR19: 0 | GS19: 52.09 | GT19: 0 | GU19: 0 | GV19: 0 | GW19: 0 | GX19: 24.45 | GY19: 9.46 | GZ19: 1.9 | HA19: 0 | HB19: 0 | HC19: 0 | HD19: 0 | HE19: 0 | HF19: 47.32 | HG19: 0 | HH19: 0 | HI19: 884.16 | HJ19: 0 | HK19: 0 | HL19: 0 | HM19: 13.55 | HN19: 10.21 | HO19: 0 | HP19: 0 | HQ19: 0 | HR19: 0 | HS19: 0 | HT19: 0 | HU19: 0 | HV19: 0 | HW19: 0 | HX19: 0 | HY19: 0 | HZ19: 0 | IA19: 0 | IB19: 0 | IC19: =(H19/$D19)*1000000 -> 0 | ID19: =(I19/$D19)*1000000 -> 0 | IE19: =(J19/$D19)*1000000 -> 0 | IF19: =(K19/$D19)*1000000 -> 0 | IG19: =(L19/$D19)*1000000 -> 0 | IH19: =(M19/$D19)*1000000 -> 0 | II19: =(N19/$D19)*1000000 -> 0 | IJ19: =(O19/$D19)*1000000 -> 0 | ... QW19: =(IB19/$D19)*1000000 -> 0
C20: 783 | D20: 20488544 | E20: 24629183 | F20: =100-(D20/E20)*100 -> 16.811922 | G20: 3.8225711 | H20: 0 | I20: 0 | J20: 0 | K20: 0 | L20: 0 | M20: 0 | N20: 0 | O20: 0 | P20: 0 | Q20: 16.21 | R20: 32.04 | S20: 0 | T20: 0 | U20: 0 | V20: 0 | W20: 0 | X20: 0 | Y20: 0 | Z20: 0 | AA20: 0 | AB20: 0 | AC20: 0 | AD20: 5.11 | AE20: 0 | AF20: 614.13 | AG20: 45.34 | AH20: 0 | AI20: 0 | AJ20: 8.59 | AK20: 0 | AL20: 118.44 | AM20: 2.83 | AN20: 0 | AO20: 2.1 | AP20: 3.98 | AQ20: 0 | AR20: 0 | AS20: 763.89 | AT20: 0 | AU20: 0 | AV20: 7.19 | AW20: 0 | AX20: 0 | AY20: 0 | AZ20: 0 | BA20: 12.89 | BB20: 0 | BC20: 0 | BD20: 0 | BE20: 0 | BF20: 0 | BG20: 0 | BH20: 0 | BI20: 0 | BJ20: 0 | BK20: 0 | BL20: 0 | BM20: 5.25 | BN20: 0 | BO20: 0 | BP20: 0 | BQ20: 0 | BR20: 0 | BS20: 0 | BT20: 0 | BU20: 0 | BV20: 0 | BW20: 0 | BX20: 0 | BY20: 0 | BZ20: 0 | CA20: 0 | CB20: 131.99 | CC20: 0 | CD20: 0 | CE20: 76.73 | CF20: 0 | CG20: 0 | CH20: 0 | CI20: 0 | CJ20: 0 | CK20: 48.77 | CL20: 0 | CM20: 0 | CN20: 0 | CO20: 0 | CP20: 0 | CQ20: 0 | CR20: 0 | CS20: 0 | CT20: 0 | CU20: 0 | CV20: 0 | CW20: 0 | CX20: 0 | CY20: 0 | CZ20: 0 | DA20: 0 | DB20: 0 | DC20: 0 | DD20: 0 | DE20: 0 | DF20: 24.12 | DG20: 0 | DH20: 0 | DI20: 0 | DJ20: 0 | DK20: 0 | DL20: 25.79 | DM20: 0 | DN20: 0 | DO20: 0 | DP20: 0 | DQ20: 0 | DR20: 0 | DS20: 0 | DT20: 0 | DU20: 0 | DV20: 0 | DW20: 0 | DX20: 0 | DY20: 0 | DZ20: 0 | EA20: 0 | EB20: 0 | EC20: 0 | ED20: 0 | EE20: 665.79 | EF20: 0 | EG20: 524.66 | EH20: 322.55 | EI20: 0 | EJ20: 2.2 | EK20: 0 | EL20: 0 | EM20: 0 | EN20: 1.77 | EO20: 0 | EP20: 560.04 | EQ20: 0 | ER20: 3.44 | ES20: 0 | ET20: 0 | EU20: 0 | EV20: 0 | EW20: 0 | EX20: 0 | EY20: 286.26 | EZ20: 0 | FA20: 71.68 | FB20: 30.8 | FC20: 2.28 | FD20: 0 | FE20: 0 | FF20: 0 | FG20: 77.05 | FH20: 0 | FI20: 0 | FJ20: 0 | FK20: 0 | FL20: 0 | FM20: 0 | FN20: 0 | FO20: 0 | FP20: 0 | FQ20: 0 | FR20: 253.95 | FS20: 78.08 | FT20: 0 | FU20: 31.06 | FV20: 0 | FW20: 2.84 | FX20: 0 | FY20: 0 | FZ20: 0 | GA20: 0 | GB20: 11.55 | GC20: 0 | GD20: 43.87 | GE20: 104.68 | GF20: 0 | GG20: 99.31 | GH20: 0 | GI20: 0 | GJ20: 0 | GK20: 0 | GL20: 0 | GM20: 1633.13 | GN20: 0 | GO20: 0 | GP20: 0 | GQ20: 591.56 | GR20: 103.1 | GS20: 60.95 | GT20: 0 | GU20: 0 | GV20: 0 | GW20: 0 | GX20: 3.35 | GY20: 3.47 | GZ20: 0 | HA20: 0 | HB20: 0 | HC20: 28.43 | HD20: 0 | HE20: 0 | HF20: 27.2 | HG20: 0 | HH20: 0 | HI20: 69.25 | HJ20: 0 | HK20: 0 | HL20: 2.71 | HM20: 7.62 | HN20: 4.28 | HO20: 0 | HP20: 0 | HQ20: 0 | HR20: 0 | HS20: 0 | HT20: 0 | HU20: 0 | HV20: 0 | HW20: 0 | HX20: 0 | HY20: 0 | HZ20: 0 | IA20: 0 | IB20: 0 | IC20: =(H20/$D20)*1000000 -> 0 | ID20: =(I20/$D20)*1000000 -> 0 | IE20: =(J20/$D20)*1000000 -> 0 | IF20: =(K20/$D20)*1000000 -> 0 | IG20: =(L20/$D20)*1000000 -> 0 | IH20: =(M20/$D20)*1000000 -> 0 | II20: =(N20/$D20)*1000000 -> 0 | IJ20: =(O20/$D20)*1000000 -> 0 | ... QW20: =(IB20/$D20)*1000000 -> 0
C21: 795 | D21: 12467583 | E21: 28945816 | F21: =100-(D21/E21)*100 -> 56.927858 | G21: 3.3865723 | H21: 0 | I21: 0 | J21: 0 | K21: 0 | L21: 0 | M21: 0 | N21: 0 | O21: 0 | P21: 0 | Q21: 46.6 | R21: 27.25 | S21: 0 | T21: 0 | U21: 0 | V21: 0 | W21: 0 | X21: 0 | Y21: 0 | Z21: 0 | AA21: 0 | AB21: 0 | AC21: 0 | AD21: 0 | AE21: 0 | AF21: 235.6 | AG21: 4.11 | AH21: 0 | AI21: 0 | AJ21: 51.06 | AK21: 0 | AL21: 5.62 | AM21: 4.6 | AN21: 0 | AO21: 4.1 | AP21: 0 | AQ21: 0 | AR21: 0 | AS21: 541.31 | AT21: 0 | AU21: 0 | AV21: 3.31 | AW21: 0 | AX21: 0 | AY21: 0 | AZ21: 0 | BA21: 2.97 | BB21: 0 | BC21: 0 | BD21: 0 | BE21: 0 | BF21: 0 | BG21: 0 | BH21: 0 | BI21: 0 | BJ21: 0 | BK21: 0 | BL21: 0 | BM21: 0 | BN21: 0 | BO21: 0 | BP21: 0 | BQ21: 0 | BR21: 0 | BS21: 0 | BT21: 0 | BU21: 0 | BV21: 0 | BW21: 0 | BX21: 0 | BY21: 6.73 | BZ21: 0 | CA21: 0 | CB21: 68.28 | CC21: 0 | CD21: 0 | CE21: 0 | CF21: 0 | CG21: 0 | CH21: 0 | CI21: 0 | CJ21: 120.58 | CK21: 0 | CL21: 0 | CM21: 0 | CN21: 0 | CO21: 31.71 | CP21: 4.3 | CQ21: 0 | CR21: 0 | CS21: 0 | CT21: 0 | CU21: 0 | CV21: 0 | CW21: 0 | CX21: 0 | CY21: 0 | CZ21: 0 | DA21: 0 | DB21: 0 | DC21: 0 | DD21: 0 | DE21: 0 | DF21: 0 | DG21: 0 | DH21: 0 | DI21: 0 | DJ21: 0 | DK21: 0 | DL21: 12.98 | DM21: 0 | DN21: 0 | DO21: 0 | DP21: 0 | DQ21: 0 | DR21: 0 | DS21: 0 | DT21: 0 | DU21: 0 | DV21: 0 | DW21: 0 | DX21: 0 | DY21: 0 | DZ21: 0 | EA21: 0 | EB21: 0 | EC21: 0 | ED21: 0 | EE21: 721.58 | EF21: 0 | EG21: 287.4 | EH21: 122.1 | EI21: 15.47 | EJ21: 3.71 | EK21: 12.28 | EL21: 0 | EM21: 0 | EN21: 2.99 | EO21: 0 | EP21: 136.87 | EQ21: 0 | ER21: 0 | ES21: 1.97 | ET21: 0 | EU21: 0 | EV21: 0 | EW21: 0 | EX21: 0 | EY21: 63.43 | EZ21: 0 | FA21: 56.57 | FB21: 17.83 | FC21: 13.85 | FD21: 0 | FE21: 0 | FF21: 0 | FG21: 54.54 | FH21: 0 | FI21: 0 | FJ21: 0 | FK21: 0 | FL21: 0 | FM21: 0 | FN21: 0 | FO21: 0 | FP21: 0 | FQ21: 0 | FR21: 104.01 | FS21: 0 | FT21: 0 | FU21: 49.56 | FV21: 2.79 | FW21: 7.39 | FX21: 0 | FY21: 0 | FZ21: 0 | GA21: 0 | GB21: 3.88 | GC21: 5.56 | GD21: 8.61 | GE21: 44.26 | GF21: 133.87 | GG21: 51.53 | GH21: 0 | GI21: 0 | GJ21: 0 | GK21: 0 | GL21: 0 | GM21: 2532.76 | GN21: 0 | GO21: 0 | GP21: 0 | GQ21: 340.53 | GR21: 8.61 | GS21: 190.65 | GT21: 0 | GU21: 0 | GV21: 0 | GW21: 0 | GX21: 2.8 | GY21: 2.86 | GZ21: 0 | HA21: 0 | HB21: 0 | HC21: 19.91 | HD21: 0 | HE21: 0 | HF21: 13.11 | HG21: 0 | HH21: 0 | HI21: 27.08 | HJ21: 0 | HK21: 0 | HL21: 8.38 | HM21: 53.06 | HN21: 4.54 | HO21: 0 | HP21: 0 | HQ21: 0 | HR21: 0 | HS21: 0 | HT21: 0 | HU21: 0 | HV21: 0 | HW21: 0 | HX21: 0 | HY21: 0 | HZ21: 0 | IA21: 0 | IB21: 0 | IC21: =(H21/$D21)*1000000 -> 0 | ID21: =(I21/$D21)*1000000 -> 0 | IE21: =(J21/$D21)*1000000 -> 0 | IF21: =(K21/$D21)*1000000 -> 0 | IG21: =(L21/$D21)*1000000 -> 0 | IH21: =(M21/$D21)*1000000 -> 0 | II21: =(N21/$D21)*1000000 -> 0 | IJ21: =(O21/$D21)*1000000 -> 0 | ... QW21: =(IB21/$D21)*1000000 -> 0
C22: 820 | D22: 21466081 | E22: 26252364 | F22: =100-(D22/E22)*100 -> 18.231817 | G22: 3.7298637 | H22: 0 | I22: 0 | J22: 0 | K22: 0 | L22: 0 | M22: 0 | N22: 0 | O22: 0 | P22: 0 | Q22: 109.84 | R22: 0 | S22: 0 | T22: 0 | U22: 0 | V22: 1.42 | W22: 0 | X22: 0 | Y22: 0 | Z22: 0 | AA22: 0 | AB22: 0 | AC22: 0 | AD22: 0 | AE22: 26.4 | AF22: 1039.36 | AG22: 258.09 | AH22: 0 | AI22: 0 | AJ22: 125.67 | AK22: 0 | AL22: 84.77 | AM22: 17.27 | AN22: 0 | AO22: 42.57 | AP22: 7.6 | AQ22: 16.19 | AR22: 0 | AS22: 523.75 | AT22: 0 | AU22: 0 | AV22: 39.28 | AW22: 3.86 | AX22: 0 | AY22: 0 | AZ22: 0 | BA22: 6.33 | BB22: 0 | BC22: 0 | BD22: 0 | BE22: 0 | BF22: 0 | BG22: 0 | BH22: 0 | BI22: 0 | BJ22: 0 | BK22: 0 | BL22: 0 | BM22: 0 | BN22: 0 | BO22: 0 | BP22: 0 | BQ22: 0 | BR22: 0 | BS22: 0 | BT22: 0 | BU22: 0 | BV22: 0 | BW22: 0 | BX22: 0 | BY22: 0 | BZ22: 0 | CA22: 0 | CB22: 5.08 | CC22: 0 | CD22: 0 | CE22: 0 | CF22: 0 | CG22: 0 | CH22: 35.01 | CI22: 0 | CJ22: 0 | CK22: 0 | CL22: 0 | CM22: 15.24 | CN22: 0 | CO22: 0 | CP22: 0 | CQ22: 0 | CR22: 0 | CS22: 0 | CT22: 0 | CU22: 1.63 | CV22: 0 | CW22: 0 | CX22: 0 | CY22: 0 | CZ22: 0 | DA22: 0 | DB22: 0 | DC22: 0 | DD22: 5.98 | DE22: 0 | DF22: 48.5 | DG22: 0 | DH22: 1.76 | DI22: 0 | DJ22: 0 | DK22: 0 | DL22: 0 | DM22: 0 | DN22: 0 | DO22: 0 | DP22: 109.92 | DQ22: 0 | DR22: 0 | DS22: 0 | DT22: 0 | DU22: 0 | DV22: 0 | DW22: 0 | DX22: 0 | DY22: 0 | DZ22: 0 | EA22: 0 | EB22: 0 | EC22: 0 | ED22: 0 | EE22: 479.51 | EF22: 0 | EG22: 67.75 | EH22: 144.69 | EI22: 135.64 | EJ22: 49.95 | EK22: 49.79 | EL22: 0 | EM22: 0 | EN22: 0 | EO22: 0 | EP22: 854.71 | EQ22: 0 | ER22: 0 | ES22: 32.08 | ET22: 0 | EU22: 0 | EV22: 0 | EW22: 0 | EX22: 0 | EY22: 111.21 | EZ22: 0 | FA22: 166.18 | FB22: 0 | FC22: 0 | FD22: 0 | FE22: 0 | FF22: 0 | FG22: 182.3 | FH22: 0 | FI22: 0 | FJ22: 0 | FK22: 5.82 | FL22: 0 | FM22: 0 | FN22: 0 | FO22: 0 | FP22: 23.26 | FQ22: 0 | FR22: 518.16 | FS22: 236.13 | FT22: 0 | FU22: 177.95 | FV22: 0 | FW22: 0 | FX22: 0 | FY22: 0 | FZ22: 0 | GA22: 0 | GB22: 0 | GC22: 3.53 | GD22: 82.74 | GE22: 151.98 | GF22: 100.07 | GG22: 92.35 | GH22: 0 | GI22: 0 | GJ22: 0 | GK22: 0 | GL22: 0 | GM22: 162.96 | GN22: 0 | GO22: 0 | GP22: 0 | GQ22: 1509.92 | GR22: 94.94 | GS22: 43.36 | GT22: 0 | GU22: 0 | GV22: 0 | GW22: 0 | GX22: 101.19 | GY22: 55.53 | GZ22: 0 | HA22: 0 | HB22: 0 | HC22: 15.65 | HD22: 0 | HE22: 0 | HF22: 764.31 | HG22: 2.93 | HH22: 0 | HI22: 0 | HJ22: 0 | HK22: 0 | HL22: 1.48 | HM22: 259.14 | HN22: 1.88 | HO22: 0 | HP22: 0 | HQ22: 2.95 | HR22: 14.56 | HS22: 0 | HT22: 0 | HU22: 0 | HV22: 0 | HW22: 0 | HX22: 0 | HY22: 0 | HZ22: 0 | IA22: 0 | IB22: 0 | IC22: =(H22/$D22)*1000000 -> 0 | ID22: =(I22/$D22)*1000000 -> 0 | IE22: =(J22/$D22)*1000000 -> 0 | IF22: =(K22/$D22)*1000000 -> 0 | IG22: =(L22/$D22)*1000000 -> 0 | IH22: =(M22/$D22)*1000000 -> 0 | II22: =(N22/$D22)*1000000 -> 0 | IJ22: =(O22/$D22)*1000000 -> 0 | ... QW22: =(IB22/$D22)*1000000 -> 0
C23: 856 | D23: 25559788 | E23: 27740134 | F23: =100-(D23/E23)*100 -> 7.8598971 | G23: 3.8250479 | H23: 0 | I23: 0 | J23: 3.84 | K23: 0 | L23: 0 | M23: 0 | N23: 0 | O23: 0 | P23: 0 | Q23: 13.6 | R23: 0 | S23: 2.85 | T23: 5.8 | U23: 4.58 | V23: 0 | W23: 0 | X23: 0 | Y23: 0 | Z23: 0 | AA23: 0 | AB23: 0 | AC23: 0 | AD23: 0 | AE23: 10.42 | AF23: 345.87 | AG23: 9.92 | AH23: 0 | AI23: 0 | AJ23: 0 | AK23: 0 | AL23: 46.97 | AM23: 3.32 | AN23: 0 | AO23: 40.29 | AP23: 4.06 | AQ23: 0 | AR23: 0 | AS23: 393.84 | AT23: 0 | AU23: 4.18 | AV23: 28.24 | AW23: 0 | AX23: 0 | AY23: 0 | AZ23: 0 | BA23: 1.88 | BB23: 0 | BC23: 0 | BD23: 0 | BE23: 0 | BF23: 0 | BG23: 0 | BH23: 0 | BI23: 0 | BJ23: 0 | BK23: 0 | BL23: 0 | BM23: 0 | BN23: 0 | BO23: 0 | BP23: 0 | BQ23: 0 | BR23: 0 | BS23: 0 | BT23: 0 | BU23: 0 | BV23: 0 | BW23: 1.3 | BX23: 16.8 | BY23: 0 | BZ23: 0 | CA23: 0 | CB23: 20.3 | CC23: 0 | CD23: 0 | CE23: 0 | CF23: 0 | CG23: 0 | CH23: 3.62 | CI23: 0 | CJ23: 0 | CK23: 63.19 | CL23: 0 | CM23: 0 | CN23: 0 | CO23: 0 | CP23: 0 | CQ23: 0 | CR23: 0 | CS23: 0 | CT23: 0 | CU23: 6.82 | CV23: 0 | CW23: 0 | CX23: 0 | CY23: 0 | CZ23: 0 | DA23: 0 | DB23: 0 | DC23: 0 | DD23: 0 | DE23: 0 | DF23: 3.86 | DG23: 0 | DH23: 0 | DI23: 0 | DJ23: 0 | DK23: 0 | DL23: 6.05 | DM23: 0 | DN23: 0 | DO23: 0 | DP23: 0 | DQ23: 0 | DR23: 0 | DS23: 0 | DT23: 0 | DU23: 0 | DV23: 0 | DW23: 0 | DX23: 0 | DY23: 0 | DZ23: 0 | EA23: 0 | EB23: 0 | EC23: 0 | ED23: 0 | EE23: 790.18 | EF23: 0 | EG23: 187.14 | EH23: 86.89 | EI23: 0 | EJ23: 5.77 | EK23: 0 | EL23: 0 | EM23: 0 | EN23: 4.74 | EO23: 2.61 | EP23: 566.28 | EQ23: 0 | ER23: 0 | ES23: 0 | ET23: 0 | EU23: 0 | EV23: 0 | EW23: 0 | EX23: 0 | EY23: 103.17 | EZ23: 0 | FA23: 16.04 | FB23: 0 | FC23: 0 | FD23: 0 | FE23: 0 | FF23: 0 | FG23: 15.83 | FH23: 0 | FI23: 0 | FJ23: 0 | FK23: 0 | FL23: 0 | FM23: 0 | FN23: 0 | FO23: 0 | FP23: 0 | FQ23: 0 | FR23: 137.77 | FS23: 11.27 | FT23: 0 | FU23: 15.66 | FV23: 19.44 | FW23: 0 | FX23: 0 | FY23: 2.34 | FZ23: 0 | GA23: 0 | GB23: 2.19 | GC23: 0 | GD23: 534.58 | GE23: 0 | GF23: 233.12 | GG23: 0 | GH23: 0 | GI23: 0 | GJ23: 0 | GK23: 0 | GL23: 0 | GM23: 1701.97 | GN23: 0 | GO23: 0 | GP23: 0 | GQ23: 252.62 | GR23: 10.46 | GS23: 35.37 | GT23: 0 | GU23: 0 | GV23: 0 | GW23: 0 | GX23: 0 | GY23: 0 | GZ23: 0 | HA23: 0 | HB23: 0 | HC23: 0 | HD23: 0 | HE23: 0 | HF23: 4.49 | HG23: 0 | HH23: 0 | HI23: 6.23 | HJ23: 0 | HK23: 0 | HL23: 6.91 | HM23: 37.78 | HN23: 0 | HO23: 0 | HP23: 0 | HQ23: 0 | HR23: 0 | HS23: 0 | HT23: 0 | HU23: 0 | HV23: 0 | HW23: 0 | HX23: 0 | HY23: 0 | HZ23: 0 | IA23: 0 | IB23: 0 | IC23: =(H23/$D23)*1000000 -> 0 | ID23: =(I23/$D23)*1000000 -> 0 | IE23: =(J23/$D23)*1000000 -> 0.15023599 | IF23: =(K23/$D23)*1000000 -> 0 | IG23: =(L23/$D23)*1000000 -> 0 | IH23: =(M23/$D23)*1000000 -> 0 | II23: =(N23/$D23)*1000000 -> 0 | IJ23: =(O23/$D23)*1000000 -> 0 | ... QW23: =(IB23/$D23)*1000000 -> 0
C24: 883 | D24: 21656617 | E24: 25858373 | F24: =100-(D24/E24)*100 -> 16.249112 | G24: 3.5860211 | H24: 0 | I24: 0 | J24: 0 | K24: 0 | L24: 0 | M24: 0 | N24: 0 | O24: 0 | P24: 0 | Q24: 104.69 | R24: 0 | S24: 0 | T24: 0 | U24: 0 | V24: 0 | W24: 0 | X24: 3.38 | Y24: 0 | Z24: 0 | AA24: 0 | AB24: 0 | AC24: 0 | AD24: 0 | AE24: 13.69 | AF24: 654.77 | AG24: 41.83 | AH24: 0 | AI24: 0 | AJ24: 107.74 | AK24: 0 | AL24: 41.61 | AM24: 13.41 | AN24: 0 | AO24: 4.65 | AP24: 4.37 | AQ24: 0 | AR24: 0 | AS24: 1141.6 | AT24: 0 | AU24: 0 | AV24: 5.82 | AW24: 7.26 | AX24: 0 | AY24: 36.15 | AZ24: 0 | BA24: 0 | BB24: 0 | BC24: 0 | BD24: 0 | BE24: 0 | BF24: 0 | BG24: 0 | BH24: 0 | BI24: 0 | BJ24: 0 | BK24: 0 | BL24: 0 | BM24: 0 | BN24: 0 | BO24: 0 | BP24: 0 | BQ24: 0 | BR24: 0 | BS24: 0 | BT24: 0 | BU24: 0 | BV24: 0 | BW24: 0 | BX24: 0 | BY24: 0 | BZ24: 0 | CA24: 0 | CB24: 11.15 | CC24: 0 | CD24: 0 | CE24: 0 | CF24: 0 | CG24: 0 | CH24: 9.81 | CI24: 0 | CJ24: 5.75 | CK24: 0 | CL24: 0 | CM24: 28.41 | CN24: 0 | CO24: 0 | CP24: 0 | CQ24: 0 | CR24: 0 | CS24: 0 | CT24: 0 | CU24: 0 | CV24: 0 | CW24: 0 | CX24: 1.76 | CY24: 0 | CZ24: 0 | DA24: 0 | DB24: 0 | DC24: 0 | DD24: 0 | DE24: 0 | DF24: 10.89 | DG24: 0 | DH24: 7.84 | DI24: 0 | DJ24: 0 | DK24: 0 | DL24: 4.11 | DM24: 0 | DN24: 0 | DO24: 0 | DP24: 0 | DQ24: 0 | DR24: 0 | DS24: 2.25 | DT24: 0 | DU24: 0 | DV24: 0 | DW24: 0 | DX24: 0 | DY24: 2.21 | DZ24: 0 | EA24: 0 | EB24: 0 | EC24: 0 | ED24: 0 | EE24: 1256.97 | EF24: 0 | EG24: 123.8 | EH24: 167.32 | EI24: 4.8 | EJ24: 12.78 | EK24: 25.41 | EL24: 2.36 | EM24: 0 | EN24: 0 | EO24: 3.15 | EP24: 221.78 | EQ24: 0 | ER24: 0 | ES24: 40.51 | ET24: 0 | EU24: 0 | EV24: 0 | EW24: 0 | EX24: 0 | EY24: 110.49 | EZ24: 0 | FA24: 9.42 | FB24: 4.39 | FC24: 0 | FD24: 0 | FE24: 0 | FF24: 0 | FG24: 15.22 | FH24: 0 | FI24: 0 | FJ24: 0 | FK24: 0 | FL24: 0 | FM24: 0 | FN24: 0 | FO24: 0 | FP24: 0 | FQ24: 0 | FR24: 305.21 | FS24: 56.28 | FT24: 0 | FU24: 14.87 | FV24: 2.05 | FW24: 0 | FX24: 0 | FY24: 0 | FZ24: 0 | GA24: 0 | GB24: 3.36 | GC24: 17.39 | GD24: 10.97 | GE24: 85.14 | GF24: 646.59 | GG24: 232.11 | GH24: 0 | GI24: 0 | GJ24: 0 | GK24: 0 | GL24: 0 | GM24: 575.21 | GN24: 0 | GO24: 0 | GP24: 1.53 | GQ24: 751.51 | GR24: 26.58 | GS24: 28.76 | GT24: 0 | GU24: 0 | GV24: 0 | GW24: 8.24 | GX24: 61.37 | GY24: 24.43 | GZ24: 0 | HA24: 0 | HB24: 0 | HC24: 0 | HD24: 0 | HE24: 0 | HF24: 8.27 | HG24: 0 | HH24: 0 | HI24: 1.37 | HJ24: 0 | HK24: 0 | HL24: 15.51 | HM24: 166.81 | HN24: 2.59 | HO24: 0 | HP24: 0 | HQ24: 10.81 | HR24: 0 | HS24: 3.19 | HT24: 0 | HU24: 0 | HV24: 0 | HW24: 0 | HX24: 0 | HY24: 0 | HZ24: 0 | IA24: 0 | IB24: 0 | IC24: =(H24/$D24)*1000000 -> 0 | ID24: =(I24/$D24)*1000000 -> 0 | IE24: =(J24/$D24)*1000000 -> 0 | IF24: =(K24/$D24)*1000000 -> 0 | IG24: =(L24/$D24)*1000000 -> 0 | IH24: =(M24/$D24)*1000000 -> 0 | II24: =(N24/$D24)*1000000 -> 0 | IJ24: =(O24/$D24)*1000000 -> 0 | ... QW24: =(IB24/$D24)*1000000 -> 0
C25: 925 | D25: 8222511 | E25: 24956892 | F25: =100-(D25/E25)*100 -> 67.053145 | G25: 3.867905 | H25: 0 | I25: 0 | J25: 0 | K25: 0 | L25: 0 | M25: 0 | N25: 0 | O25: 0 | P25: 0 | Q25: 15.81 | R25: 10.86 | S25: 0 | T25: 0 | U25: 1.8 | V25: 6.58 | W25: 0 | X25: 0 | Y25: 0 | Z25: 0 | AA25: 0 | AB25: 0 | AC25: 0 | AD25: 0 | AE25: 3.36 | AF25: 86.8 | AG25: 0 | AH25: 0 | AI25: 0 | AJ25: 10.6 | AK25: 0 | AL25: 9.26 | AM25: 0 | AN25: 0 | AO25: 6.68 | AP25: 3.6 | AQ25: 0 | AR25: 0 | AS25: 92.76 | AT25: 0 | AU25: 0 | AV25: 7.29 | AW25: 0 | AX25: 0 | AY25: 0 | AZ25: 0 | BA25: 2.45 | BB25: 0 | BC25: 0 | BD25: 0 | BE25: 0 | BF25: 0 | BG25: 0 | BH25: 0 | BI25: 0 | BJ25: 0 | BK25: 0 | BL25: 0 | BM25: 0 | BN25: 0 | BO25: 0 | BP25: 0 | BQ25: 0 | BR25: 0 | BS25: 0 | BT25: 0 | BU25: 0 | BV25: 0 | BW25: 50.3 | BX25: 7.55 | BY25: 0 | BZ25: 0 | CA25: 0 | CB25: 46.32 | CC25: 0 | CD25: 0 | CE25: 2.64 | CF25: 0 | CG25: 0 | CH25: 0 | CI25: 0 | CJ25: 0 | CK25: 5.89 | CL25: 0 | CM25: 0 | CN25: 0 | CO25: 0 | CP25: 0 | CQ25: 0 | CR25: 0 | CS25: 0 | CT25: 0 | CU25: 0 | CV25: 0 | CW25: 0 | CX25: 0 | CY25: 0 | CZ25: 0 | DA25: 0 | DB25: 0 | DC25: 0 | DD25: 0 | DE25: 0 | DF25: 0 | DG25: 2.74 | DH25: 0 | DI25: 0 | DJ25: 0 | DK25: 0 | DL25: 12.16 | DM25: 2.35 | DN25: 3.8 | DO25: 4.11 | DP25: 0 | DQ25: 0 | DR25: 0 | DS25: 0 | DT25: 0 | DU25: 0 | DV25: 0 | DW25: 0 | DX25: 0 | DY25: 0 | DZ25: 0 | EA25: 0 | EB25: 0 | EC25: 0 | ED25: 0 | EE25: 125.67 | EF25: 0 | EG25: 96.22 | EH25: 289.88 | EI25: 0 | EJ25: 0 | EK25: 0 | EL25: 0 | EM25: 0 | EN25: 0 | EO25: 0 | EP25: 163.7 | EQ25: 2.85 | ER25: 0 | ES25: 0 | ET25: 0 | EU25: 0 | EV25: 0 | EW25: 0 | EX25: 0 | EY25: 186.67 | EZ25: 0 | FA25: 23.43 | FB25: 8.16 | FC25: 0 | FD25: 0 | FE25: 0 | FF25: 0 | FG25: 31.21 | FH25: 0 | FI25: 0 | FJ25: 0 | FK25: 0 | FL25: 0 | FM25: 0 | FN25: 0 | FO25: 0 | FP25: 0 | FQ25: 0 | FR25: 44.83 | FS25: 7.69 | FT25: 0 | FU25: 20.43 | FV25: 7.18 | FW25: 2.05 | FX25: 0 | FY25: 0 | FZ25: 0 | GA25: 0 | GB25: 7.01 | GC25: 0 | GD25: 37.25 | GE25: 0 | GF25: 80 | GG25: 0 | GH25: 0 | GI25: 0 | GJ25: 0 | GK25: 0 | GL25: 0 | GM25: 656.87 | GN25: 0 | GO25: 0 | GP25: 0 | GQ25: 103.7 | GR25: 0 | GS25: 59.97 | GT25: 0 | GU25: 0 | GV25: 0 | GW25: 0 | GX25: 0 | GY25: 0 | GZ25: 89.99 | HA25: 0 | HB25: 0 | HC25: 0 | HD25: 0 | HE25: 0 | HF25: 34.54 | HG25: 0 | HH25: 0 | HI25: 11.15 | HJ25: 0 | HK25: 0 | HL25: 4.55 | HM25: 8.75 | HN25: 8.93 | HO25: 0 | HP25: 0 | HQ25: 0 | HR25: 0 | HS25: 0 | HT25: 0 | HU25: 0 | HV25: 0 | HW25: 0 | HX25: 0 | HY25: 0 | HZ25: 0 | IA25: 0 | IB25: 0 | IC25: =(H25/$D25)*1000000 -> 0 | ID25: =(I25/$D25)*1000000 -> 0 | IE25: =(J25/$D25)*1000000 -> 0 | IF25: =(K25/$D25)*1000000 -> 0 | IG25: =(L25/$D25)*1000000 -> 0 | IH25: =(M25/$D25)*1000000 -> 0 | II25: =(N25/$D25)*1000000 -> 0 | IJ25: =(O25/$D25)*1000000 -> 0 | ... QW25: =(IB25/$D25)*1000000 -> 0
C26: 931 | D26: 19085911 | E26: 27782773 | F26: =100-(D26/E26)*100 -> 31.303074 | G26: 3.7843693 | H26: 0 | I26: 0 | J26: 0 | K26: 0 | L26: 0 | M26: 0 | N26: 0 | O26: 0 | P26: 0 | Q26: 71.05 | R26: 0 | S26: 0 | T26: 3.2 | U26: 0 | V26: 0 | W26: 0 | X26: 0 | Y26: 0 | Z26: 0 | AA26: 0 | AB26: 0 | AC26: 0 | AD26: 0 | AE26: 26.98 | AF26: 652.96 | AG26: 37.28 | AH26: 0 | AI26: 0 | AJ26: 71.32 | AK26: 0 | AL26: 26.85 | AM26: 6.71 | AN26: 0 | AO26: 0 | AP26: 0 | AQ26: 0 | AR26: 0 | AS26: 346.09 | AT26: 0 | AU26: 0 | AV26: 3.18 | AW26: 46.06 | AX26: 0 | AY26: 0 | AZ26: 0 | BA26: 15.98 | BB26: 0 | BC26: 0 | BD26: 0 | BE26: 0 | BF26: 0 | BG26: 0 | BH26: 0 | BI26: 0 | BJ26: 0 | BK26: 0 | BL26: 0 | BM26: 0 | BN26: 0 | BO26: 0 | BP26: 0 | BQ26: 0 | BR26: 0 | BS26: 0 | BT26: 0 | BU26: 0 | BV26: 0 | BW26: 0 | BX26: 0 | BY26: 0 | BZ26: 0 | CA26: 0 | CB26: 16.46 | CC26: 0 | CD26: 0 | CE26: 0 | CF26: 0 | CG26: 0 | CH26: 0 | CI26: 0 | CJ26: 5.66 | CK26: 0 | CL26: 0 | CM26: 79.71 | CN26: 0 | CO26: 0 | CP26: 28.12 | CQ26: 0 | CR26: 0 | CS26: 0 | CT26: 0 | CU26: 0 | CV26: 0 | CW26: 0 | CX26: 0 | CY26: 0 | CZ26: 0 | DA26: 0 | DB26: 0 | DC26: 0 | DD26: 8.9 | DE26: 0 | DF26: 5.72 | DG26: 0 | DH26: 0 | DI26: 0 | DJ26: 0 | DK26: 0 | DL26: 6.72 | DM26: 0 | DN26: 0 | DO26: 0 | DP26: 104.95 | DQ26: 0 | DR26: 0 | DS26: 0 | DT26: 0 | DU26: 0 | DV26: 0 | DW26: 0 | DX26: 0 | DY26: 0 | DZ26: 0 | EA26: 0 | EB26: 0 | EC26: 0 | ED26: 0 | EE26: 508.07 | EF26: 0 | EG26: 86.87 | EH26: 335.46 | EI26: 128.92 | EJ26: 25.98 | EK26: 21.24 | EL26: 0 | EM26: 0 | EN26: 5.65 | EO26: 0 | EP26: 628.93 | EQ26: 0 | ER26: 0 | ES26: 16.11 | ET26: 0 | EU26: 0 | EV26: 0 | EW26: 0 | EX26: 0 | EY26: 95.91 | EZ26: 0 | FA26: 185.96 | FB26: 4.06 | FC26: 0 | FD26: 0 | FE26: 0 | FF26: 0 | FG26: 166.06 | FH26: 0 | FI26: 0 | FJ26: 0 | FK26: 0 | FL26: 0 | FM26: 0 | FN26: 0 | FO26: 0 | FP26: 0 | FQ26: 0 | FR26: 361.68 | FS26: 52.56 | FT26: 0 | FU26: 220.64 | FV26: 0 | FW26: 3.36 | FX26: 0 | FY26: 0 | FZ26: 0 | GA26: 0 | GB26: 0 | GC26: 16.43 | GD26: 65.74 | GE26: 77.56 | GF26: 150.75 | GG26: 112.3 | GH26: 0 | GI26: 0 | GJ26: 0 | GK26: 0 | GL26: 0 | GM26: 539.77 | GN26: 0 | GO26: 0 | GP26: 0 | GQ26: 1098.35 | GR26: 122.34 | GS26: 33.8 | GT26: 0 | GU26: 0 | GV26: 0 | GW26: 0 | GX26: 35.65 | GY26: 37.96 | GZ26: 0 | HA26: 0 | HB26: 0 | HC26: 0 | HD26: 0 | HE26: 28.86 | HF26: 19.69 | HG26: 0 | HH26: 0 | HI26: 1.43 | HJ26: 0 | HK26: 0 | HL26: 10.86 | HM26: 365.67 | HN26: 3.94 | HO26: 0 | HP26: 0 | HQ26: 0 | HR26: 0 | HS26: 0 | HT26: 0 | HU26: 0 | HV26: 0 | HW26: 0 | HX26: 0 | HY26: 0 | HZ26: 0 | IA26: 0 | IB26: 0 | IC26: =(H26/$D26)*1000000 -> 0 | ID26: =(I26/$D26)*1000000 -> 0 | IE26: =(J26/$D26)*1000000 -> 0 | IF26: =(K26/$D26)*1000000 -> 0 | IG26: =(L26/$D26)*1000000 -> 0 | IH26: =(M26/$D26)*1000000 -> 0 | II26: =(N26/$D26)*1000000 -> 0 | IJ26: =(O26/$D26)*1000000 -> 0 | ... QW26: =(IB26/$D26)*1000000 -> 0
C27: 943 | D27: 25285739 | E27: 28617217 | F27: =100-(D27/E27)*100 -> 11.641516 | G27: 4.0289717 | H27: 0 | I27: 0 | J27: 0 | K27: 0 | L27: 0 | M27: 0 | N27: 0 | O27: 0 | P27: 0 | Q27: 27.06 | R27: 3.48 | S27: 0 | T27: 0 | U27: 0 | V27: 0 | W27: 0 | X27: 0 | Y27: 0 | Z27: 0 | AA27: 0 | AB27: 0 | AC27: 0 | AD27: 0 | AE27: 6.95 | AF27: 426.32 | AG27: 28.26 | AH27: 0 | AI27: 0 | AJ27: 14.13 | AK27: 0 | AL27: 8.02 | AM27: 0 | AN27: 0 | AO27: 21.6 | AP27: 8.66 | AQ27: 0 | AR27: 3.7 | AS27: 421.65 | AT27: 0 | AU27: 0 | AV27: 15.43 | AW27: 3.78 | AX27: 0 | AY27: 0 | AZ27: 0 | BA27: 16.27 | BB27: 0 | BC27: 0 | BD27: 0 | BE27: 0 | BF27: 0 | BG27: 0 | BH27: 0 | BI27: 0 | BJ27: 0 | BK27: 0 | BL27: 0 | BM27: 0 | BN27: 0 | BO27: 0 | BP27: 0 | BQ27: 0 | BR27: 0 | BS27: 0 | BT27: 0 | BU27: 0 | BV27: 0 | BW27: 0 | BX27: 7.38 | BY27: 7.65 | BZ27: 0 | CA27: 0 | CB27: 9.42 | CC27: 0 | CD27: 0 | CE27: 0 | CF27: 0 | CG27: 0 | CH27: 0 | CI27: 0 | CJ27: 0 | CK27: 51.96 | CL27: 0 | CM27: 0 | CN27: 0 | CO27: 0 | CP27: 75.38 | CQ27: 0 | CR27: 0 | CS27: 0 | CT27: 0 | CU27: 0 | CV27: 0 | CW27: 0 | CX27: 0 | CY27: 0 | CZ27: 0 | DA27: 0 | DB27: 0 | DC27: 0 | DD27: 6.28 | DE27: 0 | DF27: 11.89 | DG27: 0 | DH27: 0 | DI27: 0 | DJ27: 0 | DK27: 0 | DL27: 4.81 | DM27: 0 | DN27: 0 | DO27: 0 | DP27: 4.45 | DQ27: 0 | DR27: 0 | DS27: 0 | DT27: 0 | DU27: 0 | DV27: 0 | DW27: 0 | DX27: 0 | DY27: 0 | DZ27: 0 | EA27: 0 | EB27: 0 | EC27: 0 | ED27: 0 | EE27: 295.99 | EF27: 0 | EG27: 4462.24 | EH27: 141.81 | EI27: 9.75 | EJ27: 0 | EK27: 2.24 | EL27: 0 | EM27: 0 | EN27: 0 | EO27: 0 | EP27: 253.32 | EQ27: 0 | ER27: 0 | ES27: 1.86 | ET27: 0 | EU27: 0 | EV27: 0 | EW27: 0 | EX27: 0 | EY27: 299.94 | EZ27: 0 | FA27: 16.04 | FB27: 0 | FC27: 0 | FD27: 0 | FE27: 0 | FF27: 0 | FG27: 15.86 | FH27: 0 | FI27: 0 | FJ27: 0 | FK27: 0 | FL27: 0 | FM27: 0 | FN27: 0 | FO27: 0 | FP27: 0 | FQ27: 0 | FR27: 179.51 | FS27: 89.89 | FT27: 0 | FU27: 20.11 | FV27: 4.95 | FW27: 0 | FX27: 0 | FY27: 0 | FZ27: 0 | GA27: 0 | GB27: 0 | GC27: 0 | GD27: 37.61 | GE27: 0 | GF27: 87.49 | GG27: 196.13 | GH27: 0 | GI27: 0 | GJ27: 0 | GK27: 0 | GL27: 0 | GM27: 6029.6 | GN27: 0 | GO27: 0 | GP27: 0 | GQ27: 490.51 | GR27: 105.79 | GS27: 13.33 | GT27: 0 | GU27: 0 | GV27: 0 | GW27: 0 | GX27: 1.86 | GY27: 0 | GZ27: 0 | HA27: 0 | HB27: 0 | HC27: 0 | HD27: 0 | HE27: 0 | HF27: 12.44 | HG27: 0 | HH27: 0 | HI27: 4.98 | HJ27: 0 | HK27: 0 | HL27: 6.87 | HM27: 35.72 | HN27: 0 | HO27: 0 | HP27: 0 | HQ27: 0 | HR27: 0 | HS27: 0 | HT27: 0 | HU27: 0 | HV27: 0 | HW27: 0 | HX27: 0 | HY27: 0 | HZ27: 0 | IA27: 0 | IB27: 0 | IC27: =(H27/$D27)*1000000 -> 0 | ID27: =(I27/$D27)*1000000 -> 0 | IE27: =(J27/$D27)*1000000 -> 0 | IF27: =(K27/$D27)*1000000 -> 0 | IG27: =(L27/$D27)*1000000 -> 0 | IH27: =(M27/$D27)*1000000 -> 0 | II27: =(N27/$D27)*1000000 -> 0 | IJ27: =(O27/$D27)*1000000 -> 0 | ... QW27: =(IB27/$D27)*1000000 -> 0
C28: 961 | D28: 22540154 | E28: 24976869 | F28: =100-(D28/E28)*100 -> 9.7558865 | G28: 3.8983286 | H28: 0 | I28: 0 | J28: 0 | K28: 0 | L28: 0 | M28: 0 | N28: 0 | O28: 0 | P28: 0 | Q28: 23.27 | R28: 0 | S28: 0 | T28: 16.96 | U28: 0 | V28: 0 | W28: 0 | X28: 0 | Y28: 0 | Z28: 0 | AA28: 0 | AB28: 0 | AC28: 0 | AD28: 81.06 | AE28: 29.86 | AF28: 347.78 | AG28: 13.55 | AH28: 0 | AI28: 0 | AJ28: 9.79 | AK28: 0 | AL28: 51.93 | AM28: 11.18 | AN28: 0 | AO28: 3.71 | AP28: 0 | AQ28: 0 | AR28: 0 | AS28: 579.06 | AT28: 0 | AU28: 0 | AV28: 2.47 | AW28: 8.46 | AX28: 0 | AY28: 0 | AZ28: 0 | BA28: 7.05 | BB28: 0 | BC28: 0 | BD28: 0 | BE28: 0 | BF28: 0 | BG28: 0 | BH28: 0 | BI28: 0 | BJ28: 0 | BK28: 0 | BL28: 0 | BM28: 0 | BN28: 0 | BO28: 0 | BP28: 0 | BQ28: 0 | BR28: 0 | BS28: 0 | BT28: 0 | BU28: 0 | BV28: 58.93 | BW28: 0 | BX28: 0 | BY28: 0 | BZ28: 0 | CA28: 0 | CB28: 32.2 | CC28: 0 | CD28: 0 | CE28: 0 | CF28: 0 | CG28: 0 | CH28: 0 | CI28: 0 | CJ28: 16.62 | CK28: 0 | CL28: 0 | CM28: 0 | CN28: 0 | CO28: 100.45 | CP28: 5.29 | CQ28: 0 | CR28: 0 | CS28: 0 | CT28: 0 | CU28: 8.52 | CV28: 0 | CW28: 0 | CX28: 0 | CY28: 0 | CZ28: 0 | DA28: 0 | DB28: 0 | DC28: 0 | DD28: 2.56 | DE28: 0 | DF28: 2.84 | DG28: 0 | DH28: 0 | DI28: 0 | DJ28: 0 | DK28: 0 | DL28: 13.85 | DM28: 0 | DN28: 0 | DO28: 0 | DP28: 78.45 | DQ28: 0 | DR28: 0 | DS28: 0 | DT28: 0 | DU28: 0 | DV28: 0 | DW28: 0 | DX28: 0 | DY28: 0 | DZ28: 0 | EA28: 0 | EB28: 0 | EC28: 0 | ED28: 0 | EE28: 614.74 | EF28: 0 | EG28: 950.4 | EH28: 244.91 | EI28: 105.97 | EJ28: 0 | EK28: 0 | EL28: 0 | EM28: 0 | EN28: 38.57 | EO28: 0 | EP28: 303.65 | EQ28: 0 | ER28: 0 | ES28: 0 | ET28: 0 | EU28: 0 | EV28: 0 | EW28: 0 | EX28: 0 | EY28: 207.46 | EZ28: 0 | FA28: 154.1 | FB28: 20.33 | FC28: 92.94 | FD28: 0 | FE28: 0 | FF28: 0 | FG28: 174.47 | FH28: 0 | FI28: 0 | FJ28: 0 | FK28: 0 | FL28: 0 | FM28: 0 | FN28: 0 | FO28: 0 | FP28: 0 | FQ28: 0 | FR28: 184.89 | FS28: 76.57 | FT28: 0 | FU28: 147.3 | FV28: 0 | FW28: 40.14 | FX28: 0 | FY28: 0 | FZ28: 0 | GA28: 0 | GB28: 0 | GC28: 9.35 | GD28: 11.85 | GE28: 79.27 | GF28: 156.06 | GG28: 0 | GH28: 0 | GI28: 0 | GJ28: 0 | GK28: 0 | GL28: 0 | GM28: 5279.08 | GN28: 0 | GO28: 0 | GP28: 0 | GQ28: 479.81 | GR28: 0 | GS28: 839.11 | GT28: 0 | GU28: 0 | GV28: 0 | GW28: 0 | GX28: 0 | GY28: 0 | GZ28: 0 | HA28: 0 | HB28: 0 | HC28: 16.9 | HD28: 0 | HE28: 0 | HF28: 0 | HG28: 0 | HH28: 0 | HI28: 0 | HJ28: 0 | HK28: 0 | HL28: 49.12 | HM28: 185.81 | HN28: 9.84 | HO28: 0 | HP28: 0 | HQ28: 0 | HR28: 0 | HS28: 0 | HT28: 0 | HU28: 0 | HV28: 0 | HW28: 0 | HX28: 0 | HY28: 0 | HZ28: 0 | IA28: 0 | IB28: 0 | IC28: =(H28/$D28)*1000000 -> 0 | ID28: =(I28/$D28)*1000000 -> 0 | IE28: =(J28/$D28)*1000000 -> 0 | IF28: =(K28/$D28)*1000000 -> 0 | IG28: =(L28/$D28)*1000000 -> 0 | IH28: =(M28/$D28)*1000000 -> 0 | II28: =(N28/$D28)*1000000 -> 0 | IJ28: =(O28/$D28)*1000000 -> 0 | ... QW28: =(IB28/$D28)*1000000 -> 0
B29: G3 | C29: 778 | D29: 25650269 | E29: 26142454 | F29: =100-(D29/E29)*100 -> 1.8827039 | G29: 3.6509667 | H29: 0 | I29: 0 | J29: 0 | K29: 0 | L29: 0 | M29: 0 | N29: 0 | O29: 0 | P29: 0 | Q29: 11.7 | R29: 0 | S29: 0 | T29: 0 | U29: 0 | V29: 0 | W29: 0 | X29: 0 | Y29: 0 | Z29: 0 | AA29: 0 | AB29: 0 | AC29: 0 | AD29: 0 | AE29: 5.23 | AF29: 412.4 | AG29: 15.87 | AH29: 0 | AI29: 0 | AJ29: 12.53 | AK29: 0 | AL29: 34.63 | AM29: 0 | AN29: 0 | AO29: 12.52 | AP29: 209.41 | AQ29: 0 | AR29: 433.44 | AS29: 2102.82 | AT29: 0 | AU29: 0 | AV29: 9.75 | AW29: 0 | AX29: 0 | AY29: 0 | AZ29: 0 | BA29: 50.56 | BB29: 0 | BC29: 0 | BD29: 0 | BE29: 0 | BF29: 0 | BG29: 0 | BH29: 0 | BI29: 0 | BJ29: 0 | BK29: 0 | BL29: 0 | BM29: 0 | BN29: 0 | BO29: 0 | BP29: 0 | BQ29: 4.8 | BR29: 0 | BS29: 0 | BT29: 0 | BU29: 0 | BV29: 0 | BW29: 50.55 | BX29: 5.15 | BY29: 834.22 | BZ29: 0 | CA29: 3.52 | CB29: 0 | CC29: 0 | CD29: 0 | CE29: 0 | CF29: 0 | CG29: 0 | CH29: 0 | CI29: 0 | CJ29: 0 | CK29: 0 | CL29: 0 | CM29: 40.87 | CN29: 0 | CO29: 0 | CP29: 91.27 | CQ29: 3.38 | CR29: 0 | CS29: 0 | CT29: 0 | CU29: 0 | CV29: 0 | CW29: 0 | CX29: 0 | CY29: 0 | CZ29: 0 | DA29: 3.55 | DB29: 0 | DC29: 0 | DD29: 0 | DE29: 0 | DF29: 0 | DG29: 0 | DH29: 0 | DI29: 0 | DJ29: 0 | DK29: 0 | DL29: 0 | DM29: 0 | DN29: 0 | DO29: 0 | DP29: 1.03 | DQ29: 0 | DR29: 0 | DS29: 0 | DT29: 0 | DU29: 0 | DV29: 0 | DW29: 0 | DX29: 0 | DY29: 0 | DZ29: 0 | EA29: 0 | EB29: 0 | EC29: 0 | ED29: 0 | EE29: 1532.8 | EF29: 2.42 | EG29: 282.54 | EH29: 164.37 | EI29: 0 | EJ29: 0 | EK29: 0 | EL29: 0 | EM29: 0 | EN29: 135.21 | EO29: 4.48 | EP29: 476.71 | EQ29: 0 | ER29: 0 | ES29: 0 | ET29: 0 | EU29: 0 | EV29: 0 | EW29: 4.84 | EX29: 0 | EY29: 130.25 | EZ29: 0 | FA29: 0 | FB29: 0 | FC29: 0 | FD29: 0 | FE29: 0 | FF29: 0 | FG29: 0 | FH29: 0 | FI29: 0 | FJ29: 0 | FK29: 59.17 | FL29: 0 | FM29: 0 | FN29: 0 | FO29: 0 | FP29: 0 | FQ29: 0 | FR29: 336.21 | FS29: 92.96 | FT29: 0 | FU29: 505.67 | FV29: 2.84 | FW29: 0 | FX29: 0 | FY29: 2.69 | FZ29: 0 | GA29: 0 | GB29: 18.14 | GC29: 35.85 | GD29: 85.46 | GE29: 178.95 | GF29: 616.16 | GG29: 0 | GH29: 134.34 | GI29: 0 | GJ29: 0 | GK29: 0 | GL29: 0 | GM29: 579.67 | GN29: 0 | GO29: 0 | GP29: 0 | GQ29: 537.08 | GR29: 47.97 | GS29: 29.4 | GT29: 0 | GU29: 0 | GV29: 0 | GW29: 0 | GX29: 0 | GY29: 0 | GZ29: 0 | HA29: 0 | HB29: 0 | HC29: 0 | HD29: 0 | HE29: 0 | HF29: 8.77 | HG29: 0 | HH29: 0 | HI29: 592.68 | HJ29: 0 | HK29: 0 | HL29: 0 | HM29: 22.6 | HN29: 0 | HO29: 0 | HP29: 0 | HQ29: 0 | HR29: 0 | HS29: 0 | HT29: 0 | HU29: 0 | HV29: 0 | HW29: 0 | HX29: 0 | HY29: 0 | HZ29: 0 | IA29: 0 | IB29: 0 | IC29: =(H29/$D29)*1000000 -> 0 | ID29: =(I29/$D29)*1000000 -> 0 | IE29: =(J29/$D29)*1000000 -> 0 | IF29: =(K29/$D29)*1000000 -> 0 | IG29: =(L29/$D29)*1000000 -> 0 | IH29: =(M29/$D29)*1000000 -> 0 | II29: =(N29/$D29)*1000000 -> 0 | IJ29: =(O29/$D29)*1000000 -> 0 | ... QW29: =(IB29/$D29)*1000000 -> 0
C30: 790 | D30: 11421365 | E30: 28424262 | F30: =100-(D30/E30)*100 -> 59.818253 | G30: 4.0381976 | H30: 0 | I30: 0 | J30: 0 | K30: 22.35 | L30: 0 | M30: 0 | N30: 0 | O30: 0 | P30: 19.43 | Q30: 8.65 | R30: 0 | S30: 0 | T30: 26.91 | U30: 0 | V30: 0 | W30: 0 | X30: 0 | Y30: 0 | Z30: 0 | AA30: 0 | AB30: 0 | AC30: 0 | AD30: 5.7 | AE30: 26.39 | AF30: 167.7 | AG30: 4.32 | AH30: 0 | AI30: 0 | AJ30: 8.7 | AK30: 2.18 | AL30: 4.36 | AM30: 0 | AN30: 0 | AO30: 12.38 | AP30: 86.46 | AQ30: 0 | AR30: 76.97 | AS30: 102.9 | AT30: 0 | AU30: 31.77 | AV30: 4.56 | AW30: 4.15 | AX30: 0 | AY30: 0 | AZ30: 0 | BA30: 20.87 | BB30: 0 | BC30: 0 | BD30: 0 | BE30: 0 | BF30: 0 | BG30: 0 | BH30: 0 | BI30: 0 | BJ30: 0 | BK30: 0 | BL30: 0 | BM30: 4.12 | BN30: 0 | BO30: 0 | BP30: 0 | BQ30: 0 | BR30: 0 | BS30: 0 | BT30: 0 | BU30: 0 | BV30: 0 | BW30: 0 | BX30: 6.7 | BY30: 116.69 | BZ30: 0 | CA30: 33.84 | CB30: 0 | CC30: 0 | CD30: 0 | CE30: 0 | CF30: 0 | CG30: 0 | CH30: 0 | CI30: 0 | CJ30: 0 | CK30: 99.8 | CL30: 0 | CM30: 0 | CN30: 0 | CO30: 0 | CP30: 11.2 | CQ30: 0 | CR30: 0 | CS30: 0 | CT30: 0 | CU30: 30.03 | CV30: 0 | CW30: 0 | CX30: 0 | CY30: 0 | CZ30: 0 | DA30: 0 | DB30: 0 | DC30: 0 | DD30: 8.29 | DE30: 0 | DF30: 0 | DG30: 0 | DH30: 0 | DI30: 0 | DJ30: 0 | DK30: 0 | DL30: 0 | DM30: 0 | DN30: 0 | DO30: 0 | DP30: 0 | DQ30: 0 | DR30: 0 | DS30: 0 | DT30: 0 | DU30: 0 | DV30: 0 | DW30: 0 | DX30: 0 | DY30: 0 | DZ30: 0 | EA30: 0 | EB30: 0 | EC30: 0 | ED30: 0 | EE30: 144.84 | EF30: 0 | EG30: 45.76 | EH30: 24.73 | EI30: 0 | EJ30: 0 | EK30: 0 | EL30: 0 | EM30: 0 | EN30: 0 | EO30: 0 | EP30: 174.64 | EQ30: 0 | ER30: 0 | ES30: 0 | ET30: 0 | EU30: 0 | EV30: 0 | EW30: 0 | EX30: 0 | EY30: 51.4 | EZ30: 0 | FA30: 2.45 | FB30: 0 | FC30: 0 | FD30: 0 | FE30: 0 | FF30: 0 | FG30: 2.1 | FH30: 0 | FI30: 0 | FJ30: 0 | FK30: 0 | FL30: 0 | FM30: 0 | FN30: 0 | FO30: 0 | FP30: 0 | FQ30: 0 | FR30: 209.13 | FS30: 4.1 | FT30: 0 | FU30: 110.11 | FV30: 2.04 | FW30: 7.54 | FX30: 0 | FY30: 0 | FZ30: 0 | GA30: 0 | GB30: 51.52 | GC30: 0 | GD30: 211.38 | GE30: 0 | GF30: 23.01 | GG30: 0 | GH30: 0 | GI30: 0 | GJ30: 0 | GK30: 0 | GL30: 0 | GM30: 468.21 | GN30: 0 | GO30: 0 | GP30: 0 | GQ30: 175.01 | GR30: 0 | GS30: 3.44 | GT30: 0 | GU30: 0 | GV30: 0 | GW30: 0 | GX30: 0 | GY30: 0 | GZ30: 2.37 | HA30: 0 | HB30: 0 | HC30: 0 | HD30: 0 | HE30: 0 | HF30: 0 | HG30: 0 | HH30: 0 | HI30: 73.72 | HJ30: 0 | HK30: 0 | HL30: 39.67 | HM30: 19.91 | HN30: 2.61 | HO30: 0 | HP30: 0 | HQ30: 0 | HR30: 0 | HS30: 0 | HT30: 0 | HU30: 0 | HV30: 0 | HW30: 0 | HX30: 0 | HY30: 0 | HZ30: 0 | IA30: 0 | IB30: 0 | IC30: =(H30/$D30)*1000000 -> 0 | ID30: =(I30/$D30)*1000000 -> 0 | IE30: =(J30/$D30)*1000000 -> 0 | IF30: =(K30/$D30)*1000000 -> 1.9568589 | IG30: =(L30/$D30)*1000000 -> 0 | IH30: =(M30/$D30)*1000000 -> 0 | II30: =(N30/$D30)*1000000 -> 0 | IJ30: =(O30/$D30)*1000000 -> 0 | ... QW30: =(IB30/$D30)*1000000 -> 0
C31: 796 | D31: 16007154 | E31: 29139543 | F31: =100-(D31/E31)*100 -> 45.067244 | G31: 3.7639407 | H31: 0 | I31: 0 | J31: 0 | K31: 0 | L31: 0 | M31: 0 | N31: 0 | O31: 0 | P31: 0 | Q31: 28.09 | R31: 0 | S31: 0 | T31: 7.58 | U31: 0 | V31: 0 | W31: 0 | X31: 0 | Y31: 0 | Z31: 0 | AA31: 0 | AB31: 0 | AC31: 0 | AD31: 4.24 | AE31: 10.95 | AF31: 365.13 | AG31: 8.98 | AH31: 0 | AI31: 0 | AJ31: 17.92 | AK31: 0 | AL31: 0 | AM31: 0 | AN31: 0 | AO31: 3.7 | AP31: 2.79 | AQ31: 0 | AR31: 0 | AS31: 390.92 | AT31: 0 | AU31: 0 | AV31: 5.88 | AW31: 8.32 | AX31: 0 | AY31: 0 | AZ31: 0 | BA31: 1.9 | BB31: 0 | BC31: 0 | BD31: 0 | BE31: 0 | BF31: 0 | BG31: 0 | BH31: 0 | BI31: 0 | BJ31: 0 | BK31: 0 | BL31: 0 | BM31: 0 | BN31: 0 | BO31: 0 | BP31: 0 | BQ31: 0 | BR31: 0 | BS31: 0 | BT31: 5.35 | BU31: 0 | BV31: 0 | BW31: 0 | BX31: 0 | BY31: 0 | BZ31: 0 | CA31: 0 | CB31: 14.07 | CC31: 0 | CD31: 0 | CE31: 0 | CF31: 0 | CG31: 0 | CH31: 0 | CI31: 0 | CJ31: 0 | CK31: 0 | CL31: 0 | CM31: 170.56 | CN31: 0 | CO31: 0 | CP31: 16.96 | CQ31: 0 | CR31: 0 | CS31: 0 | CT31: 0 | CU31: 0 | CV31: 0 | CW31: 1.22 | CX31: 0 | CY31: 0 | CZ31: 0 | DA31: 0 | DB31: 0 | DC31: 0 | DD31: 0 | DE31: 0 | DF31: 0 | DG31: 0 | DH31: 0 | DI31: 0 | DJ31: 0 | DK31: 0 | DL31: 0 | DM31: 1.55 | DN31: 0 | DO31: 0 | DP31: 17.81 | DQ31: 0 | DR31: 0 | DS31: 0 | DT31: 0 | DU31: 0 | DV31: 0 | DW31: 0 | DX31: 0 | DY31: 0 | DZ31: 0 | EA31: 0 | EB31: 0 | EC31: 0 | ED31: 0 | EE31: 140.02 | EF31: 0 | EG31: 206.38 | EH31: 256.05 | EI31: 18.36 | EJ31: 0 | EK31: 0 | EL31: 0 | EM31: 0 | EN31: 0 | EO31: 0 | EP31: 413.14 | EQ31: 0 | ER31: 0 | ES31: 0 | ET31: 0 | EU31: 0 | EV31: 0 | EW31: 0 | EX31: 0 | EY31: 130.85 | EZ31: 0 | FA31: 31.27 | FB31: 2.74 | FC31: 21.09 | FD31: 0 | FE31: 0 | FF31: 1.73 | FG31: 23.28 | FH31: 0 | FI31: 0 | FJ31: 0 | FK31: 0 | FL31: 0 | FM31: 0 | FN31: 0 | FO31: 0 | FP31: 0 | FQ31: 0 | FR31: 120.58 | FS31: 58.38 | FT31: 0 | FU31: 43.38 | FV31: 0 | FW31: 33.99 | FX31: 0 | FY31: 0 | FZ31: 0 | GA31: 0 | GB31: 0 | GC31: 0 | GD31: 82.96 | GE31: 0 | GF31: 0 | GG31: 74.54 | GH31: 0 | GI31: 0 | GJ31: 0 | GK31: 0 | GL31: 0 | GM31: 734.18 | GN31: 0 | GO31: 0 | GP31: 0 | GQ31: 467.9 | GR31: 56.86 | GS31: 72.43 | GT31: 0 | GU31: 0 | GV31: 0 | GW31: 0 | GX31: 0 | GY31: 0 | GZ31: 0 | HA31: 0 | HB31: 7.73 | HC31: 0 | HD31: 0 | HE31: 0 | HF31: 5.99 | HG31: 0 | HH31: 0 | HI31: 3.09 | HJ31: 0 | HK31: 0 | HL31: 8.44 | HM31: 71.84 | HN31: 7.62 | HO31: 0 | HP31: 0 | HQ31: 0 | HR31: 0 | HS31: 0 | HT31: 0 | HU31: 0 | HV31: 0 | HW31: 0 | HX31: 0 | HY31: 0 | HZ31: 0 | IA31: 0 | IB31: 0 | IC31: =(H31/$D31)*1000000 -> 0 | ID31: =(I31/$D31)*1000000 -> 0 | IE31: =(J31/$D31)*1000000 -> 0 | IF31: =(K31/$D31)*1000000 -> 0 | IG31: =(L31/$D31)*1000000 -> 0 | IH31: =(M31/$D31)*1000000 -> 0 | II31: =(N31/$D31)*1000000 -> 0 | IJ31: =(O31/$D31)*1000000 -> 0 | ... QW31: =(IB31/$D31)*1000000 -> 0
C32: 802 | D32: 23316382 | E32: 27818348 | F32: =100-(D32/E32)*100 -> 16.183441 | G32: 3.1040515 | H32: 0 | I32: 0 | J32: 0 | K32: 0 | L32: 0 | M32: 0 | N32: 0 | O32: 0 | P32: 0 | Q32: 13.91 | R32: 0 | S32: 0 | T32: 0 | U32: 0 | V32: 0 | W32: 0 | X32: 0 | Y32: 0 | Z32: 0 | AA32: 0 | AB32: 0 | AC32: 0 | AD32: 0 | AE32: 22.82 | AF32: 234 | AG32: 20.37 | AH32: 0 | AI32: 0 | AJ32: 12.84 | AK32: 0 | AL32: 13.83 | AM32: 4.32 | AN32: 0 | AO32: 5.77 | AP32: 994.01 | AQ32: 0 | AR32: 1244.87 | AS32: 206.41 | AT32: 0 | AU32: 0 | AV32: 2.59 | AW32: 0 | AX32: 0 | AY32: 0 | AZ32: 0 | BA32: 50.28 | BB32: 0 | BC32: 0 | BD32: 0 | BE32: 0 | BF32: 0 | BG32: 0 | BH32: 0 | BI32: 0 | BJ32: 0 | BK32: 0 | BL32: 0 | BM32: 0 | BN32: 0 | BO32: 0 | BP32: 0 | BQ32: 0 | BR32: 0 | BS32: 0 | BT32: 0 | BU32: 0 | BV32: 0 | BW32: 0 | BX32: 0 | BY32: 1243.68 | BZ32: 0 | CA32: 0 | CB32: 3.26 | CC32: 0 | CD32: 0 | CE32: 0 | CF32: 0 | CG32: 0 | CH32: 0 | CI32: 0 | CJ32: 0 | CK32: 0 | CL32: 0 | CM32: 13.04 | CN32: 0 | CO32: 0 | CP32: 0 | CQ32: 0 | CR32: 0 | CS32: 0 | CT32: 0 | CU32: 1.62 | CV32: 0 | CW32: 0 | CX32: 0 | CY32: 0 | CZ32: 0 | DA32: 0 | DB32: 0 | DC32: 0 | DD32: 0 | DE32: 0 | DF32: 0 | DG32: 0 | DH32: 0 | DI32: 0 | DJ32: 0 | DK32: 0 | DL32: 1.48 | DM32: 0 | DN32: 0 | DO32: 0 | DP32: 95.59 | DQ32: 0 | DR32: 0 | DS32: 0 | DT32: 0 | DU32: 0 | DV32: 0 | DW32: 0 | DX32: 0 | DY32: 0 | DZ32: 0 | EA32: 0 | EB32: 0 | EC32: 0 | ED32: 0 | EE32: 264.68 | EF32: 0 | EG32: 451.36 | EH32: 95.13 | EI32: 127.68 | EJ32: 5.71 | EK32: 3.36 | EL32: 0 | EM32: 0 | EN32: 15.95 | EO32: 0 | EP32: 245.02 | EQ32: 0 | ER32: 0 | ES32: 24.93 | ET32: 0 | EU32: 0 | EV32: 0 | EW32: 0 | EX32: 0 | EY32: 34.44 | EZ32: 0 | FA32: 147.73 | FB32: 0 | FC32: 91.21 | FD32: 0 | FE32: 0 | FF32: 0 | FG32: 142.26 | FH32: 0 | FI32: 0 | FJ32: 0 | FK32: 0 | FL32: 0 | FM32: 0 | FN32: 0 | FO32: 0 | FP32: 0 | FQ32: 0 | FR32: 90.88 | FS32: 16.08 | FT32: 0 | FU32: 1502.51 | FV32: 0 | FW32: 2.82 | FX32: 0 | FY32: 0 | FZ32: 0 | GA32: 0 | GB32: 15.24 | GC32: 26.2 | GD32: 58.04 | GE32: 0 | GF32: 168.81 | GG32: 0 | GH32: 72.36 | GI32: 0 | GJ32: 0 | GK32: 0 | GL32: 0 | GM32: 628.73 | GN32: 0 | GO32: 0 | GP32: 0 | GQ32: 345.42 | GR32: 0 | GS32: 62.82 | GT32: 0 | GU32: 0 | GV32: 0 | GW32: 0 | GX32: 28.21 | GY32: 8.78 | GZ32: 0 | HA32: 0 | HB32: 0 | HC32: 0 | HD32: 0 | HE32: 0 | HF32: 92.5 | HG32: 0 | HH32: 0 | HI32: 1012.39 | HJ32: 0 | HK32: 0 | HL32: 0 | HM32: 214.28 | HN32: 2.37 | HO32: 0 | HP32: 0 | HQ32: 0 | HR32: 0 | HS32: 0 | HT32: 0 | HU32: 0 | HV32: 0 | HW32: 0 | HX32: 0 | HY32: 0 | HZ32: 0 | IA32: 0 | IB32: 0 | IC32: =(H32/$D32)*1000000 -> 0 | ID32: =(I32/$D32)*1000000 -> 0 | IE32: =(J32/$D32)*1000000 -> 0 | IF32: =(K32/$D32)*1000000 -> 0 | IG32: =(L32/$D32)*1000000 -> 0 | IH32: =(M32/$D32)*1000000 -> 0 | II32: =(N32/$D32)*1000000 -> 0 | IJ32: =(O32/$D32)*1000000 -> 0 | ... QW32: =(IB32/$D32)*1000000 -> 0
C33: 821 | D33: 17230178 | E33: 29199342 | F33: =100-(D33/E33)*100 -> 40.991211 | G33: 3.3113121 | H33: 0 | I33: 0 | J33: 0 | K33: 0 | L33: 0 | M33: 0 | N33: 0 | O33: 0 | P33: 0 | Q33: 42.29 | R33: 48.03 | S33: 0 | T33: 0 | U33: 0 | V33: 0 | W33: 0 | X33: 2.66 | Y33: 0 | Z33: 0 | AA33: 0 | AB33: 0 | AC33: 0 | AD33: 0 | AE33: 96.69 | AF33: 293.09 | AG33: 21.47 | AH33: 0 | AI33: 0 | AJ33: 36.52 | AK33: 0 | AL33: 16.79 | AM33: 9.12 | AN33: 0 | AO33: 57.94 | AP33: 3.2 | AQ33: 0 | AR33: 0 | AS33: 161.38 | AT33: 0 | AU33: 0 | AV33: 59.77 | AW33: 0 | AX33: 0 | AY33: 0 | AZ33: 0 | BA33: 4.91 | BB33: 0 | BC33: 0 | BD33: 0 | BE33: 0 | BF33: 0 | BG33: 0 | BH33: 0 | BI33: 0 | BJ33: 0 | BK33: 0 | BL33: 0 | BM33: 0 | BN33: 0 | BO33: 0 | BP33: 0 | BQ33: 0 | BR33: 0 | BS33: 0 | BT33: 0 | BU33: 0 | BV33: 0 | BW33: 0 | BX33: 0 | BY33: 0 | BZ33: 0 | CA33: 0 | CB33: 174.84 | CC33: 0 | CD33: 0 | CE33: 238.34 | CF33: 0 | CG33: 0 | CH33: 0 | CI33: 0 | CJ33: 0 | CK33: 0 | CL33: 0 | CM33: 3.59 | CN33: 0 | CO33: 0 | CP33: 0 | CQ33: 0 | CR33: 0 | CS33: 65.53 | CT33: 0 | CU33: 0 | CV33: 0 | CW33: 0 | CX33: 0 | CY33: 0 | CZ33: 0 | DA33: 0 | DB33: 0 | DC33: 0 | DD33: 0 | DE33: 0 | DF33: 2.56 | DG33: 0 | DH33: 0 | DI33: 0 | DJ33: 0 | DK33: 0 | DL33: 106.2 | DM33: 0 | DN33: 0 | DO33: 0 | DP33: 98.72 | DQ33: 0 | DR33: 0 | DS33: 0 | DT33: 0 | DU33: 0 | DV33: 0 | DW33: 0 | DX33: 0 | DY33: 0 | DZ33: 0 | EA33: 2.38 | EB33: 0 | EC33: 0 | ED33: 6 | EE33: 371.71 | EF33: 0 | EG33: 162.66 | EH33: 104.34 | EI33: 125.76 | EJ33: 8.01 | EK33: 7.74 | EL33: 0 | EM33: 0 | EN33: 15.69 | EO33: 0 | EP33: 129.25 | EQ33: 0 | ER33: 0 | ES33: 14.92 | ET33: 61.26 | EU33: 0 | EV33: 2.24 | EW33: 0 | EX33: 0 | EY33: 166.79 | EZ33: 0 | FA33: 327.13 | FB33: 38.48 | FC33: 43.44 | FD33: 0 | FE33: 0 | FF33: 0 | FG33: 335.92 | FH33: 0 | FI33: 0 | FJ33: 0 | FK33: 0 | FL33: 0 | FM33: 0 | FN33: 0 | FO33: 0 | FP33: 0 | FQ33: 0 | FR33: 123.77 | FS33: 58.72 | FT33: 0 | FU33: 264.32 | FV33: 0 | FW33: 4.55 | FX33: 0 | FY33: 0 | FZ33: 0 | GA33: 0 | GB33: 60.64 | GC33: 73.1 | GD33: 67.88 | GE33: 0 | GF33: 120.72 | GG33: 41.11 | GH33: 0 | GI33: 0 | GJ33: 0 | GK33: 0 | GL33: 0 | GM33: 414.2 | GN33: 0 | GO33: 0 | GP33: 2.15 | GQ33: 356.27 | GR33: 7.14 | GS33: 11.19 | GT33: 0 | GU33: 0 | GV33: 0 | GW33: 4.76 | GX33: 16.26 | GY33: 9.39 | GZ33: 0 | HA33: 0 | HB33: 0 | HC33: 10.46 | HD33: 0 | HE33: 0 | HF33: 550.57 | HG33: 0 | HH33: 0 | HI33: 53.71 | HJ33: 0 | HK33: 0 | HL33: 51.27 | HM33: 242.23 | HN33: 0 | HO33: 0 | HP33: 0 | HQ33: 20.88 | HR33: 0 | HS33: 0 | HT33: 0 | HU33: 0 | HV33: 0 | HW33: 0 | HX33: 0 | HY33: 0 | HZ33: 0 | IA33: 0 | IB33: 0 | IC33: =(H33/$D33)*1000000 -> 0 | ID33: =(I33/$D33)*1000000 -> 0 | IE33: =(J33/$D33)*1000000 -> 0 | IF33: =(K33/$D33)*1000000 -> 0 | IG33: =(L33/$D33)*1000000 -> 0 | IH33: =(M33/$D33)*1000000 -> 0 | II33: =(N33/$D33)*1000000 -> 0 | IJ33: =(O33/$D33)*1000000 -> 0 | ... QW33: =(IB33/$D33)*1000000 -> 0
C34: 845 | D34: 10474782 | E34: 27622737 | F34: =100-(D34/E34)*100 -> 62.079131 | G34: 3.6979617 | H34: 2.86 | I34: 0 | J34: 0 | K34: 0 | L34: 0 | M34: 13.03 | N34: 0 | O34: 0 | P34: 0 | Q34: 22.35 | R34: 25.02 | S34: 0 | T34: 0 | U34: 0 | V34: 0 | W34: 0 | X34: 0 | Y34: 0 | Z34: 0 | AA34: 0 | AB34: 0 | AC34: 0 | AD34: 2.03 | AE34: 7.69 | AF34: 271.36 | AG34: 21.62 | AH34: 0 | AI34: 0 | AJ34: 19.86 | AK34: 0 | AL34: 26.86 | AM34: 0 | AN34: 0 | AO34: 25.4 | AP34: 1.25 | AQ34: 0 | AR34: 0 | AS34: 593.75 | AT34: 0 | AU34: 0 | AV34: 11.91 | AW34: 0 | AX34: 0 | AY34: 0 | AZ34: 0 | BA34: 16.02 | BB34: 0 | BC34: 0 | BD34: 0 | BE34: 0 | BF34: 0 | BG34: 0 | BH34: 0 | BI34: 0 | BJ34: 0 | BK34: 0 | BL34: 0 | BM34: 0 | BN34: 0 | BO34: 0 | BP34: 0 | BQ34: 0 | BR34: 0 | BS34: 0 | BT34: 0 | BU34: 0 | BV34: 0 | BW34: 0 | BX34: 2.01 | BY34: 0 | BZ34: 0 | CA34: 0 | CB34: 82.79 | CC34: 0 | CD34: 0 | CE34: 0 | CF34: 0 | CG34: 0 | CH34: 36.47 | CI34: 0 | CJ34: 0 | CK34: 0 | CL34: 0 | CM34: 0 | CN34: 0 | CO34: 51.73 | CP34: 0 | CQ34: 0 | CR34: 0 | CS34: 0 | CT34: 0 | CU34: 0 | CV34: 0 | CW34: 0 | CX34: 0 | CY34: 0 | CZ34: 0 | DA34: 0 | DB34: 0 | DC34: 0 | DD34: 0 | DE34: 0 | DF34: 0 | DG34: 0 | DH34: 0 | DI34: 0 | DJ34: 0 | DK34: 0 | DL34: 20.51 | DM34: 0 | DN34: 0 | DO34: 0 | DP34: 0 | DQ34: 0 | DR34: 0 | DS34: 0 | DT34: 0 | DU34: 0 | DV34: 0 | DW34: 0 | DX34: 0 | DY34: 0 | DZ34: 0 | EA34: 0 | EB34: 0 | EC34: 0 | ED34: 0 | EE34: 472.62 | EF34: 0 | EG34: 28.8 | EH34: 103.19 | EI34: 0 | EJ34: 2.83 | EK34: 1.47 | EL34: 0 | EM34: 0 | EN34: 0 | EO34: 0 | EP34: 166.93 | EQ34: 0 | ER34: 1.85 | ES34: 7.46 | ET34: 0 | EU34: 0 | EV34: 0 | EW34: 2.4 | EX34: 0 | EY34: 66.91 | EZ34: 0 | FA34: 43.96 | FB34: 26.55 | FC34: 0 | FD34: 0 | FE34: 0 | FF34: 0 | FG34: 40.31 | FH34: 0 | FI34: 0 | FJ34: 0 | FK34: 0 | FL34: 0 | FM34: 0 | FN34: 0 | FO34: 0 | FP34: 0 | FQ34: 0 | FR34: 185.22 | FS34: 26.45 | FT34: 0 | FU34: 25.41 | FV34: 3.32 | FW34: 21.81 | FX34: 0 | FY34: 0 | FZ34: 0 | GA34: 0 | GB34: 27.67 | GC34: 3.38 | GD34: 9.27 | GE34: 38 | GF34: 191.44 | GG34: 0 | GH34: 70.96 | GI34: 0 | GJ34: 0 | GK34: 0 | GL34: 0 | GM34: 304.96 | GN34: 0 | GO34: 0 | GP34: 0 | GQ34: 391.45 | GR34: 16.38 | GS34: 16.27 | GT34: 0 | GU34: 0 | GV34: 0 | GW34: 2.59 | GX34: 10.17 | GY34: 10.17 | GZ34: 0 | HA34: 0 | HB34: 0 | HC34: 24.8 | HD34: 0 | HE34: 0 | HF34: 8.75 | HG34: 0 | HH34: 0 | HI34: 34.89 | HJ34: 0 | HK34: 0 | HL34: 12.97 | HM34: 30.68 | HN34: 3.07 | HO34: 0 | HP34: 0 | HQ34: 0 | HR34: 0 | HS34: 0 | HT34: 0 | HU34: 0 | HV34: 0 | HW34: 0 | HX34: 0 | HY34: 0 | HZ34: 0 | IA34: 0 | IB34: 0 | IC34: =(H34/$D34)*1000000 -> 0.27303671 | ID34: =(I34/$D34)*1000000 -> 0 | IE34: =(J34/$D34)*1000000 -> 0 | IF34: =(K34/$D34)*1000000 -> 0 | IG34: =(L34/$D34)*1000000 -> 0 | IH34: =(M34/$D34)*1000000 -> 1.24394 | II34: =(N34/$D34)*1000000 -> 0 | IJ34: =(O34/$D34)*1000000 -> 0 | ... QW34: =(IB34/$D34)*1000000 -> 0
C35: 884 | D35: 28571790 | E35: 28878866 | F35: =100-(D35/E35)*100 -> 1.0633243 | G35: 3.8885013 | H35: 0 | I35: 0 | J35: 0 | K35: 0 | L35: 0 | M35: 0 | N35: 0 | O35: 0 | P35: 0 | Q35: 42.16 | R35: 8.14 | S35: 0 | T35: 0 | U35: 0 | V35: 15.13 | W35: 0 | X35: 0 | Y35: 0 | Z35: 0 | AA35: 0 | AB35: 0 | AC35: 0 | AD35: 3.29 | AE35: 73.01 | AF35: 588.33 | AG35: 108.68 | AH35: 0 | AI35: 0 | AJ35: 25.14 | AK35: 0 | AL35: 44.68 | AM35: 22.4 | AN35: 0 | AO35: 2.16 | AP35: 1.81 | AQ35: 0 | AR35: 0 | AS35: 552.06 | AT35: 0 | AU35: 0 | AV35: 1.79 | AW35: 0 | AX35: 0 | AY35: 0 | AZ35: 0 | BA35: 27.14 | BB35: 0 | BC35: 0 | BD35: 0 | BE35: 0 | BF35: 0 | BG35: 0 | BH35: 0 | BI35: 0 | BJ35: 0 | BK35: 0 | BL35: 0 | BM35: 0 | BN35: 0 | BO35: 0 | BP35: 0 | BQ35: 0 | BR35: 0 | BS35: 0 | BT35: 0 | BU35: 0 | BV35: 0 | BW35: 0 | BX35: 0 | BY35: 0 | BZ35: 0 | CA35: 5.59 | CB35: 58.55 | CC35: 0 | CD35: 0 | CE35: 0 | CF35: 0 | CG35: 0 | CH35: 0 | CI35: 0 | CJ35: 0 | CK35: 0 | CL35: 0 | CM35: 57.28 | CN35: 0 | CO35: 0 | CP35: 17.57 | CQ35: 2.56 | CR35: 0 | CS35: 0 | CT35: 0 | CU35: 0 | CV35: 0 | CW35: 0 | CX35: 0 | CY35: 0 | CZ35: 0 | DA35: 0 | DB35: 0 | DC35: 0 | DD35: 4.01 | DE35: 0 | DF35: 6 | DG35: 20.58 | DH35: 3.57 | DI35: 0 | DJ35: 0 | DK35: 23.59 | DL35: 23.28 | DM35: 20.65 | DN35: 0 | DO35: 0 | DP35: 114.69 | DQ35: 0 | DR35: 0 | DS35: 11.31 | DT35: 0 | DU35: 0 | DV35: 0 | DW35: 0 | DX35: 0 | DY35: 0 | DZ35: 0 | EA35: 0 | EB35: 0 | EC35: 0 | ED35: 0 | EE35: 2125.01 | EF35: 0 | EG35: 184.2 | EH35: 97.15 | EI35: 125.29 | EJ35: 0 | EK35: 0 | EL35: 1.57 | EM35: 0 | EN35: 3.21 | EO35: 0 | EP35: 237.4 | EQ35: 0 | ER35: 2.46 | ES35: 0 | ET35: 0 | EU35: 0 | EV35: 8.69 | EW35: 0 | EX35: 0 | EY35: 112.04 | EZ35: 0 | FA35: 200.73 | FB35: 13.22 | FC35: 144.69 | FD35: 0 | FE35: 0 | FF35: 0 | FG35: 186.85 | FH35: 0 | FI35: 0 | FJ35: 0 | FK35: 0 | FL35: 0 | FM35: 0 | FN35: 0 | FO35: 0 | FP35: 0 | FQ35: 0 | FR35: 292.44 | FS35: 104.66 | FT35: 0 | FU35: 213.43 | FV35: 0 | FW35: 204.9 | FX35: 0 | FY35: 0 | FZ35: 0 | GA35: 0 | GB35: 0 | GC35: 15.09 | GD35: 76.45 | GE35: 103.37 | GF35: 516.82 | GG35: 108.26 | GH35: 0 | GI35: 0 | GJ35: 0 | GK35: 0 | GL35: 0 | GM35: 1031.72 | GN35: 0 | GO35: 0 | GP35: 0 | GQ35: 1078.88 | GR35: 29.28 | GS35: 15.12 | GT35: 0 | GU35: 0 | GV35: 0 | GW35: 0 | GX35: 0 | GY35: 0 | GZ35: 0 | HA35: 0 | HB35: 0 | HC35: 41.78 | HD35: 0 | HE35: 10.63 | HF35: 28.92 | HG35: 0 | HH35: 0 | HI35: 0 | HJ35: 0 | HK35: 0 | HL35: 7.45 | HM35: 330.51 | HN35: 12.41 | HO35: 0 | HP35: 0 | HQ35: 0 | HR35: 0 | HS35: 0 | HT35: 0 | HU35: 0 | HV35: 0 | HW35: 0 | HX35: 0 | HY35: 0 | HZ35: 0 | IA35: 0 | IB35: 0 | IC35: =(H35/$D35)*1000000 -> 0 | ID35: =(I35/$D35)*1000000 -> 0 | IE35: =(J35/$D35)*1000000 -> 0 | IF35: =(K35/$D35)*1000000 -> 0 | IG35: =(L35/$D35)*1000000 -> 0 | IH35: =(M35/$D35)*1000000 -> 0 | II35: =(N35/$D35)*1000000 -> 0 | IJ35: =(O35/$D35)*1000000 -> 0 | ... QW35: =(IB35/$D35)*1000000 -> 0
C36: 926 | D36: 9744414 | E36: 24685041 | F36: =100-(D36/E36)*100 -> 60.525024 | G36: 3.4293715 | H36: 0 | I36: 0 | J36: 0 | K36: 0 | L36: 0 | M36: 0 | N36: 0 | O36: 0 | P36: 0 | Q36: 40.37 | R36: 0 | S36: 0 | T36: 0 | U36: 0 | V36: 1.29 | W36: 0 | X36: 0 | Y36: 0 | Z36: 0 | AA36: 0 | AB36: 0 | AC36: 0 | AD36: 0 | AE36: 0 | AF36: 190.1 | AG36: 13.67 | AH36: 0 | AI36: 0 | AJ36: 44.04 | AK36: 0 | AL36: 2.39 | AM36: 0 | AN36: 0 | AO36: 0 | AP36: 0 | AQ36: 0 | AR36: 0 | AS36: 145.68 | AT36: 0 | AU36: 0 | AV36: 0 | AW36: 3.49 | AX36: 0 | AY36: 0 | AZ36: 0 | BA36: 3.09 | BB36: 0 | BC36: 0 | BD36: 0 | BE36: 0 | BF36: 0 | BG36: 0 | BH36: 0 | BI36: 0 | BJ36: 0 | BK36: 0 | BL36: 0 | BM36: 0 | BN36: 5.38 | BO36: 5.49 | BP36: 0 | BQ36: 0 | BR36: 0 | BS36: 0 | BT36: 0 | BU36: 0 | BV36: 0 | BW36: 0 | BX36: 0 | BY36: 0 | BZ36: 0 | CA36: 0 | CB36: 1.37 | CC36: 0 | CD36: 0 | CE36: 0 | CF36: 0 | CG36: 0 | CH36: 38.76 | CI36: 0 | CJ36: 0 | CK36: 2.95 | CL36: 0 | CM36: 0 | CN36: 0 | CO36: 0 | CP36: 0 | CQ36: 0 | CR36: 0 | CS36: 0 | CT36: 0 | CU36: 0 | CV36: 0 | CW36: 0 | CX36: 0 | CY36: 0 | CZ36: 0 | DA36: 0 | DB36: 0 | DC36: 0 | DD36: 0 | DE36: 0 | DF36: 0 | DG36: 0 | DH36: 0 | DI36: 0 | DJ36: 0 | DK36: 0 | DL36: 1.49 | DM36: 0 | DN36: 0 | DO36: 0 | DP36: 19.32 | DQ36: 0 | DR36: 0 | DS36: 0 | DT36: 0 | DU36: 0 | DV36: 0 | DW36: 0 | DX36: 0 | DY36: 0 | DZ36: 0 | EA36: 0 | EB36: 0 | EC36: 0 | ED36: 0 | EE36: 441.06 | EF36: 0 | EG36: 606.04 | EH36: 36.66 | EI36: 26.45 | EJ36: 5.08 | EK36: 28.32 | EL36: 0 | EM36: 0 | EN36: 0 | EO36: 0 | EP36: 57.84 | EQ36: 0 | ER36: 0 | ES36: 0 | ET36: 0 | EU36: 0 | EV36: 0 | EW36: 0 | EX36: 0 | EY36: 94.66 | EZ36: 0 | FA36: 22.77 | FB36: 0 | FC36: 0 | FD36: 0 | FE36: 0 | FF36: 0 | FG36: 23.68 | FH36: 0 | FI36: 0 | FJ36: 0 | FK36: 0 | FL36: 0 | FM36: 0 | FN36: 0 | FO36: 0 | FP36: 0 | FQ36: 0 | FR36: 28.48 | FS36: 8.41 | FT36: 0 | FU36: 23.29 | FV36: 0 | FW36: 0 | FX36: 0 | FY36: 0 | FZ36: 0 | GA36: 0 | GB36: 2.48 | GC36: 0 | GD36: 3.36 | GE36: 46.11 | GF36: 78.12 | GG36: 0 | GH36: 0 | GI36: 0 | GJ36: 0 | GK36: 0 | GL36: 0 | GM36: 698.32 | GN36: 0 | GO36: 0 | GP36: 0 | GQ36: 172.1 | GR36: 0 | GS36: 22.85 | GT36: 0 | GU36: 0 | GV36: 0 | GW36: 0 | GX36: 0 | GY36: 5.48 | GZ36: 3.05 | HA36: 0 | HB36: 0 | HC36: 0 | HD36: 0 | HE36: 0 | HF36: 0 | HG36: 2.64 | HH36: 0 | HI36: 0 | HJ36: 0 | HK36: 0 | HL36: 0 | HM36: 36.47 | HN36: 2.3 | HO36: 0 | HP36: 0 | HQ36: 0 | HR36: 0 | HS36: 0 | HT36: 0 | HU36: 0 | HV36: 0 | HW36: 0 | HX36: 0 | HY36: 0 | HZ36: 0 | IA36: 0 | IB36: 0 | IC36: =(H36/$D36)*1000000 -> 0 | ID36: =(I36/$D36)*1000000 -> 0 | IE36: =(J36/$D36)*1000000 -> 0 | IF36: =(K36/$D36)*1000000 -> 0 | IG36: =(L36/$D36)*1000000 -> 0 | IH36: =(M36/$D36)*1000000 -> 0 | II36: =(N36/$D36)*1000000 -> 0 | IJ36: =(O36/$D36)*1000000 -> 0 | ... QW36: =(IB36/$D36)*1000000 -> 0
C37: 944 | D37: 26741632 | E37: 27975607 | F37: =100-(D37/E37)*100 -> 4.4108962 | G37: 3.6684004 | H37: 0 | I37: 0 | J37: 0 | K37: 0 | L37: 0 | M37: 0 | N37: 0 | O37: 0 | P37: 0 | Q37: 90 | R37: 10.46 | S37: 0 | T37: 9.82 | U37: 0 | V37: 4.49 | W37: 0 | X37: 0 | Y37: 0 | Z37: 0 | AA37: 0 | AB37: 0 | AC37: 0 | AD37: 0 | AE37: 99.13 | AF37: 759.97 | AG37: 0 | AH37: 0 | AI37: 0 | AJ37: 59.97 | AK37: 0 | AL37: 30.05 | AM37: 25.01 | AN37: 0 | AO37: 46.27 | AP37: 0 | AQ37: 0 | AR37: 3.14 | AS37: 689.91 | AT37: 0 | AU37: 0 | AV37: 34.16 | AW37: 5.67 | AX37: 0 | AY37: 0 | AZ37: 0 | BA37: 26.39 | BB37: 0 | BC37: 0 | BD37: 0 | BE37: 0 | BF37: 0 | BG37: 0 | BH37: 0 | BI37: 0 | BJ37: 0 | BK37: 0 | BL37: 0 | BM37: 0 | BN37: 0 | BO37: 0 | BP37: 0 | BQ37: 0 | BR37: 0 | BS37: 0 | BT37: 0 | BU37: 0 | BV37: 0 | BW37: 0 | BX37: 0 | BY37: 75.58 | BZ37: 0 | CA37: 7.27 | CB37: 29.05 | CC37: 0 | CD37: 0 | CE37: 0 | CF37: 0 | CG37: 0 | CH37: 0 | CI37: 0 | CJ37: 0 | CK37: 0 | CL37: 0 | CM37: 0 | CN37: 0 | CO37: 107.29 | CP37: 0 | CQ37: 0 | CR37: 0 | CS37: 0 | CT37: 0 | CU37: 1.53 | CV37: 0 | CW37: 0 | CX37: 0 | CY37: 0 | CZ37: 0 | DA37: 0 | DB37: 0 | DC37: 0 | DD37: 10.68 | DE37: 0 | DF37: 15.3 | DG37: 2.48 | DH37: 0 | DI37: 0 | DJ37: 0 | DK37: 0 | DL37: 5.68 | DM37: 0 | DN37: 0 | DO37: 0 | DP37: 154.24 | DQ37: 0 | DR37: 0 | DS37: 0 | DT37: 0 | DU37: 0 | DV37: 0 | DW37: 0 | DX37: 0 | DY37: 0 | DZ37: 0 | EA37: 0 | EB37: 0 | EC37: 0 | ED37: 0 | EE37: 1017.81 | EF37: 0 | EG37: 150.21 | EH37: 117.01 | EI37: 163.47 | EJ37: 0 | EK37: 0 | EL37: 0 | EM37: 0 | EN37: 0 | EO37: 0 | EP37: 361.7 | EQ37: 0 | ER37: 0 | ES37: 0 | ET37: 0 | EU37: 0 | EV37: 0 | EW37: 0 | EX37: 0 | EY37: 215.61 | EZ37: 0 | FA37: 266.8 | FB37: 2.37 | FC37: 4.74 | FD37: 0 | FE37: 0 | FF37: 0 | FG37: 258.29 | FH37: 0 | FI37: 0 | FJ37: 0 | FK37: 11.63 | FL37: 0 | FM37: 0 | FN37: 0 | FO37: 0 | FP37: 0 | FQ37: 0 | FR37: 359.44 | FS37: 1.94 | FT37: 0 | FU37: 267.16 | FV37: 0 | FW37: 29.2 | FX37: 0 | FY37: 0 | FZ37: 0 | GA37: 0 | GB37: 5.82 | GC37: 2.31 | GD37: 80.96 | GE37: 0 | GF37: 622.05 | GG37: 98.83 | GH37: 0 | GI37: 0 | GJ37: 0 | GK37: 0 | GL37: 0 | GM37: 1570.87 | GN37: 0 | GO37: 0 | GP37: 3.8 | GQ37: 1136.73 | GR37: 23.78 | GS37: 134.22 | GT37: 0 | GU37: 0 | GV37: 0 | GW37: 0 | GX37: 0 | GY37: 1.78 | GZ37: 0 | HA37: 0 | HB37: 0 | HC37: 5.13 | HD37: 0 | HE37: 0 | HF37: 39.6 | HG37: 0 | HH37: 0 | HI37: 46.1 | HJ37: 0 | HK37: 0 | HL37: 66.49 | HM37: 409.74 | HN37: 6.81 | HO37: 0 | HP37: 0 | HQ37: 0 | HR37: 0 | HS37: 0 | HT37: 0 | HU37: 0 | HV37: 0 | HW37: 0 | HX37: 0 | HY37: 0 | HZ37: 0 | IA37: 0 | IB37: 0 | IC37: =(H37/$D37)*1000000 -> 0 | ID37: =(I37/$D37)*1000000 -> 0 | IE37: =(J37/$D37)*1000000 -> 0 | IF37: =(K37/$D37)*1000000 -> 0 | IG37: =(L37/$D37)*1000000 -> 0 | IH37: =(M37/$D37)*1000000 -> 0 | II37: =(N37/$D37)*1000000 -> 0 | IJ37: =(O37/$D37)*1000000 -> 0 | ... QW37: =(IB37/$D37)*1000000 -> 0
C38: 962 | D38: 26857238 | E38: 27778458 | F38: =100-(D38/E38)*100 -> 3.3163108 | G38: 3.6321311 | H38: 0 | I38: 0 | J38: 0 | K38: 0 | L38: 0 | M38: 0 | N38: 0 | O38: 0 | P38: 0 | Q38: 15.64 | R38: 6.55 | S38: 0 | T38: 4.08 | U38: 0 | V38: 2.86 | W38: 0 | X38: 0 | Y38: 0 | Z38: 0 | AA38: 0 | AB38: 0 | AC38: 0 | AD38: 38.27 | AE38: 0 | AF38: 642.06 | AG38: 0 | AH38: 0 | AI38: 0 | AJ38: 0 | AK38: 0 | AL38: 8.7 | AM38: 0 | AN38: 0 | AO38: 18.14 | AP38: 10.65 | AQ38: 0 | AR38: 0 | AS38: 72.58 | AT38: 0 | AU38: 0 | AV38: 22.67 | AW38: 0 | AX38: 0 | AY38: 0 | AZ38: 0 | BA38: 12.13 | BB38: 0 | BC38: 0 | BD38: 0 | BE38: 0 | BF38: 0 | BG38: 0 | BH38: 0 | BI38: 0 | BJ38: 0 | BK38: 0 | BL38: 0 | BM38: 0 | BN38: 0 | BO38: 36.72 | BP38: 0 | BQ38: 0 | BR38: 0 | BS38: 0 | BT38: 0 | BU38: 0 | BV38: 0 | BW38: 0 | BX38: 9.22 | BY38: 0 | BZ38: 0 | CA38: 0 | CB38: 19.98 | CC38: 0 | CD38: 0 | CE38: 0 | CF38: 0 | CG38: 0 | CH38: 0 | CI38: 0 | CJ38: 0 | CK38: 19.43 | CL38: 0 | CM38: 444.82 | CN38: 0 | CO38: 0 | CP38: 0 | CQ38: 0 | CR38: 0 | CS38: 0 | CT38: 0 | CU38: 3.04 | CV38: 0 | CW38: 0 | CX38: 0 | CY38: 0 | CZ38: 0 | DA38: 0 | DB38: 0 | DC38: 0 | DD38: 18.68 | DE38: 0 | DF38: 0 | DG38: 0 | DH38: 0 | DI38: 0 | DJ38: 0 | DK38: 0 | DL38: 3.85 | DM38: 0 | DN38: 0 | DO38: 0 | DP38: 0 | DQ38: 0 | DR38: 0 | DS38: 0 | DT38: 0 | DU38: 0 | DV38: 0 | DW38: 0 | DX38: 0 | DY38: 0 | DZ38: 0 | EA38: 0 | EB38: 0 | EC38: 0 | ED38: 0 | EE38: 1032.71 | EF38: 0 | EG38: 617.93 | EH38: 169.55 | EI38: 3.58 | EJ38: 0 | EK38: 0 | EL38: 0 | EM38: 0 | EN38: 24.97 | EO38: 3.22 | EP38: 1187.91 | EQ38: 0 | ER38: 0 | ES38: 0 | ET38: 0 | EU38: 0 | EV38: 0 | EW38: 2.01 | EX38: 0 | EY38: 250.72 | EZ38: 0 | FA38: 9.05 | FB38: 9.98 | FC38: 0 | FD38: 0 | FE38: 0 | FF38: 0 | FG38: 15.5 | FH38: 0 | FI38: 0 | FJ38: 0 | FK38: 0 | FL38: 0 | FM38: 0 | FN38: 0 | FO38: 0 | FP38: 0 | FQ38: 0 | FR38: 55.93 | FS38: 2.2 | FT38: 0 | FU38: 25.96 | FV38: 12.27 | FW38: 4.54 | FX38: 0 | FY38: 0 | FZ38: 0 | GA38: 0 | GB38: 0 | GC38: 0 | GD38: 1289.98 | GE38: 131.74 | GF38: 176.83 | GG38: 0 | GH38: 0 | GI38: 0 | GJ38: 0 | GK38: 0 | GL38: 0 | GM38: 2549.4 | GN38: 0 | GO38: 0 | GP38: 0 | GQ38: 95.5 | GR38: 0 | GS38: 341.8 | GT38: 0 | GU38: 0 | GV38: 0 | GW38: 0 | GX38: 0 | GY38: 0 | GZ38: 0 | HA38: 0 | HB38: 0 | HC38: 0 | HD38: 0 | HE38: 0 | HF38: 33.57 | HG38: 0 | HH38: 0 | HI38: 2.48 | HJ38: 0 | HK38: 0 | HL38: 4.17 | HM38: 15.19 | HN38: 7.58 | HO38: 0 | HP38: 0 | HQ38: 0 | HR38: 0 | HS38: 0 | HT38: 0 | HU38: 0 | HV38: 0 | HW38: 0 | HX38: 0 | HY38: 0 | HZ38: 0 | IA38: 0 | IB38: 0 | IC38: =(H38/$D38)*1000000 -> 0 | ID38: =(I38/$D38)*1000000 -> 0 | IE38: =(J38/$D38)*1000000 -> 0 | IF38: =(K38/$D38)*1000000 -> 0 | IG38: =(L38/$D38)*1000000 -> 0 | IH38: =(M38/$D38)*1000000 -> 0 | II38: =(N38/$D38)*1000000 -> 0 | IJ38: =(O38/$D38)*1000000 -> 0 | ... QW38: =(IB38/$D38)*1000000 -> 0
B39: G4 | C39: 779 | D39: 18009888 | E39: 28791091 | F39: =100-(D39/E39)*100 -> 37.446316 | G39: 3.6736907 | H39: 0 | I39: 0 | J39: 0 | K39: 0 | L39: 0 | M39: 0 | N39: 0 | O39: 0 | P39: 0 | Q39: 15.89 | R39: 0 | S39: 0 | T39: 4.48 | U39: 0 | V39: 5.41 | W39: 0 | X39: 0 | Y39: 0 | Z39: 0 | AA39: 0 | AB39: 0 | AC39: 0 | AD39: 10.97 | AE39: 15.11 | AF39: 541.88 | AG39: 15.98 | AH39: 0 | AI39: 0 | AJ39: 5.35 | AK39: 0 | AL39: 21.01 | AM39: 9.72 | AN39: 0 | AO39: 4.07 | AP39: 211.84 | AQ39: 0 | AR39: 305.53 | AS39: 369.29 | AT39: 0 | AU39: 0 | AV39: 4.9 | AW39: 0 | AX39: 0 | AY39: 0 | AZ39: 0 | BA39: 16.18 | BB39: 0 | BC39: 0 | BD39: 0 | BE39: 0 | BF39: 0 | BG39: 0 | BH39: 0 | BI39: 0 | BJ39: 0 | BK39: 0 | BL39: 0 | BM39: 0 | BN39: 0 | BO39: 0 | BP39: 0 | BQ39: 0 | BR39: 0 | BS39: 0 | BT39: 0 | BU39: 0 | BV39: 0 | BW39: 6.22 | BX39: 0 | BY39: 615.19 | BZ39: 0 | CA39: 0 | CB39: 18.77 | CC39: 0 | CD39: 0 | CE39: 0 | CF39: 0 | CG39: 0 | CH39: 0 | CI39: 0 | CJ39: 0 | CK39: 0 | CL39: 0 | CM39: 142.37 | CN39: 0 | CO39: 0 | CP39: 0 | CQ39: 3.73 | CR39: 0 | CS39: 0 | CT39: 0 | CU39: 1.37 | CV39: 0 | CW39: 0 | CX39: 0 | CY39: 0 | CZ39: 0 | DA39: 0 | DB39: 0 | DC39: 0 | DD39: 0 | DE39: 0 | DF39: 1.83 | DG39: 0 | DH39: 2.98 | DI39: 0 | DJ39: 0 | DK39: 0 | DL39: 3.73 | DM39: 2.29 | DN39: 0 | DO39: 0 | DP39: 0 | DQ39: 0 | DR39: 0 | DS39: 0 | DT39: 0 | DU39: 0 | DV39: 0 | DW39: 0 | DX39: 0 | DY39: 0 | DZ39: 0 | EA39: 0 | EB39: 0 | EC39: 0 | ED39: 0 | EE39: 729.25 | EF39: 0 | EG39: 193.38 | EH39: 102.66 | EI39: 31.68 | EJ39: 13.02 | EK39: 17.57 | EL39: 0 | EM39: 0 | EN39: 129.55 | EO39: 0 | EP39: 164.69 | EQ39: 0 | ER39: 0 | ES39: 30.03 | ET39: 0 | EU39: 0 | EV39: 0 | EW39: 0 | EX39: 0 | EY39: 144.24 | EZ39: 0 | FA39: 43.73 | FB39: 0 | FC39: 0 | FD39: 0 | FE39: 0 | FF39: 0 | FG39: 43.77 | FH39: 0 | FI39: 0 | FJ39: 0 | FK39: 0 | FL39: 0 | FM39: 0 | FN39: 0 | FO39: 0 | FP39: 0 | FQ39: 0 | FR39: 217.67 | FS39: 25.96 | FT39: 0 | FU39: 520.17 | FV39: 4.63 | FW39: 24.05 | FX39: 0 | FY39: 0 | FZ39: 0 | GA39: 0 | GB39: 11.4 | GC39: 7.73 | GD39: 13.43 | GE39: 66.89 | GF39: 307.38 | GG39: 100.61 | GH39: 0 | GI39: 0 | GJ39: 0 | GK39: 0 | GL39: 0 | GM39: 514.08 | GN39: 0 | GO39: 0 | GP39: 0 | GQ39: 632.12 | GR39: 24.18 | GS39: 43.72 | GT39: 0 | GU39: 0 | GV39: 0 | GW39: 0 | GX39: 31.97 | GY39: 17.53 | GZ39: 0 | HA39: 0 | HB39: 0 | HC39: 0 | HD39: 0 | HE39: 0 | HF39: 259.11 | HG39: 0 | HH39: 0 | HI39: 672.4 | HJ39: 0 | HK39: 0 | HL39: 28.22 | HM39: 61.15 | HN39: 9.3 | HO39: 0 | HP39: 0 | HQ39: 0 | HR39: 0 | HS39: 0 | HT39: 0 | HU39: 0 | HV39: 0 | HW39: 0 | HX39: 0 | HY39: 0 | HZ39: 0 | IA39: 0 | IB39: 0 | IC39: =(H39/$D39)*1000000 -> 0 | ID39: =(I39/$D39)*1000000 -> 0 | IE39: =(J39/$D39)*1000000 -> 0 | IF39: =(K39/$D39)*1000000 -> 0 | IG39: =(L39/$D39)*1000000 -> 0 | IH39: =(M39/$D39)*1000000 -> 0 | II39: =(N39/$D39)*1000000 -> 0 | IJ39: =(O39/$D39)*1000000 -> 0 | ... QW39: =(IB39/$D39)*1000000 -> 0
C40: 785 | D40: 26303613 | E40: 27995745 | F40: =100-(D40/E40)*100 -> 6.0442471 | G40: 3.6053617 | H40: 0 | I40: 0 | J40: 0 | K40: 0 | L40: 0 | M40: 0 | N40: 0 | O40: 0 | P40: 0 | Q40: 97.99 | R40: 0 | S40: 0 | T40: 0 | U40: 0 | V40: 4.05 | W40: 0 | X40: 3.26 | Y40: 0 | Z40: 0 | AA40: 0 | AB40: 0 | AC40: 0 | AD40: 0 | AE40: 23.11 | AF40: 825.5 | AG40: 44.3 | AH40: 0 | AI40: 0 | AJ40: 110.99 | AK40: 4.68 | AL40: 21.79 | AM40: 22.49 | AN40: 0 | AO40: 29.77 | AP40: 0 | AQ40: 0 | AR40: 0 | AS40: 299.89 | AT40: 0 | AU40: 0 | AV40: 41.59 | AW40: 6.96 | AX40: 0 | AY40: 0 | AZ40: 0 | BA40: 4.71 | BB40: 0 | BC40: 0 | BD40: 0 | BE40: 0 | BF40: 0 | BG40: 0 | BH40: 0 | BI40: 0 | BJ40: 0 | BK40: 0 | BL40: 0 | BM40: 0 | BN40: 0 | BO40: 0 | BP40: 0 | BQ40: 0 | BR40: 0 | BS40: 0 | BT40: 0 | BU40: 0 | BV40: 0 | BW40: 0 | BX40: 0 | BY40: 0 | BZ40: 0 | CA40: 0 | CB40: 62.72 | CC40: 0 | CD40: 0 | CE40: 108.24 | CF40: 0 | CG40: 0 | CH40: 0 | CI40: 0 | CJ40: 0 | CK40: 0 | CL40: 0 | CM40: 15.93 | CN40: 0 | CO40: 0 | CP40: 0 | CQ40: 0 | CR40: 0 | CS40: 0 | CT40: 0 | CU40: 2.55 | CV40: 0 | CW40: 0 | CX40: 0 | CY40: 0 | CZ40: 0 | DA40: 0 | DB40: 0 | DC40: 0 | DD40: 0 | DE40: 0 | DF40: 20.22 | DG40: 0 | DH40: 8 | DI40: 0 | DJ40: 0 | DK40: 0 | DL40: 8.93 | DM40: 0 | DN40: 0 | DO40: 0 | DP40: 36.47 | DQ40: 0 | DR40: 0 | DS40: 0 | DT40: 0 | DU40: 0 | DV40: 0 | DW40: 0 | DX40: 0 | DY40: 0 | DZ40: 0 | EA40: 0 | EB40: 0 | EC40: 0 | ED40: 0 | EE40: 895.25 | EF40: 0 | EG40: 319.11 | EH40: 225.66 | EI40: 68.6 | EJ40: 49.22 | EK40: 139.03 | EL40: 0 | EM40: 0 | EN40: 99.54 | EO40: 3.82 | EP40: 427.79 | EQ40: 0 | ER40: 0 | ES40: 105.86 | ET40: 6.46 | EU40: 0 | EV40: 0 | EW40: 6.75 | EX40: 0 | EY40: 165.11 | EZ40: 0 | FA40: 95.45 | FB40: 22.22 | FC40: 0 | FD40: 0 | FE40: 0 | FF40: 0 | FG40: 99.76 | FH40: 0 | FI40: 0 | FJ40: 0 | FK40: 6.53 | FL40: 0 | FM40: 0 | FN40: 0 | FO40: 0 | FP40: 0 | FQ40: 0 | FR40: 619.94 | FS40: 62.87 | FT40: 0 | FU40: 101.14 | FV40: 0 | FW40: 0 | FX40: 0 | FY40: 0 | FZ40: 0 | GA40: 0 | GB40: 31.88 | GC40: 157.87 | GD40: 148.78 | GE40: 39.05 | GF40: 178.84 | GG40: 52.01 | GH40: 0 | GI40: 0 | GJ40: 0 | GK40: 0 | GL40: 0 | GM40: 463.29 | GN40: 0 | GO40: 0 | GP40: 0 | GQ40: 937.19 | GR40: 178.7 | GS40: 211.61 | GT40: 0 | GU40: 0 | GV40: 0 | GW40: 6.2 | GX40: 142.32 | GY40: 101.59 | GZ40: 0 | HA40: 0 | HB40: 0 | HC40: 284.01 | HD40: 0 | HE40: 0 | HF40: 354.13 | HG40: 0 | HH40: 0 | HI40: 16.79 | HJ40: 0 | HK40: 0 | HL40: 6.92 | HM40: 107.65 | HN40: 5.1 | HO40: 0 | HP40: 0 | HQ40: 0 | HR40: 0 | HS40: 19.95 | HT40: 0 | HU40: 0 | HV40: 0 | HW40: 0 | HX40: 0 | HY40: 0 | HZ40: 0 | IA40: 0 | IB40: 0 | IC40: =(H40/$D40)*1000000 -> 0 | ID40: =(I40/$D40)*1000000 -> 0 | IE40: =(J40/$D40)*1000000 -> 0 | IF40: =(K40/$D40)*1000000 -> 0 | IG40: =(L40/$D40)*1000000 -> 0 | IH40: =(M40/$D40)*1000000 -> 0 | II40: =(N40/$D40)*1000000 -> 0 | IJ40: =(O40/$D40)*1000000 -> 0 | ... QW40: =(IB40/$D40)*1000000 -> 0
C41: 810 | D41: 25679250 | E41: 26162885 | F41: =100-(D41/E41)*100 -> 1.8485538 | G41: 3.9685001 | H41: 0 | I41: 0 | J41: 0 | K41: 0 | L41: 0 | M41: 0 | N41: 0 | O41: 0 | P41: 0 | Q41: 74.75 | R41: 9.08 | S41: 0 | T41: 2.63 | U41: 0 | V41: 0 | W41: 0 | X41: 0 | Y41: 0 | Z41: 0 | AA41: 0 | AB41: 0 | AC41: 0 | AD41: 0 | AE41: 0 | AF41: 321.6 | AG41: 59.25 | AH41: 0 | AI41: 0 | AJ41: 36.08 | AK41: 23.26 | AL41: 21.38 | AM41: 3.36 | AN41: 0 | AO41: 11.39 | AP41: 2.11 | AQ41: 0 | AR41: 0 | AS41: 320.38 | AT41: 0 | AU41: 0 | AV41: 9.97 | AW41: 2.32 | AX41: 0 | AY41: 0 | AZ41: 0 | BA41: 5.27 | BB41: 0 | BC41: 0 | BD41: 0 | BE41: 0 | BF41: 0 | BG41: 0 | BH41: 1.7 | BI41: 0 | BJ41: 0 | BK41: 0 | BL41: 0 | BM41: 0 | BN41: 0 | BO41: 0 | BP41: 0 | BQ41: 0 | BR41: 0 | BS41: 0 | BT41: 0 | BU41: 0 | BV41: 0 | BW41: 0 | BX41: 0 | BY41: 0 | BZ41: 0 | CA41: 0 | CB41: 38.44 | CC41: 0 | CD41: 0 | CE41: 0 | CF41: 0 | CG41: 0 | CH41: 9.41 | CI41: 0 | CJ41: 0 | CK41: 0 | CL41: 0 | CM41: 19.64 | CN41: 0 | CO41: 0 | CP41: 0 | CQ41: 0 | CR41: 0 | CS41: 0 | CT41: 0 | CU41: 1.97 | CV41: 0 | CW41: 0 | CX41: 0 | CY41: 0 | CZ41: 0 | DA41: 0 | DB41: 0 | DC41: 0 | DD41: 0 | DE41: 0 | DF41: 6.73 | DG41: 0 | DH41: 0 | DI41: 0 | DJ41: 0 | DK41: 0 | DL41: 9.66 | DM41: 0 | DN41: 0 | DO41: 0 | DP41: 0 | DQ41: 0 | DR41: 0 | DS41: 0 | DT41: 0 | DU41: 0 | DV41: 0 | DW41: 0 | DX41: 0 | DY41: 0 | DZ41: 0 | EA41: 0 | EB41: 0 | EC41: 0 | ED41: 0 | EE41: 159.3 | EF41: 0 | EG41: 2440.67 | EH41: 167.98 | EI41: 7.5 | EJ41: 0 | EK41: 0 | EL41: 0 | EM41: 0 | EN41: 0 | EO41: 0 | EP41: 130.62 | EQ41: 0 | ER41: 0 | ES41: 0 | ET41: 0 | EU41: 0 | EV41: 0 | EW41: 0 | EX41: 0 | EY41: 118.93 | EZ41: 0 | FA41: 36.63 | FB41: 6.38 | FC41: 0 | FD41: 0 | FE41: 0 | FF41: 0 | FG41: 43.49 | FH41: 0 | FI41: 0 | FJ41: 0 | FK41: 7.12 | FL41: 0 | FM41: 0 | FN41: 0 | FO41: 0 | FP41: 0 | FQ41: 0 | FR41: 220.82 | FS41: 87.78 | FT41: 0 | FU41: 18.36 | FV41: 3.96 | FW41: 0 | FX41: 0 | FY41: 0 | FZ41: 0 | GA41: 0 | GB41: 0 | GC41: 4.85 | GD41: 0 | GE41: 60.35 | GF41: 0 | GG41: 0 | GH41: 0 | GI41: 0 | GJ41: 0 | GK41: 0 | GL41: 0 | GM41: 2390.86 | GN41: 0 | GO41: 0 | GP41: 0 | GQ41: 424.36 | GR41: 0 | GS41: 1255.01 | GT41: 0 | GU41: 0 | GV41: 0 | GW41: 0 | GX41: 0 | GY41: 0 | GZ41: 0 | HA41: 0 | HB41: 0 | HC41: 0 | HD41: 0 | HE41: 0 | HF41: 15.32 | HG41: 0 | HH41: 0 | HI41: 16.66 | HJ41: 0 | HK41: 0 | HL41: 0 | HM41: 30.66 | HN41: 0 | HO41: 0 | HP41: 0 | HQ41: 0 | HR41: 0 | HS41: 0 | HT41: 0 | HU41: 0 | HV41: 0 | HW41: 0 | HX41: 0 | HY41: 0 | HZ41: 0 | IA41: 0 | IB41: 0 | IC41: =(H41/$D41)*1000000 -> 0 | ID41: =(I41/$D41)*1000000 -> 0 | IE41: =(J41/$D41)*1000000 -> 0 | IF41: =(K41/$D41)*1000000 -> 0 | IG41: =(L41/$D41)*1000000 -> 0 | IH41: =(M41/$D41)*1000000 -> 0 | II41: =(N41/$D41)*1000000 -> 0 | IJ41: =(O41/$D41)*1000000 -> 0 | ... QW41: =(IB41/$D41)*1000000 -> 0
C42: 822 | D42: 12431149 | E42: 21862239 | F42: =100-(D42/E42)*100 -> 43.13872 | G42: 3.4933079 | H42: 0 | I42: 0 | J42: 0 | K42: 0 | L42: 0 | M42: 0 | N42: 0 | O42: 0 | P42: 0 | Q42: 27.87 | R42: 12.54 | S42: 0 | T42: 5.66 | U42: 0 | V42: 5.42 | W42: 0 | X42: 0 | Y42: 0 | Z42: 0 | AA42: 0 | AB42: 0 | AC42: 0 | AD42: 3.58 | AE42: 0 | AF42: 299 | AG42: 16.36 | AH42: 0 | AI42: 0 | AJ42: 14.47 | AK42: 0 | AL42: 5.74 | AM42: 0 | AN42: 0 | AO42: 6.64 | AP42: 2.49 | AQ42: 0 | AR42: 0 | AS42: 274.11 | AT42: 0 | AU42: 0 | AV42: 7.3 | AW42: 13.39 | AX42: 0 | AY42: 0 | AZ42: 0 | BA42: 2.47 | BB42: 0 | BC42: 0 | BD42: 0 | BE42: 0 | BF42: 0 | BG42: 0 | BH42: 0 | BI42: 0 | BJ42: 0 | BK42: 0 | BL42: 0 | BM42: 0 | BN42: 0 | BO42: 0 | BP42: 8.15 | BQ42: 0 | BR42: 0 | BS42: 0 | BT42: 0 | BU42: 0 | BV42: 0 | BW42: 0 | BX42: 2.64 | BY42: 0 | BZ42: 0 | CA42: 0 | CB42: 41.72 | CC42: 0 | CD42: 0 | CE42: 0 | CF42: 0 | CG42: 0 | CH42: 13.58 | CI42: 0 | CJ42: 0 | CK42: 0 | CL42: 0 | CM42: 0 | CN42: 0 | CO42: 56.33 | CP42: 0 | CQ42: 0 | CR42: 0 | CS42: 0 | CT42: 0 | CU42: 0 | CV42: 0 | CW42: 0 | CX42: 0 | CY42: 0 | CZ42: 0 | DA42: 0 | DB42: 0 | DC42: 0 | DD42: 0 | DE42: 0 | DF42: 6.99 | DG42: 0 | DH42: 0 | DI42: 0 | DJ42: 0 | DK42: 0 | DL42: 8.75 | DM42: 0 | DN42: 0 | DO42: 0 | DP42: 0 | DQ42: 0 | DR42: 0 | DS42: 0 | DT42: 0 | DU42: 0 | DV42: 0 | DW42: 0 | DX42: 0 | DY42: 0 | DZ42: 0 | EA42: 0 | EB42: 0 | EC42: 0 | ED42: 0 | EE42: 108.34 | EF42: 0 | EG42: 197.13 | EH42: 50.74 | EI42: 0 | EJ42: 10.93 | EK42: 5.29 | EL42: 0 | EM42: 0 | EN42: 2.63 | EO42: 0 | EP42: 149.92 | EQ42: 6.02 | ER42: 0 | ES42: 23.71 | ET42: 0 | EU42: 0 | EV42: 0 | EW42: 0 | EX42: 0 | EY42: 106.86 | EZ42: 0 | FA42: 19.96 | FB42: 11.62 | FC42: 0 | FD42: 0 | FE42: 0 | FF42: 0 | FG42: 22.09 | FH42: 0 | FI42: 0 | FJ42: 0 | FK42: 0 | FL42: 0 | FM42: 0 | FN42: 0 | FO42: 0 | FP42: 0 | FQ42: 0 | FR42: 162 | FS42: 25.98 | FT42: 0 | FU42: 13.38 | FV42: 2.12 | FW42: 14.03 | FX42: 0 | FY42: 0 | FZ42: 0 | GA42: 0 | GB42: 3.21 | GC42: 5.9 | GD42: 50.83 | GE42: 21.87 | GF42: 0 | GG42: 47.52 | GH42: 0 | GI42: 0 | GJ42: 0 | GK42: 0 | GL42: 0 | GM42: 452.02 | GN42: 0 | GO42: 0 | GP42: 0 | GQ42: 313.67 | GR42: 29.59 | GS42: 91.28 | GT42: 0 | GU42: 0 | GV42: 0 | GW42: 0 | GX42: 31.62 | GY42: 13.54 | GZ42: 0 | HA42: 0 | HB42: 0 | HC42: 0 | HD42: 0 | HE42: 72.05 | HF42: 0 | HG42: 0 | HH42: 0 | HI42: 19.93 | HJ42: 0 | HK42: 0 | HL42: 18.13 | HM42: 12.09 | HN42: 3.85 | HO42: 0 | HP42: 0 | HQ42: 0 | HR42: 2.2 | HS42: 0 | HT42: 0 | HU42: 0 | HV42: 0 | HW42: 0 | HX42: 0 | HY42: 0 | HZ42: 0 | IA42: 0 | IB42: 0 | IC42: =(H42/$D42)*1000000 -> 0 | ID42: =(I42/$D42)*1000000 -> 0 | IE42: =(J42/$D42)*1000000 -> 0 | IF42: =(K42/$D42)*1000000 -> 0 | IG42: =(L42/$D42)*1000000 -> 0 | IH42: =(M42/$D42)*1000000 -> 0 | II42: =(N42/$D42)*1000000 -> 0 | IJ42: =(O42/$D42)*1000000 -> 0 | ... QW42: =(IB42/$D42)*1000000 -> 0
C43: 840 | D43: 12526441 | E43: 23693245 | F43: =100-(D43/E43)*100 -> 47.13075 | G43: 3.9283956 | H43: 0 | I43: 0 | J43: 6.23 | K43: 0 | L43: 0 | M43: 0 | N43: 0 | O43: 0 | P43: 0 | Q43: 14.52 | R43: 0 | S43: 0 | T43: 0 | U43: 3.03 | V43: 9.15 | W43: 0 | X43: 0 | Y43: 0 | Z43: 0 | AA43: 0 | AB43: 0 | AC43: 0 | AD43: 0 | AE43: 11.83 | AF43: 273.67 | AG43: 0 | AH43: 0 | AI43: 0 | AJ43: 9.71 | AK43: 0 | AL43: 11.05 | AM43: 0 | AN43: 0 | AO43: 6.54 | AP43: 8.81 | AQ43: 0 | AR43: 0 | AS43: 283.07 | AT43: 0 | AU43: 5.63 | AV43: 2.28 | AW43: 0 | AX43: 0 | AY43: 0 | AZ43: 0 | BA43: 13.65 | BB43: 0 | BC43: 0 | BD43: 0 | BE43: 0 | BF43: 0 | BG43: 0 | BH43: 0 | BI43: 0 | BJ43: 0 | BK43: 0 | BL43: 0 | BM43: 0 | BN43: 0 | BO43: 7.18 | BP43: 0 | BQ43: 0 | BR43: 0 | BS43: 0 | BT43: 0 | BU43: 0 | BV43: 0 | BW43: 0 | BX43: 3.9 | BY43: 0 | BZ43: 0 | CA43: 0 | CB43: 25.96 | CC43: 0 | CD43: 0 | CE43: 0 | CF43: 0 | CG43: 0 | CH43: 0 | CI43: 13.06 | CJ43: 0 | CK43: 21.16 | CL43: 0 | CM43: 0 | CN43: 0 | CO43: 0 | CP43: 0 | CQ43: 0 | CR43: 0 | CS43: 0 | CT43: 0 | CU43: 6.63 | CV43: 0 | CW43: 0 | CX43: 0 | CY43: 0 | CZ43: 0 | DA43: 0 | DB43: 0 | DC43: 0 | DD43: 32.54 | DE43: 0 | DF43: 3.57 | DG43: 0 | DH43: 0 | DI43: 0 | DJ43: 0 | DK43: 0 | DL43: 2.15 | DM43: 0 | DN43: 0 | DO43: 0 | DP43: 0 | DQ43: 0 | DR43: 0 | DS43: 0 | DT43: 0 | DU43: 0 | DV43: 0 | DW43: 0 | DX43: 0 | DY43: 0 | DZ43: 0 | EA43: 0 | EB43: 0 | EC43: 0 | ED43: 0 | EE43: 311.08 | EF43: 0 | EG43: 63.1 | EH43: 204.14 | EI43: 0 | EJ43: 0 | EK43: 0 | EL43: 0 | EM43: 0 | EN43: 0 | EO43: 0 | EP43: 163.57 | EQ43: 4.93 | ER43: 0 | ES43: 0 | ET43: 0 | EU43: 0 | EV43: 0 | EW43: 0 | EX43: 0 | EY43: 188.03 | EZ43: 0 | FA43: 18.06 | FB43: 0 | FC43: 0 | FD43: 0 | FE43: 0 | FF43: 0 | FG43: 13.52 | FH43: 0 | FI43: 0 | FJ43: 0 | FK43: 0 | FL43: 0 | FM43: 0 | FN43: 0 | FO43: 0 | FP43: 0 | FQ43: 0 | FR43: 75.97 | FS43: 0 | FT43: 0 | FU43: 13.92 | FV43: 1.55 | FW43: 0 | FX43: 0 | FY43: 0 | FZ43: 0 | GA43: 0 | GB43: 1.01 | GC43: 0 | GD43: 50.08 | GE43: 0 | GF43: 185.49 | GG43: 0 | GH43: 0 | GI43: 0 | GJ43: 0 | GK43: 0 | GL43: 0 | GM43: 705.97 | GN43: 0 | GO43: 0 | GP43: 0 | GQ43: 323.85 | GR43: 13.67 | GS43: 36.62 | GT43: 0 | GU43: 0 | GV43: 0 | GW43: 0 | GX43: 0 | GY43: 1.73 | GZ43: 0 | HA43: 0 | HB43: 0 | HC43: 0 | HD43: 0 | HE43: 0 | HF43: 17.01 | HG43: 0 | HH43: 0 | HI43: 3.02 | HJ43: 0 | HK43: 0 | HL43: 5.4 | HM43: 8.4 | HN43: 0 | HO43: 0 | HP43: 0 | HQ43: 0 | HR43: 0 | HS43: 0 | HT43: 0 | HU43: 0 | HV43: 0 | HW43: 0 | HX43: 0 | HY43: 0 | HZ43: 0 | IA43: 0 | IB43: 0 | IC43: =(H43/$D43)*1000000 -> 0 | ID43: =(I43/$D43)*1000000 -> 0 | IE43: =(J43/$D43)*1000000 -> 0.49734797 | IF43: =(K43/$D43)*1000000 -> 0 | IG43: =(L43/$D43)*1000000 -> 0 | IH43: =(M43/$D43)*1000000 -> 0 | II43: =(N43/$D43)*1000000 -> 0 | IJ43: =(O43/$D43)*1000000 -> 0 | ... QW43: =(IB43/$D43)*1000000 -> 0
C44: 858 | D44: 27639205 | E44: 28133870 | F44: =100-(D44/E44)*100 -> 1.7582544 | G44: 3.5175892 | H44: 0 | I44: 0 | J44: 0 | K44: 0 | L44: 0 | M44: 0 | N44: 0 | O44: 0 | P44: 0 | Q44: 41.24 | R44: 17.65 | S44: 0 | T44: 24.22 | U44: 0 | V44: 0 | W44: 0 | X44: 0 | Y44: 0 | Z44: 0 | AA44: 0 | AB44: 0 | AC44: 0 | AD44: 0 | AE44: 8.45 | AF44: 335.35 | AG44: 5.6 | AH44: 0 | AI44: 0 | AJ44: 22 | AK44: 0 | AL44: 282.46 | AM44: 3.87 | AN44: 0 | AO44: 21.73 | AP44: 17.74 | AQ44: 0 | AR44: 0 | AS44: 487.39 | AT44: 0 | AU44: 0 | AV44: 19.18 | AW44: 0 | AX44: 0 | AY44: 0 | AZ44: 0 | BA44: 22.89 | BB44: 0 | BC44: 0 | BD44: 0 | BE44: 0 | BF44: 0 | BG44: 0 | BH44: 0 | BI44: 0 | BJ44: 0 | BK44: 0 | BL44: 0 | BM44: 0 | BN44: 0 | BO44: 0 | BP44: 0 | BQ44: 0 | BR44: 0 | BS44: 0 | BT44: 0 | BU44: 0 | BV44: 0 | BW44: 0 | BX44: 2.72 | BY44: 0 | BZ44: 0 | CA44: 12.29 | CB44: 0 | CC44: 0 | CD44: 0 | CE44: 0 | CF44: 0 | CG44: 0 | CH44: 0 | CI44: 0 | CJ44: 0 | CK44: 0 | CL44: 0 | CM44: 119.25 | CN44: 0 | CO44: 0 | CP44: 0 | CQ44: 0 | CR44: 0 | CS44: 0 | CT44: 0 | CU44: 24.01 | CV44: 0 | CW44: 0 | CX44: 0 | CY44: 0 | CZ44: 0 | DA44: 0 | DB44: 0 | DC44: 0 | DD44: 23.69 | DE44: 0 | DF44: 3.62 | DG44: 0 | DH44: 0 | DI44: 0 | DJ44: 0 | DK44: 0 | DL44: 11.16 | DM44: 0 | DN44: 0 | DO44: 0 | DP44: 0 | DQ44: 0 | DR44: 0 | DS44: 0 | DT44: 0 | DU44: 0 | DV44: 0 | DW44: 0 | DX44: 0 | DY44: 0 | DZ44: 0 | EA44: 0 | EB44: 0 | EC44: 0 | ED44: 0 | EE44: 600.9 | EF44: 0 | EG44: 502.3 | EH44: 322.44 | EI44: 0 | EJ44: 5.08 | EK44: 0 | EL44: 0 | EM44: 0 | EN44: 31.26 | EO44: 0 | EP44: 576.77 | EQ44: 0 | ER44: 0 | ES44: 0 | ET44: 0 | EU44: 0 | EV44: 0 | EW44: 0 | EX44: 0 | EY44: 171.2 | EZ44: 0 | FA44: 6.25 | FB44: 0 | FC44: 0 | FD44: 0 | FE44: 0 | FF44: 0 | FG44: 6.2 | FH44: 0 | FI44: 0 | FJ44: 0 | FK44: 18.01 | FL44: 0 | FM44: 0 | FN44: 0 | FO44: 0 | FP44: 0 | FQ44: 0 | FR44: 396.59 | FS44: 15.22 | FT44: 0 | FU44: 1.8 | FV44: 0 | FW44: 4.48 | FX44: 0 | FY44: 0 | FZ44: 0 | GA44: 0 | GB44: 3.1 | GC44: 10.78 | GD44: 145.86 | GE44: 358.61 | GF44: 105.11 | GG44: 0 | GH44: 0 | GI44: 0 | GJ44: 0 | GK44: 0 | GL44: 0 | GM44: 1079.18 | GN44: 0 | GO44: 0 | GP44: 0 | GQ44: 554.73 | GR44: 125.55 | GS44: 16.07 | GT44: 0 | GU44: 0 | GV44: 0 | GW44: 0 | GX44: 0 | GY44: 0 | GZ44: 0 | HA44: 0 | HB44: 9.71 | HC44: 4.48 | HD44: 0 | HE44: 4.15 | HF44: 12.45 | HG44: 0 | HH44: 0 | HI44: 0 | HJ44: 0 | HK44: 0 | HL44: 33.66 | HM44: 32.55 | HN44: 2.85 | HO44: 0 | HP44: 0 | HQ44: 0 | HR44: 0 | HS44: 0 | HT44: 0 | HU44: 0 | HV44: 0 | HW44: 0 | HX44: 0 | HY44: 0 | HZ44: 0 | IA44: 0 | IB44: 0 | IC44: =(H44/$D44)*1000000 -> 0 | ID44: =(I44/$D44)*1000000 -> 0 | IE44: =(J44/$D44)*1000000 -> 0 | IF44: =(K44/$D44)*1000000 -> 0 | IG44: =(L44/$D44)*1000000 -> 0 | IH44: =(M44/$D44)*1000000 -> 0 | II44: =(N44/$D44)*1000000 -> 0 | IJ44: =(O44/$D44)*1000000 -> 0 | ... QW44: =(IB44/$D44)*1000000 -> 0
C45: 885 | D45: 23833341 | E45: 28898351 | F45: =100-(D45/E45)*100 -> 17.526986 | G45: 3.5299163 | H45: 0 | I45: 0 | J45: 0 | K45: 3.64 | L45: 0 | M45: 0 | N45: 0 | O45: 1.31 | P45: 14.34 | Q45: 981.96 | R45: 0 | S45: 10.48 | T45: 2.01 | U45: 0 | V45: 13.89 | W45: 0 | X45: 38.63 | Y45: 0 | Z45: 0 | AA45: 0 | AB45: 0 | AC45: 0 | AD45: 0 | AE45: 31.63 | AF45: 571.06 | AG45: 5.49 | AH45: 4.63 | AI45: 0 | AJ45: 963.77 | AK45: 8.51 | AL45: 26.08 | AM45: 4.8 | AN45: 0 | AO45: 13.63 | AP45: 0 | AQ45: 0 | AR45: 0 | AS45: 265.68 | AT45: 0 | AU45: 3.43 | AV45: 11.01 | AW45: 3.68 | AX45: 0 | AY45: 0 | AZ45: 0 | BA45: 3.36 | BB45: 0 | BC45: 0 | BD45: 0 | BE45: 0 | BF45: 0 | BG45: 0 | BH45: 0 | BI45: 0 | BJ45: 0 | BK45: 0 | BL45: 0 | BM45: 0 | BN45: 0 | BO45: 0 | BP45: 0 | BQ45: 0 | BR45: 0 | BS45: 0 | BT45: 0 | BU45: 0 | BV45: 0 | BW45: 0 | BX45: 3.99 | BY45: 0 | BZ45: 0 | CA45: 0 | CB45: 102.52 | CC45: 0 | CD45: 0 | CE45: 7.47 | CF45: 0 | CG45: 0 | CH45: 0 | CI45: 0 | CJ45: 138.95 | CK45: 0 | CL45: 0 | CM45: 22.56 | CN45: 0 | CO45: 0 | CP45: 0 | CQ45: 0 | CR45: 0 | CS45: 11.88 | CT45: 0 | CU45: 0 | CV45: 0 | CW45: 0 | CX45: 0 | CY45: 0 | CZ45: 0 | DA45: 0 | DB45: 0 | DC45: 0 | DD45: 0 | DE45: 0 | DF45: 8.03 | DG45: 0 | DH45: 18.79 | DI45: 0 | DJ45: 0 | DK45: 0 | DL45: 40.81 | DM45: 0 | DN45: 0 | DO45: 0 | DP45: 0 | DQ45: 0 | DR45: 0 | DS45: 2.03 | DT45: 0 | DU45: 0 | DV45: 0 | DW45: 3.8 | DX45: 0 | DY45: 0 | DZ45: 0 | EA45: 0 | EB45: 0 | EC45: 0 | ED45: 4.41 | EE45: 1469.82 | EF45: 0 | EG45: 295.94 | EH45: 49.21 | EI45: 44.04 | EJ45: 13.25 | EK45: 0 | EL45: 13.08 | EM45: 0 | EN45: 204.67 | EO45: 17.71 | EP45: 336.26 | EQ45: 2.79 | ER45: 0 | ES45: 4.41 | ET45: 8.06 | EU45: 0 | EV45: 0 | EW45: 17.25 | EX45: 0 | EY45: 44.44 | EZ45: 0 | FA45: 134.58 | FB45: 63.71 | FC45: 23.36 | FD45: 0 | FE45: 0 | FF45: 0 | FG45: 137.22 | FH45: 0 | FI45: 0 | FJ45: 0 | FK45: 8.92 | FL45: 0 | FM45: 0 | FN45: 0 | FO45: 0 | FP45: 8.16 | FQ45: 0 | FR45: 268.14 | FS45: 3.89 | FT45: 0 | FU45: 88.67 | FV45: 1.89 | FW45: 26.42 | FX45: 0 | FY45: 0 | FZ45: 0 | GA45: 0 | GB45: 81.07 | GC45: 121.12 | GD45: 154.9 | GE45: 0 | GF45: 428.2 | GG45: 0 | GH45: 0 | GI45: 0 | GJ45: 0 | GK45: 0 | GL45: 0 | GM45: 2047.33 | GN45: 0 | GO45: 0 | GP45: 3.19 | GQ45: 614.18 | GR45: 23.75 | GS45: 198.42 | GT45: 0 | GU45: 0 | GV45: 1.48 | GW45: 94.31 | GX45: 18.41 | GY45: 14.4 | GZ45: 1.8 | HA45: 0 | HB45: 0 | HC45: 917.7 | HD45: 0 | HE45: 0 | HF45: 19.47 | HG45: 0 | HH45: 0 | HI45: 1.78 | HJ45: 0 | HK45: 0 | HL45: 63.21 | HM45: 41.08 | HN45: 4.87 | HO45: 0 | HP45: 0 | HQ45: 85.78 | HR45: 0 | HS45: 5.18 | HT45: 0 | HU45: 0 | HV45: 0 | HW45: 0 | HX45: 0 | HY45: 0 | HZ45: 0 | IA45: 0 | IB45: 0 | IC45: =(H45/$D45)*1000000 -> 0 | ID45: =(I45/$D45)*1000000 -> 0 | IE45: =(J45/$D45)*1000000 -> 0 | IF45: =(K45/$D45)*1000000 -> 0.15272722 | IG45: =(L45/$D45)*1000000 -> 0 | IH45: =(M45/$D45)*1000000 -> 0 | II45: =(N45/$D45)*1000000 -> 0 | IJ45: =(O45/$D45)*1000000 -> 0.054965017 | ... QW45: =(IB45/$D45)*1000000 -> 0
C46: 897 | D46: 25224379 | E46: 28475296 | F46: =100-(D46/E46)*100 -> 11.416622 | G46: 3.5171851 | H46: 0 | I46: 0 | J46: 0 | K46: 0 | L46: 0 | M46: 0 | N46: 0 | O46: 0 | P46: 0 | Q46: 17.2 | R46: 0 | S46: 0 | T46: 0 | U46: 0 | V46: 0 | W46: 0 | X46: 0 | Y46: 0 | Z46: 0 | AA46: 0 | AB46: 0 | AC46: 0 | AD46: 6.62 | AE46: 0 | AF46: 1012.4 | AG46: 6.3 | AH46: 0 | AI46: 0 | AJ46: 10.84 | AK46: 0 | AL46: 76.2 | AM46: 0 | AN46: 0 | AO46: 1.31 | AP46: 0 | AQ46: 0 | AR46: 0 | AS46: 622.2 | AT46: 0 | AU46: 0 | AV46: 2.15 | AW46: 11.64 | AX46: 4.74 | AY46: 0 | AZ46: 0 | BA46: 22.73 | BB46: 0 | BC46: 0 | BD46: 0 | BE46: 0 | BF46: 0 | BG46: 0 | BH46: 0 | BI46: 0 | BJ46: 0 | BK46: 0 | BL46: 0 | BM46: 0 | BN46: 0 | BO46: 0 | BP46: 0 | BQ46: 0 | BR46: 0 | BS46: 0 | BT46: 4.67 | BU46: 0 | BV46: 0 | BW46: 0 | BX46: 0 | BY46: 0 | BZ46: 0 | CA46: 0 | CB46: 2.56 | CC46: 0 | CD46: 0 | CE46: 0 | CF46: 0 | CG46: 0 | CH46: 0 | CI46: 0 | CJ46: 0 | CK46: 40.16 | CL46: 0 | CM46: 0 | CN46: 0 | CO46: 0 | CP46: 0 | CQ46: 0 | CR46: 0 | CS46: 0 | CT46: 0 | CU46: 0 | CV46: 0 | CW46: 0 | CX46: 0 | CY46: 0 | CZ46: 0 | DA46: 0 | DB46: 0 | DC46: 0 | DD46: 0 | DE46: 0 | DF46: 6.83 | DG46: 0 | DH46: 7.13 | DI46: 0 | DJ46: 0 | DK46: 0 | DL46: 0 | DM46: 0 | DN46: 0 | DO46: 0 | DP46: 37.19 | DQ46: 0 | DR46: 0 | DS46: 0 | DT46: 0 | DU46: 0 | DV46: 0 | DW46: 0 | DX46: 0 | DY46: 0 | DZ46: 0 | EA46: 0 | EB46: 0 | EC46: 0 | ED46: 0 | EE46: 1629.53 | EF46: 0 | EG46: 42.26 | EH46: 286.35 | EI46: 39.32 | EJ46: 15.68 | EK46: 31.09 | EL46: 0 | EM46: 0 | EN46: 0 | EO46: 0 | EP46: 863.9 | EQ46: 0 | ER46: 0 | ES46: 18.55 | ET46: 0 | EU46: 0 | EV46: 0 | EW46: 0 | EX46: 0 | EY46: 69.17 | EZ46: 0 | FA46: 49.27 | FB46: 0 | FC46: 33.92 | FD46: 0 | FE46: 0 | FF46: 0 | FG46: 48.29 | FH46: 0 | FI46: 0 | FJ46: 0 | FK46: 0 | FL46: 0 | FM46: 0 | FN46: 0 | FO46: 0 | FP46: 0 | FQ46: 0 | FR46: 401.26 | FS46: 6.75 | FT46: 0 | FU46: 53.79 | FV46: 0 | FW46: 52.3 | FX46: 0 | FY46: 0 | FZ46: 0 | GA46: 0 | GB46: 5.96 | GC46: 9.45 | GD46: 105.32 | GE46: 94.79 | GF46: 636.59 | GG46: 87.18 | GH46: 0 | GI46: 0 | GJ46: 0 | GK46: 0 | GL46: 0 | GM46: 210.25 | GN46: 0 | GO46: 0 | GP46: 0 | GQ46: 1948.64 | GR46: 37.66 | GS46: 4.88 | GT46: 0 | GU46: 0 | GV46: 0 | GW46: 4.13 | GX46: 16.17 | GY46: 12.68 | GZ46: 0 | HA46: 0 | HB46: 0 | HC46: 0 | HD46: 0 | HE46: 0 | HF46: 0 | HG46: 2.65 | HH46: 0 | HI46: 0 | HJ46: 0 | HK46: 0 | HL46: 7.35 | HM46: 71.75 | HN46: 0 | HO46: 0 | HP46: 0 | HQ46: 0 | HR46: 0 | HS46: 0 | HT46: 0 | HU46: 0 | HV46: 0 | HW46: 0 | HX46: 0 | HY46: 0 | HZ46: 0 | IA46: 0 | IB46: 0 | IC46: =(H46/$D46)*1000000 -> 0 | ID46: =(I46/$D46)*1000000 -> 0 | IE46: =(J46/$D46)*1000000 -> 0 | IF46: =(K46/$D46)*1000000 -> 0 | IG46: =(L46/$D46)*1000000 -> 0 | IH46: =(M46/$D46)*1000000 -> 0 | II46: =(N46/$D46)*1000000 -> 0 | IJ46: =(O46/$D46)*1000000 -> 0 | ... QW46: =(IB46/$D46)*1000000 -> 0
C47: 957 | D47: 25340421 | E47: 27906667 | F47: =100-(D47/E47)*100 -> 9.1958169 | G47: 3.813515 | H47: 0 | I47: 0 | J47: 0 | K47: 6.76 | L47: 0 | M47: 0 | N47: 0 | O47: 0 | P47: 0 | Q47: 22.51 | R47: 0 | S47: 0 | T47: 15.13 | U47: 0 | V47: 0 | W47: 0 | X47: 0 | Y47: 0 | Z47: 0 | AA47: 0 | AB47: 0 | AC47: 0 | AD47: 380.21 | AE47: 23.69 | AF47: 241.78 | AG47: 0 | AH47: 0 | AI47: 0 | AJ47: 17.1 | AK47: 0 | AL47: 3.17 | AM47: 0 | AN47: 0 | AO47: 10.91 | AP47: 0 | AQ47: 0 | AR47: 0 | AS47: 233.58 | AT47: 0 | AU47: 5.38 | AV47: 7.79 | AW47: 0 | AX47: 0 | AY47: 0 | AZ47: 0 | BA47: 25.11 | BB47: 0 | BC47: 0 | BD47: 0 | BE47: 0 | BF47: 0 | BG47: 0 | BH47: 0 | BI47: 0 | BJ47: 0 | BK47: 0 | BL47: 0 | BM47: 304.04 | BN47: 0 | BO47: 0 | BP47: 0 | BQ47: 0 | BR47: 0 | BS47: 0 | BT47: 0 | BU47: 0 | BV47: 0 | BW47: 0 | BX47: 0 | BY47: 0 | BZ47: 0 | CA47: 8.48 | CB47: 24.82 | CC47: 0 | CD47: 0 | CE47: 0 | CF47: 0 | CG47: 0 | CH47: 0 | CI47: 0 | CJ47: 0 | CK47: 0 | CL47: 0 | CM47: 146.39 | CN47: 0 | CO47: 0 | CP47: 61.28 | CQ47: 0 | CR47: 0 | CS47: 0 | CT47: 0 | CU47: 13.49 | CV47: 0 | CW47: 0 | CX47: 0 | CY47: 0 | CZ47: 0 | DA47: 0 | DB47: 0 | DC47: 0 | DD47: 8.67 | DE47: 0 | DF47: 17.17 | DG47: 0 | DH47: 0 | DI47: 0 | DJ47: 0 | DK47: 0 | DL47: 1.67 | DM47: 0 | DN47: 0 | DO47: 0 | DP47: 8.43 | DQ47: 0 | DR47: 0 | DS47: 0 | DT47: 0 | DU47: 0 | DV47: 0 | DW47: 0 | DX47: 0 | DY47: 0 | DZ47: 0 | EA47: 0 | EB47: 0 | EC47: 0 | ED47: 0 | EE47: 798.92 | EF47: 0 | EG47: 359.95 | EH47: 94.95 | EI47: 19.51 | EJ47: 0 | EK47: 0 | EL47: 0 | EM47: 0 | EN47: 0 | EO47: 0 | EP47: 388.47 | EQ47: 0 | ER47: 0 | ES47: 0 | ET47: 0 | EU47: 0 | EV47: 0 | EW47: 0 | EX47: 0 | EY47: 110.38 | EZ47: 0 | FA47: 35.81 | FB47: 0 | FC47: 6.61 | FD47: 0 | FE47: 0 | FF47: 0 | FG47: 43.95 | FH47: 0 | FI47: 0 | FJ47: 0 | FK47: 0 | FL47: 0 | FM47: 0 | FN47: 0 | FO47: 0 | FP47: 0 | FQ47: 0 | FR47: 156.87 | FS47: 28.78 | FT47: 0 | FU47: 34.92 | FV47: 6 | FW47: 9.82 | FX47: 0 | FY47: 0 | FZ47: 0 | GA47: 0 | GB47: 0 | GC47: 0 | GD47: 647.11 | GE47: 0 | GF47: 0 | GG47: 0 | GH47: 0 | GI47: 0 | GJ47: 0 | GK47: 0 | GL47: 0 | GM47: 4663.41 | GN47: 0 | GO47: 0 | GP47: 0 | GQ47: 212.24 | GR47: 0 | GS47: 12.65 | GT47: 0 | GU47: 0 | GV47: 0 | GW47: 0 | GX47: 0 | GY47: 0 | GZ47: 0 | HA47: 0 | HB47: 0 | HC47: 0 | HD47: 0 | HE47: 0 | HF47: 6.65 | HG47: 0 | HH47: 0 | HI47: 0 | HJ47: 0 | HK47: 0 | HL47: 23.32 | HM47: 33.26 | HN47: 0 | HO47: 0 | HP47: 0 | HQ47: 0 | HR47: 0 | HS47: 0 | HT47: 0 | HU47: 0 | HV47: 0 | HW47: 0 | HX47: 0 | HY47: 0 | HZ47: 0 | IA47: 0 | IB47: 0 | IC47: =(H47/$D47)*1000000 -> 0 | ID47: =(I47/$D47)*1000000 -> 0 | IE47: =(J47/$D47)*1000000 -> 0 | IF47: =(K47/$D47)*1000000 -> 0.26676747 | IG47: =(L47/$D47)*1000000 -> 0 | IH47: =(M47/$D47)*1000000 -> 0 | II47: =(N47/$D47)*1000000 -> 0 | IJ47: =(O47/$D47)*1000000 -> 0 | ... QW47: =(IB47/$D47)*1000000 -> 0
C48: 963 | D48: 20121586 | E48: 25828089 | F48: =100-(D48/E48)*100 -> 22.094174 | G48: 3.8756671 | H48: 0 | I48: 0 | J48: 0 | K48: 0 | L48: 0 | M48: 0 | N48: 0 | O48: 0 | P48: 0 | Q48: 29.3 | R48: 8.9 | S48: 0 | T48: 10.12 | U48: 0 | V48: 0 | W48: 0 | X48: 0 | Y48: 0 | Z48: 0 | AA48: 0 | AB48: 0 | AC48: 0 | AD48: 2.24 | AE48: 43.41 | AF48: 638.9 | AG48: 67.39 | AH48: 0 | AI48: 0 | AJ48: 21.29 | AK48: 0 | AL48: 32.9 | AM48: 0 | AN48: 0 | AO48: 10.28 | AP48: 0 | AQ48: 0 | AR48: 0 | AS48: 603.77 | AT48: 0 | AU48: 0 | AV48: 14.66 | AW48: 1.75 | AX48: 0 | AY48: 0 | AZ48: 0 | BA48: 15.08 | BB48: 0 | BC48: 0 | BD48: 0 | BE48: 0 | BF48: 0 | BG48: 0 | BH48: 0 | BI48: 0 | BJ48: 0 | BK48: 0 | BL48: 0 | BM48: 10.38 | BN48: 8.81 | BO48: 0 | BP48: 0 | BQ48: 0 | BR48: 0 | BS48: 0 | BT48: 0 | BU48: 0 | BV48: 0 | BW48: 0 | BX48: 5.63 | BY48: 0 | BZ48: 0 | CA48: 0 | CB48: 14.41 | CC48: 0 | CD48: 0 | CE48: 0 | CF48: 0 | CG48: 0 | CH48: 0 | CI48: 0 | CJ48: 0 | CK48: 0 | CL48: 0 | CM48: 0 | CN48: 0 | CO48: 29.47 | CP48: 0 | CQ48: 0 | CR48: 0 | CS48: 8.03 | CT48: 0 | CU48: 0 | CV48: 0 | CW48: 0 | CX48: 0 | CY48: 0 | CZ48: 0 | DA48: 0 | DB48: 0 | DC48: 0 | DD48: 0 | DE48: 0 | DF48: 2.33 | DG48: 0 | DH48: 0 | DI48: 0 | DJ48: 0 | DK48: 0 | DL48: 4.59 | DM48: 0 | DN48: 0 | DO48: 0 | DP48: 104.43 | DQ48: 0 | DR48: 0 | DS48: 0 | DT48: 0 | DU48: 0 | DV48: 0 | DW48: 0 | DX48: 0 | DY48: 6.05 | DZ48: 0 | EA48: 0 | EB48: 0 | EC48: 0 | ED48: 0 | EE48: 107.52 | EF48: 0 | EG48: 770.82 | EH48: 271.21 | EI48: 171.23 | EJ48: 26.89 | EK48: 0 | EL48: 0 | EM48: 0 | EN48: 0 | EO48: 0 | EP48: 875.92 | EQ48: 0 | ER48: 0 | ES48: 0 | ET48: 6.87 | EU48: 0 | EV48: 0 | EW48: 0 | EX48: 0 | EY48: 421.66 | EZ48: 0 | FA48: 155.96 | FB48: 0 | FC48: 66.61 | FD48: 0 | FE48: 0 | FF48: 0 | FG48: 194.3 | FH48: 0 | FI48: 0 | FJ48: 0 | FK48: 32.59 | FL48: 0 | FM48: 0 | FN48: 0 | FO48: 0 | FP48: 0 | FQ48: 0 | FR48: 120.19 | FS48: 70.68 | FT48: 0 | FU48: 132.59 | FV48: 3.78 | FW48: 79.87 | FX48: 0 | FY48: 0 | FZ48: 0 | GA48: 0 | GB48: 0 | GC48: 12.27 | GD48: 13.07 | GE48: 54.68 | GF48: 59.24 | GG48: 69.38 | GH48: 0 | GI48: 0 | GJ48: 0 | GK48: 0 | GL48: 0 | GM48: 965.75 | GN48: 0 | GO48: 0 | GP48: 0 | GQ48: 542.96 | GR48: 59.31 | GS48: 209.62 | GT48: 0 | GU48: 0 | GV48: 0 | GW48: 0 | GX48: 27.74 | GY48: 25.5 | GZ48: 0 | HA48: 0 | HB48: 0 | HC48: 1.26 | HD48: 0 | HE48: 2.71 | HF48: 399.34 | HG48: 0 | HH48: 0 | HI48: 3.89 | HJ48: 0 | HK48: 0 | HL48: 34.3 | HM48: 163.84 | HN48: 16.69 | HO48: 0 | HP48: 0 | HQ48: 0 | HR48: 0 | HS48: 0 | HT48: 0 | HU48: 0 | HV48: 0 | HW48: 0 | HX48: 0 | HY48: 0 | HZ48: 0 | IA48: 0 | IB48: 0 | IC48: =(H48/$D48)*1000000 -> 0 | ID48: =(I48/$D48)*1000000 -> 0 | IE48: =(J48/$D48)*1000000 -> 0 | IF48: =(K48/$D48)*1000000 -> 0 | IG48: =(L48/$D48)*1000000 -> 0 | IH48: =(M48/$D48)*1000000 -> 0 | II48: =(N48/$D48)*1000000 -> 0 | IJ48: =(O48/$D48)*1000000 -> 0 | ... QW48: =(IB48/$D48)*1000000 -> 0
B49: G5 | C49: 798 | D49: 17255300 | E49: 27126977 | F49: =100-(D49/E49)*100 -> 36.390627 | G49: 3.8604986 | H49: 0 | I49: 0 | J49: 0 | K49: 0 | L49: 0 | M49: 0 | N49: 0 | O49: 0 | P49: 0 | Q49: 12.14 | R49: 134.05 | S49: 0 | T49: 0 | U49: 0 | V49: 4.44 | W49: 0 | X49: 0 | Y49: 0 | Z49: 4.14 | AA49: 0 | AB49: 0 | AC49: 0 | AD49: 0 | AE49: 24.87 | AF49: 99.72 | AG49: 8.7 | AH49: 2.18 | AI49: 0 | AJ49: 10.22 | AK49: 0 | AL49: 22.49 | AM49: 0 | AN49: 0 | AO49: 125.1 | AP49: 13.12 | AQ49: 0 | AR49: 0 | AS49: 100.8 | AT49: 0 | AU49: 0 | AV49: 140.81 | AW49: 0 | AX49: 0 | AY49: 0 | AZ49: 0 | BA49: 9.02 | BB49: 0 | BC49: 0 | BD49: 0 | BE49: 0 | BF49: 0 | BG49: 0 | BH49: 0 | BI49: 0 | BJ49: 0 | BK49: 7.45 | BL49: 0 | BM49: 0 | BN49: 0 | BO49: 0 | BP49: 0 | BQ49: 0 | BR49: 0 | BS49: 0 | BT49: 0 | BU49: 0 | BV49: 0 | BW49: 0 | BX49: 5.13 | BY49: 0 | BZ49: 0 | CA49: 0 | CB49: 194.45 | CC49: 0 | CD49: 0 | CE49: 0 | CF49: 0 | CG49: 0 | CH49: 0 | CI49: 0 | CJ49: 0 | CK49: 12.22 | CL49: 0 | CM49: 0 | CN49: 0 | CO49: 0 | CP49: 0 | CQ49: 0 | CR49: 0 | CS49: 43.65 | CT49: 0 | CU49: 33.29 | CV49: 0 | CW49: 0 | CX49: 0 | CY49: 0 | CZ49: 0 | DA49: 8.78 | DB49: 0 | DC49: 0 | DD49: 0 | DE49: 0 | DF49: 0 | DG49: 2.5 | DH49: 2.45 | DI49: 0 | DJ49: 0 | DK49: 0 | DL49: 124.61 | DM49: 0 | DN49: 7.44 | DO49: 0 | DP49: 10.58 | DQ49: 0 | DR49: 0 | DS49: 0 | DT49: 0 | DU49: 0 | DV49: 0 | DW49: 0 | DX49: 0 | DY49: 0 | DZ49: 0 | EA49: 3.3 | EB49: 0 | EC49: 0 | ED49: 1.84 | EE49: 542.27 | EF49: 0 | EG49: 19.36 | EH49: 429.33 | EI49: 0 | EJ49: 4.7 | EK49: 3.42 | EL49: 7.62 | EM49: 0 | EN49: 18.25 | EO49: 16.65 | EP49: 160.61 | EQ49: 2.7 | ER49: 8.53 | ES49: 14.52 | ET49: 53.9 | EU49: 0 | EV49: 0 | EW49: 16.55 | EX49: 0 | EY49: 26.61 | EZ49: 0 | FA49: 39.34 | FB49: 0 | FC49: 38.35 | FD49: 0 | FE49: 0 | FF49: 0 | FG49: 38.09 | FH49: 0 | FI49: 0 | FJ49: 0 | FK49: 8.16 | FL49: 0 | FM49: 0 | FN49: 0 | FO49: 0 | FP49: 0 | FQ49: 0 | FR49: 125.07 | FS49: 7.98 | FT49: 0 | FU49: 125.43 | FV49: 76.88 | FW49: 0 | FX49: 0 | FY49: 0 | FZ49: 0 | GA49: 0 | GB49: 18.77 | GC49: 69.85 | GD49: 58.19 | GE49: 0 | GF49: 419.17 | GG49: 0 | GH49: 0 | GI49: 0 | GJ49: 0 | GK49: 0 | GL49: 0 | GM49: 857.89 | GN49: 0 | GO49: 0 | GP49: 0 | GQ49: 380.83 | GR49: 18.04 | GS49: 5.2 | GT49: 0 | GU49: 0 | GV49: 0 | GW49: 0 | GX49: 15.15 | GY49: 6.86 | GZ49: 0 | HA49: 0 | HB49: 0 | HC49: 18.14 | HD49: 0 | HE49: 0 | HF49: 803.49 | HG49: 5.68 | HH49: 0 | HI49: 7.39 | HJ49: 4.06 | HK49: 0 | HL49: 58.64 | HM49: 58 | HN49: 29.24 | HO49: 0 | HP49: 0 | HQ49: 0 | HR49: 0 | HS49: 0 | HT49: 0.95 | HU49: 0 | HV49: 0 | HW49: 0 | HX49: 0 | HY49: 0 | HZ49: 0 | IA49: 0 | IB49: 0 | IC49: =(H49/$D49)*1000000 -> 0 | ID49: =(I49/$D49)*1000000 -> 0 | IE49: =(J49/$D49)*1000000 -> 0 | IF49: =(K49/$D49)*1000000 -> 0 | IG49: =(L49/$D49)*1000000 -> 0 | IH49: =(M49/$D49)*1000000 -> 0 | II49: =(N49/$D49)*1000000 -> 0 | IJ49: =(O49/$D49)*1000000 -> 0 | ... QW49: =(IB49/$D49)*1000000 -> 0
C50: 804 | D50: 26562978 | E50: 28960904 | F50: =100-(D50/E50)*100 -> 8.2798728 | G50: 3.973391 | H50: 0 | I50: 0 | J50: 0 | K50: 0 | L50: 0 | M50: 0 | N50: 0 | O50: 0 | P50: 0 | Q50: 69.95 | R50: 0 | S50: 0 | T50: 5.5 | U50: 0 | V50: 7.55 | W50: 0 | X50: 0 | Y50: 0 | Z50: 0 | AA50: 0 | AB50: 0 | AC50: 0 | AD50: 0 | AE50: 13.71 | AF50: 770.8 | AG50: 48.13 | AH50: 0 | AI50: 0 | AJ50: 60.75 | AK50: 0 | AL50: 74.99 | AM50: 0 | AN50: 0 | AO50: 13.32 | AP50: 0 | AQ50: 0 | AR50: 0 | AS50: 552.4 | AT50: 0 | AU50: 0 | AV50: 12.13 | AW50: 10.2 | AX50: 0 | AY50: 0 | AZ50: 0 | BA50: 65.14 | BB50: 0 | BC50: 0 | BD50: 0 | BE50: 0 | BF50: 0 | BG50: 0 | BH50: 0 | BI50: 0 | BJ50: 0 | BK50: 0 | BL50: 0 | BM50: 0 | BN50: 0 | BO50: 0 | BP50: 0 | BQ50: 0 | BR50: 0 | BS50: 0 | BT50: 0 | BU50: 0 | BV50: 0 | BW50: 0 | BX50: 0 | BY50: 0 | BZ50: 0 | CA50: 0 | CB50: 32.49 | CC50: 0 | CD50: 0 | CE50: 0 | CF50: 0 | CG50: 0 | CH50: 0 | CI50: 0 | CJ50: 0 | CK50: 124.05 | CL50: 0 | CM50: 0 | CN50: 0 | CO50: 0 | CP50: 11.07 | CQ50: 0 | CR50: 0 | CS50: 0 | CT50: 0 | CU50: 3.08 | CV50: 0 | CW50: 0 | CX50: 0 | CY50: 0 | CZ50: 0 | DA50: 0 | DB50: 0 | DC50: 0 | DD50: 17.11 | DE50: 0 | DF50: 11.53 | DG50: 0 | DH50: 0 | DI50: 0 | DJ50: 0 | DK50: 0 | DL50: 12.84 | DM50: 4.44 | DN50: 0 | DO50: 0 | DP50: 19.68 | DQ50: 0 | DR50: 0 | DS50: 0 | DT50: 0 | DU50: 0 | DV50: 0 | DW50: 0 | DX50: 0 | DY50: 0 | DZ50: 0 | EA50: 0 | EB50: 0 | EC50: 0 | ED50: 0 | EE50: 706.66 | EF50: 0 | EG50: 658.64 | EH50: 735.4 | EI50: 17.24 | EJ50: 9.28 | EK50: 16.19 | EL50: 0 | EM50: 0 | EN50: 3.27 | EO50: 0 | EP50: 517.86 | EQ50: 0 | ER50: 0 | ES50: 30.47 | ET50: 0 | EU50: 0 | EV50: 0 | EW50: 0 | EX50: 0 | EY50: 191.52 | EZ50: 0 | FA50: 30.74 | FB50: 4.34 | FC50: 12.74 | FD50: 0 | FE50: 0 | FF50: 0 | FG50: 29.41 | FH50: 0 | FI50: 0 | FJ50: 0 | FK50: 64.18 | FL50: 0 | FM50: 0 | FN50: 0 | FO50: 0 | FP50: 0 | FQ50: 0 | FR50: 424.41 | FS50: 48.56 | FT50: 0 | FU50: 51.47 | FV50: 5.7 | FW50: 8.31 | FX50: 0 | FY50: 0 | FZ50: 0 | GA50: 0 | GB50: 0 | GC50: 2.39 | GD50: 191.09 | GE50: 0 | GF50: 186.48 | GG50: 211.98 | GH50: 0 | GI50: 0 | GJ50: 0 | GK50: 0 | GL50: 0 | GM50: 1313.69 | GN50: 0 | GO50: 0 | GP50: 0 | GQ50: 1215.63 | GR50: 173.29 | GS50: 387.64 | GT50: 0 | GU50: 0 | GV50: 0 | GW50: 0 | GX50: 43.79 | GY50: 28.77 | GZ50: 0 | HA50: 1.7 | HB50: 0 | HC50: 0 | HD50: 0 | HE50: 0 | HF50: 62.73 | HG50: 0 | HH50: 0 | HI50: 8.71 | HJ50: 0 | HK50: 0 | HL50: 9.77 | HM50: 52.5 | HN50: 12.73 | HO50: 0 | HP50: 0 | HQ50: 0 | HR50: 0 | HS50: 0 | HT50: 0 | HU50: 0 | HV50: 0 | HW50: 0 | HX50: 0 | HY50: 0 | HZ50: 0 | IA50: 0 | IB50: 0 | IC50: =(H50/$D50)*1000000 -> 0 | ID50: =(I50/$D50)*1000000 -> 0 | IE50: =(J50/$D50)*1000000 -> 0 | IF50: =(K50/$D50)*1000000 -> 0 | IG50: =(L50/$D50)*1000000 -> 0 | IH50: =(M50/$D50)*1000000 -> 0 | II50: =(N50/$D50)*1000000 -> 0 | IJ50: =(O50/$D50)*1000000 -> 0 | ... QW50: =(IB50/$D50)*1000000 -> 0
C51: 823 | D51: 20235335 | E51: 28224711 | F51: =100-(D51/E51)*100 -> 28.306316 | G51: 4.0042735 | H51: 0 | I51: 0 | J51: 0 | K51: 0 | L51: 0 | M51: 0 | N51: 0 | O51: 0 | P51: 0 | Q51: 51.68 | R51: 0 | S51: 0 | T51: 0 | U51: 0 | V51: 0 | W51: 0 | X51: 0 | Y51: 0 | Z51: 0 | AA51: 0 | AB51: 0 | AC51: 0 | AD51: 0 | AE51: 43.59 | AF51: 503.97 | AG51: 4.14 | AH51: 0 | AI51: 0 | AJ51: 38.6 | AK51: 0 | AL51: 0 | AM51: 0 | AN51: 0 | AO51: 73.02 | AP51: 0 | AQ51: 0 | AR51: 0 | AS51: 714.12 | AT51: 0 | AU51: 0 | AV51: 73.85 | AW51: 18.95 | AX51: 0 | AY51: 0 | AZ51: 0 | BA51: 29.42 | BB51: 0 | BC51: 0 | BD51: 0 | BE51: 0 | BF51: 0 | BG51: 0 | BH51: 0 | BI51: 0 | BJ51: 0 | BK51: 0 | BL51: 0 | BM51: 0 | BN51: 0 | BO51: 0 | BP51: 0 | BQ51: 0 | BR51: 0 | BS51: 0 | BT51: 0 | BU51: 0 | BV51: 0 | BW51: 0 | BX51: 0 | BY51: 0 | BZ51: 0 | CA51: 3.15 | CB51: 0 | CC51: 0 | CD51: 0 | CE51: 0 | CF51: 0 | CG51: 0 | CH51: 7.99 | CI51: 0 | CJ51: 0 | CK51: 0 | CL51: 0 | CM51: 46.59 | CN51: 0 | CO51: 0 | CP51: 0 | CQ51: 0 | CR51: 0 | CS51: 0 | CT51: 0 | CU51: 0 | CV51: 0 | CW51: 0 | CX51: 0 | CY51: 0 | CZ51: 0 | DA51: 0 | DB51: 0 | DC51: 0 | DD51: 6.64 | DE51: 0 | DF51: 9.89 | DG51: 0 | DH51: 2.89 | DI51: 0 | DJ51: 0 | DK51: 0 | DL51: 0 | DM51: 0 | DN51: 0 | DO51: 0 | DP51: 38.93 | DQ51: 0 | DR51: 0 | DS51: 0 | DT51: 0 | DU51: 0 | DV51: 0 | DW51: 0 | DX51: 0 | DY51: 0 | DZ51: 0 | EA51: 0 | EB51: 0 | EC51: 0 | ED51: 0 | EE51: 306.93 | EF51: 0 | EG51: 146.03 | EH51: 177.76 | EI51: 42.91 | EJ51: 25.27 | EK51: 0 | EL51: 0 | EM51: 0 | EN51: 1.66 | EO51: 0 | EP51: 752.2 | EQ51: 0 | ER51: 0 | ES51: 7.69 | ET51: 0 | EU51: 0 | EV51: 0 | EW51: 0 | EX51: 0 | EY51: 111.34 | EZ51: 0 | FA51: 44.56 | FB51: 0 | FC51: 0 | FD51: 0 | FE51: 0 | FF51: 0 | FG51: 47.94 | FH51: 0 | FI51: 0 | FJ51: 0 | FK51: 0 | FL51: 0 | FM51: 0 | FN51: 0 | FO51: 0 | FP51: 0 | FQ51: 0 | FR51: 279.89 | FS51: 13.35 | FT51: 0 | FU51: 66.49 | FV51: 0 | FW51: 0 | FX51: 0 | FY51: 0 | FZ51: 0 | GA51: 0 | GB51: 1.41 | GC51: 2.69 | GD51: 49.45 | GE51: 0 | GF51: 101.89 | GG51: 103.71 | GH51: 0 | GI51: 0 | GJ51: 0 | GK51: 0 | GL51: 0 | GM51: 476.59 | GN51: 0 | GO51: 0 | GP51: 0 | GQ51: 720.29 | GR51: 114.49 | GS51: 30.28 | GT51: 0 | GU51: 0 | GV51: 0 | GW51: 0 | GX51: 22.02 | GY51: 29.96 | GZ51: 0 | HA51: 0 | HB51: 0 | HC51: 0 | HD51: 0 | HE51: 0 | HF51: 143.22 | HG51: 0 | HH51: 0 | HI51: 0 | HJ51: 0 | HK51: 0 | HL51: 6.03 | HM51: 187.48 | HN51: 0 | HO51: 0 | HP51: 0 | HQ51: 0 | HR51: 0 | HS51: 0 | HT51: 0 | HU51: 0 | HV51: 0 | HW51: 0 | HX51: 0 | HY51: 0 | HZ51: 0 | IA51: 0 | IB51: 0 | IC51: =(H51/$D51)*1000000 -> 0 | ID51: =(I51/$D51)*1000000 -> 0 | IE51: =(J51/$D51)*1000000 -> 0 | IF51: =(K51/$D51)*1000000 -> 0 | IG51: =(L51/$D51)*1000000 -> 0 | IH51: =(M51/$D51)*1000000 -> 0 | II51: =(N51/$D51)*1000000 -> 0 | IJ51: =(O51/$D51)*1000000 -> 0 | ... QW51: =(IB51/$D51)*1000000 -> 0
C52: 835 | D52: 14034151 | E52: 28421595 | F52: =100-(D52/E52)*100 -> 50.621522 | G52: 3.7404054 | H52: 0 | I52: 0 | J52: 0 | K52: 0 | L52: 0 | M52: 0 | N52: 0 | O52: 0 | P52: 0 | Q52: 64.33 | R52: 25.45 | S52: 0 | T52: 0 | U52: 0 | V52: 0 | W52: 0 | X52: 0 | Y52: 0 | Z52: 0 | AA52: 0 | AB52: 0 | AC52: 0 | AD52: 0 | AE52: 0 | AF52: 368.5 | AG52: 4.05 | AH52: 0 | AI52: 0 | AJ52: 53.26 | AK52: 0 | AL52: 30.44 | AM52: 0 | AN52: 0 | AO52: 2.53 | AP52: 0 | AQ52: 0 | AR52: 0 | AS52: 309.43 | AT52: 0 | AU52: 0 | AV52: 0 | AW52: 10.65 | AX52: 0 | AY52: 7.67 | AZ52: 0 | BA52: 19.73 | BB52: 0 | BC52: 0 | BD52: 0 | BE52: 0 | BF52: 0 | BG52: 0 | BH52: 0 | BI52: 0 | BJ52: 0 | BK52: 0 | BL52: 0 | BM52: 0 | BN52: 0 | BO52: 0 | BP52: 0 | BQ52: 0 | BR52: 0 | BS52: 0 | BT52: 0 | BU52: 0 | BV52: 0 | BW52: 0 | BX52: 0 | BY52: 0 | BZ52: 0 | CA52: 0 | CB52: 65.3 | CC52: 0 | CD52: 0 | CE52: 0 | CF52: 0 | CG52: 0 | CH52: 23.43 | CI52: 0 | CJ52: 0 | CK52: 22.25 | CL52: 0 | CM52: 0 | CN52: 0 | CO52: 0 | CP52: 0 | CQ52: 0 | CR52: 0 | CS52: 0 | CT52: 0 | CU52: 0 | CV52: 0 | CW52: 0 | CX52: 0 | CY52: 0 | CZ52: 0 | DA52: 0 | DB52: 0 | DC52: 0 | DD52: 4.31 | DE52: 0 | DF52: 0 | DG52: 0 | DH52: 0 | DI52: 0 | DJ52: 0 | DK52: 0 | DL52: 22.95 | DM52: 0 | DN52: 0 | DO52: 0 | DP52: 0 | DQ52: 0 | DR52: 0 | DS52: 0 | DT52: 0 | DU52: 0 | DV52: 0 | DW52: 0 | DX52: 0 | DY52: 0 | DZ52: 0 | EA52: 0 | EB52: 0 | EC52: 0 | ED52: 0 | EE52: 156.58 | EF52: 0 | EG52: 595.22 | EH52: 96.15 | EI52: 0 | EJ52: 2.88 | EK52: 11.85 | EL52: 0 | EM52: 0 | EN52: 12.35 | EO52: 0 | EP52: 326.84 | EQ52: 0 | ER52: 0 | ES52: 4.42 | ET52: 0 | EU52: 0 | EV52: 0 | EW52: 0 | EX52: 0 | EY52: 46.57 | EZ52: 0 | FA52: 43.13 | FB52: 30.45 | FC52: 0 | FD52: 0 | FE52: 0 | FF52: 0 | FG52: 49.54 | FH52: 0 | FI52: 0 | FJ52: 0 | FK52: 0 | FL52: 0 | FM52: 0 | FN52: 0 | FO52: 0 | FP52: 13.7 | FQ52: 0 | FR52: 158.92 | FS52: 14.23 | FT52: 0 | FU52: 27.02 | FV52: 0 | FW52: 0 | FX52: 0 | FY52: 0 | FZ52: 0 | GA52: 0 | GB52: 8.71 | GC52: 7.34 | GD52: 28.34 | GE52: 57.95 | GF52: 0 | GG52: 94.83 | GH52: 0 | GI52: 0 | GJ52: 0 | GK52: 0 | GL52: 0 | GM52: 767.14 | GN52: 0 | GO52: 0 | GP52: 0 | GQ52: 416.06 | GR52: 51.94 | GS52: 244.57 | GT52: 0 | GU52: 0 | GV52: 0 | GW52: 0 | GX52: 6.27 | GY52: 6.34 | GZ52: 0 | HA52: 0 | HB52: 0 | HC52: 5.67 | HD52: 0 | HE52: 0 | HF52: 4.98 | HG52: 0 | HH52: 0 | HI52: 31.39 | HJ52: 0 | HK52: 0 | HL52: 0 | HM52: 8.39 | HN52: 0 | HO52: 0 | HP52: 0 | HQ52: 0 | HR52: 0 | HS52: 0 | HT52: 0 | HU52: 0 | HV52: 0 | HW52: 0 | HX52: 0 | HY52: 0 | HZ52: 0 | IA52: 0 | IB52: 0 | IC52: =(H52/$D52)*1000000 -> 0 | ID52: =(I52/$D52)*1000000 -> 0 | IE52: =(J52/$D52)*1000000 -> 0 | IF52: =(K52/$D52)*1000000 -> 0 | IG52: =(L52/$D52)*1000000 -> 0 | IH52: =(M52/$D52)*1000000 -> 0 | II52: =(N52/$D52)*1000000 -> 0 | IJ52: =(O52/$D52)*1000000 -> 0 | ... QW52: =(IB52/$D52)*1000000 -> 0
C53: 859 | D53: 23613828 | E53: 27972305 | F53: =100-(D53/E53)*100 -> 15.581401 | G53: 3.7740897 | H53: 0 | I53: 0 | J53: 0 | K53: 0 | L53: 0 | M53: 0 | N53: 0 | O53: 0 | P53: 0 | Q53: 62.97 | R53: 0 | S53: 0 | T53: 9.11 | U53: 0 | V53: 0 | W53: 0 | X53: 0 | Y53: 0 | Z53: 0 | AA53: 0 | AB53: 0 | AC53: 0 | AD53: 0 | AE53: 0 | AF53: 507.35 | AG53: 91.76 | AH53: 0 | AI53: 0 | AJ53: 47.69 | AK53: 0 | AL53: 16.85 | AM53: 6.61 | AN53: 0 | AO53: 4.6 | AP53: 0 | AQ53: 0 | AR53: 0 | AS53: 403.07 | AT53: 0 | AU53: 0 | AV53: 6.38 | AW53: 5.01 | AX53: 0 | AY53: 0 | AZ53: 0 | BA53: 5.92 | BB53: 0 | BC53: 0 | BD53: 0 | BE53: 0 | BF53: 0 | BG53: 0 | BH53: 0 | BI53: 0 | BJ53: 0 | BK53: 0 | BL53: 0 | BM53: 0 | BN53: 0 | BO53: 0 | BP53: 0 | BQ53: 0 | BR53: 0 | BS53: 0 | BT53: 0 | BU53: 0 | BV53: 0 | BW53: 1.64 | BX53: 3.39 | BY53: 0 | BZ53: 0 | CA53: 0 | CB53: 3.31 | CC53: 0 | CD53: 0 | CE53: 0 | CF53: 0 | CG53: 0 | CH53: 0 | CI53: 0 | CJ53: 0 | CK53: 55.91 | CL53: 0 | CM53: 0 | CN53: 0 | CO53: 0 | CP53: 1.5 | CQ53: 0 | CR53: 0 | CS53: 0 | CT53: 0 | CU53: 0 | CV53: 0 | CW53: 0 | CX53: 0 | CY53: 0 | CZ53: 0 | DA53: 0 | DB53: 0 | DC53: 0 | DD53: 4.88 | DE53: 0 | DF53: 6.49 | DG53: 0 | DH53: 0 | DI53: 0 | DJ53: 0 | DK53: 0 | DL53: 1.58 | DM53: 0 | DN53: 0 | DO53: 0 | DP53: 0 | DQ53: 0 | DR53: 0 | DS53: 0 | DT53: 0 | DU53: 0 | DV53: 0 | DW53: 0 | DX53: 0 | DY53: 0 | DZ53: 0 | EA53: 0 | EB53: 0 | EC53: 0 | ED53: 0 | EE53: 423.44 | EF53: 0 | EG53: 518.98 | EH53: 241.02 | EI53: 20.88 | EJ53: 5.06 | EK53: 0 | EL53: 0 | EM53: 0 | EN53: 0 | EO53: 0 | EP53: 269.47 | EQ53: 0 | ER53: 0 | ES53: 7.15 | ET53: 0 | EU53: 0 | EV53: 0 | EW53: 0 | EX53: 0 | EY53: 489.28 | EZ53: 0 | FA53: 21.99 | FB53: 0 | FC53: 0 | FD53: 0 | FE53: 0 | FF53: 0 | FG53: 31.41 | FH53: 0 | FI53: 0 | FJ53: 0 | FK53: 0 | FL53: 0 | FM53: 0 | FN53: 0 | FO53: 0 | FP53: 0 | FQ53: 0 | FR53: 293.02 | FS53: 95.75 | FT53: 0 | FU53: 25.04 | FV53: 0 | FW53: 35.33 | FX53: 0 | FY53: 0 | FZ53: 4.36 | GA53: 0 | GB53: 30.26 | GC53: 9.1 | GD53: 63.29 | GE53: 147.97 | GF53: 142.47 | GG53: 0 | GH53: 0 | GI53: 0 | GJ53: 0 | GK53: 0 | GL53: 0 | GM53: 1661.3 | GN53: 0 | GO53: 0 | GP53: 0 | GQ53: 649.96 | GR53: 164.11 | GS53: 32.51 | GT53: 0 | GU53: 0 | GV53: 0 | GW53: 0 | GX53: 7.17 | GY53: 4.74 | GZ53: 0 | HA53: 0 | HB53: 0 | HC53: 0 | HD53: 0 | HE53: 0 | HF53: 0 | HG53: 0 | HH53: 0 | HI53: 0 | HJ53: 0 | HK53: 0 | HL53: 35.25 | HM53: 33.19 | HN53: 9.37 | HO53: 0 | HP53: 0 | HQ53: 0 | HR53: 2.31 | HS53: 0 | HT53: 0 | HU53: 0 | HV53: 0 | HW53: 0 | HX53: 0 | HY53: 0 | HZ53: 0 | IA53: 0 | IB53: 0 | IC53: =(H53/$D53)*1000000 -> 0 | ID53: =(I53/$D53)*1000000 -> 0 | IE53: =(J53/$D53)*1000000 -> 0 | IF53: =(K53/$D53)*1000000 -> 0 | IG53: =(L53/$D53)*1000000 -> 0 | IH53: =(M53/$D53)*1000000 -> 0 | II53: =(N53/$D53)*1000000 -> 0 | IJ53: =(O53/$D53)*1000000 -> 0 | ... QW53: =(IB53/$D53)*1000000 -> 0
C54: 880 | D54: 28347543 | E54: 28926639 | F54: =100-(D54/E54)*100 -> 2.0019471 | G54: 3.0915328 | H54: 0 | I54: 0 | J54: 0 | K54: 3.72 | L54: 0 | M54: 0 | N54: 0 | O54: 6.51 | P54: 0 | Q54: 22.72 | R54: 26.07 | S54: 0 | T54: 14.51 | U54: 0 | V54: 232.5 | W54: 10.88 | X54: 0 | Y54: 0 | Z54: 3.15 | AA54: 0 | AB54: 1.32 | AC54: 3.37 | AD54: 0 | AE54: 152.62 | AF54: 443.36 | AG54: 21.12 | AH54: 0 | AI54: 0 | AJ54: 9.25 | AK54: 0 | AL54: 24.61 | AM54: 19.25 | AN54: 0 | AO54: 95.11 | AP54: 25.32 | AQ54: 0 | AR54: 1.88 | AS54: 545.59 | AT54: 0 | AU54: 5.49 | AV54: 137.74 | AW54: 3.86 | AX54: 0 | AY54: 0 | AZ54: 0 | BA54: 4.29 | BB54: 0 | BC54: 0 | BD54: 0 | BE54: 0 | BF54: 0 | BG54: 0 | BH54: 0 | BI54: 3.37 | BJ54: 0 | BK54: 1.4 | BL54: 0 | BM54: 0 | BN54: 0.9 | BO54: 0 | BP54: 0 | BQ54: 0 | BR54: 0 | BS54: 0 | BT54: 0 | BU54: 0 | BV54: 0 | BW54: 0 | BX54: 0 | BY54: 0 | BZ54: 0 | CA54: 18.75 | CB54: 399.64 | CC54: 14.21 | CD54: 0 | CE54: 0 | CF54: 0 | CG54: 0 | CH54: 0 | CI54: 0 | CJ54: 0 | CK54: 34.53 | CL54: 0 | CM54: 0 | CN54: 0 | CO54: 0 | CP54: 0 | CQ54: 0 | CR54: 0 | CS54: 6.46 | CT54: 0 | CU54: 0 | CV54: 0 | CW54: 0 | CX54: 0 | CY54: 0 | CZ54: 0 | DA54: 0 | DB54: 0 | DC54: 0 | DD54: 0 | DE54: 0 | DF54: 4.27 | DG54: 36.61 | DH54: 8.07 | DI54: 0 | DJ54: 0 | DK54: 20.12 | DL54: 89.37 | DM54: 51.92 | DN54: 7.76 | DO54: 0 | DP54: 11.94 | DQ54: 0 | DR54: 0 | DS54: 25.57 | DT54: 0 | DU54: 0 | DV54: 0 | DW54: 0 | DX54: 0 | DY54: 0 | DZ54: 0 | EA54: 0 | EB54: 0 | EC54: 0 | ED54: 0 | EE54: 3704.18 | EF54: 2.55 | EG54: 10.7 | EH54: 78.37 | EI54: 14.73 | EJ54: 39.57 | EK54: 49.3 | EL54: 0 | EM54: 0 | EN54: 536.76 | EO54: 9.9 | EP54: 139.89 | EQ54: 132.41 | ER54: 29.12 | ES54: 60.81 | ET54: 6.53 | EU54: 0 | EV54: 0 | EW54: 13.12 | EX54: 0 | EY54: 75.7 | EZ54: 23.95 | FA54: 94.85 | FB54: 0 | FC54: 6.97 | FD54: 0 | FE54: 0 | FF54: 0 | FG54: 96.58 | FH54: 0 | FI54: 0 | FJ54: 6.65 | FK54: 38.2 | FL54: 0 | FM54: 0 | FN54: 0 | FO54: 0 | FP54: 0 | FQ54: 0 | FR54: 328.39 | FS54: 16.22 | FT54: 0 | FU54: 412.07 | FV54: 75.44 | FW54: 3.75 | FX54: 4.69 | FY54: 0 | FZ54: 0 | GA54: 1.18 | GB54: 18.98 | GC54: 58.79 | GD54: 124.32 | GE54: 159.42 | GF54: 1438.2 | GG54: 0 | GH54: 0 | GI54: 0 | GJ54: 0 | GK54: 0 | GL54: 0 | GM54: 102 | GN54: 0 | GO54: 2.09 | GP54: 0 | GQ54: 848.29 | GR54: 64.22 | GS54: 3.96 | GT54: 0 | GU54: 0 | GV54: 0 | GW54: 4.66 | GX54: 86.82 | GY54: 45.49 | GZ54: 0 | HA54: 0 | HB54: 0 | HC54: 1.79 | HD54: 0 | HE54: 0 | HF54: 1325.1 | HG54: 6.1 | HH54: 0 | HI54: 188.3 | HJ54: 0 | HK54: 0 | HL54: 27.98 | HM54: 55.27 | HN54: 130.57 | HO54: 0 | HP54: 0 | HQ54: 19.23 | HR54: 0 | HS54: 0 | HT54: 0 | HU54: 0 | HV54: 0 | HW54: 0 | HX54: 1.65 | HY54: 3.3 | HZ54: 0 | IA54: 0 | IB54: 0 | IC54: =(H54/$D54)*1000000 -> 0 | ID54: =(I54/$D54)*1000000 -> 0 | IE54: =(J54/$D54)*1000000 -> 0 | IF54: =(K54/$D54)*1000000 -> 0.1312283 | IG54: =(L54/$D54)*1000000 -> 0 | IH54: =(M54/$D54)*1000000 -> 0 | II54: =(N54/$D54)*1000000 -> 0 | IJ54: =(O54/$D54)*1000000 -> 0.22964953 | ... QW54: =(IB54/$D54)*1000000 -> 0
C55: 892 | D55: 18544420 | E55: 28506909 | F55: =100-(D55/E55)*100 -> 34.94763 | G55: 3.7012746 | H55: 0 | I55: 0 | J55: 0 | K55: 0 | L55: 0 | M55: 0 | N55: 0 | O55: 0 | P55: 0 | Q55: 68.88 | R55: 0 | S55: 0 | T55: 22.13 | U55: 0 | V55: 0 | W55: 0 | X55: 0 | Y55: 0 | Z55: 0 | AA55: 0 | AB55: 0 | AC55: 0 | AD55: 0 | AE55: 18.36 | AF55: 737.92 | AG55: 37.75 | AH55: 0 | AI55: 22.34 | AJ55: 70.25 | AK55: 0 | AL55: 66.28 | AM55: 6.64 | AN55: 0 | AO55: 8.91 | AP55: 0 | AQ55: 0 | AR55: 0 | AS55: 1056.94 | AT55: 0 | AU55: 0 | AV55: 14.41 | AW55: 3.83 | AX55: 0 | AY55: 0 | AZ55: 0 | BA55: 4.2 | BB55: 0 | BC55: 0 | BD55: 0 | BE55: 0 | BF55: 0 | BG55: 0 | BH55: 0 | BI55: 0 | BJ55: 0 | BK55: 0 | BL55: 0 | BM55: 0 | BN55: 8.93 | BO55: 0 | BP55: 0 | BQ55: 0 | BR55: 0 | BS55: 0 | BT55: 0 | BU55: 0 | BV55: 0 | BW55: 0 | BX55: 0 | BY55: 0 | BZ55: 0 | CA55: 0 | CB55: 23.6 | CC55: 0 | CD55: 0 | CE55: 0 | CF55: 0 | CG55: 0 | CH55: 3.64 | CI55: 0 | CJ55: 0 | CK55: 29.97 | CL55: 0 | CM55: 0 | CN55: 0 | CO55: 0 | CP55: 0 | CQ55: 0 | CR55: 0 | CS55: 0 | CT55: 0 | CU55: 0 | CV55: 0 | CW55: 0 | CX55: 0 | CY55: 0 | CZ55: 0 | DA55: 0 | DB55: 0 | DC55: 0 | DD55: 21.05 | DE55: 0 | DF55: 3.44 | DG55: 0 | DH55: 0 | DI55: 0 | DJ55: 0 | DK55: 0 | DL55: 14.36 | DM55: 0 | DN55: 1.58 | DO55: 0 | DP55: 8.67 | DQ55: 0 | DR55: 0 | DS55: 0 | DT55: 0 | DU55: 0 | DV55: 0 | DW55: 0 | DX55: 0 | DY55: 0 | DZ55: 0 | EA55: 0 | EB55: 0 | EC55: 0 | ED55: 0 | EE55: 1462.1 | EF55: 0 | EG55: 39.77 | EH55: 438.08 | EI55: 13.61 | EJ55: 3.05 | EK55: 12.3 | EL55: 0 | EM55: 0 | EN55: 1.38 | EO55: 3.92 | EP55: 319.4 | EQ55: 0 | ER55: 0 | ES55: 7.61 | ET55: 0 | EU55: 0 | EV55: 0 | EW55: 0 | EX55: 0 | EY55: 123.62 | EZ55: 0 | FA55: 44.53 | FB55: 15.92 | FC55: 14.72 | FD55: 0 | FE55: 0 | FF55: 0 | FG55: 42.56 | FH55: 0 | FI55: 0 | FJ55: 0 | FK55: 0 | FL55: 0 | FM55: 0 | FN55: 0 | FO55: 0 | FP55: 0 | FQ55: 0 | FR55: 434.35 | FS55: 57.19 | FT55: 0 | FU55: 42.51 | FV55: 0 | FW55: 123.1 | FX55: 0 | FY55: 0 | FZ55: 0 | GA55: 0 | GB55: 0 | GC55: 19.72 | GD55: 71.55 | GE55: 109.33 | GF55: 472.28 | GG55: 98.97 | GH55: 0 | GI55: 0 | GJ55: 0 | GK55: 0 | GL55: 0 | GM55: 256.68 | GN55: 0 | GO55: 0 | GP55: 0 | GQ55: 1155.6 | GR55: 28.27 | GS55: 8.78 | GT55: 0 | GU55: 0 | GV55: 0 | GW55: 0 | GX55: 10.33 | GY55: 9.16 | GZ55: 0 | HA55: 0 | HB55: 0 | HC55: 5.17 | HD55: 0 | HE55: 7.96 | HF55: 6.31 | HG55: 0 | HH55: 0 | HI55: 0 | HJ55: 0 | HK55: 0 | HL55: 98.24 | HM55: 37.92 | HN55: 28.52 | HO55: 0 | HP55: 0 | HQ55: 0 | HR55: 0 | HS55: 0 | HT55: 0 | HU55: 0 | HV55: 0 | HW55: 0 | HX55: 0 | HY55: 0 | HZ55: 0 | IA55: 0 | IB55: 0 | IC55: =(H55/$D55)*1000000 -> 0 | ID55: =(I55/$D55)*1000000 -> 0 | IE55: =(J55/$D55)*1000000 -> 0 | IF55: =(K55/$D55)*1000000 -> 0 | IG55: =(L55/$D55)*1000000 -> 0 | IH55: =(M55/$D55)*1000000 -> 0 | II55: =(N55/$D55)*1000000 -> 0 | IJ55: =(O55/$D55)*1000000 -> 0 | ... QW55: =(IB55/$D55)*1000000 -> 0
C56: 928 | D56: 27810045 | E56: 28252729 | F56: =100-(D56/E56)*100 -> 1.5668716 | G56: 3.7865115 | H56: 13.52 | I56: 0 | J56: 0 | K56: 8.12 | L56: 0 | M56: 0 | N56: 0 | O56: 0 | P56: 0 | Q56: 6.33 | R56: 20.53 | S56: 0 | T56: 6.56 | U56: 6.75 | V56: 92.8 | W56: 0 | X56: 0 | Y56: 0 | Z56: 3.26 | AA56: 0 | AB56: 0 | AC56: 0 | AD56: 0 | AE56: 81.95 | AF56: 416.28 | AG56: 0 | AH56: 0 | AI56: 0 | AJ56: 0 | AK56: 0 | AL56: 54.98 | AM56: 5.36 | AN56: 0 | AO56: 47.43 | AP56: 15.36 | AQ56: 0 | AR56: 46.94 | AS56: 394.83 | AT56: 0 | AU56: 9.48 | AV56: 60.93 | AW56: 0 | AX56: 0 | AY56: 0 | AZ56: 0 | BA56: 38.67 | BB56: 0 | BC56: 0 | BD56: 0 | BE56: 0 | BF56: 0 | BG56: 3.93 | BH56: 0 | BI56: 0 | BJ56: 0 | BK56: 9.55 | BL56: 0 | BM56: 0 | BN56: 0 | BO56: 0 | BP56: 0 | BQ56: 0 | BR56: 0 | BS56: 0 | BT56: 0 | BU56: 0 | BV56: 0 | BW56: 15.15 | BX56: 14.64 | BY56: 0 | BZ56: 0 | CA56: 103.11 | CB56: 268.07 | CC56: 0 | CD56: 0 | CE56: 0 | CF56: 0 | CG56: 0 | CH56: 0 | CI56: 0 | CJ56: 0 | CK56: 18.81 | CL56: 0 | CM56: 0 | CN56: 0 | CO56: 0 | CP56: 0 | CQ56: 0 | CR56: 3.06 | CS56: 0 | CT56: 0 | CU56: 4.43 | CV56: 0 | CW56: 0 | CX56: 0 | CY56: 4.15 | CZ56: 0 | DA56: 0 | DB56: 0 | DC56: 0 | DD56: 0 | DE56: 0 | DF56: 0 | DG56: 48.94 | DH56: 0 | DI56: 0 | DJ56: 0 | DK56: 18.57 | DL56: 48.39 | DM56: 25.29 | DN56: 7.9 | DO56: 0 | DP56: 37.69 | DQ56: 0 | DR56: 0 | DS56: 2.4 | DT56: 0 | DU56: 0 | DV56: 0 | DW56: 0 | DX56: 0 | DY56: 0 | DZ56: 0 | EA56: 0 | EB56: 0 | EC56: 0 | ED56: 0 | EE56: 944.46 | EF56: 0 | EG56: 27.73 | EH56: 98.2 | EI56: 36.11 | EJ56: 0 | EK56: 0 | EL56: 0 | EM56: 0 | EN56: 40.4 | EO56: 11.86 | EP56: 192.27 | EQ56: 19.64 | ER56: 4.12 | ES56: 0 | ET56: 0 | EU56: 0 | EV56: 0 | EW56: 10.67 | EX56: 0 | EY56: 185.72 | EZ56: 0 | FA56: 110.34 | FB56: 44.25 | FC56: 17.77 | FD56: 0 | FE56: 0 | FF56: 0 | FG56: 112.1 | FH56: 0 | FI56: 0 | FJ56: 0 | FK56: 0 | FL56: 0 | FM56: 0 | FN56: 0 | FO56: 0 | FP56: 0 | FQ56: 0 | FR56: 292.9 | FS56: 3.4 | FT56: 0 | FU56: 216.45 | FV56: 29.06 | FW56: 28.84 | FX56: 0 | FY56: 0 | FZ56: 0 | GA56: 0 | GB56: 14.67 | GC56: 11.14 | GD56: 17.12 | GE56: 58.64 | GF56: 802.41 | GG56: 58.62 | GH56: 0 | GI56: 0 | GJ56: 0 | GK56: 0 | GL56: 0 | GM56: 1145.95 | GN56: 0 | GO56: 0 | GP56: 0 | GQ56: 702.2 | GR56: 19.95 | GS56: 7.12 | GT56: 0 | GU56: 0 | GV56: 0 | GW56: 0 | GX56: 0 | GY56: 0 | GZ56: 7.92 | HA56: 0 | HB56: 0 | HC56: 0 | HD56: 0 | HE56: 0 | HF56: 523.02 | HG56: 0 | HH56: 0 | HI56: 66.9 | HJ56: 0 | HK56: 0 | HL56: 27.44 | HM56: 107.37 | HN56: 67.78 | HO56: 0 | HP56: 0 | HQ56: 0 | HR56: 0 | HS56: 0 | HT56: 0 | HU56: 0 | HV56: 0 | HW56: 0 | HX56: 0 | HY56: 0 | HZ56: 0 | IA56: 0 | IB56: 0 | IC56: =(H56/$D56)*1000000 -> 0.48615527 | ID56: =(I56/$D56)*1000000 -> 0 | IE56: =(J56/$D56)*1000000 -> 0 | IF56: =(K56/$D56)*1000000 -> 0.29198083 | IG56: =(L56/$D56)*1000000 -> 0 | IH56: =(M56/$D56)*1000000 -> 0 | II56: =(N56/$D56)*1000000 -> 0 | IJ56: =(O56/$D56)*1000000 -> 0 | ... QW56: =(IB56/$D56)*1000000 -> 0
C57: 946 | D57: 27195723 | E57: 28105302 | F57: =100-(D57/E57)*100 -> 3.2363253 | G57: 3.7629166 | H57: 0 | I57: 0 | J57: 0 | K57: 0 | L57: 0 | M57: 16.32 | N57: 0 | O57: 0 | P57: 0 | Q57: 80.79 | R57: 55.21 | S57: 0 | T57: 37.23 | U57: 0 | V57: 2.45 | W57: 0 | X57: 0 | Y57: 0 | Z57: 0 | AA57: 0 | AB57: 0 | AC57: 0 | AD57: 0 | AE57: 14.89 | AF57: 735 | AG57: 14.77 | AH57: 0 | AI57: 0 | AJ57: 83.66 | AK57: 0 | AL57: 40.06 | AM57: 11.95 | AN57: 0 | AO57: 7.5 | AP57: 450.88 | AQ57: 0 | AR57: 650.77 | AS57: 1089.12 | AT57: 0 | AU57: 0 | AV57: 5.13 | AW57: 0 | AX57: 0 | AY57: 0 | AZ57: 0 | BA57: 10.5 | BB57: 0 | BC57: 0 | BD57: 0 | BE57: 0 | BF57: 0 | BG57: 0 | BH57: 34.12 | BI57: 0 | BJ57: 0 | BK57: 0 | BL57: 0 | BM57: 0 | BN57: 0 | BO57: 0 | BP57: 0 | BQ57: 0 | BR57: 0 | BS57: 0 | BT57: 0 | BU57: 0 | BV57: 0 | BW57: 0 | BX57: 0 | BY57: 955.57 | BZ57: 0 | CA57: 46 | CB57: 97.88 | CC57: 0 | CD57: 0 | CE57: 0 | CF57: 0 | CG57: 0 | CH57: 0 | CI57: 0 | CJ57: 0 | CK57: 104.46 | CL57: 0 | CM57: 0 | CN57: 0 | CO57: 0 | CP57: 0 | CQ57: 0 | CR57: 0 | CS57: 0 | CT57: 0 | CU57: 2.9 | CV57: 0 | CW57: 0 | CX57: 0 | CY57: 0 | CZ57: 0 | DA57: 0 | DB57: 0 | DC57: 0 | DD57: 5.04 | DE57: 0 | DF57: 8.74 | DG57: 1.34 | DH57: 0 | DI57: 0 | DJ57: 0 | DK57: 0 | DL57: 52.28 | DM57: 0 | DN57: 0 | DO57: 0 | DP57: 0 | DQ57: 0 | DR57: 0 | DS57: 0 | DT57: 0 | DU57: 0 | DV57: 0 | DW57: 0 | DX57: 0 | DY57: 0 | DZ57: 0 | EA57: 0 | EB57: 0 | EC57: 0 | ED57: 0 | EE57: 385.62 | EF57: 0 | EG57: 46.04 | EH57: 312.53 | EI57: 43.37 | EJ57: 14.04 | EK57: 7.7 | EL57: 0 | EM57: 0 | EN57: 1.47 | EO57: 0 | EP57: 893.85 | EQ57: 0 | ER57: 0 | ES57: 26.89 | ET57: 0 | EU57: 0 | EV57: 0 | EW57: 0 | EX57: 0 | EY57: 223.86 | EZ57: 0 | FA57: 46.93 | FB57: 0 | FC57: 0 | FD57: 0 | FE57: 0 | FF57: 0 | FG57: 49.87 | FH57: 0 | FI57: 0 | FJ57: 0 | FK57: 0 | FL57: 0 | FM57: 0 | FN57: 0 | FO57: 0 | FP57: 28.53 | FQ57: 0 | FR57: 382.28 | FS57: 25.05 | FT57: 0 | FU57: 712.29 | FV57: 2.26 | FW57: 7.49 | FX57: 0 | FY57: 0 | FZ57: 0 | GA57: 0 | GB57: 0 | GC57: 75.1 | GD57: 104.87 | GE57: 102.53 | GF57: 197.17 | GG57: 0 | GH57: 90.27 | GI57: 0 | GJ57: 0 | GK57: 0 | GL57: 0 | GM57: 424.65 | GN57: 0 | GO57: 0 | GP57: 0 | GQ57: 1355.52 | GR57: 181.05 | GS57: 28.34 | GT57: 0 | GU57: 0 | GV57: 0 | GW57: 2.39 | GX57: 33.41 | GY57: 8.1 | GZ57: 0 | HA57: 0 | HB57: 0 | HC57: 0 | HD57: 0 | HE57: 0 | HF57: 7.22 | HG57: 0 | HH57: 0 | HI57: 1322.2 | HJ57: 0 | HK57: 0 | HL57: 47.16 | HM57: 79.21 | HN57: 3.5 | HO57: 0 | HP57: 0 | HQ57: 0 | HR57: 0 | HS57: 0 | HT57: 0 | HU57: 0 | HV57: 0 | HW57: 0 | HX57: 0 | HY57: 0 | HZ57: 0 | IA57: 0 | IB57: 0 | IC57: =(H57/$D57)*1000000 -> 0 | ID57: =(I57/$D57)*1000000 -> 0 | IE57: =(J57/$D57)*1000000 -> 0 | IF57: =(K57/$D57)*1000000 -> 0 | IG57: =(L57/$D57)*1000000 -> 0 | IH57: =(M57/$D57)*1000000 -> 0.60009436 | II57: =(N57/$D57)*1000000 -> 0 | IJ57: =(O57/$D57)*1000000 -> 0 | ... QW57: =(IB57/$D57)*1000000 -> 0
C58: 958 | D58: 22177139 | E58: 28871355 | F58: =100-(D58/E58)*100 -> 23.186359 | G58: 3.4593476 | H58: 0 | I58: 0 | J58: 0 | K58: 0 | L58: 0 | M58: 0 | N58: 0 | O58: 2.72 | P58: 0 | Q58: 223.47 | R58: 0 | S58: 0 | T58: 0 | U58: 0 | V58: 53.39 | W58: 0 | X58: 25.09 | Y58: 0 | Z58: 0 | AA58: 0 | AB58: 0 | AC58: 0 | AD58: 0 | AE58: 39.17 | AF58: 392.77 | AG58: 21.89 | AH58: 0 | AI58: 0 | AJ58: 137.24 | AK58: 5.72 | AL58: 15.81 | AM58: 8.76 | AN58: 0 | AO58: 26.77 | AP58: 0 | AQ58: 0 | AR58: 0 | AS58: 353.01 | AT58: 0 | AU58: 0 | AV58: 40.33 | AW58: 0 | AX58: 0 | AY58: 0 | AZ58: 0 | BA58: 0 | BB58: 0 | BC58: 0 | BD58: 0 | BE58: 0 | BF58: 0 | BG58: 0 | BH58: 0 | BI58: 0 | BJ58: 0 | BK58: 0 | BL58: 0 | BM58: 0 | BN58: 0 | BO58: 0 | BP58: 0 | BQ58: 0 | BR58: 0 | BS58: 0 | BT58: 0 | BU58: 0 | BV58: 0 | BW58: 0 | BX58: 2.55 | BY58: 0 | BZ58: 0 | CA58: 0 | CB58: 138 | CC58: 3.4 | CD58: 0 | CE58: 0 | CF58: 0 | CG58: 203.48 | CH58: 0 | CI58: 0 | CJ58: 0 | CK58: 0 | CL58: 0 | CM58: 3.47 | CN58: 0 | CO58: 0 | CP58: 0 | CQ58: 0 | CR58: 0 | CS58: 48.94 | CT58: 0 | CU58: 0 | CV58: 0 | CW58: 0 | CX58: 0 | CY58: 0 | CZ58: 0 | DA58: 0 | DB58: 0 | DC58: 0 | DD58: 0 | DE58: 0 | DF58: 16.47 | DG58: 2.33 | DH58: 0 | DI58: 0 | DJ58: 0 | DK58: 0 | DL58: 43.82 | DM58: 3.79 | DN58: 0 | DO58: 0 | DP58: 1.89 | DQ58: 0 | DR58: 0 | DS58: 0 | DT58: 0 | DU58: 0 | DV58: 0 | DW58: 0 | DX58: 0 | DY58: 0 | DZ58: 0 | EA58: 2.66 | EB58: 0 | EC58: 0 | ED58: 0 | EE58: 1190.22 | EF58: 0 | EG58: 527.47 | EH58: 12.2 | EI58: 0 | EJ58: 10.37 | EK58: 5.61 | EL58: 9.82 | EM58: 0 | EN58: 3.11 | EO58: 0 | EP58: 173.21 | EQ58: 41.63 | ER58: 0 | ES58: 28.39 | ET58: 82.32 | EU58: 0 | EV58: 14.89 | EW58: 0 | EX58: 0 | EY58: 49.53 | EZ58: 0 | FA58: 65.28 | FB58: 31.46 | FC58: 0 | FD58: 0 | FE58: 0 | FF58: 0 | FG58: 74.42 | FH58: 0 | FI58: 0 | FJ58: 0 | FK58: 0 | FL58: 0 | FM58: 0 | FN58: 0 | FO58: 0 | FP58: 0 | FQ58: 0 | FR58: 388.28 | FS58: 39.19 | FT58: 0 | FU58: 89.58 | FV58: 14.4 | FW58: 0 | FX58: 0 | FY58: 0 | FZ58: 0 | GA58: 0 | GB58: 461.73 | GC58: 184.58 | GD58: 88.71 | GE58: 0 | GF58: 78.39 | GG58: 0 | GH58: 0 | GI58: 0 | GJ58: 0 | GK58: 0 | GL58: 0 | GM58: 877.72 | GN58: 0 | GO58: 0 | GP58: 3.22 | GQ58: 686.96 | GR58: 135.7 | GS58: 13.7 | GT58: 0 | GU58: 0 | GV58: 0 | GW58: 249.92 | GX58: 20.35 | GY58: 8.29 | GZ58: 0 | HA58: 0 | HB58: 0 | HC58: 190.41 | HD58: 0 | HE58: 0 | HF58: 120.15 | HG58: 0 | HH58: 0 | HI58: 42.53 | HJ58: 0 | HK58: 0 | HL58: 50.8 | HM58: 8.54 | HN58: 14.9 | HO58: 13.34 | HP58: 0 | HQ58: 0 | HR58: 0 | HS58: 0 | HT58: 0 | HU58: 0 | HV58: 0 | HW58: 0 | HX58: 0 | HY58: 0 | HZ58: 0 | IA58: 0 | IB58: 0 | IC58: =(H58/$D58)*1000000 -> 0 | ID58: =(I58/$D58)*1000000 -> 0 | IE58: =(J58/$D58)*1000000 -> 0 | IF58: =(K58/$D58)*1000000 -> 0 | IG58: =(L58/$D58)*1000000 -> 0 | IH58: =(M58/$D58)*1000000 -> 0 | II58: =(N58/$D58)*1000000 -> 0 | IJ58: =(O58/$D58)*1000000 -> 0.12264882 | ... QW58: =(IB58/$D58)*1000000 -> 0
B59: G6 | C59: 781 | D59: 27001856 | E59: 28484691 | F59: =100-(D59/E59)*100 -> 5.2057261 | G59: 3.6843664 | H59: 0 | I59: 0 | J59: 0 | K59: 1.84 | L59: 0 | M59: 0 | N59: 0 | O59: 0 | P59: 0 | Q59: 41.13 | R59: 0 | S59: 0 | T59: 25.19 | U59: 0 | V59: 3.16 | W59: 0 | X59: 0 | Y59: 0 | Z59: 0 | AA59: 0 | AB59: 0 | AC59: 0 | AD59: 15.12 | AE59: 18.13 | AF59: 823.87 | AG59: 17.45 | AH59: 0 | AI59: 0 | AJ59: 24.63 | AK59: 0 | AL59: 120.81 | AM59: 26.14 | AN59: 0 | AO59: 7.13 | AP59: 42.84 | AQ59: 0 | AR59: 50.31 | AS59: 675.65 | AT59: 0 | AU59: 2.82 | AV59: 5.91 | AW59: 0 | AX59: 0 | AY59: 0 | AZ59: 0 | BA59: 46.36 | BB59: 0 | BC59: 0 | BD59: 0 | BE59: 0 | BF59: 0 | BG59: 0 | BH59: 0 | BI59: 0 | BJ59: 0 | BK59: 0 | BL59: 0 | BM59: 0 | BN59: 0 | BO59: 0 | BP59: 0 | BQ59: 0 | BR59: 0 | BS59: 0 | BT59: 0 | BU59: 0 | BV59: 0 | BW59: 70.84 | BX59: 2.25 | BY59: 91.13 | BZ59: 0 | CA59: 0 | CB59: 3.96 | CC59: 0 | CD59: 0 | CE59: 3.82 | CF59: 0 | CG59: 0 | CH59: 0 | CI59: 0 | CJ59: 0 | CK59: 106.43 | CL59: 0 | CM59: 0 | CN59: 0 | CO59: 0 | CP59: 211.32 | CQ59: 0 | CR59: 0 | CS59: 0 | CT59: 0 | CU59: 0 | CV59: 0 | CW59: 0 | CX59: 0 | CY59: 0 | CZ59: 0 | DA59: 0 | DB59: 0 | DC59: 0 | DD59: 10.6 | DE59: 0 | DF59: 20.62 | DG59: 0 | DH59: 8.3 | DI59: 0 | DJ59: 0 | DK59: 0 | DL59: 0 | DM59: 0 | DN59: 0 | DO59: 0 | DP59: 21.75 | DQ59: 0 | DR59: 0 | DS59: 0 | DT59: 0 | DU59: 0 | DV59: 0 | DW59: 0 | DX59: 0 | DY59: 0 | DZ59: 0 | EA59: 0 | EB59: 0 | EC59: 0 | ED59: 0 | EE59: 2069.67 | EF59: 0 | EG59: 269.8 | EH59: 507.46 | EI59: 25.65 | EJ59: 0 | EK59: 0 | EL59: 0 | EM59: 0 | EN59: 167.18 | EO59: 0 | EP59: 419 | EQ59: 0 | ER59: 0 | ES59: 0 | ET59: 0 | EU59: 0 | EV59: 0 | EW59: 0 | EX59: 0 | EY59: 166.01 | EZ59: 0 | FA59: 31.14 | FB59: 0 | FC59: 4.06 | FD59: 0 | FE59: 0 | FF59: 0 | FG59: 27.97 | FH59: 0 | FI59: 0 | FJ59: 0 | FK59: 0 | FL59: 0 | FM59: 0 | FN59: 0 | FO59: 0 | FP59: 13.7 | FQ59: 0 | FR59: 443.22 | FS59: 56.81 | FT59: 0 | FU59: 93 | FV59: 0 | FW59: 6.57 | FX59: 0 | FY59: 0 | FZ59: 0 | GA59: 0 | GB59: 17.65 | GC59: 3.15 | GD59: 98.45 | GE59: 116.67 | GF59: 768.61 | GG59: 202.57 | GH59: 0 | GI59: 0 | GJ59: 0 | GK59: 0 | GL59: 0 | GM59: 814.89 | GN59: 0 | GO59: 0 | GP59: 0 | GQ59: 1339.05 | GR59: 38.64 | GS59: 30.29 | GT59: 0 | GU59: 0 | GV59: 0 | GW59: 2.31 | GX59: 0 | GY59: 0 | GZ59: 0 | HA59: 0 | HB59: 0 | HC59: 4.39 | HD59: 0 | HE59: 0 | HF59: 16.76 | HG59: 0 | HH59: 0 | HI59: 76.32 | HJ59: 0 | HK59: 0 | HL59: 31.26 | HM59: 39.75 | HN59: 0 | HO59: 0 | HP59: 0 | HQ59: 0 | HR59: 0 | HS59: 0 | HT59: 0 | HU59: 0 | HV59: 0 | HW59: 0 | HX59: 0 | HY59: 0 | HZ59: 0 | IA59: 0 | IB59: 0 | IC59: =(H59/$D59)*1000000 -> 0 | ID59: =(I59/$D59)*1000000 -> 0 | IE59: =(J59/$D59)*1000000 -> 0 | IF59: =(K59/$D59)*1000000 -> 0.068143464 | IG59: =(L59/$D59)*1000000 -> 0 | IH59: =(M59/$D59)*1000000 -> 0 | II59: =(N59/$D59)*1000000 -> 0 | IJ59: =(O59/$D59)*1000000 -> 0 | ... QW59: =(IB59/$D59)*1000000 -> 0
C60: 793 | D60: 21675325 | E60: 28070104 | F60: =100-(D60/E60)*100 -> 22.781458 | G60: 3.3830435 | H60: 0 | I60: 0 | J60: 0 | K60: 6.48 | L60: 0 | M60: 0 | N60: 0 | O60: 0 | P60: 4.89 | Q60: 65.06 | R60: 42.81 | S60: 0 | T60: 3.74 | U60: 0 | V60: 10.6 | W60: 0 | X60: 0 | Y60: 0 | Z60: 0 | AA60: 0 | AB60: 0 | AC60: 0 | AD60: 0 | AE60: 10.66 | AF60: 393.89 | AG60: 2.44 | AH60: 0 | AI60: 2.71 | AJ60: 37.79 | AK60: 0 | AL60: 13.81 | AM60: 19.08 | AN60: 0 | AO60: 5 | AP60: 11.66 | AQ60: 0 | AR60: 0 | AS60: 215.1 | AT60: 0 | AU60: 6.63 | AV60: 10.29 | AW60: 0 | AX60: 0 | AY60: 0 | AZ60: 0 | BA60: 18.76 | BB60: 0 | BC60: 0 | BD60: 0 | BE60: 0 | BF60: 0 | BG60: 0 | BH60: 0 | BI60: 0 | BJ60: 0 | BK60: 0 | BL60: 0 | BM60: 0 | BN60: 0 | BO60: 0 | BP60: 0 | BQ60: 0 | BR60: 0 | BS60: 0 | BT60: 0 | BU60: 0 | BV60: 0 | BW60: 0 | BX60: 2.35 | BY60: 0 | BZ60: 0 | CA60: 0 | CB60: 173.11 | CC60: 5.5 | CD60: 0 | CE60: 9.53 | CF60: 2.98 | CG60: 0 | CH60: 0 | CI60: 0 | CJ60: 0 | CK60: 0 | CL60: 0 | CM60: 0 | CN60: 0 | CO60: 33.73 | CP60: 0 | CQ60: 0 | CR60: 0 | CS60: 0 | CT60: 0 | CU60: 9.25 | CV60: 0 | CW60: 0 | CX60: 0 | CY60: 0 | CZ60: 0 | DA60: 3.61 | DB60: 0 | DC60: 0 | DD60: 4.91 | DE60: 0 | DF60: 0 | DG60: 0 | DH60: 0 | DI60: 0 | DJ60: 0 | DK60: 0 | DL60: 46.38 | DM60: 2.16 | DN60: 0 | DO60: 0 | DP60: 0 | DQ60: 0 | DR60: 0 | DS60: 0 | DT60: 0 | DU60: 0 | DV60: 0 | DW60: 0 | DX60: 0 | DY60: 0 | DZ60: 0 | EA60: 0 | EB60: 0 | EC60: 0 | ED60: 0 | EE60: 3226.74 | EF60: 1.58 | EG60: 411.14 | EH60: 187.73 | EI60: 0 | EJ60: 0 | EK60: 1.59 | EL60: 0 | EM60: 0 | EN60: 123.31 | EO60: 3.91 | EP60: 224.69 | EQ60: 0 | ER60: 0 | ES60: 4.31 | ET60: 0 | EU60: 0 | EV60: 0 | EW60: 6.68 | EX60: 0 | EY60: 81.12 | EZ60: 0 | FA60: 97.7 | FB60: 30.73 | FC60: 0 | FD60: 0 | FE60: 0 | FF60: 0 | FG60: 97.5 | FH60: 0 | FI60: 0 | FJ60: 0 | FK60: 7.83 | FL60: 0 | FM60: 0 | FN60: 0 | FO60: 0 | FP60: 6.63 | FQ60: 0 | FR60: 63.5 | FS60: 9.02 | FT60: 0 | FU60: 53.81 | FV60: 9.82 | FW60: 0 | FX60: 0 | FY60: 0 | FZ60: 0 | GA60: 0 | GB60: 99.71 | GC60: 71.13 | GD60: 76.89 | GE60: 0 | GF60: 691.06 | GG60: 0 | GH60: 61.14 | GI60: 0 | GJ60: 0 | GK60: 0 | GL60: 0 | GM60: 799.83 | GN60: 0 | GO60: 0 | GP60: 0 | GQ60: 557.5 | GR60: 32.05 | GS60: 299.72 | GT60: 0 | GU60: 0 | GV60: 0 | GW60: 0 | GX60: 4.71 | GY60: 0 | GZ60: 0 | HA60: 0 | HB60: 0 | HC60: 0 | HD60: 0 | HE60: 0 | HF60: 320.76 | HG60: 0 | HH60: 0 | HI60: 94.97 | HJ60: 0 | HK60: 0 | HL60: 13.98 | HM60: 9.27 | HN60: 7.04 | HO60: 0 | HP60: 0 | HQ60: 0 | HR60: 0 | HS60: 0 | HT60: 0 | HU60: 0 | HV60: 0 | HW60: 0 | HX60: 0 | HY60: 0 | HZ60: 0 | IA60: 0 | IB60: 0 | IC60: =(H60/$D60)*1000000 -> 0 | ID60: =(I60/$D60)*1000000 -> 0 | IE60: =(J60/$D60)*1000000 -> 0 | IF60: =(K60/$D60)*1000000 -> 0.29895746 | IG60: =(L60/$D60)*1000000 -> 0 | IH60: =(M60/$D60)*1000000 -> 0 | II60: =(N60/$D60)*1000000 -> 0 | IJ60: =(O60/$D60)*1000000 -> 0 | ... QW60: =(IB60/$D60)*1000000 -> 0
C61: 799 | D61: 12074862 | E61: 27538194 | F61: =100-(D61/E61)*100 -> 56.15231 | G61: 2.9728988 | H61: 0 | I61: 0 | J61: 0 | K61: 0 | L61: 0 | M61: 0 | N61: 0 | O61: 0 | P61: 0 | Q61: 78.36 | R61: 157.66 | S61: 0 | T61: 0 | U61: 0 | V61: 0 | W61: 0 | X61: 0 | Y61: 0 | Z61: 0 | AA61: 0 | AB61: 0 | AC61: 0 | AD61: 0 | AE61: 38.01 | AF61: 144.64 | AG61: 0 | AH61: 0 | AI61: 0 | AJ61: 46.93 | AK61: 0 | AL61: 1.95 | AM61: 2.7 | AN61: 0 | AO61: 185.82 | AP61: 0 | AQ61: 0 | AR61: 0 | AS61: 119.26 | AT61: 0 | AU61: 0 | AV61: 170.51 | AW61: 1.88 | AX61: 0 | AY61: 0 | AZ61: 0 | BA61: 0 | BB61: 0 | BC61: 0 | BD61: 0 | BE61: 0 | BF61: 0 | BG61: 0 | BH61: 0 | BI61: 0 | BJ61: 0 | BK61: 0 | BL61: 0 | BM61: 0 | BN61: 0 | BO61: 0 | BP61: 0 | BQ61: 0 | BR61: 0 | BS61: 0 | BT61: 0 | BU61: 0 | BV61: 0 | BW61: 0 | BX61: 0 | BY61: 0 | BZ61: 0 | CA61: 0 | CB61: 235.61 | CC61: 0 | CD61: 0 | CE61: 89.43 | CF61: 0 | CG61: 0 | CH61: 71.73 | CI61: 0 | CJ61: 0 | CK61: 0 | CL61: 0 | CM61: 6.1 | CN61: 0 | CO61: 0 | CP61: 0 | CQ61: 0 | CR61: 0 | CS61: 0 | CT61: 0 | CU61: 79.34 | CV61: 0 | CW61: 0 | CX61: 0 | CY61: 0 | CZ61: 0 | DA61: 0 | DB61: 0 | DC61: 0 | DD61: 0 | DE61: 0 | DF61: 4.46 | DG61: 0 | DH61: 0 | DI61: 0 | DJ61: 0 | DK61: 0 | DL61: 169.84 | DM61: 0 | DN61: 0 | DO61: 0 | DP61: 0 | DQ61: 0 | DR61: 0 | DS61: 0 | DT61: 0 | DU61: 0 | DV61: 0 | DW61: 0 | DX61: 0 | DY61: 0 | DZ61: 0 | EA61: 0 | EB61: 0 | EC61: 0 | ED61: 0 | EE61: 132.02 | EF61: 0 | EG61: 35.87 | EH61: 0 | EI61: 0 | EJ61: 0 | EK61: 14.71 | EL61: 0 | EM61: 0 | EN61: 0 | EO61: 0 | EP61: 77.12 | EQ61: 0 | ER61: 0 | ES61: 2.78 | ET61: 0 | EU61: 0 | EV61: 0 | EW61: 0 | EX61: 0 | EY61: 13.63 | EZ61: 0 | FA61: 193.67 | FB61: 44.28 | FC61: 140.22 | FD61: 0 | FE61: 0 | FF61: 0 | FG61: 193.61 | FH61: 0 | FI61: 0 | FJ61: 0 | FK61: 0 | FL61: 0 | FM61: 0 | FN61: 0 | FO61: 0 | FP61: 3.51 | FQ61: 0 | FR61: 112.69 | FS61: 0 | FT61: 0 | FU61: 203.4 | FV61: 0 | FW61: 0 | FX61: 0 | FY61: 0 | FZ61: 0 | GA61: 0 | GB61: 56.14 | GC61: 6.14 | GD61: 8.68 | GE61: 55.97 | GF61: 0 | GG61: 0 | GH61: 0 | GI61: 0 | GJ61: 0 | GK61: 0 | GL61: 0 | GM61: 850.94 | GN61: 0 | GO61: 0 | GP61: 0 | GQ61: 173.22 | GR61: 0 | GS61: 15.42 | GT61: 0 | GU61: 0 | GV61: 0 | GW61: 0 | GX61: 0 | GY61: 0 | GZ61: 0 | HA61: 0 | HB61: 0 | HC61: 17.78 | HD61: 0 | HE61: 0 | HF61: 0 | HG61: 0 | HH61: 0 | HI61: 1.71 | HJ61: 0 | HK61: 0 | HL61: 233.27 | HM61: 199.8 | HN61: 2.08 | HO61: 0 | HP61: 0 | HQ61: 0 | HR61: 0 | HS61: 0 | HT61: 0 | HU61: 0 | HV61: 0 | HW61: 0 | HX61: 0 | HY61: 0 | HZ61: 0 | IA61: 0 | IB61: 0 | IC61: =(H61/$D61)*1000000 -> 0 | ID61: =(I61/$D61)*1000000 -> 0 | IE61: =(J61/$D61)*1000000 -> 0 | IF61: =(K61/$D61)*1000000 -> 0 | IG61: =(L61/$D61)*1000000 -> 0 | IH61: =(M61/$D61)*1000000 -> 0 | II61: =(N61/$D61)*1000000 -> 0 | IJ61: =(O61/$D61)*1000000 -> 0 | ... QW61: =(IB61/$D61)*1000000 -> 0
C62: 805 | D62: 8152302 | E62: 26652921 | F62: =100-(D62/E62)*100 -> 69.413101 | G62: 3.6943771 | H62: 0 | I62: 0 | J62: 0 | K62: 0 | L62: 0 | M62: 0 | N62: 0 | O62: 0 | P62: 0 | Q62: 8.23 | R62: 0 | S62: 0 | T62: 0 | U62: 0 | V62: 1.08 | W62: 0 | X62: 0 | Y62: 0 | Z62: 0 | AA62: 0 | AB62: 0 | AC62: 0 | AD62: 0 | AE62: 17.49 | AF62: 306.67 | AG62: 2.93 | AH62: 0 | AI62: 0 | AJ62: 0 | AK62: 0 | AL62: 3.06 | AM62: 2.69 | AN62: 0 | AO62: 3.26 | AP62: 0 | AQ62: 0 | AR62: 0 | AS62: 182.36 | AT62: 0 | AU62: 0 | AV62: 0 | AW62: 0 | AX62: 0 | AY62: 0 | AZ62: 0 | BA62: 0 | BB62: 0 | BC62: 0 | BD62: 0 | BE62: 0 | BF62: 0 | BG62: 0 | BH62: 0 | BI62: 0 | BJ62: 0 | BK62: 0 | BL62: 0 | BM62: 0 | BN62: 0 | BO62: 0 | BP62: 0 | BQ62: 0 | BR62: 0 | BS62: 0 | BT62: 0 | BU62: 0 | BV62: 0 | BW62: 0 | BX62: 0 | BY62: 0 | BZ62: 0 | CA62: 0 | CB62: 8.17 | CC62: 0 | CD62: 0 | CE62: 0 | CF62: 0 | CG62: 0 | CH62: 0 | CI62: 0 | CJ62: 0 | CK62: 18.82 | CL62: 0 | CM62: 0 | CN62: 0 | CO62: 0 | CP62: 0 | CQ62: 0 | CR62: 0 | CS62: 0 | CT62: 0 | CU62: 0 | CV62: 0 | CW62: 0 | CX62: 0 | CY62: 0 | CZ62: 0 | DA62: 0 | DB62: 0 | DC62: 0 | DD62: 0 | DE62: 0 | DF62: 0 | DG62: 0 | DH62: 0 | DI62: 0 | DJ62: 0 | DK62: 0 | DL62: 0 | DM62: 1.81 | DN62: 0 | DO62: 0 | DP62: 81.9 | DQ62: 0 | DR62: 0 | DS62: 0 | DT62: 0 | DU62: 0 | DV62: 0 | DW62: 0 | DX62: 0 | DY62: 0 | DZ62: 0 | EA62: 0 | EB62: 0 | EC62: 0 | ED62: 0 | EE62: 111.78 | EF62: 0 | EG62: 229.53 | EH62: 42.28 | EI62: 131.98 | EJ62: 5.22 | EK62: 0 | EL62: 0 | EM62: 0 | EN62: 0 | EO62: 0 | EP62: 72.71 | EQ62: 0 | ER62: 0 | ES62: 0 | ET62: 0 | EU62: 0 | EV62: 0 | EW62: 0 | EX62: 0 | EY62: 36.2 | EZ62: 0 | FA62: 146.39 | FB62: 0 | FC62: 96.63 | FD62: 0 | FE62: 0 | FF62: 0 | FG62: 138.58 | FH62: 0 | FI62: 0 | FJ62: 0 | FK62: 4.87 | FL62: 0 | FM62: 0 | FN62: 0 | FO62: 0 | FP62: 0 | FQ62: 0 | FR62: 77.5 | FS62: 0 | FT62: 0 | FU62: 163.99 | FV62: 3.86 | FW62: 2.14 | FX62: 0 | FY62: 0 | FZ62: 0 | GA62: 0 | GB62: 8.34 | GC62: 18.7 | GD62: 153.41 | GE62: 0 | GF62: 0 | GG62: 0 | GH62: 0 | GI62: 0 | GJ62: 0 | GK62: 0 | GL62: 0 | GM62: 399.09 | GN62: 0 | GO62: 0 | GP62: 0 | GQ62: 213.72 | GR62: 0 | GS62: 150.2 | GT62: 0 | GU62: 0 | GV62: 0 | GW62: 0 | GX62: 5.55 | GY62: 6.42 | GZ62: 13.05 | HA62: 0 | HB62: 0 | HC62: 9.26 | HD62: 0 | HE62: 0 | HF62: 45.44 | HG62: 0 | HH62: 0 | HI62: 3.17 | HJ62: 0 | HK62: 0 | HL62: 1.63 | HM62: 180.17 | HN62: 2.72 | HO62: 0 | HP62: 0 | HQ62: 0 | HR62: 0 | HS62: 0 | HT62: 0 | HU62: 0 | HV62: 0 | HW62: 0 | HX62: 0 | HY62: 0 | HZ62: 0 | IA62: 0 | IB62: 2.55 | IC62: =(H62/$D62)*1000000 -> 0 | ID62: =(I62/$D62)*1000000 -> 0 | IE62: =(J62/$D62)*1000000 -> 0 | IF62: =(K62/$D62)*1000000 -> 0 | IG62: =(L62/$D62)*1000000 -> 0 | IH62: =(M62/$D62)*1000000 -> 0 | II62: =(N62/$D62)*1000000 -> 0 | IJ62: =(O62/$D62)*1000000 -> 0 | ... QW62: =(IB62/$D62)*1000000 -> 0.31279509
C63: 812 | D63: 26949269 | E63: 27902579 | F63: =100-(D63/E63)*100 -> 3.4165659 | G63: 3.9786331 | H63: 0 | I63: 3.27 | J63: 0 | K63: 0 | L63: 0 | M63: 0 | N63: 0 | O63: 0 | P63: 0 | Q63: 29.59 | R63: 62.7 | S63: 0 | T63: 1.35 | U63: 0 | V63: 0 | W63: 0 | X63: 0 | Y63: 0 | Z63: 0 | AA63: 0 | AB63: 0 | AC63: 0 | AD63: 2.13 | AE63: 8.24 | AF63: 565.58 | AG63: 349.13 | AH63: 0 | AI63: 0 | AJ63: 22.26 | AK63: 54.32 | AL63: 75 | AM63: 12.48 | AN63: 0 | AO63: 3.29 | AP63: 5.45 | AQ63: 0 | AR63: 0 | AS63: 515.34 | AT63: 0 | AU63: 0 | AV63: 3.56 | AW63: 2.46 | AX63: 0 | AY63: 0 | AZ63: 0 | BA63: 9.07 | BB63: 0 | BC63: 0 | BD63: 0 | BE63: 0 | BF63: 0 | BG63: 0 | BH63: 0 | BI63: 0 | BJ63: 0 | BK63: 0 | BL63: 0 | BM63: 0 | BN63: 0 | BO63: 0 | BP63: 0 | BQ63: 0 | BR63: 0 | BS63: 0 | BT63: 0 | BU63: 0 | BV63: 0 | BW63: 0 | BX63: 0 | BY63: 0 | BZ63: 0 | CA63: 0 | CB63: 252.5 | CC63: 0 | CD63: 3.49 | CE63: 20.3 | CF63: 0 | CG63: 0 | CH63: 0 | CI63: 0 | CJ63: 0 | CK63: 0 | CL63: 0 | CM63: 17.13 | CN63: 0 | CO63: 0 | CP63: 0 | CQ63: 0 | CR63: 0 | CS63: 0 | CT63: 0 | CU63: 0 | CV63: 0 | CW63: 0 | CX63: 0 | CY63: 0 | CZ63: 0 | DA63: 0 | DB63: 0 | DC63: 0 | DD63: 2.94 | DE63: 0 | DF63: 0 | DG63: 0 | DH63: 0 | DI63: 0 | DJ63: 0 | DK63: 0 | DL63: 57.35 | DM63: 0 | DN63: 0 | DO63: 3.28 | DP63: 0 | DQ63: 0 | DR63: 0 | DS63: 0 | DT63: 0 | DU63: 0 | DV63: 0 | DW63: 0 | DX63: 0 | DY63: 0 | DZ63: 0 | EA63: 0 | EB63: 0 | EC63: 0 | ED63: 0 | EE63: 1072.66 | EF63: 0 | EG63: 1070.31 | EH63: 214.27 | EI63: 0 | EJ63: 4.81 | EK63: 3.89 | EL63: 0 | EM63: 0 | EN63: 0 | EO63: 0 | EP63: 325.83 | EQ63: 1.14 | ER63: 0 | ES63: 2.71 | ET63: 0 | EU63: 0 | EV63: 0 | EW63: 0 | EX63: 0 | EY63: 42.68 | EZ63: 0 | FA63: 176.96 | FB63: 75.12 | FC63: 0 | FD63: 0 | FE63: 0 | FF63: 0 | FG63: 183.53 | FH63: 0 | FI63: 0 | FJ63: 0 | FK63: 0 | FL63: 0 | FM63: 0 | FN63: 0 | FO63: 0 | FP63: 0 | FQ63: 0 | FR63: 408.54 | FS63: 488.06 | FT63: 0 | FU63: 88.92 | FV63: 2.4 | FW63: 7.46 | FX63: 0 | FY63: 0 | FZ63: 0 | GA63: 0 | GB63: 84.92 | GC63: 44.86 | GD63: 82.75 | GE63: 161.8 | GF63: 267.5 | GG63: 0 | GH63: 0 | GI63: 0 | GJ63: 0 | GK63: 0 | GL63: 0 | GM63: 1035.33 | GN63: 0 | GO63: 0 | GP63: 0 | GQ63: 668.88 | GR63: 36.98 | GS63: 33.25 | GT63: 0 | GU63: 0 | GV63: 0 | GW63: 0 | GX63: 5.97 | GY63: 5.8 | GZ63: 0 | HA63: 0 | HB63: 0 | HC63: 0 | HD63: 0 | HE63: 0 | HF63: 67.08 | HG63: 0 | HH63: 0 | HI63: 123.42 | HJ63: 0 | HK63: 0 | HL63: 13.96 | HM63: 38.01 | HN63: 12.44 | HO63: 0 | HP63: 0 | HQ63: 0 | HR63: 0 | HS63: 0 | HT63: 0 | HU63: 0 | HV63: 0 | HW63: 0 | HX63: 0 | HY63: 0 | HZ63: 0 | IA63: 0 | IB63: 0 | IC63: =(H63/$D63)*1000000 -> 0 | ID63: =(I63/$D63)*1000000 -> 0.1213391 | IE63: =(J63/$D63)*1000000 -> 0 | IF63: =(K63/$D63)*1000000 -> 0 | IG63: =(L63/$D63)*1000000 -> 0 | IH63: =(M63/$D63)*1000000 -> 0 | II63: =(N63/$D63)*1000000 -> 0 | IJ63: =(O63/$D63)*1000000 -> 0 | ... QW63: =(IB63/$D63)*1000000 -> 0
C64: 830 | D64: 24985509 | E64: 29379471 | F64: =100-(D64/E64)*100 -> 14.955892 | G64: 3.8099293 | H64: 0 | I64: 0 | J64: 0 | K64: 0 | L64: 0 | M64: 0 | N64: 0 | O64: 0 | P64: 0 | Q64: 250.42 | R64: 0 | S64: 0 | T64: 0 | U64: 0 | V64: 4.33 | W64: 0 | X64: 0 | Y64: 0 | Z64: 9.67 | AA64: 0 | AB64: 0 | AC64: 0 | AD64: 0 | AE64: 30.33 | AF64: 903.33 | AG64: 69.56 | AH64: 0 | AI64: 11.05 | AJ64: 233.59 | AK64: 0 | AL64: 47.49 | AM64: 12.28 | AN64: 0 | AO64: 23.47 | AP64: 0 | AQ64: 0 | AR64: 0 | AS64: 835.72 | AT64: 0 | AU64: 0 | AV64: 22.91 | AW64: 3.49 | AX64: 0 | AY64: 0 | AZ64: 0 | BA64: 10.71 | BB64: 0 | BC64: 0 | BD64: 0 | BE64: 0 | BF64: 0 | BG64: 0 | BH64: 0 | BI64: 0 | BJ64: 0 | BK64: 0 | BL64: 0 | BM64: 0 | BN64: 15.27 | BO64: 0 | BP64: 0 | BQ64: 0 | BR64: 0 | BS64: 0 | BT64: 0 | BU64: 0 | BV64: 0 | BW64: 0 | BX64: 0 | BY64: 0 | BZ64: 0 | CA64: 16.74 | CB64: 130.97 | CC64: 0 | CD64: 0 | CE64: 0 | CF64: 0 | CG64: 0 | CH64: 50.33 | CI64: 0 | CJ64: 0 | CK64: 62.48 | CL64: 0 | CM64: 0 | CN64: 0 | CO64: 0 | CP64: 5.25 | CQ64: 0 | CR64: 0 | CS64: 0 | CT64: 0 | CU64: 3.3 | CV64: 0 | CW64: 0 | CX64: 0 | CY64: 0 | CZ64: 0 | DA64: 0 | DB64: 0 | DC64: 0 | DD64: 10.91 | DE64: 0 | DF64: 0 | DG64: 3.57 | DH64: 6.02 | DI64: 0 | DJ64: 0 | DK64: 6 | DL64: 17.67 | DM64: 0 | DN64: 0 | DO64: 0 | DP64: 22.13 | DQ64: 0 | DR64: 0 | DS64: 0 | DT64: 0 | DU64: 0 | DV64: 0 | DW64: 0 | DX64: 0 | DY64: 0 | DZ64: 0 | EA64: 0 | EB64: 0 | EC64: 0 | ED64: 0 | EE64: 1014.6 | EF64: 0 | EG64: 173.77 | EH64: 264.02 | EI64: 14.57 | EJ64: 21.54 | EK64: 22.57 | EL64: 0 | EM64: 0 | EN64: 2.39 | EO64: 0 | EP64: 449.82 | EQ64: 2.55 | ER64: 0 | ES64: 56.56 | ET64: 0 | EU64: 0 | EV64: 0 | EW64: 0 | EX64: 0 | EY64: 60.68 | EZ64: 0 | FA64: 83.57 | FB64: 41.25 | FC64: 0 | FD64: 0 | FE64: 0 | FF64: 0 | FG64: 89.04 | FH64: 0 | FI64: 0 | FJ64: 0 | FK64: 0 | FL64: 0 | FM64: 0 | FN64: 0 | FO64: 0 | FP64: 0 | FQ64: 0 | FR64: 305.42 | FS64: 81.37 | FT64: 0 | FU64: 82.74 | FV64: 9.05 | FW64: 0 | FX64: 0 | FY64: 0 | FZ64: 0 | GA64: 0 | GB64: 0 | GC64: 0 | GD64: 58.63 | GE64: 212.97 | GF64: 225.14 | GG64: 97.87 | GH64: 0 | GI64: 0 | GJ64: 0 | GK64: 0 | GL64: 0 | GM64: 401.07 | GN64: 0 | GO64: 0 | GP64: 0 | GQ64: 1057.22 | GR64: 158.15 | GS64: 11.34 | GT64: 0 | GU64: 0 | GV64: 0 | GW64: 1.66 | GX64: 68.44 | GY64: 28.74 | GZ64: 0 | HA64: 0 | HB64: 0 | HC64: 0 | HD64: 0 | HE64: 0 | HF64: 85.4 | HG64: 0 | HH64: 0 | HI64: 47.59 | HJ64: 0 | HK64: 0 | HL64: 6.96 | HM64: 46.82 | HN64: 4.14 | HO64: 0 | HP64: 0 | HQ64: 0 | HR64: 0 | HS64: 0 | HT64: 0 | HU64: 0 | HV64: 0 | HW64: 0 | HX64: 0 | HY64: 0 | HZ64: 0 | IA64: 0 | IB64: 0 | IC64: =(H64/$D64)*1000000 -> 0 | ID64: =(I64/$D64)*1000000 -> 0 | IE64: =(J64/$D64)*1000000 -> 0 | IF64: =(K64/$D64)*1000000 -> 0 | IG64: =(L64/$D64)*1000000 -> 0 | IH64: =(M64/$D64)*1000000 -> 0 | II64: =(N64/$D64)*1000000 -> 0 | IJ64: =(O64/$D64)*1000000 -> 0 | ... QW64: =(IB64/$D64)*1000000 -> 0
C65: 836 | D65: 24183202 | E65: 28616136 | F65: =100-(D65/E65)*100 -> 15.491029 | G65: 3.8015938 | H65: 0 | I65: 0 | J65: 0 | K65: 0 | L65: 0 | M65: 0 | N65: 0 | O65: 0 | P65: 0 | Q65: 20.4 | R65: 0 | S65: 0 | T65: 15.31 | U65: 0 | V65: 9.22 | W65: 0 | X65: 0 | Y65: 0 | Z65: 0 | AA65: 0 | AB65: 0 | AC65: 0 | AD65: 0 | AE65: 20.14 | AF65: 722.41 | AG65: 17.63 | AH65: 0 | AI65: 0 | AJ65: 12.19 | AK65: 0 | AL65: 33.23 | AM65: 3.36 | AN65: 0 | AO65: 86.03 | AP65: 3.77 | AQ65: 78.9 | AR65: 0 | AS65: 1362.43 | AT65: 0 | AU65: 0 | AV65: 47.76 | AW65: 7.71 | AX65: 2.22 | AY65: 0 | AZ65: 0 | BA65: 23.18 | BB65: 0 | BC65: 0 | BD65: 0 | BE65: 0 | BF65: 0 | BG65: 0 | BH65: 0 | BI65: 0 | BJ65: 0 | BK65: 0 | BL65: 0 | BM65: 0 | BN65: 0 | BO65: 0 | BP65: 0 | BQ65: 0 | BR65: 0 | BS65: 1.77 | BT65: 0 | BU65: 0 | BV65: 0 | BW65: 0 | BX65: 3.55 | BY65: 0 | BZ65: 0 | CA65: 0 | CB65: 19.67 | CC65: 0 | CD65: 0 | CE65: 0 | CF65: 0 | CG65: 0 | CH65: 8.2 | CI65: 0 | CJ65: 12 | CK65: 101.4 | CL65: 0 | CM65: 0 | CN65: 0 | CO65: 0 | CP65: 2.66 | CQ65: 0 | CR65: 0 | CS65: 0 | CT65: 0 | CU65: 0 | CV65: 0 | CW65: 0 | CX65: 0 | CY65: 0 | CZ65: 0 | DA65: 0 | DB65: 0 | DC65: 0 | DD65: 0 | DE65: 0 | DF65: 28.02 | DG65: 1.54 | DH65: 0 | DI65: 0 | DJ65: 0 | DK65: 2.54 | DL65: 3.99 | DM65: 1.76 | DN65: 0 | DO65: 0 | DP65: 36.64 | DQ65: 0 | DR65: 2.01 | DS65: 0 | DT65: 0 | DU65: 0 | DV65: 0 | DW65: 0 | DX65: 0 | DY65: 0 | DZ65: 0 | EA65: 0 | EB65: 0 | EC65: 0 | ED65: 0 | EE65: 698.99 | EF65: 0 | EG65: 407.73 | EH65: 328.8 | EI65: 46.2 | EJ65: 10.05 | EK65: 17.49 | EL65: 0 | EM65: 0 | EN65: 4.55 | EO65: 0 | EP65: 423.99 | EQ65: 1.91 | ER65: 0 | ES65: 13.78 | ET65: 0 | EU65: 0 | EV65: 0 | EW65: 0 | EX65: 0 | EY65: 318.1 | EZ65: 0 | FA65: 66.35 | FB65: 0 | FC65: 1.76 | FD65: 0 | FE65: 0 | FF65: 0 | FG65: 65.28 | FH65: 0 | FI65: 0 | FJ65: 0 | FK65: 0 | FL65: 0 | FM65: 0 | FN65: 0 | FO65: 0 | FP65: 8.79 | FQ65: 0 | FR65: 290.38 | FS65: 35.28 | FT65: 0 | FU65: 72.64 | FV65: 5.57 | FW65: 0 | FX65: 0 | FY65: 0 | FZ65: 0 | GA65: 0 | GB65: 0 | GC65: 0 | GD65: 87.11 | GE65: 121.21 | GF65: 108.5 | GG65: 215.39 | GH65: 0 | GI65: 0 | GJ65: 0 | GK65: 0 | GL65: 0 | GM65: 1058.8 | GN65: 0 | GO65: 0 | GP65: 0 | GQ65: 1055.2 | GR65: 93.31 | GS65: 304.89 | GT65: 0 | GU65: 0 | GV65: 0 | GW65: 0 | GX65: 20.64 | GY65: 11.03 | GZ65: 0 | HA65: 0 | HB65: 0 | HC65: 0 | HD65: 0 | HE65: 0 | HF65: 201.06 | HG65: 0 | HH65: 0 | HI65: 4.81 | HJ65: 0 | HK65: 0 | HL65: 21.71 | HM65: 187.92 | HN65: 5.22 | HO65: 0 | HP65: 0 | HQ65: 0 | HR65: 4.21 | HS65: 0 | HT65: 0 | HU65: 0 | HV65: 0 | HW65: 0 | HX65: 0 | HY65: 0 | HZ65: 0 | IA65: 0 | IB65: 0 | IC65: =(H65/$D65)*1000000 -> 0 | ID65: =(I65/$D65)*1000000 -> 0 | IE65: =(J65/$D65)*1000000 -> 0 | IF65: =(K65/$D65)*1000000 -> 0 | IG65: =(L65/$D65)*1000000 -> 0 | IH65: =(M65/$D65)*1000000 -> 0 | II65: =(N65/$D65)*1000000 -> 0 | IJ65: =(O65/$D65)*1000000 -> 0 | ... QW65: =(IB65/$D65)*1000000 -> 0
C66: 860 | D66: 29812814 | E66: 30219408 | F66: =100-(D66/E66)*100 -> 1.3454731 | G66: 3.4210723 | H66: 0 | I66: 0 | J66: 0 | K66: 0 | L66: 0 | M66: 0 | N66: 0 | O66: 0 | P66: 0 | Q66: 67.26 | R66: 0 | S66: 0 | T66: 0 | U66: 0 | V66: 0 | W66: 0 | X66: 0 | Y66: 0 | Z66: 0 | AA66: 0 | AB66: 0 | AC66: 0 | AD66: 0 | AE66: 4.05 | AF66: 820.94 | AG66: 42.13 | AH66: 0 | AI66: 0 | AJ66: 58.03 | AK66: 0 | AL66: 23.15 | AM66: 6.78 | AN66: 0 | AO66: 87.92 | AP66: 0 | AQ66: 0 | AR66: 0 | AS66: 1280.86 | AT66: 0 | AU66: 0 | AV66: 86.2 | AW66: 0 | AX66: 0 | AY66: 0 | AZ66: 0 | BA66: 15.73 | BB66: 0 | BC66: 0 | BD66: 0 | BE66: 0 | BF66: 0 | BG66: 0 | BH66: 0 | BI66: 0 | BJ66: 0 | BK66: 0 | BL66: 0 | BM66: 0 | BN66: 19.17 | BO66: 0 | BP66: 0 | BQ66: 0 | BR66: 0 | BS66: 0 | BT66: 0 | BU66: 0 | BV66: 0 | BW66: 0 | BX66: 0 | BY66: 0 | BZ66: 0 | CA66: 0 | CB66: 4.76 | CC66: 0 | CD66: 0 | CE66: 0 | CF66: 0 | CG66: 0 | CH66: 0 | CI66: 0 | CJ66: 0 | CK66: 17.67 | CL66: 0 | CM66: 0 | CN66: 0 | CO66: 0 | CP66: 0 | CQ66: 0 | CR66: 0 | CS66: 0 | CT66: 0 | CU66: 0 | CV66: 0 | CW66: 0 | CX66: 0 | CY66: 0 | CZ66: 0 | DA66: 0 | DB66: 0 | DC66: 0 | DD66: 0 | DE66: 0 | DF66: 11.24 | DG66: 0 | DH66: 0 | DI66: 0 | DJ66: 0 | DK66: 0 | DL66: 0 | DM66: 0 | DN66: 0 | DO66: 0 | DP66: 0 | DQ66: 0 | DR66: 0 | DS66: 0 | DT66: 0 | DU66: 0 | DV66: 0 | DW66: 0 | DX66: 0 | DY66: 4.18 | DZ66: 0 | EA66: 0 | EB66: 0 | EC66: 0 | ED66: 0 | EE66: 332.96 | EF66: 0 | EG66: 479 | EH66: 218.51 | EI66: 34.77 | EJ66: 8.49 | EK66: 17.53 | EL66: 0 | EM66: 0 | EN66: 0 | EO66: 0 | EP66: 1578.16 | EQ66: 0 | ER66: 0 | ES66: 25.24 | ET66: 0 | EU66: 0 | EV66: 0 | EW66: 0 | EX66: 0 | EY66: 172.08 | EZ66: 0 | FA66: 18 | FB66: 0 | FC66: 0 | FD66: 0 | FE66: 0 | FF66: 0 | FG66: 24.12 | FH66: 0 | FI66: 0 | FJ66: 0 | FK66: 0 | FL66: 0 | FM66: 0 | FN66: 0 | FO66: 0 | FP66: 0 | FQ66: 0 | FR66: 125.6 | FS66: 102.21 | FT66: 0 | FU66: 26.53 | FV66: 0 | FW66: 0 | FX66: 0 | FY66: 0 | FZ66: 0 | GA66: 0 | GB66: 0 | GC66: 2.98 | GD66: 5.72 | GE66: 38.6 | GF66: 0 | GG66: 0 | GH66: 27.77 | GI66: 0 | GJ66: 0 | GK66: 0 | GL66: 0 | GM66: 1262.88 | GN66: 0 | GO66: 0 | GP66: 0 | GQ66: 1330.85 | GR66: 0 | GS66: 304.27 | GT66: 0 | GU66: 0 | GV66: 0 | GW66: 0 | GX66: 21.5 | GY66: 7.73 | GZ66: 0 | HA66: 0 | HB66: 0 | HC66: 0.84 | HD66: 0 | HE66: 0 | HF66: 2.66 | HG66: 0 | HH66: 0 | HI66: 0 | HJ66: 0 | HK66: 0 | HL66: 0 | HM66: 142.13 | HN66: 2.79 | HO66: 0 | HP66: 0 | HQ66: 0 | HR66: 0 | HS66: 0 | HT66: 0 | HU66: 0 | HV66: 0 | HW66: 0 | HX66: 0 | HY66: 0 | HZ66: 0 | IA66: 0 | IB66: 0 | IC66: =(H66/$D66)*1000000 -> 0 | ID66: =(I66/$D66)*1000000 -> 0 | IE66: =(J66/$D66)*1000000 -> 0 | IF66: =(K66/$D66)*1000000 -> 0 | IG66: =(L66/$D66)*1000000 -> 0 | IH66: =(M66/$D66)*1000000 -> 0 | II66: =(N66/$D66)*1000000 -> 0 | IJ66: =(O66/$D66)*1000000 -> 0 | ... QW66: =(IB66/$D66)*1000000 -> 0
C67: 866 | D67: 24291177 | E67: 28255132 | F67: =100-(D67/E67)*100 -> 14.029151 | G67: 3.7396235 | H67: 0 | I67: 0 | J67: 0 | K67: 0 | L67: 0 | M67: 0 | N67: 0 | O67: 0 | P67: 0 | Q67: 74.89 | R67: 6.2 | S67: 0 | T67: 70.24 | U67: 0 | V67: 0 | W67: 0 | X67: 0 | Y67: 0 | Z67: 0 | AA67: 0 | AB67: 0 | AC67: 0 | AD67: 0 | AE67: 66.33 | AF67: 767.9 | AG67: 111.08 | AH67: 0 | AI67: 0 | AJ67: 75.92 | AK67: 0 | AL67: 28.24 | AM67: 18.19 | AN67: 0 | AO67: 39.89 | AP67: 0 | AQ67: 0 | AR67: 0 | AS67: 705.95 | AT67: 0 | AU67: 0 | AV67: 44.02 | AW67: 14.87 | AX67: 0 | AY67: 0 | AZ67: 0 | BA67: 8.95 | BB67: 0 | BC67: 0 | BD67: 0 | BE67: 0 | BF67: 0 | BG67: 0 | BH67: 0 | BI67: 0 | BJ67: 0 | BK67: 0 | BL67: 0 | BM67: 0 | BN67: 0 | BO67: 0 | BP67: 0 | BQ67: 0 | BR67: 0 | BS67: 0 | BT67: 0 | BU67: 0 | BV67: 0 | BW67: 0 | BX67: 1.98 | BY67: 0 | BZ67: 0 | CA67: 0 | CB67: 104.85 | CC67: 0 | CD67: 0 | CE67: 0 | CF67: 0 | CG67: 0 | CH67: 0 | CI67: 0 | CJ67: 0 | CK67: 0 | CL67: 0 | CM67: 19.5 | CN67: 0 | CO67: 0 | CP67: 0 | CQ67: 4.56 | CR67: 0 | CS67: 0 | CT67: 0 | CU67: 2.38 | CV67: 7.69 | CW67: 0 | CX67: 0 | CY67: 0 | CZ67: 0 | DA67: 0 | DB67: 0 | DC67: 0 | DD67: 14.85 | DE67: 0 | DF67: 19.57 | DG67: 0 | DH67: 2.95 | DI67: 0 | DJ67: 0 | DK67: 0 | DL67: 2.18 | DM67: 0 | DN67: 20.42 | DO67: 0 | DP67: 109.72 | DQ67: 0 | DR67: 0 | DS67: 0 | DT67: 0 | DU67: 0 | DV67: 0 | DW67: 0 | DX67: 0 | DY67: 0 | DZ67: 0 | EA67: 0 | EB67: 0 | EC67: 0 | ED67: 0 | EE67: 1118.87 | EF67: 0 | EG67: 185.2 | EH67: 111.65 | EI67: 136.23 | EJ67: 15.65 | EK67: 11.32 | EL67: 0 | EM67: 0 | EN67: 1.92 | EO67: 0 | EP67: 398.71 | EQ67: 0 | ER67: 0 | ES67: 14.88 | ET67: 0 | EU67: 0 | EV67: 0 | EW67: 0 | EX67: 0 | EY67: 92.38 | EZ67: 0 | FA67: 189.69 | FB67: 23.04 | FC67: 0 | FD67: 0 | FE67: 0 | FF67: 0 | FG67: 190.19 | FH67: 0 | FI67: 0 | FJ67: 0 | FK67: 0 | FL67: 0 | FM67: 0 | FN67: 0 | FO67: 0 | FP67: 0 | FQ67: 0 | FR67: 302.33 | FS67: 153.91 | FT67: 0 | FU67: 239.31 | FV67: 5.34 | FW67: 240.32 | FX67: 0 | FY67: 0 | FZ67: 0 | GA67: 0 | GB67: 2.55 | GC67: 52.76 | GD67: 25.98 | GE67: 58.8 | GF67: 559.33 | GG67: 228.17 | GH67: 0 | GI67: 0 | GJ67: 0 | GK67: 0 | GL67: 0 | GM67: 2138.12 | GN67: 0 | GO67: 0 | GP67: 0 | GQ67: 824.87 | GR67: 19.53 | GS67: 73.66 | GT67: 0 | GU67: 0 | GV67: 0 | GW67: 0 | GX67: 35.47 | GY67: 23.87 | GZ67: 0 | HA67: 0 | HB67: 0 | HC67: 0 | HD67: 0 | HE67: 0 | HF67: 527.92 | HG67: 0 | HH67: 0 | HI67: 1.02 | HJ67: 0 | HK67: 0 | HL67: 275.76 | HM67: 254.68 | HN67: 49.13 | HO67: 0 | HP67: 0 | HQ67: 0 | HR67: 4.41 | HS67: 0 | HT67: 0 | HU67: 0 | HV67: 0 | HW67: 0 | HX67: 0 | HY67: 0 | HZ67: 0 | IA67: 0 | IB67: 0 | IC67: =(H67/$D67)*1000000 -> 0 | ID67: =(I67/$D67)*1000000 -> 0 | IE67: =(J67/$D67)*1000000 -> 0 | IF67: =(K67/$D67)*1000000 -> 0 | IG67: =(L67/$D67)*1000000 -> 0 | IH67: =(M67/$D67)*1000000 -> 0 | II67: =(N67/$D67)*1000000 -> 0 | IJ67: =(O67/$D67)*1000000 -> 0 | ... QW67: =(IB67/$D67)*1000000 -> 0
C68: 887 | D68: 27036942 | E68: 29854905 | F68: =100-(D68/E68)*100 -> 9.4388611 | G68: 3.7789054 | H68: 4.48 | I68: 0 | J68: 0 | K68: 0 | L68: 0 | M68: 0 | N68: 0 | O68: 0 | P68: 0 | Q68: 77.9 | R68: 0 | S68: 0 | T68: 0 | U68: 0 | V68: 0 | W68: 0 | X68: 0 | Y68: 0 | Z68: 0 | AA68: 0 | AB68: 0 | AC68: 0 | AD68: 0 | AE68: 10.15 | AF68: 787.71 | AG68: 20.1 | AH68: 0 | AI68: 0 | AJ68: 43.27 | AK68: 0 | AL68: 33.48 | AM68: 0 | AN68: 0 | AO68: 19.97 | AP68: 2.67 | AQ68: 0 | AR68: 0 | AS68: 783.08 | AT68: 0 | AU68: 0 | AV68: 22.97 | AW68: 4.67 | AX68: 0 | AY68: 0 | AZ68: 0 | BA68: 0 | BB68: 0 | BC68: 0 | BD68: 0 | BE68: 0 | BF68: 0 | BG68: 0 | BH68: 0 | BI68: 0 | BJ68: 0 | BK68: 0 | BL68: 0 | BM68: 0 | BN68: 0 | BO68: 0 | BP68: 0 | BQ68: 0 | BR68: 0 | BS68: 0 | BT68: 0 | BU68: 0 | BV68: 0 | BW68: 0 | BX68: 4.24 | BY68: 0 | BZ68: 0 | CA68: 0 | CB68: 21.01 | CC68: 0 | CD68: 0 | CE68: 0 | CF68: 0 | CG68: 0 | CH68: 11.31 | CI68: 0 | CJ68: 0 | CK68: 0 | CL68: 0 | CM68: 0 | CN68: 0 | CO68: 48 | CP68: 0 | CQ68: 0 | CR68: 0 | CS68: 0 | CT68: 0 | CU68: 0 | CV68: 0 | CW68: 0 | CX68: 0 | CY68: 0 | CZ68: 0 | DA68: 0 | DB68: 0 | DC68: 0 | DD68: 0 | DE68: 0 | DF68: 31.63 | DG68: 3.15 | DH68: 0 | DI68: 0 | DJ68: 0 | DK68: 0 | DL68: 4.31 | DM68: 0 | DN68: 0 | DO68: 0 | DP68: 16.66 | DQ68: 0 | DR68: 0 | DS68: 0 | DT68: 0 | DU68: 0 | DV68: 0 | DW68: 0 | DX68: 0 | DY68: 0 | DZ68: 0 | EA68: 0 | EB68: 0 | EC68: 0 | ED68: 0 | EE68: 152.08 | EF68: 0 | EG68: 327.92 | EH68: 119.77 | EI68: 22.15 | EJ68: 10.76 | EK68: 3.33 | EL68: 0 | EM68: 0 | EN68: 3.1 | EO68: 0 | EP68: 1184.8 | EQ68: 0 | ER68: 0 | ES68: 0 | ET68: 0 | EU68: 0 | EV68: 0 | EW68: 0 | EX68: 0 | EY68: 215.28 | EZ68: 0 | FA68: 49.34 | FB68: 5.59 | FC68: 24.37 | FD68: 0 | FE68: 0 | FF68: 0 | FG68: 47.44 | FH68: 0 | FI68: 0 | FJ68: 0 | FK68: 2.25 | FL68: 0 | FM68: 0 | FN68: 0 | FO68: 0 | FP68: 0 | FQ68: 0 | FR68: 154.51 | FS68: 113.46 | FT68: 0 | FU68: 86.72 | FV68: 4.19 | FW68: 21.08 | FX68: 0 | FY68: 2.9 | FZ68: 0 | GA68: 0 | GB68: 2.23 | GC68: 2.07 | GD68: 4.88 | GE68: 29.38 | GF68: 156.96 | GG68: 234.75 | GH68: 0 | GI68: 0 | GJ68: 0 | GK68: 0 | GL68: 0 | GM68: 3233.15 | GN68: 0 | GO68: 0 | GP68: 0 | GQ68: 1547.15 | GR68: 168.43 | GS68: 249.33 | GT68: 0 | GU68: 0 | GV68: 0 | GW68: 0 | GX68: 0 | GY68: 11.64 | GZ68: 0 | HA68: 0 | HB68: 0 | HC68: 8.69 | HD68: 0 | HE68: 0 | HF68: 8.09 | HG68: 0 | HH68: 0 | HI68: 0 | HJ68: 0 | HK68: 0 | HL68: 2.71 | HM68: 63.03 | HN68: 5.37 | HO68: 0 | HP68: 0 | HQ68: 0 | HR68: 0 | HS68: 0 | HT68: 0 | HU68: 0 | HV68: 0 | HW68: 0 | HX68: 0 | HY68: 0 | HZ68: 0 | IA68: 0 | IB68: 0 | IC68: =(H68/$D68)*1000000 -> 0.16569921 | ID68: =(I68/$D68)*1000000 -> 0 | IE68: =(J68/$D68)*1000000 -> 0 | IF68: =(K68/$D68)*1000000 -> 0 | IG68: =(L68/$D68)*1000000 -> 0 | IH68: =(M68/$D68)*1000000 -> 0 | II68: =(N68/$D68)*1000000 -> 0 | IJ68: =(O68/$D68)*1000000 -> 0 | ... QW68: =(IB68/$D68)*1000000 -> 0
B69: GG | C69: 3052 | D69: 49573649 | E69: 53189192 | F69: =100-(D69/E69)*100 -> 6.7975144 | G69: 3.7646309 | H69: 0 | I69: 0 | J69: 0 | K69: 3.15 | L69: 0.99 | M69: 0 | N69: 0 | O69: 0 | P69: 0 | Q69: 133.74 | R69: 23.15 | S69: 0 | T69: 6.63 | U69: 0 | V69: 6.88 | W69: 0 | X69: 0 | Y69: 0 | Z69: 0 | AA69: 0 | AB69: 0 | AC69: 0 | AD69: 0 | AE69: 48.72 | AF69: 1368.47 | AG69: 58.1 | AH69: 0 | AI69: 0 | AJ69: 137.64 | AK69: 0 | AL69: 49.23 | AM69: 36.74 | AN69: 0 | AO69: 3.04 | AP69: 94.84 | AQ69: 0 | AR69: 133.4 | AS69: 812.33 | AT69: 0 | AU69: 2.74 | AV69: 4.02 | AW69: 5.37 | AX69: 1.3 | AY69: 0 | AZ69: 0 | BA69: 21.89 | BB69: 0 | BC69: 0 | BD69: 0 | BE69: 0 | BF69: 0 | BG69: 0 | BH69: 0 | BI69: 0 | BJ69: 0 | BK69: 0 | BL69: 0 | BM69: 0 | BN69: 0 | BO69: 0 | BP69: 0 | BQ69: 0 | BR69: 0 | BS69: 0 | BT69: 0 | BU69: 0 | BV69: 0 | BW69: 0 | BX69: 0 | BY69: 240.93 | BZ69: 0 | CA69: 0 | CB69: 89.51 | CC69: 0 | CD69: 0 | CE69: 5.72 | CF69: 0 | CG69: 0 | CH69: 0 | CI69: 0 | CJ69: 2.81 | CK69: 66.89 | CL69: 0 | CM69: 0 | CN69: 0 | CO69: 0 | CP69: 5.39 | CQ69: 0 | CR69: 0 | CS69: 8.08 | CT69: 0 | CU69: 0 | CV69: 0 | CW69: 0 | CX69: 0 | CY69: 0 | CZ69: 0 | DA69: 0 | DB69: 0 | DC69: 0 | DD69: 62.49 | DE69: 0 | DF69: 11.2 | DG69: 0 | DH69: 21.73 | DI69: 0 | DJ69: 0 | DK69: 0 | DL69: 56.38 | DM69: 0 | DN69: 0 | DO69: 0 | DP69: 112.18 | DQ69: 0 | DR69: 0 | DS69: 0 | DT69: 0 | DU69: 0 | DV69: 0 | DW69: 0 | DX69: 0 | DY69: 0 | DZ69: 0 | EA69: 0 | EB69: 0 | EC69: 0 | ED69: 0 | EE69: 2290.84 | EF69: 0 | EG69: 132.17 | EH69: 747.11 | EI69: 120.41 | EJ69: 15.87 | EK69: 10.72 | EL69: 2.89 | EM69: 0 | EN69: 97.24 | EO69: 25.04 | EP69: 1132.11 | EQ69: 0 | ER69: 0 | ES69: 22.04 | ET69: 20.83 | EU69: 0 | EV69: 0 | EW69: 34.65 | EX69: 0 | EY69: 199.63 | EZ69: 0 | FA69: 227.22 | FB69: 34.83 | FC69: 105.48 | FD69: 0 | FE69: 0 | FF69: 0 | FG69: 220.93 | FH69: 0 | FI69: 0 | FJ69: 0 | FK69: 0 | FL69: 0 | FM69: 0 | FN69: 0 | FO69: 0 | FP69: 11.58 | FQ69: 1.76 | FR69: 603.35 | FS69: 76.97 | FT69: 0 | FU69: 324.39 | FV69: 0 | FW69: 106.56 | FX69: 0 | FY69: 0 | FZ69: 0 | GA69: 0 | GB69: 71.17 | GC69: 32.63 | GD69: 207.26 | GE69: 264.44 | GF69: 848.65 | GG69: 0 | GH69: 86.09 | GI69: 0 | GJ69: 0 | GK69: 0 | GL69: 0 | GM69: 406.38 | GN69: 0 | GO69: 0 | GP69: 0 | GQ69: 3356.37 | GR69: 495.65 | GS69: 53.47 | GT69: 0 | GU69: 0 | GV69: 0 | GW69: 11.08 | GX69: 39.93 | GY69: 44.21 | GZ69: 0 | HA69: 0 | HB69: 0 | HC69: 0 | HD69: 0 | HE69: 0 | HF69: 1.81 | HG69: 0 | HH69: 0 | HI69: 173.39 | HJ69: 0 | HK69: 0 | HL69: 15.11 | HM69: 184.84 | HN69: 0 | HO69: 0 | HP69: 0 | HQ69: 0 | HR69: 2.4 | HS69: 23.66 | HT69: 0 | HU69: 0 | HV69: 0 | HW69: 0 | HX69: 0 | HY69: 0 | HZ69: 0 | IA69: 0 | IB69: 0 | IC69: =(H69/$D69)*1000000 -> 0 | ID69: =(I69/$D69)*1000000 -> 0 | IE69: =(J69/$D69)*1000000 -> 0 | IF69: =(K69/$D69)*1000000 -> 0.063541822 | IG69: =(L69/$D69)*1000000 -> 0.019970287 | IH69: =(M69/$D69)*1000000 -> 0 | II69: =(N69/$D69)*1000000 -> 0 | IJ69: =(O69/$D69)*1000000 -> 0 | ... QW69: =(IB69/$D69)*1000000 -> 0
C70: 3053 | D70: 27254659 | E70: 28441095 | F70: =100-(D70/E70)*100 -> 4.1715553 | G70: 2.9111267 | H70: 0 | I70: 0 | J70: 0 | K70: 0 | L70: 0 | M70: 0 | N70: 0 | O70: 0 | P70: 2.83 | Q70: 11.79 | R70: 38.43 | S70: 0 | T70: 0 | U70: 0 | V70: 0 | W70: 0 | X70: 0 | Y70: 0 | Z70: 0 | AA70: 0 | AB70: 0 | AC70: 0 | AD70: 2.88 | AE70: 3.72 | AF70: 263.01 | AG70: 4.41 | AH70: 0 | AI70: 0 | AJ70: 6.64 | AK70: 0 | AL70: 4.6 | AM70: 3.12 | AN70: 0 | AO70: 19.24 | AP70: 166.5 | AQ70: 0 | AR70: 211.27 | AS70: 383.53 | AT70: 0 | AU70: 0 | AV70: 23.24 | AW70: 0 | AX70: 0 | AY70: 0 | AZ70: 0 | BA70: 5.91 | BB70: 0 | BC70: 0 | BD70: 0 | BE70: 0 | BF70: 0 | BG70: 0 | BH70: 4.85 | BI70: 0 | BJ70: 0 | BK70: 0 | BL70: 0 | BM70: 10.49 | BN70: 0 | BO70: 0 | BP70: 0 | BQ70: 0 | BR70: 0 | BS70: 0 | BT70: 0 | BU70: 0 | BV70: 0 | BW70: 0 | BX70: 0 | BY70: 349.45 | BZ70: 0 | CA70: 36.49 | CB70: 144.11 | CC70: 0 | CD70: 0 | CE70: 8.93 | CF70: 0 | CG70: 0 | CH70: 0 | CI70: 0 | CJ70: 3.33 | CK70: 0 | CL70: 0 | CM70: 0 | CN70: 0 | CO70: 20.07 | CP70: 0 | CQ70: 0 | CR70: 0 | CS70: 0 | CT70: 0 | CU70: 0 | CV70: 0 | CW70: 0 | CX70: 0 | CY70: 0 | CZ70: 0 | DA70: 0 | DB70: 0 | DC70: 0 | DD70: 6.25 | DE70: 0 | DF70: 0 | DG70: 0 | DH70: 0 | DI70: 0 | DJ70: 0 | DK70: 0 | DL70: 38.01 | DM70: 0 | DN70: 3.19 | DO70: 0 | DP70: 0 | DQ70: 0 | DR70: 0 | DS70: 0 | DT70: 0 | DU70: 0 | DV70: 0 | DW70: 0 | DX70: 0 | DY70: 0 | DZ70: 0 | EA70: 0 | EB70: 0 | EC70: 0 | ED70: 0 | EE70: 2764.98 | EF70: 0 | EG70: 36.22 | EH70: 303.96 | EI70: 0 | EJ70: 1.56 | EK70: 0 | EL70: 0 | EM70: 0 | EN70: 36.37 | EO70: 5.97 | EP70: 60.96 | EQ70: 0 | ER70: 0 | ES70: 4.4 | ET70: 0 | EU70: 0 | EV70: 0 | EW70: 3.98 | EX70: 0 | EY70: 58.08 | EZ70: 0 | FA70: 78.06 | FB70: 35.44 | FC70: 0 | FD70: 0 | FE70: 0 | FF70: 0 | FG70: 76.7 | FH70: 0 | FI70: 0 | FJ70: 0 | FK70: 0 | FL70: 0 | FM70: 0 | FN70: 0 | FO70: 0 | FP70: 0 | FQ70: 0 | FR70: 234.89 | FS70: 5.78 | FT70: 0 | FU70: 240.65 | FV70: 0 | FW70: 0 | FX70: 0 | FY70: 0 | FZ70: 0 | GA70: 0 | GB70: 14.61 | GC70: 21.98 | GD70: 94.36 | GE70: 0 | GF70: 1336.5 | GG70: 0 | GH70: 0 | GI70: 0 | GJ70: 0 | GK70: 0 | GL70: 0 | GM70: 232.4 | GN70: 0 | GO70: 0 | GP70: 0 | GQ70: 770 | GR70: 40.85 | GS70: 19.17 | GT70: 0 | GU70: 0 | GV70: 0 | GW70: 0 | GX70: 3.03 | GY70: 0 | GZ70: 0 | HA70: 0 | HB70: 0 | HC70: 0 | HD70: 0 | HE70: 0 | HF70: 62.99 | HG70: 0 | HH70: 0 | HI70: 204.54 | HJ70: 0 | HK70: 0 | HL70: 1.43 | HM70: 12.61 | HN70: 17.47 | HO70: 0 | HP70: 0 | HQ70: 0 | HR70: 0 | HS70: 0 | HT70: 0 | HU70: 0 | HV70: 0 | HW70: 0 | HX70: 0 | HY70: 0 | HZ70: 0 | IA70: 0 | IB70: 0 | IC70: =(H70/$D70)*1000000 -> 0 | ID70: =(I70/$D70)*1000000 -> 0 | IE70: =(J70/$D70)*1000000 -> 0 | IF70: =(K70/$D70)*1000000 -> 0 | IG70: =(L70/$D70)*1000000 -> 0 | IH70: =(M70/$D70)*1000000 -> 0 | II70: =(N70/$D70)*1000000 -> 0 | IJ70: =(O70/$D70)*1000000 -> 0 | ... QW70: =(IB70/$D70)*1000000 -> 0
C71: 3056 | D71: 19275356 | E71: 26126928 | F71: =100-(D71/E71)*100 -> 26.224178 | G71: 3.8568977 | H71: 0 | I71: 0 | J71: 0 | K71: 0 | L71: 0 | M71: 0 | N71: 0 | O71: 0 | P71: 0 | Q71: 41.53 | R71: 17.34 | S71: 0 | T71: 0 | U71: 0 | V71: 0 | W71: 0 | X71: 0 | Y71: 0 | Z71: 0 | AA71: 0 | AB71: 0 | AC71: 0 | AD71: 3.23 | AE71: 0 | AF71: 362.14 | AG71: 42.23 | AH71: 0 | AI71: 0 | AJ71: 25.99 | AK71: 7.41 | AL71: 11.81 | AM71: 8.21 | AN71: 0 | AO71: 31.7 | AP71: 0 | AQ71: 0 | AR71: 0 | AS71: 419.13 | AT71: 0 | AU71: 0 | AV71: 33.46 | AW71: 0 | AX71: 0 | AY71: 0 | AZ71: 0 | BA71: 23.8 | BB71: 0 | BC71: 0 | BD71: 0 | BE71: 0 | BF71: 0 | BG71: 0 | BH71: 0 | BI71: 0 | BJ71: 0 | BK71: 0 | BL71: 0 | BM71: 2.63 | BN71: 0 | BO71: 0 | BP71: 0 | BQ71: 0 | BR71: 0 | BS71: 0 | BT71: 0 | BU71: 0 | BV71: 0 | BW71: 0 | BX71: 0 | BY71: 0 | BZ71: 0 | CA71: 0 | CB71: 76.03 | CC71: 0 | CD71: 0 | CE71: 0 | CF71: 0 | CG71: 0 | CH71: 10.84 | CI71: 0 | CJ71: 0 | CK71: 25.23 | CL71: 0 | CM71: 0 | CN71: 0 | CO71: 0 | CP71: 17.13 | CQ71: 0 | CR71: 0 | CS71: 3.65 | CT71: 0 | CU71: 0 | CV71: 0 | CW71: 0 | CX71: 0 | CY71: 0 | CZ71: 0 | DA71: 0 | DB71: 0 | DC71: 0 | DD71: 24.68 | DE71: 0 | DF71: 0 | DG71: 0 | DH71: 0 | DI71: 0 | DJ71: 0 | DK71: 0 | DL71: 16.74 | DM71: 0 | DN71: 0 | DO71: 0 | DP71: 0 | DQ71: 0 | DR71: 0 | DS71: 19.08 | DT71: 0 | DU71: 0 | DV71: 0 | DW71: 0 | DX71: 0 | DY71: 0 | DZ71: 0 | EA71: 0 | EB71: 0 | EC71: 0 | ED71: 10.28 | EE71: 674.8 | EF71: 0 | EG71: 870.78 | EH71: 67.42 | EI71: 0 | EJ71: 3.51 | EK71: 1.7 | EL71: 0 | EM71: 0 | EN71: 0 | EO71: 0 | EP71: 179.24 | EQ71: 0 | ER71: 0 | ES71: 0 | ET71: 2.48 | EU71: 0 | EV71: 0 | EW71: 0 | EX71: 0 | EY71: 71.24 | EZ71: 0 | FA71: 70.76 | FB71: 22.06 | FC71: 3.18 | FD71: 0 | FE71: 0 | FF71: 0 | FG71: 72.14 | FH71: 0 | FI71: 0 | FJ71: 0 | FK71: 0 | FL71: 0 | FM71: 0 | FN71: 0 | FO71: 0 | FP71: 6.7 | FQ71: 0 | FR71: 300.37 | FS71: 43.05 | FT71: 0 | FU71: 51.7 | FV71: 0 | FW71: 0 | FX71: 0 | FY71: 0 | FZ71: 0 | GA71: 0 | GB71: 4.52 | GC71: 10.71 | GD71: 88.69 | GE71: 0 | GF71: 247.95 | GG71: 49.39 | GH71: 0 | GI71: 0 | GJ71: 0 | GK71: 0 | GL71: 0 | GM71: 948.88 | GN71: 0 | GO71: 0 | GP71: 0 | GQ71: 532.95 | GR71: 17.26 | GS71: 61.77 | GT71: 0 | GU71: 0 | GV71: 0 | GW71: 0 | GX71: 2.39 | GY71: 5.23 | GZ71: 0 | HA71: 0 | HB71: 0 | HC71: 0 | HD71: 0 | HE71: 0 | HF71: 10.69 | HG71: 0 | HH71: 0 | HI71: 53.08 | HJ71: 0 | HK71: 0 | HL71: 3.74 | HM71: 27.76 | HN71: 0 | HO71: 0 | HP71: 0 | HQ71: 0 | HR71: 0 | HS71: 0 | HT71: 0 | HU71: 0 | HV71: 0 | HW71: 0 | HX71: 0 | HY71: 0 | HZ71: 0 | IA71: 0 | IB71: 0 | IC71: =(H71/$D71)*1000000 -> 0 | ID71: =(I71/$D71)*1000000 -> 0 | IE71: =(J71/$D71)*1000000 -> 0 | IF71: =(K71/$D71)*1000000 -> 0 | IG71: =(L71/$D71)*1000000 -> 0 | IH71: =(M71/$D71)*1000000 -> 0 | II71: =(N71/$D71)*1000000 -> 0 | IJ71: =(O71/$D71)*1000000 -> 0 | ... QW71: =(IB71/$D71)*1000000 -> 0
C72: 3058 | D72: 16640868 | E72: 28888801 | F72: =100-(D72/E72)*100 -> 42.39682 | G72: 3.3125023 | H72: 0 | I72: 0 | J72: 0 | K72: 0 | L72: 0 | M72: 0 | N72: 0 | O72: 0 | P72: 0 | Q72: 38.96 | R72: 24.21 | S72: 0 | T72: 0 | U72: 0 | V72: 0 | W72: 0 | X72: 4.3 | Y72: 0 | Z72: 0 | AA72: 0 | AB72: 0 | AC72: 0 | AD72: 0 | AE72: 112.97 | AF72: 397.19 | AG72: 11.91 | AH72: 11.64 | AI72: 0 | AJ72: 28.17 | AK72: 0 | AL72: 10.43 | AM72: 2.12 | AN72: 0 | AO72: 12.76 | AP72: 0 | AQ72: 0 | AR72: 0 | AS72: 252.41 | AT72: 0 | AU72: 0 | AV72: 17.82 | AW72: 0 | AX72: 0 | AY72: 0 | AZ72: 0 | BA72: 4.67 | BB72: 0 | BC72: 0 | BD72: 0 | BE72: 0 | BF72: 0 | BG72: 0 | BH72: 0 | BI72: 0 | BJ72: 0 | BK72: 0 | BL72: 0 | BM72: 0 | BN72: 0 | BO72: 0 | BP72: 0 | BQ72: 0 | BR72: 0 | BS72: 0 | BT72: 0 | BU72: 0 | BV72: 0 | BW72: 0 | BX72: 0 | BY72: 0 | BZ72: 0 | CA72: 0 | CB72: 21.09 | CC72: 0 | CD72: 0 | CE72: 169.7 | CF72: 0 | CG72: 0 | CH72: 18.62 | CI72: 0 | CJ72: 0 | CK72: 0 | CL72: 0 | CM72: 38.64 | CN72: 0 | CO72: 0 | CP72: 0 | CQ72: 0 | CR72: 0 | CS72: 50.68 | CT72: 0 | CU72: 0 | CV72: 0 | CW72: 0 | CX72: 0 | CY72: 0 | CZ72: 0 | DA72: 0 | DB72: 0 | DC72: 0 | DD72: 0 | DE72: 0 | DF72: 4.16 | DG72: 0 | DH72: 0 | DI72: 0 | DJ72: 0 | DK72: 0 | DL72: 48.37 | DM72: 0 | DN72: 0 | DO72: 0 | DP72: 0 | DQ72: 0 | DR72: 0 | DS72: 0 | DT72: 0 | DU72: 0 | DV72: 0 | DW72: 0 | DX72: 0 | DY72: 0 | DZ72: 0 | EA72: 0 | EB72: 0 | EC72: 0 | ED72: 12.82 | EE72: 167.08 | EF72: 0 | EG72: 130.52 | EH72: 36.35 | EI72: 78.93 | EJ72: 51.87 | EK72: 26.74 | EL72: 5.34 | EM72: 0 | EN72: 24.15 | EO72: 0 | EP72: 330.25 | EQ72: 0 | ER72: 0 | ES72: 4.02 | ET72: 51.06 | EU72: 0 | EV72: 0 | EW72: 2.79 | EX72: 0 | EY72: 108.58 | EZ72: 0 | FA72: 197.39 | FB72: 23.59 | FC72: 0 | FD72: 0 | FE72: 0 | FF72: 0 | FG72: 209.6 | FH72: 0 | FI72: 0 | FJ72: 0 | FK72: 13.02 | FL72: 0 | FM72: 0 | FN72: 0 | FO72: 0 | FP72: 6.03 | FQ72: 9.82 | FR72: 90.03 | FS72: 3.9 | FT72: 0 | FU72: 192.11 | FV72: 0 | FW72: 0 | FX72: 0 | FY72: 0 | FZ72: 0 | GA72: 0 | GB72: 0 | GC72: 91.15 | GD72: 12.45 | GE72: 36.9 | GF72: 0 | GG72: 46.17 | GH72: 0 | GI72: 0 | GJ72: 0 | GK72: 0 | GL72: 0 | GM72: 516.01 | GN72: 0 | GO72: 0 | GP72: 4.47 | GQ72: 267.14 | GR72: 39.84 | GS72: 85.88 | GT72: 0 | GU72: 0 | GV72: 0 | GW72: 38.03 | GX72: 63.25 | GY72: 61.04 | GZ72: 0 | HA72: 0 | HB72: 0 | HC72: 0 | HD72: 0 | HE72: 0 | HF72: 310.86 | HG72: 0 | HH72: 0 | HI72: 0 | HJ72: 0 | HK72: 0 | HL72: 11.83 | HM72: 117.59 | HN72: 0 | HO72: 0 | HP72: 0 | HQ72: 0 | HR72: 0 | HS72: 0 | HT72: 0 | HU72: 0 | HV72: 0 | HW72: 0 | HX72: 0 | HY72: 0 | HZ72: 0 | IA72: 0 | IB72: 0 | IC72: =(H72/$D72)*1000000 -> 0 | ID72: =(I72/$D72)*1000000 -> 0 | IE72: =(J72/$D72)*1000000 -> 0 | IF72: =(K72/$D72)*1000000 -> 0 | IG72: =(L72/$D72)*1000000 -> 0 | IH72: =(M72/$D72)*1000000 -> 0 | II72: =(N72/$D72)*1000000 -> 0 | IJ72: =(O72/$D72)*1000000 -> 0 | ... QW72: =(IB72/$D72)*1000000 -> 0
C73: 3059 | D73: 25306325 | E73: 27771603 | F73: =100-(D73/E73)*100 -> 8.8769741 | G73: 3.8239707 | H73: 0 | I73: 0 | J73: 0 | K73: 0 | L73: 0 | M73: 0 | N73: 0 | O73: 0 | P73: 0 | Q73: 16.24 | R73: 0 | S73: 0 | T73: 0 | U73: 0 | V73: 3.96 | W73: 0 | X73: 0 | Y73: 0 | Z73: 0 | AA73: 0 | AB73: 0 | AC73: 0 | AD73: 0 | AE73: 12.31 | AF73: 709.84 | AG73: 158.46 | AH73: 0 | AI73: 0 | AJ73: 24.12 | AK73: 0 | AL73: 73.49 | AM73: 31.26 | AN73: 0 | AO73: 5.43 | AP73: 0 | AQ73: 0 | AR73: 0 | AS73: 723.16 | AT73: 0 | AU73: 0 | AV73: 4.5 | AW73: 0 | AX73: 0 | AY73: 0 | AZ73: 0 | BA73: 4.16 | BB73: 0 | BC73: 0 | BD73: 0 | BE73: 0 | BF73: 0 | BG73: 0 | BH73: 0 | BI73: 0 | BJ73: 0 | BK73: 0 | BL73: 0 | BM73: 0 | BN73: 0 | BO73: 0 | BP73: 0 | BQ73: 0 | BR73: 0 | BS73: 0 | BT73: 0 | BU73: 0 | BV73: 0 | BW73: 0 | BX73: 0 | BY73: 0 | BZ73: 0 | CA73: 0 | CB73: 6.78 | CC73: 0 | CD73: 0 | CE73: 0 | CF73: 0 | CG73: 0 | CH73: 0 | CI73: 0 | CJ73: 0 | CK73: 0 | CL73: 0 | CM73: 8.75 | CN73: 0 | CO73: 0 | CP73: 1.46 | CQ73: 0 | CR73: 0 | CS73: 0 | CT73: 0 | CU73: 0 | CV73: 0 | CW73: 0 | CX73: 0 | CY73: 0 | CZ73: 0 | DA73: 0 | DB73: 0 | DC73: 0 | DD73: 2.64 | DE73: 0 | DF73: 3.42 | DG73: 0 | DH73: 4.69 | DI73: 0 | DJ73: 0 | DK73: 0 | DL73: 7.07 | DM73: 0 | DN73: 0 | DO73: 0 | DP73: 36.22 | DQ73: 0 | DR73: 0 | DS73: 0 | DT73: 0 | DU73: 0 | DV73: 0 | DW73: 0 | DX73: 0 | DY73: 0 | DZ73: 0 | EA73: 0 | EB73: 0 | EC73: 0 | ED73: 0 | EE73: 767.96 | EF73: 0 | EG73: 31.11 | EH73: 556.11 | EI73: 36.67 | EJ73: 8.42 | EK73: 14.39 | EL73: 0 | EM73: 0 | EN73: 2.92 | EO73: 0 | EP73: 315.38 | EQ73: 0 | ER73: 0 | ES73: 9.99 | ET73: 0 | EU73: 0 | EV73: 0 | EW73: 0 | EX73: 0 | EY73: 169.27 | EZ73: 0 | FA73: 40.65 | FB73: 0 | FC73: 2.08 | FD73: 0 | FE73: 0 | FF73: 0 | FG73: 50.6 | FH73: 0 | FI73: 0 | FJ73: 0 | FK73: 0 | FL73: 0 | FM73: 0 | FN73: 0 | FO73: 0 | FP73: 0 | FQ73: 0 | FR73: 598.85 | FS73: 166.96 | FT73: 0 | FU73: 52.77 | FV73: 0 | FW73: 0 | FX73: 0 | FY73: 0 | FZ73: 0 | GA73: 0 | GB73: 5.55 | GC73: 0 | GD73: 84.85 | GE73: 0 | GF73: 214.86 | GG73: 0 | GH73: 41.91 | GI73: 0 | GJ73: 0 | GK73: 0 | GL73: 0 | GM73: 294.44 | GN73: 0 | GO73: 0 | GP73: 0 | GQ73: 1576.53 | GR73: 203.65 | GS73: 12.42 | GT73: 0 | GU73: 0 | GV73: 0 | GW73: 0 | GX73: 9.15 | GY73: 14.29 | GZ73: 0 | HA73: 0 | HB73: 0 | HC73: 21.04 | HD73: 0 | HE73: 0 | HF73: 180.91 | HG73: 0 | HH73: 0 | HI73: 3.1 | HJ73: 0 | HK73: 0 | HL73: 2.78 | HM73: 60.73 | HN73: 1.99 | HO73: 0 | HP73: 0 | HQ73: 0 | HR73: 0 | HS73: 0 | HT73: 0 | HU73: 0 | HV73: 0 | HW73: 0 | HX73: 0 | HY73: 0 | HZ73: 0 | IA73: 0 | IB73: 0 | IC73: =(H73/$D73)*1000000 -> 0 | ID73: =(I73/$D73)*1000000 -> 0 | IE73: =(J73/$D73)*1000000 -> 0 | IF73: =(K73/$D73)*1000000 -> 0 | IG73: =(L73/$D73)*1000000 -> 0 | IH73: =(M73/$D73)*1000000 -> 0 | II73: =(N73/$D73)*1000000 -> 0 | IJ73: =(O73/$D73)*1000000 -> 0 | ... QW73: =(IB73/$D73)*1000000 -> 0
